{"text_format":"1","workbook":"xlsx","n_sheets":14,"sheets":["Cover","Introduction","1-Services & Function","2-Impact Assessment ","IA Backend","3-Challenges","4-Controls","5-Heatmap","6-Summary","Backend","Backend2","Consequence Criteria","Indirect Costs","Indirect Benefits"],"not_rendered":{"charts":61,"images":15,"macros":1,"external_links":4,"defined_names":56,"comments":3,"pivot_tables":0},"unopened":[],"bounds":{"document_bytes":16777216,"sheet_cells":100000,"rows_first":2000,"rows_last":500,"rows_between":2000,"halvings":0,"cell_chars":16384,"cell_head_chars":4096},"cells_cut":0,"cells_raw":0,"read":"whole","date_system":"1900"}

{"sheet":"Cover","index":0,"n_rows":41,"n_cols":1,"rows_kept":41,"cut":false,"hidden":false,"merged":[]}
[]
[]
["Establishing the value of resilience"]
["April 2017"]
[]
[]
[]
[]
["Appendix C: Decision Support Tool"]
["www.nzta.govt.nz/resources/research/reports/614"]
[]
[]
[]
[]
[]
[]
[]
[]
["C Money, N Bittle and R Makan\nErnst and Young \n\nR Reinen-Hamill and M Cornish\nTonkin + Taylor\n"]
[]
[]
[]
[]
[]
[]
[]
[]
[]
[]
[]
[]
[]
[]
[]
[]
[]
[]
[]
[]
["NZ Transport Agency research report 614"]
["Contracted research organisations – Ernst and Young and Tonkin + Taylor "]

{"sheet":"Introduction","index":1,"n_rows":10,"n_cols":2,"rows_kept":10,"cut":false,"hidden":false,"merged":[]}
[]
[null,"Resilience is the ability of systems (including infrastructure, government, business and communities) to proactively resist, absorb, recover from, or adapt to, disruption within a timeframe which is tolerable from a social, economic, cultural and environmental perspective\n(adapted by project team for NZTA from USDHS 2009a in AECOM 2015)\n"]
[null,"Introduction"]
[null,"The purpose of this tool is to support the evaluation of different controls that aim to create an acceptable level of resilience in (transport) infrastructure in the context of broader social, economic and environmental outcomes as defined by the stakeholders. \n\nKey design principles of this tool: \n- Practical: end-to-end solution for evaluating and responding to risk which can be integrated into existing (NZTA) processes\n- Leverages work undertaken to-date: explicitly allows for maturity / progression of approach (effort) over time\n- Outcomes focused: puts the function of assets within a system at the heart of decisioning and focuses on the consequences of assets not being available to users(i.e. not being resilient) \n- Community focused: allows for a range of stakeholder perspectives to be included in decisioning\n- Scalable: can be used in other sectors, system versus asset-specific, and can be used to compare investments across different regions."]
[]
[null,"When to use this tool"]
[null,"This tool is most appropriate when considering decisions at the asset or project level.  In this sense, the tool is best placed, at this stage, to narrow down options to solve a particular resilience issue – that is, used to help shape thinking for the strategic / economic business case rather than being used to make final investment decisions (i.e. at the detailed business case stage). \n\nThis tool should be used in conjunction with the associated NZTA Research Report and Guidance Note."]
[]
[null,"The Process"]
[null,"The structure of the tool is informed by a literature review, professional judgement and feedback from the Project Steering Group and Peer Reviewers.  "]

{"sheet":"1-Services & Function","index":2,"n_rows":59,"n_cols":29,"rows_kept":59,"cut":false,"hidden":false,"merged":[[13,3,13,4],[14,3,14,4],[15,3,15,4],[8,3,8,4],[9,3,9,4],[10,3,10,4],[11,3,11,4],[12,3,12,4],[2,1,2,4],[3,3,3,4],[5,3,5,4],[6,3,6,4],[7,3,7,4],[4,3,4,4]]}
[]
[null,"Step 1: Services & Functions"]
[null,"1. Use the questions below to help understand the context of the asset within the community and the economy.\n2. List the critical services/functions that the asset provides within the community and economy in terms of business as usual, including any emergency response function that is dependent on the asset, using the dropdown list.\n3. Add details specific to the function or service of the asset as needed.\nNote, while each asset fits within a wider transportation system, this section, and this tool, is most effective when considering portions of the network on an asset (or project) level.\n"]
[null,null,"Questions to build an understanding of the asset in time, place and space","Response"]
[null,null,"Asset Description","Petone Esplanade to Waione St Bridge.  This worked example is purely hypothetical, and while it uses some actual data, it should not be considered an accurate reflection of NZTAs view of the asset in question. Rather, actual data has been used to show how the Tool could be applied to the asset in question. "]
[null,null,"Interdependencies"]
[null,null,"● What is the purpose / function of the asset in the wider transport network?","The Petone Esplanade (stretching from the Petone Esplanade/SH2 interchange at the western edge to the Waione St roundabout at the eastern edge) accommodates a major arterial road conveying between 27,000 vehicles a day (Waione St Bridge) to 38,000 vehicles a day (Petone Roundabout), and primarily connects hutt valley commuter traffic and freight traffic to Wellington City, the wider Wellington region and the rest of New Zealand). Notably:\n11% of the total traffic along the Esplanade is heavy vehicles. It is estimated that 50% of all heavy vehicles across this asset, remain in the Hutt Valley while the remaining 50% travelling to Wellington City or across the wider region. \nThe asset acts as a barrier to the Petone waterfront. \nIt carries the majority of Wellington region's fuel - as fuel terminals are located in Seaview"]
[null,null,"● What interdependencies exist with other infrastructure assets (e.g. water, power)?","This transport link:\n- Connects the fuel terminal at seaview to the Wellington region\n- Supports the transport of water and wastewter pipes over Waione st bridge\n- Provides access to, and overbridges, the Hutt railine at the western edge of the Petone Esplanade"]
[null,null,"● What is the role of the asset in an emergency (i.e. is the asset critical to accessing civil defence \nor lifeline assets, is it a key evacuation route, does it provide redundancy for access)?","This route provides primary access to liquid fuels for the Wellington Region. \nThis route is also the primary entry and exit point for the communities of Petone, Eastbourne and Wainuiomata. "]
[null,null,"Physical and spatial properties"]
[null,null,"● What are the current physical properties of the asset?","The Esplanade is a four lane (in part) major arterial road that connects to the Petone Roundabout at its western edge. It runs parallel to the Petone foreshore and has numerous sets of traffic lights. \nThe Waione St Bridge is a two lane major arterial that connects to the Petone Esplanade on its western edge and the Hutt Roundabout at it's eastern edge. "]
[null,null,"● What is the geographic context – for example is the asset subject to liquefaction?","The Petone Esplanade is located at the entrance to the Wellington Harbour and is susceptible to natural hazards such as winds, storm surge, earthquakes and tsunami. The Waione St Bridge is similarly susceptible but is also subject to incrrased flooding risks. "]
[null,null,"Maintenance"]
[null,null,"● When was the last maintenance programme (planned or unplanned)?","Unclear"]
[null,null,"● When is the next maintenance programme scheduled for?","Unclear"]
[null,null,"● Is there a pattern of disruption which results in the need for ongoing maintenance?","There is no discernable pattern of disruption although there is frequent congestion effects, there is a history of traffic accidents and severe storm events (particularly those that result in flooding) do impacts on service levels."]
[]
[]
[]
[]
[]
[]
[]
[]
[]
[]
[]
[]
[null,"#","Asset","Service / Function","Details of Service / Function"]
[null,1,"Petone Esplanade + Waione St bridge","Facilitating personal connections","This road is important for facilitating personal connections, in particular between Petone, Eastbourne, Wainuiomata and the wider Hutt Valley and Wellington region. "]
[null,2,"Petone Esplanade + Waione St bridge","Freight movement","This asset links Wellington to Gracefield/Seaview. \nGracefield/Seaview is an important industrial area for the Wellington region and contains around 50% of the industrial floor space in Lower Hutt and Wellington. \n2.1 million tonnes of freight moved between the area and centre port p.a. \nThe area also has movements of around 2,000 heavy vehicles per day. \nSeaview is a key hub for fuel in the Wellington region - 340,000 tonnes of fuel is barged to Wellington from Marsden Point and 374,000 tonnes is imported from overseas p.a. Refined fuel is then distributed by road within the region and to other regions as far away as Hawke’s Bay and Canterbury.",null,null,null,null,null,null,null,null,null,null,null,null,null,null,null,null,null,null,null,null,null,null,null,"Facilitating personal connections"]
[null,3,"Petone Esplanade + Waione St bridge","Connector of people to labour markets","This asset is a significant connector of commuters (particularly Petone, Eastbourne and Wainuiomata) to prominent labour markets including the CBD. ",null,null,null,null,null,null,null,null,null,null,null,null,null,null,null,null,null,null,null,null,null,null,null,"Access to essential services"]
[null,4,"Petone Esplanade","Access to leisure activities","The Petone Esplanade is an amenity area of regional significance. The Hutt Urban Growth Strategy states an intention to 'Improve the amenity and recreation values of Petone beach and The Esplanade, and reduce community  separation'.\nIt also supports, and separates, the ability of cyclists to use the waterfront. ",null,null,null,null,null,null,null,null,null,null,null,null,null,null,null,null,null,null,null,null,null,null,null,"Access to other social services"]
[null,5,null,null,null,null,null,null,null,null,null,null,null,null,null,null,null,null,null,null,null,null,null,null,null,null,null,null,"Access to leisure activities"]
[null,6,null,null,null,null,null,null,null,null,null,null,null,null,null,null,null,null,null,null,null,null,null,null,null,null,null,null,"Freight movement"]
[null,7,null,null,null,null,null,null,null,null,null,null,null,null,null,null,null,null,null,null,null,null,null,null,null,null,null,null,"Connector of people to labour markets"]
[null,8,null,null,null,null,null,null,null,null,null,null,null,null,null,null,null,null,null,null,null,null,null,null,null,null,null,null,"Facilitator of tourism"]
[null,9,null,null,null,null,null,null,null,null,null,null,null,null,null,null,null,null,null,null,null,null,null,null,null,null,null,null,"Access to sites of cultural significance"]
[null,10,null,null,null,null,null,null,null,null,null,null,null,null,null,null,null,null,null,null,null,null,null,null,null,null,null,null,"Emergency access or other emergency function"]
[null,11]
[null,12]
[null,13]
[null,14]
[null,15]
[null,16]
[null,17]
[null,18]
[null,19]
[null,20]
[null,21]
[null,22]
[null,23]
[null,24]
[null,25]
[null,26]
[null,27]
[null,28]
[null,29]
[null,30]

{"sheet":"2-Impact Assessment ","index":3,"n_rows":283,"n_cols":16,"rows_kept":283,"cut":false,"hidden":false,"merged":[[2,1,2,14],[7,1,7,15],[8,1,8,15],[22,1,30,1],[22,2,30,2],[22,13,30,13],[22,15,30,15],[31,1,39,1],[31,2,39,2],[31,13,39,13],[31,15,39,15],[9,13,11,13],[9,14,11,14],[9,15,11,15],[13,1,21,1],[13,2,21,2],[13,13,21,13],[13,15,21,15],[9,1,12,1],[9,2,12,2],[9,3,12,11],[3,1,3,15],[4,1,4,15],[5,1,5,15],[40,15,48,15],[49,1,57,1],[49,2,57,2],[49,13,57,13],[49,15,57,15],[58,1,66,1],[58,2,66,2],[58,13,66,13],[58,15,66,15],[6,1,6,15],[94,1,102,1],[94,2,102,2],[94,13,102,13],[94,15,102,15],[103,1,111,1],[103,2,111,2],[103,13,111,13],[103,15,111,15],[76,1,84,1],[76,2,84,2],[76,13,84,13],[76,15,84,15],[85,1,93,1],[85,2,93,2],[85,13,93,13],[85,15,93,15],[67,1,75,1],[67,2,75,2],[67,13,75,13],[67,15,75,15],[40,1,48,1],[40,2,48,2],[40,13,48,13],[130,1,138,1],[130,2,138,2],[130,13,138,13],[130,15,138,15],[139,1,147,1],[139,2,147,2],[139,13,147,13],[139,15,147,15],[112,1,120,1],[112,2,120,2],[112,13,120,13],[112,15,120,15],[121,1,129,1],[121,2,129,2],[121,13,129,13],[121,15,129,15],[166,1,174,1],[166,2,174,2],[166,13,174,13],[166,15,174,15],[175,1,183,1],[175,2,183,2],[175,13,183,13],[175,15,183,15],[148,1,156,1],[148,2,156,2],[148,13,156,13],[148,15,156,15],[157,1,165,1],[157,2,165,2],[157,13,165,13],[157,15,165,15],[202,1,210,1],[202,2,210,2],[202,13,210,13],[202,15,210,15],[211,1,219,1],[211,2,219,2],[211,13,219,13],[211,15,219,15],[184,1,192,1],[184,2,192,2],[184,13,192,13],[184,15,192,15],[193,1,201,1],[193,2,201,2],[193,13,201,13],[193,15,201,15],[247,13,255,13],[247,15,255,15],[220,1,228,1],[220,2,228,2],[220,13,228,13],[220,15,228,15],[229,1,237,1],[229,2,237,2],[229,13,237,13],[229,15,237,15],[238,1,246,1],[238,2,246,2],[238,13,246,13],[238,15,246,15],[247,1,255,1],[247,2,255,2],[274,1,282,1],[274,2,282,2],[274,13,282,13],[274,15,282,15],[256,1,264,1],[256,2,264,2],[256,13,264,13],[256,15,264,15],[265,1,273,1],[265,2,273,2],[265,13,273,13],[265,15,273,15]]}
[]
[null,"Step 2: Impact Assessment"]
[null,"1. Determine the consequence of the unavailability of the service provided by the asset from an economic, social, cultural and environmental perspective.  \nSee the Consequence Criteria Tab for definition of consequences."]
[null,"2. Include the rationale behind the rating in the Comments column as necessary."]
[null,"3. Determine the Recovery Time Objective (RTO) for this process and record if the RTO outcome or service level (i.e. MBCO) if this is different than business-as-usual (BAU) in the adjacent column.  RTO is generally set when the consequence reaches medium level consequence."]
[null,"4. State the Maximum Acceptable Outage (MAO) for this function - the point after which it is impossible to recover.  This is generally considered to be when consequence reaches high level consequence."]
[null,"5. RTO and MAO are measured in number of days.  If the RTO or MAO are less than one day specify the time in hours as a proportion of 1 day i.e. half a day (12 hours) = 0.5."]
[null,"Consequence Criteria (Click to view)"]
[]
[null,"Service / Function","#","Consequence of service disruption over time",null,null,null,null,null,null,null,null,null,"RTO","MBCO\n(if different than BAU)","MAO"]
[]
[]
[null,null,null,null,null,null,null,null,null,null,null,null,null,"# of days",null,"# of days"]
[null,{"$f":"IF(ISTEXT('1-Services & Function'!D30),'1-Services & Function'!D30,\"\")","v":"Facilitating personal connections"},1,null,"1 hr","4 hr","1 day","2 days","5 days","1 mth",">6 mths","Comments",null,5,"20% service level is expected to be resumed for the Petone foreshore within two days - that being, one lane open some of the time.",30]
[null,null,null,{"$f":"'[2]Consequence Criteria'!$A$3","v":"Economic"},"vl","vl","vl","l","l","m","m","It is expected that the service industry would suffer from a lack of personal connections",null,null,"40% service level within 5 days"]
[null,null,null,{"$f":"'[2]Consequence Criteria'!$A$4","v":"Social"},"vl","vl","l","l","m","h","vh","Assumed that the region can cope with a few days of outage - but then social and cultural impacts are felt, such as isolation. ",null,null,"80% within 20 days"]
[null,null,null,{"$f":"'[2]Consequence Criteria'!$A$5","v":"Cultural"},"vl","vl","l","l","m","h","vh","Assumed that the region can cope with a few days of outage - but then social and cultural impacts are felt, such as isolation. ",null,null,"Diversions around waione st bridge should be established within 1-3 days. "]
[null,null,null,{"$f":"'[2]Consequence Criteria'!$A$6","v":"Environmental"},"vl","vl","vl","vl","vl","l","l","Minimal impact expected"]
[null,null,null,{"$f":"'[2]Consequence Criteria'!$A$7","v":0},1,1,2,4,4,5,5]
[null,null,null,{"$f":"'[2]Consequence Criteria'!$A$8","v":0},1,1,2,2,3,5,5]
[null,null,null,{"$f":"'[2]Consequence Criteria'!$A$9","v":0},1,1,2,4,5,5,5]
[null,null,null,{"$f":"'[2]Consequence Criteria'!$A$10","v":0},1,1,2,2,4,5,5]
[null,{"$f":"IF(ISTEXT('1-Services & Function'!D31),'1-Services & Function'!D31,\"\")","v":"Freight movement"},2,null,"1 hr","4 hr","1 day","2 days","5 days","1 mth",">6 mths","Comments",null,1,"30% service level is expected to be resumed for the Petone foreshore within one day - that being, one lane open most of the time.",5]
[null,null,null,{"$f":"'[2]Consequence Criteria'!$A$3","v":"Economic"},"vl","l","m","m","h","vh","vh","Given the importance of oil to the Wellington economy, it is expected that the economic costs of disruption would accumulate quickly. Moreover, the importance of Seaview to deliver freight to and from Wellington is substantial.",null,null,"50% service level within 3 days"]
[null,null,null,{"$f":"'[2]Consequence Criteria'!$A$4","v":"Social"},"vl","vl","vl","l","l","l","l","It is assumed there would only be marginal losses in social value flowing from reduced freight services. ",null,null,"100% within 20 days"]
[null,null,null,{"$f":"'[2]Consequence Criteria'!$A$5","v":"Cultural"},"vl","vl","vl","vl","vl","vl","vl","There are not considered to be any cultural impacts from impacted freight movements. ",null,null,"Diversions around waione st bridge should be established within 1 day. "]
[null,null,null,{"$f":"'[2]Consequence Criteria'!$A$6","v":"Environmental"},"vl","vl","vl","vl","l","l","m","The GHG emission impacts from defered transport of freight would initially be positive, but then re-routing would eventually occur with GHG impacts.  "]
[null,null,null,{"$f":"'[2]Consequence Criteria'!$A$7","v":0},1,1,2,4,4,5,5]
[null,null,null,{"$f":"'[2]Consequence Criteria'!$A$8","v":0},1,1,2,2,3,5,5]
[null,null,null,{"$f":"'[2]Consequence Criteria'!$A$9","v":0},1,1,2,4,5,5,5]
[null,null,null,{"$f":"'[2]Consequence Criteria'!$A$10","v":0},1,1,2,2,4,5,5]
[null,{"$f":"IF(ISTEXT('1-Services & Function'!D32),'1-Services & Function'!D32,\"\")","v":"Connector of people to labour markets"},3,null,"1 hr","4 hr","1 day","2 days","5 days","1 mth",">6 mths","Comments",null,5,"20% service level is expected to be resumed for the Petone foreshore within two days - that being, one lane open some of the time.",30]
[null,null,null,{"$f":"'[2]Consequence Criteria'!$A$3","v":"Economic"},"vl","vl","l","l","m","h","vh","The 2013 storms in Wellington supported a view that the impacts of one or two days outage was managable. It is assumed that a prolonged outage would cause significant economic loss. ",null,null,"40% service level within 5 days"]
[null,null,null,{"$f":"'[2]Consequence Criteria'!$A$4","v":"Social"},"vl","vl","vl","vl","l","l","m","The social impacts of a disruption of people to labour markets would likely lag the economic impacts by several weeks (as the effects of reduced paychecks were felt). ",null,null,"80% within 20 days"]
[null,null,null,{"$f":"'[2]Consequence Criteria'!$A$5","v":"Cultural"},"vl","vl","vl","vl","vl","l","l","It is assumed that thee would be minimal cultural impact to an inability to connect people to labour markets. ",null,null,"Diversions around waione st bridge should be established within 1-3 days. "]
[null,null,null,{"$f":"'[2]Consequence Criteria'!$A$6","v":"Environmental"},"vl","vl","vl","vl","l","l","m","It is assumed that there would be a reasonably minimial environmental impact from this disruption. "]
[null,null,null,{"$f":"'[2]Consequence Criteria'!$A$7","v":0},1,1,2,3,4,5,5]
[null,null,null,{"$f":"'[2]Consequence Criteria'!$A$8","v":0},1,2,2,3,4,5,5]
[null,null,null,{"$f":"'[2]Consequence Criteria'!$A$9","v":0},1,1,2,4,5,5,5]
[null,null,null,{"$f":"'[2]Consequence Criteria'!$A$10","v":0},1,1,2,2,4,5,5]
[null,{"$f":"IF(ISTEXT('1-Services & Function'!D33),'1-Services & Function'!D33,\"\")","v":"Access to leisure activities"},4,null,"1 hr","4 hr","1 day","2 days","5 days","1 mth",">6 mths","Comments",null,5,"20% service level is expected to be resumed for the Petone foreshore within two days - that being, one lane open some of the time.",180]
[null,null,null,{"$f":"'[2]Consequence Criteria'!$A$3","v":"Economic"},"vl","vl","vl","vl","l","l","m","The economic impact would predominantly be felt be local service industries (dairies etc)",null,null,"40% service level within 5 days"]
[null,null,null,{"$f":"'[2]Consequence Criteria'!$A$4","v":"Social"},"vl","vl","l","l","m","m","h","The inability to access leisure activities (such as the Petone foreshore, the cycleway and the walkways and parks surrounding the Esplanade) would be expected to have a social impact which accumulates after several days. ",null,null,"80% within 20 days"]
[null,null,null,{"$f":"'[2]Consequence Criteria'!$A$5","v":"Cultural"},"vl","vl","l","l","l","m","m","It is expected that there would be fairly minor cultural impacts from an inability to access the foreshore, for example. ",null,null,"Diversions around waione st bridge should be established within 1-3 days. "]
[null,null,null,{"$f":"'[2]Consequence Criteria'!$A$6","v":"Environmental"},"vl","vl","vl","vl","vl","vl","vl","It is expected that there is no environmental impact from the ability of citizens to access leisure activities in the region. ",null,null,"BAU"]
[null,null,null,{"$f":"'[2]Consequence Criteria'!$A$7","v":0},1,1,2,3,4,5,5]
[null,null,null,{"$f":"'[2]Consequence Criteria'!$A$8","v":0},1,2,2,3,4,5,5]
[null,null,null,{"$f":"'[2]Consequence Criteria'!$A$9","v":0},1,1,2,4,5,5,5]
[null,null,null,{"$f":"'[2]Consequence Criteria'!$A$10","v":0},1,1,2,2,4,5,5]
[null,{"$f":"IF(ISTEXT('1-Services & Function'!D34),'1-Services & Function'!D34,\"\")","v":""},5,null,"1 hr","4 hr","1 day","2 days","5 days","1 mth",">6 mths","Comments"]
[null,null,null,{"$f":"'[2]Consequence Criteria'!$A$3","v":"Economic"}]
[null,null,null,{"$f":"'[2]Consequence Criteria'!$A$4","v":"Social"}]
[null,null,null,{"$f":"'[2]Consequence Criteria'!$A$5","v":"Cultural"}]
[null,null,null,{"$f":"'[2]Consequence Criteria'!$A$6","v":"Environmental"},null,null,null,null,null,null,null,null,null,null,"BAU"]
[null,null,null,{"$f":"'[2]Consequence Criteria'!$A$7","v":0},1,1,1,1,1,2,2]
[null,null,null,{"$f":"'[2]Consequence Criteria'!$A$8","v":0},1,1,1,1,1,1,1]
[null,null,null,{"$f":"'[2]Consequence Criteria'!$A$9","v":0},1,1,1,1,1,3,3]
[null,null,null,{"$f":"'[2]Consequence Criteria'!$A$10","v":0},1,1,1,1,1,4,5]
[null,{"$f":"IF(ISTEXT('1-Services & Function'!D35),'1-Services & Function'!D35,\"\")","v":""},6,null,"1 hr","4 hr","1 day","2 days","5 days","1 mth",">6 mths","Comments"]
[null,null,null,{"$f":"'[2]Consequence Criteria'!$A$3","v":"Economic"}]
[null,null,null,{"$f":"'[2]Consequence Criteria'!$A$4","v":"Social"}]
[null,null,null,{"$f":"'[2]Consequence Criteria'!$A$5","v":"Cultural"}]
[null,null,null,{"$f":"'[2]Consequence Criteria'!$A$6","v":"Environmental"}]
[null,null,null,{"$f":"'[2]Consequence Criteria'!$A$7","v":0}]
[null,null,null,{"$f":"'[2]Consequence Criteria'!$A$8","v":0}]
[null,null,null,{"$f":"'[2]Consequence Criteria'!$A$9","v":0}]
[null,null,null,{"$f":"'[2]Consequence Criteria'!$A$10","v":0}]
[null,{"$f":"IF(ISTEXT('1-Services & Function'!D36),'1-Services & Function'!D36,\"\")","v":""},7,null,"1 hr","4 hr","1 day","2 days","5 days","1 mth",">6 mths","Comments"]
[null,null,null,{"$f":"'[2]Consequence Criteria'!$A$3","v":"Economic"}]
[null,null,null,{"$f":"'[2]Consequence Criteria'!$A$4","v":"Social"}]
[null,null,null,{"$f":"'[2]Consequence Criteria'!$A$5","v":"Cultural"}]
[null,null,null,{"$f":"'[2]Consequence Criteria'!$A$6","v":"Environmental"}]
[null,null,null,{"$f":"'[2]Consequence Criteria'!$A$7","v":0}]
[null,null,null,{"$f":"'[2]Consequence Criteria'!$A$8","v":0}]
[null,null,null,{"$f":"'[2]Consequence Criteria'!$A$9","v":0}]
[null,null,null,{"$f":"'[2]Consequence Criteria'!$A$10","v":0}]
[null,{"$f":"IF(ISTEXT('1-Services & Function'!D37),'1-Services & Function'!D37,\"\")","v":""},8,null,"1 hr","4 hr","1 day","2 days","5 days","1 mth",">6 mths","Comments"]
[null,null,null,{"$f":"'[2]Consequence Criteria'!$A$3","v":"Economic"}]
[null,null,null,{"$f":"'[2]Consequence Criteria'!$A$4","v":"Social"}]
[null,null,null,{"$f":"'[2]Consequence Criteria'!$A$5","v":"Cultural"}]
[null,null,null,{"$f":"'[2]Consequence Criteria'!$A$6","v":"Environmental"}]
[null,null,null,{"$f":"'[2]Consequence Criteria'!$A$7","v":0}]
[null,null,null,{"$f":"'[2]Consequence Criteria'!$A$8","v":0}]
[null,null,null,{"$f":"'[2]Consequence Criteria'!$A$9","v":0}]
[null,null,null,{"$f":"'[2]Consequence Criteria'!$A$10","v":0}]
[null,{"$f":"IF(ISTEXT('1-Services & Function'!D38),'1-Services & Function'!D38,\"\")","v":""},9,null,"1 hr","4 hr","1 day","2 days","5 days","1 mth",">6 mths","Comments"]
[null,null,null,{"$f":"'[2]Consequence Criteria'!$A$3","v":"Economic"}]
[null,null,null,{"$f":"'[2]Consequence Criteria'!$A$4","v":"Social"}]
[null,null,null,{"$f":"'[2]Consequence Criteria'!$A$5","v":"Cultural"}]
[null,null,null,{"$f":"'[2]Consequence Criteria'!$A$6","v":"Environmental"}]
[null,null,null,{"$f":"'[2]Consequence Criteria'!$A$7","v":0}]
[null,null,null,{"$f":"'[2]Consequence Criteria'!$A$8","v":0}]
[null,null,null,{"$f":"'[2]Consequence Criteria'!$A$9","v":0}]
[null,null,null,{"$f":"'[2]Consequence Criteria'!$A$10","v":0}]
[null,{"$f":"IF(ISTEXT('1-Services & Function'!D39),'1-Services & Function'!D39,\"\")","v":""},10,null,"1 hr","4 hr","1 day","2 days","5 days","1 mth",">6 mths","Comments"]
[null,null,null,{"$f":"'[2]Consequence Criteria'!$A$3","v":"Economic"}]
[null,null,null,{"$f":"'[2]Consequence Criteria'!$A$4","v":"Social"}]
[null,null,null,{"$f":"'[2]Consequence Criteria'!$A$5","v":"Cultural"}]
[null,null,null,{"$f":"'[2]Consequence Criteria'!$A$6","v":"Environmental"}]
[null,null,null,{"$f":"'[2]Consequence Criteria'!$A$7","v":0}]
[null,null,null,{"$f":"'[2]Consequence Criteria'!$A$8","v":0}]
[null,null,null,{"$f":"'[2]Consequence Criteria'!$A$9","v":0}]
[null,null,null,{"$f":"'[2]Consequence Criteria'!$A$10","v":0}]
[null,{"$f":"IF(ISTEXT('1-Services & Function'!D40),'1-Services & Function'!D40,\"\")","v":""},11,null,"1 hr","4 hr","1 day","2 days","5 days","1 mth",">6 mths","Comments"]
[null,null,null,{"$f":"'[2]Consequence Criteria'!$A$3","v":"Economic"}]
[null,null,null,{"$f":"'[2]Consequence Criteria'!$A$4","v":"Social"}]
[null,null,null,{"$f":"'[2]Consequence Criteria'!$A$5","v":"Cultural"}]
[null,null,null,{"$f":"'[2]Consequence Criteria'!$A$6","v":"Environmental"}]
[null,null,null,{"$f":"'[2]Consequence Criteria'!$A$7","v":0}]
[null,null,null,{"$f":"'[2]Consequence Criteria'!$A$8","v":0}]
[null,null,null,{"$f":"'[2]Consequence Criteria'!$A$9","v":0}]
[null,null,null,{"$f":"'[2]Consequence Criteria'!$A$10","v":0}]
[null,{"$f":"IF(ISTEXT('1-Services & Function'!D41),'1-Services & Function'!D41,\"\")","v":""},12,null,"1 hr","4 hr","1 day","2 days","5 days","1 mth",">6 mths","Comments"]
[null,null,null,{"$f":"'[2]Consequence Criteria'!$A$3","v":"Economic"}]
[null,null,null,{"$f":"'[2]Consequence Criteria'!$A$4","v":"Social"}]
[null,null,null,{"$f":"'[2]Consequence Criteria'!$A$5","v":"Cultural"}]
[null,null,null,{"$f":"'[2]Consequence Criteria'!$A$6","v":"Environmental"}]
[null,null,null,{"$f":"'[2]Consequence Criteria'!$A$7","v":0}]
[null,null,null,{"$f":"'[2]Consequence Criteria'!$A$8","v":0}]
[null,null,null,{"$f":"'[2]Consequence Criteria'!$A$9","v":0}]
[null,null,null,{"$f":"'[2]Consequence Criteria'!$A$10","v":0}]
[null,{"$f":"IF(ISTEXT('1-Services & Function'!D42),'1-Services & Function'!D42,\"\")","v":""},13,null,"1 hr","4 hr","1 day","2 days","5 days","1 mth",">6 mths","Comments"]
[null,null,null,{"$f":"'[2]Consequence Criteria'!$A$3","v":"Economic"}]
[null,null,null,{"$f":"'[2]Consequence Criteria'!$A$4","v":"Social"}]
[null,null,null,{"$f":"'[2]Consequence Criteria'!$A$5","v":"Cultural"}]
[null,null,null,{"$f":"'[2]Consequence Criteria'!$A$6","v":"Environmental"}]
[null,null,null,{"$f":"'[2]Consequence Criteria'!$A$7","v":0}]
[null,null,null,{"$f":"'[2]Consequence Criteria'!$A$8","v":0}]
[null,null,null,{"$f":"'[2]Consequence Criteria'!$A$9","v":0}]
[null,null,null,{"$f":"'[2]Consequence Criteria'!$A$10","v":0}]
[null,{"$f":"IF(ISTEXT('1-Services & Function'!D43),'1-Services & Function'!D43,\"\")","v":""},14,null,"1 hr","4 hr","1 day","2 days","5 days","1 mth",">6 mths","Comments"]
[null,null,null,{"$f":"'[2]Consequence Criteria'!$A$3","v":"Economic"}]
[null,null,null,{"$f":"'[2]Consequence Criteria'!$A$4","v":"Social"}]
[null,null,null,{"$f":"'[2]Consequence Criteria'!$A$5","v":"Cultural"}]
[null,null,null,{"$f":"'[2]Consequence Criteria'!$A$6","v":"Environmental"}]
[null,null,null,{"$f":"'[2]Consequence Criteria'!$A$7","v":0}]
[null,null,null,{"$f":"'[2]Consequence Criteria'!$A$8","v":0}]
[null,null,null,{"$f":"'[2]Consequence Criteria'!$A$9","v":0}]
[null,null,null,{"$f":"'[2]Consequence Criteria'!$A$10","v":0}]
[null,{"$f":"IF(ISTEXT('1-Services & Function'!D44),'1-Services & Function'!D44,\"\")","v":""},15,null,"1 hr","4 hr","1 day","2 days","5 days","1 mth",">6 mths","Comments"]
[null,null,null,{"$f":"'[2]Consequence Criteria'!$A$3","v":"Economic"}]
[null,null,null,{"$f":"'[2]Consequence Criteria'!$A$4","v":"Social"}]
[null,null,null,{"$f":"'[2]Consequence Criteria'!$A$5","v":"Cultural"}]
[null,null,null,{"$f":"'[2]Consequence Criteria'!$A$6","v":"Environmental"}]
[null,null,null,{"$f":"'[2]Consequence Criteria'!$A$7","v":0}]
[null,null,null,{"$f":"'[2]Consequence Criteria'!$A$8","v":0}]
[null,null,null,{"$f":"'[2]Consequence Criteria'!$A$9","v":0}]
[null,null,null,{"$f":"'[2]Consequence Criteria'!$A$10","v":0}]
[null,{"$f":"IF(ISTEXT('1-Services & Function'!D45),'1-Services & Function'!D45,\"\")","v":""},16,null,"1 hr","4 hr","1 day","2 days","5 days","1 mth",">6 mths","Comments"]
[null,null,null,{"$f":"'[2]Consequence Criteria'!$A$3","v":"Economic"}]
[null,null,null,{"$f":"'[2]Consequence Criteria'!$A$4","v":"Social"}]
[null,null,null,{"$f":"'[2]Consequence Criteria'!$A$5","v":"Cultural"}]
[null,null,null,{"$f":"'[2]Consequence Criteria'!$A$6","v":"Environmental"}]
[null,null,null,{"$f":"'[2]Consequence Criteria'!$A$7","v":0}]
[null,null,null,{"$f":"'[2]Consequence Criteria'!$A$8","v":0}]
[null,null,null,{"$f":"'[2]Consequence Criteria'!$A$9","v":0}]
[null,null,null,{"$f":"'[2]Consequence Criteria'!$A$10","v":0}]
[null,{"$f":"IF(ISTEXT('1-Services & Function'!D46),'1-Services & Function'!D46,\"\")","v":""},17,null,"1 hr","4 hr","1 day","2 days","5 days","1 mth",">6 mths","Comments"]
[null,null,null,{"$f":"'[2]Consequence Criteria'!$A$3","v":"Economic"}]
[null,null,null,{"$f":"'[2]Consequence Criteria'!$A$4","v":"Social"}]
[null,null,null,{"$f":"'[2]Consequence Criteria'!$A$5","v":"Cultural"}]
[null,null,null,{"$f":"'[2]Consequence Criteria'!$A$6","v":"Environmental"}]
[null,null,null,{"$f":"'[2]Consequence Criteria'!$A$7","v":0}]
[null,null,null,{"$f":"'[2]Consequence Criteria'!$A$8","v":0}]
[null,null,null,{"$f":"'[2]Consequence Criteria'!$A$9","v":0}]
[null,null,null,{"$f":"'[2]Consequence Criteria'!$A$10","v":0}]
[null,{"$f":"IF(ISTEXT('1-Services & Function'!D47),'1-Services & Function'!D47,\"\")","v":""},18,null,"1 hr","4 hr","1 day","2 days","5 days","1 mth",">6 mths","Comments"]
[null,null,null,{"$f":"'[2]Consequence Criteria'!$A$3","v":"Economic"}]
[null,null,null,{"$f":"'[2]Consequence Criteria'!$A$4","v":"Social"}]
[null,null,null,{"$f":"'[2]Consequence Criteria'!$A$5","v":"Cultural"}]
[null,null,null,{"$f":"'[2]Consequence Criteria'!$A$6","v":"Environmental"}]
[null,null,null,{"$f":"'[2]Consequence Criteria'!$A$7","v":0}]
[null,null,null,{"$f":"'[2]Consequence Criteria'!$A$8","v":0}]
[null,null,null,{"$f":"'[2]Consequence Criteria'!$A$9","v":0}]
[null,null,null,{"$f":"'[2]Consequence Criteria'!$A$10","v":0}]
[null,{"$f":"IF(ISTEXT('1-Services & Function'!D48),'1-Services & Function'!D48,\"\")","v":""},19,null,"1 hr","4 hr","1 day","2 days","5 days","1 mth",">6 mths","Comments"]
[null,null,null,{"$f":"'[2]Consequence Criteria'!$A$3","v":"Economic"}]
[null,null,null,{"$f":"'[2]Consequence Criteria'!$A$4","v":"Social"}]
[null,null,null,{"$f":"'[2]Consequence Criteria'!$A$5","v":"Cultural"}]
[null,null,null,{"$f":"'[2]Consequence Criteria'!$A$6","v":"Environmental"}]
[null,null,null,{"$f":"'[2]Consequence Criteria'!$A$7","v":0}]
[null,null,null,{"$f":"'[2]Consequence Criteria'!$A$8","v":0}]
[null,null,null,{"$f":"'[2]Consequence Criteria'!$A$9","v":0}]
[null,null,null,{"$f":"'[2]Consequence Criteria'!$A$10","v":0}]
[null,{"$f":"IF(ISTEXT('1-Services & Function'!D49),'1-Services & Function'!D49,\"\")","v":""},20,null,"1 hr","4 hr","1 day","2 days","5 days","1 mth",">6 mths","Comments"]
[null,null,null,{"$f":"'[2]Consequence Criteria'!$A$3","v":"Economic"}]
[null,null,null,{"$f":"'[2]Consequence Criteria'!$A$4","v":"Social"}]
[null,null,null,{"$f":"'[2]Consequence Criteria'!$A$5","v":"Cultural"}]
[null,null,null,{"$f":"'[2]Consequence Criteria'!$A$6","v":"Environmental"}]
[null,null,null,{"$f":"'[2]Consequence Criteria'!$A$7","v":0}]
[null,null,null,{"$f":"'[2]Consequence Criteria'!$A$8","v":0}]
[null,null,null,{"$f":"'[2]Consequence Criteria'!$A$9","v":0}]
[null,null,null,{"$f":"'[2]Consequence Criteria'!$A$10","v":0}]
[null,{"$f":"IF(ISTEXT('1-Services & Function'!D50),'1-Services & Function'!D50,\"\")","v":""},21,null,"1 hr","4 hr","1 day","2 days","5 days","1 mth",">6 mths","Comments"]
[null,null,null,{"$f":"'[2]Consequence Criteria'!$A$3","v":"Economic"}]
[null,null,null,{"$f":"'[2]Consequence Criteria'!$A$4","v":"Social"}]
[null,null,null,{"$f":"'[2]Consequence Criteria'!$A$5","v":"Cultural"}]
[null,null,null,{"$f":"'[2]Consequence Criteria'!$A$6","v":"Environmental"}]
[null,null,null,{"$f":"'[2]Consequence Criteria'!$A$7","v":0}]
[null,null,null,{"$f":"'[2]Consequence Criteria'!$A$8","v":0}]
[null,null,null,{"$f":"'[2]Consequence Criteria'!$A$9","v":0}]
[null,null,null,{"$f":"'[2]Consequence Criteria'!$A$10","v":0}]
[null,{"$f":"IF(ISTEXT('1-Services & Function'!D51),'1-Services & Function'!D51,\"\")","v":""},22,null,"1 hr","4 hr","1 day","2 days","5 days","1 mth",">6 mths","Comments"]
[null,null,null,{"$f":"'[2]Consequence Criteria'!$A$3","v":"Economic"}]
[null,null,null,{"$f":"'[2]Consequence Criteria'!$A$4","v":"Social"}]
[null,null,null,{"$f":"'[2]Consequence Criteria'!$A$5","v":"Cultural"}]
[null,null,null,{"$f":"'[2]Consequence Criteria'!$A$6","v":"Environmental"}]
[null,null,null,{"$f":"'[2]Consequence Criteria'!$A$7","v":0}]
[null,null,null,{"$f":"'[2]Consequence Criteria'!$A$8","v":0}]
[null,null,null,{"$f":"'[2]Consequence Criteria'!$A$9","v":0}]
[null,null,null,{"$f":"'[2]Consequence Criteria'!$A$10","v":0}]
[null,{"$f":"IF(ISTEXT('1-Services & Function'!D52),'1-Services & Function'!D52,\"\")","v":""},23,null,"1 hr","4 hr","1 day","2 days","5 days","1 mth",">6 mths","Comments"]
[null,null,null,{"$f":"'[2]Consequence Criteria'!$A$3","v":"Economic"}]
[null,null,null,{"$f":"'[2]Consequence Criteria'!$A$4","v":"Social"}]
[null,null,null,{"$f":"'[2]Consequence Criteria'!$A$5","v":"Cultural"}]
[null,null,null,{"$f":"'[2]Consequence Criteria'!$A$6","v":"Environmental"}]
[null,null,null,{"$f":"'[2]Consequence Criteria'!$A$7","v":0}]
[null,null,null,{"$f":"'[2]Consequence Criteria'!$A$8","v":0}]
[null,null,null,{"$f":"'[2]Consequence Criteria'!$A$9","v":0}]
[null,null,null,{"$f":"'[2]Consequence Criteria'!$A$10","v":0}]
[null,{"$f":"IF(ISTEXT('1-Services & Function'!D53),'1-Services & Function'!D53,\"\")","v":""},24,null,"1 hr","4 hr","1 day","2 days","5 days","1 mth",">6 mths","Comments"]
[null,null,null,{"$f":"'[2]Consequence Criteria'!$A$3","v":"Economic"}]
[null,null,null,{"$f":"'[2]Consequence Criteria'!$A$4","v":"Social"}]
[null,null,null,{"$f":"'[2]Consequence Criteria'!$A$5","v":"Cultural"}]
[null,null,null,{"$f":"'[2]Consequence Criteria'!$A$6","v":"Environmental"}]
[null,null,null,{"$f":"'[2]Consequence Criteria'!$A$7","v":0}]
[null,null,null,{"$f":"'[2]Consequence Criteria'!$A$8","v":0}]
[null,null,null,{"$f":"'[2]Consequence Criteria'!$A$9","v":0}]
[null,null,null,{"$f":"'[2]Consequence Criteria'!$A$10","v":0}]
[null,{"$f":"IF(ISTEXT('1-Services & Function'!D54),'1-Services & Function'!D54,\"\")","v":""},25,null,"1 hr","4 hr","1 day","2 days","5 days","1 mth",">6 mths","Comments"]
[null,null,null,{"$f":"'[2]Consequence Criteria'!$A$3","v":"Economic"}]
[null,null,null,{"$f":"'[2]Consequence Criteria'!$A$4","v":"Social"}]
[null,null,null,{"$f":"'[2]Consequence Criteria'!$A$5","v":"Cultural"}]
[null,null,null,{"$f":"'[2]Consequence Criteria'!$A$6","v":"Environmental"}]
[null,null,null,{"$f":"'[2]Consequence Criteria'!$A$7","v":0}]
[null,null,null,{"$f":"'[2]Consequence Criteria'!$A$8","v":0}]
[null,null,null,{"$f":"'[2]Consequence Criteria'!$A$9","v":0}]
[null,null,null,{"$f":"'[2]Consequence Criteria'!$A$10","v":0}]
[null,{"$f":"IF(ISTEXT('1-Services & Function'!D55),'1-Services & Function'!D55,\"\")","v":""},26,null,"1 hr","4 hr","1 day","2 days","5 days","1 mth",">6 mths","Comments"]
[null,null,null,{"$f":"'[2]Consequence Criteria'!$A$3","v":"Economic"}]
[null,null,null,{"$f":"'[2]Consequence Criteria'!$A$4","v":"Social"}]
[null,null,null,{"$f":"'[2]Consequence Criteria'!$A$5","v":"Cultural"}]
[null,null,null,{"$f":"'[2]Consequence Criteria'!$A$6","v":"Environmental"}]
[null,null,null,{"$f":"'[2]Consequence Criteria'!$A$7","v":0}]
[null,null,null,{"$f":"'[2]Consequence Criteria'!$A$8","v":0}]
[null,null,null,{"$f":"'[2]Consequence Criteria'!$A$9","v":0}]
[null,null,null,{"$f":"'[2]Consequence Criteria'!$A$10","v":0}]
[null,{"$f":"IF(ISTEXT('1-Services & Function'!D56),'1-Services & Function'!D56,\"\")","v":""},27,null,"1 hr","4 hr","1 day","2 days","5 days","1 mth",">6 mths","Comments"]
[null,null,null,{"$f":"'[2]Consequence Criteria'!$A$3","v":"Economic"}]
[null,null,null,{"$f":"'[2]Consequence Criteria'!$A$4","v":"Social"}]
[null,null,null,{"$f":"'[2]Consequence Criteria'!$A$5","v":"Cultural"}]
[null,null,null,{"$f":"'[2]Consequence Criteria'!$A$6","v":"Environmental"}]
[null,null,null,{"$f":"'[2]Consequence Criteria'!$A$7","v":0}]
[null,null,null,{"$f":"'[2]Consequence Criteria'!$A$8","v":0}]
[null,null,null,{"$f":"'[2]Consequence Criteria'!$A$9","v":0}]
[null,null,null,{"$f":"'[2]Consequence Criteria'!$A$10","v":0}]
[null,{"$f":"IF(ISTEXT('1-Services & Function'!D57),'1-Services & Function'!D57,\"\")","v":""},28,null,"1 hr","4 hr","1 day","2 days","5 days","1 mth",">6 mths","Comments"]
[null,null,null,{"$f":"'[2]Consequence Criteria'!$A$3","v":"Economic"}]
[null,null,null,{"$f":"'[2]Consequence Criteria'!$A$4","v":"Social"}]
[null,null,null,{"$f":"'[2]Consequence Criteria'!$A$5","v":"Cultural"}]
[null,null,null,{"$f":"'[2]Consequence Criteria'!$A$6","v":"Environmental"}]
[null,null,null,{"$f":"'[2]Consequence Criteria'!$A$7","v":0}]
[null,null,null,{"$f":"'[2]Consequence Criteria'!$A$8","v":0}]
[null,null,null,{"$f":"'[2]Consequence Criteria'!$A$9","v":0}]
[null,null,null,{"$f":"'[2]Consequence Criteria'!$A$10","v":0}]
[null,{"$f":"IF(ISTEXT('1-Services & Function'!D58),'1-Services & Function'!D58,\"\")","v":""},29,null,"1 hr","4 hr","1 day","2 days","5 days","1 mth",">6 mths","Comments"]
[null,null,null,{"$f":"'[2]Consequence Criteria'!$A$3","v":"Economic"}]
[null,null,null,{"$f":"'[2]Consequence Criteria'!$A$4","v":"Social"}]
[null,null,null,{"$f":"'[2]Consequence Criteria'!$A$5","v":"Cultural"}]
[null,null,null,{"$f":"'[2]Consequence Criteria'!$A$6","v":"Environmental"}]
[null,null,null,{"$f":"'[2]Consequence Criteria'!$A$7","v":0}]
[null,null,null,{"$f":"'[2]Consequence Criteria'!$A$8","v":0}]
[null,null,null,{"$f":"'[2]Consequence Criteria'!$A$9","v":0}]
[null,null,null,{"$f":"'[2]Consequence Criteria'!$A$10","v":0}]
[null,{"$f":"IF(ISTEXT('1-Services & Function'!D59),'1-Services & Function'!D59,\"\")","v":""},30,null,"1 hr","4 hr","1 day","2 days","5 days","1 mth",">6 mths","Comments"]
[null,null,null,{"$f":"'[2]Consequence Criteria'!$A$3","v":"Economic"}]
[null,null,null,{"$f":"'[2]Consequence Criteria'!$A$4","v":"Social"}]
[null,null,null,{"$f":"'[2]Consequence Criteria'!$A$5","v":"Cultural"}]
[null,null,null,{"$f":"'[2]Consequence Criteria'!$A$6","v":"Environmental"}]
[null,null,null,{"$f":"'[2]Consequence Criteria'!$A$7","v":0}]
[null,null,null,{"$f":"'[2]Consequence Criteria'!$A$8","v":0}]
[null,null,null,{"$f":"'[2]Consequence Criteria'!$A$9","v":0}]
[null,null,null,{"$f":"'[2]Consequence Criteria'!$A$10","v":0}]

{"sheet":"IA Backend","index":4,"n_rows":284,"n_cols":33,"rows_kept":284,"cut":false,"hidden":true,"merged":[[265,1,273,1],[265,2,273,2],[274,1,282,1],[274,2,282,2],[247,1,255,1],[247,2,255,2],[256,1,264,1],[256,2,264,2],[229,1,237,1],[229,2,237,2],[238,1,246,1],[238,2,246,2],[211,1,219,1],[211,2,219,2],[220,1,228,1],[220,2,228,2],[193,1,201,1],[193,2,201,2],[202,1,210,1],[202,2,210,2],[175,1,183,1],[175,2,183,2],[184,1,192,1],[184,2,192,2],[157,1,165,1],[157,2,165,2],[166,1,174,1],[166,2,174,2],[139,1,147,1],[139,2,147,2],[148,1,156,1],[148,2,156,2],[121,1,129,1],[121,2,129,2],[130,1,138,1],[130,2,138,2],[103,1,111,1],[103,2,111,2],[112,1,120,1],[112,2,120,2],[85,1,93,1],[85,2,93,2],[94,1,102,1],[94,2,102,2],[67,1,75,1],[67,2,75,2],[76,1,84,1],[76,2,84,2],[49,1,57,1],[49,2,57,2],[58,1,66,1],[58,2,66,2],[31,1,39,1],[31,2,39,2],[40,1,48,1],[40,2,48,2],[22,1,30,1],[22,2,30,2],[7,1,7,15],[9,1,12,1],[9,2,12,2],[9,3,12,11],[9,13,11,13],[9,14,11,14],[9,15,11,15],[6,1,6,15],[13,1,21,1],[13,2,21,2],[1,1,1,15],[2,1,2,15],[3,1,3,15],[4,1,4,15],[5,1,5,15]]}
[]
[null,"Step 2: Impact Assessment"]
[]
[null,"1. Determine the consequence of the unavailability of the service provided by the asset from an economic, social, cultural and environmental perspective.  See Consequence Criteria for definition of consequences."]
[null,"2. Include the rationale behind the rating in the Comments column as necessary."]
[null,"3. Determine the Recovery Time Objective (RTO) for this process and record if the RTO outcome or service level (i.e. MBCO) if this is different than business-as-usual (BAU) in the adjacent column.  RTO is generally set when the consequence reaches medium (or 3 out of 5)."]
[null,"4. State the Maximum Acceptable Outage (MAO) for this function - the point after which it is impossible to recover.  This is generally considered to be when consequence reaches high (or 4 out of 5)."]
[null,"5. RTO and MAO are measured in number of days.  If the RTO or MAO are less than one day specify the time in hours as a proportion of 1 day i.e. half a day (12 hours) = 0.5."]
[]
[null,"Service / Function","#","Consequence of service disruption over time",null,null,null,null,null,null,null,null,null,"RTO","MBCO\n(if different than BAU)","MAO"]
[]
[null,null,null,null,null,null,null,null,null,null,null,null,null,null,null,null,null,null,null,null,null,null,null,null,null,null,{"$f":"1/24","v":4.1666666666666664E-2},{"$f":"4/24","v":0.16666666666666666},1,2,5,30,{"$f":"6*30","v":180}]
[null,null,null,null,null,null,null,null,null,null,null,null,null,"# of days",null,"# of days"]
[null,{"$f":"IF(ISTEXT('1-Services & Function'!D30),'1-Services & Function'!D30,\"\")","v":"Facilitating personal connections"},1,null,"1 hr","4 hr","1 day","2 days","5 days","1 month","> 6 months","Comments",null,{"$f":"IFERROR(INDEX($AA$12:$AG$12,MATCH(TRUE, AA14:AG14 >= 3, 0)),200)","v":5},null,{"$f":"IFERROR(INDEX($AA$12:$AG$12,MATCH(TRUE, AA14:AG14 >= 4, 0)),200)","v":30},null,null,null,null,null,null,null,null,null,null,{"$f":"MAX(IF(ISERROR(E15:E18),0,E15:E18))","v":1},{"$f":"MAX(IF(ISERROR(F15:F18),0,F15:F18))","v":1},{"$f":"MAX(IF(ISERROR(G15:G18),0,G15:G18))","v":2},{"$f":"MAX(IF(ISERROR(H15:H18),0,H15:H18))","v":2},{"$f":"MAX(IF(ISERROR(I15:I18),0,I15:I18))","v":3},{"$f":"MAX(IF(ISERROR(J15:J18),0,J15:J18))","v":4},{"$f":"MAX(IF(ISERROR(K15:K18),0,K15:K18))","v":5}]
[null,null,null,{"$f":"'[2]Consequence Criteria'!$A$3","v":"Economic"},{"$f":"VALUE((IF('2-Impact Assessment '!E15=\"vl\",\"1\",(IF('2-Impact Assessment '!E15=\"l\",\"2\",(IF('2-Impact Assessment '!E15=\"m\",\"3\",(IF('2-Impact Assessment '!E15=\"h\",\"4\",(IF('2-Impact Assessment '!E15=\"vh\",\"5\", NA())))))))))))","v":1},{"$f":"VALUE((IF('2-Impact Assessment '!F15=\"vl\",\"1\",(IF('2-Impact Assessment '!F15=\"l\",\"2\",(IF('2-Impact Assessment '!F15=\"m\",\"3\",(IF('2-Impact Assessment '!F15=\"h\",\"4\",(IF('2-Impact Assessment '!F15=\"vh\",\"5\", NA())))))))))))","v":1},{"$f":"VALUE((IF('2-Impact Assessment '!G15=\"vl\",\"1\",(IF('2-Impact Assessment '!G15=\"l\",\"2\",(IF('2-Impact Assessment '!G15=\"m\",\"3\",(IF('2-Impact Assessment '!G15=\"h\",\"4\",(IF('2-Impact Assessment '!G15=\"vh\",\"5\", NA())))))))))))","v":1},{"$f":"VALUE((IF('2-Impact Assessment '!H15=\"vl\",\"1\",(IF('2-Impact Assessment '!H15=\"l\",\"2\",(IF('2-Impact Assessment '!H15=\"m\",\"3\",(IF('2-Impact Assessment '!H15=\"h\",\"4\",(IF('2-Impact Assessment '!H15=\"vh\",\"5\", NA())))))))))))","v":2},{"$f":"VALUE((IF('2-Impact Assessment '!I15=\"vl\",\"1\",(IF('2-Impact Assessment '!I15=\"l\",\"2\",(IF('2-Impact Assessment '!I15=\"m\",\"3\",(IF('2-Impact Assessment '!I15=\"h\",\"4\",(IF('2-Impact Assessment '!I15=\"vh\",\"5\", NA())))))))))))","v":2},{"$f":"VALUE((IF('2-Impact Assessment '!J15=\"vl\",\"1\",(IF('2-Impact Assessment '!J15=\"l\",\"2\",(IF('2-Impact Assessment '!J15=\"m\",\"3\",(IF('2-Impact Assessment '!J15=\"h\",\"4\",(IF('2-Impact Assessment '!J15=\"vh\",\"5\", NA())))))))))))","v":3},{"$f":"VALUE((IF('2-Impact Assessment '!K15=\"vl\",\"1\",(IF('2-Impact Assessment '!K15=\"l\",\"2\",(IF('2-Impact Assessment '!K15=\"m\",\"3\",(IF('2-Impact Assessment '!K15=\"h\",\"4\",(IF('2-Impact Assessment '!K15=\"vh\",\"5\", NA())))))))))))","v":3},null,null,{"$f":"IFERROR(INDEX($AA$12:$AG$12,MATCH(TRUE, AA15:AG15 >= 3, 0)),200)","v":5},null,{"$f":"IFERROR(INDEX($AA$12:$AG$12,MATCH(TRUE, AA15:AG15 >= 4, 0)),200)","v":30},null,null,null,null,null,null,null,null,null,null,{"$f":"MAX(IF(ISERROR(E16:E19),0,E16:E19))","v":1},{"$f":"MAX(IF(ISERROR(F16:F19),0,F16:F19))","v":1},{"$f":"MAX(IF(ISERROR(G16:G19),0,G16:G19))","v":2},{"$f":"MAX(IF(ISERROR(H16:H19),0,H16:H19))","v":2},{"$f":"MAX(IF(ISERROR(I16:I19),0,I16:I19))","v":3},{"$f":"MAX(IF(ISERROR(J16:J19),0,J16:J19))","v":4},{"$f":"MAX(IF(ISERROR(K16:K19),0,K16:K19))","v":5}]
[null,null,null,{"$f":"'[2]Consequence Criteria'!$A$4","v":"Social"},{"$f":"VALUE((IF('2-Impact Assessment '!E16=\"vl\",\"1\",(IF('2-Impact Assessment '!E16=\"l\",\"2\",(IF('2-Impact Assessment '!E16=\"m\",\"3\",(IF('2-Impact Assessment '!E16=\"h\",\"4\",(IF('2-Impact Assessment '!E16=\"vh\",\"5\", NA())))))))))))","v":1},{"$f":"VALUE((IF('2-Impact Assessment '!F16=\"vl\",\"1\",(IF('2-Impact Assessment '!F16=\"l\",\"2\",(IF('2-Impact Assessment '!F16=\"m\",\"3\",(IF('2-Impact Assessment '!F16=\"h\",\"4\",(IF('2-Impact Assessment '!F16=\"vh\",\"5\", NA())))))))))))","v":1},{"$f":"VALUE((IF('2-Impact Assessment '!G16=\"vl\",\"1\",(IF('2-Impact Assessment '!G16=\"l\",\"2\",(IF('2-Impact Assessment '!G16=\"m\",\"3\",(IF('2-Impact Assessment '!G16=\"h\",\"4\",(IF('2-Impact Assessment '!G16=\"vh\",\"5\", NA())))))))))))","v":2},{"$f":"VALUE((IF('2-Impact Assessment '!H16=\"vl\",\"1\",(IF('2-Impact Assessment '!H16=\"l\",\"2\",(IF('2-Impact Assessment '!H16=\"m\",\"3\",(IF('2-Impact Assessment '!H16=\"h\",\"4\",(IF('2-Impact Assessment '!H16=\"vh\",\"5\", NA())))))))))))","v":2},{"$f":"VALUE((IF('2-Impact Assessment '!I16=\"vl\",\"1\",(IF('2-Impact Assessment '!I16=\"l\",\"2\",(IF('2-Impact Assessment '!I16=\"m\",\"3\",(IF('2-Impact Assessment '!I16=\"h\",\"4\",(IF('2-Impact Assessment '!I16=\"vh\",\"5\", NA())))))))))))","v":3},{"$f":"VALUE((IF('2-Impact Assessment '!J16=\"vl\",\"1\",(IF('2-Impact Assessment '!J16=\"l\",\"2\",(IF('2-Impact Assessment '!J16=\"m\",\"3\",(IF('2-Impact Assessment '!J16=\"h\",\"4\",(IF('2-Impact Assessment '!J16=\"vh\",\"5\", NA())))))))))))","v":4},{"$f":"VALUE((IF('2-Impact Assessment '!K16=\"vl\",\"1\",(IF('2-Impact Assessment '!K16=\"l\",\"2\",(IF('2-Impact Assessment '!K16=\"m\",\"3\",(IF('2-Impact Assessment '!K16=\"h\",\"4\",(IF('2-Impact Assessment '!K16=\"vh\",\"5\", NA())))))))))))","v":5},null,null,{"$f":"IFERROR(INDEX($AA$12:$AG$12,MATCH(TRUE, AA16:AG16 >= 3, 0)),200)","v":5},null,{"$f":"IFERROR(INDEX($AA$12:$AG$12,MATCH(TRUE, AA16:AG16 >= 4, 0)),200)","v":30},null,null,null,null,null,null,null,null,null,null,{"$f":"MAX(IF(ISERROR(E17:E20),0,E17:E20))","v":1},{"$f":"MAX(IF(ISERROR(F17:F20),0,F17:F20))","v":1},{"$f":"MAX(IF(ISERROR(G17:G20),0,G17:G20))","v":2},{"$f":"MAX(IF(ISERROR(H17:H20),0,H17:H20))","v":2},{"$f":"MAX(IF(ISERROR(I17:I20),0,I17:I20))","v":3},{"$f":"MAX(IF(ISERROR(J17:J20),0,J17:J20))","v":4},{"$f":"MAX(IF(ISERROR(K17:K20),0,K17:K20))","v":5}]
[null,null,null,{"$f":"'[2]Consequence Criteria'!$A$5","v":"Cultural"},{"$f":"VALUE((IF('2-Impact Assessment '!E17=\"vl\",\"1\",(IF('2-Impact Assessment '!E17=\"l\",\"2\",(IF('2-Impact Assessment '!E17=\"m\",\"3\",(IF('2-Impact Assessment '!E17=\"h\",\"4\",(IF('2-Impact Assessment '!E17=\"vh\",\"5\", NA())))))))))))","v":1},{"$f":"VALUE((IF('2-Impact Assessment '!F17=\"vl\",\"1\",(IF('2-Impact Assessment '!F17=\"l\",\"2\",(IF('2-Impact Assessment '!F17=\"m\",\"3\",(IF('2-Impact Assessment '!F17=\"h\",\"4\",(IF('2-Impact Assessment '!F17=\"vh\",\"5\", NA())))))))))))","v":1},{"$f":"VALUE((IF('2-Impact Assessment '!G17=\"vl\",\"1\",(IF('2-Impact Assessment '!G17=\"l\",\"2\",(IF('2-Impact Assessment '!G17=\"m\",\"3\",(IF('2-Impact Assessment '!G17=\"h\",\"4\",(IF('2-Impact Assessment '!G17=\"vh\",\"5\", NA())))))))))))","v":2},{"$f":"VALUE((IF('2-Impact Assessment '!H17=\"vl\",\"1\",(IF('2-Impact Assessment '!H17=\"l\",\"2\",(IF('2-Impact Assessment '!H17=\"m\",\"3\",(IF('2-Impact Assessment '!H17=\"h\",\"4\",(IF('2-Impact Assessment '!H17=\"vh\",\"5\", NA())))))))))))","v":2},{"$f":"VALUE((IF('2-Impact Assessment '!I17=\"vl\",\"1\",(IF('2-Impact Assessment '!I17=\"l\",\"2\",(IF('2-Impact Assessment '!I17=\"m\",\"3\",(IF('2-Impact Assessment '!I17=\"h\",\"4\",(IF('2-Impact Assessment '!I17=\"vh\",\"5\", NA())))))))))))","v":3},{"$f":"VALUE((IF('2-Impact Assessment '!J17=\"vl\",\"1\",(IF('2-Impact Assessment '!J17=\"l\",\"2\",(IF('2-Impact Assessment '!J17=\"m\",\"3\",(IF('2-Impact Assessment '!J17=\"h\",\"4\",(IF('2-Impact Assessment '!J17=\"vh\",\"5\", NA())))))))))))","v":4},{"$f":"VALUE((IF('2-Impact Assessment '!K17=\"vl\",\"1\",(IF('2-Impact Assessment '!K17=\"l\",\"2\",(IF('2-Impact Assessment '!K17=\"m\",\"3\",(IF('2-Impact Assessment '!K17=\"h\",\"4\",(IF('2-Impact Assessment '!K17=\"vh\",\"5\", NA())))))))))))","v":5},null,null,{"$f":"IFERROR(INDEX($AA$12:$AG$12,MATCH(TRUE, AA17:AG17 >= 3, 0)),200)","v":200},null,{"$f":"IFERROR(INDEX($AA$12:$AG$12,MATCH(TRUE, AA17:AG17 >= 4, 0)),200)","v":200},null,null,null,null,null,null,null,null,null,null,{"$f":"MAX(IF(ISERROR(E18:E21),0,E18:E21))","v":1},{"$f":"MAX(IF(ISERROR(F18:F21),0,F18:F21))","v":1},{"$f":"MAX(IF(ISERROR(G18:G21),0,G18:G21))","v":1},{"$f":"MAX(IF(ISERROR(H18:H21),0,H18:H21))","v":1},{"$f":"MAX(IF(ISERROR(I18:I21),0,I18:I21))","v":1},{"$f":"MAX(IF(ISERROR(J18:J21),0,J18:J21))","v":2},{"$f":"MAX(IF(ISERROR(K18:K21),0,K18:K21))","v":2}]
[null,null,null,{"$f":"'[2]Consequence Criteria'!$A$6","v":"Environmental"},{"$f":"VALUE((IF('2-Impact Assessment '!E18=\"vl\",\"1\",(IF('2-Impact Assessment '!E18=\"l\",\"2\",(IF('2-Impact Assessment '!E18=\"m\",\"3\",(IF('2-Impact Assessment '!E18=\"h\",\"4\",(IF('2-Impact Assessment '!E18=\"vh\",\"5\", NA())))))))))))","v":1},{"$f":"VALUE((IF('2-Impact Assessment '!F18=\"vl\",\"1\",(IF('2-Impact Assessment '!F18=\"l\",\"2\",(IF('2-Impact Assessment '!F18=\"m\",\"3\",(IF('2-Impact Assessment '!F18=\"h\",\"4\",(IF('2-Impact Assessment '!F18=\"vh\",\"5\", NA())))))))))))","v":1},{"$f":"VALUE((IF('2-Impact Assessment '!G18=\"vl\",\"1\",(IF('2-Impact Assessment '!G18=\"l\",\"2\",(IF('2-Impact Assessment '!G18=\"m\",\"3\",(IF('2-Impact Assessment '!G18=\"h\",\"4\",(IF('2-Impact Assessment '!G18=\"vh\",\"5\", NA())))))))))))","v":1},{"$f":"VALUE((IF('2-Impact Assessment '!H18=\"vl\",\"1\",(IF('2-Impact Assessment '!H18=\"l\",\"2\",(IF('2-Impact Assessment '!H18=\"m\",\"3\",(IF('2-Impact Assessment '!H18=\"h\",\"4\",(IF('2-Impact Assessment '!H18=\"vh\",\"5\", NA())))))))))))","v":1},{"$f":"VALUE((IF('2-Impact Assessment '!I18=\"vl\",\"1\",(IF('2-Impact Assessment '!I18=\"l\",\"2\",(IF('2-Impact Assessment '!I18=\"m\",\"3\",(IF('2-Impact Assessment '!I18=\"h\",\"4\",(IF('2-Impact Assessment '!I18=\"vh\",\"5\", NA())))))))))))","v":1},{"$f":"VALUE((IF('2-Impact Assessment '!J18=\"vl\",\"1\",(IF('2-Impact Assessment '!J18=\"l\",\"2\",(IF('2-Impact Assessment '!J18=\"m\",\"3\",(IF('2-Impact Assessment '!J18=\"h\",\"4\",(IF('2-Impact Assessment '!J18=\"vh\",\"5\", NA())))))))))))","v":2},{"$f":"VALUE((IF('2-Impact Assessment '!K18=\"vl\",\"1\",(IF('2-Impact Assessment '!K18=\"l\",\"2\",(IF('2-Impact Assessment '!K18=\"m\",\"3\",(IF('2-Impact Assessment '!K18=\"h\",\"4\",(IF('2-Impact Assessment '!K18=\"vh\",\"5\", NA())))))))))))","v":2},null,null,{"$f":"IFERROR(INDEX($AA$12:$AG$12,MATCH(TRUE, AA18:AG18 >= 3, 0)),200)","v":200},null,{"$f":"IFERROR(INDEX($AA$12:$AG$12,MATCH(TRUE, AA18:AG18 >= 4, 0)),200)","v":200},null,null,null,null,null,null,null,null,null,null,{"$f":"MAX(IF(ISERROR(E19:E22),0,E19:E22))","v":0},{"$f":"MAX(IF(ISERROR(F19:F22),0,F19:F22))","v":0},{"$f":"MAX(IF(ISERROR(G19:G22),0,G19:G22))","v":0},{"$f":"MAX(IF(ISERROR(H19:H22),0,H19:H22))","v":0},{"$f":"MAX(IF(ISERROR(I19:I22),0,I19:I22))","v":0},{"$f":"MAX(IF(ISERROR(J19:J22),0,J19:J22))","v":0},{"$f":"MAX(IF(ISERROR(K19:K22),0,K19:K22))","v":0}]
[null,null,null,{"$f":"'[2]Consequence Criteria'!$A$7","v":0},{"$f":"VALUE((IF('2-Impact Assessment '!E19=\"vl\",\"1\",(IF('2-Impact Assessment '!E19=\"l\",\"2\",(IF('2-Impact Assessment '!E19=\"m\",\"3\",(IF('2-Impact Assessment '!E19=\"h\",\"4\",(IF('2-Impact Assessment '!E19=\"vh\",\"5\", \"na()\")))))))))))","v":{"$error":"#VALUE!"}},{"$f":"VALUE((IF('2-Impact Assessment '!F19=\"vl\",\"1\",(IF('2-Impact Assessment '!F19=\"l\",\"2\",(IF('2-Impact Assessment '!F19=\"m\",\"3\",(IF('2-Impact Assessment '!F19=\"h\",\"4\",(IF('2-Impact Assessment '!F19=\"vh\",\"5\", \"na()\")))))))))))","v":{"$error":"#VALUE!"}},{"$f":"VALUE((IF('2-Impact Assessment '!G19=\"vl\",\"1\",(IF('2-Impact Assessment '!G19=\"l\",\"2\",(IF('2-Impact Assessment '!G19=\"m\",\"3\",(IF('2-Impact Assessment '!G19=\"h\",\"4\",(IF('2-Impact Assessment '!G19=\"vh\",\"5\", \"na()\")))))))))))","v":{"$error":"#VALUE!"}},{"$f":"VALUE((IF('2-Impact Assessment '!H19=\"vl\",\"1\",(IF('2-Impact Assessment '!H19=\"l\",\"2\",(IF('2-Impact Assessment '!H19=\"m\",\"3\",(IF('2-Impact Assessment '!H19=\"h\",\"4\",(IF('2-Impact Assessment '!H19=\"vh\",\"5\", \"na()\")))))))))))","v":{"$error":"#VALUE!"}},{"$f":"VALUE((IF('2-Impact Assessment '!I19=\"vl\",\"1\",(IF('2-Impact Assessment '!I19=\"l\",\"2\",(IF('2-Impact Assessment '!I19=\"m\",\"3\",(IF('2-Impact Assessment '!I19=\"h\",\"4\",(IF('2-Impact Assessment '!I19=\"vh\",\"5\", \"na()\")))))))))))","v":{"$error":"#VALUE!"}},{"$f":"VALUE((IF('2-Impact Assessment '!J19=\"vl\",\"1\",(IF('2-Impact Assessment '!J19=\"l\",\"2\",(IF('2-Impact Assessment '!J19=\"m\",\"3\",(IF('2-Impact Assessment '!J19=\"h\",\"4\",(IF('2-Impact Assessment '!J19=\"vh\",\"5\", \"na()\")))))))))))","v":{"$error":"#VALUE!"}},{"$f":"VALUE((IF('2-Impact Assessment '!K19=\"vl\",\"1\",(IF('2-Impact Assessment '!K19=\"l\",\"2\",(IF('2-Impact Assessment '!K19=\"m\",\"3\",(IF('2-Impact Assessment '!K19=\"h\",\"4\",(IF('2-Impact Assessment '!K19=\"vh\",\"5\", \"na()\")))))))))))","v":{"$error":"#VALUE!"}},null,null,{"$f":"IFERROR(INDEX($AA$12:$AG$12,MATCH(TRUE, AA19:AG19 >= 3, 0)),200)","v":200},null,{"$f":"IFERROR(INDEX($AA$12:$AG$12,MATCH(TRUE, AA19:AG19 >= 4, 0)),200)","v":200},null,null,null,null,null,null,null,null,null,null,{"$f":"MAX(IF(ISERROR(E20:E23),0,E20:E23))","v":0},{"$f":"MAX(IF(ISERROR(F20:F23),0,F20:F23))","v":0},{"$f":"MAX(IF(ISERROR(G20:G23),0,G20:G23))","v":0},{"$f":"MAX(IF(ISERROR(H20:H23),0,H20:H23))","v":0},{"$f":"MAX(IF(ISERROR(I20:I23),0,I20:I23))","v":0},{"$f":"MAX(IF(ISERROR(J20:J23),0,J20:J23))","v":0},{"$f":"MAX(IF(ISERROR(K20:K23),0,K20:K23))","v":0}]
[null,null,null,{"$f":"'[2]Consequence Criteria'!$A$8","v":0},{"$f":"VALUE((IF('2-Impact Assessment '!E20=\"vl\",\"1\",(IF('2-Impact Assessment '!E20=\"l\",\"2\",(IF('2-Impact Assessment '!E20=\"m\",\"3\",(IF('2-Impact Assessment '!E20=\"h\",\"4\",(IF('2-Impact Assessment '!E20=\"vh\",\"5\", \"na()\")))))))))))","v":{"$error":"#VALUE!"}},{"$f":"VALUE((IF('2-Impact Assessment '!F20=\"vl\",\"1\",(IF('2-Impact Assessment '!F20=\"l\",\"2\",(IF('2-Impact Assessment '!F20=\"m\",\"3\",(IF('2-Impact Assessment '!F20=\"h\",\"4\",(IF('2-Impact Assessment '!F20=\"vh\",\"5\", \"na()\")))))))))))","v":{"$error":"#VALUE!"}},{"$f":"VALUE((IF('2-Impact Assessment '!G20=\"vl\",\"1\",(IF('2-Impact Assessment '!G20=\"l\",\"2\",(IF('2-Impact Assessment '!G20=\"m\",\"3\",(IF('2-Impact Assessment '!G20=\"h\",\"4\",(IF('2-Impact Assessment '!G20=\"vh\",\"5\", \"na()\")))))))))))","v":{"$error":"#VALUE!"}},{"$f":"VALUE((IF('2-Impact Assessment '!H20=\"vl\",\"1\",(IF('2-Impact Assessment '!H20=\"l\",\"2\",(IF('2-Impact Assessment '!H20=\"m\",\"3\",(IF('2-Impact Assessment '!H20=\"h\",\"4\",(IF('2-Impact Assessment '!H20=\"vh\",\"5\", \"na()\")))))))))))","v":{"$error":"#VALUE!"}},{"$f":"VALUE((IF('2-Impact Assessment '!I20=\"vl\",\"1\",(IF('2-Impact Assessment '!I20=\"l\",\"2\",(IF('2-Impact Assessment '!I20=\"m\",\"3\",(IF('2-Impact Assessment '!I20=\"h\",\"4\",(IF('2-Impact Assessment '!I20=\"vh\",\"5\", \"na()\")))))))))))","v":{"$error":"#VALUE!"}},{"$f":"VALUE((IF('2-Impact Assessment '!J20=\"vl\",\"1\",(IF('2-Impact Assessment '!J20=\"l\",\"2\",(IF('2-Impact Assessment '!J20=\"m\",\"3\",(IF('2-Impact Assessment '!J20=\"h\",\"4\",(IF('2-Impact Assessment '!J20=\"vh\",\"5\", \"na()\")))))))))))","v":{"$error":"#VALUE!"}},{"$f":"VALUE((IF('2-Impact Assessment '!K20=\"vl\",\"1\",(IF('2-Impact Assessment '!K20=\"l\",\"2\",(IF('2-Impact Assessment '!K20=\"m\",\"3\",(IF('2-Impact Assessment '!K20=\"h\",\"4\",(IF('2-Impact Assessment '!K20=\"vh\",\"5\", \"na()\")))))))))))","v":{"$error":"#VALUE!"}},null,null,{"$f":"IFERROR(INDEX($AA$12:$AG$12,MATCH(TRUE, AA20:AG20 >= 3, 0)),200)","v":1},null,{"$f":"IFERROR(INDEX($AA$12:$AG$12,MATCH(TRUE, AA20:AG20 >= 4, 0)),200)","v":5},null,null,null,null,null,null,null,null,null,null,{"$f":"MAX(IF(ISERROR(E21:E24),0,E21:E24))","v":1},{"$f":"MAX(IF(ISERROR(F21:F24),0,F21:F24))","v":2},{"$f":"MAX(IF(ISERROR(G21:G24),0,G21:G24))","v":3},{"$f":"MAX(IF(ISERROR(H21:H24),0,H21:H24))","v":3},{"$f":"MAX(IF(ISERROR(I21:I24),0,I21:I24))","v":4},{"$f":"MAX(IF(ISERROR(J21:J24),0,J21:J24))","v":5},{"$f":"MAX(IF(ISERROR(K21:K24),0,K21:K24))","v":5}]
[null,null,null,{"$f":"'[2]Consequence Criteria'!$A$9","v":0},{"$f":"VALUE((IF('2-Impact Assessment '!E21=\"vl\",\"1\",(IF('2-Impact Assessment '!E21=\"l\",\"2\",(IF('2-Impact Assessment '!E21=\"m\",\"3\",(IF('2-Impact Assessment '!E21=\"h\",\"4\",(IF('2-Impact Assessment '!E21=\"vh\",\"5\", \"na()\")))))))))))","v":{"$error":"#VALUE!"}},{"$f":"VALUE((IF('2-Impact Assessment '!F21=\"vl\",\"1\",(IF('2-Impact Assessment '!F21=\"l\",\"2\",(IF('2-Impact Assessment '!F21=\"m\",\"3\",(IF('2-Impact Assessment '!F21=\"h\",\"4\",(IF('2-Impact Assessment '!F21=\"vh\",\"5\", \"na()\")))))))))))","v":{"$error":"#VALUE!"}},{"$f":"VALUE((IF('2-Impact Assessment '!G21=\"vl\",\"1\",(IF('2-Impact Assessment '!G21=\"l\",\"2\",(IF('2-Impact Assessment '!G21=\"m\",\"3\",(IF('2-Impact Assessment '!G21=\"h\",\"4\",(IF('2-Impact Assessment '!G21=\"vh\",\"5\", \"na()\")))))))))))","v":{"$error":"#VALUE!"}},{"$f":"VALUE((IF('2-Impact Assessment '!H21=\"vl\",\"1\",(IF('2-Impact Assessment '!H21=\"l\",\"2\",(IF('2-Impact Assessment '!H21=\"m\",\"3\",(IF('2-Impact Assessment '!H21=\"h\",\"4\",(IF('2-Impact Assessment '!H21=\"vh\",\"5\", \"na()\")))))))))))","v":{"$error":"#VALUE!"}},{"$f":"VALUE((IF('2-Impact Assessment '!I21=\"vl\",\"1\",(IF('2-Impact Assessment '!I21=\"l\",\"2\",(IF('2-Impact Assessment '!I21=\"m\",\"3\",(IF('2-Impact Assessment '!I21=\"h\",\"4\",(IF('2-Impact Assessment '!I21=\"vh\",\"5\", \"na()\")))))))))))","v":{"$error":"#VALUE!"}},{"$f":"VALUE((IF('2-Impact Assessment '!J21=\"vl\",\"1\",(IF('2-Impact Assessment '!J21=\"l\",\"2\",(IF('2-Impact Assessment '!J21=\"m\",\"3\",(IF('2-Impact Assessment '!J21=\"h\",\"4\",(IF('2-Impact Assessment '!J21=\"vh\",\"5\", \"na()\")))))))))))","v":{"$error":"#VALUE!"}},{"$f":"VALUE((IF('2-Impact Assessment '!K21=\"vl\",\"1\",(IF('2-Impact Assessment '!K21=\"l\",\"2\",(IF('2-Impact Assessment '!K21=\"m\",\"3\",(IF('2-Impact Assessment '!K21=\"h\",\"4\",(IF('2-Impact Assessment '!K21=\"vh\",\"5\", \"na()\")))))))))))","v":{"$error":"#VALUE!"}},null,null,{"$f":"IFERROR(INDEX($AA$12:$AG$12,MATCH(TRUE, AA21:AG21 >= 3, 0)),200)","v":1},null,{"$f":"IFERROR(INDEX($AA$12:$AG$12,MATCH(TRUE, AA21:AG21 >= 4, 0)),200)","v":5},null,null,null,null,null,null,null,null,null,null,{"$f":"MAX(IF(ISERROR(E22:E25),0,E22:E25))","v":1},{"$f":"MAX(IF(ISERROR(F22:F25),0,F22:F25))","v":2},{"$f":"MAX(IF(ISERROR(G22:G25),0,G22:G25))","v":3},{"$f":"MAX(IF(ISERROR(H22:H25),0,H22:H25))","v":3},{"$f":"MAX(IF(ISERROR(I22:I25),0,I22:I25))","v":4},{"$f":"MAX(IF(ISERROR(J22:J25),0,J22:J25))","v":5},{"$f":"MAX(IF(ISERROR(K22:K25),0,K22:K25))","v":5}]
[null,null,null,{"$f":"'[2]Consequence Criteria'!$A$10","v":0},{"$f":"VALUE((IF('2-Impact Assessment '!E22=\"vl\",\"1\",(IF('2-Impact Assessment '!E22=\"l\",\"2\",(IF('2-Impact Assessment '!E22=\"m\",\"3\",(IF('2-Impact Assessment '!E22=\"h\",\"4\",(IF('2-Impact Assessment '!E22=\"vh\",\"5\", \"na()\")))))))))))","v":{"$error":"#VALUE!"}},{"$f":"VALUE((IF('2-Impact Assessment '!F22=\"vl\",\"1\",(IF('2-Impact Assessment '!F22=\"l\",\"2\",(IF('2-Impact Assessment '!F22=\"m\",\"3\",(IF('2-Impact Assessment '!F22=\"h\",\"4\",(IF('2-Impact Assessment '!F22=\"vh\",\"5\", \"na()\")))))))))))","v":{"$error":"#VALUE!"}},{"$f":"VALUE((IF('2-Impact Assessment '!G22=\"vl\",\"1\",(IF('2-Impact Assessment '!G22=\"l\",\"2\",(IF('2-Impact Assessment '!G22=\"m\",\"3\",(IF('2-Impact Assessment '!G22=\"h\",\"4\",(IF('2-Impact Assessment '!G22=\"vh\",\"5\", \"na()\")))))))))))","v":{"$error":"#VALUE!"}},{"$f":"VALUE((IF('2-Impact Assessment '!H22=\"vl\",\"1\",(IF('2-Impact Assessment '!H22=\"l\",\"2\",(IF('2-Impact Assessment '!H22=\"m\",\"3\",(IF('2-Impact Assessment '!H22=\"h\",\"4\",(IF('2-Impact Assessment '!H22=\"vh\",\"5\", \"na()\")))))))))))","v":{"$error":"#VALUE!"}},{"$f":"VALUE((IF('2-Impact Assessment '!I22=\"vl\",\"1\",(IF('2-Impact Assessment '!I22=\"l\",\"2\",(IF('2-Impact Assessment '!I22=\"m\",\"3\",(IF('2-Impact Assessment '!I22=\"h\",\"4\",(IF('2-Impact Assessment '!I22=\"vh\",\"5\", \"na()\")))))))))))","v":{"$error":"#VALUE!"}},{"$f":"VALUE((IF('2-Impact Assessment '!J22=\"vl\",\"1\",(IF('2-Impact Assessment '!J22=\"l\",\"2\",(IF('2-Impact Assessment '!J22=\"m\",\"3\",(IF('2-Impact Assessment '!J22=\"h\",\"4\",(IF('2-Impact Assessment '!J22=\"vh\",\"5\", \"na()\")))))))))))","v":{"$error":"#VALUE!"}},{"$f":"VALUE((IF('2-Impact Assessment '!K22=\"vl\",\"1\",(IF('2-Impact Assessment '!K22=\"l\",\"2\",(IF('2-Impact Assessment '!K22=\"m\",\"3\",(IF('2-Impact Assessment '!K22=\"h\",\"4\",(IF('2-Impact Assessment '!K22=\"vh\",\"5\", \"na()\")))))))))))","v":{"$error":"#VALUE!"}},null,null,{"$f":"IFERROR(INDEX($AA$12:$AG$12,MATCH(TRUE, AA22:AG22 >= 3, 0)),200)","v":1},null,{"$f":"IFERROR(INDEX($AA$12:$AG$12,MATCH(TRUE, AA22:AG22 >= 4, 0)),200)","v":5},null,null,null,null,null,null,null,null,null,null,{"$f":"MAX(IF(ISERROR(E23:E26),0,E23:E26))","v":1},{"$f":"MAX(IF(ISERROR(F23:F26),0,F23:F26))","v":2},{"$f":"MAX(IF(ISERROR(G23:G26),0,G23:G26))","v":3},{"$f":"MAX(IF(ISERROR(H23:H26),0,H23:H26))","v":3},{"$f":"MAX(IF(ISERROR(I23:I26),0,I23:I26))","v":4},{"$f":"MAX(IF(ISERROR(J23:J26),0,J23:J26))","v":5},{"$f":"MAX(IF(ISERROR(K23:K26),0,K23:K26))","v":5}]
[null,{"$f":"IF(ISTEXT('1-Services & Function'!D31),'1-Services & Function'!D31,\"\")","v":"Freight movement"},2,null,"1 hr","4 hr","1 day","2 days","5 days","1 month","> 6 months","Comments",null,{"$f":"IFERROR(INDEX($AA$12:$AG$12,MATCH(TRUE, AA23:AG23 >= 3, 0)),200)","v":1},null,{"$f":"IFERROR(INDEX($AA$12:$AG$12,MATCH(TRUE, AA23:AG23 >= 4, 0)),200)","v":5},null,null,null,null,null,null,null,null,null,null,{"$f":"MAX(IF(ISERROR(E24:E27),0,E24:E27))","v":1},{"$f":"MAX(IF(ISERROR(F24:F27),0,F24:F27))","v":2},{"$f":"MAX(IF(ISERROR(G24:G27),0,G24:G27))","v":3},{"$f":"MAX(IF(ISERROR(H24:H27),0,H24:H27))","v":3},{"$f":"MAX(IF(ISERROR(I24:I27),0,I24:I27))","v":4},{"$f":"MAX(IF(ISERROR(J24:J27),0,J24:J27))","v":5},{"$f":"MAX(IF(ISERROR(K24:K27),0,K24:K27))","v":5}]
[null,null,null,{"$f":"'[2]Consequence Criteria'!$A$3","v":"Economic"},{"$f":"VALUE((IF('2-Impact Assessment '!E24=\"vl\",\"1\",(IF('2-Impact Assessment '!E24=\"l\",\"2\",(IF('2-Impact Assessment '!E24=\"m\",\"3\",(IF('2-Impact Assessment '!E24=\"h\",\"4\",(IF('2-Impact Assessment '!E24=\"vh\",\"5\",NA())))))))))))","v":1},{"$f":"VALUE((IF('2-Impact Assessment '!F24=\"vl\",\"1\",(IF('2-Impact Assessment '!F24=\"l\",\"2\",(IF('2-Impact Assessment '!F24=\"m\",\"3\",(IF('2-Impact Assessment '!F24=\"h\",\"4\",(IF('2-Impact Assessment '!F24=\"vh\",\"5\",NA())))))))))))","v":2},{"$f":"VALUE((IF('2-Impact Assessment '!G24=\"vl\",\"1\",(IF('2-Impact Assessment '!G24=\"l\",\"2\",(IF('2-Impact Assessment '!G24=\"m\",\"3\",(IF('2-Impact Assessment '!G24=\"h\",\"4\",(IF('2-Impact Assessment '!G24=\"vh\",\"5\",NA())))))))))))","v":3},{"$f":"VALUE((IF('2-Impact Assessment '!H24=\"vl\",\"1\",(IF('2-Impact Assessment '!H24=\"l\",\"2\",(IF('2-Impact Assessment '!H24=\"m\",\"3\",(IF('2-Impact Assessment '!H24=\"h\",\"4\",(IF('2-Impact Assessment '!H24=\"vh\",\"5\",NA())))))))))))","v":3},{"$f":"VALUE((IF('2-Impact Assessment '!I24=\"vl\",\"1\",(IF('2-Impact Assessment '!I24=\"l\",\"2\",(IF('2-Impact Assessment '!I24=\"m\",\"3\",(IF('2-Impact Assessment '!I24=\"h\",\"4\",(IF('2-Impact Assessment '!I24=\"vh\",\"5\",NA())))))))))))","v":4},{"$f":"VALUE((IF('2-Impact Assessment '!J24=\"vl\",\"1\",(IF('2-Impact Assessment '!J24=\"l\",\"2\",(IF('2-Impact Assessment '!J24=\"m\",\"3\",(IF('2-Impact Assessment '!J24=\"h\",\"4\",(IF('2-Impact Assessment '!J24=\"vh\",\"5\",NA())))))))))))","v":5},{"$f":"VALUE((IF('2-Impact Assessment '!K24=\"vl\",\"1\",(IF('2-Impact Assessment '!K24=\"l\",\"2\",(IF('2-Impact Assessment '!K24=\"m\",\"3\",(IF('2-Impact Assessment '!K24=\"h\",\"4\",(IF('2-Impact Assessment '!K24=\"vh\",\"5\",NA())))))))))))","v":5},null,null,{"$f":"IFERROR(INDEX($AA$12:$AG$12,MATCH(TRUE, AA24:AG24 >= 3, 0)),200)","v":180},null,{"$f":"IFERROR(INDEX($AA$12:$AG$12,MATCH(TRUE, AA24:AG24 >= 4, 0)),200)","v":200},null,null,null,null,null,null,null,null,null,null,{"$f":"MAX(IF(ISERROR(E25:E28),0,E25:E28))","v":1},{"$f":"MAX(IF(ISERROR(F25:F28),0,F25:F28))","v":1},{"$f":"MAX(IF(ISERROR(G25:G28),0,G25:G28))","v":1},{"$f":"MAX(IF(ISERROR(H25:H28),0,H25:H28))","v":2},{"$f":"MAX(IF(ISERROR(I25:I28),0,I25:I28))","v":2},{"$f":"MAX(IF(ISERROR(J25:J28),0,J25:J28))","v":2},{"$f":"MAX(IF(ISERROR(K25:K28),0,K25:K28))","v":3}]
[null,null,null,{"$f":"'[2]Consequence Criteria'!$A$4","v":"Social"},{"$f":"VALUE((IF('2-Impact Assessment '!E25=\"vl\",\"1\",(IF('2-Impact Assessment '!E25=\"l\",\"2\",(IF('2-Impact Assessment '!E25=\"m\",\"3\",(IF('2-Impact Assessment '!E25=\"h\",\"4\",(IF('2-Impact Assessment '!E25=\"vh\",\"5\",NA())))))))))))","v":1},{"$f":"VALUE((IF('2-Impact Assessment '!F25=\"vl\",\"1\",(IF('2-Impact Assessment '!F25=\"l\",\"2\",(IF('2-Impact Assessment '!F25=\"m\",\"3\",(IF('2-Impact Assessment '!F25=\"h\",\"4\",(IF('2-Impact Assessment '!F25=\"vh\",\"5\",NA())))))))))))","v":1},{"$f":"VALUE((IF('2-Impact Assessment '!G25=\"vl\",\"1\",(IF('2-Impact Assessment '!G25=\"l\",\"2\",(IF('2-Impact Assessment '!G25=\"m\",\"3\",(IF('2-Impact Assessment '!G25=\"h\",\"4\",(IF('2-Impact Assessment '!G25=\"vh\",\"5\",NA())))))))))))","v":1},{"$f":"VALUE((IF('2-Impact Assessment '!H25=\"vl\",\"1\",(IF('2-Impact Assessment '!H25=\"l\",\"2\",(IF('2-Impact Assessment '!H25=\"m\",\"3\",(IF('2-Impact Assessment '!H25=\"h\",\"4\",(IF('2-Impact Assessment '!H25=\"vh\",\"5\",NA())))))))))))","v":2},{"$f":"VALUE((IF('2-Impact Assessment '!I25=\"vl\",\"1\",(IF('2-Impact Assessment '!I25=\"l\",\"2\",(IF('2-Impact Assessment '!I25=\"m\",\"3\",(IF('2-Impact Assessment '!I25=\"h\",\"4\",(IF('2-Impact Assessment '!I25=\"vh\",\"5\",NA())))))))))))","v":2},{"$f":"VALUE((IF('2-Impact Assessment '!J25=\"vl\",\"1\",(IF('2-Impact Assessment '!J25=\"l\",\"2\",(IF('2-Impact Assessment '!J25=\"m\",\"3\",(IF('2-Impact Assessment '!J25=\"h\",\"4\",(IF('2-Impact Assessment '!J25=\"vh\",\"5\",NA())))))))))))","v":2},{"$f":"VALUE((IF('2-Impact Assessment '!K25=\"vl\",\"1\",(IF('2-Impact Assessment '!K25=\"l\",\"2\",(IF('2-Impact Assessment '!K25=\"m\",\"3\",(IF('2-Impact Assessment '!K25=\"h\",\"4\",(IF('2-Impact Assessment '!K25=\"vh\",\"5\",NA())))))))))))","v":2},null,null,{"$f":"IFERROR(INDEX($AA$12:$AG$12,MATCH(TRUE, AA25:AG25 >= 3, 0)),200)","v":180},null,{"$f":"IFERROR(INDEX($AA$12:$AG$12,MATCH(TRUE, AA25:AG25 >= 4, 0)),200)","v":200},null,null,null,null,null,null,null,null,null,null,{"$f":"MAX(IF(ISERROR(E26:E29),0,E26:E29))","v":1},{"$f":"MAX(IF(ISERROR(F26:F29),0,F26:F29))","v":1},{"$f":"MAX(IF(ISERROR(G26:G29),0,G26:G29))","v":1},{"$f":"MAX(IF(ISERROR(H26:H29),0,H26:H29))","v":1},{"$f":"MAX(IF(ISERROR(I26:I29),0,I26:I29))","v":2},{"$f":"MAX(IF(ISERROR(J26:J29),0,J26:J29))","v":2},{"$f":"MAX(IF(ISERROR(K26:K29),0,K26:K29))","v":3}]
[null,null,null,{"$f":"'[2]Consequence Criteria'!$A$5","v":"Cultural"},{"$f":"VALUE((IF('2-Impact Assessment '!E26=\"vl\",\"1\",(IF('2-Impact Assessment '!E26=\"l\",\"2\",(IF('2-Impact Assessment '!E26=\"m\",\"3\",(IF('2-Impact Assessment '!E26=\"h\",\"4\",(IF('2-Impact Assessment '!E26=\"vh\",\"5\",NA())))))))))))","v":1},{"$f":"VALUE((IF('2-Impact Assessment '!F26=\"vl\",\"1\",(IF('2-Impact Assessment '!F26=\"l\",\"2\",(IF('2-Impact Assessment '!F26=\"m\",\"3\",(IF('2-Impact Assessment '!F26=\"h\",\"4\",(IF('2-Impact Assessment '!F26=\"vh\",\"5\",NA())))))))))))","v":1},{"$f":"VALUE((IF('2-Impact Assessment '!G26=\"vl\",\"1\",(IF('2-Impact Assessment '!G26=\"l\",\"2\",(IF('2-Impact Assessment '!G26=\"m\",\"3\",(IF('2-Impact Assessment '!G26=\"h\",\"4\",(IF('2-Impact Assessment '!G26=\"vh\",\"5\",NA())))))))))))","v":1},{"$f":"VALUE((IF('2-Impact Assessment '!H26=\"vl\",\"1\",(IF('2-Impact Assessment '!H26=\"l\",\"2\",(IF('2-Impact Assessment '!H26=\"m\",\"3\",(IF('2-Impact Assessment '!H26=\"h\",\"4\",(IF('2-Impact Assessment '!H26=\"vh\",\"5\",NA())))))))))))","v":1},{"$f":"VALUE((IF('2-Impact Assessment '!I26=\"vl\",\"1\",(IF('2-Impact Assessment '!I26=\"l\",\"2\",(IF('2-Impact Assessment '!I26=\"m\",\"3\",(IF('2-Impact Assessment '!I26=\"h\",\"4\",(IF('2-Impact Assessment '!I26=\"vh\",\"5\",NA())))))))))))","v":1},{"$f":"VALUE((IF('2-Impact Assessment '!J26=\"vl\",\"1\",(IF('2-Impact Assessment '!J26=\"l\",\"2\",(IF('2-Impact Assessment '!J26=\"m\",\"3\",(IF('2-Impact Assessment '!J26=\"h\",\"4\",(IF('2-Impact Assessment '!J26=\"vh\",\"5\",NA())))))))))))","v":1},{"$f":"VALUE((IF('2-Impact Assessment '!K26=\"vl\",\"1\",(IF('2-Impact Assessment '!K26=\"l\",\"2\",(IF('2-Impact Assessment '!K26=\"m\",\"3\",(IF('2-Impact Assessment '!K26=\"h\",\"4\",(IF('2-Impact Assessment '!K26=\"vh\",\"5\",NA())))))))))))","v":1},null,null,{"$f":"IFERROR(INDEX($AA$12:$AG$12,MATCH(TRUE, AA26:AG26 >= 3, 0)),200)","v":180},null,{"$f":"IFERROR(INDEX($AA$12:$AG$12,MATCH(TRUE, AA26:AG26 >= 4, 0)),200)","v":200},null,null,null,null,null,null,null,null,null,null,{"$f":"MAX(IF(ISERROR(E27:E30),0,E27:E30))","v":1},{"$f":"MAX(IF(ISERROR(F27:F30),0,F27:F30))","v":1},{"$f":"MAX(IF(ISERROR(G27:G30),0,G27:G30))","v":1},{"$f":"MAX(IF(ISERROR(H27:H30),0,H27:H30))","v":1},{"$f":"MAX(IF(ISERROR(I27:I30),0,I27:I30))","v":2},{"$f":"MAX(IF(ISERROR(J27:J30),0,J27:J30))","v":2},{"$f":"MAX(IF(ISERROR(K27:K30),0,K27:K30))","v":3}]
[null,null,null,{"$f":"'[2]Consequence Criteria'!$A$6","v":"Environmental"},{"$f":"VALUE((IF('2-Impact Assessment '!E27=\"vl\",\"1\",(IF('2-Impact Assessment '!E27=\"l\",\"2\",(IF('2-Impact Assessment '!E27=\"m\",\"3\",(IF('2-Impact Assessment '!E27=\"h\",\"4\",(IF('2-Impact Assessment '!E27=\"vh\",\"5\",NA())))))))))))","v":1},{"$f":"VALUE((IF('2-Impact Assessment '!F27=\"vl\",\"1\",(IF('2-Impact Assessment '!F27=\"l\",\"2\",(IF('2-Impact Assessment '!F27=\"m\",\"3\",(IF('2-Impact Assessment '!F27=\"h\",\"4\",(IF('2-Impact Assessment '!F27=\"vh\",\"5\",NA())))))))))))","v":1},{"$f":"VALUE((IF('2-Impact Assessment '!G27=\"vl\",\"1\",(IF('2-Impact Assessment '!G27=\"l\",\"2\",(IF('2-Impact Assessment '!G27=\"m\",\"3\",(IF('2-Impact Assessment '!G27=\"h\",\"4\",(IF('2-Impact Assessment '!G27=\"vh\",\"5\",NA())))))))))))","v":1},{"$f":"VALUE((IF('2-Impact Assessment '!H27=\"vl\",\"1\",(IF('2-Impact Assessment '!H27=\"l\",\"2\",(IF('2-Impact Assessment '!H27=\"m\",\"3\",(IF('2-Impact Assessment '!H27=\"h\",\"4\",(IF('2-Impact Assessment '!H27=\"vh\",\"5\",NA())))))))))))","v":1},{"$f":"VALUE((IF('2-Impact Assessment '!I27=\"vl\",\"1\",(IF('2-Impact Assessment '!I27=\"l\",\"2\",(IF('2-Impact Assessment '!I27=\"m\",\"3\",(IF('2-Impact Assessment '!I27=\"h\",\"4\",(IF('2-Impact Assessment '!I27=\"vh\",\"5\",NA())))))))))))","v":2},{"$f":"VALUE((IF('2-Impact Assessment '!J27=\"vl\",\"1\",(IF('2-Impact Assessment '!J27=\"l\",\"2\",(IF('2-Impact Assessment '!J27=\"m\",\"3\",(IF('2-Impact Assessment '!J27=\"h\",\"4\",(IF('2-Impact Assessment '!J27=\"vh\",\"5\",NA())))))))))))","v":2},{"$f":"VALUE((IF('2-Impact Assessment '!K27=\"vl\",\"1\",(IF('2-Impact Assessment '!K27=\"l\",\"2\",(IF('2-Impact Assessment '!K27=\"m\",\"3\",(IF('2-Impact Assessment '!K27=\"h\",\"4\",(IF('2-Impact Assessment '!K27=\"vh\",\"5\",NA())))))))))))","v":3},null,null,{"$f":"IFERROR(INDEX($AA$12:$AG$12,MATCH(TRUE, AA27:AG27 >= 3, 0)),200)","v":200},"BAU",{"$f":"IFERROR(INDEX($AA$12:$AG$12,MATCH(TRUE, AA27:AG27 >= 4, 0)),200)","v":200},null,null,null,null,null,null,null,null,null,null,{"$f":"MAX(IF(ISERROR(E28:E31),0,E28:E31))","v":0},{"$f":"MAX(IF(ISERROR(F28:F31),0,F28:F31))","v":0},{"$f":"MAX(IF(ISERROR(G28:G31),0,G28:G31))","v":0},{"$f":"MAX(IF(ISERROR(H28:H31),0,H28:H31))","v":0},{"$f":"MAX(IF(ISERROR(I28:I31),0,I28:I31))","v":0},{"$f":"MAX(IF(ISERROR(J28:J31),0,J28:J31))","v":0},{"$f":"MAX(IF(ISERROR(K28:K31),0,K28:K31))","v":0}]
[null,null,null,{"$f":"'[2]Consequence Criteria'!$A$7","v":0},{"$f":"VALUE((IF('2-Impact Assessment '!E28=\"vl\",\"1\",(IF('2-Impact Assessment '!E28=\"l\",\"2\",(IF('2-Impact Assessment '!E28=\"m\",\"3\",(IF('2-Impact Assessment '!E28=\"h\",\"4\",(IF('2-Impact Assessment '!E28=\"vh\",\"5\",NA())))))))))))","v":{"$error":"#N/A"}},{"$f":"VALUE((IF('2-Impact Assessment '!F28=\"vl\",\"1\",(IF('2-Impact Assessment '!F28=\"l\",\"2\",(IF('2-Impact Assessment '!F28=\"m\",\"3\",(IF('2-Impact Assessment '!F28=\"h\",\"4\",(IF('2-Impact Assessment '!F28=\"vh\",\"5\",NA())))))))))))","v":{"$error":"#N/A"}},{"$f":"VALUE((IF('2-Impact Assessment '!G28=\"vl\",\"1\",(IF('2-Impact Assessment '!G28=\"l\",\"2\",(IF('2-Impact Assessment '!G28=\"m\",\"3\",(IF('2-Impact Assessment '!G28=\"h\",\"4\",(IF('2-Impact Assessment '!G28=\"vh\",\"5\",NA())))))))))))","v":{"$error":"#N/A"}},{"$f":"VALUE((IF('2-Impact Assessment '!H28=\"vl\",\"1\",(IF('2-Impact Assessment '!H28=\"l\",\"2\",(IF('2-Impact Assessment '!H28=\"m\",\"3\",(IF('2-Impact Assessment '!H28=\"h\",\"4\",(IF('2-Impact Assessment '!H28=\"vh\",\"5\",NA())))))))))))","v":{"$error":"#N/A"}},{"$f":"VALUE((IF('2-Impact Assessment '!I28=\"vl\",\"1\",(IF('2-Impact Assessment '!I28=\"l\",\"2\",(IF('2-Impact Assessment '!I28=\"m\",\"3\",(IF('2-Impact Assessment '!I28=\"h\",\"4\",(IF('2-Impact Assessment '!I28=\"vh\",\"5\",NA())))))))))))","v":{"$error":"#N/A"}},{"$f":"VALUE((IF('2-Impact Assessment '!J28=\"vl\",\"1\",(IF('2-Impact Assessment '!J28=\"l\",\"2\",(IF('2-Impact Assessment '!J28=\"m\",\"3\",(IF('2-Impact Assessment '!J28=\"h\",\"4\",(IF('2-Impact Assessment '!J28=\"vh\",\"5\",NA())))))))))))","v":{"$error":"#N/A"}},{"$f":"VALUE((IF('2-Impact Assessment '!K28=\"vl\",\"1\",(IF('2-Impact Assessment '!K28=\"l\",\"2\",(IF('2-Impact Assessment '!K28=\"m\",\"3\",(IF('2-Impact Assessment '!K28=\"h\",\"4\",(IF('2-Impact Assessment '!K28=\"vh\",\"5\",NA())))))))))))","v":{"$error":"#N/A"}},null,null,{"$f":"IFERROR(INDEX($AA$12:$AG$12,MATCH(TRUE, AA28:AG28 >= 3, 0)),200)","v":200},null,{"$f":"IFERROR(INDEX($AA$12:$AG$12,MATCH(TRUE, AA28:AG28 >= 4, 0)),200)","v":200},null,null,null,null,null,null,null,null,null,null,{"$f":"MAX(IF(ISERROR(E29:E32),0,E29:E32))","v":0},{"$f":"MAX(IF(ISERROR(F29:F32),0,F29:F32))","v":0},{"$f":"MAX(IF(ISERROR(G29:G32),0,G29:G32))","v":0},{"$f":"MAX(IF(ISERROR(H29:H32),0,H29:H32))","v":0},{"$f":"MAX(IF(ISERROR(I29:I32),0,I29:I32))","v":0},{"$f":"MAX(IF(ISERROR(J29:J32),0,J29:J32))","v":0},{"$f":"MAX(IF(ISERROR(K29:K32),0,K29:K32))","v":0}]
[null,null,null,{"$f":"'[2]Consequence Criteria'!$A$8","v":0},{"$f":"VALUE((IF('2-Impact Assessment '!E29=\"vl\",\"1\",(IF('2-Impact Assessment '!E29=\"l\",\"2\",(IF('2-Impact Assessment '!E29=\"m\",\"3\",(IF('2-Impact Assessment '!E29=\"h\",\"4\",(IF('2-Impact Assessment '!E29=\"vh\",\"5\",NA())))))))))))","v":{"$error":"#N/A"}},{"$f":"VALUE((IF('2-Impact Assessment '!F29=\"vl\",\"1\",(IF('2-Impact Assessment '!F29=\"l\",\"2\",(IF('2-Impact Assessment '!F29=\"m\",\"3\",(IF('2-Impact Assessment '!F29=\"h\",\"4\",(IF('2-Impact Assessment '!F29=\"vh\",\"5\",NA())))))))))))","v":{"$error":"#N/A"}},{"$f":"VALUE((IF('2-Impact Assessment '!G29=\"vl\",\"1\",(IF('2-Impact Assessment '!G29=\"l\",\"2\",(IF('2-Impact Assessment '!G29=\"m\",\"3\",(IF('2-Impact Assessment '!G29=\"h\",\"4\",(IF('2-Impact Assessment '!G29=\"vh\",\"5\",NA())))))))))))","v":{"$error":"#N/A"}},{"$f":"VALUE((IF('2-Impact Assessment '!H29=\"vl\",\"1\",(IF('2-Impact Assessment '!H29=\"l\",\"2\",(IF('2-Impact Assessment '!H29=\"m\",\"3\",(IF('2-Impact Assessment '!H29=\"h\",\"4\",(IF('2-Impact Assessment '!H29=\"vh\",\"5\",NA())))))))))))","v":{"$error":"#N/A"}},{"$f":"VALUE((IF('2-Impact Assessment '!I29=\"vl\",\"1\",(IF('2-Impact Assessment '!I29=\"l\",\"2\",(IF('2-Impact Assessment '!I29=\"m\",\"3\",(IF('2-Impact Assessment '!I29=\"h\",\"4\",(IF('2-Impact Assessment '!I29=\"vh\",\"5\",NA())))))))))))","v":{"$error":"#N/A"}},{"$f":"VALUE((IF('2-Impact Assessment '!J29=\"vl\",\"1\",(IF('2-Impact Assessment '!J29=\"l\",\"2\",(IF('2-Impact Assessment '!J29=\"m\",\"3\",(IF('2-Impact Assessment '!J29=\"h\",\"4\",(IF('2-Impact Assessment '!J29=\"vh\",\"5\",NA())))))))))))","v":{"$error":"#N/A"}},{"$f":"VALUE((IF('2-Impact Assessment '!K29=\"vl\",\"1\",(IF('2-Impact Assessment '!K29=\"l\",\"2\",(IF('2-Impact Assessment '!K29=\"m\",\"3\",(IF('2-Impact Assessment '!K29=\"h\",\"4\",(IF('2-Impact Assessment '!K29=\"vh\",\"5\",NA())))))))))))","v":{"$error":"#N/A"}},null,null,{"$f":"IFERROR(INDEX($AA$12:$AG$12,MATCH(TRUE, AA29:AG29 >= 3, 0)),200)","v":5},null,{"$f":"IFERROR(INDEX($AA$12:$AG$12,MATCH(TRUE, AA29:AG29 >= 4, 0)),200)","v":30},null,null,null,null,null,null,null,null,null,null,{"$f":"MAX(IF(ISERROR(E30:E33),0,E30:E33))","v":1},{"$f":"MAX(IF(ISERROR(F30:F33),0,F30:F33))","v":1},{"$f":"MAX(IF(ISERROR(G30:G33),0,G30:G33))","v":2},{"$f":"MAX(IF(ISERROR(H30:H33),0,H30:H33))","v":2},{"$f":"MAX(IF(ISERROR(I30:I33),0,I30:I33))","v":3},{"$f":"MAX(IF(ISERROR(J30:J33),0,J30:J33))","v":4},{"$f":"MAX(IF(ISERROR(K30:K33),0,K30:K33))","v":5}]
[null,null,null,{"$f":"'[2]Consequence Criteria'!$A$9","v":0},{"$f":"VALUE((IF('2-Impact Assessment '!E30=\"vl\",\"1\",(IF('2-Impact Assessment '!E30=\"l\",\"2\",(IF('2-Impact Assessment '!E30=\"m\",\"3\",(IF('2-Impact Assessment '!E30=\"h\",\"4\",(IF('2-Impact Assessment '!E30=\"vh\",\"5\",NA())))))))))))","v":{"$error":"#N/A"}},{"$f":"VALUE((IF('2-Impact Assessment '!F30=\"vl\",\"1\",(IF('2-Impact Assessment '!F30=\"l\",\"2\",(IF('2-Impact Assessment '!F30=\"m\",\"3\",(IF('2-Impact Assessment '!F30=\"h\",\"4\",(IF('2-Impact Assessment '!F30=\"vh\",\"5\",NA())))))))))))","v":{"$error":"#N/A"}},{"$f":"VALUE((IF('2-Impact Assessment '!G30=\"vl\",\"1\",(IF('2-Impact Assessment '!G30=\"l\",\"2\",(IF('2-Impact Assessment '!G30=\"m\",\"3\",(IF('2-Impact Assessment '!G30=\"h\",\"4\",(IF('2-Impact Assessment '!G30=\"vh\",\"5\",NA())))))))))))","v":{"$error":"#N/A"}},{"$f":"VALUE((IF('2-Impact Assessment '!H30=\"vl\",\"1\",(IF('2-Impact Assessment '!H30=\"l\",\"2\",(IF('2-Impact Assessment '!H30=\"m\",\"3\",(IF('2-Impact Assessment '!H30=\"h\",\"4\",(IF('2-Impact Assessment '!H30=\"vh\",\"5\",NA())))))))))))","v":{"$error":"#N/A"}},{"$f":"VALUE((IF('2-Impact Assessment '!I30=\"vl\",\"1\",(IF('2-Impact Assessment '!I30=\"l\",\"2\",(IF('2-Impact Assessment '!I30=\"m\",\"3\",(IF('2-Impact Assessment '!I30=\"h\",\"4\",(IF('2-Impact Assessment '!I30=\"vh\",\"5\",NA())))))))))))","v":{"$error":"#N/A"}},{"$f":"VALUE((IF('2-Impact Assessment '!J30=\"vl\",\"1\",(IF('2-Impact Assessment '!J30=\"l\",\"2\",(IF('2-Impact Assessment '!J30=\"m\",\"3\",(IF('2-Impact Assessment '!J30=\"h\",\"4\",(IF('2-Impact Assessment '!J30=\"vh\",\"5\",NA())))))))))))","v":{"$error":"#N/A"}},{"$f":"VALUE((IF('2-Impact Assessment '!K30=\"vl\",\"1\",(IF('2-Impact Assessment '!K30=\"l\",\"2\",(IF('2-Impact Assessment '!K30=\"m\",\"3\",(IF('2-Impact Assessment '!K30=\"h\",\"4\",(IF('2-Impact Assessment '!K30=\"vh\",\"5\",NA())))))))))))","v":{"$error":"#N/A"}},null,null,{"$f":"IFERROR(INDEX($AA$12:$AG$12,MATCH(TRUE, AA30:AG30 >= 3, 0)),200)","v":5},null,{"$f":"IFERROR(INDEX($AA$12:$AG$12,MATCH(TRUE, AA30:AG30 >= 4, 0)),200)","v":30},null,null,null,null,null,null,null,null,null,null,{"$f":"MAX(IF(ISERROR(E31:E34),0,E31:E34))","v":1},{"$f":"MAX(IF(ISERROR(F31:F34),0,F31:F34))","v":1},{"$f":"MAX(IF(ISERROR(G31:G34),0,G31:G34))","v":2},{"$f":"MAX(IF(ISERROR(H31:H34),0,H31:H34))","v":2},{"$f":"MAX(IF(ISERROR(I31:I34),0,I31:I34))","v":3},{"$f":"MAX(IF(ISERROR(J31:J34),0,J31:J34))","v":4},{"$f":"MAX(IF(ISERROR(K31:K34),0,K31:K34))","v":5}]
[null,null,null,{"$f":"'[2]Consequence Criteria'!$A$10","v":0},{"$f":"VALUE((IF('2-Impact Assessment '!E31=\"vl\",\"1\",(IF('2-Impact Assessment '!E31=\"l\",\"2\",(IF('2-Impact Assessment '!E31=\"m\",\"3\",(IF('2-Impact Assessment '!E31=\"h\",\"4\",(IF('2-Impact Assessment '!E31=\"vh\",\"5\",NA())))))))))))","v":{"$error":"#N/A"}},{"$f":"VALUE((IF('2-Impact Assessment '!F31=\"vl\",\"1\",(IF('2-Impact Assessment '!F31=\"l\",\"2\",(IF('2-Impact Assessment '!F31=\"m\",\"3\",(IF('2-Impact Assessment '!F31=\"h\",\"4\",(IF('2-Impact Assessment '!F31=\"vh\",\"5\",NA())))))))))))","v":{"$error":"#N/A"}},{"$f":"VALUE((IF('2-Impact Assessment '!G31=\"vl\",\"1\",(IF('2-Impact Assessment '!G31=\"l\",\"2\",(IF('2-Impact Assessment '!G31=\"m\",\"3\",(IF('2-Impact Assessment '!G31=\"h\",\"4\",(IF('2-Impact Assessment '!G31=\"vh\",\"5\",NA())))))))))))","v":{"$error":"#N/A"}},{"$f":"VALUE((IF('2-Impact Assessment '!H31=\"vl\",\"1\",(IF('2-Impact Assessment '!H31=\"l\",\"2\",(IF('2-Impact Assessment '!H31=\"m\",\"3\",(IF('2-Impact Assessment '!H31=\"h\",\"4\",(IF('2-Impact Assessment '!H31=\"vh\",\"5\",NA())))))))))))","v":{"$error":"#N/A"}},{"$f":"VALUE((IF('2-Impact Assessment '!I31=\"vl\",\"1\",(IF('2-Impact Assessment '!I31=\"l\",\"2\",(IF('2-Impact Assessment '!I31=\"m\",\"3\",(IF('2-Impact Assessment '!I31=\"h\",\"4\",(IF('2-Impact Assessment '!I31=\"vh\",\"5\",NA())))))))))))","v":{"$error":"#N/A"}},{"$f":"VALUE((IF('2-Impact Assessment '!J31=\"vl\",\"1\",(IF('2-Impact Assessment '!J31=\"l\",\"2\",(IF('2-Impact Assessment '!J31=\"m\",\"3\",(IF('2-Impact Assessment '!J31=\"h\",\"4\",(IF('2-Impact Assessment '!J31=\"vh\",\"5\",NA())))))))))))","v":{"$error":"#N/A"}},{"$f":"VALUE((IF('2-Impact Assessment '!K31=\"vl\",\"1\",(IF('2-Impact Assessment '!K31=\"l\",\"2\",(IF('2-Impact Assessment '!K31=\"m\",\"3\",(IF('2-Impact Assessment '!K31=\"h\",\"4\",(IF('2-Impact Assessment '!K31=\"vh\",\"5\",NA())))))))))))","v":{"$error":"#N/A"}},null,null,{"$f":"IFERROR(INDEX($AA$12:$AG$12,MATCH(TRUE, AA31:AG31 >= 3, 0)),200)","v":5},null,{"$f":"IFERROR(INDEX($AA$12:$AG$12,MATCH(TRUE, AA31:AG31 >= 4, 0)),200)","v":30},null,null,null,null,null,null,null,null,null,null,{"$f":"MAX(IF(ISERROR(E32:E35),0,E32:E35))","v":1},{"$f":"MAX(IF(ISERROR(F32:F35),0,F32:F35))","v":1},{"$f":"MAX(IF(ISERROR(G32:G35),0,G32:G35))","v":2},{"$f":"MAX(IF(ISERROR(H32:H35),0,H32:H35))","v":2},{"$f":"MAX(IF(ISERROR(I32:I35),0,I32:I35))","v":3},{"$f":"MAX(IF(ISERROR(J32:J35),0,J32:J35))","v":4},{"$f":"MAX(IF(ISERROR(K32:K35),0,K32:K35))","v":5}]
[null,{"$f":"IF(ISTEXT('1-Services & Function'!D32),'1-Services & Function'!D32,\"\")","v":"Connector of people to labour markets"},3,null,"1 hr","4 hr","1 day","2 days","5 days","1 month","> 6 months","Comments",null,{"$f":"IFERROR(INDEX($AA$12:$AG$12,MATCH(TRUE, AA32:AG32 >= 3, 0)),200)","v":5},null,{"$f":"IFERROR(INDEX($AA$12:$AG$12,MATCH(TRUE, AA32:AG32 >= 4, 0)),200)","v":30},null,null,null,null,null,null,null,null,null,null,{"$f":"MAX(IF(ISERROR(E33:E36),0,E33:E36))","v":1},{"$f":"MAX(IF(ISERROR(F33:F36),0,F33:F36))","v":1},{"$f":"MAX(IF(ISERROR(G33:G36),0,G33:G36))","v":2},{"$f":"MAX(IF(ISERROR(H33:H36),0,H33:H36))","v":2},{"$f":"MAX(IF(ISERROR(I33:I36),0,I33:I36))","v":3},{"$f":"MAX(IF(ISERROR(J33:J36),0,J33:J36))","v":4},{"$f":"MAX(IF(ISERROR(K33:K36),0,K33:K36))","v":5}]
[null,null,null,{"$f":"'[2]Consequence Criteria'!$A$3","v":"Economic"},{"$f":"VALUE((IF('2-Impact Assessment '!E33=\"vl\",\"1\",(IF('2-Impact Assessment '!E33=\"l\",\"2\",(IF('2-Impact Assessment '!E33=\"m\",\"3\",(IF('2-Impact Assessment '!E33=\"h\",\"4\",(IF('2-Impact Assessment '!E33=\"vh\",\"5\", NA())))))))))))","v":1},{"$f":"VALUE((IF('2-Impact Assessment '!F33=\"vl\",\"1\",(IF('2-Impact Assessment '!F33=\"l\",\"2\",(IF('2-Impact Assessment '!F33=\"m\",\"3\",(IF('2-Impact Assessment '!F33=\"h\",\"4\",(IF('2-Impact Assessment '!F33=\"vh\",\"5\", NA())))))))))))","v":1},{"$f":"VALUE((IF('2-Impact Assessment '!G33=\"vl\",\"1\",(IF('2-Impact Assessment '!G33=\"l\",\"2\",(IF('2-Impact Assessment '!G33=\"m\",\"3\",(IF('2-Impact Assessment '!G33=\"h\",\"4\",(IF('2-Impact Assessment '!G33=\"vh\",\"5\", NA())))))))))))","v":2},{"$f":"VALUE((IF('2-Impact Assessment '!H33=\"vl\",\"1\",(IF('2-Impact Assessment '!H33=\"l\",\"2\",(IF('2-Impact Assessment '!H33=\"m\",\"3\",(IF('2-Impact Assessment '!H33=\"h\",\"4\",(IF('2-Impact Assessment '!H33=\"vh\",\"5\", NA())))))))))))","v":2},{"$f":"VALUE((IF('2-Impact Assessment '!I33=\"vl\",\"1\",(IF('2-Impact Assessment '!I33=\"l\",\"2\",(IF('2-Impact Assessment '!I33=\"m\",\"3\",(IF('2-Impact Assessment '!I33=\"h\",\"4\",(IF('2-Impact Assessment '!I33=\"vh\",\"5\", NA())))))))))))","v":3},{"$f":"VALUE((IF('2-Impact Assessment '!J33=\"vl\",\"1\",(IF('2-Impact Assessment '!J33=\"l\",\"2\",(IF('2-Impact Assessment '!J33=\"m\",\"3\",(IF('2-Impact Assessment '!J33=\"h\",\"4\",(IF('2-Impact Assessment '!J33=\"vh\",\"5\", NA())))))))))))","v":4},{"$f":"VALUE((IF('2-Impact Assessment '!K33=\"vl\",\"1\",(IF('2-Impact Assessment '!K33=\"l\",\"2\",(IF('2-Impact Assessment '!K33=\"m\",\"3\",(IF('2-Impact Assessment '!K33=\"h\",\"4\",(IF('2-Impact Assessment '!K33=\"vh\",\"5\", NA())))))))))))","v":5},null,null,{"$f":"IFERROR(INDEX($AA$12:$AG$12,MATCH(TRUE, AA33:AG33 >= 3, 0)),200)","v":2},null,{"$f":"IFERROR(INDEX($AA$12:$AG$12,MATCH(TRUE, AA33:AG33 >= 4, 0)),200)","v":5},null,null,null,null,null,null,null,null,null,null,{"$f":"MAX(IF(ISERROR(E34:E37),0,E34:E37))","v":1},{"$f":"MAX(IF(ISERROR(F34:F37),0,F34:F37))","v":1},{"$f":"MAX(IF(ISERROR(G34:G37),0,G34:G37))","v":2},{"$f":"MAX(IF(ISERROR(H34:H37),0,H34:H37))","v":3},{"$f":"MAX(IF(ISERROR(I34:I37),0,I34:I37))","v":4},{"$f":"MAX(IF(ISERROR(J34:J37),0,J34:J37))","v":5},{"$f":"MAX(IF(ISERROR(K34:K37),0,K34:K37))","v":5}]
[null,null,null,{"$f":"'[2]Consequence Criteria'!$A$4","v":"Social"},{"$f":"VALUE((IF('2-Impact Assessment '!E34=\"vl\",\"1\",(IF('2-Impact Assessment '!E34=\"l\",\"2\",(IF('2-Impact Assessment '!E34=\"m\",\"3\",(IF('2-Impact Assessment '!E34=\"h\",\"4\",(IF('2-Impact Assessment '!E34=\"vh\",\"5\", NA())))))))))))","v":1},{"$f":"VALUE((IF('2-Impact Assessment '!F34=\"vl\",\"1\",(IF('2-Impact Assessment '!F34=\"l\",\"2\",(IF('2-Impact Assessment '!F34=\"m\",\"3\",(IF('2-Impact Assessment '!F34=\"h\",\"4\",(IF('2-Impact Assessment '!F34=\"vh\",\"5\", NA())))))))))))","v":1},{"$f":"VALUE((IF('2-Impact Assessment '!G34=\"vl\",\"1\",(IF('2-Impact Assessment '!G34=\"l\",\"2\",(IF('2-Impact Assessment '!G34=\"m\",\"3\",(IF('2-Impact Assessment '!G34=\"h\",\"4\",(IF('2-Impact Assessment '!G34=\"vh\",\"5\", NA())))))))))))","v":1},{"$f":"VALUE((IF('2-Impact Assessment '!H34=\"vl\",\"1\",(IF('2-Impact Assessment '!H34=\"l\",\"2\",(IF('2-Impact Assessment '!H34=\"m\",\"3\",(IF('2-Impact Assessment '!H34=\"h\",\"4\",(IF('2-Impact Assessment '!H34=\"vh\",\"5\", NA())))))))))))","v":1},{"$f":"VALUE((IF('2-Impact Assessment '!I34=\"vl\",\"1\",(IF('2-Impact Assessment '!I34=\"l\",\"2\",(IF('2-Impact Assessment '!I34=\"m\",\"3\",(IF('2-Impact Assessment '!I34=\"h\",\"4\",(IF('2-Impact Assessment '!I34=\"vh\",\"5\", NA())))))))))))","v":2},{"$f":"VALUE((IF('2-Impact Assessment '!J34=\"vl\",\"1\",(IF('2-Impact Assessment '!J34=\"l\",\"2\",(IF('2-Impact Assessment '!J34=\"m\",\"3\",(IF('2-Impact Assessment '!J34=\"h\",\"4\",(IF('2-Impact Assessment '!J34=\"vh\",\"5\", NA())))))))))))","v":2},{"$f":"VALUE((IF('2-Impact Assessment '!K34=\"vl\",\"1\",(IF('2-Impact Assessment '!K34=\"l\",\"2\",(IF('2-Impact Assessment '!K34=\"m\",\"3\",(IF('2-Impact Assessment '!K34=\"h\",\"4\",(IF('2-Impact Assessment '!K34=\"vh\",\"5\", NA())))))))))))","v":3},null,null,{"$f":"IFERROR(INDEX($AA$12:$AG$12,MATCH(TRUE, AA34:AG34 >= 3, 0)),200)","v":2},null,{"$f":"IFERROR(INDEX($AA$12:$AG$12,MATCH(TRUE, AA34:AG34 >= 4, 0)),200)","v":5},null,null,null,null,null,null,null,null,null,null,{"$f":"MAX(IF(ISERROR(E35:E38),0,E35:E38))","v":1},{"$f":"MAX(IF(ISERROR(F35:F38),0,F35:F38))","v":2},{"$f":"MAX(IF(ISERROR(G35:G38),0,G35:G38))","v":2},{"$f":"MAX(IF(ISERROR(H35:H38),0,H35:H38))","v":3},{"$f":"MAX(IF(ISERROR(I35:I38),0,I35:I38))","v":4},{"$f":"MAX(IF(ISERROR(J35:J38),0,J35:J38))","v":5},{"$f":"MAX(IF(ISERROR(K35:K38),0,K35:K38))","v":5}]
[null,null,null,{"$f":"'[2]Consequence Criteria'!$A$5","v":"Cultural"},{"$f":"VALUE((IF('2-Impact Assessment '!E35=\"vl\",\"1\",(IF('2-Impact Assessment '!E35=\"l\",\"2\",(IF('2-Impact Assessment '!E35=\"m\",\"3\",(IF('2-Impact Assessment '!E35=\"h\",\"4\",(IF('2-Impact Assessment '!E35=\"vh\",\"5\", NA())))))))))))","v":1},{"$f":"VALUE((IF('2-Impact Assessment '!F35=\"vl\",\"1\",(IF('2-Impact Assessment '!F35=\"l\",\"2\",(IF('2-Impact Assessment '!F35=\"m\",\"3\",(IF('2-Impact Assessment '!F35=\"h\",\"4\",(IF('2-Impact Assessment '!F35=\"vh\",\"5\", NA())))))))))))","v":1},{"$f":"VALUE((IF('2-Impact Assessment '!G35=\"vl\",\"1\",(IF('2-Impact Assessment '!G35=\"l\",\"2\",(IF('2-Impact Assessment '!G35=\"m\",\"3\",(IF('2-Impact Assessment '!G35=\"h\",\"4\",(IF('2-Impact Assessment '!G35=\"vh\",\"5\", NA())))))))))))","v":1},{"$f":"VALUE((IF('2-Impact Assessment '!H35=\"vl\",\"1\",(IF('2-Impact Assessment '!H35=\"l\",\"2\",(IF('2-Impact Assessment '!H35=\"m\",\"3\",(IF('2-Impact Assessment '!H35=\"h\",\"4\",(IF('2-Impact Assessment '!H35=\"vh\",\"5\", NA())))))))))))","v":1},{"$f":"VALUE((IF('2-Impact Assessment '!I35=\"vl\",\"1\",(IF('2-Impact Assessment '!I35=\"l\",\"2\",(IF('2-Impact Assessment '!I35=\"m\",\"3\",(IF('2-Impact Assessment '!I35=\"h\",\"4\",(IF('2-Impact Assessment '!I35=\"vh\",\"5\", NA())))))))))))","v":1},{"$f":"VALUE((IF('2-Impact Assessment '!J35=\"vl\",\"1\",(IF('2-Impact Assessment '!J35=\"l\",\"2\",(IF('2-Impact Assessment '!J35=\"m\",\"3\",(IF('2-Impact Assessment '!J35=\"h\",\"4\",(IF('2-Impact Assessment '!J35=\"vh\",\"5\", NA())))))))))))","v":2},{"$f":"VALUE((IF('2-Impact Assessment '!K35=\"vl\",\"1\",(IF('2-Impact Assessment '!K35=\"l\",\"2\",(IF('2-Impact Assessment '!K35=\"m\",\"3\",(IF('2-Impact Assessment '!K35=\"h\",\"4\",(IF('2-Impact Assessment '!K35=\"vh\",\"5\", NA())))))))))))","v":2},null,null,{"$f":"IFERROR(INDEX($AA$12:$AG$12,MATCH(TRUE, AA35:AG35 >= 3, 0)),200)","v":2},null,{"$f":"IFERROR(INDEX($AA$12:$AG$12,MATCH(TRUE, AA35:AG35 >= 4, 0)),200)","v":2},null,null,null,null,null,null,null,null,null,null,{"$f":"MAX(IF(ISERROR(E36:E39),0,E36:E39))","v":1},{"$f":"MAX(IF(ISERROR(F36:F39),0,F36:F39))","v":2},{"$f":"MAX(IF(ISERROR(G36:G39),0,G36:G39))","v":2},{"$f":"MAX(IF(ISERROR(H36:H39),0,H36:H39))","v":4},{"$f":"MAX(IF(ISERROR(I36:I39),0,I36:I39))","v":5},{"$f":"MAX(IF(ISERROR(J36:J39),0,J36:J39))","v":5},{"$f":"MAX(IF(ISERROR(K36:K39),0,K36:K39))","v":5}]
[null,null,null,{"$f":"'[2]Consequence Criteria'!$A$6","v":"Environmental"},{"$f":"VALUE((IF('2-Impact Assessment '!E36=\"vl\",\"1\",(IF('2-Impact Assessment '!E36=\"l\",\"2\",(IF('2-Impact Assessment '!E36=\"m\",\"3\",(IF('2-Impact Assessment '!E36=\"h\",\"4\",(IF('2-Impact Assessment '!E36=\"vh\",\"5\", NA())))))))))))","v":1},{"$f":"VALUE((IF('2-Impact Assessment '!F36=\"vl\",\"1\",(IF('2-Impact Assessment '!F36=\"l\",\"2\",(IF('2-Impact Assessment '!F36=\"m\",\"3\",(IF('2-Impact Assessment '!F36=\"h\",\"4\",(IF('2-Impact Assessment '!F36=\"vh\",\"5\", NA())))))))))))","v":1},{"$f":"VALUE((IF('2-Impact Assessment '!G36=\"vl\",\"1\",(IF('2-Impact Assessment '!G36=\"l\",\"2\",(IF('2-Impact Assessment '!G36=\"m\",\"3\",(IF('2-Impact Assessment '!G36=\"h\",\"4\",(IF('2-Impact Assessment '!G36=\"vh\",\"5\", NA())))))))))))","v":1},{"$f":"VALUE((IF('2-Impact Assessment '!H36=\"vl\",\"1\",(IF('2-Impact Assessment '!H36=\"l\",\"2\",(IF('2-Impact Assessment '!H36=\"m\",\"3\",(IF('2-Impact Assessment '!H36=\"h\",\"4\",(IF('2-Impact Assessment '!H36=\"vh\",\"5\", NA())))))))))))","v":1},{"$f":"VALUE((IF('2-Impact Assessment '!I36=\"vl\",\"1\",(IF('2-Impact Assessment '!I36=\"l\",\"2\",(IF('2-Impact Assessment '!I36=\"m\",\"3\",(IF('2-Impact Assessment '!I36=\"h\",\"4\",(IF('2-Impact Assessment '!I36=\"vh\",\"5\", NA())))))))))))","v":2},{"$f":"VALUE((IF('2-Impact Assessment '!J36=\"vl\",\"1\",(IF('2-Impact Assessment '!J36=\"l\",\"2\",(IF('2-Impact Assessment '!J36=\"m\",\"3\",(IF('2-Impact Assessment '!J36=\"h\",\"4\",(IF('2-Impact Assessment '!J36=\"vh\",\"5\", NA())))))))))))","v":2},{"$f":"VALUE((IF('2-Impact Assessment '!K36=\"vl\",\"1\",(IF('2-Impact Assessment '!K36=\"l\",\"2\",(IF('2-Impact Assessment '!K36=\"m\",\"3\",(IF('2-Impact Assessment '!K36=\"h\",\"4\",(IF('2-Impact Assessment '!K36=\"vh\",\"5\", NA())))))))))))","v":3},null,null,{"$f":"IFERROR(INDEX($AA$12:$AG$12,MATCH(TRUE, AA36:AG36 >= 3, 0)),200)","v":2},null,{"$f":"IFERROR(INDEX($AA$12:$AG$12,MATCH(TRUE, AA36:AG36 >= 4, 0)),200)","v":2},null,null,null,null,null,null,null,null,null,null,{"$f":"MAX(IF(ISERROR(E37:E40),0,E37:E40))","v":1},{"$f":"MAX(IF(ISERROR(F37:F40),0,F37:F40))","v":2},{"$f":"MAX(IF(ISERROR(G37:G40),0,G37:G40))","v":2},{"$f":"MAX(IF(ISERROR(H37:H40),0,H37:H40))","v":4},{"$f":"MAX(IF(ISERROR(I37:I40),0,I37:I40))","v":5},{"$f":"MAX(IF(ISERROR(J37:J40),0,J37:J40))","v":5},{"$f":"MAX(IF(ISERROR(K37:K40),0,K37:K40))","v":5}]
[null,null,null,{"$f":"'[2]Consequence Criteria'!$A$7","v":0},1,1,2,3,4,5,5,null,null,{"$f":"IFERROR(INDEX($AA$12:$AG$12,MATCH(TRUE, AA37:AG37 >= 3, 0)),200)","v":2},null,{"$f":"IFERROR(INDEX($AA$12:$AG$12,MATCH(TRUE, AA37:AG37 >= 4, 0)),200)","v":2},null,null,null,null,null,null,null,null,null,null,{"$f":"MAX(IF(ISERROR(E38:E41),0,E38:E41))","v":1},{"$f":"MAX(IF(ISERROR(F38:F41),0,F38:F41))","v":2},{"$f":"MAX(IF(ISERROR(G38:G41),0,G38:G41))","v":2},{"$f":"MAX(IF(ISERROR(H38:H41),0,H38:H41))","v":4},{"$f":"MAX(IF(ISERROR(I38:I41),0,I38:I41))","v":5},{"$f":"MAX(IF(ISERROR(J38:J41),0,J38:J41))","v":5},{"$f":"MAX(IF(ISERROR(K38:K41),0,K38:K41))","v":5}]
[null,null,null,{"$f":"'[2]Consequence Criteria'!$A$8","v":0},1,2,2,3,4,5,5,null,null,{"$f":"IFERROR(INDEX($AA$12:$AG$12,MATCH(TRUE, AA38:AG38 >= 3, 0)),200)","v":2},null,{"$f":"IFERROR(INDEX($AA$12:$AG$12,MATCH(TRUE, AA38:AG38 >= 4, 0)),200)","v":2},null,null,null,null,null,null,null,null,null,null,{"$f":"MAX(IF(ISERROR(E39:E42),0,E39:E42))","v":1},{"$f":"MAX(IF(ISERROR(F39:F42),0,F39:F42))","v":1},{"$f":"MAX(IF(ISERROR(G39:G42),0,G39:G42))","v":2},{"$f":"MAX(IF(ISERROR(H39:H42),0,H39:H42))","v":4},{"$f":"MAX(IF(ISERROR(I39:I42),0,I39:I42))","v":5},{"$f":"MAX(IF(ISERROR(J39:J42),0,J39:J42))","v":5},{"$f":"MAX(IF(ISERROR(K39:K42),0,K39:K42))","v":5}]
[null,null,null,{"$f":"'[2]Consequence Criteria'!$A$9","v":0},1,1,2,4,5,5,5,null,null,{"$f":"IFERROR(INDEX($AA$12:$AG$12,MATCH(TRUE, AA39:AG39 >= 3, 0)),200)","v":5},null,{"$f":"IFERROR(INDEX($AA$12:$AG$12,MATCH(TRUE, AA39:AG39 >= 4, 0)),200)","v":5},null,null,null,null,null,null,null,null,null,null,{"$f":"MAX(IF(ISERROR(E40:E43),0,E40:E43))","v":1},{"$f":"MAX(IF(ISERROR(F40:F43),0,F40:F43))","v":1},{"$f":"MAX(IF(ISERROR(G40:G43),0,G40:G43))","v":2},{"$f":"MAX(IF(ISERROR(H40:H43),0,H40:H43))","v":2},{"$f":"MAX(IF(ISERROR(I40:I43),0,I40:I43))","v":4},{"$f":"MAX(IF(ISERROR(J40:J43),0,J40:J43))","v":5},{"$f":"MAX(IF(ISERROR(K40:K43),0,K40:K43))","v":5}]
[null,null,null,{"$f":"'[2]Consequence Criteria'!$A$10","v":0},1,1,2,2,4,5,5,null,null,{"$f":"IFERROR(INDEX($AA$12:$AG$12,MATCH(TRUE, AA40:AG40 >= 3, 0)),200)","v":5},null,{"$f":"IFERROR(INDEX($AA$12:$AG$12,MATCH(TRUE, AA40:AG40 >= 4, 0)),200)","v":180},null,null,null,null,null,null,null,null,null,null,{"$f":"MAX(IF(ISERROR(E41:E44),0,E41:E44))","v":1},{"$f":"MAX(IF(ISERROR(F41:F44),0,F41:F44))","v":1},{"$f":"MAX(IF(ISERROR(G41:G44),0,G41:G44))","v":2},{"$f":"MAX(IF(ISERROR(H41:H44),0,H41:H44))","v":2},{"$f":"MAX(IF(ISERROR(I41:I44),0,I41:I44))","v":3},{"$f":"MAX(IF(ISERROR(J41:J44),0,J41:J44))","v":3},{"$f":"MAX(IF(ISERROR(K41:K44),0,K41:K44))","v":4}]
[null,{"$f":"IF(ISTEXT('1-Services & Function'!D33),'1-Services & Function'!D33,\"\")","v":"Access to leisure activities"},4,null,"1 hr","4 hr","1 day","2 days","5 days","1 month","> 6 months","Comments",null,{"$f":"IFERROR(INDEX($AA$12:$AG$12,MATCH(TRUE, AA41:AG41 >= 3, 0)),200)","v":5},null,{"$f":"IFERROR(INDEX($AA$12:$AG$12,MATCH(TRUE, AA41:AG41 >= 4, 0)),200)","v":180},null,null,null,null,null,null,null,null,null,null,{"$f":"MAX(IF(ISERROR(E42:E45),0,E42:E45))","v":1},{"$f":"MAX(IF(ISERROR(F42:F45),0,F42:F45))","v":1},{"$f":"MAX(IF(ISERROR(G42:G45),0,G42:G45))","v":2},{"$f":"MAX(IF(ISERROR(H42:H45),0,H42:H45))","v":2},{"$f":"MAX(IF(ISERROR(I42:I45),0,I42:I45))","v":3},{"$f":"MAX(IF(ISERROR(J42:J45),0,J42:J45))","v":3},{"$f":"MAX(IF(ISERROR(K42:K45),0,K42:K45))","v":4}]
[null,null,null,{"$f":"'[2]Consequence Criteria'!$A$3","v":"Economic"},{"$f":"VALUE((IF('2-Impact Assessment '!E42=\"vl\",\"1\",(IF('2-Impact Assessment '!E42=\"l\",\"2\",(IF('2-Impact Assessment '!E42=\"m\",\"3\",(IF('2-Impact Assessment '!E42=\"h\",\"4\",(IF('2-Impact Assessment '!E42=\"vh\",\"5\", NA())))))))))))","v":1},{"$f":"VALUE((IF('2-Impact Assessment '!F42=\"vl\",\"1\",(IF('2-Impact Assessment '!F42=\"l\",\"2\",(IF('2-Impact Assessment '!F42=\"m\",\"3\",(IF('2-Impact Assessment '!F42=\"h\",\"4\",(IF('2-Impact Assessment '!F42=\"vh\",\"5\", NA())))))))))))","v":1},{"$f":"VALUE((IF('2-Impact Assessment '!G42=\"vl\",\"1\",(IF('2-Impact Assessment '!G42=\"l\",\"2\",(IF('2-Impact Assessment '!G42=\"m\",\"3\",(IF('2-Impact Assessment '!G42=\"h\",\"4\",(IF('2-Impact Assessment '!G42=\"vh\",\"5\", NA())))))))))))","v":1},{"$f":"VALUE((IF('2-Impact Assessment '!H42=\"vl\",\"1\",(IF('2-Impact Assessment '!H42=\"l\",\"2\",(IF('2-Impact Assessment '!H42=\"m\",\"3\",(IF('2-Impact Assessment '!H42=\"h\",\"4\",(IF('2-Impact Assessment '!H42=\"vh\",\"5\", NA())))))))))))","v":1},{"$f":"VALUE((IF('2-Impact Assessment '!I42=\"vl\",\"1\",(IF('2-Impact Assessment '!I42=\"l\",\"2\",(IF('2-Impact Assessment '!I42=\"m\",\"3\",(IF('2-Impact Assessment '!I42=\"h\",\"4\",(IF('2-Impact Assessment '!I42=\"vh\",\"5\", NA())))))))))))","v":2},{"$f":"VALUE((IF('2-Impact Assessment '!J42=\"vl\",\"1\",(IF('2-Impact Assessment '!J42=\"l\",\"2\",(IF('2-Impact Assessment '!J42=\"m\",\"3\",(IF('2-Impact Assessment '!J42=\"h\",\"4\",(IF('2-Impact Assessment '!J42=\"vh\",\"5\", NA())))))))))))","v":2},{"$f":"VALUE((IF('2-Impact Assessment '!K42=\"vl\",\"1\",(IF('2-Impact Assessment '!K42=\"l\",\"2\",(IF('2-Impact Assessment '!K42=\"m\",\"3\",(IF('2-Impact Assessment '!K42=\"h\",\"4\",(IF('2-Impact Assessment '!K42=\"vh\",\"5\", NA())))))))))))","v":3},null,null,{"$f":"IFERROR(INDEX($AA$12:$AG$12,MATCH(TRUE, AA42:AG42 >= 3, 0)),200)","v":2},null,{"$f":"IFERROR(INDEX($AA$12:$AG$12,MATCH(TRUE, AA42:AG42 >= 4, 0)),200)","v":5},null,null,null,null,null,null,null,null,null,null,{"$f":"MAX(IF(ISERROR(E43:E46),0,E43:E46))","v":1},{"$f":"MAX(IF(ISERROR(F43:F46),0,F43:F46))","v":1},{"$f":"MAX(IF(ISERROR(G43:G46),0,G43:G46))","v":2},{"$f":"MAX(IF(ISERROR(H43:H46),0,H43:H46))","v":3},{"$f":"MAX(IF(ISERROR(I43:I46),0,I43:I46))","v":4},{"$f":"MAX(IF(ISERROR(J43:J46),0,J43:J46))","v":5},{"$f":"MAX(IF(ISERROR(K43:K46),0,K43:K46))","v":5}]
[null,null,null,{"$f":"'[2]Consequence Criteria'!$A$4","v":"Social"},{"$f":"VALUE((IF('2-Impact Assessment '!E43=\"vl\",\"1\",(IF('2-Impact Assessment '!E43=\"l\",\"2\",(IF('2-Impact Assessment '!E43=\"m\",\"3\",(IF('2-Impact Assessment '!E43=\"h\",\"4\",(IF('2-Impact Assessment '!E43=\"vh\",\"5\", NA())))))))))))","v":1},{"$f":"VALUE((IF('2-Impact Assessment '!F43=\"vl\",\"1\",(IF('2-Impact Assessment '!F43=\"l\",\"2\",(IF('2-Impact Assessment '!F43=\"m\",\"3\",(IF('2-Impact Assessment '!F43=\"h\",\"4\",(IF('2-Impact Assessment '!F43=\"vh\",\"5\", NA())))))))))))","v":1},{"$f":"VALUE((IF('2-Impact Assessment '!G43=\"vl\",\"1\",(IF('2-Impact Assessment '!G43=\"l\",\"2\",(IF('2-Impact Assessment '!G43=\"m\",\"3\",(IF('2-Impact Assessment '!G43=\"h\",\"4\",(IF('2-Impact Assessment '!G43=\"vh\",\"5\", NA())))))))))))","v":2},{"$f":"VALUE((IF('2-Impact Assessment '!H43=\"vl\",\"1\",(IF('2-Impact Assessment '!H43=\"l\",\"2\",(IF('2-Impact Assessment '!H43=\"m\",\"3\",(IF('2-Impact Assessment '!H43=\"h\",\"4\",(IF('2-Impact Assessment '!H43=\"vh\",\"5\", NA())))))))))))","v":2},{"$f":"VALUE((IF('2-Impact Assessment '!I43=\"vl\",\"1\",(IF('2-Impact Assessment '!I43=\"l\",\"2\",(IF('2-Impact Assessment '!I43=\"m\",\"3\",(IF('2-Impact Assessment '!I43=\"h\",\"4\",(IF('2-Impact Assessment '!I43=\"vh\",\"5\", NA())))))))))))","v":3},{"$f":"VALUE((IF('2-Impact Assessment '!J43=\"vl\",\"1\",(IF('2-Impact Assessment '!J43=\"l\",\"2\",(IF('2-Impact Assessment '!J43=\"m\",\"3\",(IF('2-Impact Assessment '!J43=\"h\",\"4\",(IF('2-Impact Assessment '!J43=\"vh\",\"5\", NA())))))))))))","v":3},{"$f":"VALUE((IF('2-Impact Assessment '!K43=\"vl\",\"1\",(IF('2-Impact Assessment '!K43=\"l\",\"2\",(IF('2-Impact Assessment '!K43=\"m\",\"3\",(IF('2-Impact Assessment '!K43=\"h\",\"4\",(IF('2-Impact Assessment '!K43=\"vh\",\"5\", NA())))))))))))","v":4},null,null,{"$f":"IFERROR(INDEX($AA$12:$AG$12,MATCH(TRUE, AA43:AG43 >= 3, 0)),200)","v":2},null,{"$f":"IFERROR(INDEX($AA$12:$AG$12,MATCH(TRUE, AA43:AG43 >= 4, 0)),200)","v":5},null,null,null,null,null,null,null,null,null,null,{"$f":"MAX(IF(ISERROR(E44:E47),0,E44:E47))","v":1},{"$f":"MAX(IF(ISERROR(F44:F47),0,F44:F47))","v":2},{"$f":"MAX(IF(ISERROR(G44:G47),0,G44:G47))","v":2},{"$f":"MAX(IF(ISERROR(H44:H47),0,H44:H47))","v":3},{"$f":"MAX(IF(ISERROR(I44:I47),0,I44:I47))","v":4},{"$f":"MAX(IF(ISERROR(J44:J47),0,J44:J47))","v":5},{"$f":"MAX(IF(ISERROR(K44:K47),0,K44:K47))","v":5}]
[null,null,null,{"$f":"'[2]Consequence Criteria'!$A$5","v":"Cultural"},{"$f":"VALUE((IF('2-Impact Assessment '!E44=\"vl\",\"1\",(IF('2-Impact Assessment '!E44=\"l\",\"2\",(IF('2-Impact Assessment '!E44=\"m\",\"3\",(IF('2-Impact Assessment '!E44=\"h\",\"4\",(IF('2-Impact Assessment '!E44=\"vh\",\"5\", NA())))))))))))","v":1},{"$f":"VALUE((IF('2-Impact Assessment '!F44=\"vl\",\"1\",(IF('2-Impact Assessment '!F44=\"l\",\"2\",(IF('2-Impact Assessment '!F44=\"m\",\"3\",(IF('2-Impact Assessment '!F44=\"h\",\"4\",(IF('2-Impact Assessment '!F44=\"vh\",\"5\", NA())))))))))))","v":1},{"$f":"VALUE((IF('2-Impact Assessment '!G44=\"vl\",\"1\",(IF('2-Impact Assessment '!G44=\"l\",\"2\",(IF('2-Impact Assessment '!G44=\"m\",\"3\",(IF('2-Impact Assessment '!G44=\"h\",\"4\",(IF('2-Impact Assessment '!G44=\"vh\",\"5\", NA())))))))))))","v":2},{"$f":"VALUE((IF('2-Impact Assessment '!H44=\"vl\",\"1\",(IF('2-Impact Assessment '!H44=\"l\",\"2\",(IF('2-Impact Assessment '!H44=\"m\",\"3\",(IF('2-Impact Assessment '!H44=\"h\",\"4\",(IF('2-Impact Assessment '!H44=\"vh\",\"5\", NA())))))))))))","v":2},{"$f":"VALUE((IF('2-Impact Assessment '!I44=\"vl\",\"1\",(IF('2-Impact Assessment '!I44=\"l\",\"2\",(IF('2-Impact Assessment '!I44=\"m\",\"3\",(IF('2-Impact Assessment '!I44=\"h\",\"4\",(IF('2-Impact Assessment '!I44=\"vh\",\"5\", NA())))))))))))","v":2},{"$f":"VALUE((IF('2-Impact Assessment '!J44=\"vl\",\"1\",(IF('2-Impact Assessment '!J44=\"l\",\"2\",(IF('2-Impact Assessment '!J44=\"m\",\"3\",(IF('2-Impact Assessment '!J44=\"h\",\"4\",(IF('2-Impact Assessment '!J44=\"vh\",\"5\", NA())))))))))))","v":3},{"$f":"VALUE((IF('2-Impact Assessment '!K44=\"vl\",\"1\",(IF('2-Impact Assessment '!K44=\"l\",\"2\",(IF('2-Impact Assessment '!K44=\"m\",\"3\",(IF('2-Impact Assessment '!K44=\"h\",\"4\",(IF('2-Impact Assessment '!K44=\"vh\",\"5\", NA())))))))))))","v":3},null,null,{"$f":"IFERROR(INDEX($AA$12:$AG$12,MATCH(TRUE, AA44:AG44 >= 3, 0)),200)","v":2},null,{"$f":"IFERROR(INDEX($AA$12:$AG$12,MATCH(TRUE, AA44:AG44 >= 4, 0)),200)","v":2},null,null,null,null,null,null,null,null,null,null,{"$f":"MAX(IF(ISERROR(E45:E48),0,E45:E48))","v":1},{"$f":"MAX(IF(ISERROR(F45:F48),0,F45:F48))","v":2},{"$f":"MAX(IF(ISERROR(G45:G48),0,G45:G48))","v":2},{"$f":"MAX(IF(ISERROR(H45:H48),0,H45:H48))","v":4},{"$f":"MAX(IF(ISERROR(I45:I48),0,I45:I48))","v":5},{"$f":"MAX(IF(ISERROR(J45:J48),0,J45:J48))","v":5},{"$f":"MAX(IF(ISERROR(K45:K48),0,K45:K48))","v":5}]
[null,null,null,{"$f":"'[2]Consequence Criteria'!$A$6","v":"Environmental"},{"$f":"VALUE((IF('2-Impact Assessment '!E45=\"vl\",\"1\",(IF('2-Impact Assessment '!E45=\"l\",\"2\",(IF('2-Impact Assessment '!E45=\"m\",\"3\",(IF('2-Impact Assessment '!E45=\"h\",\"4\",(IF('2-Impact Assessment '!E45=\"vh\",\"5\", NA())))))))))))","v":1},{"$f":"VALUE((IF('2-Impact Assessment '!F45=\"vl\",\"1\",(IF('2-Impact Assessment '!F45=\"l\",\"2\",(IF('2-Impact Assessment '!F45=\"m\",\"3\",(IF('2-Impact Assessment '!F45=\"h\",\"4\",(IF('2-Impact Assessment '!F45=\"vh\",\"5\", NA())))))))))))","v":1},{"$f":"VALUE((IF('2-Impact Assessment '!G45=\"vl\",\"1\",(IF('2-Impact Assessment '!G45=\"l\",\"2\",(IF('2-Impact Assessment '!G45=\"m\",\"3\",(IF('2-Impact Assessment '!G45=\"h\",\"4\",(IF('2-Impact Assessment '!G45=\"vh\",\"5\", NA())))))))))))","v":1},{"$f":"VALUE((IF('2-Impact Assessment '!H45=\"vl\",\"1\",(IF('2-Impact Assessment '!H45=\"l\",\"2\",(IF('2-Impact Assessment '!H45=\"m\",\"3\",(IF('2-Impact Assessment '!H45=\"h\",\"4\",(IF('2-Impact Assessment '!H45=\"vh\",\"5\", NA())))))))))))","v":1},{"$f":"VALUE((IF('2-Impact Assessment '!I45=\"vl\",\"1\",(IF('2-Impact Assessment '!I45=\"l\",\"2\",(IF('2-Impact Assessment '!I45=\"m\",\"3\",(IF('2-Impact Assessment '!I45=\"h\",\"4\",(IF('2-Impact Assessment '!I45=\"vh\",\"5\", NA())))))))))))","v":1},{"$f":"VALUE((IF('2-Impact Assessment '!J45=\"vl\",\"1\",(IF('2-Impact Assessment '!J45=\"l\",\"2\",(IF('2-Impact Assessment '!J45=\"m\",\"3\",(IF('2-Impact Assessment '!J45=\"h\",\"4\",(IF('2-Impact Assessment '!J45=\"vh\",\"5\", NA())))))))))))","v":1},{"$f":"VALUE((IF('2-Impact Assessment '!K45=\"vl\",\"1\",(IF('2-Impact Assessment '!K45=\"l\",\"2\",(IF('2-Impact Assessment '!K45=\"m\",\"3\",(IF('2-Impact Assessment '!K45=\"h\",\"4\",(IF('2-Impact Assessment '!K45=\"vh\",\"5\", NA())))))))))))","v":1},null,null,{"$f":"IFERROR(INDEX($AA$12:$AG$12,MATCH(TRUE, AA45:AG45 >= 3, 0)),200)","v":2},"BAU",{"$f":"IFERROR(INDEX($AA$12:$AG$12,MATCH(TRUE, AA45:AG45 >= 4, 0)),200)","v":2},null,null,null,null,null,null,null,null,null,null,{"$f":"MAX(IF(ISERROR(E46:E49),0,E46:E49))","v":1},{"$f":"MAX(IF(ISERROR(F46:F49),0,F46:F49))","v":2},{"$f":"MAX(IF(ISERROR(G46:G49),0,G46:G49))","v":2},{"$f":"MAX(IF(ISERROR(H46:H49),0,H46:H49))","v":4},{"$f":"MAX(IF(ISERROR(I46:I49),0,I46:I49))","v":5},{"$f":"MAX(IF(ISERROR(J46:J49),0,J46:J49))","v":5},{"$f":"MAX(IF(ISERROR(K46:K49),0,K46:K49))","v":5}]
[null,null,null,{"$f":"'[2]Consequence Criteria'!$A$7","v":0},1,1,2,3,4,5,5,null,null,{"$f":"IFERROR(INDEX($AA$12:$AG$12,MATCH(TRUE, AA46:AG46 >= 3, 0)),200)","v":2},null,{"$f":"IFERROR(INDEX($AA$12:$AG$12,MATCH(TRUE, AA46:AG46 >= 4, 0)),200)","v":2},null,null,null,null,null,null,null,null,null,null,{"$f":"MAX(IF(ISERROR(E47:E50),0,E47:E50))","v":1},{"$f":"MAX(IF(ISERROR(F47:F50),0,F47:F50))","v":2},{"$f":"MAX(IF(ISERROR(G47:G50),0,G47:G50))","v":2},{"$f":"MAX(IF(ISERROR(H47:H50),0,H47:H50))","v":4},{"$f":"MAX(IF(ISERROR(I47:I50),0,I47:I50))","v":5},{"$f":"MAX(IF(ISERROR(J47:J50),0,J47:J50))","v":5},{"$f":"MAX(IF(ISERROR(K47:K50),0,K47:K50))","v":5}]
[null,null,null,{"$f":"'[2]Consequence Criteria'!$A$8","v":0},1,2,2,3,4,5,5,null,null,{"$f":"IFERROR(INDEX($AA$12:$AG$12,MATCH(TRUE, AA47:AG47 >= 3, 0)),200)","v":2},null,{"$f":"IFERROR(INDEX($AA$12:$AG$12,MATCH(TRUE, AA47:AG47 >= 4, 0)),200)","v":2},null,null,null,null,null,null,null,null,null,null,{"$f":"MAX(IF(ISERROR(E48:E51),0,E48:E51))","v":1},{"$f":"MAX(IF(ISERROR(F48:F51),0,F48:F51))","v":1},{"$f":"MAX(IF(ISERROR(G48:G51),0,G48:G51))","v":2},{"$f":"MAX(IF(ISERROR(H48:H51),0,H48:H51))","v":4},{"$f":"MAX(IF(ISERROR(I48:I51),0,I48:I51))","v":5},{"$f":"MAX(IF(ISERROR(J48:J51),0,J48:J51))","v":5},{"$f":"MAX(IF(ISERROR(K48:K51),0,K48:K51))","v":5}]
[null,null,null,{"$f":"'[2]Consequence Criteria'!$A$9","v":0},1,1,2,4,5,5,5,null,null,{"$f":"IFERROR(INDEX($AA$12:$AG$12,MATCH(TRUE, AA48:AG48 >= 3, 0)),200)","v":5},null,{"$f":"IFERROR(INDEX($AA$12:$AG$12,MATCH(TRUE, AA48:AG48 >= 4, 0)),200)","v":5},null,null,null,null,null,null,null,null,null,null,{"$f":"MAX(IF(ISERROR(E49:E52),0,E49:E52))","v":1},{"$f":"MAX(IF(ISERROR(F49:F52),0,F49:F52))","v":1},{"$f":"MAX(IF(ISERROR(G49:G52),0,G49:G52))","v":2},{"$f":"MAX(IF(ISERROR(H49:H52),0,H49:H52))","v":2},{"$f":"MAX(IF(ISERROR(I49:I52),0,I49:I52))","v":4},{"$f":"MAX(IF(ISERROR(J49:J52),0,J49:J52))","v":5},{"$f":"MAX(IF(ISERROR(K49:K52),0,K49:K52))","v":5}]
[null,null,null,{"$f":"'[2]Consequence Criteria'!$A$10","v":0},1,1,2,2,4,5,5,null,null,{"$f":"IFERROR(INDEX($AA$12:$AG$12,MATCH(TRUE, AA49:AG49 >= 3, 0)),200)","v":200},null,{"$f":"IFERROR(INDEX($AA$12:$AG$12,MATCH(TRUE, AA49:AG49 >= 4, 0)),200)","v":200},null,null,null,null,null,null,null,null,null,null,{"$f":"MAX(IF(ISERROR(E50:E53),0,E50:E53))","v":0},{"$f":"MAX(IF(ISERROR(F50:F53),0,F50:F53))","v":0},{"$f":"MAX(IF(ISERROR(G50:G53),0,G50:G53))","v":0},{"$f":"MAX(IF(ISERROR(H50:H53),0,H50:H53))","v":0},{"$f":"MAX(IF(ISERROR(I50:I53),0,I50:I53))","v":0},{"$f":"MAX(IF(ISERROR(J50:J53),0,J50:J53))","v":0},{"$f":"MAX(IF(ISERROR(K50:K53),0,K50:K53))","v":0}]
[null,{"$f":"IF(ISTEXT('1-Services & Function'!D34),'1-Services & Function'!D34,\"\")","v":""},5,null,"1 hr","4 hr","1 day","2 days","5 days","1 month","> 6 months","Comments",null,{"$f":"IFERROR(INDEX($AA$12:$AG$12,MATCH(TRUE, AA50:AG50 >= 3, 0)),200)","v":200},null,{"$f":"IFERROR(INDEX($AA$12:$AG$12,MATCH(TRUE, AA50:AG50 >= 4, 0)),200)","v":200},null,null,null,null,null,null,null,null,null,null,{"$f":"MAX(IF(ISERROR(E51:E54),0,E51:E54))","v":0},{"$f":"MAX(IF(ISERROR(F51:F54),0,F51:F54))","v":0},{"$f":"MAX(IF(ISERROR(G51:G54),0,G51:G54))","v":0},{"$f":"MAX(IF(ISERROR(H51:H54),0,H51:H54))","v":0},{"$f":"MAX(IF(ISERROR(I51:I54),0,I51:I54))","v":0},{"$f":"MAX(IF(ISERROR(J51:J54),0,J51:J54))","v":0},{"$f":"MAX(IF(ISERROR(K51:K54),0,K51:K54))","v":0}]
[null,null,null,{"$f":"'[2]Consequence Criteria'!$A$3","v":"Economic"},{"$f":"VALUE((IF('2-Impact Assessment '!E51=\"vl\",\"1\",(IF('2-Impact Assessment '!E51=\"l\",\"2\",(IF('2-Impact Assessment '!E51=\"m\",\"3\",(IF('2-Impact Assessment '!E51=\"h\",\"4\",(IF('2-Impact Assessment '!E51=\"vh\",\"5\", NA())))))))))))","v":{"$error":"#N/A"}},{"$f":"VALUE((IF('2-Impact Assessment '!F51=\"vl\",\"1\",(IF('2-Impact Assessment '!F51=\"l\",\"2\",(IF('2-Impact Assessment '!F51=\"m\",\"3\",(IF('2-Impact Assessment '!F51=\"h\",\"4\",(IF('2-Impact Assessment '!F51=\"vh\",\"5\", NA())))))))))))","v":{"$error":"#N/A"}},{"$f":"VALUE((IF('2-Impact Assessment '!G51=\"vl\",\"1\",(IF('2-Impact Assessment '!G51=\"l\",\"2\",(IF('2-Impact Assessment '!G51=\"m\",\"3\",(IF('2-Impact Assessment '!G51=\"h\",\"4\",(IF('2-Impact Assessment '!G51=\"vh\",\"5\", NA())))))))))))","v":{"$error":"#N/A"}},{"$f":"VALUE((IF('2-Impact Assessment '!H51=\"vl\",\"1\",(IF('2-Impact Assessment '!H51=\"l\",\"2\",(IF('2-Impact Assessment '!H51=\"m\",\"3\",(IF('2-Impact Assessment '!H51=\"h\",\"4\",(IF('2-Impact Assessment '!H51=\"vh\",\"5\", NA())))))))))))","v":{"$error":"#N/A"}},{"$f":"VALUE((IF('2-Impact Assessment '!I51=\"vl\",\"1\",(IF('2-Impact Assessment '!I51=\"l\",\"2\",(IF('2-Impact Assessment '!I51=\"m\",\"3\",(IF('2-Impact Assessment '!I51=\"h\",\"4\",(IF('2-Impact Assessment '!I51=\"vh\",\"5\", NA())))))))))))","v":{"$error":"#N/A"}},{"$f":"VALUE((IF('2-Impact Assessment '!J51=\"vl\",\"1\",(IF('2-Impact Assessment '!J51=\"l\",\"2\",(IF('2-Impact Assessment '!J51=\"m\",\"3\",(IF('2-Impact Assessment '!J51=\"h\",\"4\",(IF('2-Impact Assessment '!J51=\"vh\",\"5\", NA())))))))))))","v":{"$error":"#N/A"}},{"$f":"VALUE((IF('2-Impact Assessment '!K51=\"vl\",\"1\",(IF('2-Impact Assessment '!K51=\"l\",\"2\",(IF('2-Impact Assessment '!K51=\"m\",\"3\",(IF('2-Impact Assessment '!K51=\"h\",\"4\",(IF('2-Impact Assessment '!K51=\"vh\",\"5\", NA())))))))))))","v":{"$error":"#N/A"}},null,null,{"$f":"IFERROR(INDEX($AA$12:$AG$12,MATCH(TRUE, AA51:AG51 >= 3, 0)),200)","v":200},null,{"$f":"IFERROR(INDEX($AA$12:$AG$12,MATCH(TRUE, AA51:AG51 >= 4, 0)),200)","v":200},null,null,null,null,null,null,null,null,null,null,{"$f":"MAX(IF(ISERROR(E52:E55),0,E52:E55))","v":1},{"$f":"MAX(IF(ISERROR(F52:F55),0,F52:F55))","v":1},{"$f":"MAX(IF(ISERROR(G52:G55),0,G52:G55))","v":1},{"$f":"MAX(IF(ISERROR(H52:H55),0,H52:H55))","v":1},{"$f":"MAX(IF(ISERROR(I52:I55),0,I52:I55))","v":1},{"$f":"MAX(IF(ISERROR(J52:J55),0,J52:J55))","v":2},{"$f":"MAX(IF(ISERROR(K52:K55),0,K52:K55))","v":2}]
[null,null,null,{"$f":"'[2]Consequence Criteria'!$A$4","v":"Social"},{"$f":"VALUE((IF('2-Impact Assessment '!E52=\"vl\",\"1\",(IF('2-Impact Assessment '!E52=\"l\",\"2\",(IF('2-Impact Assessment '!E52=\"m\",\"3\",(IF('2-Impact Assessment '!E52=\"h\",\"4\",(IF('2-Impact Assessment '!E52=\"vh\",\"5\", NA())))))))))))","v":{"$error":"#N/A"}},{"$f":"VALUE((IF('2-Impact Assessment '!F52=\"vl\",\"1\",(IF('2-Impact Assessment '!F52=\"l\",\"2\",(IF('2-Impact Assessment '!F52=\"m\",\"3\",(IF('2-Impact Assessment '!F52=\"h\",\"4\",(IF('2-Impact Assessment '!F52=\"vh\",\"5\", NA())))))))))))","v":{"$error":"#N/A"}},{"$f":"VALUE((IF('2-Impact Assessment '!G52=\"vl\",\"1\",(IF('2-Impact Assessment '!G52=\"l\",\"2\",(IF('2-Impact Assessment '!G52=\"m\",\"3\",(IF('2-Impact Assessment '!G52=\"h\",\"4\",(IF('2-Impact Assessment '!G52=\"vh\",\"5\", NA())))))))))))","v":{"$error":"#N/A"}},{"$f":"VALUE((IF('2-Impact Assessment '!H52=\"vl\",\"1\",(IF('2-Impact Assessment '!H52=\"l\",\"2\",(IF('2-Impact Assessment '!H52=\"m\",\"3\",(IF('2-Impact Assessment '!H52=\"h\",\"4\",(IF('2-Impact Assessment '!H52=\"vh\",\"5\", NA())))))))))))","v":{"$error":"#N/A"}},{"$f":"VALUE((IF('2-Impact Assessment '!I52=\"vl\",\"1\",(IF('2-Impact Assessment '!I52=\"l\",\"2\",(IF('2-Impact Assessment '!I52=\"m\",\"3\",(IF('2-Impact Assessment '!I52=\"h\",\"4\",(IF('2-Impact Assessment '!I52=\"vh\",\"5\", NA())))))))))))","v":{"$error":"#N/A"}},{"$f":"VALUE((IF('2-Impact Assessment '!J52=\"vl\",\"1\",(IF('2-Impact Assessment '!J52=\"l\",\"2\",(IF('2-Impact Assessment '!J52=\"m\",\"3\",(IF('2-Impact Assessment '!J52=\"h\",\"4\",(IF('2-Impact Assessment '!J52=\"vh\",\"5\", NA())))))))))))","v":{"$error":"#N/A"}},{"$f":"VALUE((IF('2-Impact Assessment '!K52=\"vl\",\"1\",(IF('2-Impact Assessment '!K52=\"l\",\"2\",(IF('2-Impact Assessment '!K52=\"m\",\"3\",(IF('2-Impact Assessment '!K52=\"h\",\"4\",(IF('2-Impact Assessment '!K52=\"vh\",\"5\", NA())))))))))))","v":{"$error":"#N/A"}},null,null,{"$f":"IFERROR(INDEX($AA$12:$AG$12,MATCH(TRUE, AA52:AG52 >= 3, 0)),200)","v":200},null,{"$f":"IFERROR(INDEX($AA$12:$AG$12,MATCH(TRUE, AA52:AG52 >= 4, 0)),200)","v":200},null,null,null,null,null,null,null,null,null,null,{"$f":"MAX(IF(ISERROR(E53:E56),0,E53:E56))","v":1},{"$f":"MAX(IF(ISERROR(F53:F56),0,F53:F56))","v":1},{"$f":"MAX(IF(ISERROR(G53:G56),0,G53:G56))","v":1},{"$f":"MAX(IF(ISERROR(H53:H56),0,H53:H56))","v":1},{"$f":"MAX(IF(ISERROR(I53:I56),0,I53:I56))","v":1},{"$f":"MAX(IF(ISERROR(J53:J56),0,J53:J56))","v":2},{"$f":"MAX(IF(ISERROR(K53:K56),0,K53:K56))","v":2}]
[null,null,null,{"$f":"'[2]Consequence Criteria'!$A$5","v":"Cultural"},{"$f":"VALUE((IF('2-Impact Assessment '!E53=\"vl\",\"1\",(IF('2-Impact Assessment '!E53=\"l\",\"2\",(IF('2-Impact Assessment '!E53=\"m\",\"3\",(IF('2-Impact Assessment '!E53=\"h\",\"4\",(IF('2-Impact Assessment '!E53=\"vh\",\"5\", NA())))))))))))","v":{"$error":"#N/A"}},{"$f":"VALUE((IF('2-Impact Assessment '!F53=\"vl\",\"1\",(IF('2-Impact Assessment '!F53=\"l\",\"2\",(IF('2-Impact Assessment '!F53=\"m\",\"3\",(IF('2-Impact Assessment '!F53=\"h\",\"4\",(IF('2-Impact Assessment '!F53=\"vh\",\"5\", NA())))))))))))","v":{"$error":"#N/A"}},{"$f":"VALUE((IF('2-Impact Assessment '!G53=\"vl\",\"1\",(IF('2-Impact Assessment '!G53=\"l\",\"2\",(IF('2-Impact Assessment '!G53=\"m\",\"3\",(IF('2-Impact Assessment '!G53=\"h\",\"4\",(IF('2-Impact Assessment '!G53=\"vh\",\"5\", NA())))))))))))","v":{"$error":"#N/A"}},{"$f":"VALUE((IF('2-Impact Assessment '!H53=\"vl\",\"1\",(IF('2-Impact Assessment '!H53=\"l\",\"2\",(IF('2-Impact Assessment '!H53=\"m\",\"3\",(IF('2-Impact Assessment '!H53=\"h\",\"4\",(IF('2-Impact Assessment '!H53=\"vh\",\"5\", NA())))))))))))","v":{"$error":"#N/A"}},{"$f":"VALUE((IF('2-Impact Assessment '!I53=\"vl\",\"1\",(IF('2-Impact Assessment '!I53=\"l\",\"2\",(IF('2-Impact Assessment '!I53=\"m\",\"3\",(IF('2-Impact Assessment '!I53=\"h\",\"4\",(IF('2-Impact Assessment '!I53=\"vh\",\"5\", NA())))))))))))","v":{"$error":"#N/A"}},{"$f":"VALUE((IF('2-Impact Assessment '!J53=\"vl\",\"1\",(IF('2-Impact Assessment '!J53=\"l\",\"2\",(IF('2-Impact Assessment '!J53=\"m\",\"3\",(IF('2-Impact Assessment '!J53=\"h\",\"4\",(IF('2-Impact Assessment '!J53=\"vh\",\"5\", NA())))))))))))","v":{"$error":"#N/A"}},{"$f":"VALUE((IF('2-Impact Assessment '!K53=\"vl\",\"1\",(IF('2-Impact Assessment '!K53=\"l\",\"2\",(IF('2-Impact Assessment '!K53=\"m\",\"3\",(IF('2-Impact Assessment '!K53=\"h\",\"4\",(IF('2-Impact Assessment '!K53=\"vh\",\"5\", NA())))))))))))","v":{"$error":"#N/A"}},null,null,{"$f":"IFERROR(INDEX($AA$12:$AG$12,MATCH(TRUE, AA53:AG53 >= 3, 0)),200)","v":30},null,{"$f":"IFERROR(INDEX($AA$12:$AG$12,MATCH(TRUE, AA53:AG53 >= 4, 0)),200)","v":200},null,null,null,null,null,null,null,null,null,null,{"$f":"MAX(IF(ISERROR(E54:E57),0,E54:E57))","v":1},{"$f":"MAX(IF(ISERROR(F54:F57),0,F54:F57))","v":1},{"$f":"MAX(IF(ISERROR(G54:G57),0,G54:G57))","v":1},{"$f":"MAX(IF(ISERROR(H54:H57),0,H54:H57))","v":1},{"$f":"MAX(IF(ISERROR(I54:I57),0,I54:I57))","v":1},{"$f":"MAX(IF(ISERROR(J54:J57),0,J54:J57))","v":3},{"$f":"MAX(IF(ISERROR(K54:K57),0,K54:K57))","v":3}]
[null,null,null,{"$f":"'[2]Consequence Criteria'!$A$6","v":"Environmental"},{"$f":"VALUE((IF('2-Impact Assessment '!E54=\"vl\",\"1\",(IF('2-Impact Assessment '!E54=\"l\",\"2\",(IF('2-Impact Assessment '!E54=\"m\",\"3\",(IF('2-Impact Assessment '!E54=\"h\",\"4\",(IF('2-Impact Assessment '!E54=\"vh\",\"5\", NA())))))))))))","v":{"$error":"#N/A"}},{"$f":"VALUE((IF('2-Impact Assessment '!F54=\"vl\",\"1\",(IF('2-Impact Assessment '!F54=\"l\",\"2\",(IF('2-Impact Assessment '!F54=\"m\",\"3\",(IF('2-Impact Assessment '!F54=\"h\",\"4\",(IF('2-Impact Assessment '!F54=\"vh\",\"5\", NA())))))))))))","v":{"$error":"#N/A"}},{"$f":"VALUE((IF('2-Impact Assessment '!G54=\"vl\",\"1\",(IF('2-Impact Assessment '!G54=\"l\",\"2\",(IF('2-Impact Assessment '!G54=\"m\",\"3\",(IF('2-Impact Assessment '!G54=\"h\",\"4\",(IF('2-Impact Assessment '!G54=\"vh\",\"5\", NA())))))))))))","v":{"$error":"#N/A"}},{"$f":"VALUE((IF('2-Impact Assessment '!H54=\"vl\",\"1\",(IF('2-Impact Assessment '!H54=\"l\",\"2\",(IF('2-Impact Assessment '!H54=\"m\",\"3\",(IF('2-Impact Assessment '!H54=\"h\",\"4\",(IF('2-Impact Assessment '!H54=\"vh\",\"5\", NA())))))))))))","v":{"$error":"#N/A"}},{"$f":"VALUE((IF('2-Impact Assessment '!I54=\"vl\",\"1\",(IF('2-Impact Assessment '!I54=\"l\",\"2\",(IF('2-Impact Assessment '!I54=\"m\",\"3\",(IF('2-Impact Assessment '!I54=\"h\",\"4\",(IF('2-Impact Assessment '!I54=\"vh\",\"5\", NA())))))))))))","v":{"$error":"#N/A"}},{"$f":"VALUE((IF('2-Impact Assessment '!J54=\"vl\",\"1\",(IF('2-Impact Assessment '!J54=\"l\",\"2\",(IF('2-Impact Assessment '!J54=\"m\",\"3\",(IF('2-Impact Assessment '!J54=\"h\",\"4\",(IF('2-Impact Assessment '!J54=\"vh\",\"5\", NA())))))))))))","v":{"$error":"#N/A"}},{"$f":"VALUE((IF('2-Impact Assessment '!K54=\"vl\",\"1\",(IF('2-Impact Assessment '!K54=\"l\",\"2\",(IF('2-Impact Assessment '!K54=\"m\",\"3\",(IF('2-Impact Assessment '!K54=\"h\",\"4\",(IF('2-Impact Assessment '!K54=\"vh\",\"5\", NA())))))))))))","v":{"$error":"#N/A"}},null,null,{"$f":"IFERROR(INDEX($AA$12:$AG$12,MATCH(TRUE, AA54:AG54 >= 3, 0)),200)","v":30},"BAU",{"$f":"IFERROR(INDEX($AA$12:$AG$12,MATCH(TRUE, AA54:AG54 >= 4, 0)),200)","v":30},null,null,null,null,null,null,null,null,null,null,{"$f":"MAX(IF(ISERROR(E55:E58),0,E55:E58))","v":1},{"$f":"MAX(IF(ISERROR(F55:F58),0,F55:F58))","v":1},{"$f":"MAX(IF(ISERROR(G55:G58),0,G55:G58))","v":1},{"$f":"MAX(IF(ISERROR(H55:H58),0,H55:H58))","v":1},{"$f":"MAX(IF(ISERROR(I55:I58),0,I55:I58))","v":1},{"$f":"MAX(IF(ISERROR(J55:J58),0,J55:J58))","v":4},{"$f":"MAX(IF(ISERROR(K55:K58),0,K55:K58))","v":5}]
[null,null,null,{"$f":"'[2]Consequence Criteria'!$A$7","v":0},1,1,1,1,1,2,2,null,null,{"$f":"IFERROR(INDEX($AA$12:$AG$12,MATCH(TRUE, AA55:AG55 >= 3, 0)),200)","v":30},null,{"$f":"IFERROR(INDEX($AA$12:$AG$12,MATCH(TRUE, AA55:AG55 >= 4, 0)),200)","v":30},null,null,null,null,null,null,null,null,null,null,{"$f":"MAX(IF(ISERROR(E56:E59),0,E56:E59))","v":1},{"$f":"MAX(IF(ISERROR(F56:F59),0,F56:F59))","v":1},{"$f":"MAX(IF(ISERROR(G56:G59),0,G56:G59))","v":1},{"$f":"MAX(IF(ISERROR(H56:H59),0,H56:H59))","v":1},{"$f":"MAX(IF(ISERROR(I56:I59),0,I56:I59))","v":1},{"$f":"MAX(IF(ISERROR(J56:J59),0,J56:J59))","v":4},{"$f":"MAX(IF(ISERROR(K56:K59),0,K56:K59))","v":5}]
[null,null,null,{"$f":"'[2]Consequence Criteria'!$A$8","v":0},1,1,1,1,1,1,1,null,null,{"$f":"IFERROR(INDEX($AA$12:$AG$12,MATCH(TRUE, AA56:AG56 >= 3, 0)),200)","v":30},null,{"$f":"IFERROR(INDEX($AA$12:$AG$12,MATCH(TRUE, AA56:AG56 >= 4, 0)),200)","v":30},null,null,null,null,null,null,null,null,null,null,{"$f":"MAX(IF(ISERROR(E57:E60),0,E57:E60))","v":1},{"$f":"MAX(IF(ISERROR(F57:F60),0,F57:F60))","v":1},{"$f":"MAX(IF(ISERROR(G57:G60),0,G57:G60))","v":1},{"$f":"MAX(IF(ISERROR(H57:H60),0,H57:H60))","v":1},{"$f":"MAX(IF(ISERROR(I57:I60),0,I57:I60))","v":1},{"$f":"MAX(IF(ISERROR(J57:J60),0,J57:J60))","v":4},{"$f":"MAX(IF(ISERROR(K57:K60),0,K57:K60))","v":5}]
[null,null,null,{"$f":"'[2]Consequence Criteria'!$A$9","v":0},1,1,1,1,1,3,3,null,null,{"$f":"IFERROR(INDEX($AA$12:$AG$12,MATCH(TRUE, AA57:AG57 >= 3, 0)),200)","v":30},null,{"$f":"IFERROR(INDEX($AA$12:$AG$12,MATCH(TRUE, AA57:AG57 >= 4, 0)),200)","v":30},null,null,null,null,null,null,null,null,null,null,{"$f":"MAX(IF(ISERROR(E58:E61),0,E58:E61))","v":1},{"$f":"MAX(IF(ISERROR(F58:F61),0,F58:F61))","v":1},{"$f":"MAX(IF(ISERROR(G58:G61),0,G58:G61))","v":1},{"$f":"MAX(IF(ISERROR(H58:H61),0,H58:H61))","v":1},{"$f":"MAX(IF(ISERROR(I58:I61),0,I58:I61))","v":1},{"$f":"MAX(IF(ISERROR(J58:J61),0,J58:J61))","v":4},{"$f":"MAX(IF(ISERROR(K58:K61),0,K58:K61))","v":5}]
[null,null,null,{"$f":"'[2]Consequence Criteria'!$A$10","v":0},1,1,1,1,1,4,5,null,null,{"$f":"IFERROR(INDEX($AA$12:$AG$12,MATCH(TRUE, AA58:AG58 >= 3, 0)),200)","v":200},null,{"$f":"IFERROR(INDEX($AA$12:$AG$12,MATCH(TRUE, AA58:AG58 >= 4, 0)),200)","v":200},null,null,null,null,null,null,null,null,null,null,{"$f":"MAX(IF(ISERROR(E59:E62),0,E59:E62))","v":0},{"$f":"MAX(IF(ISERROR(F59:F62),0,F59:F62))","v":0},{"$f":"MAX(IF(ISERROR(G59:G62),0,G59:G62))","v":0},{"$f":"MAX(IF(ISERROR(H59:H62),0,H59:H62))","v":0},{"$f":"MAX(IF(ISERROR(I59:I62),0,I59:I62))","v":0},{"$f":"MAX(IF(ISERROR(J59:J62),0,J59:J62))","v":0},{"$f":"MAX(IF(ISERROR(K59:K62),0,K59:K62))","v":0}]
[null,{"$f":"IF(ISTEXT('1-Services & Function'!D35),'1-Services & Function'!D35,\"\")","v":""},6,null,"1 hr","4 hr","1 day","2 days","5 days","1 month","> 6 months","Comments",null,{"$f":"IFERROR(INDEX($AA$12:$AG$12,MATCH(TRUE, AA59:AG59 >= 3, 0)),200)","v":200},null,{"$f":"IFERROR(INDEX($AA$12:$AG$12,MATCH(TRUE, AA59:AG59 >= 4, 0)),200)","v":200},null,null,null,null,null,null,null,null,null,null,{"$f":"MAX(IF(ISERROR(E60:E63),0,E60:E63))","v":0},{"$f":"MAX(IF(ISERROR(F60:F63),0,F60:F63))","v":0},{"$f":"MAX(IF(ISERROR(G60:G63),0,G60:G63))","v":0},{"$f":"MAX(IF(ISERROR(H60:H63),0,H60:H63))","v":0},{"$f":"MAX(IF(ISERROR(I60:I63),0,I60:I63))","v":0},{"$f":"MAX(IF(ISERROR(J60:J63),0,J60:J63))","v":0},{"$f":"MAX(IF(ISERROR(K60:K63),0,K60:K63))","v":0}]
[null,null,null,{"$f":"'[2]Consequence Criteria'!$A$3","v":"Economic"},{"$f":"VALUE((IF('2-Impact Assessment '!E60=\"vl\",\"1\",(IF('2-Impact Assessment '!E60=\"l\",\"2\",(IF('2-Impact Assessment '!E60=\"m\",\"3\",(IF('2-Impact Assessment '!E60=\"h\",\"4\",(IF('2-Impact Assessment '!E60=\"vh\",\"5\", NA())))))))))))","v":{"$error":"#N/A"}},{"$f":"VALUE((IF('2-Impact Assessment '!F60=\"vl\",\"1\",(IF('2-Impact Assessment '!F60=\"l\",\"2\",(IF('2-Impact Assessment '!F60=\"m\",\"3\",(IF('2-Impact Assessment '!F60=\"h\",\"4\",(IF('2-Impact Assessment '!F60=\"vh\",\"5\", NA())))))))))))","v":{"$error":"#N/A"}},{"$f":"VALUE((IF('2-Impact Assessment '!G60=\"vl\",\"1\",(IF('2-Impact Assessment '!G60=\"l\",\"2\",(IF('2-Impact Assessment '!G60=\"m\",\"3\",(IF('2-Impact Assessment '!G60=\"h\",\"4\",(IF('2-Impact Assessment '!G60=\"vh\",\"5\", NA())))))))))))","v":{"$error":"#N/A"}},{"$f":"VALUE((IF('2-Impact Assessment '!H60=\"vl\",\"1\",(IF('2-Impact Assessment '!H60=\"l\",\"2\",(IF('2-Impact Assessment '!H60=\"m\",\"3\",(IF('2-Impact Assessment '!H60=\"h\",\"4\",(IF('2-Impact Assessment '!H60=\"vh\",\"5\", NA())))))))))))","v":{"$error":"#N/A"}},{"$f":"VALUE((IF('2-Impact Assessment '!I60=\"vl\",\"1\",(IF('2-Impact Assessment '!I60=\"l\",\"2\",(IF('2-Impact Assessment '!I60=\"m\",\"3\",(IF('2-Impact Assessment '!I60=\"h\",\"4\",(IF('2-Impact Assessment '!I60=\"vh\",\"5\", NA())))))))))))","v":{"$error":"#N/A"}},{"$f":"VALUE((IF('2-Impact Assessment '!J60=\"vl\",\"1\",(IF('2-Impact Assessment '!J60=\"l\",\"2\",(IF('2-Impact Assessment '!J60=\"m\",\"3\",(IF('2-Impact Assessment '!J60=\"h\",\"4\",(IF('2-Impact Assessment '!J60=\"vh\",\"5\", NA())))))))))))","v":{"$error":"#N/A"}},{"$f":"VALUE((IF('2-Impact Assessment '!K60=\"vl\",\"1\",(IF('2-Impact Assessment '!K60=\"l\",\"2\",(IF('2-Impact Assessment '!K60=\"m\",\"3\",(IF('2-Impact Assessment '!K60=\"h\",\"4\",(IF('2-Impact Assessment '!K60=\"vh\",\"5\", NA())))))))))))","v":{"$error":"#N/A"}},null,null,{"$f":"IFERROR(INDEX($AA$12:$AG$12,MATCH(TRUE, AA60:AG60 >= 3, 0)),200)","v":200},null,{"$f":"IFERROR(INDEX($AA$12:$AG$12,MATCH(TRUE, AA60:AG60 >= 4, 0)),200)","v":200},null,null,null,null,null,null,null,null,null,null,{"$f":"MAX(IF(ISERROR(E61:E64),0,E61:E64))","v":0},{"$f":"MAX(IF(ISERROR(F61:F64),0,F61:F64))","v":0},{"$f":"MAX(IF(ISERROR(G61:G64),0,G61:G64))","v":0},{"$f":"MAX(IF(ISERROR(H61:H64),0,H61:H64))","v":0},{"$f":"MAX(IF(ISERROR(I61:I64),0,I61:I64))","v":0},{"$f":"MAX(IF(ISERROR(J61:J64),0,J61:J64))","v":0},{"$f":"MAX(IF(ISERROR(K61:K64),0,K61:K64))","v":0}]
[null,null,null,{"$f":"'[2]Consequence Criteria'!$A$4","v":"Social"},{"$f":"VALUE((IF('2-Impact Assessment '!E61=\"vl\",\"1\",(IF('2-Impact Assessment '!E61=\"l\",\"2\",(IF('2-Impact Assessment '!E61=\"m\",\"3\",(IF('2-Impact Assessment '!E61=\"h\",\"4\",(IF('2-Impact Assessment '!E61=\"vh\",\"5\", NA())))))))))))","v":{"$error":"#N/A"}},{"$f":"VALUE((IF('2-Impact Assessment '!F61=\"vl\",\"1\",(IF('2-Impact Assessment '!F61=\"l\",\"2\",(IF('2-Impact Assessment '!F61=\"m\",\"3\",(IF('2-Impact Assessment '!F61=\"h\",\"4\",(IF('2-Impact Assessment '!F61=\"vh\",\"5\", NA())))))))))))","v":{"$error":"#N/A"}},{"$f":"VALUE((IF('2-Impact Assessment '!G61=\"vl\",\"1\",(IF('2-Impact Assessment '!G61=\"l\",\"2\",(IF('2-Impact Assessment '!G61=\"m\",\"3\",(IF('2-Impact Assessment '!G61=\"h\",\"4\",(IF('2-Impact Assessment '!G61=\"vh\",\"5\", NA())))))))))))","v":{"$error":"#N/A"}},{"$f":"VALUE((IF('2-Impact Assessment '!H61=\"vl\",\"1\",(IF('2-Impact Assessment '!H61=\"l\",\"2\",(IF('2-Impact Assessment '!H61=\"m\",\"3\",(IF('2-Impact Assessment '!H61=\"h\",\"4\",(IF('2-Impact Assessment '!H61=\"vh\",\"5\", NA())))))))))))","v":{"$error":"#N/A"}},{"$f":"VALUE((IF('2-Impact Assessment '!I61=\"vl\",\"1\",(IF('2-Impact Assessment '!I61=\"l\",\"2\",(IF('2-Impact Assessment '!I61=\"m\",\"3\",(IF('2-Impact Assessment '!I61=\"h\",\"4\",(IF('2-Impact Assessment '!I61=\"vh\",\"5\", NA())))))))))))","v":{"$error":"#N/A"}},{"$f":"VALUE((IF('2-Impact Assessment '!J61=\"vl\",\"1\",(IF('2-Impact Assessment '!J61=\"l\",\"2\",(IF('2-Impact Assessment '!J61=\"m\",\"3\",(IF('2-Impact Assessment '!J61=\"h\",\"4\",(IF('2-Impact Assessment '!J61=\"vh\",\"5\", NA())))))))))))","v":{"$error":"#N/A"}},{"$f":"VALUE((IF('2-Impact Assessment '!K61=\"vl\",\"1\",(IF('2-Impact Assessment '!K61=\"l\",\"2\",(IF('2-Impact Assessment '!K61=\"m\",\"3\",(IF('2-Impact Assessment '!K61=\"h\",\"4\",(IF('2-Impact Assessment '!K61=\"vh\",\"5\", NA())))))))))))","v":{"$error":"#N/A"}},null,null,{"$f":"IFERROR(INDEX($AA$12:$AG$12,MATCH(TRUE, AA61:AG61 >= 3, 0)),200)","v":200},null,{"$f":"IFERROR(INDEX($AA$12:$AG$12,MATCH(TRUE, AA61:AG61 >= 4, 0)),200)","v":200},null,null,null,null,null,null,null,null,null,null,{"$f":"MAX(IF(ISERROR(E62:E65),0,E62:E65))","v":0},{"$f":"MAX(IF(ISERROR(F62:F65),0,F62:F65))","v":0},{"$f":"MAX(IF(ISERROR(G62:G65),0,G62:G65))","v":0},{"$f":"MAX(IF(ISERROR(H62:H65),0,H62:H65))","v":0},{"$f":"MAX(IF(ISERROR(I62:I65),0,I62:I65))","v":0},{"$f":"MAX(IF(ISERROR(J62:J65),0,J62:J65))","v":0},{"$f":"MAX(IF(ISERROR(K62:K65),0,K62:K65))","v":0}]
[null,null,null,{"$f":"'[2]Consequence Criteria'!$A$5","v":"Cultural"},{"$f":"VALUE((IF('2-Impact Assessment '!E62=\"vl\",\"1\",(IF('2-Impact Assessment '!E62=\"l\",\"2\",(IF('2-Impact Assessment '!E62=\"m\",\"3\",(IF('2-Impact Assessment '!E62=\"h\",\"4\",(IF('2-Impact Assessment '!E62=\"vh\",\"5\", NA())))))))))))","v":{"$error":"#N/A"}},{"$f":"VALUE((IF('2-Impact Assessment '!F62=\"vl\",\"1\",(IF('2-Impact Assessment '!F62=\"l\",\"2\",(IF('2-Impact Assessment '!F62=\"m\",\"3\",(IF('2-Impact Assessment '!F62=\"h\",\"4\",(IF('2-Impact Assessment '!F62=\"vh\",\"5\", NA())))))))))))","v":{"$error":"#N/A"}},{"$f":"VALUE((IF('2-Impact Assessment '!G62=\"vl\",\"1\",(IF('2-Impact Assessment '!G62=\"l\",\"2\",(IF('2-Impact Assessment '!G62=\"m\",\"3\",(IF('2-Impact Assessment '!G62=\"h\",\"4\",(IF('2-Impact Assessment '!G62=\"vh\",\"5\", NA())))))))))))","v":{"$error":"#N/A"}},{"$f":"VALUE((IF('2-Impact Assessment '!H62=\"vl\",\"1\",(IF('2-Impact Assessment '!H62=\"l\",\"2\",(IF('2-Impact Assessment '!H62=\"m\",\"3\",(IF('2-Impact Assessment '!H62=\"h\",\"4\",(IF('2-Impact Assessment '!H62=\"vh\",\"5\", NA())))))))))))","v":{"$error":"#N/A"}},{"$f":"VALUE((IF('2-Impact Assessment '!I62=\"vl\",\"1\",(IF('2-Impact Assessment '!I62=\"l\",\"2\",(IF('2-Impact Assessment '!I62=\"m\",\"3\",(IF('2-Impact Assessment '!I62=\"h\",\"4\",(IF('2-Impact Assessment '!I62=\"vh\",\"5\", NA())))))))))))","v":{"$error":"#N/A"}},{"$f":"VALUE((IF('2-Impact Assessment '!J62=\"vl\",\"1\",(IF('2-Impact Assessment '!J62=\"l\",\"2\",(IF('2-Impact Assessment '!J62=\"m\",\"3\",(IF('2-Impact Assessment '!J62=\"h\",\"4\",(IF('2-Impact Assessment '!J62=\"vh\",\"5\", NA())))))))))))","v":{"$error":"#N/A"}},{"$f":"VALUE((IF('2-Impact Assessment '!K62=\"vl\",\"1\",(IF('2-Impact Assessment '!K62=\"l\",\"2\",(IF('2-Impact Assessment '!K62=\"m\",\"3\",(IF('2-Impact Assessment '!K62=\"h\",\"4\",(IF('2-Impact Assessment '!K62=\"vh\",\"5\", NA())))))))))))","v":{"$error":"#N/A"}},null,null,{"$f":"IFERROR(INDEX($AA$12:$AG$12,MATCH(TRUE, AA62:AG62 >= 3, 0)),200)","v":200},null,{"$f":"IFERROR(INDEX($AA$12:$AG$12,MATCH(TRUE, AA62:AG62 >= 4, 0)),200)","v":200},null,null,null,null,null,null,null,null,null,null,{"$f":"MAX(IF(ISERROR(E63:E66),0,E63:E66))","v":0},{"$f":"MAX(IF(ISERROR(F63:F66),0,F63:F66))","v":0},{"$f":"MAX(IF(ISERROR(G63:G66),0,G63:G66))","v":0},{"$f":"MAX(IF(ISERROR(H63:H66),0,H63:H66))","v":0},{"$f":"MAX(IF(ISERROR(I63:I66),0,I63:I66))","v":0},{"$f":"MAX(IF(ISERROR(J63:J66),0,J63:J66))","v":0},{"$f":"MAX(IF(ISERROR(K63:K66),0,K63:K66))","v":0}]
[null,null,null,{"$f":"'[2]Consequence Criteria'!$A$6","v":"Environmental"},{"$f":"VALUE((IF('2-Impact Assessment '!E63=\"vl\",\"1\",(IF('2-Impact Assessment '!E63=\"l\",\"2\",(IF('2-Impact Assessment '!E63=\"m\",\"3\",(IF('2-Impact Assessment '!E63=\"h\",\"4\",(IF('2-Impact Assessment '!E63=\"vh\",\"5\", NA())))))))))))","v":{"$error":"#N/A"}},{"$f":"VALUE((IF('2-Impact Assessment '!F63=\"vl\",\"1\",(IF('2-Impact Assessment '!F63=\"l\",\"2\",(IF('2-Impact Assessment '!F63=\"m\",\"3\",(IF('2-Impact Assessment '!F63=\"h\",\"4\",(IF('2-Impact Assessment '!F63=\"vh\",\"5\", NA())))))))))))","v":{"$error":"#N/A"}},{"$f":"VALUE((IF('2-Impact Assessment '!G63=\"vl\",\"1\",(IF('2-Impact Assessment '!G63=\"l\",\"2\",(IF('2-Impact Assessment '!G63=\"m\",\"3\",(IF('2-Impact Assessment '!G63=\"h\",\"4\",(IF('2-Impact Assessment '!G63=\"vh\",\"5\", NA())))))))))))","v":{"$error":"#N/A"}},{"$f":"VALUE((IF('2-Impact Assessment '!H63=\"vl\",\"1\",(IF('2-Impact Assessment '!H63=\"l\",\"2\",(IF('2-Impact Assessment '!H63=\"m\",\"3\",(IF('2-Impact Assessment '!H63=\"h\",\"4\",(IF('2-Impact Assessment '!H63=\"vh\",\"5\", NA())))))))))))","v":{"$error":"#N/A"}},{"$f":"VALUE((IF('2-Impact Assessment '!I63=\"vl\",\"1\",(IF('2-Impact Assessment '!I63=\"l\",\"2\",(IF('2-Impact Assessment '!I63=\"m\",\"3\",(IF('2-Impact Assessment '!I63=\"h\",\"4\",(IF('2-Impact Assessment '!I63=\"vh\",\"5\", NA())))))))))))","v":{"$error":"#N/A"}},{"$f":"VALUE((IF('2-Impact Assessment '!J63=\"vl\",\"1\",(IF('2-Impact Assessment '!J63=\"l\",\"2\",(IF('2-Impact Assessment '!J63=\"m\",\"3\",(IF('2-Impact Assessment '!J63=\"h\",\"4\",(IF('2-Impact Assessment '!J63=\"vh\",\"5\", NA())))))))))))","v":{"$error":"#N/A"}},{"$f":"VALUE((IF('2-Impact Assessment '!K63=\"vl\",\"1\",(IF('2-Impact Assessment '!K63=\"l\",\"2\",(IF('2-Impact Assessment '!K63=\"m\",\"3\",(IF('2-Impact Assessment '!K63=\"h\",\"4\",(IF('2-Impact Assessment '!K63=\"vh\",\"5\", NA())))))))))))","v":{"$error":"#N/A"}},null,null,{"$f":"IFERROR(INDEX($AA$12:$AG$12,MATCH(TRUE, AA63:AG63 >= 3, 0)),200)","v":200},null,{"$f":"IFERROR(INDEX($AA$12:$AG$12,MATCH(TRUE, AA63:AG63 >= 4, 0)),200)","v":200},null,null,null,null,null,null,null,null,null,null,{"$f":"MAX(IF(ISERROR(E64:E67),0,E64:E67))","v":0},{"$f":"MAX(IF(ISERROR(F64:F67),0,F64:F67))","v":0},{"$f":"MAX(IF(ISERROR(G64:G67),0,G64:G67))","v":0},{"$f":"MAX(IF(ISERROR(H64:H67),0,H64:H67))","v":0},{"$f":"MAX(IF(ISERROR(I64:I67),0,I64:I67))","v":0},{"$f":"MAX(IF(ISERROR(J64:J67),0,J64:J67))","v":0},{"$f":"MAX(IF(ISERROR(K64:K67),0,K64:K67))","v":0}]
[null,null,null,{"$f":"'[2]Consequence Criteria'!$A$7","v":0},{"$f":"VALUE((IF('2-Impact Assessment '!E64=\"vl\",\"1\",(IF('2-Impact Assessment '!E64=\"l\",\"2\",(IF('2-Impact Assessment '!E64=\"m\",\"3\",(IF('2-Impact Assessment '!E64=\"h\",\"4\",(IF('2-Impact Assessment '!E64=\"vh\",\"5\", NA())))))))))))","v":{"$error":"#N/A"}},{"$f":"VALUE((IF('2-Impact Assessment '!F64=\"vl\",\"1\",(IF('2-Impact Assessment '!F64=\"l\",\"2\",(IF('2-Impact Assessment '!F64=\"m\",\"3\",(IF('2-Impact Assessment '!F64=\"h\",\"4\",(IF('2-Impact Assessment '!F64=\"vh\",\"5\", NA())))))))))))","v":{"$error":"#N/A"}},{"$f":"VALUE((IF('2-Impact Assessment '!G64=\"vl\",\"1\",(IF('2-Impact Assessment '!G64=\"l\",\"2\",(IF('2-Impact Assessment '!G64=\"m\",\"3\",(IF('2-Impact Assessment '!G64=\"h\",\"4\",(IF('2-Impact Assessment '!G64=\"vh\",\"5\", NA())))))))))))","v":{"$error":"#N/A"}},{"$f":"VALUE((IF('2-Impact Assessment '!H64=\"vl\",\"1\",(IF('2-Impact Assessment '!H64=\"l\",\"2\",(IF('2-Impact Assessment '!H64=\"m\",\"3\",(IF('2-Impact Assessment '!H64=\"h\",\"4\",(IF('2-Impact Assessment '!H64=\"vh\",\"5\", NA())))))))))))","v":{"$error":"#N/A"}},{"$f":"VALUE((IF('2-Impact Assessment '!I64=\"vl\",\"1\",(IF('2-Impact Assessment '!I64=\"l\",\"2\",(IF('2-Impact Assessment '!I64=\"m\",\"3\",(IF('2-Impact Assessment '!I64=\"h\",\"4\",(IF('2-Impact Assessment '!I64=\"vh\",\"5\", NA())))))))))))","v":{"$error":"#N/A"}},{"$f":"VALUE((IF('2-Impact Assessment '!J64=\"vl\",\"1\",(IF('2-Impact Assessment '!J64=\"l\",\"2\",(IF('2-Impact Assessment '!J64=\"m\",\"3\",(IF('2-Impact Assessment '!J64=\"h\",\"4\",(IF('2-Impact Assessment '!J64=\"vh\",\"5\", NA())))))))))))","v":{"$error":"#N/A"}},{"$f":"VALUE((IF('2-Impact Assessment '!K64=\"vl\",\"1\",(IF('2-Impact Assessment '!K64=\"l\",\"2\",(IF('2-Impact Assessment '!K64=\"m\",\"3\",(IF('2-Impact Assessment '!K64=\"h\",\"4\",(IF('2-Impact Assessment '!K64=\"vh\",\"5\", NA())))))))))))","v":{"$error":"#N/A"}},null,null,{"$f":"IFERROR(INDEX($AA$12:$AG$12,MATCH(TRUE, AA64:AG64 >= 3, 0)),200)","v":200},null,{"$f":"IFERROR(INDEX($AA$12:$AG$12,MATCH(TRUE, AA64:AG64 >= 4, 0)),200)","v":200},null,null,null,null,null,null,null,null,null,null,{"$f":"MAX(IF(ISERROR(E65:E68),0,E65:E68))","v":0},{"$f":"MAX(IF(ISERROR(F65:F68),0,F65:F68))","v":0},{"$f":"MAX(IF(ISERROR(G65:G68),0,G65:G68))","v":0},{"$f":"MAX(IF(ISERROR(H65:H68),0,H65:H68))","v":0},{"$f":"MAX(IF(ISERROR(I65:I68),0,I65:I68))","v":0},{"$f":"MAX(IF(ISERROR(J65:J68),0,J65:J68))","v":0},{"$f":"MAX(IF(ISERROR(K65:K68),0,K65:K68))","v":0}]
[null,null,null,{"$f":"'[2]Consequence Criteria'!$A$8","v":0},{"$f":"VALUE((IF('2-Impact Assessment '!E65=\"vl\",\"1\",(IF('2-Impact Assessment '!E65=\"l\",\"2\",(IF('2-Impact Assessment '!E65=\"m\",\"3\",(IF('2-Impact Assessment '!E65=\"h\",\"4\",(IF('2-Impact Assessment '!E65=\"vh\",\"5\", NA())))))))))))","v":{"$error":"#N/A"}},{"$f":"VALUE((IF('2-Impact Assessment '!F65=\"vl\",\"1\",(IF('2-Impact Assessment '!F65=\"l\",\"2\",(IF('2-Impact Assessment '!F65=\"m\",\"3\",(IF('2-Impact Assessment '!F65=\"h\",\"4\",(IF('2-Impact Assessment '!F65=\"vh\",\"5\", NA())))))))))))","v":{"$error":"#N/A"}},{"$f":"VALUE((IF('2-Impact Assessment '!G65=\"vl\",\"1\",(IF('2-Impact Assessment '!G65=\"l\",\"2\",(IF('2-Impact Assessment '!G65=\"m\",\"3\",(IF('2-Impact Assessment '!G65=\"h\",\"4\",(IF('2-Impact Assessment '!G65=\"vh\",\"5\", NA())))))))))))","v":{"$error":"#N/A"}},{"$f":"VALUE((IF('2-Impact Assessment '!H65=\"vl\",\"1\",(IF('2-Impact Assessment '!H65=\"l\",\"2\",(IF('2-Impact Assessment '!H65=\"m\",\"3\",(IF('2-Impact Assessment '!H65=\"h\",\"4\",(IF('2-Impact Assessment '!H65=\"vh\",\"5\", NA())))))))))))","v":{"$error":"#N/A"}},{"$f":"VALUE((IF('2-Impact Assessment '!I65=\"vl\",\"1\",(IF('2-Impact Assessment '!I65=\"l\",\"2\",(IF('2-Impact Assessment '!I65=\"m\",\"3\",(IF('2-Impact Assessment '!I65=\"h\",\"4\",(IF('2-Impact Assessment '!I65=\"vh\",\"5\", NA())))))))))))","v":{"$error":"#N/A"}},{"$f":"VALUE((IF('2-Impact Assessment '!J65=\"vl\",\"1\",(IF('2-Impact Assessment '!J65=\"l\",\"2\",(IF('2-Impact Assessment '!J65=\"m\",\"3\",(IF('2-Impact Assessment '!J65=\"h\",\"4\",(IF('2-Impact Assessment '!J65=\"vh\",\"5\", NA())))))))))))","v":{"$error":"#N/A"}},{"$f":"VALUE((IF('2-Impact Assessment '!K65=\"vl\",\"1\",(IF('2-Impact Assessment '!K65=\"l\",\"2\",(IF('2-Impact Assessment '!K65=\"m\",\"3\",(IF('2-Impact Assessment '!K65=\"h\",\"4\",(IF('2-Impact Assessment '!K65=\"vh\",\"5\", NA())))))))))))","v":{"$error":"#N/A"}},null,null,{"$f":"IFERROR(INDEX($AA$12:$AG$12,MATCH(TRUE, AA65:AG65 >= 3, 0)),200)","v":200},null,{"$f":"IFERROR(INDEX($AA$12:$AG$12,MATCH(TRUE, AA65:AG65 >= 4, 0)),200)","v":200},null,null,null,null,null,null,null,null,null,null,{"$f":"MAX(IF(ISERROR(E66:E69),0,E66:E69))","v":0},{"$f":"MAX(IF(ISERROR(F66:F69),0,F66:F69))","v":0},{"$f":"MAX(IF(ISERROR(G66:G69),0,G66:G69))","v":0},{"$f":"MAX(IF(ISERROR(H66:H69),0,H66:H69))","v":0},{"$f":"MAX(IF(ISERROR(I66:I69),0,I66:I69))","v":0},{"$f":"MAX(IF(ISERROR(J66:J69),0,J66:J69))","v":0},{"$f":"MAX(IF(ISERROR(K66:K69),0,K66:K69))","v":0}]
[null,null,null,{"$f":"'[2]Consequence Criteria'!$A$9","v":0},{"$f":"VALUE((IF('2-Impact Assessment '!E66=\"vl\",\"1\",(IF('2-Impact Assessment '!E66=\"l\",\"2\",(IF('2-Impact Assessment '!E66=\"m\",\"3\",(IF('2-Impact Assessment '!E66=\"h\",\"4\",(IF('2-Impact Assessment '!E66=\"vh\",\"5\", NA())))))))))))","v":{"$error":"#N/A"}},{"$f":"VALUE((IF('2-Impact Assessment '!F66=\"vl\",\"1\",(IF('2-Impact Assessment '!F66=\"l\",\"2\",(IF('2-Impact Assessment '!F66=\"m\",\"3\",(IF('2-Impact Assessment '!F66=\"h\",\"4\",(IF('2-Impact Assessment '!F66=\"vh\",\"5\", NA())))))))))))","v":{"$error":"#N/A"}},{"$f":"VALUE((IF('2-Impact Assessment '!G66=\"vl\",\"1\",(IF('2-Impact Assessment '!G66=\"l\",\"2\",(IF('2-Impact Assessment '!G66=\"m\",\"3\",(IF('2-Impact Assessment '!G66=\"h\",\"4\",(IF('2-Impact Assessment '!G66=\"vh\",\"5\", NA())))))))))))","v":{"$error":"#N/A"}},{"$f":"VALUE((IF('2-Impact Assessment '!H66=\"vl\",\"1\",(IF('2-Impact Assessment '!H66=\"l\",\"2\",(IF('2-Impact Assessment '!H66=\"m\",\"3\",(IF('2-Impact Assessment '!H66=\"h\",\"4\",(IF('2-Impact Assessment '!H66=\"vh\",\"5\", NA())))))))))))","v":{"$error":"#N/A"}},{"$f":"VALUE((IF('2-Impact Assessment '!I66=\"vl\",\"1\",(IF('2-Impact Assessment '!I66=\"l\",\"2\",(IF('2-Impact Assessment '!I66=\"m\",\"3\",(IF('2-Impact Assessment '!I66=\"h\",\"4\",(IF('2-Impact Assessment '!I66=\"vh\",\"5\", NA())))))))))))","v":{"$error":"#N/A"}},{"$f":"VALUE((IF('2-Impact Assessment '!J66=\"vl\",\"1\",(IF('2-Impact Assessment '!J66=\"l\",\"2\",(IF('2-Impact Assessment '!J66=\"m\",\"3\",(IF('2-Impact Assessment '!J66=\"h\",\"4\",(IF('2-Impact Assessment '!J66=\"vh\",\"5\", NA())))))))))))","v":{"$error":"#N/A"}},{"$f":"VALUE((IF('2-Impact Assessment '!K66=\"vl\",\"1\",(IF('2-Impact Assessment '!K66=\"l\",\"2\",(IF('2-Impact Assessment '!K66=\"m\",\"3\",(IF('2-Impact Assessment '!K66=\"h\",\"4\",(IF('2-Impact Assessment '!K66=\"vh\",\"5\", NA())))))))))))","v":{"$error":"#N/A"}},null,null,{"$f":"IFERROR(INDEX($AA$12:$AG$12,MATCH(TRUE, AA66:AG66 >= 3, 0)),200)","v":200},null,{"$f":"IFERROR(INDEX($AA$12:$AG$12,MATCH(TRUE, AA66:AG66 >= 4, 0)),200)","v":200},null,null,null,null,null,null,null,null,null,null,{"$f":"MAX(IF(ISERROR(E67:E70),0,E67:E70))","v":0},{"$f":"MAX(IF(ISERROR(F67:F70),0,F67:F70))","v":0},{"$f":"MAX(IF(ISERROR(G67:G70),0,G67:G70))","v":0},{"$f":"MAX(IF(ISERROR(H67:H70),0,H67:H70))","v":0},{"$f":"MAX(IF(ISERROR(I67:I70),0,I67:I70))","v":0},{"$f":"MAX(IF(ISERROR(J67:J70),0,J67:J70))","v":0},{"$f":"MAX(IF(ISERROR(K67:K70),0,K67:K70))","v":0}]
[null,null,null,{"$f":"'[2]Consequence Criteria'!$A$10","v":0},{"$f":"VALUE((IF('2-Impact Assessment '!E67=\"vl\",\"1\",(IF('2-Impact Assessment '!E67=\"l\",\"2\",(IF('2-Impact Assessment '!E67=\"m\",\"3\",(IF('2-Impact Assessment '!E67=\"h\",\"4\",(IF('2-Impact Assessment '!E67=\"vh\",\"5\", NA())))))))))))","v":{"$error":"#N/A"}},{"$f":"VALUE((IF('2-Impact Assessment '!F67=\"vl\",\"1\",(IF('2-Impact Assessment '!F67=\"l\",\"2\",(IF('2-Impact Assessment '!F67=\"m\",\"3\",(IF('2-Impact Assessment '!F67=\"h\",\"4\",(IF('2-Impact Assessment '!F67=\"vh\",\"5\", NA())))))))))))","v":{"$error":"#N/A"}},{"$f":"VALUE((IF('2-Impact Assessment '!G67=\"vl\",\"1\",(IF('2-Impact Assessment '!G67=\"l\",\"2\",(IF('2-Impact Assessment '!G67=\"m\",\"3\",(IF('2-Impact Assessment '!G67=\"h\",\"4\",(IF('2-Impact Assessment '!G67=\"vh\",\"5\", NA())))))))))))","v":{"$error":"#N/A"}},{"$f":"VALUE((IF('2-Impact Assessment '!H67=\"vl\",\"1\",(IF('2-Impact Assessment '!H67=\"l\",\"2\",(IF('2-Impact Assessment '!H67=\"m\",\"3\",(IF('2-Impact Assessment '!H67=\"h\",\"4\",(IF('2-Impact Assessment '!H67=\"vh\",\"5\", NA())))))))))))","v":{"$error":"#N/A"}},{"$f":"VALUE((IF('2-Impact Assessment '!I67=\"vl\",\"1\",(IF('2-Impact Assessment '!I67=\"l\",\"2\",(IF('2-Impact Assessment '!I67=\"m\",\"3\",(IF('2-Impact Assessment '!I67=\"h\",\"4\",(IF('2-Impact Assessment '!I67=\"vh\",\"5\", NA())))))))))))","v":{"$error":"#N/A"}},{"$f":"VALUE((IF('2-Impact Assessment '!J67=\"vl\",\"1\",(IF('2-Impact Assessment '!J67=\"l\",\"2\",(IF('2-Impact Assessment '!J67=\"m\",\"3\",(IF('2-Impact Assessment '!J67=\"h\",\"4\",(IF('2-Impact Assessment '!J67=\"vh\",\"5\", NA())))))))))))","v":{"$error":"#N/A"}},{"$f":"VALUE((IF('2-Impact Assessment '!K67=\"vl\",\"1\",(IF('2-Impact Assessment '!K67=\"l\",\"2\",(IF('2-Impact Assessment '!K67=\"m\",\"3\",(IF('2-Impact Assessment '!K67=\"h\",\"4\",(IF('2-Impact Assessment '!K67=\"vh\",\"5\", NA())))))))))))","v":{"$error":"#N/A"}},null,null,{"$f":"IFERROR(INDEX($AA$12:$AG$12,MATCH(TRUE, AA67:AG67 >= 3, 0)),200)","v":200},null,{"$f":"IFERROR(INDEX($AA$12:$AG$12,MATCH(TRUE, AA67:AG67 >= 4, 0)),200)","v":200},null,null,null,null,null,null,null,null,null,null,{"$f":"MAX(IF(ISERROR(E68:E71),0,E68:E71))","v":0},{"$f":"MAX(IF(ISERROR(F68:F71),0,F68:F71))","v":0},{"$f":"MAX(IF(ISERROR(G68:G71),0,G68:G71))","v":0},{"$f":"MAX(IF(ISERROR(H68:H71),0,H68:H71))","v":0},{"$f":"MAX(IF(ISERROR(I68:I71),0,I68:I71))","v":0},{"$f":"MAX(IF(ISERROR(J68:J71),0,J68:J71))","v":0},{"$f":"MAX(IF(ISERROR(K68:K71),0,K68:K71))","v":0}]
[null,{"$f":"IF(ISTEXT('1-Services & Function'!D36),'1-Services & Function'!D36,\"\")","v":""},7,null,"1 hr","4 hr","1 day","2 days","5 days","1 month","> 6 months","Comments",null,{"$f":"IFERROR(INDEX($AA$12:$AG$12,MATCH(TRUE, AA68:AG68 >= 3, 0)),200)","v":200},null,{"$f":"IFERROR(INDEX($AA$12:$AG$12,MATCH(TRUE, AA68:AG68 >= 4, 0)),200)","v":200},null,null,null,null,null,null,null,null,null,null,{"$f":"MAX(IF(ISERROR(E69:E72),0,E69:E72))","v":0},{"$f":"MAX(IF(ISERROR(F69:F72),0,F69:F72))","v":0},{"$f":"MAX(IF(ISERROR(G69:G72),0,G69:G72))","v":0},{"$f":"MAX(IF(ISERROR(H69:H72),0,H69:H72))","v":0},{"$f":"MAX(IF(ISERROR(I69:I72),0,I69:I72))","v":0},{"$f":"MAX(IF(ISERROR(J69:J72),0,J69:J72))","v":0},{"$f":"MAX(IF(ISERROR(K69:K72),0,K69:K72))","v":0}]
[null,null,null,{"$f":"'[2]Consequence Criteria'!$A$3","v":"Economic"},{"$f":"VALUE((IF('2-Impact Assessment '!E69=\"vl\",\"1\",(IF('2-Impact Assessment '!E69=\"l\",\"2\",(IF('2-Impact Assessment '!E69=\"m\",\"3\",(IF('2-Impact Assessment '!E69=\"h\",\"4\",(IF('2-Impact Assessment '!E69=\"vh\",\"5\", NA())))))))))))","v":{"$error":"#N/A"}},{"$f":"VALUE((IF('2-Impact Assessment '!F69=\"vl\",\"1\",(IF('2-Impact Assessment '!F69=\"l\",\"2\",(IF('2-Impact Assessment '!F69=\"m\",\"3\",(IF('2-Impact Assessment '!F69=\"h\",\"4\",(IF('2-Impact Assessment '!F69=\"vh\",\"5\", NA())))))))))))","v":{"$error":"#N/A"}},{"$f":"VALUE((IF('2-Impact Assessment '!G69=\"vl\",\"1\",(IF('2-Impact Assessment '!G69=\"l\",\"2\",(IF('2-Impact Assessment '!G69=\"m\",\"3\",(IF('2-Impact Assessment '!G69=\"h\",\"4\",(IF('2-Impact Assessment '!G69=\"vh\",\"5\", NA())))))))))))","v":{"$error":"#N/A"}},{"$f":"VALUE((IF('2-Impact Assessment '!H69=\"vl\",\"1\",(IF('2-Impact Assessment '!H69=\"l\",\"2\",(IF('2-Impact Assessment '!H69=\"m\",\"3\",(IF('2-Impact Assessment '!H69=\"h\",\"4\",(IF('2-Impact Assessment '!H69=\"vh\",\"5\", NA())))))))))))","v":{"$error":"#N/A"}},{"$f":"VALUE((IF('2-Impact Assessment '!I69=\"vl\",\"1\",(IF('2-Impact Assessment '!I69=\"l\",\"2\",(IF('2-Impact Assessment '!I69=\"m\",\"3\",(IF('2-Impact Assessment '!I69=\"h\",\"4\",(IF('2-Impact Assessment '!I69=\"vh\",\"5\", NA())))))))))))","v":{"$error":"#N/A"}},{"$f":"VALUE((IF('2-Impact Assessment '!J69=\"vl\",\"1\",(IF('2-Impact Assessment '!J69=\"l\",\"2\",(IF('2-Impact Assessment '!J69=\"m\",\"3\",(IF('2-Impact Assessment '!J69=\"h\",\"4\",(IF('2-Impact Assessment '!J69=\"vh\",\"5\", NA())))))))))))","v":{"$error":"#N/A"}},{"$f":"VALUE((IF('2-Impact Assessment '!K69=\"vl\",\"1\",(IF('2-Impact Assessment '!K69=\"l\",\"2\",(IF('2-Impact Assessment '!K69=\"m\",\"3\",(IF('2-Impact Assessment '!K69=\"h\",\"4\",(IF('2-Impact Assessment '!K69=\"vh\",\"5\", NA())))))))))))","v":{"$error":"#N/A"}},null,null,{"$f":"IFERROR(INDEX($AA$12:$AG$12,MATCH(TRUE, AA69:AG69 >= 3, 0)),200)","v":200},null,{"$f":"IFERROR(INDEX($AA$12:$AG$12,MATCH(TRUE, AA69:AG69 >= 4, 0)),200)","v":200},null,null,null,null,null,null,null,null,null,null,{"$f":"MAX(IF(ISERROR(E70:E73),0,E70:E73))","v":0},{"$f":"MAX(IF(ISERROR(F70:F73),0,F70:F73))","v":0},{"$f":"MAX(IF(ISERROR(G70:G73),0,G70:G73))","v":0},{"$f":"MAX(IF(ISERROR(H70:H73),0,H70:H73))","v":0},{"$f":"MAX(IF(ISERROR(I70:I73),0,I70:I73))","v":0},{"$f":"MAX(IF(ISERROR(J70:J73),0,J70:J73))","v":0},{"$f":"MAX(IF(ISERROR(K70:K73),0,K70:K73))","v":0}]
[null,null,null,{"$f":"'[2]Consequence Criteria'!$A$4","v":"Social"},{"$f":"VALUE((IF('2-Impact Assessment '!E70=\"vl\",\"1\",(IF('2-Impact Assessment '!E70=\"l\",\"2\",(IF('2-Impact Assessment '!E70=\"m\",\"3\",(IF('2-Impact Assessment '!E70=\"h\",\"4\",(IF('2-Impact Assessment '!E70=\"vh\",\"5\", NA())))))))))))","v":{"$error":"#N/A"}},{"$f":"VALUE((IF('2-Impact Assessment '!F70=\"vl\",\"1\",(IF('2-Impact Assessment '!F70=\"l\",\"2\",(IF('2-Impact Assessment '!F70=\"m\",\"3\",(IF('2-Impact Assessment '!F70=\"h\",\"4\",(IF('2-Impact Assessment '!F70=\"vh\",\"5\", NA())))))))))))","v":{"$error":"#N/A"}},{"$f":"VALUE((IF('2-Impact Assessment '!G70=\"vl\",\"1\",(IF('2-Impact Assessment '!G70=\"l\",\"2\",(IF('2-Impact Assessment '!G70=\"m\",\"3\",(IF('2-Impact Assessment '!G70=\"h\",\"4\",(IF('2-Impact Assessment '!G70=\"vh\",\"5\", NA())))))))))))","v":{"$error":"#N/A"}},{"$f":"VALUE((IF('2-Impact Assessment '!H70=\"vl\",\"1\",(IF('2-Impact Assessment '!H70=\"l\",\"2\",(IF('2-Impact Assessment '!H70=\"m\",\"3\",(IF('2-Impact Assessment '!H70=\"h\",\"4\",(IF('2-Impact Assessment '!H70=\"vh\",\"5\", NA())))))))))))","v":{"$error":"#N/A"}},{"$f":"VALUE((IF('2-Impact Assessment '!I70=\"vl\",\"1\",(IF('2-Impact Assessment '!I70=\"l\",\"2\",(IF('2-Impact Assessment '!I70=\"m\",\"3\",(IF('2-Impact Assessment '!I70=\"h\",\"4\",(IF('2-Impact Assessment '!I70=\"vh\",\"5\", NA())))))))))))","v":{"$error":"#N/A"}},{"$f":"VALUE((IF('2-Impact Assessment '!J70=\"vl\",\"1\",(IF('2-Impact Assessment '!J70=\"l\",\"2\",(IF('2-Impact Assessment '!J70=\"m\",\"3\",(IF('2-Impact Assessment '!J70=\"h\",\"4\",(IF('2-Impact Assessment '!J70=\"vh\",\"5\", NA())))))))))))","v":{"$error":"#N/A"}},{"$f":"VALUE((IF('2-Impact Assessment '!K70=\"vl\",\"1\",(IF('2-Impact Assessment '!K70=\"l\",\"2\",(IF('2-Impact Assessment '!K70=\"m\",\"3\",(IF('2-Impact Assessment '!K70=\"h\",\"4\",(IF('2-Impact Assessment '!K70=\"vh\",\"5\", NA())))))))))))","v":{"$error":"#N/A"}},null,null,{"$f":"IFERROR(INDEX($AA$12:$AG$12,MATCH(TRUE, AA70:AG70 >= 3, 0)),200)","v":200},null,{"$f":"IFERROR(INDEX($AA$12:$AG$12,MATCH(TRUE, AA70:AG70 >= 4, 0)),200)","v":200},null,null,null,null,null,null,null,null,null,null,{"$f":"MAX(IF(ISERROR(E71:E74),0,E71:E74))","v":0},{"$f":"MAX(IF(ISERROR(F71:F74),0,F71:F74))","v":0},{"$f":"MAX(IF(ISERROR(G71:G74),0,G71:G74))","v":0},{"$f":"MAX(IF(ISERROR(H71:H74),0,H71:H74))","v":0},{"$f":"MAX(IF(ISERROR(I71:I74),0,I71:I74))","v":0},{"$f":"MAX(IF(ISERROR(J71:J74),0,J71:J74))","v":0},{"$f":"MAX(IF(ISERROR(K71:K74),0,K71:K74))","v":0}]
[null,null,null,{"$f":"'[2]Consequence Criteria'!$A$5","v":"Cultural"},{"$f":"VALUE((IF('2-Impact Assessment '!E71=\"vl\",\"1\",(IF('2-Impact Assessment '!E71=\"l\",\"2\",(IF('2-Impact Assessment '!E71=\"m\",\"3\",(IF('2-Impact Assessment '!E71=\"h\",\"4\",(IF('2-Impact Assessment '!E71=\"vh\",\"5\", NA())))))))))))","v":{"$error":"#N/A"}},{"$f":"VALUE((IF('2-Impact Assessment '!F71=\"vl\",\"1\",(IF('2-Impact Assessment '!F71=\"l\",\"2\",(IF('2-Impact Assessment '!F71=\"m\",\"3\",(IF('2-Impact Assessment '!F71=\"h\",\"4\",(IF('2-Impact Assessment '!F71=\"vh\",\"5\", NA())))))))))))","v":{"$error":"#N/A"}},{"$f":"VALUE((IF('2-Impact Assessment '!G71=\"vl\",\"1\",(IF('2-Impact Assessment '!G71=\"l\",\"2\",(IF('2-Impact Assessment '!G71=\"m\",\"3\",(IF('2-Impact Assessment '!G71=\"h\",\"4\",(IF('2-Impact Assessment '!G71=\"vh\",\"5\", NA())))))))))))","v":{"$error":"#N/A"}},{"$f":"VALUE((IF('2-Impact Assessment '!H71=\"vl\",\"1\",(IF('2-Impact Assessment '!H71=\"l\",\"2\",(IF('2-Impact Assessment '!H71=\"m\",\"3\",(IF('2-Impact Assessment '!H71=\"h\",\"4\",(IF('2-Impact Assessment '!H71=\"vh\",\"5\", NA())))))))))))","v":{"$error":"#N/A"}},{"$f":"VALUE((IF('2-Impact Assessment '!I71=\"vl\",\"1\",(IF('2-Impact Assessment '!I71=\"l\",\"2\",(IF('2-Impact Assessment '!I71=\"m\",\"3\",(IF('2-Impact Assessment '!I71=\"h\",\"4\",(IF('2-Impact Assessment '!I71=\"vh\",\"5\", NA())))))))))))","v":{"$error":"#N/A"}},{"$f":"VALUE((IF('2-Impact Assessment '!J71=\"vl\",\"1\",(IF('2-Impact Assessment '!J71=\"l\",\"2\",(IF('2-Impact Assessment '!J71=\"m\",\"3\",(IF('2-Impact Assessment '!J71=\"h\",\"4\",(IF('2-Impact Assessment '!J71=\"vh\",\"5\", NA())))))))))))","v":{"$error":"#N/A"}},{"$f":"VALUE((IF('2-Impact Assessment '!K71=\"vl\",\"1\",(IF('2-Impact Assessment '!K71=\"l\",\"2\",(IF('2-Impact Assessment '!K71=\"m\",\"3\",(IF('2-Impact Assessment '!K71=\"h\",\"4\",(IF('2-Impact Assessment '!K71=\"vh\",\"5\", NA())))))))))))","v":{"$error":"#N/A"}},null,null,{"$f":"IFERROR(INDEX($AA$12:$AG$12,MATCH(TRUE, AA71:AG71 >= 3, 0)),200)","v":200},null,{"$f":"IFERROR(INDEX($AA$12:$AG$12,MATCH(TRUE, AA71:AG71 >= 4, 0)),200)","v":200},null,null,null,null,null,null,null,null,null,null,{"$f":"MAX(IF(ISERROR(E72:E75),0,E72:E75))","v":0},{"$f":"MAX(IF(ISERROR(F72:F75),0,F72:F75))","v":0},{"$f":"MAX(IF(ISERROR(G72:G75),0,G72:G75))","v":0},{"$f":"MAX(IF(ISERROR(H72:H75),0,H72:H75))","v":0},{"$f":"MAX(IF(ISERROR(I72:I75),0,I72:I75))","v":0},{"$f":"MAX(IF(ISERROR(J72:J75),0,J72:J75))","v":0},{"$f":"MAX(IF(ISERROR(K72:K75),0,K72:K75))","v":0}]
[null,null,null,{"$f":"'[2]Consequence Criteria'!$A$6","v":"Environmental"},{"$f":"VALUE((IF('2-Impact Assessment '!E72=\"vl\",\"1\",(IF('2-Impact Assessment '!E72=\"l\",\"2\",(IF('2-Impact Assessment '!E72=\"m\",\"3\",(IF('2-Impact Assessment '!E72=\"h\",\"4\",(IF('2-Impact Assessment '!E72=\"vh\",\"5\", NA())))))))))))","v":{"$error":"#N/A"}},{"$f":"VALUE((IF('2-Impact Assessment '!F72=\"vl\",\"1\",(IF('2-Impact Assessment '!F72=\"l\",\"2\",(IF('2-Impact Assessment '!F72=\"m\",\"3\",(IF('2-Impact Assessment '!F72=\"h\",\"4\",(IF('2-Impact Assessment '!F72=\"vh\",\"5\", NA())))))))))))","v":{"$error":"#N/A"}},{"$f":"VALUE((IF('2-Impact Assessment '!G72=\"vl\",\"1\",(IF('2-Impact Assessment '!G72=\"l\",\"2\",(IF('2-Impact Assessment '!G72=\"m\",\"3\",(IF('2-Impact Assessment '!G72=\"h\",\"4\",(IF('2-Impact Assessment '!G72=\"vh\",\"5\", NA())))))))))))","v":{"$error":"#N/A"}},{"$f":"VALUE((IF('2-Impact Assessment '!H72=\"vl\",\"1\",(IF('2-Impact Assessment '!H72=\"l\",\"2\",(IF('2-Impact Assessment '!H72=\"m\",\"3\",(IF('2-Impact Assessment '!H72=\"h\",\"4\",(IF('2-Impact Assessment '!H72=\"vh\",\"5\", NA())))))))))))","v":{"$error":"#N/A"}},{"$f":"VALUE((IF('2-Impact Assessment '!I72=\"vl\",\"1\",(IF('2-Impact Assessment '!I72=\"l\",\"2\",(IF('2-Impact Assessment '!I72=\"m\",\"3\",(IF('2-Impact Assessment '!I72=\"h\",\"4\",(IF('2-Impact Assessment '!I72=\"vh\",\"5\", NA())))))))))))","v":{"$error":"#N/A"}},{"$f":"VALUE((IF('2-Impact Assessment '!J72=\"vl\",\"1\",(IF('2-Impact Assessment '!J72=\"l\",\"2\",(IF('2-Impact Assessment '!J72=\"m\",\"3\",(IF('2-Impact Assessment '!J72=\"h\",\"4\",(IF('2-Impact Assessment '!J72=\"vh\",\"5\", NA())))))))))))","v":{"$error":"#N/A"}},{"$f":"VALUE((IF('2-Impact Assessment '!K72=\"vl\",\"1\",(IF('2-Impact Assessment '!K72=\"l\",\"2\",(IF('2-Impact Assessment '!K72=\"m\",\"3\",(IF('2-Impact Assessment '!K72=\"h\",\"4\",(IF('2-Impact Assessment '!K72=\"vh\",\"5\", NA())))))))))))","v":{"$error":"#N/A"}},null,null,{"$f":"IFERROR(INDEX($AA$12:$AG$12,MATCH(TRUE, AA72:AG72 >= 3, 0)),200)","v":200},null,{"$f":"IFERROR(INDEX($AA$12:$AG$12,MATCH(TRUE, AA72:AG72 >= 4, 0)),200)","v":200},null,null,null,null,null,null,null,null,null,null,{"$f":"MAX(IF(ISERROR(E73:E76),0,E73:E76))","v":0},{"$f":"MAX(IF(ISERROR(F73:F76),0,F73:F76))","v":0},{"$f":"MAX(IF(ISERROR(G73:G76),0,G73:G76))","v":0},{"$f":"MAX(IF(ISERROR(H73:H76),0,H73:H76))","v":0},{"$f":"MAX(IF(ISERROR(I73:I76),0,I73:I76))","v":0},{"$f":"MAX(IF(ISERROR(J73:J76),0,J73:J76))","v":0},{"$f":"MAX(IF(ISERROR(K73:K76),0,K73:K76))","v":0}]
[null,null,null,{"$f":"'[2]Consequence Criteria'!$A$7","v":0},null,null,null,null,null,null,null,null,null,{"$f":"IFERROR(INDEX($AA$12:$AG$12,MATCH(TRUE, AA73:AG73 >= 3, 0)),200)","v":200},null,{"$f":"IFERROR(INDEX($AA$12:$AG$12,MATCH(TRUE, AA73:AG73 >= 4, 0)),200)","v":200},null,null,null,null,null,null,null,null,null,null,{"$f":"MAX(IF(ISERROR(E74:E77),0,E74:E77))","v":0},{"$f":"MAX(IF(ISERROR(F74:F77),0,F74:F77))","v":0},{"$f":"MAX(IF(ISERROR(G74:G77),0,G74:G77))","v":0},{"$f":"MAX(IF(ISERROR(H74:H77),0,H74:H77))","v":0},{"$f":"MAX(IF(ISERROR(I74:I77),0,I74:I77))","v":0},{"$f":"MAX(IF(ISERROR(J74:J77),0,J74:J77))","v":0},{"$f":"MAX(IF(ISERROR(K74:K77),0,K74:K77))","v":0}]
[null,null,null,{"$f":"'[2]Consequence Criteria'!$A$8","v":0},null,null,null,null,null,null,null,null,null,{"$f":"IFERROR(INDEX($AA$12:$AG$12,MATCH(TRUE, AA74:AG74 >= 3, 0)),200)","v":200},null,{"$f":"IFERROR(INDEX($AA$12:$AG$12,MATCH(TRUE, AA74:AG74 >= 4, 0)),200)","v":200},null,null,null,null,null,null,null,null,null,null,{"$f":"MAX(IF(ISERROR(E75:E78),0,E75:E78))","v":0},{"$f":"MAX(IF(ISERROR(F75:F78),0,F75:F78))","v":0},{"$f":"MAX(IF(ISERROR(G75:G78),0,G75:G78))","v":0},{"$f":"MAX(IF(ISERROR(H75:H78),0,H75:H78))","v":0},{"$f":"MAX(IF(ISERROR(I75:I78),0,I75:I78))","v":0},{"$f":"MAX(IF(ISERROR(J75:J78),0,J75:J78))","v":0},{"$f":"MAX(IF(ISERROR(K75:K78),0,K75:K78))","v":0}]
[null,null,null,{"$f":"'[2]Consequence Criteria'!$A$9","v":0},null,null,null,null,null,null,null,null,null,{"$f":"IFERROR(INDEX($AA$12:$AG$12,MATCH(TRUE, AA75:AG75 >= 3, 0)),200)","v":200},null,{"$f":"IFERROR(INDEX($AA$12:$AG$12,MATCH(TRUE, AA75:AG75 >= 4, 0)),200)","v":200},null,null,null,null,null,null,null,null,null,null,{"$f":"MAX(IF(ISERROR(E76:E79),0,E76:E79))","v":0},{"$f":"MAX(IF(ISERROR(F76:F79),0,F76:F79))","v":0},{"$f":"MAX(IF(ISERROR(G76:G79),0,G76:G79))","v":0},{"$f":"MAX(IF(ISERROR(H76:H79),0,H76:H79))","v":0},{"$f":"MAX(IF(ISERROR(I76:I79),0,I76:I79))","v":0},{"$f":"MAX(IF(ISERROR(J76:J79),0,J76:J79))","v":0},{"$f":"MAX(IF(ISERROR(K76:K79),0,K76:K79))","v":0}]
[null,null,null,{"$f":"'[2]Consequence Criteria'!$A$10","v":0},null,null,null,null,null,null,null,null,null,{"$f":"IFERROR(INDEX($AA$12:$AG$12,MATCH(TRUE, AA76:AG76 >= 3, 0)),200)","v":200},null,{"$f":"IFERROR(INDEX($AA$12:$AG$12,MATCH(TRUE, AA76:AG76 >= 4, 0)),200)","v":200},null,null,null,null,null,null,null,null,null,null,{"$f":"MAX(IF(ISERROR(E77:E80),0,E77:E80))","v":0},{"$f":"MAX(IF(ISERROR(F77:F80),0,F77:F80))","v":0},{"$f":"MAX(IF(ISERROR(G77:G80),0,G77:G80))","v":0},{"$f":"MAX(IF(ISERROR(H77:H80),0,H77:H80))","v":0},{"$f":"MAX(IF(ISERROR(I77:I80),0,I77:I80))","v":0},{"$f":"MAX(IF(ISERROR(J77:J80),0,J77:J80))","v":0},{"$f":"MAX(IF(ISERROR(K77:K80),0,K77:K80))","v":0}]
[null,{"$f":"IF(ISTEXT('1-Services & Function'!D37),'1-Services & Function'!D37,\"\")","v":""},8,null,"1 hr","4 hr","1 day","2 days","5 days","1 month","> 6 months","Comments",null,{"$f":"IFERROR(INDEX($AA$12:$AG$12,MATCH(TRUE, AA77:AG77 >= 3, 0)),200)","v":200},null,{"$f":"IFERROR(INDEX($AA$12:$AG$12,MATCH(TRUE, AA77:AG77 >= 4, 0)),200)","v":200},null,null,null,null,null,null,null,null,null,null,{"$f":"MAX(IF(ISERROR(E78:E81),0,E78:E81))","v":0},{"$f":"MAX(IF(ISERROR(F78:F81),0,F78:F81))","v":0},{"$f":"MAX(IF(ISERROR(G78:G81),0,G78:G81))","v":0},{"$f":"MAX(IF(ISERROR(H78:H81),0,H78:H81))","v":0},{"$f":"MAX(IF(ISERROR(I78:I81),0,I78:I81))","v":0},{"$f":"MAX(IF(ISERROR(J78:J81),0,J78:J81))","v":0},{"$f":"MAX(IF(ISERROR(K78:K81),0,K78:K81))","v":0}]
[null,null,null,{"$f":"'[2]Consequence Criteria'!$A$3","v":"Economic"},{"$f":"VALUE((IF('2-Impact Assessment '!E78=\"vl\",\"1\",(IF('2-Impact Assessment '!E78=\"l\",\"2\",(IF('2-Impact Assessment '!E78=\"m\",\"3\",(IF('2-Impact Assessment '!E78=\"h\",\"4\",(IF('2-Impact Assessment '!E78=\"vh\",\"5\", NA())))))))))))","v":{"$error":"#N/A"}},{"$f":"VALUE((IF('2-Impact Assessment '!F78=\"vl\",\"1\",(IF('2-Impact Assessment '!F78=\"l\",\"2\",(IF('2-Impact Assessment '!F78=\"m\",\"3\",(IF('2-Impact Assessment '!F78=\"h\",\"4\",(IF('2-Impact Assessment '!F78=\"vh\",\"5\", NA())))))))))))","v":{"$error":"#N/A"}},{"$f":"VALUE((IF('2-Impact Assessment '!G78=\"vl\",\"1\",(IF('2-Impact Assessment '!G78=\"l\",\"2\",(IF('2-Impact Assessment '!G78=\"m\",\"3\",(IF('2-Impact Assessment '!G78=\"h\",\"4\",(IF('2-Impact Assessment '!G78=\"vh\",\"5\", NA())))))))))))","v":{"$error":"#N/A"}},{"$f":"VALUE((IF('2-Impact Assessment '!H78=\"vl\",\"1\",(IF('2-Impact Assessment '!H78=\"l\",\"2\",(IF('2-Impact Assessment '!H78=\"m\",\"3\",(IF('2-Impact Assessment '!H78=\"h\",\"4\",(IF('2-Impact Assessment '!H78=\"vh\",\"5\", NA())))))))))))","v":{"$error":"#N/A"}},{"$f":"VALUE((IF('2-Impact Assessment '!I78=\"vl\",\"1\",(IF('2-Impact Assessment '!I78=\"l\",\"2\",(IF('2-Impact Assessment '!I78=\"m\",\"3\",(IF('2-Impact Assessment '!I78=\"h\",\"4\",(IF('2-Impact Assessment '!I78=\"vh\",\"5\", NA())))))))))))","v":{"$error":"#N/A"}},{"$f":"VALUE((IF('2-Impact Assessment '!J78=\"vl\",\"1\",(IF('2-Impact Assessment '!J78=\"l\",\"2\",(IF('2-Impact Assessment '!J78=\"m\",\"3\",(IF('2-Impact Assessment '!J78=\"h\",\"4\",(IF('2-Impact Assessment '!J78=\"vh\",\"5\", NA())))))))))))","v":{"$error":"#N/A"}},{"$f":"VALUE((IF('2-Impact Assessment '!K78=\"vl\",\"1\",(IF('2-Impact Assessment '!K78=\"l\",\"2\",(IF('2-Impact Assessment '!K78=\"m\",\"3\",(IF('2-Impact Assessment '!K78=\"h\",\"4\",(IF('2-Impact Assessment '!K78=\"vh\",\"5\", NA())))))))))))","v":{"$error":"#N/A"}},null,null,{"$f":"IFERROR(INDEX($AA$12:$AG$12,MATCH(TRUE, AA78:AG78 >= 3, 0)),200)","v":200},null,{"$f":"IFERROR(INDEX($AA$12:$AG$12,MATCH(TRUE, AA78:AG78 >= 4, 0)),200)","v":200},null,null,null,null,null,null,null,null,null,null,{"$f":"MAX(IF(ISERROR(E79:E82),0,E79:E82))","v":0},{"$f":"MAX(IF(ISERROR(F79:F82),0,F79:F82))","v":0},{"$f":"MAX(IF(ISERROR(G79:G82),0,G79:G82))","v":0},{"$f":"MAX(IF(ISERROR(H79:H82),0,H79:H82))","v":0},{"$f":"MAX(IF(ISERROR(I79:I82),0,I79:I82))","v":0},{"$f":"MAX(IF(ISERROR(J79:J82),0,J79:J82))","v":0},{"$f":"MAX(IF(ISERROR(K79:K82),0,K79:K82))","v":0}]
[null,null,null,{"$f":"'[2]Consequence Criteria'!$A$4","v":"Social"},{"$f":"VALUE((IF('2-Impact Assessment '!E79=\"vl\",\"1\",(IF('2-Impact Assessment '!E79=\"l\",\"2\",(IF('2-Impact Assessment '!E79=\"m\",\"3\",(IF('2-Impact Assessment '!E79=\"h\",\"4\",(IF('2-Impact Assessment '!E79=\"vh\",\"5\", NA())))))))))))","v":{"$error":"#N/A"}},{"$f":"VALUE((IF('2-Impact Assessment '!F79=\"vl\",\"1\",(IF('2-Impact Assessment '!F79=\"l\",\"2\",(IF('2-Impact Assessment '!F79=\"m\",\"3\",(IF('2-Impact Assessment '!F79=\"h\",\"4\",(IF('2-Impact Assessment '!F79=\"vh\",\"5\", NA())))))))))))","v":{"$error":"#N/A"}},{"$f":"VALUE((IF('2-Impact Assessment '!G79=\"vl\",\"1\",(IF('2-Impact Assessment '!G79=\"l\",\"2\",(IF('2-Impact Assessment '!G79=\"m\",\"3\",(IF('2-Impact Assessment '!G79=\"h\",\"4\",(IF('2-Impact Assessment '!G79=\"vh\",\"5\", NA())))))))))))","v":{"$error":"#N/A"}},{"$f":"VALUE((IF('2-Impact Assessment '!H79=\"vl\",\"1\",(IF('2-Impact Assessment '!H79=\"l\",\"2\",(IF('2-Impact Assessment '!H79=\"m\",\"3\",(IF('2-Impact Assessment '!H79=\"h\",\"4\",(IF('2-Impact Assessment '!H79=\"vh\",\"5\", NA())))))))))))","v":{"$error":"#N/A"}},{"$f":"VALUE((IF('2-Impact Assessment '!I79=\"vl\",\"1\",(IF('2-Impact Assessment '!I79=\"l\",\"2\",(IF('2-Impact Assessment '!I79=\"m\",\"3\",(IF('2-Impact Assessment '!I79=\"h\",\"4\",(IF('2-Impact Assessment '!I79=\"vh\",\"5\", NA())))))))))))","v":{"$error":"#N/A"}},{"$f":"VALUE((IF('2-Impact Assessment '!J79=\"vl\",\"1\",(IF('2-Impact Assessment '!J79=\"l\",\"2\",(IF('2-Impact Assessment '!J79=\"m\",\"3\",(IF('2-Impact Assessment '!J79=\"h\",\"4\",(IF('2-Impact Assessment '!J79=\"vh\",\"5\", NA())))))))))))","v":{"$error":"#N/A"}},{"$f":"VALUE((IF('2-Impact Assessment '!K79=\"vl\",\"1\",(IF('2-Impact Assessment '!K79=\"l\",\"2\",(IF('2-Impact Assessment '!K79=\"m\",\"3\",(IF('2-Impact Assessment '!K79=\"h\",\"4\",(IF('2-Impact Assessment '!K79=\"vh\",\"5\", NA())))))))))))","v":{"$error":"#N/A"}},null,null,{"$f":"IFERROR(INDEX($AA$12:$AG$12,MATCH(TRUE, AA79:AG79 >= 3, 0)),200)","v":200},null,{"$f":"IFERROR(INDEX($AA$12:$AG$12,MATCH(TRUE, AA79:AG79 >= 4, 0)),200)","v":200},null,null,null,null,null,null,null,null,null,null,{"$f":"MAX(IF(ISERROR(E80:E83),0,E80:E83))","v":0},{"$f":"MAX(IF(ISERROR(F80:F83),0,F80:F83))","v":0},{"$f":"MAX(IF(ISERROR(G80:G83),0,G80:G83))","v":0},{"$f":"MAX(IF(ISERROR(H80:H83),0,H80:H83))","v":0},{"$f":"MAX(IF(ISERROR(I80:I83),0,I80:I83))","v":0},{"$f":"MAX(IF(ISERROR(J80:J83),0,J80:J83))","v":0},{"$f":"MAX(IF(ISERROR(K80:K83),0,K80:K83))","v":0}]
[null,null,null,{"$f":"'[2]Consequence Criteria'!$A$5","v":"Cultural"},{"$f":"VALUE((IF('2-Impact Assessment '!E80=\"vl\",\"1\",(IF('2-Impact Assessment '!E80=\"l\",\"2\",(IF('2-Impact Assessment '!E80=\"m\",\"3\",(IF('2-Impact Assessment '!E80=\"h\",\"4\",(IF('2-Impact Assessment '!E80=\"vh\",\"5\", NA())))))))))))","v":{"$error":"#N/A"}},{"$f":"VALUE((IF('2-Impact Assessment '!F80=\"vl\",\"1\",(IF('2-Impact Assessment '!F80=\"l\",\"2\",(IF('2-Impact Assessment '!F80=\"m\",\"3\",(IF('2-Impact Assessment '!F80=\"h\",\"4\",(IF('2-Impact Assessment '!F80=\"vh\",\"5\", NA())))))))))))","v":{"$error":"#N/A"}},{"$f":"VALUE((IF('2-Impact Assessment '!G80=\"vl\",\"1\",(IF('2-Impact Assessment '!G80=\"l\",\"2\",(IF('2-Impact Assessment '!G80=\"m\",\"3\",(IF('2-Impact Assessment '!G80=\"h\",\"4\",(IF('2-Impact Assessment '!G80=\"vh\",\"5\", NA())))))))))))","v":{"$error":"#N/A"}},{"$f":"VALUE((IF('2-Impact Assessment '!H80=\"vl\",\"1\",(IF('2-Impact Assessment '!H80=\"l\",\"2\",(IF('2-Impact Assessment '!H80=\"m\",\"3\",(IF('2-Impact Assessment '!H80=\"h\",\"4\",(IF('2-Impact Assessment '!H80=\"vh\",\"5\", NA())))))))))))","v":{"$error":"#N/A"}},{"$f":"VALUE((IF('2-Impact Assessment '!I80=\"vl\",\"1\",(IF('2-Impact Assessment '!I80=\"l\",\"2\",(IF('2-Impact Assessment '!I80=\"m\",\"3\",(IF('2-Impact Assessment '!I80=\"h\",\"4\",(IF('2-Impact Assessment '!I80=\"vh\",\"5\", NA())))))))))))","v":{"$error":"#N/A"}},{"$f":"VALUE((IF('2-Impact Assessment '!J80=\"vl\",\"1\",(IF('2-Impact Assessment '!J80=\"l\",\"2\",(IF('2-Impact Assessment '!J80=\"m\",\"3\",(IF('2-Impact Assessment '!J80=\"h\",\"4\",(IF('2-Impact Assessment '!J80=\"vh\",\"5\", NA())))))))))))","v":{"$error":"#N/A"}},{"$f":"VALUE((IF('2-Impact Assessment '!K80=\"vl\",\"1\",(IF('2-Impact Assessment '!K80=\"l\",\"2\",(IF('2-Impact Assessment '!K80=\"m\",\"3\",(IF('2-Impact Assessment '!K80=\"h\",\"4\",(IF('2-Impact Assessment '!K80=\"vh\",\"5\", NA())))))))))))","v":{"$error":"#N/A"}},null,null,{"$f":"IFERROR(INDEX($AA$12:$AG$12,MATCH(TRUE, AA80:AG80 >= 3, 0)),200)","v":200},null,{"$f":"IFERROR(INDEX($AA$12:$AG$12,MATCH(TRUE, AA80:AG80 >= 4, 0)),200)","v":200},null,null,null,null,null,null,null,null,null,null,{"$f":"MAX(IF(ISERROR(E81:E84),0,E81:E84))","v":0},{"$f":"MAX(IF(ISERROR(F81:F84),0,F81:F84))","v":0},{"$f":"MAX(IF(ISERROR(G81:G84),0,G81:G84))","v":0},{"$f":"MAX(IF(ISERROR(H81:H84),0,H81:H84))","v":0},{"$f":"MAX(IF(ISERROR(I81:I84),0,I81:I84))","v":0},{"$f":"MAX(IF(ISERROR(J81:J84),0,J81:J84))","v":0},{"$f":"MAX(IF(ISERROR(K81:K84),0,K81:K84))","v":0}]
[null,null,null,{"$f":"'[2]Consequence Criteria'!$A$6","v":"Environmental"},{"$f":"VALUE((IF('2-Impact Assessment '!E81=\"vl\",\"1\",(IF('2-Impact Assessment '!E81=\"l\",\"2\",(IF('2-Impact Assessment '!E81=\"m\",\"3\",(IF('2-Impact Assessment '!E81=\"h\",\"4\",(IF('2-Impact Assessment '!E81=\"vh\",\"5\", NA())))))))))))","v":{"$error":"#N/A"}},{"$f":"VALUE((IF('2-Impact Assessment '!F81=\"vl\",\"1\",(IF('2-Impact Assessment '!F81=\"l\",\"2\",(IF('2-Impact Assessment '!F81=\"m\",\"3\",(IF('2-Impact Assessment '!F81=\"h\",\"4\",(IF('2-Impact Assessment '!F81=\"vh\",\"5\", NA())))))))))))","v":{"$error":"#N/A"}},{"$f":"VALUE((IF('2-Impact Assessment '!G81=\"vl\",\"1\",(IF('2-Impact Assessment '!G81=\"l\",\"2\",(IF('2-Impact Assessment '!G81=\"m\",\"3\",(IF('2-Impact Assessment '!G81=\"h\",\"4\",(IF('2-Impact Assessment '!G81=\"vh\",\"5\", NA())))))))))))","v":{"$error":"#N/A"}},{"$f":"VALUE((IF('2-Impact Assessment '!H81=\"vl\",\"1\",(IF('2-Impact Assessment '!H81=\"l\",\"2\",(IF('2-Impact Assessment '!H81=\"m\",\"3\",(IF('2-Impact Assessment '!H81=\"h\",\"4\",(IF('2-Impact Assessment '!H81=\"vh\",\"5\", NA())))))))))))","v":{"$error":"#N/A"}},{"$f":"VALUE((IF('2-Impact Assessment '!I81=\"vl\",\"1\",(IF('2-Impact Assessment '!I81=\"l\",\"2\",(IF('2-Impact Assessment '!I81=\"m\",\"3\",(IF('2-Impact Assessment '!I81=\"h\",\"4\",(IF('2-Impact Assessment '!I81=\"vh\",\"5\", NA())))))))))))","v":{"$error":"#N/A"}},{"$f":"VALUE((IF('2-Impact Assessment '!J81=\"vl\",\"1\",(IF('2-Impact Assessment '!J81=\"l\",\"2\",(IF('2-Impact Assessment '!J81=\"m\",\"3\",(IF('2-Impact Assessment '!J81=\"h\",\"4\",(IF('2-Impact Assessment '!J81=\"vh\",\"5\", NA())))))))))))","v":{"$error":"#N/A"}},{"$f":"VALUE((IF('2-Impact Assessment '!K81=\"vl\",\"1\",(IF('2-Impact Assessment '!K81=\"l\",\"2\",(IF('2-Impact Assessment '!K81=\"m\",\"3\",(IF('2-Impact Assessment '!K81=\"h\",\"4\",(IF('2-Impact Assessment '!K81=\"vh\",\"5\", NA())))))))))))","v":{"$error":"#N/A"}},null,null,{"$f":"IFERROR(INDEX($AA$12:$AG$12,MATCH(TRUE, AA81:AG81 >= 3, 0)),200)","v":200},null,{"$f":"IFERROR(INDEX($AA$12:$AG$12,MATCH(TRUE, AA81:AG81 >= 4, 0)),200)","v":200},null,null,null,null,null,null,null,null,null,null,{"$f":"MAX(IF(ISERROR(E82:E85),0,E82:E85))","v":0},{"$f":"MAX(IF(ISERROR(F82:F85),0,F82:F85))","v":0},{"$f":"MAX(IF(ISERROR(G82:G85),0,G82:G85))","v":0},{"$f":"MAX(IF(ISERROR(H82:H85),0,H82:H85))","v":0},{"$f":"MAX(IF(ISERROR(I82:I85),0,I82:I85))","v":0},{"$f":"MAX(IF(ISERROR(J82:J85),0,J82:J85))","v":0},{"$f":"MAX(IF(ISERROR(K82:K85),0,K82:K85))","v":0}]
[null,null,null,{"$f":"'[2]Consequence Criteria'!$A$7","v":0},null,null,null,null,null,null,null,null,null,{"$f":"IFERROR(INDEX($AA$12:$AG$12,MATCH(TRUE, AA82:AG82 >= 3, 0)),200)","v":200},null,{"$f":"IFERROR(INDEX($AA$12:$AG$12,MATCH(TRUE, AA82:AG82 >= 4, 0)),200)","v":200},null,null,null,null,null,null,null,null,null,null,{"$f":"MAX(IF(ISERROR(E83:E86),0,E83:E86))","v":0},{"$f":"MAX(IF(ISERROR(F83:F86),0,F83:F86))","v":0},{"$f":"MAX(IF(ISERROR(G83:G86),0,G83:G86))","v":0},{"$f":"MAX(IF(ISERROR(H83:H86),0,H83:H86))","v":0},{"$f":"MAX(IF(ISERROR(I83:I86),0,I83:I86))","v":0},{"$f":"MAX(IF(ISERROR(J83:J86),0,J83:J86))","v":0},{"$f":"MAX(IF(ISERROR(K83:K86),0,K83:K86))","v":0}]
[null,null,null,{"$f":"'[2]Consequence Criteria'!$A$8","v":0},null,null,null,null,null,null,null,null,null,{"$f":"IFERROR(INDEX($AA$12:$AG$12,MATCH(TRUE, AA83:AG83 >= 3, 0)),200)","v":200},null,{"$f":"IFERROR(INDEX($AA$12:$AG$12,MATCH(TRUE, AA83:AG83 >= 4, 0)),200)","v":200},null,null,null,null,null,null,null,null,null,null,{"$f":"MAX(IF(ISERROR(E84:E87),0,E84:E87))","v":0},{"$f":"MAX(IF(ISERROR(F84:F87),0,F84:F87))","v":0},{"$f":"MAX(IF(ISERROR(G84:G87),0,G84:G87))","v":0},{"$f":"MAX(IF(ISERROR(H84:H87),0,H84:H87))","v":0},{"$f":"MAX(IF(ISERROR(I84:I87),0,I84:I87))","v":0},{"$f":"MAX(IF(ISERROR(J84:J87),0,J84:J87))","v":0},{"$f":"MAX(IF(ISERROR(K84:K87),0,K84:K87))","v":0}]
[null,null,null,{"$f":"'[2]Consequence Criteria'!$A$9","v":0},null,null,null,null,null,null,null,null,null,{"$f":"IFERROR(INDEX($AA$12:$AG$12,MATCH(TRUE, AA84:AG84 >= 3, 0)),200)","v":200},null,{"$f":"IFERROR(INDEX($AA$12:$AG$12,MATCH(TRUE, AA84:AG84 >= 4, 0)),200)","v":200},null,null,null,null,null,null,null,null,null,null,{"$f":"MAX(IF(ISERROR(E85:E88),0,E85:E88))","v":0},{"$f":"MAX(IF(ISERROR(F85:F88),0,F85:F88))","v":0},{"$f":"MAX(IF(ISERROR(G85:G88),0,G85:G88))","v":0},{"$f":"MAX(IF(ISERROR(H85:H88),0,H85:H88))","v":0},{"$f":"MAX(IF(ISERROR(I85:I88),0,I85:I88))","v":0},{"$f":"MAX(IF(ISERROR(J85:J88),0,J85:J88))","v":0},{"$f":"MAX(IF(ISERROR(K85:K88),0,K85:K88))","v":0}]
[null,null,null,{"$f":"'[2]Consequence Criteria'!$A$10","v":0},null,null,null,null,null,null,null,null,null,{"$f":"IFERROR(INDEX($AA$12:$AG$12,MATCH(TRUE, AA85:AG85 >= 3, 0)),200)","v":200},null,{"$f":"IFERROR(INDEX($AA$12:$AG$12,MATCH(TRUE, AA85:AG85 >= 4, 0)),200)","v":200},null,null,null,null,null,null,null,null,null,null,{"$f":"MAX(IF(ISERROR(E86:E89),0,E86:E89))","v":0},{"$f":"MAX(IF(ISERROR(F86:F89),0,F86:F89))","v":0},{"$f":"MAX(IF(ISERROR(G86:G89),0,G86:G89))","v":0},{"$f":"MAX(IF(ISERROR(H86:H89),0,H86:H89))","v":0},{"$f":"MAX(IF(ISERROR(I86:I89),0,I86:I89))","v":0},{"$f":"MAX(IF(ISERROR(J86:J89),0,J86:J89))","v":0},{"$f":"MAX(IF(ISERROR(K86:K89),0,K86:K89))","v":0}]
[null,{"$f":"IF(ISTEXT('1-Services & Function'!D38),'1-Services & Function'!D38,\"\")","v":""},9,null,"1 hr","4 hr","1 day","2 days","5 days","1 month","> 6 months","Comments",null,{"$f":"IFERROR(INDEX($AA$12:$AG$12,MATCH(TRUE, AA86:AG86 >= 3, 0)),200)","v":200},null,{"$f":"IFERROR(INDEX($AA$12:$AG$12,MATCH(TRUE, AA86:AG86 >= 4, 0)),200)","v":200},null,null,null,null,null,null,null,null,null,null,{"$f":"MAX(IF(ISERROR(E87:E90),0,E87:E90))","v":0},{"$f":"MAX(IF(ISERROR(F87:F90),0,F87:F90))","v":0},{"$f":"MAX(IF(ISERROR(G87:G90),0,G87:G90))","v":0},{"$f":"MAX(IF(ISERROR(H87:H90),0,H87:H90))","v":0},{"$f":"MAX(IF(ISERROR(I87:I90),0,I87:I90))","v":0},{"$f":"MAX(IF(ISERROR(J87:J90),0,J87:J90))","v":0},{"$f":"MAX(IF(ISERROR(K87:K90),0,K87:K90))","v":0}]
[null,null,null,{"$f":"'[2]Consequence Criteria'!$A$3","v":"Economic"},{"$f":"VALUE((IF('2-Impact Assessment '!E87=\"vl\",\"1\",(IF('2-Impact Assessment '!E87=\"l\",\"2\",(IF('2-Impact Assessment '!E87=\"m\",\"3\",(IF('2-Impact Assessment '!E87=\"h\",\"4\",(IF('2-Impact Assessment '!E87=\"vh\",\"5\", NA())))))))))))","v":{"$error":"#N/A"}},{"$f":"VALUE((IF('2-Impact Assessment '!F87=\"vl\",\"1\",(IF('2-Impact Assessment '!F87=\"l\",\"2\",(IF('2-Impact Assessment '!F87=\"m\",\"3\",(IF('2-Impact Assessment '!F87=\"h\",\"4\",(IF('2-Impact Assessment '!F87=\"vh\",\"5\", NA())))))))))))","v":{"$error":"#N/A"}},{"$f":"VALUE((IF('2-Impact Assessment '!G87=\"vl\",\"1\",(IF('2-Impact Assessment '!G87=\"l\",\"2\",(IF('2-Impact Assessment '!G87=\"m\",\"3\",(IF('2-Impact Assessment '!G87=\"h\",\"4\",(IF('2-Impact Assessment '!G87=\"vh\",\"5\", NA())))))))))))","v":{"$error":"#N/A"}},{"$f":"VALUE((IF('2-Impact Assessment '!H87=\"vl\",\"1\",(IF('2-Impact Assessment '!H87=\"l\",\"2\",(IF('2-Impact Assessment '!H87=\"m\",\"3\",(IF('2-Impact Assessment '!H87=\"h\",\"4\",(IF('2-Impact Assessment '!H87=\"vh\",\"5\", NA())))))))))))","v":{"$error":"#N/A"}},{"$f":"VALUE((IF('2-Impact Assessment '!I87=\"vl\",\"1\",(IF('2-Impact Assessment '!I87=\"l\",\"2\",(IF('2-Impact Assessment '!I87=\"m\",\"3\",(IF('2-Impact Assessment '!I87=\"h\",\"4\",(IF('2-Impact Assessment '!I87=\"vh\",\"5\", NA())))))))))))","v":{"$error":"#N/A"}},{"$f":"VALUE((IF('2-Impact Assessment '!J87=\"vl\",\"1\",(IF('2-Impact Assessment '!J87=\"l\",\"2\",(IF('2-Impact Assessment '!J87=\"m\",\"3\",(IF('2-Impact Assessment '!J87=\"h\",\"4\",(IF('2-Impact Assessment '!J87=\"vh\",\"5\", NA())))))))))))","v":{"$error":"#N/A"}},{"$f":"VALUE((IF('2-Impact Assessment '!K87=\"vl\",\"1\",(IF('2-Impact Assessment '!K87=\"l\",\"2\",(IF('2-Impact Assessment '!K87=\"m\",\"3\",(IF('2-Impact Assessment '!K87=\"h\",\"4\",(IF('2-Impact Assessment '!K87=\"vh\",\"5\", NA())))))))))))","v":{"$error":"#N/A"}},null,null,{"$f":"IFERROR(INDEX($AA$12:$AG$12,MATCH(TRUE, AA87:AG87 >= 3, 0)),200)","v":200},null,{"$f":"IFERROR(INDEX($AA$12:$AG$12,MATCH(TRUE, AA87:AG87 >= 4, 0)),200)","v":200},null,null,null,null,null,null,null,null,null,null,{"$f":"MAX(IF(ISERROR(E88:E91),0,E88:E91))","v":0},{"$f":"MAX(IF(ISERROR(F88:F91),0,F88:F91))","v":0},{"$f":"MAX(IF(ISERROR(G88:G91),0,G88:G91))","v":0},{"$f":"MAX(IF(ISERROR(H88:H91),0,H88:H91))","v":0},{"$f":"MAX(IF(ISERROR(I88:I91),0,I88:I91))","v":0},{"$f":"MAX(IF(ISERROR(J88:J91),0,J88:J91))","v":0},{"$f":"MAX(IF(ISERROR(K88:K91),0,K88:K91))","v":0}]
[null,null,null,{"$f":"'[2]Consequence Criteria'!$A$4","v":"Social"},{"$f":"VALUE((IF('2-Impact Assessment '!E88=\"vl\",\"1\",(IF('2-Impact Assessment '!E88=\"l\",\"2\",(IF('2-Impact Assessment '!E88=\"m\",\"3\",(IF('2-Impact Assessment '!E88=\"h\",\"4\",(IF('2-Impact Assessment '!E88=\"vh\",\"5\", NA())))))))))))","v":{"$error":"#N/A"}},{"$f":"VALUE((IF('2-Impact Assessment '!F88=\"vl\",\"1\",(IF('2-Impact Assessment '!F88=\"l\",\"2\",(IF('2-Impact Assessment '!F88=\"m\",\"3\",(IF('2-Impact Assessment '!F88=\"h\",\"4\",(IF('2-Impact Assessment '!F88=\"vh\",\"5\", NA())))))))))))","v":{"$error":"#N/A"}},{"$f":"VALUE((IF('2-Impact Assessment '!G88=\"vl\",\"1\",(IF('2-Impact Assessment '!G88=\"l\",\"2\",(IF('2-Impact Assessment '!G88=\"m\",\"3\",(IF('2-Impact Assessment '!G88=\"h\",\"4\",(IF('2-Impact Assessment '!G88=\"vh\",\"5\", NA())))))))))))","v":{"$error":"#N/A"}},{"$f":"VALUE((IF('2-Impact Assessment '!H88=\"vl\",\"1\",(IF('2-Impact Assessment '!H88=\"l\",\"2\",(IF('2-Impact Assessment '!H88=\"m\",\"3\",(IF('2-Impact Assessment '!H88=\"h\",\"4\",(IF('2-Impact Assessment '!H88=\"vh\",\"5\", NA())))))))))))","v":{"$error":"#N/A"}},{"$f":"VALUE((IF('2-Impact Assessment '!I88=\"vl\",\"1\",(IF('2-Impact Assessment '!I88=\"l\",\"2\",(IF('2-Impact Assessment '!I88=\"m\",\"3\",(IF('2-Impact Assessment '!I88=\"h\",\"4\",(IF('2-Impact Assessment '!I88=\"vh\",\"5\", NA())))))))))))","v":{"$error":"#N/A"}},{"$f":"VALUE((IF('2-Impact Assessment '!J88=\"vl\",\"1\",(IF('2-Impact Assessment '!J88=\"l\",\"2\",(IF('2-Impact Assessment '!J88=\"m\",\"3\",(IF('2-Impact Assessment '!J88=\"h\",\"4\",(IF('2-Impact Assessment '!J88=\"vh\",\"5\", NA())))))))))))","v":{"$error":"#N/A"}},{"$f":"VALUE((IF('2-Impact Assessment '!K88=\"vl\",\"1\",(IF('2-Impact Assessment '!K88=\"l\",\"2\",(IF('2-Impact Assessment '!K88=\"m\",\"3\",(IF('2-Impact Assessment '!K88=\"h\",\"4\",(IF('2-Impact Assessment '!K88=\"vh\",\"5\", NA())))))))))))","v":{"$error":"#N/A"}},null,null,{"$f":"IFERROR(INDEX($AA$12:$AG$12,MATCH(TRUE, AA88:AG88 >= 3, 0)),200)","v":200},null,{"$f":"IFERROR(INDEX($AA$12:$AG$12,MATCH(TRUE, AA88:AG88 >= 4, 0)),200)","v":200},null,null,null,null,null,null,null,null,null,null,{"$f":"MAX(IF(ISERROR(E89:E92),0,E89:E92))","v":0},{"$f":"MAX(IF(ISERROR(F89:F92),0,F89:F92))","v":0},{"$f":"MAX(IF(ISERROR(G89:G92),0,G89:G92))","v":0},{"$f":"MAX(IF(ISERROR(H89:H92),0,H89:H92))","v":0},{"$f":"MAX(IF(ISERROR(I89:I92),0,I89:I92))","v":0},{"$f":"MAX(IF(ISERROR(J89:J92),0,J89:J92))","v":0},{"$f":"MAX(IF(ISERROR(K89:K92),0,K89:K92))","v":0}]
[null,null,null,{"$f":"'[2]Consequence Criteria'!$A$5","v":"Cultural"},{"$f":"VALUE((IF('2-Impact Assessment '!E89=\"vl\",\"1\",(IF('2-Impact Assessment '!E89=\"l\",\"2\",(IF('2-Impact Assessment '!E89=\"m\",\"3\",(IF('2-Impact Assessment '!E89=\"h\",\"4\",(IF('2-Impact Assessment '!E89=\"vh\",\"5\", NA())))))))))))","v":{"$error":"#N/A"}},{"$f":"VALUE((IF('2-Impact Assessment '!F89=\"vl\",\"1\",(IF('2-Impact Assessment '!F89=\"l\",\"2\",(IF('2-Impact Assessment '!F89=\"m\",\"3\",(IF('2-Impact Assessment '!F89=\"h\",\"4\",(IF('2-Impact Assessment '!F89=\"vh\",\"5\", NA())))))))))))","v":{"$error":"#N/A"}},{"$f":"VALUE((IF('2-Impact Assessment '!G89=\"vl\",\"1\",(IF('2-Impact Assessment '!G89=\"l\",\"2\",(IF('2-Impact Assessment '!G89=\"m\",\"3\",(IF('2-Impact Assessment '!G89=\"h\",\"4\",(IF('2-Impact Assessment '!G89=\"vh\",\"5\", NA())))))))))))","v":{"$error":"#N/A"}},{"$f":"VALUE((IF('2-Impact Assessment '!H89=\"vl\",\"1\",(IF('2-Impact Assessment '!H89=\"l\",\"2\",(IF('2-Impact Assessment '!H89=\"m\",\"3\",(IF('2-Impact Assessment '!H89=\"h\",\"4\",(IF('2-Impact Assessment '!H89=\"vh\",\"5\", NA())))))))))))","v":{"$error":"#N/A"}},{"$f":"VALUE((IF('2-Impact Assessment '!I89=\"vl\",\"1\",(IF('2-Impact Assessment '!I89=\"l\",\"2\",(IF('2-Impact Assessment '!I89=\"m\",\"3\",(IF('2-Impact Assessment '!I89=\"h\",\"4\",(IF('2-Impact Assessment '!I89=\"vh\",\"5\", NA())))))))))))","v":{"$error":"#N/A"}},{"$f":"VALUE((IF('2-Impact Assessment '!J89=\"vl\",\"1\",(IF('2-Impact Assessment '!J89=\"l\",\"2\",(IF('2-Impact Assessment '!J89=\"m\",\"3\",(IF('2-Impact Assessment '!J89=\"h\",\"4\",(IF('2-Impact Assessment '!J89=\"vh\",\"5\", NA())))))))))))","v":{"$error":"#N/A"}},{"$f":"VALUE((IF('2-Impact Assessment '!K89=\"vl\",\"1\",(IF('2-Impact Assessment '!K89=\"l\",\"2\",(IF('2-Impact Assessment '!K89=\"m\",\"3\",(IF('2-Impact Assessment '!K89=\"h\",\"4\",(IF('2-Impact Assessment '!K89=\"vh\",\"5\", NA())))))))))))","v":{"$error":"#N/A"}},null,null,{"$f":"IFERROR(INDEX($AA$12:$AG$12,MATCH(TRUE, AA89:AG89 >= 3, 0)),200)","v":200},null,{"$f":"IFERROR(INDEX($AA$12:$AG$12,MATCH(TRUE, AA89:AG89 >= 4, 0)),200)","v":200},null,null,null,null,null,null,null,null,null,null,{"$f":"MAX(IF(ISERROR(E90:E93),0,E90:E93))","v":0},{"$f":"MAX(IF(ISERROR(F90:F93),0,F90:F93))","v":0},{"$f":"MAX(IF(ISERROR(G90:G93),0,G90:G93))","v":0},{"$f":"MAX(IF(ISERROR(H90:H93),0,H90:H93))","v":0},{"$f":"MAX(IF(ISERROR(I90:I93),0,I90:I93))","v":0},{"$f":"MAX(IF(ISERROR(J90:J93),0,J90:J93))","v":0},{"$f":"MAX(IF(ISERROR(K90:K93),0,K90:K93))","v":0}]
[null,null,null,{"$f":"'[2]Consequence Criteria'!$A$6","v":"Environmental"},{"$f":"VALUE((IF('2-Impact Assessment '!E90=\"vl\",\"1\",(IF('2-Impact Assessment '!E90=\"l\",\"2\",(IF('2-Impact Assessment '!E90=\"m\",\"3\",(IF('2-Impact Assessment '!E90=\"h\",\"4\",(IF('2-Impact Assessment '!E90=\"vh\",\"5\", NA())))))))))))","v":{"$error":"#N/A"}},{"$f":"VALUE((IF('2-Impact Assessment '!F90=\"vl\",\"1\",(IF('2-Impact Assessment '!F90=\"l\",\"2\",(IF('2-Impact Assessment '!F90=\"m\",\"3\",(IF('2-Impact Assessment '!F90=\"h\",\"4\",(IF('2-Impact Assessment '!F90=\"vh\",\"5\", NA())))))))))))","v":{"$error":"#N/A"}},{"$f":"VALUE((IF('2-Impact Assessment '!G90=\"vl\",\"1\",(IF('2-Impact Assessment '!G90=\"l\",\"2\",(IF('2-Impact Assessment '!G90=\"m\",\"3\",(IF('2-Impact Assessment '!G90=\"h\",\"4\",(IF('2-Impact Assessment '!G90=\"vh\",\"5\", NA())))))))))))","v":{"$error":"#N/A"}},{"$f":"VALUE((IF('2-Impact Assessment '!H90=\"vl\",\"1\",(IF('2-Impact Assessment '!H90=\"l\",\"2\",(IF('2-Impact Assessment '!H90=\"m\",\"3\",(IF('2-Impact Assessment '!H90=\"h\",\"4\",(IF('2-Impact Assessment '!H90=\"vh\",\"5\", NA())))))))))))","v":{"$error":"#N/A"}},{"$f":"VALUE((IF('2-Impact Assessment '!I90=\"vl\",\"1\",(IF('2-Impact Assessment '!I90=\"l\",\"2\",(IF('2-Impact Assessment '!I90=\"m\",\"3\",(IF('2-Impact Assessment '!I90=\"h\",\"4\",(IF('2-Impact Assessment '!I90=\"vh\",\"5\", NA())))))))))))","v":{"$error":"#N/A"}},{"$f":"VALUE((IF('2-Impact Assessment '!J90=\"vl\",\"1\",(IF('2-Impact Assessment '!J90=\"l\",\"2\",(IF('2-Impact Assessment '!J90=\"m\",\"3\",(IF('2-Impact Assessment '!J90=\"h\",\"4\",(IF('2-Impact Assessment '!J90=\"vh\",\"5\", NA())))))))))))","v":{"$error":"#N/A"}},{"$f":"VALUE((IF('2-Impact Assessment '!K90=\"vl\",\"1\",(IF('2-Impact Assessment '!K90=\"l\",\"2\",(IF('2-Impact Assessment '!K90=\"m\",\"3\",(IF('2-Impact Assessment '!K90=\"h\",\"4\",(IF('2-Impact Assessment '!K90=\"vh\",\"5\", NA())))))))))))","v":{"$error":"#N/A"}},null,null,{"$f":"IFERROR(INDEX($AA$12:$AG$12,MATCH(TRUE, AA90:AG90 >= 3, 0)),200)","v":200},null,{"$f":"IFERROR(INDEX($AA$12:$AG$12,MATCH(TRUE, AA90:AG90 >= 4, 0)),200)","v":200},null,null,null,null,null,null,null,null,null,null,{"$f":"MAX(IF(ISERROR(E91:E94),0,E91:E94))","v":0},{"$f":"MAX(IF(ISERROR(F91:F94),0,F91:F94))","v":0},{"$f":"MAX(IF(ISERROR(G91:G94),0,G91:G94))","v":0},{"$f":"MAX(IF(ISERROR(H91:H94),0,H91:H94))","v":0},{"$f":"MAX(IF(ISERROR(I91:I94),0,I91:I94))","v":0},{"$f":"MAX(IF(ISERROR(J91:J94),0,J91:J94))","v":0},{"$f":"MAX(IF(ISERROR(K91:K94),0,K91:K94))","v":0}]
[null,null,null,{"$f":"'[2]Consequence Criteria'!$A$7","v":0},{"$f":"VALUE((IF('2-Impact Assessment '!E91=\"vl\",\"1\",(IF('2-Impact Assessment '!E91=\"l\",\"2\",(IF('2-Impact Assessment '!E91=\"m\",\"3\",(IF('2-Impact Assessment '!E91=\"h\",\"4\",(IF('2-Impact Assessment '!E91=\"vh\",\"5\", NA())))))))))))","v":{"$error":"#N/A"}},{"$f":"VALUE((IF('2-Impact Assessment '!F91=\"vl\",\"1\",(IF('2-Impact Assessment '!F91=\"l\",\"2\",(IF('2-Impact Assessment '!F91=\"m\",\"3\",(IF('2-Impact Assessment '!F91=\"h\",\"4\",(IF('2-Impact Assessment '!F91=\"vh\",\"5\", NA())))))))))))","v":{"$error":"#N/A"}},{"$f":"VALUE((IF('2-Impact Assessment '!G91=\"vl\",\"1\",(IF('2-Impact Assessment '!G91=\"l\",\"2\",(IF('2-Impact Assessment '!G91=\"m\",\"3\",(IF('2-Impact Assessment '!G91=\"h\",\"4\",(IF('2-Impact Assessment '!G91=\"vh\",\"5\", NA())))))))))))","v":{"$error":"#N/A"}},{"$f":"VALUE((IF('2-Impact Assessment '!H91=\"vl\",\"1\",(IF('2-Impact Assessment '!H91=\"l\",\"2\",(IF('2-Impact Assessment '!H91=\"m\",\"3\",(IF('2-Impact Assessment '!H91=\"h\",\"4\",(IF('2-Impact Assessment '!H91=\"vh\",\"5\", NA())))))))))))","v":{"$error":"#N/A"}},{"$f":"VALUE((IF('2-Impact Assessment '!I91=\"vl\",\"1\",(IF('2-Impact Assessment '!I91=\"l\",\"2\",(IF('2-Impact Assessment '!I91=\"m\",\"3\",(IF('2-Impact Assessment '!I91=\"h\",\"4\",(IF('2-Impact Assessment '!I91=\"vh\",\"5\", NA())))))))))))","v":{"$error":"#N/A"}},{"$f":"VALUE((IF('2-Impact Assessment '!J91=\"vl\",\"1\",(IF('2-Impact Assessment '!J91=\"l\",\"2\",(IF('2-Impact Assessment '!J91=\"m\",\"3\",(IF('2-Impact Assessment '!J91=\"h\",\"4\",(IF('2-Impact Assessment '!J91=\"vh\",\"5\", NA())))))))))))","v":{"$error":"#N/A"}},{"$f":"VALUE((IF('2-Impact Assessment '!K91=\"vl\",\"1\",(IF('2-Impact Assessment '!K91=\"l\",\"2\",(IF('2-Impact Assessment '!K91=\"m\",\"3\",(IF('2-Impact Assessment '!K91=\"h\",\"4\",(IF('2-Impact Assessment '!K91=\"vh\",\"5\", NA())))))))))))","v":{"$error":"#N/A"}},null,null,{"$f":"IFERROR(INDEX($AA$12:$AG$12,MATCH(TRUE, AA91:AG91 >= 3, 0)),200)","v":200},null,{"$f":"IFERROR(INDEX($AA$12:$AG$12,MATCH(TRUE, AA91:AG91 >= 4, 0)),200)","v":200},null,null,null,null,null,null,null,null,null,null,{"$f":"MAX(IF(ISERROR(E92:E95),0,E92:E95))","v":0},{"$f":"MAX(IF(ISERROR(F92:F95),0,F92:F95))","v":0},{"$f":"MAX(IF(ISERROR(G92:G95),0,G92:G95))","v":0},{"$f":"MAX(IF(ISERROR(H92:H95),0,H92:H95))","v":0},{"$f":"MAX(IF(ISERROR(I92:I95),0,I92:I95))","v":0},{"$f":"MAX(IF(ISERROR(J92:J95),0,J92:J95))","v":0},{"$f":"MAX(IF(ISERROR(K92:K95),0,K92:K95))","v":0}]
[null,null,null,{"$f":"'[2]Consequence Criteria'!$A$8","v":0},{"$f":"VALUE((IF('2-Impact Assessment '!E92=\"vl\",\"1\",(IF('2-Impact Assessment '!E92=\"l\",\"2\",(IF('2-Impact Assessment '!E92=\"m\",\"3\",(IF('2-Impact Assessment '!E92=\"h\",\"4\",(IF('2-Impact Assessment '!E92=\"vh\",\"5\", NA())))))))))))","v":{"$error":"#N/A"}},{"$f":"VALUE((IF('2-Impact Assessment '!F92=\"vl\",\"1\",(IF('2-Impact Assessment '!F92=\"l\",\"2\",(IF('2-Impact Assessment '!F92=\"m\",\"3\",(IF('2-Impact Assessment '!F92=\"h\",\"4\",(IF('2-Impact Assessment '!F92=\"vh\",\"5\", NA())))))))))))","v":{"$error":"#N/A"}},{"$f":"VALUE((IF('2-Impact Assessment '!G92=\"vl\",\"1\",(IF('2-Impact Assessment '!G92=\"l\",\"2\",(IF('2-Impact Assessment '!G92=\"m\",\"3\",(IF('2-Impact Assessment '!G92=\"h\",\"4\",(IF('2-Impact Assessment '!G92=\"vh\",\"5\", NA())))))))))))","v":{"$error":"#N/A"}},{"$f":"VALUE((IF('2-Impact Assessment '!H92=\"vl\",\"1\",(IF('2-Impact Assessment '!H92=\"l\",\"2\",(IF('2-Impact Assessment '!H92=\"m\",\"3\",(IF('2-Impact Assessment '!H92=\"h\",\"4\",(IF('2-Impact Assessment '!H92=\"vh\",\"5\", NA())))))))))))","v":{"$error":"#N/A"}},{"$f":"VALUE((IF('2-Impact Assessment '!I92=\"vl\",\"1\",(IF('2-Impact Assessment '!I92=\"l\",\"2\",(IF('2-Impact Assessment '!I92=\"m\",\"3\",(IF('2-Impact Assessment '!I92=\"h\",\"4\",(IF('2-Impact Assessment '!I92=\"vh\",\"5\", NA())))))))))))","v":{"$error":"#N/A"}},{"$f":"VALUE((IF('2-Impact Assessment '!J92=\"vl\",\"1\",(IF('2-Impact Assessment '!J92=\"l\",\"2\",(IF('2-Impact Assessment '!J92=\"m\",\"3\",(IF('2-Impact Assessment '!J92=\"h\",\"4\",(IF('2-Impact Assessment '!J92=\"vh\",\"5\", NA())))))))))))","v":{"$error":"#N/A"}},{"$f":"VALUE((IF('2-Impact Assessment '!K92=\"vl\",\"1\",(IF('2-Impact Assessment '!K92=\"l\",\"2\",(IF('2-Impact Assessment '!K92=\"m\",\"3\",(IF('2-Impact Assessment '!K92=\"h\",\"4\",(IF('2-Impact Assessment '!K92=\"vh\",\"5\", NA())))))))))))","v":{"$error":"#N/A"}},null,null,{"$f":"IFERROR(INDEX($AA$12:$AG$12,MATCH(TRUE, AA92:AG92 >= 3, 0)),200)","v":200},null,{"$f":"IFERROR(INDEX($AA$12:$AG$12,MATCH(TRUE, AA92:AG92 >= 4, 0)),200)","v":200},null,null,null,null,null,null,null,null,null,null,{"$f":"MAX(IF(ISERROR(E93:E96),0,E93:E96))","v":0},{"$f":"MAX(IF(ISERROR(F93:F96),0,F93:F96))","v":0},{"$f":"MAX(IF(ISERROR(G93:G96),0,G93:G96))","v":0},{"$f":"MAX(IF(ISERROR(H93:H96),0,H93:H96))","v":0},{"$f":"MAX(IF(ISERROR(I93:I96),0,I93:I96))","v":0},{"$f":"MAX(IF(ISERROR(J93:J96),0,J93:J96))","v":0},{"$f":"MAX(IF(ISERROR(K93:K96),0,K93:K96))","v":0}]
[null,null,null,{"$f":"'[2]Consequence Criteria'!$A$9","v":0},{"$f":"VALUE((IF('2-Impact Assessment '!E93=\"vl\",\"1\",(IF('2-Impact Assessment '!E93=\"l\",\"2\",(IF('2-Impact Assessment '!E93=\"m\",\"3\",(IF('2-Impact Assessment '!E93=\"h\",\"4\",(IF('2-Impact Assessment '!E93=\"vh\",\"5\", NA())))))))))))","v":{"$error":"#N/A"}},{"$f":"VALUE((IF('2-Impact Assessment '!F93=\"vl\",\"1\",(IF('2-Impact Assessment '!F93=\"l\",\"2\",(IF('2-Impact Assessment '!F93=\"m\",\"3\",(IF('2-Impact Assessment '!F93=\"h\",\"4\",(IF('2-Impact Assessment '!F93=\"vh\",\"5\", NA())))))))))))","v":{"$error":"#N/A"}},{"$f":"VALUE((IF('2-Impact Assessment '!G93=\"vl\",\"1\",(IF('2-Impact Assessment '!G93=\"l\",\"2\",(IF('2-Impact Assessment '!G93=\"m\",\"3\",(IF('2-Impact Assessment '!G93=\"h\",\"4\",(IF('2-Impact Assessment '!G93=\"vh\",\"5\", NA())))))))))))","v":{"$error":"#N/A"}},{"$f":"VALUE((IF('2-Impact Assessment '!H93=\"vl\",\"1\",(IF('2-Impact Assessment '!H93=\"l\",\"2\",(IF('2-Impact Assessment '!H93=\"m\",\"3\",(IF('2-Impact Assessment '!H93=\"h\",\"4\",(IF('2-Impact Assessment '!H93=\"vh\",\"5\", NA())))))))))))","v":{"$error":"#N/A"}},{"$f":"VALUE((IF('2-Impact Assessment '!I93=\"vl\",\"1\",(IF('2-Impact Assessment '!I93=\"l\",\"2\",(IF('2-Impact Assessment '!I93=\"m\",\"3\",(IF('2-Impact Assessment '!I93=\"h\",\"4\",(IF('2-Impact Assessment '!I93=\"vh\",\"5\", NA())))))))))))","v":{"$error":"#N/A"}},{"$f":"VALUE((IF('2-Impact Assessment '!J93=\"vl\",\"1\",(IF('2-Impact Assessment '!J93=\"l\",\"2\",(IF('2-Impact Assessment '!J93=\"m\",\"3\",(IF('2-Impact Assessment '!J93=\"h\",\"4\",(IF('2-Impact Assessment '!J93=\"vh\",\"5\", NA())))))))))))","v":{"$error":"#N/A"}},{"$f":"VALUE((IF('2-Impact Assessment '!K93=\"vl\",\"1\",(IF('2-Impact Assessment '!K93=\"l\",\"2\",(IF('2-Impact Assessment '!K93=\"m\",\"3\",(IF('2-Impact Assessment '!K93=\"h\",\"4\",(IF('2-Impact Assessment '!K93=\"vh\",\"5\", NA())))))))))))","v":{"$error":"#N/A"}},null,null,{"$f":"IFERROR(INDEX($AA$12:$AG$12,MATCH(TRUE, AA93:AG93 >= 3, 0)),200)","v":200},null,{"$f":"IFERROR(INDEX($AA$12:$AG$12,MATCH(TRUE, AA93:AG93 >= 4, 0)),200)","v":200},null,null,null,null,null,null,null,null,null,null,{"$f":"MAX(IF(ISERROR(E94:E97),0,E94:E97))","v":0},{"$f":"MAX(IF(ISERROR(F94:F97),0,F94:F97))","v":0},{"$f":"MAX(IF(ISERROR(G94:G97),0,G94:G97))","v":0},{"$f":"MAX(IF(ISERROR(H94:H97),0,H94:H97))","v":0},{"$f":"MAX(IF(ISERROR(I94:I97),0,I94:I97))","v":0},{"$f":"MAX(IF(ISERROR(J94:J97),0,J94:J97))","v":0},{"$f":"MAX(IF(ISERROR(K94:K97),0,K94:K97))","v":0}]
[null,null,null,{"$f":"'[2]Consequence Criteria'!$A$10","v":0},{"$f":"VALUE((IF('2-Impact Assessment '!E94=\"vl\",\"1\",(IF('2-Impact Assessment '!E94=\"l\",\"2\",(IF('2-Impact Assessment '!E94=\"m\",\"3\",(IF('2-Impact Assessment '!E94=\"h\",\"4\",(IF('2-Impact Assessment '!E94=\"vh\",\"5\", NA())))))))))))","v":{"$error":"#N/A"}},{"$f":"VALUE((IF('2-Impact Assessment '!F94=\"vl\",\"1\",(IF('2-Impact Assessment '!F94=\"l\",\"2\",(IF('2-Impact Assessment '!F94=\"m\",\"3\",(IF('2-Impact Assessment '!F94=\"h\",\"4\",(IF('2-Impact Assessment '!F94=\"vh\",\"5\", NA())))))))))))","v":{"$error":"#N/A"}},{"$f":"VALUE((IF('2-Impact Assessment '!G94=\"vl\",\"1\",(IF('2-Impact Assessment '!G94=\"l\",\"2\",(IF('2-Impact Assessment '!G94=\"m\",\"3\",(IF('2-Impact Assessment '!G94=\"h\",\"4\",(IF('2-Impact Assessment '!G94=\"vh\",\"5\", NA())))))))))))","v":{"$error":"#N/A"}},{"$f":"VALUE((IF('2-Impact Assessment '!H94=\"vl\",\"1\",(IF('2-Impact Assessment '!H94=\"l\",\"2\",(IF('2-Impact Assessment '!H94=\"m\",\"3\",(IF('2-Impact Assessment '!H94=\"h\",\"4\",(IF('2-Impact Assessment '!H94=\"vh\",\"5\", NA())))))))))))","v":{"$error":"#N/A"}},{"$f":"VALUE((IF('2-Impact Assessment '!I94=\"vl\",\"1\",(IF('2-Impact Assessment '!I94=\"l\",\"2\",(IF('2-Impact Assessment '!I94=\"m\",\"3\",(IF('2-Impact Assessment '!I94=\"h\",\"4\",(IF('2-Impact Assessment '!I94=\"vh\",\"5\", NA())))))))))))","v":{"$error":"#N/A"}},{"$f":"VALUE((IF('2-Impact Assessment '!J94=\"vl\",\"1\",(IF('2-Impact Assessment '!J94=\"l\",\"2\",(IF('2-Impact Assessment '!J94=\"m\",\"3\",(IF('2-Impact Assessment '!J94=\"h\",\"4\",(IF('2-Impact Assessment '!J94=\"vh\",\"5\", NA())))))))))))","v":{"$error":"#N/A"}},{"$f":"VALUE((IF('2-Impact Assessment '!K94=\"vl\",\"1\",(IF('2-Impact Assessment '!K94=\"l\",\"2\",(IF('2-Impact Assessment '!K94=\"m\",\"3\",(IF('2-Impact Assessment '!K94=\"h\",\"4\",(IF('2-Impact Assessment '!K94=\"vh\",\"5\", NA())))))))))))","v":{"$error":"#N/A"}},null,null,{"$f":"IFERROR(INDEX($AA$12:$AG$12,MATCH(TRUE, AA94:AG94 >= 3, 0)),200)","v":200},null,{"$f":"IFERROR(INDEX($AA$12:$AG$12,MATCH(TRUE, AA94:AG94 >= 4, 0)),200)","v":200},null,null,null,null,null,null,null,null,null,null,{"$f":"MAX(IF(ISERROR(E95:E98),0,E95:E98))","v":0},{"$f":"MAX(IF(ISERROR(F95:F98),0,F95:F98))","v":0},{"$f":"MAX(IF(ISERROR(G95:G98),0,G95:G98))","v":0},{"$f":"MAX(IF(ISERROR(H95:H98),0,H95:H98))","v":0},{"$f":"MAX(IF(ISERROR(I95:I98),0,I95:I98))","v":0},{"$f":"MAX(IF(ISERROR(J95:J98),0,J95:J98))","v":0},{"$f":"MAX(IF(ISERROR(K95:K98),0,K95:K98))","v":0}]
[null,{"$f":"IF(ISTEXT('1-Services & Function'!D39),'1-Services & Function'!D39,\"\")","v":""},10,null,"1 hr","4 hr","1 day","2 days","5 days","1 month","> 6 months","Comments",null,{"$f":"IFERROR(INDEX($AA$12:$AG$12,MATCH(TRUE, AA95:AG95 >= 3, 0)),200)","v":200},null,{"$f":"IFERROR(INDEX($AA$12:$AG$12,MATCH(TRUE, AA95:AG95 >= 4, 0)),200)","v":200},null,null,null,null,null,null,null,null,null,null,{"$f":"MAX(IF(ISERROR(E96:E99),0,E96:E99))","v":0},{"$f":"MAX(IF(ISERROR(F96:F99),0,F96:F99))","v":0},{"$f":"MAX(IF(ISERROR(G96:G99),0,G96:G99))","v":0},{"$f":"MAX(IF(ISERROR(H96:H99),0,H96:H99))","v":0},{"$f":"MAX(IF(ISERROR(I96:I99),0,I96:I99))","v":0},{"$f":"MAX(IF(ISERROR(J96:J99),0,J96:J99))","v":0},{"$f":"MAX(IF(ISERROR(K96:K99),0,K96:K99))","v":0}]
[null,null,null,{"$f":"'[2]Consequence Criteria'!$A$3","v":"Economic"},{"$f":"VALUE((IF('2-Impact Assessment '!E96=\"vl\",\"1\",(IF('2-Impact Assessment '!E96=\"l\",\"2\",(IF('2-Impact Assessment '!E96=\"m\",\"3\",(IF('2-Impact Assessment '!E96=\"h\",\"4\",(IF('2-Impact Assessment '!E96=\"vh\",\"5\", NA())))))))))))","v":{"$error":"#N/A"}},{"$f":"VALUE((IF('2-Impact Assessment '!F96=\"vl\",\"1\",(IF('2-Impact Assessment '!F96=\"l\",\"2\",(IF('2-Impact Assessment '!F96=\"m\",\"3\",(IF('2-Impact Assessment '!F96=\"h\",\"4\",(IF('2-Impact Assessment '!F96=\"vh\",\"5\", NA())))))))))))","v":{"$error":"#N/A"}},{"$f":"VALUE((IF('2-Impact Assessment '!G96=\"vl\",\"1\",(IF('2-Impact Assessment '!G96=\"l\",\"2\",(IF('2-Impact Assessment '!G96=\"m\",\"3\",(IF('2-Impact Assessment '!G96=\"h\",\"4\",(IF('2-Impact Assessment '!G96=\"vh\",\"5\", NA())))))))))))","v":{"$error":"#N/A"}},{"$f":"VALUE((IF('2-Impact Assessment '!H96=\"vl\",\"1\",(IF('2-Impact Assessment '!H96=\"l\",\"2\",(IF('2-Impact Assessment '!H96=\"m\",\"3\",(IF('2-Impact Assessment '!H96=\"h\",\"4\",(IF('2-Impact Assessment '!H96=\"vh\",\"5\", NA())))))))))))","v":{"$error":"#N/A"}},{"$f":"VALUE((IF('2-Impact Assessment '!I96=\"vl\",\"1\",(IF('2-Impact Assessment '!I96=\"l\",\"2\",(IF('2-Impact Assessment '!I96=\"m\",\"3\",(IF('2-Impact Assessment '!I96=\"h\",\"4\",(IF('2-Impact Assessment '!I96=\"vh\",\"5\", NA())))))))))))","v":{"$error":"#N/A"}},{"$f":"VALUE((IF('2-Impact Assessment '!J96=\"vl\",\"1\",(IF('2-Impact Assessment '!J96=\"l\",\"2\",(IF('2-Impact Assessment '!J96=\"m\",\"3\",(IF('2-Impact Assessment '!J96=\"h\",\"4\",(IF('2-Impact Assessment '!J96=\"vh\",\"5\", NA())))))))))))","v":{"$error":"#N/A"}},{"$f":"VALUE((IF('2-Impact Assessment '!K96=\"vl\",\"1\",(IF('2-Impact Assessment '!K96=\"l\",\"2\",(IF('2-Impact Assessment '!K96=\"m\",\"3\",(IF('2-Impact Assessment '!K96=\"h\",\"4\",(IF('2-Impact Assessment '!K96=\"vh\",\"5\", NA())))))))))))","v":{"$error":"#N/A"}},null,null,{"$f":"IFERROR(INDEX($AA$12:$AG$12,MATCH(TRUE, AA96:AG96 >= 3, 0)),200)","v":200},null,{"$f":"IFERROR(INDEX($AA$12:$AG$12,MATCH(TRUE, AA96:AG96 >= 4, 0)),200)","v":200},null,null,null,null,null,null,null,null,null,null,{"$f":"MAX(IF(ISERROR(E97:E100),0,E97:E100))","v":0},{"$f":"MAX(IF(ISERROR(F97:F100),0,F97:F100))","v":0},{"$f":"MAX(IF(ISERROR(G97:G100),0,G97:G100))","v":0},{"$f":"MAX(IF(ISERROR(H97:H100),0,H97:H100))","v":0},{"$f":"MAX(IF(ISERROR(I97:I100),0,I97:I100))","v":0},{"$f":"MAX(IF(ISERROR(J97:J100),0,J97:J100))","v":0},{"$f":"MAX(IF(ISERROR(K97:K100),0,K97:K100))","v":0}]
[null,null,null,{"$f":"'[2]Consequence Criteria'!$A$4","v":"Social"},{"$f":"VALUE((IF('2-Impact Assessment '!E97=\"vl\",\"1\",(IF('2-Impact Assessment '!E97=\"l\",\"2\",(IF('2-Impact Assessment '!E97=\"m\",\"3\",(IF('2-Impact Assessment '!E97=\"h\",\"4\",(IF('2-Impact Assessment '!E97=\"vh\",\"5\", NA())))))))))))","v":{"$error":"#N/A"}},{"$f":"VALUE((IF('2-Impact Assessment '!F97=\"vl\",\"1\",(IF('2-Impact Assessment '!F97=\"l\",\"2\",(IF('2-Impact Assessment '!F97=\"m\",\"3\",(IF('2-Impact Assessment '!F97=\"h\",\"4\",(IF('2-Impact Assessment '!F97=\"vh\",\"5\", NA())))))))))))","v":{"$error":"#N/A"}},{"$f":"VALUE((IF('2-Impact Assessment '!G97=\"vl\",\"1\",(IF('2-Impact Assessment '!G97=\"l\",\"2\",(IF('2-Impact Assessment '!G97=\"m\",\"3\",(IF('2-Impact Assessment '!G97=\"h\",\"4\",(IF('2-Impact Assessment '!G97=\"vh\",\"5\", NA())))))))))))","v":{"$error":"#N/A"}},{"$f":"VALUE((IF('2-Impact Assessment '!H97=\"vl\",\"1\",(IF('2-Impact Assessment '!H97=\"l\",\"2\",(IF('2-Impact Assessment '!H97=\"m\",\"3\",(IF('2-Impact Assessment '!H97=\"h\",\"4\",(IF('2-Impact Assessment '!H97=\"vh\",\"5\", NA())))))))))))","v":{"$error":"#N/A"}},{"$f":"VALUE((IF('2-Impact Assessment '!I97=\"vl\",\"1\",(IF('2-Impact Assessment '!I97=\"l\",\"2\",(IF('2-Impact Assessment '!I97=\"m\",\"3\",(IF('2-Impact Assessment '!I97=\"h\",\"4\",(IF('2-Impact Assessment '!I97=\"vh\",\"5\", NA())))))))))))","v":{"$error":"#N/A"}},{"$f":"VALUE((IF('2-Impact Assessment '!J97=\"vl\",\"1\",(IF('2-Impact Assessment '!J97=\"l\",\"2\",(IF('2-Impact Assessment '!J97=\"m\",\"3\",(IF('2-Impact Assessment '!J97=\"h\",\"4\",(IF('2-Impact Assessment '!J97=\"vh\",\"5\", NA())))))))))))","v":{"$error":"#N/A"}},{"$f":"VALUE((IF('2-Impact Assessment '!K97=\"vl\",\"1\",(IF('2-Impact Assessment '!K97=\"l\",\"2\",(IF('2-Impact Assessment '!K97=\"m\",\"3\",(IF('2-Impact Assessment '!K97=\"h\",\"4\",(IF('2-Impact Assessment '!K97=\"vh\",\"5\", NA())))))))))))","v":{"$error":"#N/A"}},null,null,{"$f":"IFERROR(INDEX($AA$12:$AG$12,MATCH(TRUE, AA97:AG97 >= 3, 0)),200)","v":200},null,{"$f":"IFERROR(INDEX($AA$12:$AG$12,MATCH(TRUE, AA97:AG97 >= 4, 0)),200)","v":200},null,null,null,null,null,null,null,null,null,null,{"$f":"MAX(IF(ISERROR(E98:E101),0,E98:E101))","v":0},{"$f":"MAX(IF(ISERROR(F98:F101),0,F98:F101))","v":0},{"$f":"MAX(IF(ISERROR(G98:G101),0,G98:G101))","v":0},{"$f":"MAX(IF(ISERROR(H98:H101),0,H98:H101))","v":0},{"$f":"MAX(IF(ISERROR(I98:I101),0,I98:I101))","v":0},{"$f":"MAX(IF(ISERROR(J98:J101),0,J98:J101))","v":0},{"$f":"MAX(IF(ISERROR(K98:K101),0,K98:K101))","v":0}]
[null,null,null,{"$f":"'[2]Consequence Criteria'!$A$5","v":"Cultural"},{"$f":"VALUE((IF('2-Impact Assessment '!E98=\"vl\",\"1\",(IF('2-Impact Assessment '!E98=\"l\",\"2\",(IF('2-Impact Assessment '!E98=\"m\",\"3\",(IF('2-Impact Assessment '!E98=\"h\",\"4\",(IF('2-Impact Assessment '!E98=\"vh\",\"5\", NA())))))))))))","v":{"$error":"#N/A"}},{"$f":"VALUE((IF('2-Impact Assessment '!F98=\"vl\",\"1\",(IF('2-Impact Assessment '!F98=\"l\",\"2\",(IF('2-Impact Assessment '!F98=\"m\",\"3\",(IF('2-Impact Assessment '!F98=\"h\",\"4\",(IF('2-Impact Assessment '!F98=\"vh\",\"5\", NA())))))))))))","v":{"$error":"#N/A"}},{"$f":"VALUE((IF('2-Impact Assessment '!G98=\"vl\",\"1\",(IF('2-Impact Assessment '!G98=\"l\",\"2\",(IF('2-Impact Assessment '!G98=\"m\",\"3\",(IF('2-Impact Assessment '!G98=\"h\",\"4\",(IF('2-Impact Assessment '!G98=\"vh\",\"5\", NA())))))))))))","v":{"$error":"#N/A"}},{"$f":"VALUE((IF('2-Impact Assessment '!H98=\"vl\",\"1\",(IF('2-Impact Assessment '!H98=\"l\",\"2\",(IF('2-Impact Assessment '!H98=\"m\",\"3\",(IF('2-Impact Assessment '!H98=\"h\",\"4\",(IF('2-Impact Assessment '!H98=\"vh\",\"5\", NA())))))))))))","v":{"$error":"#N/A"}},{"$f":"VALUE((IF('2-Impact Assessment '!I98=\"vl\",\"1\",(IF('2-Impact Assessment '!I98=\"l\",\"2\",(IF('2-Impact Assessment '!I98=\"m\",\"3\",(IF('2-Impact Assessment '!I98=\"h\",\"4\",(IF('2-Impact Assessment '!I98=\"vh\",\"5\", NA())))))))))))","v":{"$error":"#N/A"}},{"$f":"VALUE((IF('2-Impact Assessment '!J98=\"vl\",\"1\",(IF('2-Impact Assessment '!J98=\"l\",\"2\",(IF('2-Impact Assessment '!J98=\"m\",\"3\",(IF('2-Impact Assessment '!J98=\"h\",\"4\",(IF('2-Impact Assessment '!J98=\"vh\",\"5\", NA())))))))))))","v":{"$error":"#N/A"}},{"$f":"VALUE((IF('2-Impact Assessment '!K98=\"vl\",\"1\",(IF('2-Impact Assessment '!K98=\"l\",\"2\",(IF('2-Impact Assessment '!K98=\"m\",\"3\",(IF('2-Impact Assessment '!K98=\"h\",\"4\",(IF('2-Impact Assessment '!K98=\"vh\",\"5\", NA())))))))))))","v":{"$error":"#N/A"}},null,null,{"$f":"IFERROR(INDEX($AA$12:$AG$12,MATCH(TRUE, AA98:AG98 >= 3, 0)),200)","v":200},null,{"$f":"IFERROR(INDEX($AA$12:$AG$12,MATCH(TRUE, AA98:AG98 >= 4, 0)),200)","v":200},null,null,null,null,null,null,null,null,null,null,{"$f":"MAX(IF(ISERROR(E99:E102),0,E99:E102))","v":0},{"$f":"MAX(IF(ISERROR(F99:F102),0,F99:F102))","v":0},{"$f":"MAX(IF(ISERROR(G99:G102),0,G99:G102))","v":0},{"$f":"MAX(IF(ISERROR(H99:H102),0,H99:H102))","v":0},{"$f":"MAX(IF(ISERROR(I99:I102),0,I99:I102))","v":0},{"$f":"MAX(IF(ISERROR(J99:J102),0,J99:J102))","v":0},{"$f":"MAX(IF(ISERROR(K99:K102),0,K99:K102))","v":0}]
[null,null,null,{"$f":"'[2]Consequence Criteria'!$A$6","v":"Environmental"},{"$f":"VALUE((IF('2-Impact Assessment '!E99=\"vl\",\"1\",(IF('2-Impact Assessment '!E99=\"l\",\"2\",(IF('2-Impact Assessment '!E99=\"m\",\"3\",(IF('2-Impact Assessment '!E99=\"h\",\"4\",(IF('2-Impact Assessment '!E99=\"vh\",\"5\", NA())))))))))))","v":{"$error":"#N/A"}},{"$f":"VALUE((IF('2-Impact Assessment '!F99=\"vl\",\"1\",(IF('2-Impact Assessment '!F99=\"l\",\"2\",(IF('2-Impact Assessment '!F99=\"m\",\"3\",(IF('2-Impact Assessment '!F99=\"h\",\"4\",(IF('2-Impact Assessment '!F99=\"vh\",\"5\", NA())))))))))))","v":{"$error":"#N/A"}},{"$f":"VALUE((IF('2-Impact Assessment '!G99=\"vl\",\"1\",(IF('2-Impact Assessment '!G99=\"l\",\"2\",(IF('2-Impact Assessment '!G99=\"m\",\"3\",(IF('2-Impact Assessment '!G99=\"h\",\"4\",(IF('2-Impact Assessment '!G99=\"vh\",\"5\", NA())))))))))))","v":{"$error":"#N/A"}},{"$f":"VALUE((IF('2-Impact Assessment '!H99=\"vl\",\"1\",(IF('2-Impact Assessment '!H99=\"l\",\"2\",(IF('2-Impact Assessment '!H99=\"m\",\"3\",(IF('2-Impact Assessment '!H99=\"h\",\"4\",(IF('2-Impact Assessment '!H99=\"vh\",\"5\", NA())))))))))))","v":{"$error":"#N/A"}},{"$f":"VALUE((IF('2-Impact Assessment '!I99=\"vl\",\"1\",(IF('2-Impact Assessment '!I99=\"l\",\"2\",(IF('2-Impact Assessment '!I99=\"m\",\"3\",(IF('2-Impact Assessment '!I99=\"h\",\"4\",(IF('2-Impact Assessment '!I99=\"vh\",\"5\", NA())))))))))))","v":{"$error":"#N/A"}},{"$f":"VALUE((IF('2-Impact Assessment '!J99=\"vl\",\"1\",(IF('2-Impact Assessment '!J99=\"l\",\"2\",(IF('2-Impact Assessment '!J99=\"m\",\"3\",(IF('2-Impact Assessment '!J99=\"h\",\"4\",(IF('2-Impact Assessment '!J99=\"vh\",\"5\", NA())))))))))))","v":{"$error":"#N/A"}},{"$f":"VALUE((IF('2-Impact Assessment '!K99=\"vl\",\"1\",(IF('2-Impact Assessment '!K99=\"l\",\"2\",(IF('2-Impact Assessment '!K99=\"m\",\"3\",(IF('2-Impact Assessment '!K99=\"h\",\"4\",(IF('2-Impact Assessment '!K99=\"vh\",\"5\", NA())))))))))))","v":{"$error":"#N/A"}},null,null,{"$f":"IFERROR(INDEX($AA$12:$AG$12,MATCH(TRUE, AA99:AG99 >= 3, 0)),200)","v":200},null,{"$f":"IFERROR(INDEX($AA$12:$AG$12,MATCH(TRUE, AA99:AG99 >= 4, 0)),200)","v":200},null,null,null,null,null,null,null,null,null,null,{"$f":"MAX(IF(ISERROR(E100:E103),0,E100:E103))","v":0},{"$f":"MAX(IF(ISERROR(F100:F103),0,F100:F103))","v":0},{"$f":"MAX(IF(ISERROR(G100:G103),0,G100:G103))","v":0},{"$f":"MAX(IF(ISERROR(H100:H103),0,H100:H103))","v":0},{"$f":"MAX(IF(ISERROR(I100:I103),0,I100:I103))","v":0},{"$f":"MAX(IF(ISERROR(J100:J103),0,J100:J103))","v":0},{"$f":"MAX(IF(ISERROR(K100:K103),0,K100:K103))","v":0}]
[null,null,null,{"$f":"'[2]Consequence Criteria'!$A$7","v":0},{"$f":"VALUE((IF('2-Impact Assessment '!E100=\"vl\",\"1\",(IF('2-Impact Assessment '!E100=\"l\",\"2\",(IF('2-Impact Assessment '!E100=\"m\",\"3\",(IF('2-Impact Assessment '!E100=\"h\",\"4\",(IF('2-Impact Assessment '!E100=\"vh\",\"5\", NA())))))))))))","v":{"$error":"#N/A"}},{"$f":"VALUE((IF('2-Impact Assessment '!F100=\"vl\",\"1\",(IF('2-Impact Assessment '!F100=\"l\",\"2\",(IF('2-Impact Assessment '!F100=\"m\",\"3\",(IF('2-Impact Assessment '!F100=\"h\",\"4\",(IF('2-Impact Assessment '!F100=\"vh\",\"5\", NA())))))))))))","v":{"$error":"#N/A"}},{"$f":"VALUE((IF('2-Impact Assessment '!G100=\"vl\",\"1\",(IF('2-Impact Assessment '!G100=\"l\",\"2\",(IF('2-Impact Assessment '!G100=\"m\",\"3\",(IF('2-Impact Assessment '!G100=\"h\",\"4\",(IF('2-Impact Assessment '!G100=\"vh\",\"5\", NA())))))))))))","v":{"$error":"#N/A"}},{"$f":"VALUE((IF('2-Impact Assessment '!H100=\"vl\",\"1\",(IF('2-Impact Assessment '!H100=\"l\",\"2\",(IF('2-Impact Assessment '!H100=\"m\",\"3\",(IF('2-Impact Assessment '!H100=\"h\",\"4\",(IF('2-Impact Assessment '!H100=\"vh\",\"5\", NA())))))))))))","v":{"$error":"#N/A"}},{"$f":"VALUE((IF('2-Impact Assessment '!I100=\"vl\",\"1\",(IF('2-Impact Assessment '!I100=\"l\",\"2\",(IF('2-Impact Assessment '!I100=\"m\",\"3\",(IF('2-Impact Assessment '!I100=\"h\",\"4\",(IF('2-Impact Assessment '!I100=\"vh\",\"5\", NA())))))))))))","v":{"$error":"#N/A"}},{"$f":"VALUE((IF('2-Impact Assessment '!J100=\"vl\",\"1\",(IF('2-Impact Assessment '!J100=\"l\",\"2\",(IF('2-Impact Assessment '!J100=\"m\",\"3\",(IF('2-Impact Assessment '!J100=\"h\",\"4\",(IF('2-Impact Assessment '!J100=\"vh\",\"5\", NA())))))))))))","v":{"$error":"#N/A"}},{"$f":"VALUE((IF('2-Impact Assessment '!K100=\"vl\",\"1\",(IF('2-Impact Assessment '!K100=\"l\",\"2\",(IF('2-Impact Assessment '!K100=\"m\",\"3\",(IF('2-Impact Assessment '!K100=\"h\",\"4\",(IF('2-Impact Assessment '!K100=\"vh\",\"5\", NA())))))))))))","v":{"$error":"#N/A"}},null,null,{"$f":"IFERROR(INDEX($AA$12:$AG$12,MATCH(TRUE, AA100:AG100 >= 3, 0)),200)","v":200},null,{"$f":"IFERROR(INDEX($AA$12:$AG$12,MATCH(TRUE, AA100:AG100 >= 4, 0)),200)","v":200},null,null,null,null,null,null,null,null,null,null,{"$f":"MAX(IF(ISERROR(E101:E104),0,E101:E104))","v":0},{"$f":"MAX(IF(ISERROR(F101:F104),0,F101:F104))","v":0},{"$f":"MAX(IF(ISERROR(G101:G104),0,G101:G104))","v":0},{"$f":"MAX(IF(ISERROR(H101:H104),0,H101:H104))","v":0},{"$f":"MAX(IF(ISERROR(I101:I104),0,I101:I104))","v":0},{"$f":"MAX(IF(ISERROR(J101:J104),0,J101:J104))","v":0},{"$f":"MAX(IF(ISERROR(K101:K104),0,K101:K104))","v":0}]
[null,null,null,{"$f":"'[2]Consequence Criteria'!$A$8","v":0},{"$f":"VALUE((IF('2-Impact Assessment '!E101=\"vl\",\"1\",(IF('2-Impact Assessment '!E101=\"l\",\"2\",(IF('2-Impact Assessment '!E101=\"m\",\"3\",(IF('2-Impact Assessment '!E101=\"h\",\"4\",(IF('2-Impact Assessment '!E101=\"vh\",\"5\", NA())))))))))))","v":{"$error":"#N/A"}},{"$f":"VALUE((IF('2-Impact Assessment '!F101=\"vl\",\"1\",(IF('2-Impact Assessment '!F101=\"l\",\"2\",(IF('2-Impact Assessment '!F101=\"m\",\"3\",(IF('2-Impact Assessment '!F101=\"h\",\"4\",(IF('2-Impact Assessment '!F101=\"vh\",\"5\", NA())))))))))))","v":{"$error":"#N/A"}},{"$f":"VALUE((IF('2-Impact Assessment '!G101=\"vl\",\"1\",(IF('2-Impact Assessment '!G101=\"l\",\"2\",(IF('2-Impact Assessment '!G101=\"m\",\"3\",(IF('2-Impact Assessment '!G101=\"h\",\"4\",(IF('2-Impact Assessment '!G101=\"vh\",\"5\", NA())))))))))))","v":{"$error":"#N/A"}},{"$f":"VALUE((IF('2-Impact Assessment '!H101=\"vl\",\"1\",(IF('2-Impact Assessment '!H101=\"l\",\"2\",(IF('2-Impact Assessment '!H101=\"m\",\"3\",(IF('2-Impact Assessment '!H101=\"h\",\"4\",(IF('2-Impact Assessment '!H101=\"vh\",\"5\", NA())))))))))))","v":{"$error":"#N/A"}},{"$f":"VALUE((IF('2-Impact Assessment '!I101=\"vl\",\"1\",(IF('2-Impact Assessment '!I101=\"l\",\"2\",(IF('2-Impact Assessment '!I101=\"m\",\"3\",(IF('2-Impact Assessment '!I101=\"h\",\"4\",(IF('2-Impact Assessment '!I101=\"vh\",\"5\", NA())))))))))))","v":{"$error":"#N/A"}},{"$f":"VALUE((IF('2-Impact Assessment '!J101=\"vl\",\"1\",(IF('2-Impact Assessment '!J101=\"l\",\"2\",(IF('2-Impact Assessment '!J101=\"m\",\"3\",(IF('2-Impact Assessment '!J101=\"h\",\"4\",(IF('2-Impact Assessment '!J101=\"vh\",\"5\", NA())))))))))))","v":{"$error":"#N/A"}},{"$f":"VALUE((IF('2-Impact Assessment '!K101=\"vl\",\"1\",(IF('2-Impact Assessment '!K101=\"l\",\"2\",(IF('2-Impact Assessment '!K101=\"m\",\"3\",(IF('2-Impact Assessment '!K101=\"h\",\"4\",(IF('2-Impact Assessment '!K101=\"vh\",\"5\", NA())))))))))))","v":{"$error":"#N/A"}},null,null,{"$f":"IFERROR(INDEX($AA$12:$AG$12,MATCH(TRUE, AA101:AG101 >= 3, 0)),200)","v":200},null,{"$f":"IFERROR(INDEX($AA$12:$AG$12,MATCH(TRUE, AA101:AG101 >= 4, 0)),200)","v":200},null,null,null,null,null,null,null,null,null,null,{"$f":"MAX(IF(ISERROR(E102:E105),0,E102:E105))","v":0},{"$f":"MAX(IF(ISERROR(F102:F105),0,F102:F105))","v":0},{"$f":"MAX(IF(ISERROR(G102:G105),0,G102:G105))","v":0},{"$f":"MAX(IF(ISERROR(H102:H105),0,H102:H105))","v":0},{"$f":"MAX(IF(ISERROR(I102:I105),0,I102:I105))","v":0},{"$f":"MAX(IF(ISERROR(J102:J105),0,J102:J105))","v":0},{"$f":"MAX(IF(ISERROR(K102:K105),0,K102:K105))","v":0}]
[null,null,null,{"$f":"'[2]Consequence Criteria'!$A$9","v":0},{"$f":"VALUE((IF('2-Impact Assessment '!E102=\"vl\",\"1\",(IF('2-Impact Assessment '!E102=\"l\",\"2\",(IF('2-Impact Assessment '!E102=\"m\",\"3\",(IF('2-Impact Assessment '!E102=\"h\",\"4\",(IF('2-Impact Assessment '!E102=\"vh\",\"5\", NA())))))))))))","v":{"$error":"#N/A"}},{"$f":"VALUE((IF('2-Impact Assessment '!F102=\"vl\",\"1\",(IF('2-Impact Assessment '!F102=\"l\",\"2\",(IF('2-Impact Assessment '!F102=\"m\",\"3\",(IF('2-Impact Assessment '!F102=\"h\",\"4\",(IF('2-Impact Assessment '!F102=\"vh\",\"5\", NA())))))))))))","v":{"$error":"#N/A"}},{"$f":"VALUE((IF('2-Impact Assessment '!G102=\"vl\",\"1\",(IF('2-Impact Assessment '!G102=\"l\",\"2\",(IF('2-Impact Assessment '!G102=\"m\",\"3\",(IF('2-Impact Assessment '!G102=\"h\",\"4\",(IF('2-Impact Assessment '!G102=\"vh\",\"5\", NA())))))))))))","v":{"$error":"#N/A"}},{"$f":"VALUE((IF('2-Impact Assessment '!H102=\"vl\",\"1\",(IF('2-Impact Assessment '!H102=\"l\",\"2\",(IF('2-Impact Assessment '!H102=\"m\",\"3\",(IF('2-Impact Assessment '!H102=\"h\",\"4\",(IF('2-Impact Assessment '!H102=\"vh\",\"5\", NA())))))))))))","v":{"$error":"#N/A"}},{"$f":"VALUE((IF('2-Impact Assessment '!I102=\"vl\",\"1\",(IF('2-Impact Assessment '!I102=\"l\",\"2\",(IF('2-Impact Assessment '!I102=\"m\",\"3\",(IF('2-Impact Assessment '!I102=\"h\",\"4\",(IF('2-Impact Assessment '!I102=\"vh\",\"5\", NA())))))))))))","v":{"$error":"#N/A"}},{"$f":"VALUE((IF('2-Impact Assessment '!J102=\"vl\",\"1\",(IF('2-Impact Assessment '!J102=\"l\",\"2\",(IF('2-Impact Assessment '!J102=\"m\",\"3\",(IF('2-Impact Assessment '!J102=\"h\",\"4\",(IF('2-Impact Assessment '!J102=\"vh\",\"5\", NA())))))))))))","v":{"$error":"#N/A"}},{"$f":"VALUE((IF('2-Impact Assessment '!K102=\"vl\",\"1\",(IF('2-Impact Assessment '!K102=\"l\",\"2\",(IF('2-Impact Assessment '!K102=\"m\",\"3\",(IF('2-Impact Assessment '!K102=\"h\",\"4\",(IF('2-Impact Assessment '!K102=\"vh\",\"5\", NA())))))))))))","v":{"$error":"#N/A"}},null,null,{"$f":"IFERROR(INDEX($AA$12:$AG$12,MATCH(TRUE, AA102:AG102 >= 3, 0)),200)","v":200},null,{"$f":"IFERROR(INDEX($AA$12:$AG$12,MATCH(TRUE, AA102:AG102 >= 4, 0)),200)","v":200},null,null,null,null,null,null,null,null,null,null,{"$f":"MAX(IF(ISERROR(E103:E106),0,E103:E106))","v":0},{"$f":"MAX(IF(ISERROR(F103:F106),0,F103:F106))","v":0},{"$f":"MAX(IF(ISERROR(G103:G106),0,G103:G106))","v":0},{"$f":"MAX(IF(ISERROR(H103:H106),0,H103:H106))","v":0},{"$f":"MAX(IF(ISERROR(I103:I106),0,I103:I106))","v":0},{"$f":"MAX(IF(ISERROR(J103:J106),0,J103:J106))","v":0},{"$f":"MAX(IF(ISERROR(K103:K106),0,K103:K106))","v":0}]
[null,null,null,{"$f":"'[2]Consequence Criteria'!$A$10","v":0},{"$f":"VALUE((IF('2-Impact Assessment '!E103=\"vl\",\"1\",(IF('2-Impact Assessment '!E103=\"l\",\"2\",(IF('2-Impact Assessment '!E103=\"m\",\"3\",(IF('2-Impact Assessment '!E103=\"h\",\"4\",(IF('2-Impact Assessment '!E103=\"vh\",\"5\", NA())))))))))))","v":{"$error":"#N/A"}},{"$f":"VALUE((IF('2-Impact Assessment '!F103=\"vl\",\"1\",(IF('2-Impact Assessment '!F103=\"l\",\"2\",(IF('2-Impact Assessment '!F103=\"m\",\"3\",(IF('2-Impact Assessment '!F103=\"h\",\"4\",(IF('2-Impact Assessment '!F103=\"vh\",\"5\", NA())))))))))))","v":{"$error":"#N/A"}},{"$f":"VALUE((IF('2-Impact Assessment '!G103=\"vl\",\"1\",(IF('2-Impact Assessment '!G103=\"l\",\"2\",(IF('2-Impact Assessment '!G103=\"m\",\"3\",(IF('2-Impact Assessment '!G103=\"h\",\"4\",(IF('2-Impact Assessment '!G103=\"vh\",\"5\", NA())))))))))))","v":{"$error":"#N/A"}},{"$f":"VALUE((IF('2-Impact Assessment '!H103=\"vl\",\"1\",(IF('2-Impact Assessment '!H103=\"l\",\"2\",(IF('2-Impact Assessment '!H103=\"m\",\"3\",(IF('2-Impact Assessment '!H103=\"h\",\"4\",(IF('2-Impact Assessment '!H103=\"vh\",\"5\", NA())))))))))))","v":{"$error":"#N/A"}},{"$f":"VALUE((IF('2-Impact Assessment '!I103=\"vl\",\"1\",(IF('2-Impact Assessment '!I103=\"l\",\"2\",(IF('2-Impact Assessment '!I103=\"m\",\"3\",(IF('2-Impact Assessment '!I103=\"h\",\"4\",(IF('2-Impact Assessment '!I103=\"vh\",\"5\", NA())))))))))))","v":{"$error":"#N/A"}},{"$f":"VALUE((IF('2-Impact Assessment '!J103=\"vl\",\"1\",(IF('2-Impact Assessment '!J103=\"l\",\"2\",(IF('2-Impact Assessment '!J103=\"m\",\"3\",(IF('2-Impact Assessment '!J103=\"h\",\"4\",(IF('2-Impact Assessment '!J103=\"vh\",\"5\", NA())))))))))))","v":{"$error":"#N/A"}},{"$f":"VALUE((IF('2-Impact Assessment '!K103=\"vl\",\"1\",(IF('2-Impact Assessment '!K103=\"l\",\"2\",(IF('2-Impact Assessment '!K103=\"m\",\"3\",(IF('2-Impact Assessment '!K103=\"h\",\"4\",(IF('2-Impact Assessment '!K103=\"vh\",\"5\", NA())))))))))))","v":{"$error":"#N/A"}},null,null,{"$f":"IFERROR(INDEX($AA$12:$AG$12,MATCH(TRUE, AA103:AG103 >= 3, 0)),200)","v":200},null,{"$f":"IFERROR(INDEX($AA$12:$AG$12,MATCH(TRUE, AA103:AG103 >= 4, 0)),200)","v":200},null,null,null,null,null,null,null,null,null,null,{"$f":"MAX(IF(ISERROR(E104:E107),0,E104:E107))","v":0},{"$f":"MAX(IF(ISERROR(F104:F107),0,F104:F107))","v":0},{"$f":"MAX(IF(ISERROR(G104:G107),0,G104:G107))","v":0},{"$f":"MAX(IF(ISERROR(H104:H107),0,H104:H107))","v":0},{"$f":"MAX(IF(ISERROR(I104:I107),0,I104:I107))","v":0},{"$f":"MAX(IF(ISERROR(J104:J107),0,J104:J107))","v":0},{"$f":"MAX(IF(ISERROR(K104:K107),0,K104:K107))","v":0}]
[null,{"$f":"IF(ISTEXT('1-Services & Function'!D40),'1-Services & Function'!D40,\"\")","v":""},11,null,"1 hr","4 hr","1 day","2 days","5 days","1 month","> 6 months","Comments",null,{"$f":"IFERROR(INDEX($AA$12:$AG$12,MATCH(TRUE, AA104:AG104 >= 3, 0)),200)","v":200},null,{"$f":"IFERROR(INDEX($AA$12:$AG$12,MATCH(TRUE, AA104:AG104 >= 4, 0)),200)","v":200},null,null,null,null,null,null,null,null,null,null,{"$f":"MAX(IF(ISERROR(E105:E108),0,E105:E108))","v":0},{"$f":"MAX(IF(ISERROR(F105:F108),0,F105:F108))","v":0},{"$f":"MAX(IF(ISERROR(G105:G108),0,G105:G108))","v":0},{"$f":"MAX(IF(ISERROR(H105:H108),0,H105:H108))","v":0},{"$f":"MAX(IF(ISERROR(I105:I108),0,I105:I108))","v":0},{"$f":"MAX(IF(ISERROR(J105:J108),0,J105:J108))","v":0},{"$f":"MAX(IF(ISERROR(K105:K108),0,K105:K108))","v":0}]
[null,null,null,{"$f":"'[2]Consequence Criteria'!$A$3","v":"Economic"},{"$f":"VALUE((IF('2-Impact Assessment '!E105=\"vl\",\"1\",(IF('2-Impact Assessment '!E105=\"l\",\"2\",(IF('2-Impact Assessment '!E105=\"m\",\"3\",(IF('2-Impact Assessment '!E105=\"h\",\"4\",(IF('2-Impact Assessment '!E105=\"vh\",\"5\", NA())))))))))))","v":{"$error":"#N/A"}},{"$f":"VALUE((IF('2-Impact Assessment '!F105=\"vl\",\"1\",(IF('2-Impact Assessment '!F105=\"l\",\"2\",(IF('2-Impact Assessment '!F105=\"m\",\"3\",(IF('2-Impact Assessment '!F105=\"h\",\"4\",(IF('2-Impact Assessment '!F105=\"vh\",\"5\", NA())))))))))))","v":{"$error":"#N/A"}},{"$f":"VALUE((IF('2-Impact Assessment '!G105=\"vl\",\"1\",(IF('2-Impact Assessment '!G105=\"l\",\"2\",(IF('2-Impact Assessment '!G105=\"m\",\"3\",(IF('2-Impact Assessment '!G105=\"h\",\"4\",(IF('2-Impact Assessment '!G105=\"vh\",\"5\", NA())))))))))))","v":{"$error":"#N/A"}},{"$f":"VALUE((IF('2-Impact Assessment '!H105=\"vl\",\"1\",(IF('2-Impact Assessment '!H105=\"l\",\"2\",(IF('2-Impact Assessment '!H105=\"m\",\"3\",(IF('2-Impact Assessment '!H105=\"h\",\"4\",(IF('2-Impact Assessment '!H105=\"vh\",\"5\", NA())))))))))))","v":{"$error":"#N/A"}},{"$f":"VALUE((IF('2-Impact Assessment '!I105=\"vl\",\"1\",(IF('2-Impact Assessment '!I105=\"l\",\"2\",(IF('2-Impact Assessment '!I105=\"m\",\"3\",(IF('2-Impact Assessment '!I105=\"h\",\"4\",(IF('2-Impact Assessment '!I105=\"vh\",\"5\", NA())))))))))))","v":{"$error":"#N/A"}},{"$f":"VALUE((IF('2-Impact Assessment '!J105=\"vl\",\"1\",(IF('2-Impact Assessment '!J105=\"l\",\"2\",(IF('2-Impact Assessment '!J105=\"m\",\"3\",(IF('2-Impact Assessment '!J105=\"h\",\"4\",(IF('2-Impact Assessment '!J105=\"vh\",\"5\", NA())))))))))))","v":{"$error":"#N/A"}},{"$f":"VALUE((IF('2-Impact Assessment '!K105=\"vl\",\"1\",(IF('2-Impact Assessment '!K105=\"l\",\"2\",(IF('2-Impact Assessment '!K105=\"m\",\"3\",(IF('2-Impact Assessment '!K105=\"h\",\"4\",(IF('2-Impact Assessment '!K105=\"vh\",\"5\", NA())))))))))))","v":{"$error":"#N/A"}},null,null,{"$f":"IFERROR(INDEX($AA$12:$AG$12,MATCH(TRUE, AA105:AG105 >= 3, 0)),200)","v":200},null,{"$f":"IFERROR(INDEX($AA$12:$AG$12,MATCH(TRUE, AA105:AG105 >= 4, 0)),200)","v":200},null,null,null,null,null,null,null,null,null,null,{"$f":"MAX(IF(ISERROR(E106:E109),0,E106:E109))","v":0},{"$f":"MAX(IF(ISERROR(F106:F109),0,F106:F109))","v":0},{"$f":"MAX(IF(ISERROR(G106:G109),0,G106:G109))","v":0},{"$f":"MAX(IF(ISERROR(H106:H109),0,H106:H109))","v":0},{"$f":"MAX(IF(ISERROR(I106:I109),0,I106:I109))","v":0},{"$f":"MAX(IF(ISERROR(J106:J109),0,J106:J109))","v":0},{"$f":"MAX(IF(ISERROR(K106:K109),0,K106:K109))","v":0}]
[null,null,null,{"$f":"'[2]Consequence Criteria'!$A$4","v":"Social"},{"$f":"VALUE((IF('2-Impact Assessment '!E106=\"vl\",\"1\",(IF('2-Impact Assessment '!E106=\"l\",\"2\",(IF('2-Impact Assessment '!E106=\"m\",\"3\",(IF('2-Impact Assessment '!E106=\"h\",\"4\",(IF('2-Impact Assessment '!E106=\"vh\",\"5\", NA())))))))))))","v":{"$error":"#N/A"}},{"$f":"VALUE((IF('2-Impact Assessment '!F106=\"vl\",\"1\",(IF('2-Impact Assessment '!F106=\"l\",\"2\",(IF('2-Impact Assessment '!F106=\"m\",\"3\",(IF('2-Impact Assessment '!F106=\"h\",\"4\",(IF('2-Impact Assessment '!F106=\"vh\",\"5\", NA())))))))))))","v":{"$error":"#N/A"}},{"$f":"VALUE((IF('2-Impact Assessment '!G106=\"vl\",\"1\",(IF('2-Impact Assessment '!G106=\"l\",\"2\",(IF('2-Impact Assessment '!G106=\"m\",\"3\",(IF('2-Impact Assessment '!G106=\"h\",\"4\",(IF('2-Impact Assessment '!G106=\"vh\",\"5\", NA())))))))))))","v":{"$error":"#N/A"}},{"$f":"VALUE((IF('2-Impact Assessment '!H106=\"vl\",\"1\",(IF('2-Impact Assessment '!H106=\"l\",\"2\",(IF('2-Impact Assessment '!H106=\"m\",\"3\",(IF('2-Impact Assessment '!H106=\"h\",\"4\",(IF('2-Impact Assessment '!H106=\"vh\",\"5\", NA())))))))))))","v":{"$error":"#N/A"}},{"$f":"VALUE((IF('2-Impact Assessment '!I106=\"vl\",\"1\",(IF('2-Impact Assessment '!I106=\"l\",\"2\",(IF('2-Impact Assessment '!I106=\"m\",\"3\",(IF('2-Impact Assessment '!I106=\"h\",\"4\",(IF('2-Impact Assessment '!I106=\"vh\",\"5\", NA())))))))))))","v":{"$error":"#N/A"}},{"$f":"VALUE((IF('2-Impact Assessment '!J106=\"vl\",\"1\",(IF('2-Impact Assessment '!J106=\"l\",\"2\",(IF('2-Impact Assessment '!J106=\"m\",\"3\",(IF('2-Impact Assessment '!J106=\"h\",\"4\",(IF('2-Impact Assessment '!J106=\"vh\",\"5\", NA())))))))))))","v":{"$error":"#N/A"}},{"$f":"VALUE((IF('2-Impact Assessment '!K106=\"vl\",\"1\",(IF('2-Impact Assessment '!K106=\"l\",\"2\",(IF('2-Impact Assessment '!K106=\"m\",\"3\",(IF('2-Impact Assessment '!K106=\"h\",\"4\",(IF('2-Impact Assessment '!K106=\"vh\",\"5\", NA())))))))))))","v":{"$error":"#N/A"}},null,null,{"$f":"IFERROR(INDEX($AA$12:$AG$12,MATCH(TRUE, AA106:AG106 >= 3, 0)),200)","v":200},null,{"$f":"IFERROR(INDEX($AA$12:$AG$12,MATCH(TRUE, AA106:AG106 >= 4, 0)),200)","v":200},null,null,null,null,null,null,null,null,null,null,{"$f":"MAX(IF(ISERROR(E107:E110),0,E107:E110))","v":0},{"$f":"MAX(IF(ISERROR(F107:F110),0,F107:F110))","v":0},{"$f":"MAX(IF(ISERROR(G107:G110),0,G107:G110))","v":0},{"$f":"MAX(IF(ISERROR(H107:H110),0,H107:H110))","v":0},{"$f":"MAX(IF(ISERROR(I107:I110),0,I107:I110))","v":0},{"$f":"MAX(IF(ISERROR(J107:J110),0,J107:J110))","v":0},{"$f":"MAX(IF(ISERROR(K107:K110),0,K107:K110))","v":0}]
[null,null,null,{"$f":"'[2]Consequence Criteria'!$A$5","v":"Cultural"},{"$f":"VALUE((IF('2-Impact Assessment '!E107=\"vl\",\"1\",(IF('2-Impact Assessment '!E107=\"l\",\"2\",(IF('2-Impact Assessment '!E107=\"m\",\"3\",(IF('2-Impact Assessment '!E107=\"h\",\"4\",(IF('2-Impact Assessment '!E107=\"vh\",\"5\", NA())))))))))))","v":{"$error":"#N/A"}},{"$f":"VALUE((IF('2-Impact Assessment '!F107=\"vl\",\"1\",(IF('2-Impact Assessment '!F107=\"l\",\"2\",(IF('2-Impact Assessment '!F107=\"m\",\"3\",(IF('2-Impact Assessment '!F107=\"h\",\"4\",(IF('2-Impact Assessment '!F107=\"vh\",\"5\", NA())))))))))))","v":{"$error":"#N/A"}},{"$f":"VALUE((IF('2-Impact Assessment '!G107=\"vl\",\"1\",(IF('2-Impact Assessment '!G107=\"l\",\"2\",(IF('2-Impact Assessment '!G107=\"m\",\"3\",(IF('2-Impact Assessment '!G107=\"h\",\"4\",(IF('2-Impact Assessment '!G107=\"vh\",\"5\", NA())))))))))))","v":{"$error":"#N/A"}},{"$f":"VALUE((IF('2-Impact Assessment '!H107=\"vl\",\"1\",(IF('2-Impact Assessment '!H107=\"l\",\"2\",(IF('2-Impact Assessment '!H107=\"m\",\"3\",(IF('2-Impact Assessment '!H107=\"h\",\"4\",(IF('2-Impact Assessment '!H107=\"vh\",\"5\", NA())))))))))))","v":{"$error":"#N/A"}},{"$f":"VALUE((IF('2-Impact Assessment '!I107=\"vl\",\"1\",(IF('2-Impact Assessment '!I107=\"l\",\"2\",(IF('2-Impact Assessment '!I107=\"m\",\"3\",(IF('2-Impact Assessment '!I107=\"h\",\"4\",(IF('2-Impact Assessment '!I107=\"vh\",\"5\", NA())))))))))))","v":{"$error":"#N/A"}},{"$f":"VALUE((IF('2-Impact Assessment '!J107=\"vl\",\"1\",(IF('2-Impact Assessment '!J107=\"l\",\"2\",(IF('2-Impact Assessment '!J107=\"m\",\"3\",(IF('2-Impact Assessment '!J107=\"h\",\"4\",(IF('2-Impact Assessment '!J107=\"vh\",\"5\", NA())))))))))))","v":{"$error":"#N/A"}},{"$f":"VALUE((IF('2-Impact Assessment '!K107=\"vl\",\"1\",(IF('2-Impact Assessment '!K107=\"l\",\"2\",(IF('2-Impact Assessment '!K107=\"m\",\"3\",(IF('2-Impact Assessment '!K107=\"h\",\"4\",(IF('2-Impact Assessment '!K107=\"vh\",\"5\", NA())))))))))))","v":{"$error":"#N/A"}},null,null,{"$f":"IFERROR(INDEX($AA$12:$AG$12,MATCH(TRUE, AA107:AG107 >= 3, 0)),200)","v":200},null,{"$f":"IFERROR(INDEX($AA$12:$AG$12,MATCH(TRUE, AA107:AG107 >= 4, 0)),200)","v":200},null,null,null,null,null,null,null,null,null,null,{"$f":"MAX(IF(ISERROR(E108:E111),0,E108:E111))","v":0},{"$f":"MAX(IF(ISERROR(F108:F111),0,F108:F111))","v":0},{"$f":"MAX(IF(ISERROR(G108:G111),0,G108:G111))","v":0},{"$f":"MAX(IF(ISERROR(H108:H111),0,H108:H111))","v":0},{"$f":"MAX(IF(ISERROR(I108:I111),0,I108:I111))","v":0},{"$f":"MAX(IF(ISERROR(J108:J111),0,J108:J111))","v":0},{"$f":"MAX(IF(ISERROR(K108:K111),0,K108:K111))","v":0}]
[null,null,null,{"$f":"'[2]Consequence Criteria'!$A$6","v":"Environmental"},{"$f":"VALUE((IF('2-Impact Assessment '!E108=\"vl\",\"1\",(IF('2-Impact Assessment '!E108=\"l\",\"2\",(IF('2-Impact Assessment '!E108=\"m\",\"3\",(IF('2-Impact Assessment '!E108=\"h\",\"4\",(IF('2-Impact Assessment '!E108=\"vh\",\"5\", NA())))))))))))","v":{"$error":"#N/A"}},{"$f":"VALUE((IF('2-Impact Assessment '!F108=\"vl\",\"1\",(IF('2-Impact Assessment '!F108=\"l\",\"2\",(IF('2-Impact Assessment '!F108=\"m\",\"3\",(IF('2-Impact Assessment '!F108=\"h\",\"4\",(IF('2-Impact Assessment '!F108=\"vh\",\"5\", NA())))))))))))","v":{"$error":"#N/A"}},{"$f":"VALUE((IF('2-Impact Assessment '!G108=\"vl\",\"1\",(IF('2-Impact Assessment '!G108=\"l\",\"2\",(IF('2-Impact Assessment '!G108=\"m\",\"3\",(IF('2-Impact Assessment '!G108=\"h\",\"4\",(IF('2-Impact Assessment '!G108=\"vh\",\"5\", NA())))))))))))","v":{"$error":"#N/A"}},{"$f":"VALUE((IF('2-Impact Assessment '!H108=\"vl\",\"1\",(IF('2-Impact Assessment '!H108=\"l\",\"2\",(IF('2-Impact Assessment '!H108=\"m\",\"3\",(IF('2-Impact Assessment '!H108=\"h\",\"4\",(IF('2-Impact Assessment '!H108=\"vh\",\"5\", NA())))))))))))","v":{"$error":"#N/A"}},{"$f":"VALUE((IF('2-Impact Assessment '!I108=\"vl\",\"1\",(IF('2-Impact Assessment '!I108=\"l\",\"2\",(IF('2-Impact Assessment '!I108=\"m\",\"3\",(IF('2-Impact Assessment '!I108=\"h\",\"4\",(IF('2-Impact Assessment '!I108=\"vh\",\"5\", NA())))))))))))","v":{"$error":"#N/A"}},{"$f":"VALUE((IF('2-Impact Assessment '!J108=\"vl\",\"1\",(IF('2-Impact Assessment '!J108=\"l\",\"2\",(IF('2-Impact Assessment '!J108=\"m\",\"3\",(IF('2-Impact Assessment '!J108=\"h\",\"4\",(IF('2-Impact Assessment '!J108=\"vh\",\"5\", NA())))))))))))","v":{"$error":"#N/A"}},{"$f":"VALUE((IF('2-Impact Assessment '!K108=\"vl\",\"1\",(IF('2-Impact Assessment '!K108=\"l\",\"2\",(IF('2-Impact Assessment '!K108=\"m\",\"3\",(IF('2-Impact Assessment '!K108=\"h\",\"4\",(IF('2-Impact Assessment '!K108=\"vh\",\"5\", NA())))))))))))","v":{"$error":"#N/A"}},null,null,{"$f":"IFERROR(INDEX($AA$12:$AG$12,MATCH(TRUE, AA108:AG108 >= 3, 0)),200)","v":200},null,{"$f":"IFERROR(INDEX($AA$12:$AG$12,MATCH(TRUE, AA108:AG108 >= 4, 0)),200)","v":200},null,null,null,null,null,null,null,null,null,null,{"$f":"MAX(IF(ISERROR(E109:E112),0,E109:E112))","v":0},{"$f":"MAX(IF(ISERROR(F109:F112),0,F109:F112))","v":0},{"$f":"MAX(IF(ISERROR(G109:G112),0,G109:G112))","v":0},{"$f":"MAX(IF(ISERROR(H109:H112),0,H109:H112))","v":0},{"$f":"MAX(IF(ISERROR(I109:I112),0,I109:I112))","v":0},{"$f":"MAX(IF(ISERROR(J109:J112),0,J109:J112))","v":0},{"$f":"MAX(IF(ISERROR(K109:K112),0,K109:K112))","v":0}]
[null,null,null,{"$f":"'[2]Consequence Criteria'!$A$7","v":0},{"$f":"VALUE((IF('2-Impact Assessment '!E109=\"vl\",\"1\",(IF('2-Impact Assessment '!E109=\"l\",\"2\",(IF('2-Impact Assessment '!E109=\"m\",\"3\",(IF('2-Impact Assessment '!E109=\"h\",\"4\",(IF('2-Impact Assessment '!E109=\"vh\",\"5\", NA())))))))))))","v":{"$error":"#N/A"}},{"$f":"VALUE((IF('2-Impact Assessment '!F109=\"vl\",\"1\",(IF('2-Impact Assessment '!F109=\"l\",\"2\",(IF('2-Impact Assessment '!F109=\"m\",\"3\",(IF('2-Impact Assessment '!F109=\"h\",\"4\",(IF('2-Impact Assessment '!F109=\"vh\",\"5\", NA())))))))))))","v":{"$error":"#N/A"}},{"$f":"VALUE((IF('2-Impact Assessment '!G109=\"vl\",\"1\",(IF('2-Impact Assessment '!G109=\"l\",\"2\",(IF('2-Impact Assessment '!G109=\"m\",\"3\",(IF('2-Impact Assessment '!G109=\"h\",\"4\",(IF('2-Impact Assessment '!G109=\"vh\",\"5\", NA())))))))))))","v":{"$error":"#N/A"}},{"$f":"VALUE((IF('2-Impact Assessment '!H109=\"vl\",\"1\",(IF('2-Impact Assessment '!H109=\"l\",\"2\",(IF('2-Impact Assessment '!H109=\"m\",\"3\",(IF('2-Impact Assessment '!H109=\"h\",\"4\",(IF('2-Impact Assessment '!H109=\"vh\",\"5\", NA())))))))))))","v":{"$error":"#N/A"}},{"$f":"VALUE((IF('2-Impact Assessment '!I109=\"vl\",\"1\",(IF('2-Impact Assessment '!I109=\"l\",\"2\",(IF('2-Impact Assessment '!I109=\"m\",\"3\",(IF('2-Impact Assessment '!I109=\"h\",\"4\",(IF('2-Impact Assessment '!I109=\"vh\",\"5\", NA())))))))))))","v":{"$error":"#N/A"}},{"$f":"VALUE((IF('2-Impact Assessment '!J109=\"vl\",\"1\",(IF('2-Impact Assessment '!J109=\"l\",\"2\",(IF('2-Impact Assessment '!J109=\"m\",\"3\",(IF('2-Impact Assessment '!J109=\"h\",\"4\",(IF('2-Impact Assessment '!J109=\"vh\",\"5\", NA())))))))))))","v":{"$error":"#N/A"}},{"$f":"VALUE((IF('2-Impact Assessment '!K109=\"vl\",\"1\",(IF('2-Impact Assessment '!K109=\"l\",\"2\",(IF('2-Impact Assessment '!K109=\"m\",\"3\",(IF('2-Impact Assessment '!K109=\"h\",\"4\",(IF('2-Impact Assessment '!K109=\"vh\",\"5\", NA())))))))))))","v":{"$error":"#N/A"}},null,null,{"$f":"IFERROR(INDEX($AA$12:$AG$12,MATCH(TRUE, AA109:AG109 >= 3, 0)),200)","v":200},null,{"$f":"IFERROR(INDEX($AA$12:$AG$12,MATCH(TRUE, AA109:AG109 >= 4, 0)),200)","v":200},null,null,null,null,null,null,null,null,null,null,{"$f":"MAX(IF(ISERROR(E110:E113),0,E110:E113))","v":0},{"$f":"MAX(IF(ISERROR(F110:F113),0,F110:F113))","v":0},{"$f":"MAX(IF(ISERROR(G110:G113),0,G110:G113))","v":0},{"$f":"MAX(IF(ISERROR(H110:H113),0,H110:H113))","v":0},{"$f":"MAX(IF(ISERROR(I110:I113),0,I110:I113))","v":0},{"$f":"MAX(IF(ISERROR(J110:J113),0,J110:J113))","v":0},{"$f":"MAX(IF(ISERROR(K110:K113),0,K110:K113))","v":0}]
[null,null,null,{"$f":"'[2]Consequence Criteria'!$A$8","v":0},{"$f":"VALUE((IF('2-Impact Assessment '!E110=\"vl\",\"1\",(IF('2-Impact Assessment '!E110=\"l\",\"2\",(IF('2-Impact Assessment '!E110=\"m\",\"3\",(IF('2-Impact Assessment '!E110=\"h\",\"4\",(IF('2-Impact Assessment '!E110=\"vh\",\"5\", NA())))))))))))","v":{"$error":"#N/A"}},{"$f":"VALUE((IF('2-Impact Assessment '!F110=\"vl\",\"1\",(IF('2-Impact Assessment '!F110=\"l\",\"2\",(IF('2-Impact Assessment '!F110=\"m\",\"3\",(IF('2-Impact Assessment '!F110=\"h\",\"4\",(IF('2-Impact Assessment '!F110=\"vh\",\"5\", NA())))))))))))","v":{"$error":"#N/A"}},{"$f":"VALUE((IF('2-Impact Assessment '!G110=\"vl\",\"1\",(IF('2-Impact Assessment '!G110=\"l\",\"2\",(IF('2-Impact Assessment '!G110=\"m\",\"3\",(IF('2-Impact Assessment '!G110=\"h\",\"4\",(IF('2-Impact Assessment '!G110=\"vh\",\"5\", NA())))))))))))","v":{"$error":"#N/A"}},{"$f":"VALUE((IF('2-Impact Assessment '!H110=\"vl\",\"1\",(IF('2-Impact Assessment '!H110=\"l\",\"2\",(IF('2-Impact Assessment '!H110=\"m\",\"3\",(IF('2-Impact Assessment '!H110=\"h\",\"4\",(IF('2-Impact Assessment '!H110=\"vh\",\"5\", NA())))))))))))","v":{"$error":"#N/A"}},{"$f":"VALUE((IF('2-Impact Assessment '!I110=\"vl\",\"1\",(IF('2-Impact Assessment '!I110=\"l\",\"2\",(IF('2-Impact Assessment '!I110=\"m\",\"3\",(IF('2-Impact Assessment '!I110=\"h\",\"4\",(IF('2-Impact Assessment '!I110=\"vh\",\"5\", NA())))))))))))","v":{"$error":"#N/A"}},{"$f":"VALUE((IF('2-Impact Assessment '!J110=\"vl\",\"1\",(IF('2-Impact Assessment '!J110=\"l\",\"2\",(IF('2-Impact Assessment '!J110=\"m\",\"3\",(IF('2-Impact Assessment '!J110=\"h\",\"4\",(IF('2-Impact Assessment '!J110=\"vh\",\"5\", NA())))))))))))","v":{"$error":"#N/A"}},{"$f":"VALUE((IF('2-Impact Assessment '!K110=\"vl\",\"1\",(IF('2-Impact Assessment '!K110=\"l\",\"2\",(IF('2-Impact Assessment '!K110=\"m\",\"3\",(IF('2-Impact Assessment '!K110=\"h\",\"4\",(IF('2-Impact Assessment '!K110=\"vh\",\"5\", NA())))))))))))","v":{"$error":"#N/A"}},null,null,{"$f":"IFERROR(INDEX($AA$12:$AG$12,MATCH(TRUE, AA110:AG110 >= 3, 0)),200)","v":200},null,{"$f":"IFERROR(INDEX($AA$12:$AG$12,MATCH(TRUE, AA110:AG110 >= 4, 0)),200)","v":200},null,null,null,null,null,null,null,null,null,null,{"$f":"MAX(IF(ISERROR(E111:E114),0,E111:E114))","v":0},{"$f":"MAX(IF(ISERROR(F111:F114),0,F111:F114))","v":0},{"$f":"MAX(IF(ISERROR(G111:G114),0,G111:G114))","v":0},{"$f":"MAX(IF(ISERROR(H111:H114),0,H111:H114))","v":0},{"$f":"MAX(IF(ISERROR(I111:I114),0,I111:I114))","v":0},{"$f":"MAX(IF(ISERROR(J111:J114),0,J111:J114))","v":0},{"$f":"MAX(IF(ISERROR(K111:K114),0,K111:K114))","v":0}]
[null,null,null,{"$f":"'[2]Consequence Criteria'!$A$9","v":0},{"$f":"VALUE((IF('2-Impact Assessment '!E111=\"vl\",\"1\",(IF('2-Impact Assessment '!E111=\"l\",\"2\",(IF('2-Impact Assessment '!E111=\"m\",\"3\",(IF('2-Impact Assessment '!E111=\"h\",\"4\",(IF('2-Impact Assessment '!E111=\"vh\",\"5\", NA())))))))))))","v":{"$error":"#N/A"}},{"$f":"VALUE((IF('2-Impact Assessment '!F111=\"vl\",\"1\",(IF('2-Impact Assessment '!F111=\"l\",\"2\",(IF('2-Impact Assessment '!F111=\"m\",\"3\",(IF('2-Impact Assessment '!F111=\"h\",\"4\",(IF('2-Impact Assessment '!F111=\"vh\",\"5\", NA())))))))))))","v":{"$error":"#N/A"}},{"$f":"VALUE((IF('2-Impact Assessment '!G111=\"vl\",\"1\",(IF('2-Impact Assessment '!G111=\"l\",\"2\",(IF('2-Impact Assessment '!G111=\"m\",\"3\",(IF('2-Impact Assessment '!G111=\"h\",\"4\",(IF('2-Impact Assessment '!G111=\"vh\",\"5\", NA())))))))))))","v":{"$error":"#N/A"}},{"$f":"VALUE((IF('2-Impact Assessment '!H111=\"vl\",\"1\",(IF('2-Impact Assessment '!H111=\"l\",\"2\",(IF('2-Impact Assessment '!H111=\"m\",\"3\",(IF('2-Impact Assessment '!H111=\"h\",\"4\",(IF('2-Impact Assessment '!H111=\"vh\",\"5\", NA())))))))))))","v":{"$error":"#N/A"}},{"$f":"VALUE((IF('2-Impact Assessment '!I111=\"vl\",\"1\",(IF('2-Impact Assessment '!I111=\"l\",\"2\",(IF('2-Impact Assessment '!I111=\"m\",\"3\",(IF('2-Impact Assessment '!I111=\"h\",\"4\",(IF('2-Impact Assessment '!I111=\"vh\",\"5\", NA())))))))))))","v":{"$error":"#N/A"}},{"$f":"VALUE((IF('2-Impact Assessment '!J111=\"vl\",\"1\",(IF('2-Impact Assessment '!J111=\"l\",\"2\",(IF('2-Impact Assessment '!J111=\"m\",\"3\",(IF('2-Impact Assessment '!J111=\"h\",\"4\",(IF('2-Impact Assessment '!J111=\"vh\",\"5\", NA())))))))))))","v":{"$error":"#N/A"}},{"$f":"VALUE((IF('2-Impact Assessment '!K111=\"vl\",\"1\",(IF('2-Impact Assessment '!K111=\"l\",\"2\",(IF('2-Impact Assessment '!K111=\"m\",\"3\",(IF('2-Impact Assessment '!K111=\"h\",\"4\",(IF('2-Impact Assessment '!K111=\"vh\",\"5\", NA())))))))))))","v":{"$error":"#N/A"}},null,null,{"$f":"IFERROR(INDEX($AA$12:$AG$12,MATCH(TRUE, AA111:AG111 >= 3, 0)),200)","v":200},null,{"$f":"IFERROR(INDEX($AA$12:$AG$12,MATCH(TRUE, AA111:AG111 >= 4, 0)),200)","v":200},null,null,null,null,null,null,null,null,null,null,{"$f":"MAX(IF(ISERROR(E112:E115),0,E112:E115))","v":0},{"$f":"MAX(IF(ISERROR(F112:F115),0,F112:F115))","v":0},{"$f":"MAX(IF(ISERROR(G112:G115),0,G112:G115))","v":0},{"$f":"MAX(IF(ISERROR(H112:H115),0,H112:H115))","v":0},{"$f":"MAX(IF(ISERROR(I112:I115),0,I112:I115))","v":0},{"$f":"MAX(IF(ISERROR(J112:J115),0,J112:J115))","v":0},{"$f":"MAX(IF(ISERROR(K112:K115),0,K112:K115))","v":0}]
[null,null,null,{"$f":"'[2]Consequence Criteria'!$A$10","v":0},{"$f":"VALUE((IF('2-Impact Assessment '!E112=\"vl\",\"1\",(IF('2-Impact Assessment '!E112=\"l\",\"2\",(IF('2-Impact Assessment '!E112=\"m\",\"3\",(IF('2-Impact Assessment '!E112=\"h\",\"4\",(IF('2-Impact Assessment '!E112=\"vh\",\"5\", NA())))))))))))","v":{"$error":"#N/A"}},{"$f":"VALUE((IF('2-Impact Assessment '!F112=\"vl\",\"1\",(IF('2-Impact Assessment '!F112=\"l\",\"2\",(IF('2-Impact Assessment '!F112=\"m\",\"3\",(IF('2-Impact Assessment '!F112=\"h\",\"4\",(IF('2-Impact Assessment '!F112=\"vh\",\"5\", NA())))))))))))","v":{"$error":"#N/A"}},{"$f":"VALUE((IF('2-Impact Assessment '!G112=\"vl\",\"1\",(IF('2-Impact Assessment '!G112=\"l\",\"2\",(IF('2-Impact Assessment '!G112=\"m\",\"3\",(IF('2-Impact Assessment '!G112=\"h\",\"4\",(IF('2-Impact Assessment '!G112=\"vh\",\"5\", NA())))))))))))","v":{"$error":"#N/A"}},{"$f":"VALUE((IF('2-Impact Assessment '!H112=\"vl\",\"1\",(IF('2-Impact Assessment '!H112=\"l\",\"2\",(IF('2-Impact Assessment '!H112=\"m\",\"3\",(IF('2-Impact Assessment '!H112=\"h\",\"4\",(IF('2-Impact Assessment '!H112=\"vh\",\"5\", NA())))))))))))","v":{"$error":"#N/A"}},{"$f":"VALUE((IF('2-Impact Assessment '!I112=\"vl\",\"1\",(IF('2-Impact Assessment '!I112=\"l\",\"2\",(IF('2-Impact Assessment '!I112=\"m\",\"3\",(IF('2-Impact Assessment '!I112=\"h\",\"4\",(IF('2-Impact Assessment '!I112=\"vh\",\"5\", NA())))))))))))","v":{"$error":"#N/A"}},{"$f":"VALUE((IF('2-Impact Assessment '!J112=\"vl\",\"1\",(IF('2-Impact Assessment '!J112=\"l\",\"2\",(IF('2-Impact Assessment '!J112=\"m\",\"3\",(IF('2-Impact Assessment '!J112=\"h\",\"4\",(IF('2-Impact Assessment '!J112=\"vh\",\"5\", NA())))))))))))","v":{"$error":"#N/A"}},{"$f":"VALUE((IF('2-Impact Assessment '!K112=\"vl\",\"1\",(IF('2-Impact Assessment '!K112=\"l\",\"2\",(IF('2-Impact Assessment '!K112=\"m\",\"3\",(IF('2-Impact Assessment '!K112=\"h\",\"4\",(IF('2-Impact Assessment '!K112=\"vh\",\"5\", NA())))))))))))","v":{"$error":"#N/A"}},null,null,{"$f":"IFERROR(INDEX($AA$12:$AG$12,MATCH(TRUE, AA112:AG112 >= 3, 0)),200)","v":200},null,{"$f":"IFERROR(INDEX($AA$12:$AG$12,MATCH(TRUE, AA112:AG112 >= 4, 0)),200)","v":200},null,null,null,null,null,null,null,null,null,null,{"$f":"MAX(IF(ISERROR(E113:E116),0,E113:E116))","v":0},{"$f":"MAX(IF(ISERROR(F113:F116),0,F113:F116))","v":0},{"$f":"MAX(IF(ISERROR(G113:G116),0,G113:G116))","v":0},{"$f":"MAX(IF(ISERROR(H113:H116),0,H113:H116))","v":0},{"$f":"MAX(IF(ISERROR(I113:I116),0,I113:I116))","v":0},{"$f":"MAX(IF(ISERROR(J113:J116),0,J113:J116))","v":0},{"$f":"MAX(IF(ISERROR(K113:K116),0,K113:K116))","v":0}]
[null,{"$f":"IF(ISTEXT('1-Services & Function'!D41),'1-Services & Function'!D41,\"\")","v":""},12,null,"1 hr","4 hr","1 day","2 days","5 days","1 month","> 6 months","Comments",null,{"$f":"IFERROR(INDEX($AA$12:$AG$12,MATCH(TRUE, AA113:AG113 >= 3, 0)),200)","v":200},null,{"$f":"IFERROR(INDEX($AA$12:$AG$12,MATCH(TRUE, AA113:AG113 >= 4, 0)),200)","v":200},null,null,null,null,null,null,null,null,null,null,{"$f":"MAX(IF(ISERROR(E114:E117),0,E114:E117))","v":0},{"$f":"MAX(IF(ISERROR(F114:F117),0,F114:F117))","v":0},{"$f":"MAX(IF(ISERROR(G114:G117),0,G114:G117))","v":0},{"$f":"MAX(IF(ISERROR(H114:H117),0,H114:H117))","v":0},{"$f":"MAX(IF(ISERROR(I114:I117),0,I114:I117))","v":0},{"$f":"MAX(IF(ISERROR(J114:J117),0,J114:J117))","v":0},{"$f":"MAX(IF(ISERROR(K114:K117),0,K114:K117))","v":0}]
[null,null,null,{"$f":"'[2]Consequence Criteria'!$A$3","v":"Economic"},{"$f":"VALUE((IF('2-Impact Assessment '!E114=\"vl\",\"1\",(IF('2-Impact Assessment '!E114=\"l\",\"2\",(IF('2-Impact Assessment '!E114=\"m\",\"3\",(IF('2-Impact Assessment '!E114=\"h\",\"4\",(IF('2-Impact Assessment '!E114=\"vh\",\"5\", NA())))))))))))","v":{"$error":"#N/A"}},{"$f":"VALUE((IF('2-Impact Assessment '!F114=\"vl\",\"1\",(IF('2-Impact Assessment '!F114=\"l\",\"2\",(IF('2-Impact Assessment '!F114=\"m\",\"3\",(IF('2-Impact Assessment '!F114=\"h\",\"4\",(IF('2-Impact Assessment '!F114=\"vh\",\"5\", NA())))))))))))","v":{"$error":"#N/A"}},{"$f":"VALUE((IF('2-Impact Assessment '!G114=\"vl\",\"1\",(IF('2-Impact Assessment '!G114=\"l\",\"2\",(IF('2-Impact Assessment '!G114=\"m\",\"3\",(IF('2-Impact Assessment '!G114=\"h\",\"4\",(IF('2-Impact Assessment '!G114=\"vh\",\"5\", NA())))))))))))","v":{"$error":"#N/A"}},{"$f":"VALUE((IF('2-Impact Assessment '!H114=\"vl\",\"1\",(IF('2-Impact Assessment '!H114=\"l\",\"2\",(IF('2-Impact Assessment '!H114=\"m\",\"3\",(IF('2-Impact Assessment '!H114=\"h\",\"4\",(IF('2-Impact Assessment '!H114=\"vh\",\"5\", NA())))))))))))","v":{"$error":"#N/A"}},{"$f":"VALUE((IF('2-Impact Assessment '!I114=\"vl\",\"1\",(IF('2-Impact Assessment '!I114=\"l\",\"2\",(IF('2-Impact Assessment '!I114=\"m\",\"3\",(IF('2-Impact Assessment '!I114=\"h\",\"4\",(IF('2-Impact Assessment '!I114=\"vh\",\"5\", NA())))))))))))","v":{"$error":"#N/A"}},{"$f":"VALUE((IF('2-Impact Assessment '!J114=\"vl\",\"1\",(IF('2-Impact Assessment '!J114=\"l\",\"2\",(IF('2-Impact Assessment '!J114=\"m\",\"3\",(IF('2-Impact Assessment '!J114=\"h\",\"4\",(IF('2-Impact Assessment '!J114=\"vh\",\"5\", NA())))))))))))","v":{"$error":"#N/A"}},{"$f":"VALUE((IF('2-Impact Assessment '!K114=\"vl\",\"1\",(IF('2-Impact Assessment '!K114=\"l\",\"2\",(IF('2-Impact Assessment '!K114=\"m\",\"3\",(IF('2-Impact Assessment '!K114=\"h\",\"4\",(IF('2-Impact Assessment '!K114=\"vh\",\"5\", NA())))))))))))","v":{"$error":"#N/A"}},null,null,{"$f":"IFERROR(INDEX($AA$12:$AG$12,MATCH(TRUE, AA114:AG114 >= 3, 0)),200)","v":200},null,{"$f":"IFERROR(INDEX($AA$12:$AG$12,MATCH(TRUE, AA114:AG114 >= 4, 0)),200)","v":200},null,null,null,null,null,null,null,null,null,null,{"$f":"MAX(IF(ISERROR(E115:E118),0,E115:E118))","v":0},{"$f":"MAX(IF(ISERROR(F115:F118),0,F115:F118))","v":0},{"$f":"MAX(IF(ISERROR(G115:G118),0,G115:G118))","v":0},{"$f":"MAX(IF(ISERROR(H115:H118),0,H115:H118))","v":0},{"$f":"MAX(IF(ISERROR(I115:I118),0,I115:I118))","v":0},{"$f":"MAX(IF(ISERROR(J115:J118),0,J115:J118))","v":0},{"$f":"MAX(IF(ISERROR(K115:K118),0,K115:K118))","v":0}]
[null,null,null,{"$f":"'[2]Consequence Criteria'!$A$4","v":"Social"},{"$f":"VALUE((IF('2-Impact Assessment '!E115=\"vl\",\"1\",(IF('2-Impact Assessment '!E115=\"l\",\"2\",(IF('2-Impact Assessment '!E115=\"m\",\"3\",(IF('2-Impact Assessment '!E115=\"h\",\"4\",(IF('2-Impact Assessment '!E115=\"vh\",\"5\", NA())))))))))))","v":{"$error":"#N/A"}},{"$f":"VALUE((IF('2-Impact Assessment '!F115=\"vl\",\"1\",(IF('2-Impact Assessment '!F115=\"l\",\"2\",(IF('2-Impact Assessment '!F115=\"m\",\"3\",(IF('2-Impact Assessment '!F115=\"h\",\"4\",(IF('2-Impact Assessment '!F115=\"vh\",\"5\", NA())))))))))))","v":{"$error":"#N/A"}},{"$f":"VALUE((IF('2-Impact Assessment '!G115=\"vl\",\"1\",(IF('2-Impact Assessment '!G115=\"l\",\"2\",(IF('2-Impact Assessment '!G115=\"m\",\"3\",(IF('2-Impact Assessment '!G115=\"h\",\"4\",(IF('2-Impact Assessment '!G115=\"vh\",\"5\", NA())))))))))))","v":{"$error":"#N/A"}},{"$f":"VALUE((IF('2-Impact Assessment '!H115=\"vl\",\"1\",(IF('2-Impact Assessment '!H115=\"l\",\"2\",(IF('2-Impact Assessment '!H115=\"m\",\"3\",(IF('2-Impact Assessment '!H115=\"h\",\"4\",(IF('2-Impact Assessment '!H115=\"vh\",\"5\", NA())))))))))))","v":{"$error":"#N/A"}},{"$f":"VALUE((IF('2-Impact Assessment '!I115=\"vl\",\"1\",(IF('2-Impact Assessment '!I115=\"l\",\"2\",(IF('2-Impact Assessment '!I115=\"m\",\"3\",(IF('2-Impact Assessment '!I115=\"h\",\"4\",(IF('2-Impact Assessment '!I115=\"vh\",\"5\", NA())))))))))))","v":{"$error":"#N/A"}},{"$f":"VALUE((IF('2-Impact Assessment '!J115=\"vl\",\"1\",(IF('2-Impact Assessment '!J115=\"l\",\"2\",(IF('2-Impact Assessment '!J115=\"m\",\"3\",(IF('2-Impact Assessment '!J115=\"h\",\"4\",(IF('2-Impact Assessment '!J115=\"vh\",\"5\", NA())))))))))))","v":{"$error":"#N/A"}},{"$f":"VALUE((IF('2-Impact Assessment '!K115=\"vl\",\"1\",(IF('2-Impact Assessment '!K115=\"l\",\"2\",(IF('2-Impact Assessment '!K115=\"m\",\"3\",(IF('2-Impact Assessment '!K115=\"h\",\"4\",(IF('2-Impact Assessment '!K115=\"vh\",\"5\", NA())))))))))))","v":{"$error":"#N/A"}},null,null,{"$f":"IFERROR(INDEX($AA$12:$AG$12,MATCH(TRUE, AA115:AG115 >= 3, 0)),200)","v":200},null,{"$f":"IFERROR(INDEX($AA$12:$AG$12,MATCH(TRUE, AA115:AG115 >= 4, 0)),200)","v":200},null,null,null,null,null,null,null,null,null,null,{"$f":"MAX(IF(ISERROR(E116:E119),0,E116:E119))","v":0},{"$f":"MAX(IF(ISERROR(F116:F119),0,F116:F119))","v":0},{"$f":"MAX(IF(ISERROR(G116:G119),0,G116:G119))","v":0},{"$f":"MAX(IF(ISERROR(H116:H119),0,H116:H119))","v":0},{"$f":"MAX(IF(ISERROR(I116:I119),0,I116:I119))","v":0},{"$f":"MAX(IF(ISERROR(J116:J119),0,J116:J119))","v":0},{"$f":"MAX(IF(ISERROR(K116:K119),0,K116:K119))","v":0}]
[null,null,null,{"$f":"'[2]Consequence Criteria'!$A$5","v":"Cultural"},{"$f":"VALUE((IF('2-Impact Assessment '!E116=\"vl\",\"1\",(IF('2-Impact Assessment '!E116=\"l\",\"2\",(IF('2-Impact Assessment '!E116=\"m\",\"3\",(IF('2-Impact Assessment '!E116=\"h\",\"4\",(IF('2-Impact Assessment '!E116=\"vh\",\"5\", NA())))))))))))","v":{"$error":"#N/A"}},{"$f":"VALUE((IF('2-Impact Assessment '!F116=\"vl\",\"1\",(IF('2-Impact Assessment '!F116=\"l\",\"2\",(IF('2-Impact Assessment '!F116=\"m\",\"3\",(IF('2-Impact Assessment '!F116=\"h\",\"4\",(IF('2-Impact Assessment '!F116=\"vh\",\"5\", NA())))))))))))","v":{"$error":"#N/A"}},{"$f":"VALUE((IF('2-Impact Assessment '!G116=\"vl\",\"1\",(IF('2-Impact Assessment '!G116=\"l\",\"2\",(IF('2-Impact Assessment '!G116=\"m\",\"3\",(IF('2-Impact Assessment '!G116=\"h\",\"4\",(IF('2-Impact Assessment '!G116=\"vh\",\"5\", NA())))))))))))","v":{"$error":"#N/A"}},{"$f":"VALUE((IF('2-Impact Assessment '!H116=\"vl\",\"1\",(IF('2-Impact Assessment '!H116=\"l\",\"2\",(IF('2-Impact Assessment '!H116=\"m\",\"3\",(IF('2-Impact Assessment '!H116=\"h\",\"4\",(IF('2-Impact Assessment '!H116=\"vh\",\"5\", NA())))))))))))","v":{"$error":"#N/A"}},{"$f":"VALUE((IF('2-Impact Assessment '!I116=\"vl\",\"1\",(IF('2-Impact Assessment '!I116=\"l\",\"2\",(IF('2-Impact Assessment '!I116=\"m\",\"3\",(IF('2-Impact Assessment '!I116=\"h\",\"4\",(IF('2-Impact Assessment '!I116=\"vh\",\"5\", NA())))))))))))","v":{"$error":"#N/A"}},{"$f":"VALUE((IF('2-Impact Assessment '!J116=\"vl\",\"1\",(IF('2-Impact Assessment '!J116=\"l\",\"2\",(IF('2-Impact Assessment '!J116=\"m\",\"3\",(IF('2-Impact Assessment '!J116=\"h\",\"4\",(IF('2-Impact Assessment '!J116=\"vh\",\"5\", NA())))))))))))","v":{"$error":"#N/A"}},{"$f":"VALUE((IF('2-Impact Assessment '!K116=\"vl\",\"1\",(IF('2-Impact Assessment '!K116=\"l\",\"2\",(IF('2-Impact Assessment '!K116=\"m\",\"3\",(IF('2-Impact Assessment '!K116=\"h\",\"4\",(IF('2-Impact Assessment '!K116=\"vh\",\"5\", NA())))))))))))","v":{"$error":"#N/A"}},null,null,{"$f":"IFERROR(INDEX($AA$12:$AG$12,MATCH(TRUE, AA116:AG116 >= 3, 0)),200)","v":200},null,{"$f":"IFERROR(INDEX($AA$12:$AG$12,MATCH(TRUE, AA116:AG116 >= 4, 0)),200)","v":200},null,null,null,null,null,null,null,null,null,null,{"$f":"MAX(IF(ISERROR(E117:E120),0,E117:E120))","v":0},{"$f":"MAX(IF(ISERROR(F117:F120),0,F117:F120))","v":0},{"$f":"MAX(IF(ISERROR(G117:G120),0,G117:G120))","v":0},{"$f":"MAX(IF(ISERROR(H117:H120),0,H117:H120))","v":0},{"$f":"MAX(IF(ISERROR(I117:I120),0,I117:I120))","v":0},{"$f":"MAX(IF(ISERROR(J117:J120),0,J117:J120))","v":0},{"$f":"MAX(IF(ISERROR(K117:K120),0,K117:K120))","v":0}]
[null,null,null,{"$f":"'[2]Consequence Criteria'!$A$6","v":"Environmental"},{"$f":"VALUE((IF('2-Impact Assessment '!E117=\"vl\",\"1\",(IF('2-Impact Assessment '!E117=\"l\",\"2\",(IF('2-Impact Assessment '!E117=\"m\",\"3\",(IF('2-Impact Assessment '!E117=\"h\",\"4\",(IF('2-Impact Assessment '!E117=\"vh\",\"5\", NA())))))))))))","v":{"$error":"#N/A"}},{"$f":"VALUE((IF('2-Impact Assessment '!F117=\"vl\",\"1\",(IF('2-Impact Assessment '!F117=\"l\",\"2\",(IF('2-Impact Assessment '!F117=\"m\",\"3\",(IF('2-Impact Assessment '!F117=\"h\",\"4\",(IF('2-Impact Assessment '!F117=\"vh\",\"5\", NA())))))))))))","v":{"$error":"#N/A"}},{"$f":"VALUE((IF('2-Impact Assessment '!G117=\"vl\",\"1\",(IF('2-Impact Assessment '!G117=\"l\",\"2\",(IF('2-Impact Assessment '!G117=\"m\",\"3\",(IF('2-Impact Assessment '!G117=\"h\",\"4\",(IF('2-Impact Assessment '!G117=\"vh\",\"5\", NA())))))))))))","v":{"$error":"#N/A"}},{"$f":"VALUE((IF('2-Impact Assessment '!H117=\"vl\",\"1\",(IF('2-Impact Assessment '!H117=\"l\",\"2\",(IF('2-Impact Assessment '!H117=\"m\",\"3\",(IF('2-Impact Assessment '!H117=\"h\",\"4\",(IF('2-Impact Assessment '!H117=\"vh\",\"5\", NA())))))))))))","v":{"$error":"#N/A"}},{"$f":"VALUE((IF('2-Impact Assessment '!I117=\"vl\",\"1\",(IF('2-Impact Assessment '!I117=\"l\",\"2\",(IF('2-Impact Assessment '!I117=\"m\",\"3\",(IF('2-Impact Assessment '!I117=\"h\",\"4\",(IF('2-Impact Assessment '!I117=\"vh\",\"5\", NA())))))))))))","v":{"$error":"#N/A"}},{"$f":"VALUE((IF('2-Impact Assessment '!J117=\"vl\",\"1\",(IF('2-Impact Assessment '!J117=\"l\",\"2\",(IF('2-Impact Assessment '!J117=\"m\",\"3\",(IF('2-Impact Assessment '!J117=\"h\",\"4\",(IF('2-Impact Assessment '!J117=\"vh\",\"5\", NA())))))))))))","v":{"$error":"#N/A"}},{"$f":"VALUE((IF('2-Impact Assessment '!K117=\"vl\",\"1\",(IF('2-Impact Assessment '!K117=\"l\",\"2\",(IF('2-Impact Assessment '!K117=\"m\",\"3\",(IF('2-Impact Assessment '!K117=\"h\",\"4\",(IF('2-Impact Assessment '!K117=\"vh\",\"5\", NA())))))))))))","v":{"$error":"#N/A"}},null,null,{"$f":"IFERROR(INDEX($AA$12:$AG$12,MATCH(TRUE, AA117:AG117 >= 3, 0)),200)","v":200},null,{"$f":"IFERROR(INDEX($AA$12:$AG$12,MATCH(TRUE, AA117:AG117 >= 4, 0)),200)","v":200},null,null,null,null,null,null,null,null,null,null,{"$f":"MAX(IF(ISERROR(E118:E121),0,E118:E121))","v":0},{"$f":"MAX(IF(ISERROR(F118:F121),0,F118:F121))","v":0},{"$f":"MAX(IF(ISERROR(G118:G121),0,G118:G121))","v":0},{"$f":"MAX(IF(ISERROR(H118:H121),0,H118:H121))","v":0},{"$f":"MAX(IF(ISERROR(I118:I121),0,I118:I121))","v":0},{"$f":"MAX(IF(ISERROR(J118:J121),0,J118:J121))","v":0},{"$f":"MAX(IF(ISERROR(K118:K121),0,K118:K121))","v":0}]
[null,null,null,{"$f":"'[2]Consequence Criteria'!$A$7","v":0},{"$f":"VALUE((IF('2-Impact Assessment '!E118=\"vl\",\"1\",(IF('2-Impact Assessment '!E118=\"l\",\"2\",(IF('2-Impact Assessment '!E118=\"m\",\"3\",(IF('2-Impact Assessment '!E118=\"h\",\"4\",(IF('2-Impact Assessment '!E118=\"vh\",\"5\", NA())))))))))))","v":{"$error":"#N/A"}},{"$f":"VALUE((IF('2-Impact Assessment '!F118=\"vl\",\"1\",(IF('2-Impact Assessment '!F118=\"l\",\"2\",(IF('2-Impact Assessment '!F118=\"m\",\"3\",(IF('2-Impact Assessment '!F118=\"h\",\"4\",(IF('2-Impact Assessment '!F118=\"vh\",\"5\", NA())))))))))))","v":{"$error":"#N/A"}},{"$f":"VALUE((IF('2-Impact Assessment '!G118=\"vl\",\"1\",(IF('2-Impact Assessment '!G118=\"l\",\"2\",(IF('2-Impact Assessment '!G118=\"m\",\"3\",(IF('2-Impact Assessment '!G118=\"h\",\"4\",(IF('2-Impact Assessment '!G118=\"vh\",\"5\", NA())))))))))))","v":{"$error":"#N/A"}},{"$f":"VALUE((IF('2-Impact Assessment '!H118=\"vl\",\"1\",(IF('2-Impact Assessment '!H118=\"l\",\"2\",(IF('2-Impact Assessment '!H118=\"m\",\"3\",(IF('2-Impact Assessment '!H118=\"h\",\"4\",(IF('2-Impact Assessment '!H118=\"vh\",\"5\", NA())))))))))))","v":{"$error":"#N/A"}},{"$f":"VALUE((IF('2-Impact Assessment '!I118=\"vl\",\"1\",(IF('2-Impact Assessment '!I118=\"l\",\"2\",(IF('2-Impact Assessment '!I118=\"m\",\"3\",(IF('2-Impact Assessment '!I118=\"h\",\"4\",(IF('2-Impact Assessment '!I118=\"vh\",\"5\", NA())))))))))))","v":{"$error":"#N/A"}},{"$f":"VALUE((IF('2-Impact Assessment '!J118=\"vl\",\"1\",(IF('2-Impact Assessment '!J118=\"l\",\"2\",(IF('2-Impact Assessment '!J118=\"m\",\"3\",(IF('2-Impact Assessment '!J118=\"h\",\"4\",(IF('2-Impact Assessment '!J118=\"vh\",\"5\", NA())))))))))))","v":{"$error":"#N/A"}},{"$f":"VALUE((IF('2-Impact Assessment '!K118=\"vl\",\"1\",(IF('2-Impact Assessment '!K118=\"l\",\"2\",(IF('2-Impact Assessment '!K118=\"m\",\"3\",(IF('2-Impact Assessment '!K118=\"h\",\"4\",(IF('2-Impact Assessment '!K118=\"vh\",\"5\", NA())))))))))))","v":{"$error":"#N/A"}},null,null,{"$f":"IFERROR(INDEX($AA$12:$AG$12,MATCH(TRUE, AA118:AG118 >= 3, 0)),200)","v":200},null,{"$f":"IFERROR(INDEX($AA$12:$AG$12,MATCH(TRUE, AA118:AG118 >= 4, 0)),200)","v":200},null,null,null,null,null,null,null,null,null,null,{"$f":"MAX(IF(ISERROR(E119:E122),0,E119:E122))","v":0},{"$f":"MAX(IF(ISERROR(F119:F122),0,F119:F122))","v":0},{"$f":"MAX(IF(ISERROR(G119:G122),0,G119:G122))","v":0},{"$f":"MAX(IF(ISERROR(H119:H122),0,H119:H122))","v":0},{"$f":"MAX(IF(ISERROR(I119:I122),0,I119:I122))","v":0},{"$f":"MAX(IF(ISERROR(J119:J122),0,J119:J122))","v":0},{"$f":"MAX(IF(ISERROR(K119:K122),0,K119:K122))","v":0}]
[null,null,null,{"$f":"'[2]Consequence Criteria'!$A$8","v":0},{"$f":"VALUE((IF('2-Impact Assessment '!E119=\"vl\",\"1\",(IF('2-Impact Assessment '!E119=\"l\",\"2\",(IF('2-Impact Assessment '!E119=\"m\",\"3\",(IF('2-Impact Assessment '!E119=\"h\",\"4\",(IF('2-Impact Assessment '!E119=\"vh\",\"5\", NA())))))))))))","v":{"$error":"#N/A"}},{"$f":"VALUE((IF('2-Impact Assessment '!F119=\"vl\",\"1\",(IF('2-Impact Assessment '!F119=\"l\",\"2\",(IF('2-Impact Assessment '!F119=\"m\",\"3\",(IF('2-Impact Assessment '!F119=\"h\",\"4\",(IF('2-Impact Assessment '!F119=\"vh\",\"5\", NA())))))))))))","v":{"$error":"#N/A"}},{"$f":"VALUE((IF('2-Impact Assessment '!G119=\"vl\",\"1\",(IF('2-Impact Assessment '!G119=\"l\",\"2\",(IF('2-Impact Assessment '!G119=\"m\",\"3\",(IF('2-Impact Assessment '!G119=\"h\",\"4\",(IF('2-Impact Assessment '!G119=\"vh\",\"5\", NA())))))))))))","v":{"$error":"#N/A"}},{"$f":"VALUE((IF('2-Impact Assessment '!H119=\"vl\",\"1\",(IF('2-Impact Assessment '!H119=\"l\",\"2\",(IF('2-Impact Assessment '!H119=\"m\",\"3\",(IF('2-Impact Assessment '!H119=\"h\",\"4\",(IF('2-Impact Assessment '!H119=\"vh\",\"5\", NA())))))))))))","v":{"$error":"#N/A"}},{"$f":"VALUE((IF('2-Impact Assessment '!I119=\"vl\",\"1\",(IF('2-Impact Assessment '!I119=\"l\",\"2\",(IF('2-Impact Assessment '!I119=\"m\",\"3\",(IF('2-Impact Assessment '!I119=\"h\",\"4\",(IF('2-Impact Assessment '!I119=\"vh\",\"5\", NA())))))))))))","v":{"$error":"#N/A"}},{"$f":"VALUE((IF('2-Impact Assessment '!J119=\"vl\",\"1\",(IF('2-Impact Assessment '!J119=\"l\",\"2\",(IF('2-Impact Assessment '!J119=\"m\",\"3\",(IF('2-Impact Assessment '!J119=\"h\",\"4\",(IF('2-Impact Assessment '!J119=\"vh\",\"5\", NA())))))))))))","v":{"$error":"#N/A"}},{"$f":"VALUE((IF('2-Impact Assessment '!K119=\"vl\",\"1\",(IF('2-Impact Assessment '!K119=\"l\",\"2\",(IF('2-Impact Assessment '!K119=\"m\",\"3\",(IF('2-Impact Assessment '!K119=\"h\",\"4\",(IF('2-Impact Assessment '!K119=\"vh\",\"5\", NA())))))))))))","v":{"$error":"#N/A"}},null,null,{"$f":"IFERROR(INDEX($AA$12:$AG$12,MATCH(TRUE, AA119:AG119 >= 3, 0)),200)","v":200},null,{"$f":"IFERROR(INDEX($AA$12:$AG$12,MATCH(TRUE, AA119:AG119 >= 4, 0)),200)","v":200},null,null,null,null,null,null,null,null,null,null,{"$f":"MAX(IF(ISERROR(E120:E123),0,E120:E123))","v":0},{"$f":"MAX(IF(ISERROR(F120:F123),0,F120:F123))","v":0},{"$f":"MAX(IF(ISERROR(G120:G123),0,G120:G123))","v":0},{"$f":"MAX(IF(ISERROR(H120:H123),0,H120:H123))","v":0},{"$f":"MAX(IF(ISERROR(I120:I123),0,I120:I123))","v":0},{"$f":"MAX(IF(ISERROR(J120:J123),0,J120:J123))","v":0},{"$f":"MAX(IF(ISERROR(K120:K123),0,K120:K123))","v":0}]
[null,null,null,{"$f":"'[2]Consequence Criteria'!$A$9","v":0},{"$f":"VALUE((IF('2-Impact Assessment '!E120=\"vl\",\"1\",(IF('2-Impact Assessment '!E120=\"l\",\"2\",(IF('2-Impact Assessment '!E120=\"m\",\"3\",(IF('2-Impact Assessment '!E120=\"h\",\"4\",(IF('2-Impact Assessment '!E120=\"vh\",\"5\", NA())))))))))))","v":{"$error":"#N/A"}},{"$f":"VALUE((IF('2-Impact Assessment '!F120=\"vl\",\"1\",(IF('2-Impact Assessment '!F120=\"l\",\"2\",(IF('2-Impact Assessment '!F120=\"m\",\"3\",(IF('2-Impact Assessment '!F120=\"h\",\"4\",(IF('2-Impact Assessment '!F120=\"vh\",\"5\", NA())))))))))))","v":{"$error":"#N/A"}},{"$f":"VALUE((IF('2-Impact Assessment '!G120=\"vl\",\"1\",(IF('2-Impact Assessment '!G120=\"l\",\"2\",(IF('2-Impact Assessment '!G120=\"m\",\"3\",(IF('2-Impact Assessment '!G120=\"h\",\"4\",(IF('2-Impact Assessment '!G120=\"vh\",\"5\", NA())))))))))))","v":{"$error":"#N/A"}},{"$f":"VALUE((IF('2-Impact Assessment '!H120=\"vl\",\"1\",(IF('2-Impact Assessment '!H120=\"l\",\"2\",(IF('2-Impact Assessment '!H120=\"m\",\"3\",(IF('2-Impact Assessment '!H120=\"h\",\"4\",(IF('2-Impact Assessment '!H120=\"vh\",\"5\", NA())))))))))))","v":{"$error":"#N/A"}},{"$f":"VALUE((IF('2-Impact Assessment '!I120=\"vl\",\"1\",(IF('2-Impact Assessment '!I120=\"l\",\"2\",(IF('2-Impact Assessment '!I120=\"m\",\"3\",(IF('2-Impact Assessment '!I120=\"h\",\"4\",(IF('2-Impact Assessment '!I120=\"vh\",\"5\", NA())))))))))))","v":{"$error":"#N/A"}},{"$f":"VALUE((IF('2-Impact Assessment '!J120=\"vl\",\"1\",(IF('2-Impact Assessment '!J120=\"l\",\"2\",(IF('2-Impact Assessment '!J120=\"m\",\"3\",(IF('2-Impact Assessment '!J120=\"h\",\"4\",(IF('2-Impact Assessment '!J120=\"vh\",\"5\", NA())))))))))))","v":{"$error":"#N/A"}},{"$f":"VALUE((IF('2-Impact Assessment '!K120=\"vl\",\"1\",(IF('2-Impact Assessment '!K120=\"l\",\"2\",(IF('2-Impact Assessment '!K120=\"m\",\"3\",(IF('2-Impact Assessment '!K120=\"h\",\"4\",(IF('2-Impact Assessment '!K120=\"vh\",\"5\", NA())))))))))))","v":{"$error":"#N/A"}},null,null,{"$f":"IFERROR(INDEX($AA$12:$AG$12,MATCH(TRUE, AA120:AG120 >= 3, 0)),200)","v":200},null,{"$f":"IFERROR(INDEX($AA$12:$AG$12,MATCH(TRUE, AA120:AG120 >= 4, 0)),200)","v":200},null,null,null,null,null,null,null,null,null,null,{"$f":"MAX(IF(ISERROR(E121:E124),0,E121:E124))","v":0},{"$f":"MAX(IF(ISERROR(F121:F124),0,F121:F124))","v":0},{"$f":"MAX(IF(ISERROR(G121:G124),0,G121:G124))","v":0},{"$f":"MAX(IF(ISERROR(H121:H124),0,H121:H124))","v":0},{"$f":"MAX(IF(ISERROR(I121:I124),0,I121:I124))","v":0},{"$f":"MAX(IF(ISERROR(J121:J124),0,J121:J124))","v":0},{"$f":"MAX(IF(ISERROR(K121:K124),0,K121:K124))","v":0}]
[null,null,null,{"$f":"'[2]Consequence Criteria'!$A$10","v":0},{"$f":"VALUE((IF('2-Impact Assessment '!E121=\"vl\",\"1\",(IF('2-Impact Assessment '!E121=\"l\",\"2\",(IF('2-Impact Assessment '!E121=\"m\",\"3\",(IF('2-Impact Assessment '!E121=\"h\",\"4\",(IF('2-Impact Assessment '!E121=\"vh\",\"5\", NA())))))))))))","v":{"$error":"#N/A"}},{"$f":"VALUE((IF('2-Impact Assessment '!F121=\"vl\",\"1\",(IF('2-Impact Assessment '!F121=\"l\",\"2\",(IF('2-Impact Assessment '!F121=\"m\",\"3\",(IF('2-Impact Assessment '!F121=\"h\",\"4\",(IF('2-Impact Assessment '!F121=\"vh\",\"5\", NA())))))))))))","v":{"$error":"#N/A"}},{"$f":"VALUE((IF('2-Impact Assessment '!G121=\"vl\",\"1\",(IF('2-Impact Assessment '!G121=\"l\",\"2\",(IF('2-Impact Assessment '!G121=\"m\",\"3\",(IF('2-Impact Assessment '!G121=\"h\",\"4\",(IF('2-Impact Assessment '!G121=\"vh\",\"5\", NA())))))))))))","v":{"$error":"#N/A"}},{"$f":"VALUE((IF('2-Impact Assessment '!H121=\"vl\",\"1\",(IF('2-Impact Assessment '!H121=\"l\",\"2\",(IF('2-Impact Assessment '!H121=\"m\",\"3\",(IF('2-Impact Assessment '!H121=\"h\",\"4\",(IF('2-Impact Assessment '!H121=\"vh\",\"5\", NA())))))))))))","v":{"$error":"#N/A"}},{"$f":"VALUE((IF('2-Impact Assessment '!I121=\"vl\",\"1\",(IF('2-Impact Assessment '!I121=\"l\",\"2\",(IF('2-Impact Assessment '!I121=\"m\",\"3\",(IF('2-Impact Assessment '!I121=\"h\",\"4\",(IF('2-Impact Assessment '!I121=\"vh\",\"5\", NA())))))))))))","v":{"$error":"#N/A"}},{"$f":"VALUE((IF('2-Impact Assessment '!J121=\"vl\",\"1\",(IF('2-Impact Assessment '!J121=\"l\",\"2\",(IF('2-Impact Assessment '!J121=\"m\",\"3\",(IF('2-Impact Assessment '!J121=\"h\",\"4\",(IF('2-Impact Assessment '!J121=\"vh\",\"5\", NA())))))))))))","v":{"$error":"#N/A"}},{"$f":"VALUE((IF('2-Impact Assessment '!K121=\"vl\",\"1\",(IF('2-Impact Assessment '!K121=\"l\",\"2\",(IF('2-Impact Assessment '!K121=\"m\",\"3\",(IF('2-Impact Assessment '!K121=\"h\",\"4\",(IF('2-Impact Assessment '!K121=\"vh\",\"5\", NA())))))))))))","v":{"$error":"#N/A"}},null,null,{"$f":"IFERROR(INDEX($AA$12:$AG$12,MATCH(TRUE, AA121:AG121 >= 3, 0)),200)","v":200},null,{"$f":"IFERROR(INDEX($AA$12:$AG$12,MATCH(TRUE, AA121:AG121 >= 4, 0)),200)","v":200},null,null,null,null,null,null,null,null,null,null,{"$f":"MAX(IF(ISERROR(E122:E125),0,E122:E125))","v":0},{"$f":"MAX(IF(ISERROR(F122:F125),0,F122:F125))","v":0},{"$f":"MAX(IF(ISERROR(G122:G125),0,G122:G125))","v":0},{"$f":"MAX(IF(ISERROR(H122:H125),0,H122:H125))","v":0},{"$f":"MAX(IF(ISERROR(I122:I125),0,I122:I125))","v":0},{"$f":"MAX(IF(ISERROR(J122:J125),0,J122:J125))","v":0},{"$f":"MAX(IF(ISERROR(K122:K125),0,K122:K125))","v":0}]
[null,{"$f":"IF(ISTEXT('1-Services & Function'!D42),'1-Services & Function'!D42,\"\")","v":""},13,null,"1 hr","4 hr","1 day","2 days","5 days","1 month","> 6 months","Comments",null,{"$f":"IFERROR(INDEX($AA$12:$AG$12,MATCH(TRUE, AA122:AG122 >= 3, 0)),200)","v":200},null,{"$f":"IFERROR(INDEX($AA$12:$AG$12,MATCH(TRUE, AA122:AG122 >= 4, 0)),200)","v":200},null,null,null,null,null,null,null,null,null,null,{"$f":"MAX(IF(ISERROR(E123:E126),0,E123:E126))","v":0},{"$f":"MAX(IF(ISERROR(F123:F126),0,F123:F126))","v":0},{"$f":"MAX(IF(ISERROR(G123:G126),0,G123:G126))","v":0},{"$f":"MAX(IF(ISERROR(H123:H126),0,H123:H126))","v":0},{"$f":"MAX(IF(ISERROR(I123:I126),0,I123:I126))","v":0},{"$f":"MAX(IF(ISERROR(J123:J126),0,J123:J126))","v":0},{"$f":"MAX(IF(ISERROR(K123:K126),0,K123:K126))","v":0}]
[null,null,null,{"$f":"'[2]Consequence Criteria'!$A$3","v":"Economic"},{"$f":"VALUE((IF('2-Impact Assessment '!E123=\"vl\",\"1\",(IF('2-Impact Assessment '!E123=\"l\",\"2\",(IF('2-Impact Assessment '!E123=\"m\",\"3\",(IF('2-Impact Assessment '!E123=\"h\",\"4\",(IF('2-Impact Assessment '!E123=\"vh\",\"5\", NA())))))))))))","v":{"$error":"#N/A"}},{"$f":"VALUE((IF('2-Impact Assessment '!F123=\"vl\",\"1\",(IF('2-Impact Assessment '!F123=\"l\",\"2\",(IF('2-Impact Assessment '!F123=\"m\",\"3\",(IF('2-Impact Assessment '!F123=\"h\",\"4\",(IF('2-Impact Assessment '!F123=\"vh\",\"5\", NA())))))))))))","v":{"$error":"#N/A"}},{"$f":"VALUE((IF('2-Impact Assessment '!G123=\"vl\",\"1\",(IF('2-Impact Assessment '!G123=\"l\",\"2\",(IF('2-Impact Assessment '!G123=\"m\",\"3\",(IF('2-Impact Assessment '!G123=\"h\",\"4\",(IF('2-Impact Assessment '!G123=\"vh\",\"5\", NA())))))))))))","v":{"$error":"#N/A"}},{"$f":"VALUE((IF('2-Impact Assessment '!H123=\"vl\",\"1\",(IF('2-Impact Assessment '!H123=\"l\",\"2\",(IF('2-Impact Assessment '!H123=\"m\",\"3\",(IF('2-Impact Assessment '!H123=\"h\",\"4\",(IF('2-Impact Assessment '!H123=\"vh\",\"5\", NA())))))))))))","v":{"$error":"#N/A"}},{"$f":"VALUE((IF('2-Impact Assessment '!I123=\"vl\",\"1\",(IF('2-Impact Assessment '!I123=\"l\",\"2\",(IF('2-Impact Assessment '!I123=\"m\",\"3\",(IF('2-Impact Assessment '!I123=\"h\",\"4\",(IF('2-Impact Assessment '!I123=\"vh\",\"5\", NA())))))))))))","v":{"$error":"#N/A"}},{"$f":"VALUE((IF('2-Impact Assessment '!J123=\"vl\",\"1\",(IF('2-Impact Assessment '!J123=\"l\",\"2\",(IF('2-Impact Assessment '!J123=\"m\",\"3\",(IF('2-Impact Assessment '!J123=\"h\",\"4\",(IF('2-Impact Assessment '!J123=\"vh\",\"5\", NA())))))))))))","v":{"$error":"#N/A"}},{"$f":"VALUE((IF('2-Impact Assessment '!K123=\"vl\",\"1\",(IF('2-Impact Assessment '!K123=\"l\",\"2\",(IF('2-Impact Assessment '!K123=\"m\",\"3\",(IF('2-Impact Assessment '!K123=\"h\",\"4\",(IF('2-Impact Assessment '!K123=\"vh\",\"5\", NA())))))))))))","v":{"$error":"#N/A"}},null,null,{"$f":"IFERROR(INDEX($AA$12:$AG$12,MATCH(TRUE, AA123:AG123 >= 3, 0)),200)","v":200},null,{"$f":"IFERROR(INDEX($AA$12:$AG$12,MATCH(TRUE, AA123:AG123 >= 4, 0)),200)","v":200},null,null,null,null,null,null,null,null,null,null,{"$f":"MAX(IF(ISERROR(E124:E127),0,E124:E127))","v":0},{"$f":"MAX(IF(ISERROR(F124:F127),0,F124:F127))","v":0},{"$f":"MAX(IF(ISERROR(G124:G127),0,G124:G127))","v":0},{"$f":"MAX(IF(ISERROR(H124:H127),0,H124:H127))","v":0},{"$f":"MAX(IF(ISERROR(I124:I127),0,I124:I127))","v":0},{"$f":"MAX(IF(ISERROR(J124:J127),0,J124:J127))","v":0},{"$f":"MAX(IF(ISERROR(K124:K127),0,K124:K127))","v":0}]
[null,null,null,{"$f":"'[2]Consequence Criteria'!$A$4","v":"Social"},{"$f":"VALUE((IF('2-Impact Assessment '!E124=\"vl\",\"1\",(IF('2-Impact Assessment '!E124=\"l\",\"2\",(IF('2-Impact Assessment '!E124=\"m\",\"3\",(IF('2-Impact Assessment '!E124=\"h\",\"4\",(IF('2-Impact Assessment '!E124=\"vh\",\"5\", NA())))))))))))","v":{"$error":"#N/A"}},{"$f":"VALUE((IF('2-Impact Assessment '!F124=\"vl\",\"1\",(IF('2-Impact Assessment '!F124=\"l\",\"2\",(IF('2-Impact Assessment '!F124=\"m\",\"3\",(IF('2-Impact Assessment '!F124=\"h\",\"4\",(IF('2-Impact Assessment '!F124=\"vh\",\"5\", NA())))))))))))","v":{"$error":"#N/A"}},{"$f":"VALUE((IF('2-Impact Assessment '!G124=\"vl\",\"1\",(IF('2-Impact Assessment '!G124=\"l\",\"2\",(IF('2-Impact Assessment '!G124=\"m\",\"3\",(IF('2-Impact Assessment '!G124=\"h\",\"4\",(IF('2-Impact Assessment '!G124=\"vh\",\"5\", NA())))))))))))","v":{"$error":"#N/A"}},{"$f":"VALUE((IF('2-Impact Assessment '!H124=\"vl\",\"1\",(IF('2-Impact Assessment '!H124=\"l\",\"2\",(IF('2-Impact Assessment '!H124=\"m\",\"3\",(IF('2-Impact Assessment '!H124=\"h\",\"4\",(IF('2-Impact Assessment '!H124=\"vh\",\"5\", NA())))))))))))","v":{"$error":"#N/A"}},{"$f":"VALUE((IF('2-Impact Assessment '!I124=\"vl\",\"1\",(IF('2-Impact Assessment '!I124=\"l\",\"2\",(IF('2-Impact Assessment '!I124=\"m\",\"3\",(IF('2-Impact Assessment '!I124=\"h\",\"4\",(IF('2-Impact Assessment '!I124=\"vh\",\"5\", NA())))))))))))","v":{"$error":"#N/A"}},{"$f":"VALUE((IF('2-Impact Assessment '!J124=\"vl\",\"1\",(IF('2-Impact Assessment '!J124=\"l\",\"2\",(IF('2-Impact Assessment '!J124=\"m\",\"3\",(IF('2-Impact Assessment '!J124=\"h\",\"4\",(IF('2-Impact Assessment '!J124=\"vh\",\"5\", NA())))))))))))","v":{"$error":"#N/A"}},{"$f":"VALUE((IF('2-Impact Assessment '!K124=\"vl\",\"1\",(IF('2-Impact Assessment '!K124=\"l\",\"2\",(IF('2-Impact Assessment '!K124=\"m\",\"3\",(IF('2-Impact Assessment '!K124=\"h\",\"4\",(IF('2-Impact Assessment '!K124=\"vh\",\"5\", NA())))))))))))","v":{"$error":"#N/A"}},null,null,{"$f":"IFERROR(INDEX($AA$12:$AG$12,MATCH(TRUE, AA124:AG124 >= 3, 0)),200)","v":200},null,{"$f":"IFERROR(INDEX($AA$12:$AG$12,MATCH(TRUE, AA124:AG124 >= 4, 0)),200)","v":200},null,null,null,null,null,null,null,null,null,null,{"$f":"MAX(IF(ISERROR(E125:E128),0,E125:E128))","v":0},{"$f":"MAX(IF(ISERROR(F125:F128),0,F125:F128))","v":0},{"$f":"MAX(IF(ISERROR(G125:G128),0,G125:G128))","v":0},{"$f":"MAX(IF(ISERROR(H125:H128),0,H125:H128))","v":0},{"$f":"MAX(IF(ISERROR(I125:I128),0,I125:I128))","v":0},{"$f":"MAX(IF(ISERROR(J125:J128),0,J125:J128))","v":0},{"$f":"MAX(IF(ISERROR(K125:K128),0,K125:K128))","v":0}]
[null,null,null,{"$f":"'[2]Consequence Criteria'!$A$5","v":"Cultural"},{"$f":"VALUE((IF('2-Impact Assessment '!E125=\"vl\",\"1\",(IF('2-Impact Assessment '!E125=\"l\",\"2\",(IF('2-Impact Assessment '!E125=\"m\",\"3\",(IF('2-Impact Assessment '!E125=\"h\",\"4\",(IF('2-Impact Assessment '!E125=\"vh\",\"5\", NA())))))))))))","v":{"$error":"#N/A"}},{"$f":"VALUE((IF('2-Impact Assessment '!F125=\"vl\",\"1\",(IF('2-Impact Assessment '!F125=\"l\",\"2\",(IF('2-Impact Assessment '!F125=\"m\",\"3\",(IF('2-Impact Assessment '!F125=\"h\",\"4\",(IF('2-Impact Assessment '!F125=\"vh\",\"5\", NA())))))))))))","v":{"$error":"#N/A"}},{"$f":"VALUE((IF('2-Impact Assessment '!G125=\"vl\",\"1\",(IF('2-Impact Assessment '!G125=\"l\",\"2\",(IF('2-Impact Assessment '!G125=\"m\",\"3\",(IF('2-Impact Assessment '!G125=\"h\",\"4\",(IF('2-Impact Assessment '!G125=\"vh\",\"5\", NA())))))))))))","v":{"$error":"#N/A"}},{"$f":"VALUE((IF('2-Impact Assessment '!H125=\"vl\",\"1\",(IF('2-Impact Assessment '!H125=\"l\",\"2\",(IF('2-Impact Assessment '!H125=\"m\",\"3\",(IF('2-Impact Assessment '!H125=\"h\",\"4\",(IF('2-Impact Assessment '!H125=\"vh\",\"5\", NA())))))))))))","v":{"$error":"#N/A"}},{"$f":"VALUE((IF('2-Impact Assessment '!I125=\"vl\",\"1\",(IF('2-Impact Assessment '!I125=\"l\",\"2\",(IF('2-Impact Assessment '!I125=\"m\",\"3\",(IF('2-Impact Assessment '!I125=\"h\",\"4\",(IF('2-Impact Assessment '!I125=\"vh\",\"5\", NA())))))))))))","v":{"$error":"#N/A"}},{"$f":"VALUE((IF('2-Impact Assessment '!J125=\"vl\",\"1\",(IF('2-Impact Assessment '!J125=\"l\",\"2\",(IF('2-Impact Assessment '!J125=\"m\",\"3\",(IF('2-Impact Assessment '!J125=\"h\",\"4\",(IF('2-Impact Assessment '!J125=\"vh\",\"5\", NA())))))))))))","v":{"$error":"#N/A"}},{"$f":"VALUE((IF('2-Impact Assessment '!K125=\"vl\",\"1\",(IF('2-Impact Assessment '!K125=\"l\",\"2\",(IF('2-Impact Assessment '!K125=\"m\",\"3\",(IF('2-Impact Assessment '!K125=\"h\",\"4\",(IF('2-Impact Assessment '!K125=\"vh\",\"5\", NA())))))))))))","v":{"$error":"#N/A"}},null,null,{"$f":"IFERROR(INDEX($AA$12:$AG$12,MATCH(TRUE, AA125:AG125 >= 3, 0)),200)","v":200},null,{"$f":"IFERROR(INDEX($AA$12:$AG$12,MATCH(TRUE, AA125:AG125 >= 4, 0)),200)","v":200},null,null,null,null,null,null,null,null,null,null,{"$f":"MAX(IF(ISERROR(E126:E129),0,E126:E129))","v":0},{"$f":"MAX(IF(ISERROR(F126:F129),0,F126:F129))","v":0},{"$f":"MAX(IF(ISERROR(G126:G129),0,G126:G129))","v":0},{"$f":"MAX(IF(ISERROR(H126:H129),0,H126:H129))","v":0},{"$f":"MAX(IF(ISERROR(I126:I129),0,I126:I129))","v":0},{"$f":"MAX(IF(ISERROR(J126:J129),0,J126:J129))","v":0},{"$f":"MAX(IF(ISERROR(K126:K129),0,K126:K129))","v":0}]
[null,null,null,{"$f":"'[2]Consequence Criteria'!$A$6","v":"Environmental"},{"$f":"VALUE((IF('2-Impact Assessment '!E126=\"vl\",\"1\",(IF('2-Impact Assessment '!E126=\"l\",\"2\",(IF('2-Impact Assessment '!E126=\"m\",\"3\",(IF('2-Impact Assessment '!E126=\"h\",\"4\",(IF('2-Impact Assessment '!E126=\"vh\",\"5\", NA())))))))))))","v":{"$error":"#N/A"}},{"$f":"VALUE((IF('2-Impact Assessment '!F126=\"vl\",\"1\",(IF('2-Impact Assessment '!F126=\"l\",\"2\",(IF('2-Impact Assessment '!F126=\"m\",\"3\",(IF('2-Impact Assessment '!F126=\"h\",\"4\",(IF('2-Impact Assessment '!F126=\"vh\",\"5\", NA())))))))))))","v":{"$error":"#N/A"}},{"$f":"VALUE((IF('2-Impact Assessment '!G126=\"vl\",\"1\",(IF('2-Impact Assessment '!G126=\"l\",\"2\",(IF('2-Impact Assessment '!G126=\"m\",\"3\",(IF('2-Impact Assessment '!G126=\"h\",\"4\",(IF('2-Impact Assessment '!G126=\"vh\",\"5\", NA())))))))))))","v":{"$error":"#N/A"}},{"$f":"VALUE((IF('2-Impact Assessment '!H126=\"vl\",\"1\",(IF('2-Impact Assessment '!H126=\"l\",\"2\",(IF('2-Impact Assessment '!H126=\"m\",\"3\",(IF('2-Impact Assessment '!H126=\"h\",\"4\",(IF('2-Impact Assessment '!H126=\"vh\",\"5\", NA())))))))))))","v":{"$error":"#N/A"}},{"$f":"VALUE((IF('2-Impact Assessment '!I126=\"vl\",\"1\",(IF('2-Impact Assessment '!I126=\"l\",\"2\",(IF('2-Impact Assessment '!I126=\"m\",\"3\",(IF('2-Impact Assessment '!I126=\"h\",\"4\",(IF('2-Impact Assessment '!I126=\"vh\",\"5\", NA())))))))))))","v":{"$error":"#N/A"}},{"$f":"VALUE((IF('2-Impact Assessment '!J126=\"vl\",\"1\",(IF('2-Impact Assessment '!J126=\"l\",\"2\",(IF('2-Impact Assessment '!J126=\"m\",\"3\",(IF('2-Impact Assessment '!J126=\"h\",\"4\",(IF('2-Impact Assessment '!J126=\"vh\",\"5\", NA())))))))))))","v":{"$error":"#N/A"}},{"$f":"VALUE((IF('2-Impact Assessment '!K126=\"vl\",\"1\",(IF('2-Impact Assessment '!K126=\"l\",\"2\",(IF('2-Impact Assessment '!K126=\"m\",\"3\",(IF('2-Impact Assessment '!K126=\"h\",\"4\",(IF('2-Impact Assessment '!K126=\"vh\",\"5\", NA())))))))))))","v":{"$error":"#N/A"}},null,null,{"$f":"IFERROR(INDEX($AA$12:$AG$12,MATCH(TRUE, AA126:AG126 >= 3, 0)),200)","v":200},null,{"$f":"IFERROR(INDEX($AA$12:$AG$12,MATCH(TRUE, AA126:AG126 >= 4, 0)),200)","v":200},null,null,null,null,null,null,null,null,null,null,{"$f":"MAX(IF(ISERROR(E127:E130),0,E127:E130))","v":0},{"$f":"MAX(IF(ISERROR(F127:F130),0,F127:F130))","v":0},{"$f":"MAX(IF(ISERROR(G127:G130),0,G127:G130))","v":0},{"$f":"MAX(IF(ISERROR(H127:H130),0,H127:H130))","v":0},{"$f":"MAX(IF(ISERROR(I127:I130),0,I127:I130))","v":0},{"$f":"MAX(IF(ISERROR(J127:J130),0,J127:J130))","v":0},{"$f":"MAX(IF(ISERROR(K127:K130),0,K127:K130))","v":0}]
[null,null,null,{"$f":"'[2]Consequence Criteria'!$A$7","v":0},{"$f":"VALUE((IF('2-Impact Assessment '!E127=\"vl\",\"1\",(IF('2-Impact Assessment '!E127=\"l\",\"2\",(IF('2-Impact Assessment '!E127=\"m\",\"3\",(IF('2-Impact Assessment '!E127=\"h\",\"4\",(IF('2-Impact Assessment '!E127=\"vh\",\"5\", NA())))))))))))","v":{"$error":"#N/A"}},{"$f":"VALUE((IF('2-Impact Assessment '!F127=\"vl\",\"1\",(IF('2-Impact Assessment '!F127=\"l\",\"2\",(IF('2-Impact Assessment '!F127=\"m\",\"3\",(IF('2-Impact Assessment '!F127=\"h\",\"4\",(IF('2-Impact Assessment '!F127=\"vh\",\"5\", NA())))))))))))","v":{"$error":"#N/A"}},{"$f":"VALUE((IF('2-Impact Assessment '!G127=\"vl\",\"1\",(IF('2-Impact Assessment '!G127=\"l\",\"2\",(IF('2-Impact Assessment '!G127=\"m\",\"3\",(IF('2-Impact Assessment '!G127=\"h\",\"4\",(IF('2-Impact Assessment '!G127=\"vh\",\"5\", NA())))))))))))","v":{"$error":"#N/A"}},{"$f":"VALUE((IF('2-Impact Assessment '!H127=\"vl\",\"1\",(IF('2-Impact Assessment '!H127=\"l\",\"2\",(IF('2-Impact Assessment '!H127=\"m\",\"3\",(IF('2-Impact Assessment '!H127=\"h\",\"4\",(IF('2-Impact Assessment '!H127=\"vh\",\"5\", NA())))))))))))","v":{"$error":"#N/A"}},{"$f":"VALUE((IF('2-Impact Assessment '!I127=\"vl\",\"1\",(IF('2-Impact Assessment '!I127=\"l\",\"2\",(IF('2-Impact Assessment '!I127=\"m\",\"3\",(IF('2-Impact Assessment '!I127=\"h\",\"4\",(IF('2-Impact Assessment '!I127=\"vh\",\"5\", NA())))))))))))","v":{"$error":"#N/A"}},{"$f":"VALUE((IF('2-Impact Assessment '!J127=\"vl\",\"1\",(IF('2-Impact Assessment '!J127=\"l\",\"2\",(IF('2-Impact Assessment '!J127=\"m\",\"3\",(IF('2-Impact Assessment '!J127=\"h\",\"4\",(IF('2-Impact Assessment '!J127=\"vh\",\"5\", NA())))))))))))","v":{"$error":"#N/A"}},{"$f":"VALUE((IF('2-Impact Assessment '!K127=\"vl\",\"1\",(IF('2-Impact Assessment '!K127=\"l\",\"2\",(IF('2-Impact Assessment '!K127=\"m\",\"3\",(IF('2-Impact Assessment '!K127=\"h\",\"4\",(IF('2-Impact Assessment '!K127=\"vh\",\"5\", NA())))))))))))","v":{"$error":"#N/A"}},null,null,{"$f":"IFERROR(INDEX($AA$12:$AG$12,MATCH(TRUE, AA127:AG127 >= 3, 0)),200)","v":200},null,{"$f":"IFERROR(INDEX($AA$12:$AG$12,MATCH(TRUE, AA127:AG127 >= 4, 0)),200)","v":200},null,null,null,null,null,null,null,null,null,null,{"$f":"MAX(IF(ISERROR(E128:E131),0,E128:E131))","v":0},{"$f":"MAX(IF(ISERROR(F128:F131),0,F128:F131))","v":0},{"$f":"MAX(IF(ISERROR(G128:G131),0,G128:G131))","v":0},{"$f":"MAX(IF(ISERROR(H128:H131),0,H128:H131))","v":0},{"$f":"MAX(IF(ISERROR(I128:I131),0,I128:I131))","v":0},{"$f":"MAX(IF(ISERROR(J128:J131),0,J128:J131))","v":0},{"$f":"MAX(IF(ISERROR(K128:K131),0,K128:K131))","v":0}]
[null,null,null,{"$f":"'[2]Consequence Criteria'!$A$8","v":0},{"$f":"VALUE((IF('2-Impact Assessment '!E128=\"vl\",\"1\",(IF('2-Impact Assessment '!E128=\"l\",\"2\",(IF('2-Impact Assessment '!E128=\"m\",\"3\",(IF('2-Impact Assessment '!E128=\"h\",\"4\",(IF('2-Impact Assessment '!E128=\"vh\",\"5\", NA())))))))))))","v":{"$error":"#N/A"}},{"$f":"VALUE((IF('2-Impact Assessment '!F128=\"vl\",\"1\",(IF('2-Impact Assessment '!F128=\"l\",\"2\",(IF('2-Impact Assessment '!F128=\"m\",\"3\",(IF('2-Impact Assessment '!F128=\"h\",\"4\",(IF('2-Impact Assessment '!F128=\"vh\",\"5\", NA())))))))))))","v":{"$error":"#N/A"}},{"$f":"VALUE((IF('2-Impact Assessment '!G128=\"vl\",\"1\",(IF('2-Impact Assessment '!G128=\"l\",\"2\",(IF('2-Impact Assessment '!G128=\"m\",\"3\",(IF('2-Impact Assessment '!G128=\"h\",\"4\",(IF('2-Impact Assessment '!G128=\"vh\",\"5\", NA())))))))))))","v":{"$error":"#N/A"}},{"$f":"VALUE((IF('2-Impact Assessment '!H128=\"vl\",\"1\",(IF('2-Impact Assessment '!H128=\"l\",\"2\",(IF('2-Impact Assessment '!H128=\"m\",\"3\",(IF('2-Impact Assessment '!H128=\"h\",\"4\",(IF('2-Impact Assessment '!H128=\"vh\",\"5\", NA())))))))))))","v":{"$error":"#N/A"}},{"$f":"VALUE((IF('2-Impact Assessment '!I128=\"vl\",\"1\",(IF('2-Impact Assessment '!I128=\"l\",\"2\",(IF('2-Impact Assessment '!I128=\"m\",\"3\",(IF('2-Impact Assessment '!I128=\"h\",\"4\",(IF('2-Impact Assessment '!I128=\"vh\",\"5\", NA())))))))))))","v":{"$error":"#N/A"}},{"$f":"VALUE((IF('2-Impact Assessment '!J128=\"vl\",\"1\",(IF('2-Impact Assessment '!J128=\"l\",\"2\",(IF('2-Impact Assessment '!J128=\"m\",\"3\",(IF('2-Impact Assessment '!J128=\"h\",\"4\",(IF('2-Impact Assessment '!J128=\"vh\",\"5\", NA())))))))))))","v":{"$error":"#N/A"}},{"$f":"VALUE((IF('2-Impact Assessment '!K128=\"vl\",\"1\",(IF('2-Impact Assessment '!K128=\"l\",\"2\",(IF('2-Impact Assessment '!K128=\"m\",\"3\",(IF('2-Impact Assessment '!K128=\"h\",\"4\",(IF('2-Impact Assessment '!K128=\"vh\",\"5\", NA())))))))))))","v":{"$error":"#N/A"}},null,null,{"$f":"IFERROR(INDEX($AA$12:$AG$12,MATCH(TRUE, AA128:AG128 >= 3, 0)),200)","v":200},null,{"$f":"IFERROR(INDEX($AA$12:$AG$12,MATCH(TRUE, AA128:AG128 >= 4, 0)),200)","v":200},null,null,null,null,null,null,null,null,null,null,{"$f":"MAX(IF(ISERROR(E129:E132),0,E129:E132))","v":0},{"$f":"MAX(IF(ISERROR(F129:F132),0,F129:F132))","v":0},{"$f":"MAX(IF(ISERROR(G129:G132),0,G129:G132))","v":0},{"$f":"MAX(IF(ISERROR(H129:H132),0,H129:H132))","v":0},{"$f":"MAX(IF(ISERROR(I129:I132),0,I129:I132))","v":0},{"$f":"MAX(IF(ISERROR(J129:J132),0,J129:J132))","v":0},{"$f":"MAX(IF(ISERROR(K129:K132),0,K129:K132))","v":0}]
[null,null,null,{"$f":"'[2]Consequence Criteria'!$A$9","v":0},{"$f":"VALUE((IF('2-Impact Assessment '!E129=\"vl\",\"1\",(IF('2-Impact Assessment '!E129=\"l\",\"2\",(IF('2-Impact Assessment '!E129=\"m\",\"3\",(IF('2-Impact Assessment '!E129=\"h\",\"4\",(IF('2-Impact Assessment '!E129=\"vh\",\"5\", NA())))))))))))","v":{"$error":"#N/A"}},{"$f":"VALUE((IF('2-Impact Assessment '!F129=\"vl\",\"1\",(IF('2-Impact Assessment '!F129=\"l\",\"2\",(IF('2-Impact Assessment '!F129=\"m\",\"3\",(IF('2-Impact Assessment '!F129=\"h\",\"4\",(IF('2-Impact Assessment '!F129=\"vh\",\"5\", NA())))))))))))","v":{"$error":"#N/A"}},{"$f":"VALUE((IF('2-Impact Assessment '!G129=\"vl\",\"1\",(IF('2-Impact Assessment '!G129=\"l\",\"2\",(IF('2-Impact Assessment '!G129=\"m\",\"3\",(IF('2-Impact Assessment '!G129=\"h\",\"4\",(IF('2-Impact Assessment '!G129=\"vh\",\"5\", NA())))))))))))","v":{"$error":"#N/A"}},{"$f":"VALUE((IF('2-Impact Assessment '!H129=\"vl\",\"1\",(IF('2-Impact Assessment '!H129=\"l\",\"2\",(IF('2-Impact Assessment '!H129=\"m\",\"3\",(IF('2-Impact Assessment '!H129=\"h\",\"4\",(IF('2-Impact Assessment '!H129=\"vh\",\"5\", NA())))))))))))","v":{"$error":"#N/A"}},{"$f":"VALUE((IF('2-Impact Assessment '!I129=\"vl\",\"1\",(IF('2-Impact Assessment '!I129=\"l\",\"2\",(IF('2-Impact Assessment '!I129=\"m\",\"3\",(IF('2-Impact Assessment '!I129=\"h\",\"4\",(IF('2-Impact Assessment '!I129=\"vh\",\"5\", NA())))))))))))","v":{"$error":"#N/A"}},{"$f":"VALUE((IF('2-Impact Assessment '!J129=\"vl\",\"1\",(IF('2-Impact Assessment '!J129=\"l\",\"2\",(IF('2-Impact Assessment '!J129=\"m\",\"3\",(IF('2-Impact Assessment '!J129=\"h\",\"4\",(IF('2-Impact Assessment '!J129=\"vh\",\"5\", NA())))))))))))","v":{"$error":"#N/A"}},{"$f":"VALUE((IF('2-Impact Assessment '!K129=\"vl\",\"1\",(IF('2-Impact Assessment '!K129=\"l\",\"2\",(IF('2-Impact Assessment '!K129=\"m\",\"3\",(IF('2-Impact Assessment '!K129=\"h\",\"4\",(IF('2-Impact Assessment '!K129=\"vh\",\"5\", NA())))))))))))","v":{"$error":"#N/A"}},null,null,{"$f":"IFERROR(INDEX($AA$12:$AG$12,MATCH(TRUE, AA129:AG129 >= 3, 0)),200)","v":200},null,{"$f":"IFERROR(INDEX($AA$12:$AG$12,MATCH(TRUE, AA129:AG129 >= 4, 0)),200)","v":200},null,null,null,null,null,null,null,null,null,null,{"$f":"MAX(IF(ISERROR(E130:E133),0,E130:E133))","v":0},{"$f":"MAX(IF(ISERROR(F130:F133),0,F130:F133))","v":0},{"$f":"MAX(IF(ISERROR(G130:G133),0,G130:G133))","v":0},{"$f":"MAX(IF(ISERROR(H130:H133),0,H130:H133))","v":0},{"$f":"MAX(IF(ISERROR(I130:I133),0,I130:I133))","v":0},{"$f":"MAX(IF(ISERROR(J130:J133),0,J130:J133))","v":0},{"$f":"MAX(IF(ISERROR(K130:K133),0,K130:K133))","v":0}]
[null,null,null,{"$f":"'[2]Consequence Criteria'!$A$10","v":0},{"$f":"VALUE((IF('2-Impact Assessment '!E130=\"vl\",\"1\",(IF('2-Impact Assessment '!E130=\"l\",\"2\",(IF('2-Impact Assessment '!E130=\"m\",\"3\",(IF('2-Impact Assessment '!E130=\"h\",\"4\",(IF('2-Impact Assessment '!E130=\"vh\",\"5\", NA())))))))))))","v":{"$error":"#N/A"}},{"$f":"VALUE((IF('2-Impact Assessment '!F130=\"vl\",\"1\",(IF('2-Impact Assessment '!F130=\"l\",\"2\",(IF('2-Impact Assessment '!F130=\"m\",\"3\",(IF('2-Impact Assessment '!F130=\"h\",\"4\",(IF('2-Impact Assessment '!F130=\"vh\",\"5\", NA())))))))))))","v":{"$error":"#N/A"}},{"$f":"VALUE((IF('2-Impact Assessment '!G130=\"vl\",\"1\",(IF('2-Impact Assessment '!G130=\"l\",\"2\",(IF('2-Impact Assessment '!G130=\"m\",\"3\",(IF('2-Impact Assessment '!G130=\"h\",\"4\",(IF('2-Impact Assessment '!G130=\"vh\",\"5\", NA())))))))))))","v":{"$error":"#N/A"}},{"$f":"VALUE((IF('2-Impact Assessment '!H130=\"vl\",\"1\",(IF('2-Impact Assessment '!H130=\"l\",\"2\",(IF('2-Impact Assessment '!H130=\"m\",\"3\",(IF('2-Impact Assessment '!H130=\"h\",\"4\",(IF('2-Impact Assessment '!H130=\"vh\",\"5\", NA())))))))))))","v":{"$error":"#N/A"}},{"$f":"VALUE((IF('2-Impact Assessment '!I130=\"vl\",\"1\",(IF('2-Impact Assessment '!I130=\"l\",\"2\",(IF('2-Impact Assessment '!I130=\"m\",\"3\",(IF('2-Impact Assessment '!I130=\"h\",\"4\",(IF('2-Impact Assessment '!I130=\"vh\",\"5\", NA())))))))))))","v":{"$error":"#N/A"}},{"$f":"VALUE((IF('2-Impact Assessment '!J130=\"vl\",\"1\",(IF('2-Impact Assessment '!J130=\"l\",\"2\",(IF('2-Impact Assessment '!J130=\"m\",\"3\",(IF('2-Impact Assessment '!J130=\"h\",\"4\",(IF('2-Impact Assessment '!J130=\"vh\",\"5\", NA())))))))))))","v":{"$error":"#N/A"}},{"$f":"VALUE((IF('2-Impact Assessment '!K130=\"vl\",\"1\",(IF('2-Impact Assessment '!K130=\"l\",\"2\",(IF('2-Impact Assessment '!K130=\"m\",\"3\",(IF('2-Impact Assessment '!K130=\"h\",\"4\",(IF('2-Impact Assessment '!K130=\"vh\",\"5\", NA())))))))))))","v":{"$error":"#N/A"}},null,null,{"$f":"IFERROR(INDEX($AA$12:$AG$12,MATCH(TRUE, AA130:AG130 >= 3, 0)),200)","v":200},null,{"$f":"IFERROR(INDEX($AA$12:$AG$12,MATCH(TRUE, AA130:AG130 >= 4, 0)),200)","v":200},null,null,null,null,null,null,null,null,null,null,{"$f":"MAX(IF(ISERROR(E131:E134),0,E131:E134))","v":0},{"$f":"MAX(IF(ISERROR(F131:F134),0,F131:F134))","v":0},{"$f":"MAX(IF(ISERROR(G131:G134),0,G131:G134))","v":0},{"$f":"MAX(IF(ISERROR(H131:H134),0,H131:H134))","v":0},{"$f":"MAX(IF(ISERROR(I131:I134),0,I131:I134))","v":0},{"$f":"MAX(IF(ISERROR(J131:J134),0,J131:J134))","v":0},{"$f":"MAX(IF(ISERROR(K131:K134),0,K131:K134))","v":0}]
[null,{"$f":"IF(ISTEXT('1-Services & Function'!D43),'1-Services & Function'!D43,\"\")","v":""},14,null,"1 hr","4 hr","1 day","2 days","5 days","1 month","> 6 months","Comments",null,{"$f":"IFERROR(INDEX($AA$12:$AG$12,MATCH(TRUE, AA131:AG131 >= 3, 0)),200)","v":200},null,{"$f":"IFERROR(INDEX($AA$12:$AG$12,MATCH(TRUE, AA131:AG131 >= 4, 0)),200)","v":200},null,null,null,null,null,null,null,null,null,null,{"$f":"MAX(IF(ISERROR(E132:E135),0,E132:E135))","v":0},{"$f":"MAX(IF(ISERROR(F132:F135),0,F132:F135))","v":0},{"$f":"MAX(IF(ISERROR(G132:G135),0,G132:G135))","v":0},{"$f":"MAX(IF(ISERROR(H132:H135),0,H132:H135))","v":0},{"$f":"MAX(IF(ISERROR(I132:I135),0,I132:I135))","v":0},{"$f":"MAX(IF(ISERROR(J132:J135),0,J132:J135))","v":0},{"$f":"MAX(IF(ISERROR(K132:K135),0,K132:K135))","v":0}]
[null,null,null,{"$f":"'[2]Consequence Criteria'!$A$3","v":"Economic"},{"$f":"VALUE((IF('2-Impact Assessment '!E132=\"vl\",\"1\",(IF('2-Impact Assessment '!E132=\"l\",\"2\",(IF('2-Impact Assessment '!E132=\"m\",\"3\",(IF('2-Impact Assessment '!E132=\"h\",\"4\",(IF('2-Impact Assessment '!E132=\"vh\",\"5\", NA())))))))))))","v":{"$error":"#N/A"}},{"$f":"VALUE((IF('2-Impact Assessment '!F132=\"vl\",\"1\",(IF('2-Impact Assessment '!F132=\"l\",\"2\",(IF('2-Impact Assessment '!F132=\"m\",\"3\",(IF('2-Impact Assessment '!F132=\"h\",\"4\",(IF('2-Impact Assessment '!F132=\"vh\",\"5\", NA())))))))))))","v":{"$error":"#N/A"}},{"$f":"VALUE((IF('2-Impact Assessment '!G132=\"vl\",\"1\",(IF('2-Impact Assessment '!G132=\"l\",\"2\",(IF('2-Impact Assessment '!G132=\"m\",\"3\",(IF('2-Impact Assessment '!G132=\"h\",\"4\",(IF('2-Impact Assessment '!G132=\"vh\",\"5\", NA())))))))))))","v":{"$error":"#N/A"}},{"$f":"VALUE((IF('2-Impact Assessment '!H132=\"vl\",\"1\",(IF('2-Impact Assessment '!H132=\"l\",\"2\",(IF('2-Impact Assessment '!H132=\"m\",\"3\",(IF('2-Impact Assessment '!H132=\"h\",\"4\",(IF('2-Impact Assessment '!H132=\"vh\",\"5\", NA())))))))))))","v":{"$error":"#N/A"}},{"$f":"VALUE((IF('2-Impact Assessment '!I132=\"vl\",\"1\",(IF('2-Impact Assessment '!I132=\"l\",\"2\",(IF('2-Impact Assessment '!I132=\"m\",\"3\",(IF('2-Impact Assessment '!I132=\"h\",\"4\",(IF('2-Impact Assessment '!I132=\"vh\",\"5\", NA())))))))))))","v":{"$error":"#N/A"}},{"$f":"VALUE((IF('2-Impact Assessment '!J132=\"vl\",\"1\",(IF('2-Impact Assessment '!J132=\"l\",\"2\",(IF('2-Impact Assessment '!J132=\"m\",\"3\",(IF('2-Impact Assessment '!J132=\"h\",\"4\",(IF('2-Impact Assessment '!J132=\"vh\",\"5\", NA())))))))))))","v":{"$error":"#N/A"}},{"$f":"VALUE((IF('2-Impact Assessment '!K132=\"vl\",\"1\",(IF('2-Impact Assessment '!K132=\"l\",\"2\",(IF('2-Impact Assessment '!K132=\"m\",\"3\",(IF('2-Impact Assessment '!K132=\"h\",\"4\",(IF('2-Impact Assessment '!K132=\"vh\",\"5\", NA())))))))))))","v":{"$error":"#N/A"}},null,null,{"$f":"IFERROR(INDEX($AA$12:$AG$12,MATCH(TRUE, AA132:AG132 >= 3, 0)),200)","v":200},null,{"$f":"IFERROR(INDEX($AA$12:$AG$12,MATCH(TRUE, AA132:AG132 >= 4, 0)),200)","v":200},null,null,null,null,null,null,null,null,null,null,{"$f":"MAX(IF(ISERROR(E133:E136),0,E133:E136))","v":0},{"$f":"MAX(IF(ISERROR(F133:F136),0,F133:F136))","v":0},{"$f":"MAX(IF(ISERROR(G133:G136),0,G133:G136))","v":0},{"$f":"MAX(IF(ISERROR(H133:H136),0,H133:H136))","v":0},{"$f":"MAX(IF(ISERROR(I133:I136),0,I133:I136))","v":0},{"$f":"MAX(IF(ISERROR(J133:J136),0,J133:J136))","v":0},{"$f":"MAX(IF(ISERROR(K133:K136),0,K133:K136))","v":0}]
[null,null,null,{"$f":"'[2]Consequence Criteria'!$A$4","v":"Social"},{"$f":"VALUE((IF('2-Impact Assessment '!E133=\"vl\",\"1\",(IF('2-Impact Assessment '!E133=\"l\",\"2\",(IF('2-Impact Assessment '!E133=\"m\",\"3\",(IF('2-Impact Assessment '!E133=\"h\",\"4\",(IF('2-Impact Assessment '!E133=\"vh\",\"5\", NA())))))))))))","v":{"$error":"#N/A"}},{"$f":"VALUE((IF('2-Impact Assessment '!F133=\"vl\",\"1\",(IF('2-Impact Assessment '!F133=\"l\",\"2\",(IF('2-Impact Assessment '!F133=\"m\",\"3\",(IF('2-Impact Assessment '!F133=\"h\",\"4\",(IF('2-Impact Assessment '!F133=\"vh\",\"5\", NA())))))))))))","v":{"$error":"#N/A"}},{"$f":"VALUE((IF('2-Impact Assessment '!G133=\"vl\",\"1\",(IF('2-Impact Assessment '!G133=\"l\",\"2\",(IF('2-Impact Assessment '!G133=\"m\",\"3\",(IF('2-Impact Assessment '!G133=\"h\",\"4\",(IF('2-Impact Assessment '!G133=\"vh\",\"5\", NA())))))))))))","v":{"$error":"#N/A"}},{"$f":"VALUE((IF('2-Impact Assessment '!H133=\"vl\",\"1\",(IF('2-Impact Assessment '!H133=\"l\",\"2\",(IF('2-Impact Assessment '!H133=\"m\",\"3\",(IF('2-Impact Assessment '!H133=\"h\",\"4\",(IF('2-Impact Assessment '!H133=\"vh\",\"5\", NA())))))))))))","v":{"$error":"#N/A"}},{"$f":"VALUE((IF('2-Impact Assessment '!I133=\"vl\",\"1\",(IF('2-Impact Assessment '!I133=\"l\",\"2\",(IF('2-Impact Assessment '!I133=\"m\",\"3\",(IF('2-Impact Assessment '!I133=\"h\",\"4\",(IF('2-Impact Assessment '!I133=\"vh\",\"5\", NA())))))))))))","v":{"$error":"#N/A"}},{"$f":"VALUE((IF('2-Impact Assessment '!J133=\"vl\",\"1\",(IF('2-Impact Assessment '!J133=\"l\",\"2\",(IF('2-Impact Assessment '!J133=\"m\",\"3\",(IF('2-Impact Assessment '!J133=\"h\",\"4\",(IF('2-Impact Assessment '!J133=\"vh\",\"5\", NA())))))))))))","v":{"$error":"#N/A"}},{"$f":"VALUE((IF('2-Impact Assessment '!K133=\"vl\",\"1\",(IF('2-Impact Assessment '!K133=\"l\",\"2\",(IF('2-Impact Assessment '!K133=\"m\",\"3\",(IF('2-Impact Assessment '!K133=\"h\",\"4\",(IF('2-Impact Assessment '!K133=\"vh\",\"5\", NA())))))))))))","v":{"$error":"#N/A"}},null,null,{"$f":"IFERROR(INDEX($AA$12:$AG$12,MATCH(TRUE, AA133:AG133 >= 3, 0)),200)","v":200},null,{"$f":"IFERROR(INDEX($AA$12:$AG$12,MATCH(TRUE, AA133:AG133 >= 4, 0)),200)","v":200},null,null,null,null,null,null,null,null,null,null,{"$f":"MAX(IF(ISERROR(E134:E137),0,E134:E137))","v":0},{"$f":"MAX(IF(ISERROR(F134:F137),0,F134:F137))","v":0},{"$f":"MAX(IF(ISERROR(G134:G137),0,G134:G137))","v":0},{"$f":"MAX(IF(ISERROR(H134:H137),0,H134:H137))","v":0},{"$f":"MAX(IF(ISERROR(I134:I137),0,I134:I137))","v":0},{"$f":"MAX(IF(ISERROR(J134:J137),0,J134:J137))","v":0},{"$f":"MAX(IF(ISERROR(K134:K137),0,K134:K137))","v":0}]
[null,null,null,{"$f":"'[2]Consequence Criteria'!$A$5","v":"Cultural"},{"$f":"VALUE((IF('2-Impact Assessment '!E134=\"vl\",\"1\",(IF('2-Impact Assessment '!E134=\"l\",\"2\",(IF('2-Impact Assessment '!E134=\"m\",\"3\",(IF('2-Impact Assessment '!E134=\"h\",\"4\",(IF('2-Impact Assessment '!E134=\"vh\",\"5\", NA())))))))))))","v":{"$error":"#N/A"}},{"$f":"VALUE((IF('2-Impact Assessment '!F134=\"vl\",\"1\",(IF('2-Impact Assessment '!F134=\"l\",\"2\",(IF('2-Impact Assessment '!F134=\"m\",\"3\",(IF('2-Impact Assessment '!F134=\"h\",\"4\",(IF('2-Impact Assessment '!F134=\"vh\",\"5\", NA())))))))))))","v":{"$error":"#N/A"}},{"$f":"VALUE((IF('2-Impact Assessment '!G134=\"vl\",\"1\",(IF('2-Impact Assessment '!G134=\"l\",\"2\",(IF('2-Impact Assessment '!G134=\"m\",\"3\",(IF('2-Impact Assessment '!G134=\"h\",\"4\",(IF('2-Impact Assessment '!G134=\"vh\",\"5\", NA())))))))))))","v":{"$error":"#N/A"}},{"$f":"VALUE((IF('2-Impact Assessment '!H134=\"vl\",\"1\",(IF('2-Impact Assessment '!H134=\"l\",\"2\",(IF('2-Impact Assessment '!H134=\"m\",\"3\",(IF('2-Impact Assessment '!H134=\"h\",\"4\",(IF('2-Impact Assessment '!H134=\"vh\",\"5\", NA())))))))))))","v":{"$error":"#N/A"}},{"$f":"VALUE((IF('2-Impact Assessment '!I134=\"vl\",\"1\",(IF('2-Impact Assessment '!I134=\"l\",\"2\",(IF('2-Impact Assessment '!I134=\"m\",\"3\",(IF('2-Impact Assessment '!I134=\"h\",\"4\",(IF('2-Impact Assessment '!I134=\"vh\",\"5\", NA())))))))))))","v":{"$error":"#N/A"}},{"$f":"VALUE((IF('2-Impact Assessment '!J134=\"vl\",\"1\",(IF('2-Impact Assessment '!J134=\"l\",\"2\",(IF('2-Impact Assessment '!J134=\"m\",\"3\",(IF('2-Impact Assessment '!J134=\"h\",\"4\",(IF('2-Impact Assessment '!J134=\"vh\",\"5\", NA())))))))))))","v":{"$error":"#N/A"}},{"$f":"VALUE((IF('2-Impact Assessment '!K134=\"vl\",\"1\",(IF('2-Impact Assessment '!K134=\"l\",\"2\",(IF('2-Impact Assessment '!K134=\"m\",\"3\",(IF('2-Impact Assessment '!K134=\"h\",\"4\",(IF('2-Impact Assessment '!K134=\"vh\",\"5\", NA())))))))))))","v":{"$error":"#N/A"}},null,null,{"$f":"IFERROR(INDEX($AA$12:$AG$12,MATCH(TRUE, AA134:AG134 >= 3, 0)),200)","v":200},null,{"$f":"IFERROR(INDEX($AA$12:$AG$12,MATCH(TRUE, AA134:AG134 >= 4, 0)),200)","v":200},null,null,null,null,null,null,null,null,null,null,{"$f":"MAX(IF(ISERROR(E135:E138),0,E135:E138))","v":0},{"$f":"MAX(IF(ISERROR(F135:F138),0,F135:F138))","v":0},{"$f":"MAX(IF(ISERROR(G135:G138),0,G135:G138))","v":0},{"$f":"MAX(IF(ISERROR(H135:H138),0,H135:H138))","v":0},{"$f":"MAX(IF(ISERROR(I135:I138),0,I135:I138))","v":0},{"$f":"MAX(IF(ISERROR(J135:J138),0,J135:J138))","v":0},{"$f":"MAX(IF(ISERROR(K135:K138),0,K135:K138))","v":0}]
[null,null,null,{"$f":"'[2]Consequence Criteria'!$A$6","v":"Environmental"},{"$f":"VALUE((IF('2-Impact Assessment '!E135=\"vl\",\"1\",(IF('2-Impact Assessment '!E135=\"l\",\"2\",(IF('2-Impact Assessment '!E135=\"m\",\"3\",(IF('2-Impact Assessment '!E135=\"h\",\"4\",(IF('2-Impact Assessment '!E135=\"vh\",\"5\", NA())))))))))))","v":{"$error":"#N/A"}},{"$f":"VALUE((IF('2-Impact Assessment '!F135=\"vl\",\"1\",(IF('2-Impact Assessment '!F135=\"l\",\"2\",(IF('2-Impact Assessment '!F135=\"m\",\"3\",(IF('2-Impact Assessment '!F135=\"h\",\"4\",(IF('2-Impact Assessment '!F135=\"vh\",\"5\", NA())))))))))))","v":{"$error":"#N/A"}},{"$f":"VALUE((IF('2-Impact Assessment '!G135=\"vl\",\"1\",(IF('2-Impact Assessment '!G135=\"l\",\"2\",(IF('2-Impact Assessment '!G135=\"m\",\"3\",(IF('2-Impact Assessment '!G135=\"h\",\"4\",(IF('2-Impact Assessment '!G135=\"vh\",\"5\", NA())))))))))))","v":{"$error":"#N/A"}},{"$f":"VALUE((IF('2-Impact Assessment '!H135=\"vl\",\"1\",(IF('2-Impact Assessment '!H135=\"l\",\"2\",(IF('2-Impact Assessment '!H135=\"m\",\"3\",(IF('2-Impact Assessment '!H135=\"h\",\"4\",(IF('2-Impact Assessment '!H135=\"vh\",\"5\", NA())))))))))))","v":{"$error":"#N/A"}},{"$f":"VALUE((IF('2-Impact Assessment '!I135=\"vl\",\"1\",(IF('2-Impact Assessment '!I135=\"l\",\"2\",(IF('2-Impact Assessment '!I135=\"m\",\"3\",(IF('2-Impact Assessment '!I135=\"h\",\"4\",(IF('2-Impact Assessment '!I135=\"vh\",\"5\", NA())))))))))))","v":{"$error":"#N/A"}},{"$f":"VALUE((IF('2-Impact Assessment '!J135=\"vl\",\"1\",(IF('2-Impact Assessment '!J135=\"l\",\"2\",(IF('2-Impact Assessment '!J135=\"m\",\"3\",(IF('2-Impact Assessment '!J135=\"h\",\"4\",(IF('2-Impact Assessment '!J135=\"vh\",\"5\", NA())))))))))))","v":{"$error":"#N/A"}},{"$f":"VALUE((IF('2-Impact Assessment '!K135=\"vl\",\"1\",(IF('2-Impact Assessment '!K135=\"l\",\"2\",(IF('2-Impact Assessment '!K135=\"m\",\"3\",(IF('2-Impact Assessment '!K135=\"h\",\"4\",(IF('2-Impact Assessment '!K135=\"vh\",\"5\", NA())))))))))))","v":{"$error":"#N/A"}},null,null,{"$f":"IFERROR(INDEX($AA$12:$AG$12,MATCH(TRUE, AA135:AG135 >= 3, 0)),200)","v":200},null,{"$f":"IFERROR(INDEX($AA$12:$AG$12,MATCH(TRUE, AA135:AG135 >= 4, 0)),200)","v":200},null,null,null,null,null,null,null,null,null,null,{"$f":"MAX(IF(ISERROR(E136:E139),0,E136:E139))","v":0},{"$f":"MAX(IF(ISERROR(F136:F139),0,F136:F139))","v":0},{"$f":"MAX(IF(ISERROR(G136:G139),0,G136:G139))","v":0},{"$f":"MAX(IF(ISERROR(H136:H139),0,H136:H139))","v":0},{"$f":"MAX(IF(ISERROR(I136:I139),0,I136:I139))","v":0},{"$f":"MAX(IF(ISERROR(J136:J139),0,J136:J139))","v":0},{"$f":"MAX(IF(ISERROR(K136:K139),0,K136:K139))","v":0}]
[null,null,null,{"$f":"'[2]Consequence Criteria'!$A$7","v":0},{"$f":"VALUE((IF('2-Impact Assessment '!E136=\"vl\",\"1\",(IF('2-Impact Assessment '!E136=\"l\",\"2\",(IF('2-Impact Assessment '!E136=\"m\",\"3\",(IF('2-Impact Assessment '!E136=\"h\",\"4\",(IF('2-Impact Assessment '!E136=\"vh\",\"5\", NA())))))))))))","v":{"$error":"#N/A"}},{"$f":"VALUE((IF('2-Impact Assessment '!F136=\"vl\",\"1\",(IF('2-Impact Assessment '!F136=\"l\",\"2\",(IF('2-Impact Assessment '!F136=\"m\",\"3\",(IF('2-Impact Assessment '!F136=\"h\",\"4\",(IF('2-Impact Assessment '!F136=\"vh\",\"5\", NA())))))))))))","v":{"$error":"#N/A"}},{"$f":"VALUE((IF('2-Impact Assessment '!G136=\"vl\",\"1\",(IF('2-Impact Assessment '!G136=\"l\",\"2\",(IF('2-Impact Assessment '!G136=\"m\",\"3\",(IF('2-Impact Assessment '!G136=\"h\",\"4\",(IF('2-Impact Assessment '!G136=\"vh\",\"5\", NA())))))))))))","v":{"$error":"#N/A"}},{"$f":"VALUE((IF('2-Impact Assessment '!H136=\"vl\",\"1\",(IF('2-Impact Assessment '!H136=\"l\",\"2\",(IF('2-Impact Assessment '!H136=\"m\",\"3\",(IF('2-Impact Assessment '!H136=\"h\",\"4\",(IF('2-Impact Assessment '!H136=\"vh\",\"5\", NA())))))))))))","v":{"$error":"#N/A"}},{"$f":"VALUE((IF('2-Impact Assessment '!I136=\"vl\",\"1\",(IF('2-Impact Assessment '!I136=\"l\",\"2\",(IF('2-Impact Assessment '!I136=\"m\",\"3\",(IF('2-Impact Assessment '!I136=\"h\",\"4\",(IF('2-Impact Assessment '!I136=\"vh\",\"5\", NA())))))))))))","v":{"$error":"#N/A"}},{"$f":"VALUE((IF('2-Impact Assessment '!J136=\"vl\",\"1\",(IF('2-Impact Assessment '!J136=\"l\",\"2\",(IF('2-Impact Assessment '!J136=\"m\",\"3\",(IF('2-Impact Assessment '!J136=\"h\",\"4\",(IF('2-Impact Assessment '!J136=\"vh\",\"5\", NA())))))))))))","v":{"$error":"#N/A"}},{"$f":"VALUE((IF('2-Impact Assessment '!K136=\"vl\",\"1\",(IF('2-Impact Assessment '!K136=\"l\",\"2\",(IF('2-Impact Assessment '!K136=\"m\",\"3\",(IF('2-Impact Assessment '!K136=\"h\",\"4\",(IF('2-Impact Assessment '!K136=\"vh\",\"5\", NA())))))))))))","v":{"$error":"#N/A"}},null,null,{"$f":"IFERROR(INDEX($AA$12:$AG$12,MATCH(TRUE, AA136:AG136 >= 3, 0)),200)","v":200},null,{"$f":"IFERROR(INDEX($AA$12:$AG$12,MATCH(TRUE, AA136:AG136 >= 4, 0)),200)","v":200},null,null,null,null,null,null,null,null,null,null,{"$f":"MAX(IF(ISERROR(E137:E140),0,E137:E140))","v":0},{"$f":"MAX(IF(ISERROR(F137:F140),0,F137:F140))","v":0},{"$f":"MAX(IF(ISERROR(G137:G140),0,G137:G140))","v":0},{"$f":"MAX(IF(ISERROR(H137:H140),0,H137:H140))","v":0},{"$f":"MAX(IF(ISERROR(I137:I140),0,I137:I140))","v":0},{"$f":"MAX(IF(ISERROR(J137:J140),0,J137:J140))","v":0},{"$f":"MAX(IF(ISERROR(K137:K140),0,K137:K140))","v":0}]
[null,null,null,{"$f":"'[2]Consequence Criteria'!$A$8","v":0},{"$f":"VALUE((IF('2-Impact Assessment '!E137=\"vl\",\"1\",(IF('2-Impact Assessment '!E137=\"l\",\"2\",(IF('2-Impact Assessment '!E137=\"m\",\"3\",(IF('2-Impact Assessment '!E137=\"h\",\"4\",(IF('2-Impact Assessment '!E137=\"vh\",\"5\", NA())))))))))))","v":{"$error":"#N/A"}},{"$f":"VALUE((IF('2-Impact Assessment '!F137=\"vl\",\"1\",(IF('2-Impact Assessment '!F137=\"l\",\"2\",(IF('2-Impact Assessment '!F137=\"m\",\"3\",(IF('2-Impact Assessment '!F137=\"h\",\"4\",(IF('2-Impact Assessment '!F137=\"vh\",\"5\", NA())))))))))))","v":{"$error":"#N/A"}},{"$f":"VALUE((IF('2-Impact Assessment '!G137=\"vl\",\"1\",(IF('2-Impact Assessment '!G137=\"l\",\"2\",(IF('2-Impact Assessment '!G137=\"m\",\"3\",(IF('2-Impact Assessment '!G137=\"h\",\"4\",(IF('2-Impact Assessment '!G137=\"vh\",\"5\", NA())))))))))))","v":{"$error":"#N/A"}},{"$f":"VALUE((IF('2-Impact Assessment '!H137=\"vl\",\"1\",(IF('2-Impact Assessment '!H137=\"l\",\"2\",(IF('2-Impact Assessment '!H137=\"m\",\"3\",(IF('2-Impact Assessment '!H137=\"h\",\"4\",(IF('2-Impact Assessment '!H137=\"vh\",\"5\", NA())))))))))))","v":{"$error":"#N/A"}},{"$f":"VALUE((IF('2-Impact Assessment '!I137=\"vl\",\"1\",(IF('2-Impact Assessment '!I137=\"l\",\"2\",(IF('2-Impact Assessment '!I137=\"m\",\"3\",(IF('2-Impact Assessment '!I137=\"h\",\"4\",(IF('2-Impact Assessment '!I137=\"vh\",\"5\", NA())))))))))))","v":{"$error":"#N/A"}},{"$f":"VALUE((IF('2-Impact Assessment '!J137=\"vl\",\"1\",(IF('2-Impact Assessment '!J137=\"l\",\"2\",(IF('2-Impact Assessment '!J137=\"m\",\"3\",(IF('2-Impact Assessment '!J137=\"h\",\"4\",(IF('2-Impact Assessment '!J137=\"vh\",\"5\", NA())))))))))))","v":{"$error":"#N/A"}},{"$f":"VALUE((IF('2-Impact Assessment '!K137=\"vl\",\"1\",(IF('2-Impact Assessment '!K137=\"l\",\"2\",(IF('2-Impact Assessment '!K137=\"m\",\"3\",(IF('2-Impact Assessment '!K137=\"h\",\"4\",(IF('2-Impact Assessment '!K137=\"vh\",\"5\", NA())))))))))))","v":{"$error":"#N/A"}},null,null,{"$f":"IFERROR(INDEX($AA$12:$AG$12,MATCH(TRUE, AA137:AG137 >= 3, 0)),200)","v":200},null,{"$f":"IFERROR(INDEX($AA$12:$AG$12,MATCH(TRUE, AA137:AG137 >= 4, 0)),200)","v":200},null,null,null,null,null,null,null,null,null,null,{"$f":"MAX(IF(ISERROR(E138:E141),0,E138:E141))","v":0},{"$f":"MAX(IF(ISERROR(F138:F141),0,F138:F141))","v":0},{"$f":"MAX(IF(ISERROR(G138:G141),0,G138:G141))","v":0},{"$f":"MAX(IF(ISERROR(H138:H141),0,H138:H141))","v":0},{"$f":"MAX(IF(ISERROR(I138:I141),0,I138:I141))","v":0},{"$f":"MAX(IF(ISERROR(J138:J141),0,J138:J141))","v":0},{"$f":"MAX(IF(ISERROR(K138:K141),0,K138:K141))","v":0}]
[null,null,null,{"$f":"'[2]Consequence Criteria'!$A$9","v":0},{"$f":"VALUE((IF('2-Impact Assessment '!E138=\"vl\",\"1\",(IF('2-Impact Assessment '!E138=\"l\",\"2\",(IF('2-Impact Assessment '!E138=\"m\",\"3\",(IF('2-Impact Assessment '!E138=\"h\",\"4\",(IF('2-Impact Assessment '!E138=\"vh\",\"5\", NA())))))))))))","v":{"$error":"#N/A"}},{"$f":"VALUE((IF('2-Impact Assessment '!F138=\"vl\",\"1\",(IF('2-Impact Assessment '!F138=\"l\",\"2\",(IF('2-Impact Assessment '!F138=\"m\",\"3\",(IF('2-Impact Assessment '!F138=\"h\",\"4\",(IF('2-Impact Assessment '!F138=\"vh\",\"5\", NA())))))))))))","v":{"$error":"#N/A"}},{"$f":"VALUE((IF('2-Impact Assessment '!G138=\"vl\",\"1\",(IF('2-Impact Assessment '!G138=\"l\",\"2\",(IF('2-Impact Assessment '!G138=\"m\",\"3\",(IF('2-Impact Assessment '!G138=\"h\",\"4\",(IF('2-Impact Assessment '!G138=\"vh\",\"5\", NA())))))))))))","v":{"$error":"#N/A"}},{"$f":"VALUE((IF('2-Impact Assessment '!H138=\"vl\",\"1\",(IF('2-Impact Assessment '!H138=\"l\",\"2\",(IF('2-Impact Assessment '!H138=\"m\",\"3\",(IF('2-Impact Assessment '!H138=\"h\",\"4\",(IF('2-Impact Assessment '!H138=\"vh\",\"5\", NA())))))))))))","v":{"$error":"#N/A"}},{"$f":"VALUE((IF('2-Impact Assessment '!I138=\"vl\",\"1\",(IF('2-Impact Assessment '!I138=\"l\",\"2\",(IF('2-Impact Assessment '!I138=\"m\",\"3\",(IF('2-Impact Assessment '!I138=\"h\",\"4\",(IF('2-Impact Assessment '!I138=\"vh\",\"5\", NA())))))))))))","v":{"$error":"#N/A"}},{"$f":"VALUE((IF('2-Impact Assessment '!J138=\"vl\",\"1\",(IF('2-Impact Assessment '!J138=\"l\",\"2\",(IF('2-Impact Assessment '!J138=\"m\",\"3\",(IF('2-Impact Assessment '!J138=\"h\",\"4\",(IF('2-Impact Assessment '!J138=\"vh\",\"5\", NA())))))))))))","v":{"$error":"#N/A"}},{"$f":"VALUE((IF('2-Impact Assessment '!K138=\"vl\",\"1\",(IF('2-Impact Assessment '!K138=\"l\",\"2\",(IF('2-Impact Assessment '!K138=\"m\",\"3\",(IF('2-Impact Assessment '!K138=\"h\",\"4\",(IF('2-Impact Assessment '!K138=\"vh\",\"5\", NA())))))))))))","v":{"$error":"#N/A"}},null,null,{"$f":"IFERROR(INDEX($AA$12:$AG$12,MATCH(TRUE, AA138:AG138 >= 3, 0)),200)","v":200},null,{"$f":"IFERROR(INDEX($AA$12:$AG$12,MATCH(TRUE, AA138:AG138 >= 4, 0)),200)","v":200},null,null,null,null,null,null,null,null,null,null,{"$f":"MAX(IF(ISERROR(E139:E142),0,E139:E142))","v":0},{"$f":"MAX(IF(ISERROR(F139:F142),0,F139:F142))","v":0},{"$f":"MAX(IF(ISERROR(G139:G142),0,G139:G142))","v":0},{"$f":"MAX(IF(ISERROR(H139:H142),0,H139:H142))","v":0},{"$f":"MAX(IF(ISERROR(I139:I142),0,I139:I142))","v":0},{"$f":"MAX(IF(ISERROR(J139:J142),0,J139:J142))","v":0},{"$f":"MAX(IF(ISERROR(K139:K142),0,K139:K142))","v":0}]
[null,null,null,{"$f":"'[2]Consequence Criteria'!$A$10","v":0},{"$f":"VALUE((IF('2-Impact Assessment '!E139=\"vl\",\"1\",(IF('2-Impact Assessment '!E139=\"l\",\"2\",(IF('2-Impact Assessment '!E139=\"m\",\"3\",(IF('2-Impact Assessment '!E139=\"h\",\"4\",(IF('2-Impact Assessment '!E139=\"vh\",\"5\", NA())))))))))))","v":{"$error":"#N/A"}},{"$f":"VALUE((IF('2-Impact Assessment '!F139=\"vl\",\"1\",(IF('2-Impact Assessment '!F139=\"l\",\"2\",(IF('2-Impact Assessment '!F139=\"m\",\"3\",(IF('2-Impact Assessment '!F139=\"h\",\"4\",(IF('2-Impact Assessment '!F139=\"vh\",\"5\", NA())))))))))))","v":{"$error":"#N/A"}},{"$f":"VALUE((IF('2-Impact Assessment '!G139=\"vl\",\"1\",(IF('2-Impact Assessment '!G139=\"l\",\"2\",(IF('2-Impact Assessment '!G139=\"m\",\"3\",(IF('2-Impact Assessment '!G139=\"h\",\"4\",(IF('2-Impact Assessment '!G139=\"vh\",\"5\", NA())))))))))))","v":{"$error":"#N/A"}},{"$f":"VALUE((IF('2-Impact Assessment '!H139=\"vl\",\"1\",(IF('2-Impact Assessment '!H139=\"l\",\"2\",(IF('2-Impact Assessment '!H139=\"m\",\"3\",(IF('2-Impact Assessment '!H139=\"h\",\"4\",(IF('2-Impact Assessment '!H139=\"vh\",\"5\", NA())))))))))))","v":{"$error":"#N/A"}},{"$f":"VALUE((IF('2-Impact Assessment '!I139=\"vl\",\"1\",(IF('2-Impact Assessment '!I139=\"l\",\"2\",(IF('2-Impact Assessment '!I139=\"m\",\"3\",(IF('2-Impact Assessment '!I139=\"h\",\"4\",(IF('2-Impact Assessment '!I139=\"vh\",\"5\", NA())))))))))))","v":{"$error":"#N/A"}},{"$f":"VALUE((IF('2-Impact Assessment '!J139=\"vl\",\"1\",(IF('2-Impact Assessment '!J139=\"l\",\"2\",(IF('2-Impact Assessment '!J139=\"m\",\"3\",(IF('2-Impact Assessment '!J139=\"h\",\"4\",(IF('2-Impact Assessment '!J139=\"vh\",\"5\", NA())))))))))))","v":{"$error":"#N/A"}},{"$f":"VALUE((IF('2-Impact Assessment '!K139=\"vl\",\"1\",(IF('2-Impact Assessment '!K139=\"l\",\"2\",(IF('2-Impact Assessment '!K139=\"m\",\"3\",(IF('2-Impact Assessment '!K139=\"h\",\"4\",(IF('2-Impact Assessment '!K139=\"vh\",\"5\", NA())))))))))))","v":{"$error":"#N/A"}},null,null,{"$f":"IFERROR(INDEX($AA$12:$AG$12,MATCH(TRUE, AA139:AG139 >= 3, 0)),200)","v":200},null,{"$f":"IFERROR(INDEX($AA$12:$AG$12,MATCH(TRUE, AA139:AG139 >= 4, 0)),200)","v":200},null,null,null,null,null,null,null,null,null,null,{"$f":"MAX(IF(ISERROR(E140:E143),0,E140:E143))","v":0},{"$f":"MAX(IF(ISERROR(F140:F143),0,F140:F143))","v":0},{"$f":"MAX(IF(ISERROR(G140:G143),0,G140:G143))","v":0},{"$f":"MAX(IF(ISERROR(H140:H143),0,H140:H143))","v":0},{"$f":"MAX(IF(ISERROR(I140:I143),0,I140:I143))","v":0},{"$f":"MAX(IF(ISERROR(J140:J143),0,J140:J143))","v":0},{"$f":"MAX(IF(ISERROR(K140:K143),0,K140:K143))","v":0}]
[null,{"$f":"IF(ISTEXT('1-Services & Function'!D44),'1-Services & Function'!D44,\"\")","v":""},15,null,"1 hr","4 hr","1 day","2 days","5 days","1 month","> 6 months","Comments",null,{"$f":"IFERROR(INDEX($AA$12:$AG$12,MATCH(TRUE, AA140:AG140 >= 3, 0)),200)","v":200},null,{"$f":"IFERROR(INDEX($AA$12:$AG$12,MATCH(TRUE, AA140:AG140 >= 4, 0)),200)","v":200},null,null,null,null,null,null,null,null,null,null,{"$f":"MAX(IF(ISERROR(E141:E144),0,E141:E144))","v":0},{"$f":"MAX(IF(ISERROR(F141:F144),0,F141:F144))","v":0},{"$f":"MAX(IF(ISERROR(G141:G144),0,G141:G144))","v":0},{"$f":"MAX(IF(ISERROR(H141:H144),0,H141:H144))","v":0},{"$f":"MAX(IF(ISERROR(I141:I144),0,I141:I144))","v":0},{"$f":"MAX(IF(ISERROR(J141:J144),0,J141:J144))","v":0},{"$f":"MAX(IF(ISERROR(K141:K144),0,K141:K144))","v":0}]
[null,null,null,{"$f":"'[2]Consequence Criteria'!$A$3","v":"Economic"},{"$f":"VALUE((IF('2-Impact Assessment '!E141=\"vl\",\"1\",(IF('2-Impact Assessment '!E141=\"l\",\"2\",(IF('2-Impact Assessment '!E141=\"m\",\"3\",(IF('2-Impact Assessment '!E141=\"h\",\"4\",(IF('2-Impact Assessment '!E141=\"vh\",\"5\", NA())))))))))))","v":{"$error":"#N/A"}},{"$f":"VALUE((IF('2-Impact Assessment '!F141=\"vl\",\"1\",(IF('2-Impact Assessment '!F141=\"l\",\"2\",(IF('2-Impact Assessment '!F141=\"m\",\"3\",(IF('2-Impact Assessment '!F141=\"h\",\"4\",(IF('2-Impact Assessment '!F141=\"vh\",\"5\", NA())))))))))))","v":{"$error":"#N/A"}},{"$f":"VALUE((IF('2-Impact Assessment '!G141=\"vl\",\"1\",(IF('2-Impact Assessment '!G141=\"l\",\"2\",(IF('2-Impact Assessment '!G141=\"m\",\"3\",(IF('2-Impact Assessment '!G141=\"h\",\"4\",(IF('2-Impact Assessment '!G141=\"vh\",\"5\", NA())))))))))))","v":{"$error":"#N/A"}},{"$f":"VALUE((IF('2-Impact Assessment '!H141=\"vl\",\"1\",(IF('2-Impact Assessment '!H141=\"l\",\"2\",(IF('2-Impact Assessment '!H141=\"m\",\"3\",(IF('2-Impact Assessment '!H141=\"h\",\"4\",(IF('2-Impact Assessment '!H141=\"vh\",\"5\", NA())))))))))))","v":{"$error":"#N/A"}},{"$f":"VALUE((IF('2-Impact Assessment '!I141=\"vl\",\"1\",(IF('2-Impact Assessment '!I141=\"l\",\"2\",(IF('2-Impact Assessment '!I141=\"m\",\"3\",(IF('2-Impact Assessment '!I141=\"h\",\"4\",(IF('2-Impact Assessment '!I141=\"vh\",\"5\", NA())))))))))))","v":{"$error":"#N/A"}},{"$f":"VALUE((IF('2-Impact Assessment '!J141=\"vl\",\"1\",(IF('2-Impact Assessment '!J141=\"l\",\"2\",(IF('2-Impact Assessment '!J141=\"m\",\"3\",(IF('2-Impact Assessment '!J141=\"h\",\"4\",(IF('2-Impact Assessment '!J141=\"vh\",\"5\", NA())))))))))))","v":{"$error":"#N/A"}},{"$f":"VALUE((IF('2-Impact Assessment '!K141=\"vl\",\"1\",(IF('2-Impact Assessment '!K141=\"l\",\"2\",(IF('2-Impact Assessment '!K141=\"m\",\"3\",(IF('2-Impact Assessment '!K141=\"h\",\"4\",(IF('2-Impact Assessment '!K141=\"vh\",\"5\", NA())))))))))))","v":{"$error":"#N/A"}},null,null,{"$f":"IFERROR(INDEX($AA$12:$AG$12,MATCH(TRUE, AA141:AG141 >= 3, 0)),200)","v":200},null,{"$f":"IFERROR(INDEX($AA$12:$AG$12,MATCH(TRUE, AA141:AG141 >= 4, 0)),200)","v":200},null,null,null,null,null,null,null,null,null,null,{"$f":"MAX(IF(ISERROR(E142:E145),0,E142:E145))","v":0},{"$f":"MAX(IF(ISERROR(F142:F145),0,F142:F145))","v":0},{"$f":"MAX(IF(ISERROR(G142:G145),0,G142:G145))","v":0},{"$f":"MAX(IF(ISERROR(H142:H145),0,H142:H145))","v":0},{"$f":"MAX(IF(ISERROR(I142:I145),0,I142:I145))","v":0},{"$f":"MAX(IF(ISERROR(J142:J145),0,J142:J145))","v":0},{"$f":"MAX(IF(ISERROR(K142:K145),0,K142:K145))","v":0}]
[null,null,null,{"$f":"'[2]Consequence Criteria'!$A$4","v":"Social"},{"$f":"VALUE((IF('2-Impact Assessment '!E142=\"vl\",\"1\",(IF('2-Impact Assessment '!E142=\"l\",\"2\",(IF('2-Impact Assessment '!E142=\"m\",\"3\",(IF('2-Impact Assessment '!E142=\"h\",\"4\",(IF('2-Impact Assessment '!E142=\"vh\",\"5\", NA())))))))))))","v":{"$error":"#N/A"}},{"$f":"VALUE((IF('2-Impact Assessment '!F142=\"vl\",\"1\",(IF('2-Impact Assessment '!F142=\"l\",\"2\",(IF('2-Impact Assessment '!F142=\"m\",\"3\",(IF('2-Impact Assessment '!F142=\"h\",\"4\",(IF('2-Impact Assessment '!F142=\"vh\",\"5\", NA())))))))))))","v":{"$error":"#N/A"}},{"$f":"VALUE((IF('2-Impact Assessment '!G142=\"vl\",\"1\",(IF('2-Impact Assessment '!G142=\"l\",\"2\",(IF('2-Impact Assessment '!G142=\"m\",\"3\",(IF('2-Impact Assessment '!G142=\"h\",\"4\",(IF('2-Impact Assessment '!G142=\"vh\",\"5\", NA())))))))))))","v":{"$error":"#N/A"}},{"$f":"VALUE((IF('2-Impact Assessment '!H142=\"vl\",\"1\",(IF('2-Impact Assessment '!H142=\"l\",\"2\",(IF('2-Impact Assessment '!H142=\"m\",\"3\",(IF('2-Impact Assessment '!H142=\"h\",\"4\",(IF('2-Impact Assessment '!H142=\"vh\",\"5\", NA())))))))))))","v":{"$error":"#N/A"}},{"$f":"VALUE((IF('2-Impact Assessment '!I142=\"vl\",\"1\",(IF('2-Impact Assessment '!I142=\"l\",\"2\",(IF('2-Impact Assessment '!I142=\"m\",\"3\",(IF('2-Impact Assessment '!I142=\"h\",\"4\",(IF('2-Impact Assessment '!I142=\"vh\",\"5\", NA())))))))))))","v":{"$error":"#N/A"}},{"$f":"VALUE((IF('2-Impact Assessment '!J142=\"vl\",\"1\",(IF('2-Impact Assessment '!J142=\"l\",\"2\",(IF('2-Impact Assessment '!J142=\"m\",\"3\",(IF('2-Impact Assessment '!J142=\"h\",\"4\",(IF('2-Impact Assessment '!J142=\"vh\",\"5\", NA())))))))))))","v":{"$error":"#N/A"}},{"$f":"VALUE((IF('2-Impact Assessment '!K142=\"vl\",\"1\",(IF('2-Impact Assessment '!K142=\"l\",\"2\",(IF('2-Impact Assessment '!K142=\"m\",\"3\",(IF('2-Impact Assessment '!K142=\"h\",\"4\",(IF('2-Impact Assessment '!K142=\"vh\",\"5\", NA())))))))))))","v":{"$error":"#N/A"}},null,null,{"$f":"IFERROR(INDEX($AA$12:$AG$12,MATCH(TRUE, AA142:AG142 >= 3, 0)),200)","v":200},null,{"$f":"IFERROR(INDEX($AA$12:$AG$12,MATCH(TRUE, AA142:AG142 >= 4, 0)),200)","v":200},null,null,null,null,null,null,null,null,null,null,{"$f":"MAX(IF(ISERROR(E143:E146),0,E143:E146))","v":0},{"$f":"MAX(IF(ISERROR(F143:F146),0,F143:F146))","v":0},{"$f":"MAX(IF(ISERROR(G143:G146),0,G143:G146))","v":0},{"$f":"MAX(IF(ISERROR(H143:H146),0,H143:H146))","v":0},{"$f":"MAX(IF(ISERROR(I143:I146),0,I143:I146))","v":0},{"$f":"MAX(IF(ISERROR(J143:J146),0,J143:J146))","v":0},{"$f":"MAX(IF(ISERROR(K143:K146),0,K143:K146))","v":0}]
[null,null,null,{"$f":"'[2]Consequence Criteria'!$A$5","v":"Cultural"},{"$f":"VALUE((IF('2-Impact Assessment '!E143=\"vl\",\"1\",(IF('2-Impact Assessment '!E143=\"l\",\"2\",(IF('2-Impact Assessment '!E143=\"m\",\"3\",(IF('2-Impact Assessment '!E143=\"h\",\"4\",(IF('2-Impact Assessment '!E143=\"vh\",\"5\", NA())))))))))))","v":{"$error":"#N/A"}},{"$f":"VALUE((IF('2-Impact Assessment '!F143=\"vl\",\"1\",(IF('2-Impact Assessment '!F143=\"l\",\"2\",(IF('2-Impact Assessment '!F143=\"m\",\"3\",(IF('2-Impact Assessment '!F143=\"h\",\"4\",(IF('2-Impact Assessment '!F143=\"vh\",\"5\", NA())))))))))))","v":{"$error":"#N/A"}},{"$f":"VALUE((IF('2-Impact Assessment '!G143=\"vl\",\"1\",(IF('2-Impact Assessment '!G143=\"l\",\"2\",(IF('2-Impact Assessment '!G143=\"m\",\"3\",(IF('2-Impact Assessment '!G143=\"h\",\"4\",(IF('2-Impact Assessment '!G143=\"vh\",\"5\", NA())))))))))))","v":{"$error":"#N/A"}},{"$f":"VALUE((IF('2-Impact Assessment '!H143=\"vl\",\"1\",(IF('2-Impact Assessment '!H143=\"l\",\"2\",(IF('2-Impact Assessment '!H143=\"m\",\"3\",(IF('2-Impact Assessment '!H143=\"h\",\"4\",(IF('2-Impact Assessment '!H143=\"vh\",\"5\", NA())))))))))))","v":{"$error":"#N/A"}},{"$f":"VALUE((IF('2-Impact Assessment '!I143=\"vl\",\"1\",(IF('2-Impact Assessment '!I143=\"l\",\"2\",(IF('2-Impact Assessment '!I143=\"m\",\"3\",(IF('2-Impact Assessment '!I143=\"h\",\"4\",(IF('2-Impact Assessment '!I143=\"vh\",\"5\", NA())))))))))))","v":{"$error":"#N/A"}},{"$f":"VALUE((IF('2-Impact Assessment '!J143=\"vl\",\"1\",(IF('2-Impact Assessment '!J143=\"l\",\"2\",(IF('2-Impact Assessment '!J143=\"m\",\"3\",(IF('2-Impact Assessment '!J143=\"h\",\"4\",(IF('2-Impact Assessment '!J143=\"vh\",\"5\", NA())))))))))))","v":{"$error":"#N/A"}},{"$f":"VALUE((IF('2-Impact Assessment '!K143=\"vl\",\"1\",(IF('2-Impact Assessment '!K143=\"l\",\"2\",(IF('2-Impact Assessment '!K143=\"m\",\"3\",(IF('2-Impact Assessment '!K143=\"h\",\"4\",(IF('2-Impact Assessment '!K143=\"vh\",\"5\", NA())))))))))))","v":{"$error":"#N/A"}},null,null,{"$f":"IFERROR(INDEX($AA$12:$AG$12,MATCH(TRUE, AA143:AG143 >= 3, 0)),200)","v":200},null,{"$f":"IFERROR(INDEX($AA$12:$AG$12,MATCH(TRUE, AA143:AG143 >= 4, 0)),200)","v":200},null,null,null,null,null,null,null,null,null,null,{"$f":"MAX(IF(ISERROR(E144:E147),0,E144:E147))","v":0},{"$f":"MAX(IF(ISERROR(F144:F147),0,F144:F147))","v":0},{"$f":"MAX(IF(ISERROR(G144:G147),0,G144:G147))","v":0},{"$f":"MAX(IF(ISERROR(H144:H147),0,H144:H147))","v":0},{"$f":"MAX(IF(ISERROR(I144:I147),0,I144:I147))","v":0},{"$f":"MAX(IF(ISERROR(J144:J147),0,J144:J147))","v":0},{"$f":"MAX(IF(ISERROR(K144:K147),0,K144:K147))","v":0}]
[null,null,null,{"$f":"'[2]Consequence Criteria'!$A$6","v":"Environmental"},{"$f":"VALUE((IF('2-Impact Assessment '!E144=\"vl\",\"1\",(IF('2-Impact Assessment '!E144=\"l\",\"2\",(IF('2-Impact Assessment '!E144=\"m\",\"3\",(IF('2-Impact Assessment '!E144=\"h\",\"4\",(IF('2-Impact Assessment '!E144=\"vh\",\"5\", NA())))))))))))","v":{"$error":"#N/A"}},{"$f":"VALUE((IF('2-Impact Assessment '!F144=\"vl\",\"1\",(IF('2-Impact Assessment '!F144=\"l\",\"2\",(IF('2-Impact Assessment '!F144=\"m\",\"3\",(IF('2-Impact Assessment '!F144=\"h\",\"4\",(IF('2-Impact Assessment '!F144=\"vh\",\"5\", NA())))))))))))","v":{"$error":"#N/A"}},{"$f":"VALUE((IF('2-Impact Assessment '!G144=\"vl\",\"1\",(IF('2-Impact Assessment '!G144=\"l\",\"2\",(IF('2-Impact Assessment '!G144=\"m\",\"3\",(IF('2-Impact Assessment '!G144=\"h\",\"4\",(IF('2-Impact Assessment '!G144=\"vh\",\"5\", NA())))))))))))","v":{"$error":"#N/A"}},{"$f":"VALUE((IF('2-Impact Assessment '!H144=\"vl\",\"1\",(IF('2-Impact Assessment '!H144=\"l\",\"2\",(IF('2-Impact Assessment '!H144=\"m\",\"3\",(IF('2-Impact Assessment '!H144=\"h\",\"4\",(IF('2-Impact Assessment '!H144=\"vh\",\"5\", NA())))))))))))","v":{"$error":"#N/A"}},{"$f":"VALUE((IF('2-Impact Assessment '!I144=\"vl\",\"1\",(IF('2-Impact Assessment '!I144=\"l\",\"2\",(IF('2-Impact Assessment '!I144=\"m\",\"3\",(IF('2-Impact Assessment '!I144=\"h\",\"4\",(IF('2-Impact Assessment '!I144=\"vh\",\"5\", NA())))))))))))","v":{"$error":"#N/A"}},{"$f":"VALUE((IF('2-Impact Assessment '!J144=\"vl\",\"1\",(IF('2-Impact Assessment '!J144=\"l\",\"2\",(IF('2-Impact Assessment '!J144=\"m\",\"3\",(IF('2-Impact Assessment '!J144=\"h\",\"4\",(IF('2-Impact Assessment '!J144=\"vh\",\"5\", NA())))))))))))","v":{"$error":"#N/A"}},{"$f":"VALUE((IF('2-Impact Assessment '!K144=\"vl\",\"1\",(IF('2-Impact Assessment '!K144=\"l\",\"2\",(IF('2-Impact Assessment '!K144=\"m\",\"3\",(IF('2-Impact Assessment '!K144=\"h\",\"4\",(IF('2-Impact Assessment '!K144=\"vh\",\"5\", NA())))))))))))","v":{"$error":"#N/A"}},null,null,{"$f":"IFERROR(INDEX($AA$12:$AG$12,MATCH(TRUE, AA144:AG144 >= 3, 0)),200)","v":200},null,{"$f":"IFERROR(INDEX($AA$12:$AG$12,MATCH(TRUE, AA144:AG144 >= 4, 0)),200)","v":200},null,null,null,null,null,null,null,null,null,null,{"$f":"MAX(IF(ISERROR(E145:E148),0,E145:E148))","v":0},{"$f":"MAX(IF(ISERROR(F145:F148),0,F145:F148))","v":0},{"$f":"MAX(IF(ISERROR(G145:G148),0,G145:G148))","v":0},{"$f":"MAX(IF(ISERROR(H145:H148),0,H145:H148))","v":0},{"$f":"MAX(IF(ISERROR(I145:I148),0,I145:I148))","v":0},{"$f":"MAX(IF(ISERROR(J145:J148),0,J145:J148))","v":0},{"$f":"MAX(IF(ISERROR(K145:K148),0,K145:K148))","v":0}]
[null,null,null,{"$f":"'[2]Consequence Criteria'!$A$7","v":0},{"$f":"VALUE((IF('2-Impact Assessment '!E145=\"vl\",\"1\",(IF('2-Impact Assessment '!E145=\"l\",\"2\",(IF('2-Impact Assessment '!E145=\"m\",\"3\",(IF('2-Impact Assessment '!E145=\"h\",\"4\",(IF('2-Impact Assessment '!E145=\"vh\",\"5\", NA())))))))))))","v":{"$error":"#N/A"}},{"$f":"VALUE((IF('2-Impact Assessment '!F145=\"vl\",\"1\",(IF('2-Impact Assessment '!F145=\"l\",\"2\",(IF('2-Impact Assessment '!F145=\"m\",\"3\",(IF('2-Impact Assessment '!F145=\"h\",\"4\",(IF('2-Impact Assessment '!F145=\"vh\",\"5\", NA())))))))))))","v":{"$error":"#N/A"}},{"$f":"VALUE((IF('2-Impact Assessment '!G145=\"vl\",\"1\",(IF('2-Impact Assessment '!G145=\"l\",\"2\",(IF('2-Impact Assessment '!G145=\"m\",\"3\",(IF('2-Impact Assessment '!G145=\"h\",\"4\",(IF('2-Impact Assessment '!G145=\"vh\",\"5\", NA())))))))))))","v":{"$error":"#N/A"}},{"$f":"VALUE((IF('2-Impact Assessment '!H145=\"vl\",\"1\",(IF('2-Impact Assessment '!H145=\"l\",\"2\",(IF('2-Impact Assessment '!H145=\"m\",\"3\",(IF('2-Impact Assessment '!H145=\"h\",\"4\",(IF('2-Impact Assessment '!H145=\"vh\",\"5\", NA())))))))))))","v":{"$error":"#N/A"}},{"$f":"VALUE((IF('2-Impact Assessment '!I145=\"vl\",\"1\",(IF('2-Impact Assessment '!I145=\"l\",\"2\",(IF('2-Impact Assessment '!I145=\"m\",\"3\",(IF('2-Impact Assessment '!I145=\"h\",\"4\",(IF('2-Impact Assessment '!I145=\"vh\",\"5\", NA())))))))))))","v":{"$error":"#N/A"}},{"$f":"VALUE((IF('2-Impact Assessment '!J145=\"vl\",\"1\",(IF('2-Impact Assessment '!J145=\"l\",\"2\",(IF('2-Impact Assessment '!J145=\"m\",\"3\",(IF('2-Impact Assessment '!J145=\"h\",\"4\",(IF('2-Impact Assessment '!J145=\"vh\",\"5\", NA())))))))))))","v":{"$error":"#N/A"}},{"$f":"VALUE((IF('2-Impact Assessment '!K145=\"vl\",\"1\",(IF('2-Impact Assessment '!K145=\"l\",\"2\",(IF('2-Impact Assessment '!K145=\"m\",\"3\",(IF('2-Impact Assessment '!K145=\"h\",\"4\",(IF('2-Impact Assessment '!K145=\"vh\",\"5\", NA())))))))))))","v":{"$error":"#N/A"}},null,null,{"$f":"IFERROR(INDEX($AA$12:$AG$12,MATCH(TRUE, AA145:AG145 >= 3, 0)),200)","v":200},null,{"$f":"IFERROR(INDEX($AA$12:$AG$12,MATCH(TRUE, AA145:AG145 >= 4, 0)),200)","v":200},null,null,null,null,null,null,null,null,null,null,{"$f":"MAX(IF(ISERROR(E146:E149),0,E146:E149))","v":0},{"$f":"MAX(IF(ISERROR(F146:F149),0,F146:F149))","v":0},{"$f":"MAX(IF(ISERROR(G146:G149),0,G146:G149))","v":0},{"$f":"MAX(IF(ISERROR(H146:H149),0,H146:H149))","v":0},{"$f":"MAX(IF(ISERROR(I146:I149),0,I146:I149))","v":0},{"$f":"MAX(IF(ISERROR(J146:J149),0,J146:J149))","v":0},{"$f":"MAX(IF(ISERROR(K146:K149),0,K146:K149))","v":0}]
[null,null,null,{"$f":"'[2]Consequence Criteria'!$A$8","v":0},{"$f":"VALUE((IF('2-Impact Assessment '!E146=\"vl\",\"1\",(IF('2-Impact Assessment '!E146=\"l\",\"2\",(IF('2-Impact Assessment '!E146=\"m\",\"3\",(IF('2-Impact Assessment '!E146=\"h\",\"4\",(IF('2-Impact Assessment '!E146=\"vh\",\"5\", NA())))))))))))","v":{"$error":"#N/A"}},{"$f":"VALUE((IF('2-Impact Assessment '!F146=\"vl\",\"1\",(IF('2-Impact Assessment '!F146=\"l\",\"2\",(IF('2-Impact Assessment '!F146=\"m\",\"3\",(IF('2-Impact Assessment '!F146=\"h\",\"4\",(IF('2-Impact Assessment '!F146=\"vh\",\"5\", NA())))))))))))","v":{"$error":"#N/A"}},{"$f":"VALUE((IF('2-Impact Assessment '!G146=\"vl\",\"1\",(IF('2-Impact Assessment '!G146=\"l\",\"2\",(IF('2-Impact Assessment '!G146=\"m\",\"3\",(IF('2-Impact Assessment '!G146=\"h\",\"4\",(IF('2-Impact Assessment '!G146=\"vh\",\"5\", NA())))))))))))","v":{"$error":"#N/A"}},{"$f":"VALUE((IF('2-Impact Assessment '!H146=\"vl\",\"1\",(IF('2-Impact Assessment '!H146=\"l\",\"2\",(IF('2-Impact Assessment '!H146=\"m\",\"3\",(IF('2-Impact Assessment '!H146=\"h\",\"4\",(IF('2-Impact Assessment '!H146=\"vh\",\"5\", NA())))))))))))","v":{"$error":"#N/A"}},{"$f":"VALUE((IF('2-Impact Assessment '!I146=\"vl\",\"1\",(IF('2-Impact Assessment '!I146=\"l\",\"2\",(IF('2-Impact Assessment '!I146=\"m\",\"3\",(IF('2-Impact Assessment '!I146=\"h\",\"4\",(IF('2-Impact Assessment '!I146=\"vh\",\"5\", NA())))))))))))","v":{"$error":"#N/A"}},{"$f":"VALUE((IF('2-Impact Assessment '!J146=\"vl\",\"1\",(IF('2-Impact Assessment '!J146=\"l\",\"2\",(IF('2-Impact Assessment '!J146=\"m\",\"3\",(IF('2-Impact Assessment '!J146=\"h\",\"4\",(IF('2-Impact Assessment '!J146=\"vh\",\"5\", NA())))))))))))","v":{"$error":"#N/A"}},{"$f":"VALUE((IF('2-Impact Assessment '!K146=\"vl\",\"1\",(IF('2-Impact Assessment '!K146=\"l\",\"2\",(IF('2-Impact Assessment '!K146=\"m\",\"3\",(IF('2-Impact Assessment '!K146=\"h\",\"4\",(IF('2-Impact Assessment '!K146=\"vh\",\"5\", NA())))))))))))","v":{"$error":"#N/A"}},null,null,{"$f":"IFERROR(INDEX($AA$12:$AG$12,MATCH(TRUE, AA146:AG146 >= 3, 0)),200)","v":200},null,{"$f":"IFERROR(INDEX($AA$12:$AG$12,MATCH(TRUE, AA146:AG146 >= 4, 0)),200)","v":200},null,null,null,null,null,null,null,null,null,null,{"$f":"MAX(IF(ISERROR(E147:E150),0,E147:E150))","v":0},{"$f":"MAX(IF(ISERROR(F147:F150),0,F147:F150))","v":0},{"$f":"MAX(IF(ISERROR(G147:G150),0,G147:G150))","v":0},{"$f":"MAX(IF(ISERROR(H147:H150),0,H147:H150))","v":0},{"$f":"MAX(IF(ISERROR(I147:I150),0,I147:I150))","v":0},{"$f":"MAX(IF(ISERROR(J147:J150),0,J147:J150))","v":0},{"$f":"MAX(IF(ISERROR(K147:K150),0,K147:K150))","v":0}]
[null,null,null,{"$f":"'[2]Consequence Criteria'!$A$9","v":0},{"$f":"VALUE((IF('2-Impact Assessment '!E147=\"vl\",\"1\",(IF('2-Impact Assessment '!E147=\"l\",\"2\",(IF('2-Impact Assessment '!E147=\"m\",\"3\",(IF('2-Impact Assessment '!E147=\"h\",\"4\",(IF('2-Impact Assessment '!E147=\"vh\",\"5\", NA())))))))))))","v":{"$error":"#N/A"}},{"$f":"VALUE((IF('2-Impact Assessment '!F147=\"vl\",\"1\",(IF('2-Impact Assessment '!F147=\"l\",\"2\",(IF('2-Impact Assessment '!F147=\"m\",\"3\",(IF('2-Impact Assessment '!F147=\"h\",\"4\",(IF('2-Impact Assessment '!F147=\"vh\",\"5\", NA())))))))))))","v":{"$error":"#N/A"}},{"$f":"VALUE((IF('2-Impact Assessment '!G147=\"vl\",\"1\",(IF('2-Impact Assessment '!G147=\"l\",\"2\",(IF('2-Impact Assessment '!G147=\"m\",\"3\",(IF('2-Impact Assessment '!G147=\"h\",\"4\",(IF('2-Impact Assessment '!G147=\"vh\",\"5\", NA())))))))))))","v":{"$error":"#N/A"}},{"$f":"VALUE((IF('2-Impact Assessment '!H147=\"vl\",\"1\",(IF('2-Impact Assessment '!H147=\"l\",\"2\",(IF('2-Impact Assessment '!H147=\"m\",\"3\",(IF('2-Impact Assessment '!H147=\"h\",\"4\",(IF('2-Impact Assessment '!H147=\"vh\",\"5\", NA())))))))))))","v":{"$error":"#N/A"}},{"$f":"VALUE((IF('2-Impact Assessment '!I147=\"vl\",\"1\",(IF('2-Impact Assessment '!I147=\"l\",\"2\",(IF('2-Impact Assessment '!I147=\"m\",\"3\",(IF('2-Impact Assessment '!I147=\"h\",\"4\",(IF('2-Impact Assessment '!I147=\"vh\",\"5\", NA())))))))))))","v":{"$error":"#N/A"}},{"$f":"VALUE((IF('2-Impact Assessment '!J147=\"vl\",\"1\",(IF('2-Impact Assessment '!J147=\"l\",\"2\",(IF('2-Impact Assessment '!J147=\"m\",\"3\",(IF('2-Impact Assessment '!J147=\"h\",\"4\",(IF('2-Impact Assessment '!J147=\"vh\",\"5\", NA())))))))))))","v":{"$error":"#N/A"}},{"$f":"VALUE((IF('2-Impact Assessment '!K147=\"vl\",\"1\",(IF('2-Impact Assessment '!K147=\"l\",\"2\",(IF('2-Impact Assessment '!K147=\"m\",\"3\",(IF('2-Impact Assessment '!K147=\"h\",\"4\",(IF('2-Impact Assessment '!K147=\"vh\",\"5\", NA())))))))))))","v":{"$error":"#N/A"}},null,null,{"$f":"IFERROR(INDEX($AA$12:$AG$12,MATCH(TRUE, AA147:AG147 >= 3, 0)),200)","v":200},null,{"$f":"IFERROR(INDEX($AA$12:$AG$12,MATCH(TRUE, AA147:AG147 >= 4, 0)),200)","v":200},null,null,null,null,null,null,null,null,null,null,{"$f":"MAX(IF(ISERROR(E148:E151),0,E148:E151))","v":0},{"$f":"MAX(IF(ISERROR(F148:F151),0,F148:F151))","v":0},{"$f":"MAX(IF(ISERROR(G148:G151),0,G148:G151))","v":0},{"$f":"MAX(IF(ISERROR(H148:H151),0,H148:H151))","v":0},{"$f":"MAX(IF(ISERROR(I148:I151),0,I148:I151))","v":0},{"$f":"MAX(IF(ISERROR(J148:J151),0,J148:J151))","v":0},{"$f":"MAX(IF(ISERROR(K148:K151),0,K148:K151))","v":0}]
[null,null,null,{"$f":"'[2]Consequence Criteria'!$A$10","v":0},{"$f":"VALUE((IF('2-Impact Assessment '!E148=\"vl\",\"1\",(IF('2-Impact Assessment '!E148=\"l\",\"2\",(IF('2-Impact Assessment '!E148=\"m\",\"3\",(IF('2-Impact Assessment '!E148=\"h\",\"4\",(IF('2-Impact Assessment '!E148=\"vh\",\"5\", NA())))))))))))","v":{"$error":"#N/A"}},{"$f":"VALUE((IF('2-Impact Assessment '!F148=\"vl\",\"1\",(IF('2-Impact Assessment '!F148=\"l\",\"2\",(IF('2-Impact Assessment '!F148=\"m\",\"3\",(IF('2-Impact Assessment '!F148=\"h\",\"4\",(IF('2-Impact Assessment '!F148=\"vh\",\"5\", NA())))))))))))","v":{"$error":"#N/A"}},{"$f":"VALUE((IF('2-Impact Assessment '!G148=\"vl\",\"1\",(IF('2-Impact Assessment '!G148=\"l\",\"2\",(IF('2-Impact Assessment '!G148=\"m\",\"3\",(IF('2-Impact Assessment '!G148=\"h\",\"4\",(IF('2-Impact Assessment '!G148=\"vh\",\"5\", NA())))))))))))","v":{"$error":"#N/A"}},{"$f":"VALUE((IF('2-Impact Assessment '!H148=\"vl\",\"1\",(IF('2-Impact Assessment '!H148=\"l\",\"2\",(IF('2-Impact Assessment '!H148=\"m\",\"3\",(IF('2-Impact Assessment '!H148=\"h\",\"4\",(IF('2-Impact Assessment '!H148=\"vh\",\"5\", NA())))))))))))","v":{"$error":"#N/A"}},{"$f":"VALUE((IF('2-Impact Assessment '!I148=\"vl\",\"1\",(IF('2-Impact Assessment '!I148=\"l\",\"2\",(IF('2-Impact Assessment '!I148=\"m\",\"3\",(IF('2-Impact Assessment '!I148=\"h\",\"4\",(IF('2-Impact Assessment '!I148=\"vh\",\"5\", NA())))))))))))","v":{"$error":"#N/A"}},{"$f":"VALUE((IF('2-Impact Assessment '!J148=\"vl\",\"1\",(IF('2-Impact Assessment '!J148=\"l\",\"2\",(IF('2-Impact Assessment '!J148=\"m\",\"3\",(IF('2-Impact Assessment '!J148=\"h\",\"4\",(IF('2-Impact Assessment '!J148=\"vh\",\"5\", NA())))))))))))","v":{"$error":"#N/A"}},{"$f":"VALUE((IF('2-Impact Assessment '!K148=\"vl\",\"1\",(IF('2-Impact Assessment '!K148=\"l\",\"2\",(IF('2-Impact Assessment '!K148=\"m\",\"3\",(IF('2-Impact Assessment '!K148=\"h\",\"4\",(IF('2-Impact Assessment '!K148=\"vh\",\"5\", NA())))))))))))","v":{"$error":"#N/A"}},null,null,{"$f":"IFERROR(INDEX($AA$12:$AG$12,MATCH(TRUE, AA148:AG148 >= 3, 0)),200)","v":200},null,{"$f":"IFERROR(INDEX($AA$12:$AG$12,MATCH(TRUE, AA148:AG148 >= 4, 0)),200)","v":200},null,null,null,null,null,null,null,null,null,null,{"$f":"MAX(IF(ISERROR(E149:E152),0,E149:E152))","v":0},{"$f":"MAX(IF(ISERROR(F149:F152),0,F149:F152))","v":0},{"$f":"MAX(IF(ISERROR(G149:G152),0,G149:G152))","v":0},{"$f":"MAX(IF(ISERROR(H149:H152),0,H149:H152))","v":0},{"$f":"MAX(IF(ISERROR(I149:I152),0,I149:I152))","v":0},{"$f":"MAX(IF(ISERROR(J149:J152),0,J149:J152))","v":0},{"$f":"MAX(IF(ISERROR(K149:K152),0,K149:K152))","v":0}]
[null,{"$f":"IF(ISTEXT('1-Services & Function'!D45),'1-Services & Function'!D45,\"\")","v":""},16,null,"1 hr","4 hr","1 day","2 days","5 days","1 month","> 6 months","Comments",null,{"$f":"IFERROR(INDEX($AA$12:$AG$12,MATCH(TRUE, AA149:AG149 >= 3, 0)),200)","v":200},null,{"$f":"IFERROR(INDEX($AA$12:$AG$12,MATCH(TRUE, AA149:AG149 >= 4, 0)),200)","v":200},null,null,null,null,null,null,null,null,null,null,{"$f":"MAX(IF(ISERROR(E150:E153),0,E150:E153))","v":0},{"$f":"MAX(IF(ISERROR(F150:F153),0,F150:F153))","v":0},{"$f":"MAX(IF(ISERROR(G150:G153),0,G150:G153))","v":0},{"$f":"MAX(IF(ISERROR(H150:H153),0,H150:H153))","v":0},{"$f":"MAX(IF(ISERROR(I150:I153),0,I150:I153))","v":0},{"$f":"MAX(IF(ISERROR(J150:J153),0,J150:J153))","v":0},{"$f":"MAX(IF(ISERROR(K150:K153),0,K150:K153))","v":0}]
[null,null,null,{"$f":"'[2]Consequence Criteria'!$A$3","v":"Economic"},{"$f":"VALUE((IF('2-Impact Assessment '!E150=\"vl\",\"1\",(IF('2-Impact Assessment '!E150=\"l\",\"2\",(IF('2-Impact Assessment '!E150=\"m\",\"3\",(IF('2-Impact Assessment '!E150=\"h\",\"4\",(IF('2-Impact Assessment '!E150=\"vh\",\"5\", NA())))))))))))","v":{"$error":"#N/A"}},{"$f":"VALUE((IF('2-Impact Assessment '!F150=\"vl\",\"1\",(IF('2-Impact Assessment '!F150=\"l\",\"2\",(IF('2-Impact Assessment '!F150=\"m\",\"3\",(IF('2-Impact Assessment '!F150=\"h\",\"4\",(IF('2-Impact Assessment '!F150=\"vh\",\"5\", NA())))))))))))","v":{"$error":"#N/A"}},{"$f":"VALUE((IF('2-Impact Assessment '!G150=\"vl\",\"1\",(IF('2-Impact Assessment '!G150=\"l\",\"2\",(IF('2-Impact Assessment '!G150=\"m\",\"3\",(IF('2-Impact Assessment '!G150=\"h\",\"4\",(IF('2-Impact Assessment '!G150=\"vh\",\"5\", NA())))))))))))","v":{"$error":"#N/A"}},{"$f":"VALUE((IF('2-Impact Assessment '!H150=\"vl\",\"1\",(IF('2-Impact Assessment '!H150=\"l\",\"2\",(IF('2-Impact Assessment '!H150=\"m\",\"3\",(IF('2-Impact Assessment '!H150=\"h\",\"4\",(IF('2-Impact Assessment '!H150=\"vh\",\"5\", NA())))))))))))","v":{"$error":"#N/A"}},{"$f":"VALUE((IF('2-Impact Assessment '!I150=\"vl\",\"1\",(IF('2-Impact Assessment '!I150=\"l\",\"2\",(IF('2-Impact Assessment '!I150=\"m\",\"3\",(IF('2-Impact Assessment '!I150=\"h\",\"4\",(IF('2-Impact Assessment '!I150=\"vh\",\"5\", NA())))))))))))","v":{"$error":"#N/A"}},{"$f":"VALUE((IF('2-Impact Assessment '!J150=\"vl\",\"1\",(IF('2-Impact Assessment '!J150=\"l\",\"2\",(IF('2-Impact Assessment '!J150=\"m\",\"3\",(IF('2-Impact Assessment '!J150=\"h\",\"4\",(IF('2-Impact Assessment '!J150=\"vh\",\"5\", NA())))))))))))","v":{"$error":"#N/A"}},{"$f":"VALUE((IF('2-Impact Assessment '!K150=\"vl\",\"1\",(IF('2-Impact Assessment '!K150=\"l\",\"2\",(IF('2-Impact Assessment '!K150=\"m\",\"3\",(IF('2-Impact Assessment '!K150=\"h\",\"4\",(IF('2-Impact Assessment '!K150=\"vh\",\"5\", NA())))))))))))","v":{"$error":"#N/A"}},null,null,{"$f":"IFERROR(INDEX($AA$12:$AG$12,MATCH(TRUE, AA150:AG150 >= 3, 0)),200)","v":200},null,{"$f":"IFERROR(INDEX($AA$12:$AG$12,MATCH(TRUE, AA150:AG150 >= 4, 0)),200)","v":200},null,null,null,null,null,null,null,null,null,null,{"$f":"MAX(IF(ISERROR(E151:E154),0,E151:E154))","v":0},{"$f":"MAX(IF(ISERROR(F151:F154),0,F151:F154))","v":0},{"$f":"MAX(IF(ISERROR(G151:G154),0,G151:G154))","v":0},{"$f":"MAX(IF(ISERROR(H151:H154),0,H151:H154))","v":0},{"$f":"MAX(IF(ISERROR(I151:I154),0,I151:I154))","v":0},{"$f":"MAX(IF(ISERROR(J151:J154),0,J151:J154))","v":0},{"$f":"MAX(IF(ISERROR(K151:K154),0,K151:K154))","v":0}]
[null,null,null,{"$f":"'[2]Consequence Criteria'!$A$4","v":"Social"},{"$f":"VALUE((IF('2-Impact Assessment '!E151=\"vl\",\"1\",(IF('2-Impact Assessment '!E151=\"l\",\"2\",(IF('2-Impact Assessment '!E151=\"m\",\"3\",(IF('2-Impact Assessment '!E151=\"h\",\"4\",(IF('2-Impact Assessment '!E151=\"vh\",\"5\", NA())))))))))))","v":{"$error":"#N/A"}},{"$f":"VALUE((IF('2-Impact Assessment '!F151=\"vl\",\"1\",(IF('2-Impact Assessment '!F151=\"l\",\"2\",(IF('2-Impact Assessment '!F151=\"m\",\"3\",(IF('2-Impact Assessment '!F151=\"h\",\"4\",(IF('2-Impact Assessment '!F151=\"vh\",\"5\", NA())))))))))))","v":{"$error":"#N/A"}},{"$f":"VALUE((IF('2-Impact Assessment '!G151=\"vl\",\"1\",(IF('2-Impact Assessment '!G151=\"l\",\"2\",(IF('2-Impact Assessment '!G151=\"m\",\"3\",(IF('2-Impact Assessment '!G151=\"h\",\"4\",(IF('2-Impact Assessment '!G151=\"vh\",\"5\", NA())))))))))))","v":{"$error":"#N/A"}},{"$f":"VALUE((IF('2-Impact Assessment '!H151=\"vl\",\"1\",(IF('2-Impact Assessment '!H151=\"l\",\"2\",(IF('2-Impact Assessment '!H151=\"m\",\"3\",(IF('2-Impact Assessment '!H151=\"h\",\"4\",(IF('2-Impact Assessment '!H151=\"vh\",\"5\", NA())))))))))))","v":{"$error":"#N/A"}},{"$f":"VALUE((IF('2-Impact Assessment '!I151=\"vl\",\"1\",(IF('2-Impact Assessment '!I151=\"l\",\"2\",(IF('2-Impact Assessment '!I151=\"m\",\"3\",(IF('2-Impact Assessment '!I151=\"h\",\"4\",(IF('2-Impact Assessment '!I151=\"vh\",\"5\", NA())))))))))))","v":{"$error":"#N/A"}},{"$f":"VALUE((IF('2-Impact Assessment '!J151=\"vl\",\"1\",(IF('2-Impact Assessment '!J151=\"l\",\"2\",(IF('2-Impact Assessment '!J151=\"m\",\"3\",(IF('2-Impact Assessment '!J151=\"h\",\"4\",(IF('2-Impact Assessment '!J151=\"vh\",\"5\", NA())))))))))))","v":{"$error":"#N/A"}},{"$f":"VALUE((IF('2-Impact Assessment '!K151=\"vl\",\"1\",(IF('2-Impact Assessment '!K151=\"l\",\"2\",(IF('2-Impact Assessment '!K151=\"m\",\"3\",(IF('2-Impact Assessment '!K151=\"h\",\"4\",(IF('2-Impact Assessment '!K151=\"vh\",\"5\", NA())))))))))))","v":{"$error":"#N/A"}},null,null,{"$f":"IFERROR(INDEX($AA$12:$AG$12,MATCH(TRUE, AA151:AG151 >= 3, 0)),200)","v":200},null,{"$f":"IFERROR(INDEX($AA$12:$AG$12,MATCH(TRUE, AA151:AG151 >= 4, 0)),200)","v":200},null,null,null,null,null,null,null,null,null,null,{"$f":"MAX(IF(ISERROR(E152:E155),0,E152:E155))","v":0},{"$f":"MAX(IF(ISERROR(F152:F155),0,F152:F155))","v":0},{"$f":"MAX(IF(ISERROR(G152:G155),0,G152:G155))","v":0},{"$f":"MAX(IF(ISERROR(H152:H155),0,H152:H155))","v":0},{"$f":"MAX(IF(ISERROR(I152:I155),0,I152:I155))","v":0},{"$f":"MAX(IF(ISERROR(J152:J155),0,J152:J155))","v":0},{"$f":"MAX(IF(ISERROR(K152:K155),0,K152:K155))","v":0}]
[null,null,null,{"$f":"'[2]Consequence Criteria'!$A$5","v":"Cultural"},{"$f":"VALUE((IF('2-Impact Assessment '!E152=\"vl\",\"1\",(IF('2-Impact Assessment '!E152=\"l\",\"2\",(IF('2-Impact Assessment '!E152=\"m\",\"3\",(IF('2-Impact Assessment '!E152=\"h\",\"4\",(IF('2-Impact Assessment '!E152=\"vh\",\"5\", NA())))))))))))","v":{"$error":"#N/A"}},{"$f":"VALUE((IF('2-Impact Assessment '!F152=\"vl\",\"1\",(IF('2-Impact Assessment '!F152=\"l\",\"2\",(IF('2-Impact Assessment '!F152=\"m\",\"3\",(IF('2-Impact Assessment '!F152=\"h\",\"4\",(IF('2-Impact Assessment '!F152=\"vh\",\"5\", NA())))))))))))","v":{"$error":"#N/A"}},{"$f":"VALUE((IF('2-Impact Assessment '!G152=\"vl\",\"1\",(IF('2-Impact Assessment '!G152=\"l\",\"2\",(IF('2-Impact Assessment '!G152=\"m\",\"3\",(IF('2-Impact Assessment '!G152=\"h\",\"4\",(IF('2-Impact Assessment '!G152=\"vh\",\"5\", NA())))))))))))","v":{"$error":"#N/A"}},{"$f":"VALUE((IF('2-Impact Assessment '!H152=\"vl\",\"1\",(IF('2-Impact Assessment '!H152=\"l\",\"2\",(IF('2-Impact Assessment '!H152=\"m\",\"3\",(IF('2-Impact Assessment '!H152=\"h\",\"4\",(IF('2-Impact Assessment '!H152=\"vh\",\"5\", NA())))))))))))","v":{"$error":"#N/A"}},{"$f":"VALUE((IF('2-Impact Assessment '!I152=\"vl\",\"1\",(IF('2-Impact Assessment '!I152=\"l\",\"2\",(IF('2-Impact Assessment '!I152=\"m\",\"3\",(IF('2-Impact Assessment '!I152=\"h\",\"4\",(IF('2-Impact Assessment '!I152=\"vh\",\"5\", NA())))))))))))","v":{"$error":"#N/A"}},{"$f":"VALUE((IF('2-Impact Assessment '!J152=\"vl\",\"1\",(IF('2-Impact Assessment '!J152=\"l\",\"2\",(IF('2-Impact Assessment '!J152=\"m\",\"3\",(IF('2-Impact Assessment '!J152=\"h\",\"4\",(IF('2-Impact Assessment '!J152=\"vh\",\"5\", NA())))))))))))","v":{"$error":"#N/A"}},{"$f":"VALUE((IF('2-Impact Assessment '!K152=\"vl\",\"1\",(IF('2-Impact Assessment '!K152=\"l\",\"2\",(IF('2-Impact Assessment '!K152=\"m\",\"3\",(IF('2-Impact Assessment '!K152=\"h\",\"4\",(IF('2-Impact Assessment '!K152=\"vh\",\"5\", NA())))))))))))","v":{"$error":"#N/A"}},null,null,{"$f":"IFERROR(INDEX($AA$12:$AG$12,MATCH(TRUE, AA152:AG152 >= 3, 0)),200)","v":200},null,{"$f":"IFERROR(INDEX($AA$12:$AG$12,MATCH(TRUE, AA152:AG152 >= 4, 0)),200)","v":200},null,null,null,null,null,null,null,null,null,null,{"$f":"MAX(IF(ISERROR(E153:E156),0,E153:E156))","v":0},{"$f":"MAX(IF(ISERROR(F153:F156),0,F153:F156))","v":0},{"$f":"MAX(IF(ISERROR(G153:G156),0,G153:G156))","v":0},{"$f":"MAX(IF(ISERROR(H153:H156),0,H153:H156))","v":0},{"$f":"MAX(IF(ISERROR(I153:I156),0,I153:I156))","v":0},{"$f":"MAX(IF(ISERROR(J153:J156),0,J153:J156))","v":0},{"$f":"MAX(IF(ISERROR(K153:K156),0,K153:K156))","v":0}]
[null,null,null,{"$f":"'[2]Consequence Criteria'!$A$6","v":"Environmental"},{"$f":"VALUE((IF('2-Impact Assessment '!E153=\"vl\",\"1\",(IF('2-Impact Assessment '!E153=\"l\",\"2\",(IF('2-Impact Assessment '!E153=\"m\",\"3\",(IF('2-Impact Assessment '!E153=\"h\",\"4\",(IF('2-Impact Assessment '!E153=\"vh\",\"5\", NA())))))))))))","v":{"$error":"#N/A"}},{"$f":"VALUE((IF('2-Impact Assessment '!F153=\"vl\",\"1\",(IF('2-Impact Assessment '!F153=\"l\",\"2\",(IF('2-Impact Assessment '!F153=\"m\",\"3\",(IF('2-Impact Assessment '!F153=\"h\",\"4\",(IF('2-Impact Assessment '!F153=\"vh\",\"5\", NA())))))))))))","v":{"$error":"#N/A"}},{"$f":"VALUE((IF('2-Impact Assessment '!G153=\"vl\",\"1\",(IF('2-Impact Assessment '!G153=\"l\",\"2\",(IF('2-Impact Assessment '!G153=\"m\",\"3\",(IF('2-Impact Assessment '!G153=\"h\",\"4\",(IF('2-Impact Assessment '!G153=\"vh\",\"5\", NA())))))))))))","v":{"$error":"#N/A"}},{"$f":"VALUE((IF('2-Impact Assessment '!H153=\"vl\",\"1\",(IF('2-Impact Assessment '!H153=\"l\",\"2\",(IF('2-Impact Assessment '!H153=\"m\",\"3\",(IF('2-Impact Assessment '!H153=\"h\",\"4\",(IF('2-Impact Assessment '!H153=\"vh\",\"5\", NA())))))))))))","v":{"$error":"#N/A"}},{"$f":"VALUE((IF('2-Impact Assessment '!I153=\"vl\",\"1\",(IF('2-Impact Assessment '!I153=\"l\",\"2\",(IF('2-Impact Assessment '!I153=\"m\",\"3\",(IF('2-Impact Assessment '!I153=\"h\",\"4\",(IF('2-Impact Assessment '!I153=\"vh\",\"5\", NA())))))))))))","v":{"$error":"#N/A"}},{"$f":"VALUE((IF('2-Impact Assessment '!J153=\"vl\",\"1\",(IF('2-Impact Assessment '!J153=\"l\",\"2\",(IF('2-Impact Assessment '!J153=\"m\",\"3\",(IF('2-Impact Assessment '!J153=\"h\",\"4\",(IF('2-Impact Assessment '!J153=\"vh\",\"5\", NA())))))))))))","v":{"$error":"#N/A"}},{"$f":"VALUE((IF('2-Impact Assessment '!K153=\"vl\",\"1\",(IF('2-Impact Assessment '!K153=\"l\",\"2\",(IF('2-Impact Assessment '!K153=\"m\",\"3\",(IF('2-Impact Assessment '!K153=\"h\",\"4\",(IF('2-Impact Assessment '!K153=\"vh\",\"5\", NA())))))))))))","v":{"$error":"#N/A"}},null,null,{"$f":"IFERROR(INDEX($AA$12:$AG$12,MATCH(TRUE, AA153:AG153 >= 3, 0)),200)","v":200},null,{"$f":"IFERROR(INDEX($AA$12:$AG$12,MATCH(TRUE, AA153:AG153 >= 4, 0)),200)","v":200},null,null,null,null,null,null,null,null,null,null,{"$f":"MAX(IF(ISERROR(E154:E157),0,E154:E157))","v":0},{"$f":"MAX(IF(ISERROR(F154:F157),0,F154:F157))","v":0},{"$f":"MAX(IF(ISERROR(G154:G157),0,G154:G157))","v":0},{"$f":"MAX(IF(ISERROR(H154:H157),0,H154:H157))","v":0},{"$f":"MAX(IF(ISERROR(I154:I157),0,I154:I157))","v":0},{"$f":"MAX(IF(ISERROR(J154:J157),0,J154:J157))","v":0},{"$f":"MAX(IF(ISERROR(K154:K157),0,K154:K157))","v":0}]
[null,null,null,{"$f":"'[2]Consequence Criteria'!$A$7","v":0},{"$f":"VALUE((IF('2-Impact Assessment '!E154=\"vl\",\"1\",(IF('2-Impact Assessment '!E154=\"l\",\"2\",(IF('2-Impact Assessment '!E154=\"m\",\"3\",(IF('2-Impact Assessment '!E154=\"h\",\"4\",(IF('2-Impact Assessment '!E154=\"vh\",\"5\", NA())))))))))))","v":{"$error":"#N/A"}},{"$f":"VALUE((IF('2-Impact Assessment '!F154=\"vl\",\"1\",(IF('2-Impact Assessment '!F154=\"l\",\"2\",(IF('2-Impact Assessment '!F154=\"m\",\"3\",(IF('2-Impact Assessment '!F154=\"h\",\"4\",(IF('2-Impact Assessment '!F154=\"vh\",\"5\", NA())))))))))))","v":{"$error":"#N/A"}},{"$f":"VALUE((IF('2-Impact Assessment '!G154=\"vl\",\"1\",(IF('2-Impact Assessment '!G154=\"l\",\"2\",(IF('2-Impact Assessment '!G154=\"m\",\"3\",(IF('2-Impact Assessment '!G154=\"h\",\"4\",(IF('2-Impact Assessment '!G154=\"vh\",\"5\", NA())))))))))))","v":{"$error":"#N/A"}},{"$f":"VALUE((IF('2-Impact Assessment '!H154=\"vl\",\"1\",(IF('2-Impact Assessment '!H154=\"l\",\"2\",(IF('2-Impact Assessment '!H154=\"m\",\"3\",(IF('2-Impact Assessment '!H154=\"h\",\"4\",(IF('2-Impact Assessment '!H154=\"vh\",\"5\", NA())))))))))))","v":{"$error":"#N/A"}},{"$f":"VALUE((IF('2-Impact Assessment '!I154=\"vl\",\"1\",(IF('2-Impact Assessment '!I154=\"l\",\"2\",(IF('2-Impact Assessment '!I154=\"m\",\"3\",(IF('2-Impact Assessment '!I154=\"h\",\"4\",(IF('2-Impact Assessment '!I154=\"vh\",\"5\", NA())))))))))))","v":{"$error":"#N/A"}},{"$f":"VALUE((IF('2-Impact Assessment '!J154=\"vl\",\"1\",(IF('2-Impact Assessment '!J154=\"l\",\"2\",(IF('2-Impact Assessment '!J154=\"m\",\"3\",(IF('2-Impact Assessment '!J154=\"h\",\"4\",(IF('2-Impact Assessment '!J154=\"vh\",\"5\", NA())))))))))))","v":{"$error":"#N/A"}},{"$f":"VALUE((IF('2-Impact Assessment '!K154=\"vl\",\"1\",(IF('2-Impact Assessment '!K154=\"l\",\"2\",(IF('2-Impact Assessment '!K154=\"m\",\"3\",(IF('2-Impact Assessment '!K154=\"h\",\"4\",(IF('2-Impact Assessment '!K154=\"vh\",\"5\", NA())))))))))))","v":{"$error":"#N/A"}},null,null,{"$f":"IFERROR(INDEX($AA$12:$AG$12,MATCH(TRUE, AA154:AG154 >= 3, 0)),200)","v":200},null,{"$f":"IFERROR(INDEX($AA$12:$AG$12,MATCH(TRUE, AA154:AG154 >= 4, 0)),200)","v":200},null,null,null,null,null,null,null,null,null,null,{"$f":"MAX(IF(ISERROR(E155:E158),0,E155:E158))","v":0},{"$f":"MAX(IF(ISERROR(F155:F158),0,F155:F158))","v":0},{"$f":"MAX(IF(ISERROR(G155:G158),0,G155:G158))","v":0},{"$f":"MAX(IF(ISERROR(H155:H158),0,H155:H158))","v":0},{"$f":"MAX(IF(ISERROR(I155:I158),0,I155:I158))","v":0},{"$f":"MAX(IF(ISERROR(J155:J158),0,J155:J158))","v":0},{"$f":"MAX(IF(ISERROR(K155:K158),0,K155:K158))","v":0}]
[null,null,null,{"$f":"'[2]Consequence Criteria'!$A$8","v":0},{"$f":"VALUE((IF('2-Impact Assessment '!E155=\"vl\",\"1\",(IF('2-Impact Assessment '!E155=\"l\",\"2\",(IF('2-Impact Assessment '!E155=\"m\",\"3\",(IF('2-Impact Assessment '!E155=\"h\",\"4\",(IF('2-Impact Assessment '!E155=\"vh\",\"5\", NA())))))))))))","v":{"$error":"#N/A"}},{"$f":"VALUE((IF('2-Impact Assessment '!F155=\"vl\",\"1\",(IF('2-Impact Assessment '!F155=\"l\",\"2\",(IF('2-Impact Assessment '!F155=\"m\",\"3\",(IF('2-Impact Assessment '!F155=\"h\",\"4\",(IF('2-Impact Assessment '!F155=\"vh\",\"5\", NA())))))))))))","v":{"$error":"#N/A"}},{"$f":"VALUE((IF('2-Impact Assessment '!G155=\"vl\",\"1\",(IF('2-Impact Assessment '!G155=\"l\",\"2\",(IF('2-Impact Assessment '!G155=\"m\",\"3\",(IF('2-Impact Assessment '!G155=\"h\",\"4\",(IF('2-Impact Assessment '!G155=\"vh\",\"5\", NA())))))))))))","v":{"$error":"#N/A"}},{"$f":"VALUE((IF('2-Impact Assessment '!H155=\"vl\",\"1\",(IF('2-Impact Assessment '!H155=\"l\",\"2\",(IF('2-Impact Assessment '!H155=\"m\",\"3\",(IF('2-Impact Assessment '!H155=\"h\",\"4\",(IF('2-Impact Assessment '!H155=\"vh\",\"5\", NA())))))))))))","v":{"$error":"#N/A"}},{"$f":"VALUE((IF('2-Impact Assessment '!I155=\"vl\",\"1\",(IF('2-Impact Assessment '!I155=\"l\",\"2\",(IF('2-Impact Assessment '!I155=\"m\",\"3\",(IF('2-Impact Assessment '!I155=\"h\",\"4\",(IF('2-Impact Assessment '!I155=\"vh\",\"5\", NA())))))))))))","v":{"$error":"#N/A"}},{"$f":"VALUE((IF('2-Impact Assessment '!J155=\"vl\",\"1\",(IF('2-Impact Assessment '!J155=\"l\",\"2\",(IF('2-Impact Assessment '!J155=\"m\",\"3\",(IF('2-Impact Assessment '!J155=\"h\",\"4\",(IF('2-Impact Assessment '!J155=\"vh\",\"5\", NA())))))))))))","v":{"$error":"#N/A"}},{"$f":"VALUE((IF('2-Impact Assessment '!K155=\"vl\",\"1\",(IF('2-Impact Assessment '!K155=\"l\",\"2\",(IF('2-Impact Assessment '!K155=\"m\",\"3\",(IF('2-Impact Assessment '!K155=\"h\",\"4\",(IF('2-Impact Assessment '!K155=\"vh\",\"5\", NA())))))))))))","v":{"$error":"#N/A"}},null,null,{"$f":"IFERROR(INDEX($AA$12:$AG$12,MATCH(TRUE, AA155:AG155 >= 3, 0)),200)","v":200},null,{"$f":"IFERROR(INDEX($AA$12:$AG$12,MATCH(TRUE, AA155:AG155 >= 4, 0)),200)","v":200},null,null,null,null,null,null,null,null,null,null,{"$f":"MAX(IF(ISERROR(E156:E159),0,E156:E159))","v":0},{"$f":"MAX(IF(ISERROR(F156:F159),0,F156:F159))","v":0},{"$f":"MAX(IF(ISERROR(G156:G159),0,G156:G159))","v":0},{"$f":"MAX(IF(ISERROR(H156:H159),0,H156:H159))","v":0},{"$f":"MAX(IF(ISERROR(I156:I159),0,I156:I159))","v":0},{"$f":"MAX(IF(ISERROR(J156:J159),0,J156:J159))","v":0},{"$f":"MAX(IF(ISERROR(K156:K159),0,K156:K159))","v":0}]
[null,null,null,{"$f":"'[2]Consequence Criteria'!$A$9","v":0},{"$f":"VALUE((IF('2-Impact Assessment '!E156=\"vl\",\"1\",(IF('2-Impact Assessment '!E156=\"l\",\"2\",(IF('2-Impact Assessment '!E156=\"m\",\"3\",(IF('2-Impact Assessment '!E156=\"h\",\"4\",(IF('2-Impact Assessment '!E156=\"vh\",\"5\", NA())))))))))))","v":{"$error":"#N/A"}},{"$f":"VALUE((IF('2-Impact Assessment '!F156=\"vl\",\"1\",(IF('2-Impact Assessment '!F156=\"l\",\"2\",(IF('2-Impact Assessment '!F156=\"m\",\"3\",(IF('2-Impact Assessment '!F156=\"h\",\"4\",(IF('2-Impact Assessment '!F156=\"vh\",\"5\", NA())))))))))))","v":{"$error":"#N/A"}},{"$f":"VALUE((IF('2-Impact Assessment '!G156=\"vl\",\"1\",(IF('2-Impact Assessment '!G156=\"l\",\"2\",(IF('2-Impact Assessment '!G156=\"m\",\"3\",(IF('2-Impact Assessment '!G156=\"h\",\"4\",(IF('2-Impact Assessment '!G156=\"vh\",\"5\", NA())))))))))))","v":{"$error":"#N/A"}},{"$f":"VALUE((IF('2-Impact Assessment '!H156=\"vl\",\"1\",(IF('2-Impact Assessment '!H156=\"l\",\"2\",(IF('2-Impact Assessment '!H156=\"m\",\"3\",(IF('2-Impact Assessment '!H156=\"h\",\"4\",(IF('2-Impact Assessment '!H156=\"vh\",\"5\", NA())))))))))))","v":{"$error":"#N/A"}},{"$f":"VALUE((IF('2-Impact Assessment '!I156=\"vl\",\"1\",(IF('2-Impact Assessment '!I156=\"l\",\"2\",(IF('2-Impact Assessment '!I156=\"m\",\"3\",(IF('2-Impact Assessment '!I156=\"h\",\"4\",(IF('2-Impact Assessment '!I156=\"vh\",\"5\", NA())))))))))))","v":{"$error":"#N/A"}},{"$f":"VALUE((IF('2-Impact Assessment '!J156=\"vl\",\"1\",(IF('2-Impact Assessment '!J156=\"l\",\"2\",(IF('2-Impact Assessment '!J156=\"m\",\"3\",(IF('2-Impact Assessment '!J156=\"h\",\"4\",(IF('2-Impact Assessment '!J156=\"vh\",\"5\", NA())))))))))))","v":{"$error":"#N/A"}},{"$f":"VALUE((IF('2-Impact Assessment '!K156=\"vl\",\"1\",(IF('2-Impact Assessment '!K156=\"l\",\"2\",(IF('2-Impact Assessment '!K156=\"m\",\"3\",(IF('2-Impact Assessment '!K156=\"h\",\"4\",(IF('2-Impact Assessment '!K156=\"vh\",\"5\", NA())))))))))))","v":{"$error":"#N/A"}},null,null,{"$f":"IFERROR(INDEX($AA$12:$AG$12,MATCH(TRUE, AA156:AG156 >= 3, 0)),200)","v":200},null,{"$f":"IFERROR(INDEX($AA$12:$AG$12,MATCH(TRUE, AA156:AG156 >= 4, 0)),200)","v":200},null,null,null,null,null,null,null,null,null,null,{"$f":"MAX(IF(ISERROR(E157:E160),0,E157:E160))","v":0},{"$f":"MAX(IF(ISERROR(F157:F160),0,F157:F160))","v":0},{"$f":"MAX(IF(ISERROR(G157:G160),0,G157:G160))","v":0},{"$f":"MAX(IF(ISERROR(H157:H160),0,H157:H160))","v":0},{"$f":"MAX(IF(ISERROR(I157:I160),0,I157:I160))","v":0},{"$f":"MAX(IF(ISERROR(J157:J160),0,J157:J160))","v":0},{"$f":"MAX(IF(ISERROR(K157:K160),0,K157:K160))","v":0}]
[null,null,null,{"$f":"'[2]Consequence Criteria'!$A$10","v":0},{"$f":"VALUE((IF('2-Impact Assessment '!E157=\"vl\",\"1\",(IF('2-Impact Assessment '!E157=\"l\",\"2\",(IF('2-Impact Assessment '!E157=\"m\",\"3\",(IF('2-Impact Assessment '!E157=\"h\",\"4\",(IF('2-Impact Assessment '!E157=\"vh\",\"5\", NA())))))))))))","v":{"$error":"#N/A"}},{"$f":"VALUE((IF('2-Impact Assessment '!F157=\"vl\",\"1\",(IF('2-Impact Assessment '!F157=\"l\",\"2\",(IF('2-Impact Assessment '!F157=\"m\",\"3\",(IF('2-Impact Assessment '!F157=\"h\",\"4\",(IF('2-Impact Assessment '!F157=\"vh\",\"5\", NA())))))))))))","v":{"$error":"#N/A"}},{"$f":"VALUE((IF('2-Impact Assessment '!G157=\"vl\",\"1\",(IF('2-Impact Assessment '!G157=\"l\",\"2\",(IF('2-Impact Assessment '!G157=\"m\",\"3\",(IF('2-Impact Assessment '!G157=\"h\",\"4\",(IF('2-Impact Assessment '!G157=\"vh\",\"5\", NA())))))))))))","v":{"$error":"#N/A"}},{"$f":"VALUE((IF('2-Impact Assessment '!H157=\"vl\",\"1\",(IF('2-Impact Assessment '!H157=\"l\",\"2\",(IF('2-Impact Assessment '!H157=\"m\",\"3\",(IF('2-Impact Assessment '!H157=\"h\",\"4\",(IF('2-Impact Assessment '!H157=\"vh\",\"5\", NA())))))))))))","v":{"$error":"#N/A"}},{"$f":"VALUE((IF('2-Impact Assessment '!I157=\"vl\",\"1\",(IF('2-Impact Assessment '!I157=\"l\",\"2\",(IF('2-Impact Assessment '!I157=\"m\",\"3\",(IF('2-Impact Assessment '!I157=\"h\",\"4\",(IF('2-Impact Assessment '!I157=\"vh\",\"5\", NA())))))))))))","v":{"$error":"#N/A"}},{"$f":"VALUE((IF('2-Impact Assessment '!J157=\"vl\",\"1\",(IF('2-Impact Assessment '!J157=\"l\",\"2\",(IF('2-Impact Assessment '!J157=\"m\",\"3\",(IF('2-Impact Assessment '!J157=\"h\",\"4\",(IF('2-Impact Assessment '!J157=\"vh\",\"5\", NA())))))))))))","v":{"$error":"#N/A"}},{"$f":"VALUE((IF('2-Impact Assessment '!K157=\"vl\",\"1\",(IF('2-Impact Assessment '!K157=\"l\",\"2\",(IF('2-Impact Assessment '!K157=\"m\",\"3\",(IF('2-Impact Assessment '!K157=\"h\",\"4\",(IF('2-Impact Assessment '!K157=\"vh\",\"5\", NA())))))))))))","v":{"$error":"#N/A"}},null,null,{"$f":"IFERROR(INDEX($AA$12:$AG$12,MATCH(TRUE, AA157:AG157 >= 3, 0)),200)","v":200},null,{"$f":"IFERROR(INDEX($AA$12:$AG$12,MATCH(TRUE, AA157:AG157 >= 4, 0)),200)","v":200},null,null,null,null,null,null,null,null,null,null,{"$f":"MAX(IF(ISERROR(E158:E161),0,E158:E161))","v":0},{"$f":"MAX(IF(ISERROR(F158:F161),0,F158:F161))","v":0},{"$f":"MAX(IF(ISERROR(G158:G161),0,G158:G161))","v":0},{"$f":"MAX(IF(ISERROR(H158:H161),0,H158:H161))","v":0},{"$f":"MAX(IF(ISERROR(I158:I161),0,I158:I161))","v":0},{"$f":"MAX(IF(ISERROR(J158:J161),0,J158:J161))","v":0},{"$f":"MAX(IF(ISERROR(K158:K161),0,K158:K161))","v":0}]
[null,{"$f":"IF(ISTEXT('1-Services & Function'!D46),'1-Services & Function'!D46,\"\")","v":""},17,null,"1 hr","4 hr","1 day","2 days","5 days","1 month","> 6 months","Comments",null,{"$f":"IFERROR(INDEX($AA$12:$AG$12,MATCH(TRUE, AA158:AG158 >= 3, 0)),200)","v":200},null,{"$f":"IFERROR(INDEX($AA$12:$AG$12,MATCH(TRUE, AA158:AG158 >= 4, 0)),200)","v":200},null,null,null,null,null,null,null,null,null,null,{"$f":"MAX(IF(ISERROR(E159:E162),0,E159:E162))","v":0},{"$f":"MAX(IF(ISERROR(F159:F162),0,F159:F162))","v":0},{"$f":"MAX(IF(ISERROR(G159:G162),0,G159:G162))","v":0},{"$f":"MAX(IF(ISERROR(H159:H162),0,H159:H162))","v":0},{"$f":"MAX(IF(ISERROR(I159:I162),0,I159:I162))","v":0},{"$f":"MAX(IF(ISERROR(J159:J162),0,J159:J162))","v":0},{"$f":"MAX(IF(ISERROR(K159:K162),0,K159:K162))","v":0}]
[null,null,null,{"$f":"'[2]Consequence Criteria'!$A$3","v":"Economic"},{"$f":"VALUE((IF('2-Impact Assessment '!E159=\"vl\",\"1\",(IF('2-Impact Assessment '!E159=\"l\",\"2\",(IF('2-Impact Assessment '!E159=\"m\",\"3\",(IF('2-Impact Assessment '!E159=\"h\",\"4\",(IF('2-Impact Assessment '!E159=\"vh\",\"5\", NA())))))))))))","v":{"$error":"#N/A"}},{"$f":"VALUE((IF('2-Impact Assessment '!F159=\"vl\",\"1\",(IF('2-Impact Assessment '!F159=\"l\",\"2\",(IF('2-Impact Assessment '!F159=\"m\",\"3\",(IF('2-Impact Assessment '!F159=\"h\",\"4\",(IF('2-Impact Assessment '!F159=\"vh\",\"5\", NA())))))))))))","v":{"$error":"#N/A"}},{"$f":"VALUE((IF('2-Impact Assessment '!G159=\"vl\",\"1\",(IF('2-Impact Assessment '!G159=\"l\",\"2\",(IF('2-Impact Assessment '!G159=\"m\",\"3\",(IF('2-Impact Assessment '!G159=\"h\",\"4\",(IF('2-Impact Assessment '!G159=\"vh\",\"5\", NA())))))))))))","v":{"$error":"#N/A"}},{"$f":"VALUE((IF('2-Impact Assessment '!H159=\"vl\",\"1\",(IF('2-Impact Assessment '!H159=\"l\",\"2\",(IF('2-Impact Assessment '!H159=\"m\",\"3\",(IF('2-Impact Assessment '!H159=\"h\",\"4\",(IF('2-Impact Assessment '!H159=\"vh\",\"5\", NA())))))))))))","v":{"$error":"#N/A"}},{"$f":"VALUE((IF('2-Impact Assessment '!I159=\"vl\",\"1\",(IF('2-Impact Assessment '!I159=\"l\",\"2\",(IF('2-Impact Assessment '!I159=\"m\",\"3\",(IF('2-Impact Assessment '!I159=\"h\",\"4\",(IF('2-Impact Assessment '!I159=\"vh\",\"5\", NA())))))))))))","v":{"$error":"#N/A"}},{"$f":"VALUE((IF('2-Impact Assessment '!J159=\"vl\",\"1\",(IF('2-Impact Assessment '!J159=\"l\",\"2\",(IF('2-Impact Assessment '!J159=\"m\",\"3\",(IF('2-Impact Assessment '!J159=\"h\",\"4\",(IF('2-Impact Assessment '!J159=\"vh\",\"5\", NA())))))))))))","v":{"$error":"#N/A"}},{"$f":"VALUE((IF('2-Impact Assessment '!K159=\"vl\",\"1\",(IF('2-Impact Assessment '!K159=\"l\",\"2\",(IF('2-Impact Assessment '!K159=\"m\",\"3\",(IF('2-Impact Assessment '!K159=\"h\",\"4\",(IF('2-Impact Assessment '!K159=\"vh\",\"5\", NA())))))))))))","v":{"$error":"#N/A"}},null,null,{"$f":"IFERROR(INDEX($AA$12:$AG$12,MATCH(TRUE, AA159:AG159 >= 3, 0)),200)","v":200},null,{"$f":"IFERROR(INDEX($AA$12:$AG$12,MATCH(TRUE, AA159:AG159 >= 4, 0)),200)","v":200},null,null,null,null,null,null,null,null,null,null,{"$f":"MAX(IF(ISERROR(E160:E163),0,E160:E163))","v":0},{"$f":"MAX(IF(ISERROR(F160:F163),0,F160:F163))","v":0},{"$f":"MAX(IF(ISERROR(G160:G163),0,G160:G163))","v":0},{"$f":"MAX(IF(ISERROR(H160:H163),0,H160:H163))","v":0},{"$f":"MAX(IF(ISERROR(I160:I163),0,I160:I163))","v":0},{"$f":"MAX(IF(ISERROR(J160:J163),0,J160:J163))","v":0},{"$f":"MAX(IF(ISERROR(K160:K163),0,K160:K163))","v":0}]
[null,null,null,{"$f":"'[2]Consequence Criteria'!$A$4","v":"Social"},{"$f":"VALUE((IF('2-Impact Assessment '!E160=\"vl\",\"1\",(IF('2-Impact Assessment '!E160=\"l\",\"2\",(IF('2-Impact Assessment '!E160=\"m\",\"3\",(IF('2-Impact Assessment '!E160=\"h\",\"4\",(IF('2-Impact Assessment '!E160=\"vh\",\"5\", NA())))))))))))","v":{"$error":"#N/A"}},{"$f":"VALUE((IF('2-Impact Assessment '!F160=\"vl\",\"1\",(IF('2-Impact Assessment '!F160=\"l\",\"2\",(IF('2-Impact Assessment '!F160=\"m\",\"3\",(IF('2-Impact Assessment '!F160=\"h\",\"4\",(IF('2-Impact Assessment '!F160=\"vh\",\"5\", NA())))))))))))","v":{"$error":"#N/A"}},{"$f":"VALUE((IF('2-Impact Assessment '!G160=\"vl\",\"1\",(IF('2-Impact Assessment '!G160=\"l\",\"2\",(IF('2-Impact Assessment '!G160=\"m\",\"3\",(IF('2-Impact Assessment '!G160=\"h\",\"4\",(IF('2-Impact Assessment '!G160=\"vh\",\"5\", NA())))))))))))","v":{"$error":"#N/A"}},{"$f":"VALUE((IF('2-Impact Assessment '!H160=\"vl\",\"1\",(IF('2-Impact Assessment '!H160=\"l\",\"2\",(IF('2-Impact Assessment '!H160=\"m\",\"3\",(IF('2-Impact Assessment '!H160=\"h\",\"4\",(IF('2-Impact Assessment '!H160=\"vh\",\"5\", NA())))))))))))","v":{"$error":"#N/A"}},{"$f":"VALUE((IF('2-Impact Assessment '!I160=\"vl\",\"1\",(IF('2-Impact Assessment '!I160=\"l\",\"2\",(IF('2-Impact Assessment '!I160=\"m\",\"3\",(IF('2-Impact Assessment '!I160=\"h\",\"4\",(IF('2-Impact Assessment '!I160=\"vh\",\"5\", NA())))))))))))","v":{"$error":"#N/A"}},{"$f":"VALUE((IF('2-Impact Assessment '!J160=\"vl\",\"1\",(IF('2-Impact Assessment '!J160=\"l\",\"2\",(IF('2-Impact Assessment '!J160=\"m\",\"3\",(IF('2-Impact Assessment '!J160=\"h\",\"4\",(IF('2-Impact Assessment '!J160=\"vh\",\"5\", NA())))))))))))","v":{"$error":"#N/A"}},{"$f":"VALUE((IF('2-Impact Assessment '!K160=\"vl\",\"1\",(IF('2-Impact Assessment '!K160=\"l\",\"2\",(IF('2-Impact Assessment '!K160=\"m\",\"3\",(IF('2-Impact Assessment '!K160=\"h\",\"4\",(IF('2-Impact Assessment '!K160=\"vh\",\"5\", NA())))))))))))","v":{"$error":"#N/A"}},null,null,{"$f":"IFERROR(INDEX($AA$12:$AG$12,MATCH(TRUE, AA160:AG160 >= 3, 0)),200)","v":200},null,{"$f":"IFERROR(INDEX($AA$12:$AG$12,MATCH(TRUE, AA160:AG160 >= 4, 0)),200)","v":200},null,null,null,null,null,null,null,null,null,null,{"$f":"MAX(IF(ISERROR(E161:E164),0,E161:E164))","v":0},{"$f":"MAX(IF(ISERROR(F161:F164),0,F161:F164))","v":0},{"$f":"MAX(IF(ISERROR(G161:G164),0,G161:G164))","v":0},{"$f":"MAX(IF(ISERROR(H161:H164),0,H161:H164))","v":0},{"$f":"MAX(IF(ISERROR(I161:I164),0,I161:I164))","v":0},{"$f":"MAX(IF(ISERROR(J161:J164),0,J161:J164))","v":0},{"$f":"MAX(IF(ISERROR(K161:K164),0,K161:K164))","v":0}]
[null,null,null,{"$f":"'[2]Consequence Criteria'!$A$5","v":"Cultural"},{"$f":"VALUE((IF('2-Impact Assessment '!E161=\"vl\",\"1\",(IF('2-Impact Assessment '!E161=\"l\",\"2\",(IF('2-Impact Assessment '!E161=\"m\",\"3\",(IF('2-Impact Assessment '!E161=\"h\",\"4\",(IF('2-Impact Assessment '!E161=\"vh\",\"5\", NA())))))))))))","v":{"$error":"#N/A"}},{"$f":"VALUE((IF('2-Impact Assessment '!F161=\"vl\",\"1\",(IF('2-Impact Assessment '!F161=\"l\",\"2\",(IF('2-Impact Assessment '!F161=\"m\",\"3\",(IF('2-Impact Assessment '!F161=\"h\",\"4\",(IF('2-Impact Assessment '!F161=\"vh\",\"5\", NA())))))))))))","v":{"$error":"#N/A"}},{"$f":"VALUE((IF('2-Impact Assessment '!G161=\"vl\",\"1\",(IF('2-Impact Assessment '!G161=\"l\",\"2\",(IF('2-Impact Assessment '!G161=\"m\",\"3\",(IF('2-Impact Assessment '!G161=\"h\",\"4\",(IF('2-Impact Assessment '!G161=\"vh\",\"5\", NA())))))))))))","v":{"$error":"#N/A"}},{"$f":"VALUE((IF('2-Impact Assessment '!H161=\"vl\",\"1\",(IF('2-Impact Assessment '!H161=\"l\",\"2\",(IF('2-Impact Assessment '!H161=\"m\",\"3\",(IF('2-Impact Assessment '!H161=\"h\",\"4\",(IF('2-Impact Assessment '!H161=\"vh\",\"5\", NA())))))))))))","v":{"$error":"#N/A"}},{"$f":"VALUE((IF('2-Impact Assessment '!I161=\"vl\",\"1\",(IF('2-Impact Assessment '!I161=\"l\",\"2\",(IF('2-Impact Assessment '!I161=\"m\",\"3\",(IF('2-Impact Assessment '!I161=\"h\",\"4\",(IF('2-Impact Assessment '!I161=\"vh\",\"5\", NA())))))))))))","v":{"$error":"#N/A"}},{"$f":"VALUE((IF('2-Impact Assessment '!J161=\"vl\",\"1\",(IF('2-Impact Assessment '!J161=\"l\",\"2\",(IF('2-Impact Assessment '!J161=\"m\",\"3\",(IF('2-Impact Assessment '!J161=\"h\",\"4\",(IF('2-Impact Assessment '!J161=\"vh\",\"5\", NA())))))))))))","v":{"$error":"#N/A"}},{"$f":"VALUE((IF('2-Impact Assessment '!K161=\"vl\",\"1\",(IF('2-Impact Assessment '!K161=\"l\",\"2\",(IF('2-Impact Assessment '!K161=\"m\",\"3\",(IF('2-Impact Assessment '!K161=\"h\",\"4\",(IF('2-Impact Assessment '!K161=\"vh\",\"5\", NA())))))))))))","v":{"$error":"#N/A"}},null,null,{"$f":"IFERROR(INDEX($AA$12:$AG$12,MATCH(TRUE, AA161:AG161 >= 3, 0)),200)","v":200},null,{"$f":"IFERROR(INDEX($AA$12:$AG$12,MATCH(TRUE, AA161:AG161 >= 4, 0)),200)","v":200},null,null,null,null,null,null,null,null,null,null,{"$f":"MAX(IF(ISERROR(E162:E165),0,E162:E165))","v":0},{"$f":"MAX(IF(ISERROR(F162:F165),0,F162:F165))","v":0},{"$f":"MAX(IF(ISERROR(G162:G165),0,G162:G165))","v":0},{"$f":"MAX(IF(ISERROR(H162:H165),0,H162:H165))","v":0},{"$f":"MAX(IF(ISERROR(I162:I165),0,I162:I165))","v":0},{"$f":"MAX(IF(ISERROR(J162:J165),0,J162:J165))","v":0},{"$f":"MAX(IF(ISERROR(K162:K165),0,K162:K165))","v":0}]
[null,null,null,{"$f":"'[2]Consequence Criteria'!$A$6","v":"Environmental"},{"$f":"VALUE((IF('2-Impact Assessment '!E162=\"vl\",\"1\",(IF('2-Impact Assessment '!E162=\"l\",\"2\",(IF('2-Impact Assessment '!E162=\"m\",\"3\",(IF('2-Impact Assessment '!E162=\"h\",\"4\",(IF('2-Impact Assessment '!E162=\"vh\",\"5\", NA())))))))))))","v":{"$error":"#N/A"}},{"$f":"VALUE((IF('2-Impact Assessment '!F162=\"vl\",\"1\",(IF('2-Impact Assessment '!F162=\"l\",\"2\",(IF('2-Impact Assessment '!F162=\"m\",\"3\",(IF('2-Impact Assessment '!F162=\"h\",\"4\",(IF('2-Impact Assessment '!F162=\"vh\",\"5\", NA())))))))))))","v":{"$error":"#N/A"}},{"$f":"VALUE((IF('2-Impact Assessment '!G162=\"vl\",\"1\",(IF('2-Impact Assessment '!G162=\"l\",\"2\",(IF('2-Impact Assessment '!G162=\"m\",\"3\",(IF('2-Impact Assessment '!G162=\"h\",\"4\",(IF('2-Impact Assessment '!G162=\"vh\",\"5\", NA())))))))))))","v":{"$error":"#N/A"}},{"$f":"VALUE((IF('2-Impact Assessment '!H162=\"vl\",\"1\",(IF('2-Impact Assessment '!H162=\"l\",\"2\",(IF('2-Impact Assessment '!H162=\"m\",\"3\",(IF('2-Impact Assessment '!H162=\"h\",\"4\",(IF('2-Impact Assessment '!H162=\"vh\",\"5\", NA())))))))))))","v":{"$error":"#N/A"}},{"$f":"VALUE((IF('2-Impact Assessment '!I162=\"vl\",\"1\",(IF('2-Impact Assessment '!I162=\"l\",\"2\",(IF('2-Impact Assessment '!I162=\"m\",\"3\",(IF('2-Impact Assessment '!I162=\"h\",\"4\",(IF('2-Impact Assessment '!I162=\"vh\",\"5\", NA())))))))))))","v":{"$error":"#N/A"}},{"$f":"VALUE((IF('2-Impact Assessment '!J162=\"vl\",\"1\",(IF('2-Impact Assessment '!J162=\"l\",\"2\",(IF('2-Impact Assessment '!J162=\"m\",\"3\",(IF('2-Impact Assessment '!J162=\"h\",\"4\",(IF('2-Impact Assessment '!J162=\"vh\",\"5\", NA())))))))))))","v":{"$error":"#N/A"}},{"$f":"VALUE((IF('2-Impact Assessment '!K162=\"vl\",\"1\",(IF('2-Impact Assessment '!K162=\"l\",\"2\",(IF('2-Impact Assessment '!K162=\"m\",\"3\",(IF('2-Impact Assessment '!K162=\"h\",\"4\",(IF('2-Impact Assessment '!K162=\"vh\",\"5\", NA())))))))))))","v":{"$error":"#N/A"}},null,null,{"$f":"IFERROR(INDEX($AA$12:$AG$12,MATCH(TRUE, AA162:AG162 >= 3, 0)),200)","v":200},null,{"$f":"IFERROR(INDEX($AA$12:$AG$12,MATCH(TRUE, AA162:AG162 >= 4, 0)),200)","v":200},null,null,null,null,null,null,null,null,null,null,{"$f":"MAX(IF(ISERROR(E163:E166),0,E163:E166))","v":0},{"$f":"MAX(IF(ISERROR(F163:F166),0,F163:F166))","v":0},{"$f":"MAX(IF(ISERROR(G163:G166),0,G163:G166))","v":0},{"$f":"MAX(IF(ISERROR(H163:H166),0,H163:H166))","v":0},{"$f":"MAX(IF(ISERROR(I163:I166),0,I163:I166))","v":0},{"$f":"MAX(IF(ISERROR(J163:J166),0,J163:J166))","v":0},{"$f":"MAX(IF(ISERROR(K163:K166),0,K163:K166))","v":0}]
[null,null,null,{"$f":"'[2]Consequence Criteria'!$A$7","v":0},{"$f":"VALUE((IF('2-Impact Assessment '!E163=\"vl\",\"1\",(IF('2-Impact Assessment '!E163=\"l\",\"2\",(IF('2-Impact Assessment '!E163=\"m\",\"3\",(IF('2-Impact Assessment '!E163=\"h\",\"4\",(IF('2-Impact Assessment '!E163=\"vh\",\"5\", NA())))))))))))","v":{"$error":"#N/A"}},{"$f":"VALUE((IF('2-Impact Assessment '!F163=\"vl\",\"1\",(IF('2-Impact Assessment '!F163=\"l\",\"2\",(IF('2-Impact Assessment '!F163=\"m\",\"3\",(IF('2-Impact Assessment '!F163=\"h\",\"4\",(IF('2-Impact Assessment '!F163=\"vh\",\"5\", NA())))))))))))","v":{"$error":"#N/A"}},{"$f":"VALUE((IF('2-Impact Assessment '!G163=\"vl\",\"1\",(IF('2-Impact Assessment '!G163=\"l\",\"2\",(IF('2-Impact Assessment '!G163=\"m\",\"3\",(IF('2-Impact Assessment '!G163=\"h\",\"4\",(IF('2-Impact Assessment '!G163=\"vh\",\"5\", NA())))))))))))","v":{"$error":"#N/A"}},{"$f":"VALUE((IF('2-Impact Assessment '!H163=\"vl\",\"1\",(IF('2-Impact Assessment '!H163=\"l\",\"2\",(IF('2-Impact Assessment '!H163=\"m\",\"3\",(IF('2-Impact Assessment '!H163=\"h\",\"4\",(IF('2-Impact Assessment '!H163=\"vh\",\"5\", NA())))))))))))","v":{"$error":"#N/A"}},{"$f":"VALUE((IF('2-Impact Assessment '!I163=\"vl\",\"1\",(IF('2-Impact Assessment '!I163=\"l\",\"2\",(IF('2-Impact Assessment '!I163=\"m\",\"3\",(IF('2-Impact Assessment '!I163=\"h\",\"4\",(IF('2-Impact Assessment '!I163=\"vh\",\"5\", NA())))))))))))","v":{"$error":"#N/A"}},{"$f":"VALUE((IF('2-Impact Assessment '!J163=\"vl\",\"1\",(IF('2-Impact Assessment '!J163=\"l\",\"2\",(IF('2-Impact Assessment '!J163=\"m\",\"3\",(IF('2-Impact Assessment '!J163=\"h\",\"4\",(IF('2-Impact Assessment '!J163=\"vh\",\"5\", NA())))))))))))","v":{"$error":"#N/A"}},{"$f":"VALUE((IF('2-Impact Assessment '!K163=\"vl\",\"1\",(IF('2-Impact Assessment '!K163=\"l\",\"2\",(IF('2-Impact Assessment '!K163=\"m\",\"3\",(IF('2-Impact Assessment '!K163=\"h\",\"4\",(IF('2-Impact Assessment '!K163=\"vh\",\"5\", NA())))))))))))","v":{"$error":"#N/A"}},null,null,{"$f":"IFERROR(INDEX($AA$12:$AG$12,MATCH(TRUE, AA163:AG163 >= 3, 0)),200)","v":200},null,{"$f":"IFERROR(INDEX($AA$12:$AG$12,MATCH(TRUE, AA163:AG163 >= 4, 0)),200)","v":200},null,null,null,null,null,null,null,null,null,null,{"$f":"MAX(IF(ISERROR(E164:E167),0,E164:E167))","v":0},{"$f":"MAX(IF(ISERROR(F164:F167),0,F164:F167))","v":0},{"$f":"MAX(IF(ISERROR(G164:G167),0,G164:G167))","v":0},{"$f":"MAX(IF(ISERROR(H164:H167),0,H164:H167))","v":0},{"$f":"MAX(IF(ISERROR(I164:I167),0,I164:I167))","v":0},{"$f":"MAX(IF(ISERROR(J164:J167),0,J164:J167))","v":0},{"$f":"MAX(IF(ISERROR(K164:K167),0,K164:K167))","v":0}]
[null,null,null,{"$f":"'[2]Consequence Criteria'!$A$8","v":0},{"$f":"VALUE((IF('2-Impact Assessment '!E164=\"vl\",\"1\",(IF('2-Impact Assessment '!E164=\"l\",\"2\",(IF('2-Impact Assessment '!E164=\"m\",\"3\",(IF('2-Impact Assessment '!E164=\"h\",\"4\",(IF('2-Impact Assessment '!E164=\"vh\",\"5\", NA())))))))))))","v":{"$error":"#N/A"}},{"$f":"VALUE((IF('2-Impact Assessment '!F164=\"vl\",\"1\",(IF('2-Impact Assessment '!F164=\"l\",\"2\",(IF('2-Impact Assessment '!F164=\"m\",\"3\",(IF('2-Impact Assessment '!F164=\"h\",\"4\",(IF('2-Impact Assessment '!F164=\"vh\",\"5\", NA())))))))))))","v":{"$error":"#N/A"}},{"$f":"VALUE((IF('2-Impact Assessment '!G164=\"vl\",\"1\",(IF('2-Impact Assessment '!G164=\"l\",\"2\",(IF('2-Impact Assessment '!G164=\"m\",\"3\",(IF('2-Impact Assessment '!G164=\"h\",\"4\",(IF('2-Impact Assessment '!G164=\"vh\",\"5\", NA())))))))))))","v":{"$error":"#N/A"}},{"$f":"VALUE((IF('2-Impact Assessment '!H164=\"vl\",\"1\",(IF('2-Impact Assessment '!H164=\"l\",\"2\",(IF('2-Impact Assessment '!H164=\"m\",\"3\",(IF('2-Impact Assessment '!H164=\"h\",\"4\",(IF('2-Impact Assessment '!H164=\"vh\",\"5\", NA())))))))))))","v":{"$error":"#N/A"}},{"$f":"VALUE((IF('2-Impact Assessment '!I164=\"vl\",\"1\",(IF('2-Impact Assessment '!I164=\"l\",\"2\",(IF('2-Impact Assessment '!I164=\"m\",\"3\",(IF('2-Impact Assessment '!I164=\"h\",\"4\",(IF('2-Impact Assessment '!I164=\"vh\",\"5\", NA())))))))))))","v":{"$error":"#N/A"}},{"$f":"VALUE((IF('2-Impact Assessment '!J164=\"vl\",\"1\",(IF('2-Impact Assessment '!J164=\"l\",\"2\",(IF('2-Impact Assessment '!J164=\"m\",\"3\",(IF('2-Impact Assessment '!J164=\"h\",\"4\",(IF('2-Impact Assessment '!J164=\"vh\",\"5\", NA())))))))))))","v":{"$error":"#N/A"}},{"$f":"VALUE((IF('2-Impact Assessment '!K164=\"vl\",\"1\",(IF('2-Impact Assessment '!K164=\"l\",\"2\",(IF('2-Impact Assessment '!K164=\"m\",\"3\",(IF('2-Impact Assessment '!K164=\"h\",\"4\",(IF('2-Impact Assessment '!K164=\"vh\",\"5\", NA())))))))))))","v":{"$error":"#N/A"}},null,null,{"$f":"IFERROR(INDEX($AA$12:$AG$12,MATCH(TRUE, AA164:AG164 >= 3, 0)),200)","v":200},null,{"$f":"IFERROR(INDEX($AA$12:$AG$12,MATCH(TRUE, AA164:AG164 >= 4, 0)),200)","v":200},null,null,null,null,null,null,null,null,null,null,{"$f":"MAX(IF(ISERROR(E165:E168),0,E165:E168))","v":0},{"$f":"MAX(IF(ISERROR(F165:F168),0,F165:F168))","v":0},{"$f":"MAX(IF(ISERROR(G165:G168),0,G165:G168))","v":0},{"$f":"MAX(IF(ISERROR(H165:H168),0,H165:H168))","v":0},{"$f":"MAX(IF(ISERROR(I165:I168),0,I165:I168))","v":0},{"$f":"MAX(IF(ISERROR(J165:J168),0,J165:J168))","v":0},{"$f":"MAX(IF(ISERROR(K165:K168),0,K165:K168))","v":0}]
[null,null,null,{"$f":"'[2]Consequence Criteria'!$A$9","v":0},{"$f":"VALUE((IF('2-Impact Assessment '!E165=\"vl\",\"1\",(IF('2-Impact Assessment '!E165=\"l\",\"2\",(IF('2-Impact Assessment '!E165=\"m\",\"3\",(IF('2-Impact Assessment '!E165=\"h\",\"4\",(IF('2-Impact Assessment '!E165=\"vh\",\"5\", NA())))))))))))","v":{"$error":"#N/A"}},{"$f":"VALUE((IF('2-Impact Assessment '!F165=\"vl\",\"1\",(IF('2-Impact Assessment '!F165=\"l\",\"2\",(IF('2-Impact Assessment '!F165=\"m\",\"3\",(IF('2-Impact Assessment '!F165=\"h\",\"4\",(IF('2-Impact Assessment '!F165=\"vh\",\"5\", NA())))))))))))","v":{"$error":"#N/A"}},{"$f":"VALUE((IF('2-Impact Assessment '!G165=\"vl\",\"1\",(IF('2-Impact Assessment '!G165=\"l\",\"2\",(IF('2-Impact Assessment '!G165=\"m\",\"3\",(IF('2-Impact Assessment '!G165=\"h\",\"4\",(IF('2-Impact Assessment '!G165=\"vh\",\"5\", NA())))))))))))","v":{"$error":"#N/A"}},{"$f":"VALUE((IF('2-Impact Assessment '!H165=\"vl\",\"1\",(IF('2-Impact Assessment '!H165=\"l\",\"2\",(IF('2-Impact Assessment '!H165=\"m\",\"3\",(IF('2-Impact Assessment '!H165=\"h\",\"4\",(IF('2-Impact Assessment '!H165=\"vh\",\"5\", NA())))))))))))","v":{"$error":"#N/A"}},{"$f":"VALUE((IF('2-Impact Assessment '!I165=\"vl\",\"1\",(IF('2-Impact Assessment '!I165=\"l\",\"2\",(IF('2-Impact Assessment '!I165=\"m\",\"3\",(IF('2-Impact Assessment '!I165=\"h\",\"4\",(IF('2-Impact Assessment '!I165=\"vh\",\"5\", NA())))))))))))","v":{"$error":"#N/A"}},{"$f":"VALUE((IF('2-Impact Assessment '!J165=\"vl\",\"1\",(IF('2-Impact Assessment '!J165=\"l\",\"2\",(IF('2-Impact Assessment '!J165=\"m\",\"3\",(IF('2-Impact Assessment '!J165=\"h\",\"4\",(IF('2-Impact Assessment '!J165=\"vh\",\"5\", NA())))))))))))","v":{"$error":"#N/A"}},{"$f":"VALUE((IF('2-Impact Assessment '!K165=\"vl\",\"1\",(IF('2-Impact Assessment '!K165=\"l\",\"2\",(IF('2-Impact Assessment '!K165=\"m\",\"3\",(IF('2-Impact Assessment '!K165=\"h\",\"4\",(IF('2-Impact Assessment '!K165=\"vh\",\"5\", NA())))))))))))","v":{"$error":"#N/A"}},null,null,{"$f":"IFERROR(INDEX($AA$12:$AG$12,MATCH(TRUE, AA165:AG165 >= 3, 0)),200)","v":200},null,{"$f":"IFERROR(INDEX($AA$12:$AG$12,MATCH(TRUE, AA165:AG165 >= 4, 0)),200)","v":200},null,null,null,null,null,null,null,null,null,null,{"$f":"MAX(IF(ISERROR(E166:E169),0,E166:E169))","v":0},{"$f":"MAX(IF(ISERROR(F166:F169),0,F166:F169))","v":0},{"$f":"MAX(IF(ISERROR(G166:G169),0,G166:G169))","v":0},{"$f":"MAX(IF(ISERROR(H166:H169),0,H166:H169))","v":0},{"$f":"MAX(IF(ISERROR(I166:I169),0,I166:I169))","v":0},{"$f":"MAX(IF(ISERROR(J166:J169),0,J166:J169))","v":0},{"$f":"MAX(IF(ISERROR(K166:K169),0,K166:K169))","v":0}]
[null,null,null,{"$f":"'[2]Consequence Criteria'!$A$10","v":0},{"$f":"VALUE((IF('2-Impact Assessment '!E166=\"vl\",\"1\",(IF('2-Impact Assessment '!E166=\"l\",\"2\",(IF('2-Impact Assessment '!E166=\"m\",\"3\",(IF('2-Impact Assessment '!E166=\"h\",\"4\",(IF('2-Impact Assessment '!E166=\"vh\",\"5\", NA())))))))))))","v":{"$error":"#N/A"}},{"$f":"VALUE((IF('2-Impact Assessment '!F166=\"vl\",\"1\",(IF('2-Impact Assessment '!F166=\"l\",\"2\",(IF('2-Impact Assessment '!F166=\"m\",\"3\",(IF('2-Impact Assessment '!F166=\"h\",\"4\",(IF('2-Impact Assessment '!F166=\"vh\",\"5\", NA())))))))))))","v":{"$error":"#N/A"}},{"$f":"VALUE((IF('2-Impact Assessment '!G166=\"vl\",\"1\",(IF('2-Impact Assessment '!G166=\"l\",\"2\",(IF('2-Impact Assessment '!G166=\"m\",\"3\",(IF('2-Impact Assessment '!G166=\"h\",\"4\",(IF('2-Impact Assessment '!G166=\"vh\",\"5\", NA())))))))))))","v":{"$error":"#N/A"}},{"$f":"VALUE((IF('2-Impact Assessment '!H166=\"vl\",\"1\",(IF('2-Impact Assessment '!H166=\"l\",\"2\",(IF('2-Impact Assessment '!H166=\"m\",\"3\",(IF('2-Impact Assessment '!H166=\"h\",\"4\",(IF('2-Impact Assessment '!H166=\"vh\",\"5\", NA())))))))))))","v":{"$error":"#N/A"}},{"$f":"VALUE((IF('2-Impact Assessment '!I166=\"vl\",\"1\",(IF('2-Impact Assessment '!I166=\"l\",\"2\",(IF('2-Impact Assessment '!I166=\"m\",\"3\",(IF('2-Impact Assessment '!I166=\"h\",\"4\",(IF('2-Impact Assessment '!I166=\"vh\",\"5\", NA())))))))))))","v":{"$error":"#N/A"}},{"$f":"VALUE((IF('2-Impact Assessment '!J166=\"vl\",\"1\",(IF('2-Impact Assessment '!J166=\"l\",\"2\",(IF('2-Impact Assessment '!J166=\"m\",\"3\",(IF('2-Impact Assessment '!J166=\"h\",\"4\",(IF('2-Impact Assessment '!J166=\"vh\",\"5\", NA())))))))))))","v":{"$error":"#N/A"}},{"$f":"VALUE((IF('2-Impact Assessment '!K166=\"vl\",\"1\",(IF('2-Impact Assessment '!K166=\"l\",\"2\",(IF('2-Impact Assessment '!K166=\"m\",\"3\",(IF('2-Impact Assessment '!K166=\"h\",\"4\",(IF('2-Impact Assessment '!K166=\"vh\",\"5\", NA())))))))))))","v":{"$error":"#N/A"}},null,null,{"$f":"IFERROR(INDEX($AA$12:$AG$12,MATCH(TRUE, AA166:AG166 >= 3, 0)),200)","v":200},null,{"$f":"IFERROR(INDEX($AA$12:$AG$12,MATCH(TRUE, AA166:AG166 >= 4, 0)),200)","v":200},null,null,null,null,null,null,null,null,null,null,{"$f":"MAX(IF(ISERROR(E167:E170),0,E167:E170))","v":0},{"$f":"MAX(IF(ISERROR(F167:F170),0,F167:F170))","v":0},{"$f":"MAX(IF(ISERROR(G167:G170),0,G167:G170))","v":0},{"$f":"MAX(IF(ISERROR(H167:H170),0,H167:H170))","v":0},{"$f":"MAX(IF(ISERROR(I167:I170),0,I167:I170))","v":0},{"$f":"MAX(IF(ISERROR(J167:J170),0,J167:J170))","v":0},{"$f":"MAX(IF(ISERROR(K167:K170),0,K167:K170))","v":0}]
[null,{"$f":"IF(ISTEXT('1-Services & Function'!D47),'1-Services & Function'!D47,\"\")","v":""},18,null,"1 hr","4 hr","1 day","2 days","5 days","1 month","> 6 months","Comments",null,{"$f":"IFERROR(INDEX($AA$12:$AG$12,MATCH(TRUE, AA167:AG167 >= 3, 0)),200)","v":200},null,{"$f":"IFERROR(INDEX($AA$12:$AG$12,MATCH(TRUE, AA167:AG167 >= 4, 0)),200)","v":200},null,null,null,null,null,null,null,null,null,null,{"$f":"MAX(IF(ISERROR(E168:E171),0,E168:E171))","v":0},{"$f":"MAX(IF(ISERROR(F168:F171),0,F168:F171))","v":0},{"$f":"MAX(IF(ISERROR(G168:G171),0,G168:G171))","v":0},{"$f":"MAX(IF(ISERROR(H168:H171),0,H168:H171))","v":0},{"$f":"MAX(IF(ISERROR(I168:I171),0,I168:I171))","v":0},{"$f":"MAX(IF(ISERROR(J168:J171),0,J168:J171))","v":0},{"$f":"MAX(IF(ISERROR(K168:K171),0,K168:K171))","v":0}]
[null,null,null,{"$f":"'[2]Consequence Criteria'!$A$3","v":"Economic"},{"$f":"VALUE((IF('2-Impact Assessment '!E168=\"vl\",\"1\",(IF('2-Impact Assessment '!E168=\"l\",\"2\",(IF('2-Impact Assessment '!E168=\"m\",\"3\",(IF('2-Impact Assessment '!E168=\"h\",\"4\",(IF('2-Impact Assessment '!E168=\"vh\",\"5\", NA())))))))))))","v":{"$error":"#N/A"}},{"$f":"VALUE((IF('2-Impact Assessment '!F168=\"vl\",\"1\",(IF('2-Impact Assessment '!F168=\"l\",\"2\",(IF('2-Impact Assessment '!F168=\"m\",\"3\",(IF('2-Impact Assessment '!F168=\"h\",\"4\",(IF('2-Impact Assessment '!F168=\"vh\",\"5\", NA())))))))))))","v":{"$error":"#N/A"}},{"$f":"VALUE((IF('2-Impact Assessment '!G168=\"vl\",\"1\",(IF('2-Impact Assessment '!G168=\"l\",\"2\",(IF('2-Impact Assessment '!G168=\"m\",\"3\",(IF('2-Impact Assessment '!G168=\"h\",\"4\",(IF('2-Impact Assessment '!G168=\"vh\",\"5\", NA())))))))))))","v":{"$error":"#N/A"}},{"$f":"VALUE((IF('2-Impact Assessment '!H168=\"vl\",\"1\",(IF('2-Impact Assessment '!H168=\"l\",\"2\",(IF('2-Impact Assessment '!H168=\"m\",\"3\",(IF('2-Impact Assessment '!H168=\"h\",\"4\",(IF('2-Impact Assessment '!H168=\"vh\",\"5\", NA())))))))))))","v":{"$error":"#N/A"}},{"$f":"VALUE((IF('2-Impact Assessment '!I168=\"vl\",\"1\",(IF('2-Impact Assessment '!I168=\"l\",\"2\",(IF('2-Impact Assessment '!I168=\"m\",\"3\",(IF('2-Impact Assessment '!I168=\"h\",\"4\",(IF('2-Impact Assessment '!I168=\"vh\",\"5\", NA())))))))))))","v":{"$error":"#N/A"}},{"$f":"VALUE((IF('2-Impact Assessment '!J168=\"vl\",\"1\",(IF('2-Impact Assessment '!J168=\"l\",\"2\",(IF('2-Impact Assessment '!J168=\"m\",\"3\",(IF('2-Impact Assessment '!J168=\"h\",\"4\",(IF('2-Impact Assessment '!J168=\"vh\",\"5\", NA())))))))))))","v":{"$error":"#N/A"}},{"$f":"VALUE((IF('2-Impact Assessment '!K168=\"vl\",\"1\",(IF('2-Impact Assessment '!K168=\"l\",\"2\",(IF('2-Impact Assessment '!K168=\"m\",\"3\",(IF('2-Impact Assessment '!K168=\"h\",\"4\",(IF('2-Impact Assessment '!K168=\"vh\",\"5\", NA())))))))))))","v":{"$error":"#N/A"}},null,null,{"$f":"IFERROR(INDEX($AA$12:$AG$12,MATCH(TRUE, AA168:AG168 >= 3, 0)),200)","v":200},null,{"$f":"IFERROR(INDEX($AA$12:$AG$12,MATCH(TRUE, AA168:AG168 >= 4, 0)),200)","v":200},null,null,null,null,null,null,null,null,null,null,{"$f":"MAX(IF(ISERROR(E169:E172),0,E169:E172))","v":0},{"$f":"MAX(IF(ISERROR(F169:F172),0,F169:F172))","v":0},{"$f":"MAX(IF(ISERROR(G169:G172),0,G169:G172))","v":0},{"$f":"MAX(IF(ISERROR(H169:H172),0,H169:H172))","v":0},{"$f":"MAX(IF(ISERROR(I169:I172),0,I169:I172))","v":0},{"$f":"MAX(IF(ISERROR(J169:J172),0,J169:J172))","v":0},{"$f":"MAX(IF(ISERROR(K169:K172),0,K169:K172))","v":0}]
[null,null,null,{"$f":"'[2]Consequence Criteria'!$A$4","v":"Social"},{"$f":"VALUE((IF('2-Impact Assessment '!E169=\"vl\",\"1\",(IF('2-Impact Assessment '!E169=\"l\",\"2\",(IF('2-Impact Assessment '!E169=\"m\",\"3\",(IF('2-Impact Assessment '!E169=\"h\",\"4\",(IF('2-Impact Assessment '!E169=\"vh\",\"5\", NA())))))))))))","v":{"$error":"#N/A"}},{"$f":"VALUE((IF('2-Impact Assessment '!F169=\"vl\",\"1\",(IF('2-Impact Assessment '!F169=\"l\",\"2\",(IF('2-Impact Assessment '!F169=\"m\",\"3\",(IF('2-Impact Assessment '!F169=\"h\",\"4\",(IF('2-Impact Assessment '!F169=\"vh\",\"5\", NA())))))))))))","v":{"$error":"#N/A"}},{"$f":"VALUE((IF('2-Impact Assessment '!G169=\"vl\",\"1\",(IF('2-Impact Assessment '!G169=\"l\",\"2\",(IF('2-Impact Assessment '!G169=\"m\",\"3\",(IF('2-Impact Assessment '!G169=\"h\",\"4\",(IF('2-Impact Assessment '!G169=\"vh\",\"5\", NA())))))))))))","v":{"$error":"#N/A"}},{"$f":"VALUE((IF('2-Impact Assessment '!H169=\"vl\",\"1\",(IF('2-Impact Assessment '!H169=\"l\",\"2\",(IF('2-Impact Assessment '!H169=\"m\",\"3\",(IF('2-Impact Assessment '!H169=\"h\",\"4\",(IF('2-Impact Assessment '!H169=\"vh\",\"5\", NA())))))))))))","v":{"$error":"#N/A"}},{"$f":"VALUE((IF('2-Impact Assessment '!I169=\"vl\",\"1\",(IF('2-Impact Assessment '!I169=\"l\",\"2\",(IF('2-Impact Assessment '!I169=\"m\",\"3\",(IF('2-Impact Assessment '!I169=\"h\",\"4\",(IF('2-Impact Assessment '!I169=\"vh\",\"5\", NA())))))))))))","v":{"$error":"#N/A"}},{"$f":"VALUE((IF('2-Impact Assessment '!J169=\"vl\",\"1\",(IF('2-Impact Assessment '!J169=\"l\",\"2\",(IF('2-Impact Assessment '!J169=\"m\",\"3\",(IF('2-Impact Assessment '!J169=\"h\",\"4\",(IF('2-Impact Assessment '!J169=\"vh\",\"5\", NA())))))))))))","v":{"$error":"#N/A"}},{"$f":"VALUE((IF('2-Impact Assessment '!K169=\"vl\",\"1\",(IF('2-Impact Assessment '!K169=\"l\",\"2\",(IF('2-Impact Assessment '!K169=\"m\",\"3\",(IF('2-Impact Assessment '!K169=\"h\",\"4\",(IF('2-Impact Assessment '!K169=\"vh\",\"5\", NA())))))))))))","v":{"$error":"#N/A"}},null,null,{"$f":"IFERROR(INDEX($AA$12:$AG$12,MATCH(TRUE, AA169:AG169 >= 3, 0)),200)","v":200},null,{"$f":"IFERROR(INDEX($AA$12:$AG$12,MATCH(TRUE, AA169:AG169 >= 4, 0)),200)","v":200},null,null,null,null,null,null,null,null,null,null,{"$f":"MAX(IF(ISERROR(E170:E173),0,E170:E173))","v":0},{"$f":"MAX(IF(ISERROR(F170:F173),0,F170:F173))","v":0},{"$f":"MAX(IF(ISERROR(G170:G173),0,G170:G173))","v":0},{"$f":"MAX(IF(ISERROR(H170:H173),0,H170:H173))","v":0},{"$f":"MAX(IF(ISERROR(I170:I173),0,I170:I173))","v":0},{"$f":"MAX(IF(ISERROR(J170:J173),0,J170:J173))","v":0},{"$f":"MAX(IF(ISERROR(K170:K173),0,K170:K173))","v":0}]
[null,null,null,{"$f":"'[2]Consequence Criteria'!$A$5","v":"Cultural"},{"$f":"VALUE((IF('2-Impact Assessment '!E170=\"vl\",\"1\",(IF('2-Impact Assessment '!E170=\"l\",\"2\",(IF('2-Impact Assessment '!E170=\"m\",\"3\",(IF('2-Impact Assessment '!E170=\"h\",\"4\",(IF('2-Impact Assessment '!E170=\"vh\",\"5\", NA())))))))))))","v":{"$error":"#N/A"}},{"$f":"VALUE((IF('2-Impact Assessment '!F170=\"vl\",\"1\",(IF('2-Impact Assessment '!F170=\"l\",\"2\",(IF('2-Impact Assessment '!F170=\"m\",\"3\",(IF('2-Impact Assessment '!F170=\"h\",\"4\",(IF('2-Impact Assessment '!F170=\"vh\",\"5\", NA())))))))))))","v":{"$error":"#N/A"}},{"$f":"VALUE((IF('2-Impact Assessment '!G170=\"vl\",\"1\",(IF('2-Impact Assessment '!G170=\"l\",\"2\",(IF('2-Impact Assessment '!G170=\"m\",\"3\",(IF('2-Impact Assessment '!G170=\"h\",\"4\",(IF('2-Impact Assessment '!G170=\"vh\",\"5\", NA())))))))))))","v":{"$error":"#N/A"}},{"$f":"VALUE((IF('2-Impact Assessment '!H170=\"vl\",\"1\",(IF('2-Impact Assessment '!H170=\"l\",\"2\",(IF('2-Impact Assessment '!H170=\"m\",\"3\",(IF('2-Impact Assessment '!H170=\"h\",\"4\",(IF('2-Impact Assessment '!H170=\"vh\",\"5\", NA())))))))))))","v":{"$error":"#N/A"}},{"$f":"VALUE((IF('2-Impact Assessment '!I170=\"vl\",\"1\",(IF('2-Impact Assessment '!I170=\"l\",\"2\",(IF('2-Impact Assessment '!I170=\"m\",\"3\",(IF('2-Impact Assessment '!I170=\"h\",\"4\",(IF('2-Impact Assessment '!I170=\"vh\",\"5\", NA())))))))))))","v":{"$error":"#N/A"}},{"$f":"VALUE((IF('2-Impact Assessment '!J170=\"vl\",\"1\",(IF('2-Impact Assessment '!J170=\"l\",\"2\",(IF('2-Impact Assessment '!J170=\"m\",\"3\",(IF('2-Impact Assessment '!J170=\"h\",\"4\",(IF('2-Impact Assessment '!J170=\"vh\",\"5\", NA())))))))))))","v":{"$error":"#N/A"}},{"$f":"VALUE((IF('2-Impact Assessment '!K170=\"vl\",\"1\",(IF('2-Impact Assessment '!K170=\"l\",\"2\",(IF('2-Impact Assessment '!K170=\"m\",\"3\",(IF('2-Impact Assessment '!K170=\"h\",\"4\",(IF('2-Impact Assessment '!K170=\"vh\",\"5\", NA())))))))))))","v":{"$error":"#N/A"}},null,null,{"$f":"IFERROR(INDEX($AA$12:$AG$12,MATCH(TRUE, AA170:AG170 >= 3, 0)),200)","v":200},null,{"$f":"IFERROR(INDEX($AA$12:$AG$12,MATCH(TRUE, AA170:AG170 >= 4, 0)),200)","v":200},null,null,null,null,null,null,null,null,null,null,{"$f":"MAX(IF(ISERROR(E171:E174),0,E171:E174))","v":0},{"$f":"MAX(IF(ISERROR(F171:F174),0,F171:F174))","v":0},{"$f":"MAX(IF(ISERROR(G171:G174),0,G171:G174))","v":0},{"$f":"MAX(IF(ISERROR(H171:H174),0,H171:H174))","v":0},{"$f":"MAX(IF(ISERROR(I171:I174),0,I171:I174))","v":0},{"$f":"MAX(IF(ISERROR(J171:J174),0,J171:J174))","v":0},{"$f":"MAX(IF(ISERROR(K171:K174),0,K171:K174))","v":0}]
[null,null,null,{"$f":"'[2]Consequence Criteria'!$A$6","v":"Environmental"},{"$f":"VALUE((IF('2-Impact Assessment '!E171=\"vl\",\"1\",(IF('2-Impact Assessment '!E171=\"l\",\"2\",(IF('2-Impact Assessment '!E171=\"m\",\"3\",(IF('2-Impact Assessment '!E171=\"h\",\"4\",(IF('2-Impact Assessment '!E171=\"vh\",\"5\", NA())))))))))))","v":{"$error":"#N/A"}},{"$f":"VALUE((IF('2-Impact Assessment '!F171=\"vl\",\"1\",(IF('2-Impact Assessment '!F171=\"l\",\"2\",(IF('2-Impact Assessment '!F171=\"m\",\"3\",(IF('2-Impact Assessment '!F171=\"h\",\"4\",(IF('2-Impact Assessment '!F171=\"vh\",\"5\", NA())))))))))))","v":{"$error":"#N/A"}},{"$f":"VALUE((IF('2-Impact Assessment '!G171=\"vl\",\"1\",(IF('2-Impact Assessment '!G171=\"l\",\"2\",(IF('2-Impact Assessment '!G171=\"m\",\"3\",(IF('2-Impact Assessment '!G171=\"h\",\"4\",(IF('2-Impact Assessment '!G171=\"vh\",\"5\", NA())))))))))))","v":{"$error":"#N/A"}},{"$f":"VALUE((IF('2-Impact Assessment '!H171=\"vl\",\"1\",(IF('2-Impact Assessment '!H171=\"l\",\"2\",(IF('2-Impact Assessment '!H171=\"m\",\"3\",(IF('2-Impact Assessment '!H171=\"h\",\"4\",(IF('2-Impact Assessment '!H171=\"vh\",\"5\", NA())))))))))))","v":{"$error":"#N/A"}},{"$f":"VALUE((IF('2-Impact Assessment '!I171=\"vl\",\"1\",(IF('2-Impact Assessment '!I171=\"l\",\"2\",(IF('2-Impact Assessment '!I171=\"m\",\"3\",(IF('2-Impact Assessment '!I171=\"h\",\"4\",(IF('2-Impact Assessment '!I171=\"vh\",\"5\", NA())))))))))))","v":{"$error":"#N/A"}},{"$f":"VALUE((IF('2-Impact Assessment '!J171=\"vl\",\"1\",(IF('2-Impact Assessment '!J171=\"l\",\"2\",(IF('2-Impact Assessment '!J171=\"m\",\"3\",(IF('2-Impact Assessment '!J171=\"h\",\"4\",(IF('2-Impact Assessment '!J171=\"vh\",\"5\", NA())))))))))))","v":{"$error":"#N/A"}},{"$f":"VALUE((IF('2-Impact Assessment '!K171=\"vl\",\"1\",(IF('2-Impact Assessment '!K171=\"l\",\"2\",(IF('2-Impact Assessment '!K171=\"m\",\"3\",(IF('2-Impact Assessment '!K171=\"h\",\"4\",(IF('2-Impact Assessment '!K171=\"vh\",\"5\", NA())))))))))))","v":{"$error":"#N/A"}},null,null,{"$f":"IFERROR(INDEX($AA$12:$AG$12,MATCH(TRUE, AA171:AG171 >= 3, 0)),200)","v":200},null,{"$f":"IFERROR(INDEX($AA$12:$AG$12,MATCH(TRUE, AA171:AG171 >= 4, 0)),200)","v":200},null,null,null,null,null,null,null,null,null,null,{"$f":"MAX(IF(ISERROR(E172:E175),0,E172:E175))","v":0},{"$f":"MAX(IF(ISERROR(F172:F175),0,F172:F175))","v":0},{"$f":"MAX(IF(ISERROR(G172:G175),0,G172:G175))","v":0},{"$f":"MAX(IF(ISERROR(H172:H175),0,H172:H175))","v":0},{"$f":"MAX(IF(ISERROR(I172:I175),0,I172:I175))","v":0},{"$f":"MAX(IF(ISERROR(J172:J175),0,J172:J175))","v":0},{"$f":"MAX(IF(ISERROR(K172:K175),0,K172:K175))","v":0}]
[null,null,null,{"$f":"'[2]Consequence Criteria'!$A$7","v":0},{"$f":"VALUE((IF('2-Impact Assessment '!E172=\"vl\",\"1\",(IF('2-Impact Assessment '!E172=\"l\",\"2\",(IF('2-Impact Assessment '!E172=\"m\",\"3\",(IF('2-Impact Assessment '!E172=\"h\",\"4\",(IF('2-Impact Assessment '!E172=\"vh\",\"5\", NA())))))))))))","v":{"$error":"#N/A"}},{"$f":"VALUE((IF('2-Impact Assessment '!F172=\"vl\",\"1\",(IF('2-Impact Assessment '!F172=\"l\",\"2\",(IF('2-Impact Assessment '!F172=\"m\",\"3\",(IF('2-Impact Assessment '!F172=\"h\",\"4\",(IF('2-Impact Assessment '!F172=\"vh\",\"5\", NA())))))))))))","v":{"$error":"#N/A"}},{"$f":"VALUE((IF('2-Impact Assessment '!G172=\"vl\",\"1\",(IF('2-Impact Assessment '!G172=\"l\",\"2\",(IF('2-Impact Assessment '!G172=\"m\",\"3\",(IF('2-Impact Assessment '!G172=\"h\",\"4\",(IF('2-Impact Assessment '!G172=\"vh\",\"5\", NA())))))))))))","v":{"$error":"#N/A"}},{"$f":"VALUE((IF('2-Impact Assessment '!H172=\"vl\",\"1\",(IF('2-Impact Assessment '!H172=\"l\",\"2\",(IF('2-Impact Assessment '!H172=\"m\",\"3\",(IF('2-Impact Assessment '!H172=\"h\",\"4\",(IF('2-Impact Assessment '!H172=\"vh\",\"5\", NA())))))))))))","v":{"$error":"#N/A"}},{"$f":"VALUE((IF('2-Impact Assessment '!I172=\"vl\",\"1\",(IF('2-Impact Assessment '!I172=\"l\",\"2\",(IF('2-Impact Assessment '!I172=\"m\",\"3\",(IF('2-Impact Assessment '!I172=\"h\",\"4\",(IF('2-Impact Assessment '!I172=\"vh\",\"5\", NA())))))))))))","v":{"$error":"#N/A"}},{"$f":"VALUE((IF('2-Impact Assessment '!J172=\"vl\",\"1\",(IF('2-Impact Assessment '!J172=\"l\",\"2\",(IF('2-Impact Assessment '!J172=\"m\",\"3\",(IF('2-Impact Assessment '!J172=\"h\",\"4\",(IF('2-Impact Assessment '!J172=\"vh\",\"5\", NA())))))))))))","v":{"$error":"#N/A"}},{"$f":"VALUE((IF('2-Impact Assessment '!K172=\"vl\",\"1\",(IF('2-Impact Assessment '!K172=\"l\",\"2\",(IF('2-Impact Assessment '!K172=\"m\",\"3\",(IF('2-Impact Assessment '!K172=\"h\",\"4\",(IF('2-Impact Assessment '!K172=\"vh\",\"5\", NA())))))))))))","v":{"$error":"#N/A"}},null,null,{"$f":"IFERROR(INDEX($AA$12:$AG$12,MATCH(TRUE, AA172:AG172 >= 3, 0)),200)","v":200},null,{"$f":"IFERROR(INDEX($AA$12:$AG$12,MATCH(TRUE, AA172:AG172 >= 4, 0)),200)","v":200},null,null,null,null,null,null,null,null,null,null,{"$f":"MAX(IF(ISERROR(E173:E176),0,E173:E176))","v":0},{"$f":"MAX(IF(ISERROR(F173:F176),0,F173:F176))","v":0},{"$f":"MAX(IF(ISERROR(G173:G176),0,G173:G176))","v":0},{"$f":"MAX(IF(ISERROR(H173:H176),0,H173:H176))","v":0},{"$f":"MAX(IF(ISERROR(I173:I176),0,I173:I176))","v":0},{"$f":"MAX(IF(ISERROR(J173:J176),0,J173:J176))","v":0},{"$f":"MAX(IF(ISERROR(K173:K176),0,K173:K176))","v":0}]
[null,null,null,{"$f":"'[2]Consequence Criteria'!$A$8","v":0},{"$f":"VALUE((IF('2-Impact Assessment '!E173=\"vl\",\"1\",(IF('2-Impact Assessment '!E173=\"l\",\"2\",(IF('2-Impact Assessment '!E173=\"m\",\"3\",(IF('2-Impact Assessment '!E173=\"h\",\"4\",(IF('2-Impact Assessment '!E173=\"vh\",\"5\", NA())))))))))))","v":{"$error":"#N/A"}},{"$f":"VALUE((IF('2-Impact Assessment '!F173=\"vl\",\"1\",(IF('2-Impact Assessment '!F173=\"l\",\"2\",(IF('2-Impact Assessment '!F173=\"m\",\"3\",(IF('2-Impact Assessment '!F173=\"h\",\"4\",(IF('2-Impact Assessment '!F173=\"vh\",\"5\", NA())))))))))))","v":{"$error":"#N/A"}},{"$f":"VALUE((IF('2-Impact Assessment '!G173=\"vl\",\"1\",(IF('2-Impact Assessment '!G173=\"l\",\"2\",(IF('2-Impact Assessment '!G173=\"m\",\"3\",(IF('2-Impact Assessment '!G173=\"h\",\"4\",(IF('2-Impact Assessment '!G173=\"vh\",\"5\", NA())))))))))))","v":{"$error":"#N/A"}},{"$f":"VALUE((IF('2-Impact Assessment '!H173=\"vl\",\"1\",(IF('2-Impact Assessment '!H173=\"l\",\"2\",(IF('2-Impact Assessment '!H173=\"m\",\"3\",(IF('2-Impact Assessment '!H173=\"h\",\"4\",(IF('2-Impact Assessment '!H173=\"vh\",\"5\", NA())))))))))))","v":{"$error":"#N/A"}},{"$f":"VALUE((IF('2-Impact Assessment '!I173=\"vl\",\"1\",(IF('2-Impact Assessment '!I173=\"l\",\"2\",(IF('2-Impact Assessment '!I173=\"m\",\"3\",(IF('2-Impact Assessment '!I173=\"h\",\"4\",(IF('2-Impact Assessment '!I173=\"vh\",\"5\", NA())))))))))))","v":{"$error":"#N/A"}},{"$f":"VALUE((IF('2-Impact Assessment '!J173=\"vl\",\"1\",(IF('2-Impact Assessment '!J173=\"l\",\"2\",(IF('2-Impact Assessment '!J173=\"m\",\"3\",(IF('2-Impact Assessment '!J173=\"h\",\"4\",(IF('2-Impact Assessment '!J173=\"vh\",\"5\", NA())))))))))))","v":{"$error":"#N/A"}},{"$f":"VALUE((IF('2-Impact Assessment '!K173=\"vl\",\"1\",(IF('2-Impact Assessment '!K173=\"l\",\"2\",(IF('2-Impact Assessment '!K173=\"m\",\"3\",(IF('2-Impact Assessment '!K173=\"h\",\"4\",(IF('2-Impact Assessment '!K173=\"vh\",\"5\", NA())))))))))))","v":{"$error":"#N/A"}},null,null,{"$f":"IFERROR(INDEX($AA$12:$AG$12,MATCH(TRUE, AA173:AG173 >= 3, 0)),200)","v":200},null,{"$f":"IFERROR(INDEX($AA$12:$AG$12,MATCH(TRUE, AA173:AG173 >= 4, 0)),200)","v":200},null,null,null,null,null,null,null,null,null,null,{"$f":"MAX(IF(ISERROR(E174:E177),0,E174:E177))","v":0},{"$f":"MAX(IF(ISERROR(F174:F177),0,F174:F177))","v":0},{"$f":"MAX(IF(ISERROR(G174:G177),0,G174:G177))","v":0},{"$f":"MAX(IF(ISERROR(H174:H177),0,H174:H177))","v":0},{"$f":"MAX(IF(ISERROR(I174:I177),0,I174:I177))","v":0},{"$f":"MAX(IF(ISERROR(J174:J177),0,J174:J177))","v":0},{"$f":"MAX(IF(ISERROR(K174:K177),0,K174:K177))","v":0}]
[null,null,null,{"$f":"'[2]Consequence Criteria'!$A$9","v":0},{"$f":"VALUE((IF('2-Impact Assessment '!E174=\"vl\",\"1\",(IF('2-Impact Assessment '!E174=\"l\",\"2\",(IF('2-Impact Assessment '!E174=\"m\",\"3\",(IF('2-Impact Assessment '!E174=\"h\",\"4\",(IF('2-Impact Assessment '!E174=\"vh\",\"5\", NA())))))))))))","v":{"$error":"#N/A"}},{"$f":"VALUE((IF('2-Impact Assessment '!F174=\"vl\",\"1\",(IF('2-Impact Assessment '!F174=\"l\",\"2\",(IF('2-Impact Assessment '!F174=\"m\",\"3\",(IF('2-Impact Assessment '!F174=\"h\",\"4\",(IF('2-Impact Assessment '!F174=\"vh\",\"5\", NA())))))))))))","v":{"$error":"#N/A"}},{"$f":"VALUE((IF('2-Impact Assessment '!G174=\"vl\",\"1\",(IF('2-Impact Assessment '!G174=\"l\",\"2\",(IF('2-Impact Assessment '!G174=\"m\",\"3\",(IF('2-Impact Assessment '!G174=\"h\",\"4\",(IF('2-Impact Assessment '!G174=\"vh\",\"5\", NA())))))))))))","v":{"$error":"#N/A"}},{"$f":"VALUE((IF('2-Impact Assessment '!H174=\"vl\",\"1\",(IF('2-Impact Assessment '!H174=\"l\",\"2\",(IF('2-Impact Assessment '!H174=\"m\",\"3\",(IF('2-Impact Assessment '!H174=\"h\",\"4\",(IF('2-Impact Assessment '!H174=\"vh\",\"5\", NA())))))))))))","v":{"$error":"#N/A"}},{"$f":"VALUE((IF('2-Impact Assessment '!I174=\"vl\",\"1\",(IF('2-Impact Assessment '!I174=\"l\",\"2\",(IF('2-Impact Assessment '!I174=\"m\",\"3\",(IF('2-Impact Assessment '!I174=\"h\",\"4\",(IF('2-Impact Assessment '!I174=\"vh\",\"5\", NA())))))))))))","v":{"$error":"#N/A"}},{"$f":"VALUE((IF('2-Impact Assessment '!J174=\"vl\",\"1\",(IF('2-Impact Assessment '!J174=\"l\",\"2\",(IF('2-Impact Assessment '!J174=\"m\",\"3\",(IF('2-Impact Assessment '!J174=\"h\",\"4\",(IF('2-Impact Assessment '!J174=\"vh\",\"5\", NA())))))))))))","v":{"$error":"#N/A"}},{"$f":"VALUE((IF('2-Impact Assessment '!K174=\"vl\",\"1\",(IF('2-Impact Assessment '!K174=\"l\",\"2\",(IF('2-Impact Assessment '!K174=\"m\",\"3\",(IF('2-Impact Assessment '!K174=\"h\",\"4\",(IF('2-Impact Assessment '!K174=\"vh\",\"5\", NA())))))))))))","v":{"$error":"#N/A"}},null,null,{"$f":"IFERROR(INDEX($AA$12:$AG$12,MATCH(TRUE, AA174:AG174 >= 3, 0)),200)","v":200},null,{"$f":"IFERROR(INDEX($AA$12:$AG$12,MATCH(TRUE, AA174:AG174 >= 4, 0)),200)","v":200},null,null,null,null,null,null,null,null,null,null,{"$f":"MAX(IF(ISERROR(E175:E178),0,E175:E178))","v":0},{"$f":"MAX(IF(ISERROR(F175:F178),0,F175:F178))","v":0},{"$f":"MAX(IF(ISERROR(G175:G178),0,G175:G178))","v":0},{"$f":"MAX(IF(ISERROR(H175:H178),0,H175:H178))","v":0},{"$f":"MAX(IF(ISERROR(I175:I178),0,I175:I178))","v":0},{"$f":"MAX(IF(ISERROR(J175:J178),0,J175:J178))","v":0},{"$f":"MAX(IF(ISERROR(K175:K178),0,K175:K178))","v":0}]
[null,null,null,{"$f":"'[2]Consequence Criteria'!$A$10","v":0},{"$f":"VALUE((IF('2-Impact Assessment '!E175=\"vl\",\"1\",(IF('2-Impact Assessment '!E175=\"l\",\"2\",(IF('2-Impact Assessment '!E175=\"m\",\"3\",(IF('2-Impact Assessment '!E175=\"h\",\"4\",(IF('2-Impact Assessment '!E175=\"vh\",\"5\", NA())))))))))))","v":{"$error":"#N/A"}},{"$f":"VALUE((IF('2-Impact Assessment '!F175=\"vl\",\"1\",(IF('2-Impact Assessment '!F175=\"l\",\"2\",(IF('2-Impact Assessment '!F175=\"m\",\"3\",(IF('2-Impact Assessment '!F175=\"h\",\"4\",(IF('2-Impact Assessment '!F175=\"vh\",\"5\", NA())))))))))))","v":{"$error":"#N/A"}},{"$f":"VALUE((IF('2-Impact Assessment '!G175=\"vl\",\"1\",(IF('2-Impact Assessment '!G175=\"l\",\"2\",(IF('2-Impact Assessment '!G175=\"m\",\"3\",(IF('2-Impact Assessment '!G175=\"h\",\"4\",(IF('2-Impact Assessment '!G175=\"vh\",\"5\", NA())))))))))))","v":{"$error":"#N/A"}},{"$f":"VALUE((IF('2-Impact Assessment '!H175=\"vl\",\"1\",(IF('2-Impact Assessment '!H175=\"l\",\"2\",(IF('2-Impact Assessment '!H175=\"m\",\"3\",(IF('2-Impact Assessment '!H175=\"h\",\"4\",(IF('2-Impact Assessment '!H175=\"vh\",\"5\", NA())))))))))))","v":{"$error":"#N/A"}},{"$f":"VALUE((IF('2-Impact Assessment '!I175=\"vl\",\"1\",(IF('2-Impact Assessment '!I175=\"l\",\"2\",(IF('2-Impact Assessment '!I175=\"m\",\"3\",(IF('2-Impact Assessment '!I175=\"h\",\"4\",(IF('2-Impact Assessment '!I175=\"vh\",\"5\", NA())))))))))))","v":{"$error":"#N/A"}},{"$f":"VALUE((IF('2-Impact Assessment '!J175=\"vl\",\"1\",(IF('2-Impact Assessment '!J175=\"l\",\"2\",(IF('2-Impact Assessment '!J175=\"m\",\"3\",(IF('2-Impact Assessment '!J175=\"h\",\"4\",(IF('2-Impact Assessment '!J175=\"vh\",\"5\", NA())))))))))))","v":{"$error":"#N/A"}},{"$f":"VALUE((IF('2-Impact Assessment '!K175=\"vl\",\"1\",(IF('2-Impact Assessment '!K175=\"l\",\"2\",(IF('2-Impact Assessment '!K175=\"m\",\"3\",(IF('2-Impact Assessment '!K175=\"h\",\"4\",(IF('2-Impact Assessment '!K175=\"vh\",\"5\", NA())))))))))))","v":{"$error":"#N/A"}},null,null,{"$f":"IFERROR(INDEX($AA$12:$AG$12,MATCH(TRUE, AA175:AG175 >= 3, 0)),200)","v":200},null,{"$f":"IFERROR(INDEX($AA$12:$AG$12,MATCH(TRUE, AA175:AG175 >= 4, 0)),200)","v":200},null,null,null,null,null,null,null,null,null,null,{"$f":"MAX(IF(ISERROR(E176:E179),0,E176:E179))","v":0},{"$f":"MAX(IF(ISERROR(F176:F179),0,F176:F179))","v":0},{"$f":"MAX(IF(ISERROR(G176:G179),0,G176:G179))","v":0},{"$f":"MAX(IF(ISERROR(H176:H179),0,H176:H179))","v":0},{"$f":"MAX(IF(ISERROR(I176:I179),0,I176:I179))","v":0},{"$f":"MAX(IF(ISERROR(J176:J179),0,J176:J179))","v":0},{"$f":"MAX(IF(ISERROR(K176:K179),0,K176:K179))","v":0}]
[null,{"$f":"IF(ISTEXT('1-Services & Function'!D48),'1-Services & Function'!D48,\"\")","v":""},19,null,"1 hr","4 hr","1 day","2 days","5 days","1 month","> 6 months","Comments",null,{"$f":"IFERROR(INDEX($AA$12:$AG$12,MATCH(TRUE, AA176:AG176 >= 3, 0)),200)","v":200},null,{"$f":"IFERROR(INDEX($AA$12:$AG$12,MATCH(TRUE, AA176:AG176 >= 4, 0)),200)","v":200},null,null,null,null,null,null,null,null,null,null,{"$f":"MAX(IF(ISERROR(E177:E180),0,E177:E180))","v":0},{"$f":"MAX(IF(ISERROR(F177:F180),0,F177:F180))","v":0},{"$f":"MAX(IF(ISERROR(G177:G180),0,G177:G180))","v":0},{"$f":"MAX(IF(ISERROR(H177:H180),0,H177:H180))","v":0},{"$f":"MAX(IF(ISERROR(I177:I180),0,I177:I180))","v":0},{"$f":"MAX(IF(ISERROR(J177:J180),0,J177:J180))","v":0},{"$f":"MAX(IF(ISERROR(K177:K180),0,K177:K180))","v":0}]
[null,null,null,{"$f":"'[2]Consequence Criteria'!$A$3","v":"Economic"},{"$f":"VALUE((IF('2-Impact Assessment '!E177=\"vl\",\"1\",(IF('2-Impact Assessment '!E177=\"l\",\"2\",(IF('2-Impact Assessment '!E177=\"m\",\"3\",(IF('2-Impact Assessment '!E177=\"h\",\"4\",(IF('2-Impact Assessment '!E177=\"vh\",\"5\", NA())))))))))))","v":{"$error":"#N/A"}},{"$f":"VALUE((IF('2-Impact Assessment '!F177=\"vl\",\"1\",(IF('2-Impact Assessment '!F177=\"l\",\"2\",(IF('2-Impact Assessment '!F177=\"m\",\"3\",(IF('2-Impact Assessment '!F177=\"h\",\"4\",(IF('2-Impact Assessment '!F177=\"vh\",\"5\", NA())))))))))))","v":{"$error":"#N/A"}},{"$f":"VALUE((IF('2-Impact Assessment '!G177=\"vl\",\"1\",(IF('2-Impact Assessment '!G177=\"l\",\"2\",(IF('2-Impact Assessment '!G177=\"m\",\"3\",(IF('2-Impact Assessment '!G177=\"h\",\"4\",(IF('2-Impact Assessment '!G177=\"vh\",\"5\", NA())))))))))))","v":{"$error":"#N/A"}},{"$f":"VALUE((IF('2-Impact Assessment '!H177=\"vl\",\"1\",(IF('2-Impact Assessment '!H177=\"l\",\"2\",(IF('2-Impact Assessment '!H177=\"m\",\"3\",(IF('2-Impact Assessment '!H177=\"h\",\"4\",(IF('2-Impact Assessment '!H177=\"vh\",\"5\", NA())))))))))))","v":{"$error":"#N/A"}},{"$f":"VALUE((IF('2-Impact Assessment '!I177=\"vl\",\"1\",(IF('2-Impact Assessment '!I177=\"l\",\"2\",(IF('2-Impact Assessment '!I177=\"m\",\"3\",(IF('2-Impact Assessment '!I177=\"h\",\"4\",(IF('2-Impact Assessment '!I177=\"vh\",\"5\", NA())))))))))))","v":{"$error":"#N/A"}},{"$f":"VALUE((IF('2-Impact Assessment '!J177=\"vl\",\"1\",(IF('2-Impact Assessment '!J177=\"l\",\"2\",(IF('2-Impact Assessment '!J177=\"m\",\"3\",(IF('2-Impact Assessment '!J177=\"h\",\"4\",(IF('2-Impact Assessment '!J177=\"vh\",\"5\", NA())))))))))))","v":{"$error":"#N/A"}},{"$f":"VALUE((IF('2-Impact Assessment '!K177=\"vl\",\"1\",(IF('2-Impact Assessment '!K177=\"l\",\"2\",(IF('2-Impact Assessment '!K177=\"m\",\"3\",(IF('2-Impact Assessment '!K177=\"h\",\"4\",(IF('2-Impact Assessment '!K177=\"vh\",\"5\", NA())))))))))))","v":{"$error":"#N/A"}},null,null,{"$f":"IFERROR(INDEX($AA$12:$AG$12,MATCH(TRUE, AA177:AG177 >= 3, 0)),200)","v":200},null,{"$f":"IFERROR(INDEX($AA$12:$AG$12,MATCH(TRUE, AA177:AG177 >= 4, 0)),200)","v":200},null,null,null,null,null,null,null,null,null,null,{"$f":"MAX(IF(ISERROR(E178:E181),0,E178:E181))","v":0},{"$f":"MAX(IF(ISERROR(F178:F181),0,F178:F181))","v":0},{"$f":"MAX(IF(ISERROR(G178:G181),0,G178:G181))","v":0},{"$f":"MAX(IF(ISERROR(H178:H181),0,H178:H181))","v":0},{"$f":"MAX(IF(ISERROR(I178:I181),0,I178:I181))","v":0},{"$f":"MAX(IF(ISERROR(J178:J181),0,J178:J181))","v":0},{"$f":"MAX(IF(ISERROR(K178:K181),0,K178:K181))","v":0}]
[null,null,null,{"$f":"'[2]Consequence Criteria'!$A$4","v":"Social"},{"$f":"VALUE((IF('2-Impact Assessment '!E178=\"vl\",\"1\",(IF('2-Impact Assessment '!E178=\"l\",\"2\",(IF('2-Impact Assessment '!E178=\"m\",\"3\",(IF('2-Impact Assessment '!E178=\"h\",\"4\",(IF('2-Impact Assessment '!E178=\"vh\",\"5\", NA())))))))))))","v":{"$error":"#N/A"}},{"$f":"VALUE((IF('2-Impact Assessment '!F178=\"vl\",\"1\",(IF('2-Impact Assessment '!F178=\"l\",\"2\",(IF('2-Impact Assessment '!F178=\"m\",\"3\",(IF('2-Impact Assessment '!F178=\"h\",\"4\",(IF('2-Impact Assessment '!F178=\"vh\",\"5\", NA())))))))))))","v":{"$error":"#N/A"}},{"$f":"VALUE((IF('2-Impact Assessment '!G178=\"vl\",\"1\",(IF('2-Impact Assessment '!G178=\"l\",\"2\",(IF('2-Impact Assessment '!G178=\"m\",\"3\",(IF('2-Impact Assessment '!G178=\"h\",\"4\",(IF('2-Impact Assessment '!G178=\"vh\",\"5\", NA())))))))))))","v":{"$error":"#N/A"}},{"$f":"VALUE((IF('2-Impact Assessment '!H178=\"vl\",\"1\",(IF('2-Impact Assessment '!H178=\"l\",\"2\",(IF('2-Impact Assessment '!H178=\"m\",\"3\",(IF('2-Impact Assessment '!H178=\"h\",\"4\",(IF('2-Impact Assessment '!H178=\"vh\",\"5\", NA())))))))))))","v":{"$error":"#N/A"}},{"$f":"VALUE((IF('2-Impact Assessment '!I178=\"vl\",\"1\",(IF('2-Impact Assessment '!I178=\"l\",\"2\",(IF('2-Impact Assessment '!I178=\"m\",\"3\",(IF('2-Impact Assessment '!I178=\"h\",\"4\",(IF('2-Impact Assessment '!I178=\"vh\",\"5\", NA())))))))))))","v":{"$error":"#N/A"}},{"$f":"VALUE((IF('2-Impact Assessment '!J178=\"vl\",\"1\",(IF('2-Impact Assessment '!J178=\"l\",\"2\",(IF('2-Impact Assessment '!J178=\"m\",\"3\",(IF('2-Impact Assessment '!J178=\"h\",\"4\",(IF('2-Impact Assessment '!J178=\"vh\",\"5\", NA())))))))))))","v":{"$error":"#N/A"}},{"$f":"VALUE((IF('2-Impact Assessment '!K178=\"vl\",\"1\",(IF('2-Impact Assessment '!K178=\"l\",\"2\",(IF('2-Impact Assessment '!K178=\"m\",\"3\",(IF('2-Impact Assessment '!K178=\"h\",\"4\",(IF('2-Impact Assessment '!K178=\"vh\",\"5\", NA())))))))))))","v":{"$error":"#N/A"}},null,null,{"$f":"IFERROR(INDEX($AA$12:$AG$12,MATCH(TRUE, AA178:AG178 >= 3, 0)),200)","v":200},null,{"$f":"IFERROR(INDEX($AA$12:$AG$12,MATCH(TRUE, AA178:AG178 >= 4, 0)),200)","v":200},null,null,null,null,null,null,null,null,null,null,{"$f":"MAX(IF(ISERROR(E179:E182),0,E179:E182))","v":0},{"$f":"MAX(IF(ISERROR(F179:F182),0,F179:F182))","v":0},{"$f":"MAX(IF(ISERROR(G179:G182),0,G179:G182))","v":0},{"$f":"MAX(IF(ISERROR(H179:H182),0,H179:H182))","v":0},{"$f":"MAX(IF(ISERROR(I179:I182),0,I179:I182))","v":0},{"$f":"MAX(IF(ISERROR(J179:J182),0,J179:J182))","v":0},{"$f":"MAX(IF(ISERROR(K179:K182),0,K179:K182))","v":0}]
[null,null,null,{"$f":"'[2]Consequence Criteria'!$A$5","v":"Cultural"},{"$f":"VALUE((IF('2-Impact Assessment '!E179=\"vl\",\"1\",(IF('2-Impact Assessment '!E179=\"l\",\"2\",(IF('2-Impact Assessment '!E179=\"m\",\"3\",(IF('2-Impact Assessment '!E179=\"h\",\"4\",(IF('2-Impact Assessment '!E179=\"vh\",\"5\", NA())))))))))))","v":{"$error":"#N/A"}},{"$f":"VALUE((IF('2-Impact Assessment '!F179=\"vl\",\"1\",(IF('2-Impact Assessment '!F179=\"l\",\"2\",(IF('2-Impact Assessment '!F179=\"m\",\"3\",(IF('2-Impact Assessment '!F179=\"h\",\"4\",(IF('2-Impact Assessment '!F179=\"vh\",\"5\", NA())))))))))))","v":{"$error":"#N/A"}},{"$f":"VALUE((IF('2-Impact Assessment '!G179=\"vl\",\"1\",(IF('2-Impact Assessment '!G179=\"l\",\"2\",(IF('2-Impact Assessment '!G179=\"m\",\"3\",(IF('2-Impact Assessment '!G179=\"h\",\"4\",(IF('2-Impact Assessment '!G179=\"vh\",\"5\", NA())))))))))))","v":{"$error":"#N/A"}},{"$f":"VALUE((IF('2-Impact Assessment '!H179=\"vl\",\"1\",(IF('2-Impact Assessment '!H179=\"l\",\"2\",(IF('2-Impact Assessment '!H179=\"m\",\"3\",(IF('2-Impact Assessment '!H179=\"h\",\"4\",(IF('2-Impact Assessment '!H179=\"vh\",\"5\", NA())))))))))))","v":{"$error":"#N/A"}},{"$f":"VALUE((IF('2-Impact Assessment '!I179=\"vl\",\"1\",(IF('2-Impact Assessment '!I179=\"l\",\"2\",(IF('2-Impact Assessment '!I179=\"m\",\"3\",(IF('2-Impact Assessment '!I179=\"h\",\"4\",(IF('2-Impact Assessment '!I179=\"vh\",\"5\", NA())))))))))))","v":{"$error":"#N/A"}},{"$f":"VALUE((IF('2-Impact Assessment '!J179=\"vl\",\"1\",(IF('2-Impact Assessment '!J179=\"l\",\"2\",(IF('2-Impact Assessment '!J179=\"m\",\"3\",(IF('2-Impact Assessment '!J179=\"h\",\"4\",(IF('2-Impact Assessment '!J179=\"vh\",\"5\", NA())))))))))))","v":{"$error":"#N/A"}},{"$f":"VALUE((IF('2-Impact Assessment '!K179=\"vl\",\"1\",(IF('2-Impact Assessment '!K179=\"l\",\"2\",(IF('2-Impact Assessment '!K179=\"m\",\"3\",(IF('2-Impact Assessment '!K179=\"h\",\"4\",(IF('2-Impact Assessment '!K179=\"vh\",\"5\", NA())))))))))))","v":{"$error":"#N/A"}},null,null,{"$f":"IFERROR(INDEX($AA$12:$AG$12,MATCH(TRUE, AA179:AG179 >= 3, 0)),200)","v":200},null,{"$f":"IFERROR(INDEX($AA$12:$AG$12,MATCH(TRUE, AA179:AG179 >= 4, 0)),200)","v":200},null,null,null,null,null,null,null,null,null,null,{"$f":"MAX(IF(ISERROR(E180:E183),0,E180:E183))","v":0},{"$f":"MAX(IF(ISERROR(F180:F183),0,F180:F183))","v":0},{"$f":"MAX(IF(ISERROR(G180:G183),0,G180:G183))","v":0},{"$f":"MAX(IF(ISERROR(H180:H183),0,H180:H183))","v":0},{"$f":"MAX(IF(ISERROR(I180:I183),0,I180:I183))","v":0},{"$f":"MAX(IF(ISERROR(J180:J183),0,J180:J183))","v":0},{"$f":"MAX(IF(ISERROR(K180:K183),0,K180:K183))","v":0}]
[null,null,null,{"$f":"'[2]Consequence Criteria'!$A$6","v":"Environmental"},{"$f":"VALUE((IF('2-Impact Assessment '!E180=\"vl\",\"1\",(IF('2-Impact Assessment '!E180=\"l\",\"2\",(IF('2-Impact Assessment '!E180=\"m\",\"3\",(IF('2-Impact Assessment '!E180=\"h\",\"4\",(IF('2-Impact Assessment '!E180=\"vh\",\"5\", NA())))))))))))","v":{"$error":"#N/A"}},{"$f":"VALUE((IF('2-Impact Assessment '!F180=\"vl\",\"1\",(IF('2-Impact Assessment '!F180=\"l\",\"2\",(IF('2-Impact Assessment '!F180=\"m\",\"3\",(IF('2-Impact Assessment '!F180=\"h\",\"4\",(IF('2-Impact Assessment '!F180=\"vh\",\"5\", NA())))))))))))","v":{"$error":"#N/A"}},{"$f":"VALUE((IF('2-Impact Assessment '!G180=\"vl\",\"1\",(IF('2-Impact Assessment '!G180=\"l\",\"2\",(IF('2-Impact Assessment '!G180=\"m\",\"3\",(IF('2-Impact Assessment '!G180=\"h\",\"4\",(IF('2-Impact Assessment '!G180=\"vh\",\"5\", NA())))))))))))","v":{"$error":"#N/A"}},{"$f":"VALUE((IF('2-Impact Assessment '!H180=\"vl\",\"1\",(IF('2-Impact Assessment '!H180=\"l\",\"2\",(IF('2-Impact Assessment '!H180=\"m\",\"3\",(IF('2-Impact Assessment '!H180=\"h\",\"4\",(IF('2-Impact Assessment '!H180=\"vh\",\"5\", NA())))))))))))","v":{"$error":"#N/A"}},{"$f":"VALUE((IF('2-Impact Assessment '!I180=\"vl\",\"1\",(IF('2-Impact Assessment '!I180=\"l\",\"2\",(IF('2-Impact Assessment '!I180=\"m\",\"3\",(IF('2-Impact Assessment '!I180=\"h\",\"4\",(IF('2-Impact Assessment '!I180=\"vh\",\"5\", NA())))))))))))","v":{"$error":"#N/A"}},{"$f":"VALUE((IF('2-Impact Assessment '!J180=\"vl\",\"1\",(IF('2-Impact Assessment '!J180=\"l\",\"2\",(IF('2-Impact Assessment '!J180=\"m\",\"3\",(IF('2-Impact Assessment '!J180=\"h\",\"4\",(IF('2-Impact Assessment '!J180=\"vh\",\"5\", NA())))))))))))","v":{"$error":"#N/A"}},{"$f":"VALUE((IF('2-Impact Assessment '!K180=\"vl\",\"1\",(IF('2-Impact Assessment '!K180=\"l\",\"2\",(IF('2-Impact Assessment '!K180=\"m\",\"3\",(IF('2-Impact Assessment '!K180=\"h\",\"4\",(IF('2-Impact Assessment '!K180=\"vh\",\"5\", NA())))))))))))","v":{"$error":"#N/A"}},null,null,{"$f":"IFERROR(INDEX($AA$12:$AG$12,MATCH(TRUE, AA180:AG180 >= 3, 0)),200)","v":200},null,{"$f":"IFERROR(INDEX($AA$12:$AG$12,MATCH(TRUE, AA180:AG180 >= 4, 0)),200)","v":200},null,null,null,null,null,null,null,null,null,null,{"$f":"MAX(IF(ISERROR(E181:E184),0,E181:E184))","v":0},{"$f":"MAX(IF(ISERROR(F181:F184),0,F181:F184))","v":0},{"$f":"MAX(IF(ISERROR(G181:G184),0,G181:G184))","v":0},{"$f":"MAX(IF(ISERROR(H181:H184),0,H181:H184))","v":0},{"$f":"MAX(IF(ISERROR(I181:I184),0,I181:I184))","v":0},{"$f":"MAX(IF(ISERROR(J181:J184),0,J181:J184))","v":0},{"$f":"MAX(IF(ISERROR(K181:K184),0,K181:K184))","v":0}]
[null,null,null,{"$f":"'[2]Consequence Criteria'!$A$7","v":0},{"$f":"VALUE((IF('2-Impact Assessment '!E181=\"vl\",\"1\",(IF('2-Impact Assessment '!E181=\"l\",\"2\",(IF('2-Impact Assessment '!E181=\"m\",\"3\",(IF('2-Impact Assessment '!E181=\"h\",\"4\",(IF('2-Impact Assessment '!E181=\"vh\",\"5\", NA())))))))))))","v":{"$error":"#N/A"}},{"$f":"VALUE((IF('2-Impact Assessment '!F181=\"vl\",\"1\",(IF('2-Impact Assessment '!F181=\"l\",\"2\",(IF('2-Impact Assessment '!F181=\"m\",\"3\",(IF('2-Impact Assessment '!F181=\"h\",\"4\",(IF('2-Impact Assessment '!F181=\"vh\",\"5\", NA())))))))))))","v":{"$error":"#N/A"}},{"$f":"VALUE((IF('2-Impact Assessment '!G181=\"vl\",\"1\",(IF('2-Impact Assessment '!G181=\"l\",\"2\",(IF('2-Impact Assessment '!G181=\"m\",\"3\",(IF('2-Impact Assessment '!G181=\"h\",\"4\",(IF('2-Impact Assessment '!G181=\"vh\",\"5\", NA())))))))))))","v":{"$error":"#N/A"}},{"$f":"VALUE((IF('2-Impact Assessment '!H181=\"vl\",\"1\",(IF('2-Impact Assessment '!H181=\"l\",\"2\",(IF('2-Impact Assessment '!H181=\"m\",\"3\",(IF('2-Impact Assessment '!H181=\"h\",\"4\",(IF('2-Impact Assessment '!H181=\"vh\",\"5\", NA())))))))))))","v":{"$error":"#N/A"}},{"$f":"VALUE((IF('2-Impact Assessment '!I181=\"vl\",\"1\",(IF('2-Impact Assessment '!I181=\"l\",\"2\",(IF('2-Impact Assessment '!I181=\"m\",\"3\",(IF('2-Impact Assessment '!I181=\"h\",\"4\",(IF('2-Impact Assessment '!I181=\"vh\",\"5\", NA())))))))))))","v":{"$error":"#N/A"}},{"$f":"VALUE((IF('2-Impact Assessment '!J181=\"vl\",\"1\",(IF('2-Impact Assessment '!J181=\"l\",\"2\",(IF('2-Impact Assessment '!J181=\"m\",\"3\",(IF('2-Impact Assessment '!J181=\"h\",\"4\",(IF('2-Impact Assessment '!J181=\"vh\",\"5\", NA())))))))))))","v":{"$error":"#N/A"}},{"$f":"VALUE((IF('2-Impact Assessment '!K181=\"vl\",\"1\",(IF('2-Impact Assessment '!K181=\"l\",\"2\",(IF('2-Impact Assessment '!K181=\"m\",\"3\",(IF('2-Impact Assessment '!K181=\"h\",\"4\",(IF('2-Impact Assessment '!K181=\"vh\",\"5\", NA())))))))))))","v":{"$error":"#N/A"}},null,null,{"$f":"IFERROR(INDEX($AA$12:$AG$12,MATCH(TRUE, AA181:AG181 >= 3, 0)),200)","v":200},null,{"$f":"IFERROR(INDEX($AA$12:$AG$12,MATCH(TRUE, AA181:AG181 >= 4, 0)),200)","v":200},null,null,null,null,null,null,null,null,null,null,{"$f":"MAX(IF(ISERROR(E182:E185),0,E182:E185))","v":0},{"$f":"MAX(IF(ISERROR(F182:F185),0,F182:F185))","v":0},{"$f":"MAX(IF(ISERROR(G182:G185),0,G182:G185))","v":0},{"$f":"MAX(IF(ISERROR(H182:H185),0,H182:H185))","v":0},{"$f":"MAX(IF(ISERROR(I182:I185),0,I182:I185))","v":0},{"$f":"MAX(IF(ISERROR(J182:J185),0,J182:J185))","v":0},{"$f":"MAX(IF(ISERROR(K182:K185),0,K182:K185))","v":0}]
[null,null,null,{"$f":"'[2]Consequence Criteria'!$A$8","v":0},{"$f":"VALUE((IF('2-Impact Assessment '!E182=\"vl\",\"1\",(IF('2-Impact Assessment '!E182=\"l\",\"2\",(IF('2-Impact Assessment '!E182=\"m\",\"3\",(IF('2-Impact Assessment '!E182=\"h\",\"4\",(IF('2-Impact Assessment '!E182=\"vh\",\"5\", NA())))))))))))","v":{"$error":"#N/A"}},{"$f":"VALUE((IF('2-Impact Assessment '!F182=\"vl\",\"1\",(IF('2-Impact Assessment '!F182=\"l\",\"2\",(IF('2-Impact Assessment '!F182=\"m\",\"3\",(IF('2-Impact Assessment '!F182=\"h\",\"4\",(IF('2-Impact Assessment '!F182=\"vh\",\"5\", NA())))))))))))","v":{"$error":"#N/A"}},{"$f":"VALUE((IF('2-Impact Assessment '!G182=\"vl\",\"1\",(IF('2-Impact Assessment '!G182=\"l\",\"2\",(IF('2-Impact Assessment '!G182=\"m\",\"3\",(IF('2-Impact Assessment '!G182=\"h\",\"4\",(IF('2-Impact Assessment '!G182=\"vh\",\"5\", NA())))))))))))","v":{"$error":"#N/A"}},{"$f":"VALUE((IF('2-Impact Assessment '!H182=\"vl\",\"1\",(IF('2-Impact Assessment '!H182=\"l\",\"2\",(IF('2-Impact Assessment '!H182=\"m\",\"3\",(IF('2-Impact Assessment '!H182=\"h\",\"4\",(IF('2-Impact Assessment '!H182=\"vh\",\"5\", NA())))))))))))","v":{"$error":"#N/A"}},{"$f":"VALUE((IF('2-Impact Assessment '!I182=\"vl\",\"1\",(IF('2-Impact Assessment '!I182=\"l\",\"2\",(IF('2-Impact Assessment '!I182=\"m\",\"3\",(IF('2-Impact Assessment '!I182=\"h\",\"4\",(IF('2-Impact Assessment '!I182=\"vh\",\"5\", NA())))))))))))","v":{"$error":"#N/A"}},{"$f":"VALUE((IF('2-Impact Assessment '!J182=\"vl\",\"1\",(IF('2-Impact Assessment '!J182=\"l\",\"2\",(IF('2-Impact Assessment '!J182=\"m\",\"3\",(IF('2-Impact Assessment '!J182=\"h\",\"4\",(IF('2-Impact Assessment '!J182=\"vh\",\"5\", NA())))))))))))","v":{"$error":"#N/A"}},{"$f":"VALUE((IF('2-Impact Assessment '!K182=\"vl\",\"1\",(IF('2-Impact Assessment '!K182=\"l\",\"2\",(IF('2-Impact Assessment '!K182=\"m\",\"3\",(IF('2-Impact Assessment '!K182=\"h\",\"4\",(IF('2-Impact Assessment '!K182=\"vh\",\"5\", NA())))))))))))","v":{"$error":"#N/A"}},null,null,{"$f":"IFERROR(INDEX($AA$12:$AG$12,MATCH(TRUE, AA182:AG182 >= 3, 0)),200)","v":200},null,{"$f":"IFERROR(INDEX($AA$12:$AG$12,MATCH(TRUE, AA182:AG182 >= 4, 0)),200)","v":200},null,null,null,null,null,null,null,null,null,null,{"$f":"MAX(IF(ISERROR(E183:E186),0,E183:E186))","v":0},{"$f":"MAX(IF(ISERROR(F183:F186),0,F183:F186))","v":0},{"$f":"MAX(IF(ISERROR(G183:G186),0,G183:G186))","v":0},{"$f":"MAX(IF(ISERROR(H183:H186),0,H183:H186))","v":0},{"$f":"MAX(IF(ISERROR(I183:I186),0,I183:I186))","v":0},{"$f":"MAX(IF(ISERROR(J183:J186),0,J183:J186))","v":0},{"$f":"MAX(IF(ISERROR(K183:K186),0,K183:K186))","v":0}]
[null,null,null,{"$f":"'[2]Consequence Criteria'!$A$9","v":0},{"$f":"VALUE((IF('2-Impact Assessment '!E183=\"vl\",\"1\",(IF('2-Impact Assessment '!E183=\"l\",\"2\",(IF('2-Impact Assessment '!E183=\"m\",\"3\",(IF('2-Impact Assessment '!E183=\"h\",\"4\",(IF('2-Impact Assessment '!E183=\"vh\",\"5\", NA())))))))))))","v":{"$error":"#N/A"}},{"$f":"VALUE((IF('2-Impact Assessment '!F183=\"vl\",\"1\",(IF('2-Impact Assessment '!F183=\"l\",\"2\",(IF('2-Impact Assessment '!F183=\"m\",\"3\",(IF('2-Impact Assessment '!F183=\"h\",\"4\",(IF('2-Impact Assessment '!F183=\"vh\",\"5\", NA())))))))))))","v":{"$error":"#N/A"}},{"$f":"VALUE((IF('2-Impact Assessment '!G183=\"vl\",\"1\",(IF('2-Impact Assessment '!G183=\"l\",\"2\",(IF('2-Impact Assessment '!G183=\"m\",\"3\",(IF('2-Impact Assessment '!G183=\"h\",\"4\",(IF('2-Impact Assessment '!G183=\"vh\",\"5\", NA())))))))))))","v":{"$error":"#N/A"}},{"$f":"VALUE((IF('2-Impact Assessment '!H183=\"vl\",\"1\",(IF('2-Impact Assessment '!H183=\"l\",\"2\",(IF('2-Impact Assessment '!H183=\"m\",\"3\",(IF('2-Impact Assessment '!H183=\"h\",\"4\",(IF('2-Impact Assessment '!H183=\"vh\",\"5\", NA())))))))))))","v":{"$error":"#N/A"}},{"$f":"VALUE((IF('2-Impact Assessment '!I183=\"vl\",\"1\",(IF('2-Impact Assessment '!I183=\"l\",\"2\",(IF('2-Impact Assessment '!I183=\"m\",\"3\",(IF('2-Impact Assessment '!I183=\"h\",\"4\",(IF('2-Impact Assessment '!I183=\"vh\",\"5\", NA())))))))))))","v":{"$error":"#N/A"}},{"$f":"VALUE((IF('2-Impact Assessment '!J183=\"vl\",\"1\",(IF('2-Impact Assessment '!J183=\"l\",\"2\",(IF('2-Impact Assessment '!J183=\"m\",\"3\",(IF('2-Impact Assessment '!J183=\"h\",\"4\",(IF('2-Impact Assessment '!J183=\"vh\",\"5\", NA())))))))))))","v":{"$error":"#N/A"}},{"$f":"VALUE((IF('2-Impact Assessment '!K183=\"vl\",\"1\",(IF('2-Impact Assessment '!K183=\"l\",\"2\",(IF('2-Impact Assessment '!K183=\"m\",\"3\",(IF('2-Impact Assessment '!K183=\"h\",\"4\",(IF('2-Impact Assessment '!K183=\"vh\",\"5\", NA())))))))))))","v":{"$error":"#N/A"}},null,null,{"$f":"IFERROR(INDEX($AA$12:$AG$12,MATCH(TRUE, AA183:AG183 >= 3, 0)),200)","v":200},null,{"$f":"IFERROR(INDEX($AA$12:$AG$12,MATCH(TRUE, AA183:AG183 >= 4, 0)),200)","v":200},null,null,null,null,null,null,null,null,null,null,{"$f":"MAX(IF(ISERROR(E184:E187),0,E184:E187))","v":0},{"$f":"MAX(IF(ISERROR(F184:F187),0,F184:F187))","v":0},{"$f":"MAX(IF(ISERROR(G184:G187),0,G184:G187))","v":0},{"$f":"MAX(IF(ISERROR(H184:H187),0,H184:H187))","v":0},{"$f":"MAX(IF(ISERROR(I184:I187),0,I184:I187))","v":0},{"$f":"MAX(IF(ISERROR(J184:J187),0,J184:J187))","v":0},{"$f":"MAX(IF(ISERROR(K184:K187),0,K184:K187))","v":0}]
[null,null,null,{"$f":"'[2]Consequence Criteria'!$A$10","v":0},{"$f":"VALUE((IF('2-Impact Assessment '!E184=\"vl\",\"1\",(IF('2-Impact Assessment '!E184=\"l\",\"2\",(IF('2-Impact Assessment '!E184=\"m\",\"3\",(IF('2-Impact Assessment '!E184=\"h\",\"4\",(IF('2-Impact Assessment '!E184=\"vh\",\"5\", NA())))))))))))","v":{"$error":"#N/A"}},{"$f":"VALUE((IF('2-Impact Assessment '!F184=\"vl\",\"1\",(IF('2-Impact Assessment '!F184=\"l\",\"2\",(IF('2-Impact Assessment '!F184=\"m\",\"3\",(IF('2-Impact Assessment '!F184=\"h\",\"4\",(IF('2-Impact Assessment '!F184=\"vh\",\"5\", NA())))))))))))","v":{"$error":"#N/A"}},{"$f":"VALUE((IF('2-Impact Assessment '!G184=\"vl\",\"1\",(IF('2-Impact Assessment '!G184=\"l\",\"2\",(IF('2-Impact Assessment '!G184=\"m\",\"3\",(IF('2-Impact Assessment '!G184=\"h\",\"4\",(IF('2-Impact Assessment '!G184=\"vh\",\"5\", NA())))))))))))","v":{"$error":"#N/A"}},{"$f":"VALUE((IF('2-Impact Assessment '!H184=\"vl\",\"1\",(IF('2-Impact Assessment '!H184=\"l\",\"2\",(IF('2-Impact Assessment '!H184=\"m\",\"3\",(IF('2-Impact Assessment '!H184=\"h\",\"4\",(IF('2-Impact Assessment '!H184=\"vh\",\"5\", NA())))))))))))","v":{"$error":"#N/A"}},{"$f":"VALUE((IF('2-Impact Assessment '!I184=\"vl\",\"1\",(IF('2-Impact Assessment '!I184=\"l\",\"2\",(IF('2-Impact Assessment '!I184=\"m\",\"3\",(IF('2-Impact Assessment '!I184=\"h\",\"4\",(IF('2-Impact Assessment '!I184=\"vh\",\"5\", NA())))))))))))","v":{"$error":"#N/A"}},{"$f":"VALUE((IF('2-Impact Assessment '!J184=\"vl\",\"1\",(IF('2-Impact Assessment '!J184=\"l\",\"2\",(IF('2-Impact Assessment '!J184=\"m\",\"3\",(IF('2-Impact Assessment '!J184=\"h\",\"4\",(IF('2-Impact Assessment '!J184=\"vh\",\"5\", NA())))))))))))","v":{"$error":"#N/A"}},{"$f":"VALUE((IF('2-Impact Assessment '!K184=\"vl\",\"1\",(IF('2-Impact Assessment '!K184=\"l\",\"2\",(IF('2-Impact Assessment '!K184=\"m\",\"3\",(IF('2-Impact Assessment '!K184=\"h\",\"4\",(IF('2-Impact Assessment '!K184=\"vh\",\"5\", NA())))))))))))","v":{"$error":"#N/A"}},null,null,{"$f":"IFERROR(INDEX($AA$12:$AG$12,MATCH(TRUE, AA184:AG184 >= 3, 0)),200)","v":200},null,{"$f":"IFERROR(INDEX($AA$12:$AG$12,MATCH(TRUE, AA184:AG184 >= 4, 0)),200)","v":200},null,null,null,null,null,null,null,null,null,null,{"$f":"MAX(IF(ISERROR(E185:E188),0,E185:E188))","v":0},{"$f":"MAX(IF(ISERROR(F185:F188),0,F185:F188))","v":0},{"$f":"MAX(IF(ISERROR(G185:G188),0,G185:G188))","v":0},{"$f":"MAX(IF(ISERROR(H185:H188),0,H185:H188))","v":0},{"$f":"MAX(IF(ISERROR(I185:I188),0,I185:I188))","v":0},{"$f":"MAX(IF(ISERROR(J185:J188),0,J185:J188))","v":0},{"$f":"MAX(IF(ISERROR(K185:K188),0,K185:K188))","v":0}]
[null,{"$f":"IF(ISTEXT('1-Services & Function'!D49),'1-Services & Function'!D49,\"\")","v":""},20,null,"1 hr","4 hr","1 day","2 days","5 days","1 month","> 6 months","Comments",null,{"$f":"IFERROR(INDEX($AA$12:$AG$12,MATCH(TRUE, AA185:AG185 >= 3, 0)),200)","v":200},null,{"$f":"IFERROR(INDEX($AA$12:$AG$12,MATCH(TRUE, AA185:AG185 >= 4, 0)),200)","v":200},null,null,null,null,null,null,null,null,null,null,{"$f":"MAX(IF(ISERROR(E186:E189),0,E186:E189))","v":0},{"$f":"MAX(IF(ISERROR(F186:F189),0,F186:F189))","v":0},{"$f":"MAX(IF(ISERROR(G186:G189),0,G186:G189))","v":0},{"$f":"MAX(IF(ISERROR(H186:H189),0,H186:H189))","v":0},{"$f":"MAX(IF(ISERROR(I186:I189),0,I186:I189))","v":0},{"$f":"MAX(IF(ISERROR(J186:J189),0,J186:J189))","v":0},{"$f":"MAX(IF(ISERROR(K186:K189),0,K186:K189))","v":0}]
[null,null,null,{"$f":"'[2]Consequence Criteria'!$A$3","v":"Economic"},{"$f":"VALUE((IF('2-Impact Assessment '!E186=\"vl\",\"1\",(IF('2-Impact Assessment '!E186=\"l\",\"2\",(IF('2-Impact Assessment '!E186=\"m\",\"3\",(IF('2-Impact Assessment '!E186=\"h\",\"4\",(IF('2-Impact Assessment '!E186=\"vh\",\"5\", NA())))))))))))","v":{"$error":"#N/A"}},{"$f":"VALUE((IF('2-Impact Assessment '!F186=\"vl\",\"1\",(IF('2-Impact Assessment '!F186=\"l\",\"2\",(IF('2-Impact Assessment '!F186=\"m\",\"3\",(IF('2-Impact Assessment '!F186=\"h\",\"4\",(IF('2-Impact Assessment '!F186=\"vh\",\"5\", NA())))))))))))","v":{"$error":"#N/A"}},{"$f":"VALUE((IF('2-Impact Assessment '!G186=\"vl\",\"1\",(IF('2-Impact Assessment '!G186=\"l\",\"2\",(IF('2-Impact Assessment '!G186=\"m\",\"3\",(IF('2-Impact Assessment '!G186=\"h\",\"4\",(IF('2-Impact Assessment '!G186=\"vh\",\"5\", NA())))))))))))","v":{"$error":"#N/A"}},{"$f":"VALUE((IF('2-Impact Assessment '!H186=\"vl\",\"1\",(IF('2-Impact Assessment '!H186=\"l\",\"2\",(IF('2-Impact Assessment '!H186=\"m\",\"3\",(IF('2-Impact Assessment '!H186=\"h\",\"4\",(IF('2-Impact Assessment '!H186=\"vh\",\"5\", NA())))))))))))","v":{"$error":"#N/A"}},{"$f":"VALUE((IF('2-Impact Assessment '!I186=\"vl\",\"1\",(IF('2-Impact Assessment '!I186=\"l\",\"2\",(IF('2-Impact Assessment '!I186=\"m\",\"3\",(IF('2-Impact Assessment '!I186=\"h\",\"4\",(IF('2-Impact Assessment '!I186=\"vh\",\"5\", NA())))))))))))","v":{"$error":"#N/A"}},{"$f":"VALUE((IF('2-Impact Assessment '!J186=\"vl\",\"1\",(IF('2-Impact Assessment '!J186=\"l\",\"2\",(IF('2-Impact Assessment '!J186=\"m\",\"3\",(IF('2-Impact Assessment '!J186=\"h\",\"4\",(IF('2-Impact Assessment '!J186=\"vh\",\"5\", NA())))))))))))","v":{"$error":"#N/A"}},{"$f":"VALUE((IF('2-Impact Assessment '!K186=\"vl\",\"1\",(IF('2-Impact Assessment '!K186=\"l\",\"2\",(IF('2-Impact Assessment '!K186=\"m\",\"3\",(IF('2-Impact Assessment '!K186=\"h\",\"4\",(IF('2-Impact Assessment '!K186=\"vh\",\"5\", NA())))))))))))","v":{"$error":"#N/A"}},null,null,{"$f":"IFERROR(INDEX($AA$12:$AG$12,MATCH(TRUE, AA186:AG186 >= 3, 0)),200)","v":200},null,{"$f":"IFERROR(INDEX($AA$12:$AG$12,MATCH(TRUE, AA186:AG186 >= 4, 0)),200)","v":200},null,null,null,null,null,null,null,null,null,null,{"$f":"MAX(IF(ISERROR(E187:E190),0,E187:E190))","v":0},{"$f":"MAX(IF(ISERROR(F187:F190),0,F187:F190))","v":0},{"$f":"MAX(IF(ISERROR(G187:G190),0,G187:G190))","v":0},{"$f":"MAX(IF(ISERROR(H187:H190),0,H187:H190))","v":0},{"$f":"MAX(IF(ISERROR(I187:I190),0,I187:I190))","v":0},{"$f":"MAX(IF(ISERROR(J187:J190),0,J187:J190))","v":0},{"$f":"MAX(IF(ISERROR(K187:K190),0,K187:K190))","v":0}]
[null,null,null,{"$f":"'[2]Consequence Criteria'!$A$4","v":"Social"},{"$f":"VALUE((IF('2-Impact Assessment '!E187=\"vl\",\"1\",(IF('2-Impact Assessment '!E187=\"l\",\"2\",(IF('2-Impact Assessment '!E187=\"m\",\"3\",(IF('2-Impact Assessment '!E187=\"h\",\"4\",(IF('2-Impact Assessment '!E187=\"vh\",\"5\", NA())))))))))))","v":{"$error":"#N/A"}},{"$f":"VALUE((IF('2-Impact Assessment '!F187=\"vl\",\"1\",(IF('2-Impact Assessment '!F187=\"l\",\"2\",(IF('2-Impact Assessment '!F187=\"m\",\"3\",(IF('2-Impact Assessment '!F187=\"h\",\"4\",(IF('2-Impact Assessment '!F187=\"vh\",\"5\", NA())))))))))))","v":{"$error":"#N/A"}},{"$f":"VALUE((IF('2-Impact Assessment '!G187=\"vl\",\"1\",(IF('2-Impact Assessment '!G187=\"l\",\"2\",(IF('2-Impact Assessment '!G187=\"m\",\"3\",(IF('2-Impact Assessment '!G187=\"h\",\"4\",(IF('2-Impact Assessment '!G187=\"vh\",\"5\", NA())))))))))))","v":{"$error":"#N/A"}},{"$f":"VALUE((IF('2-Impact Assessment '!H187=\"vl\",\"1\",(IF('2-Impact Assessment '!H187=\"l\",\"2\",(IF('2-Impact Assessment '!H187=\"m\",\"3\",(IF('2-Impact Assessment '!H187=\"h\",\"4\",(IF('2-Impact Assessment '!H187=\"vh\",\"5\", NA())))))))))))","v":{"$error":"#N/A"}},{"$f":"VALUE((IF('2-Impact Assessment '!I187=\"vl\",\"1\",(IF('2-Impact Assessment '!I187=\"l\",\"2\",(IF('2-Impact Assessment '!I187=\"m\",\"3\",(IF('2-Impact Assessment '!I187=\"h\",\"4\",(IF('2-Impact Assessment '!I187=\"vh\",\"5\", NA())))))))))))","v":{"$error":"#N/A"}},{"$f":"VALUE((IF('2-Impact Assessment '!J187=\"vl\",\"1\",(IF('2-Impact Assessment '!J187=\"l\",\"2\",(IF('2-Impact Assessment '!J187=\"m\",\"3\",(IF('2-Impact Assessment '!J187=\"h\",\"4\",(IF('2-Impact Assessment '!J187=\"vh\",\"5\", NA())))))))))))","v":{"$error":"#N/A"}},{"$f":"VALUE((IF('2-Impact Assessment '!K187=\"vl\",\"1\",(IF('2-Impact Assessment '!K187=\"l\",\"2\",(IF('2-Impact Assessment '!K187=\"m\",\"3\",(IF('2-Impact Assessment '!K187=\"h\",\"4\",(IF('2-Impact Assessment '!K187=\"vh\",\"5\", NA())))))))))))","v":{"$error":"#N/A"}},null,null,{"$f":"IFERROR(INDEX($AA$12:$AG$12,MATCH(TRUE, AA187:AG187 >= 3, 0)),200)","v":200},null,{"$f":"IFERROR(INDEX($AA$12:$AG$12,MATCH(TRUE, AA187:AG187 >= 4, 0)),200)","v":200},null,null,null,null,null,null,null,null,null,null,{"$f":"MAX(IF(ISERROR(E188:E191),0,E188:E191))","v":0},{"$f":"MAX(IF(ISERROR(F188:F191),0,F188:F191))","v":0},{"$f":"MAX(IF(ISERROR(G188:G191),0,G188:G191))","v":0},{"$f":"MAX(IF(ISERROR(H188:H191),0,H188:H191))","v":0},{"$f":"MAX(IF(ISERROR(I188:I191),0,I188:I191))","v":0},{"$f":"MAX(IF(ISERROR(J188:J191),0,J188:J191))","v":0},{"$f":"MAX(IF(ISERROR(K188:K191),0,K188:K191))","v":0}]
[null,null,null,{"$f":"'[2]Consequence Criteria'!$A$5","v":"Cultural"},{"$f":"VALUE((IF('2-Impact Assessment '!E188=\"vl\",\"1\",(IF('2-Impact Assessment '!E188=\"l\",\"2\",(IF('2-Impact Assessment '!E188=\"m\",\"3\",(IF('2-Impact Assessment '!E188=\"h\",\"4\",(IF('2-Impact Assessment '!E188=\"vh\",\"5\", NA())))))))))))","v":{"$error":"#N/A"}},{"$f":"VALUE((IF('2-Impact Assessment '!F188=\"vl\",\"1\",(IF('2-Impact Assessment '!F188=\"l\",\"2\",(IF('2-Impact Assessment '!F188=\"m\",\"3\",(IF('2-Impact Assessment '!F188=\"h\",\"4\",(IF('2-Impact Assessment '!F188=\"vh\",\"5\", NA())))))))))))","v":{"$error":"#N/A"}},{"$f":"VALUE((IF('2-Impact Assessment '!G188=\"vl\",\"1\",(IF('2-Impact Assessment '!G188=\"l\",\"2\",(IF('2-Impact Assessment '!G188=\"m\",\"3\",(IF('2-Impact Assessment '!G188=\"h\",\"4\",(IF('2-Impact Assessment '!G188=\"vh\",\"5\", NA())))))))))))","v":{"$error":"#N/A"}},{"$f":"VALUE((IF('2-Impact Assessment '!H188=\"vl\",\"1\",(IF('2-Impact Assessment '!H188=\"l\",\"2\",(IF('2-Impact Assessment '!H188=\"m\",\"3\",(IF('2-Impact Assessment '!H188=\"h\",\"4\",(IF('2-Impact Assessment '!H188=\"vh\",\"5\", NA())))))))))))","v":{"$error":"#N/A"}},{"$f":"VALUE((IF('2-Impact Assessment '!I188=\"vl\",\"1\",(IF('2-Impact Assessment '!I188=\"l\",\"2\",(IF('2-Impact Assessment '!I188=\"m\",\"3\",(IF('2-Impact Assessment '!I188=\"h\",\"4\",(IF('2-Impact Assessment '!I188=\"vh\",\"5\", NA())))))))))))","v":{"$error":"#N/A"}},{"$f":"VALUE((IF('2-Impact Assessment '!J188=\"vl\",\"1\",(IF('2-Impact Assessment '!J188=\"l\",\"2\",(IF('2-Impact Assessment '!J188=\"m\",\"3\",(IF('2-Impact Assessment '!J188=\"h\",\"4\",(IF('2-Impact Assessment '!J188=\"vh\",\"5\", NA())))))))))))","v":{"$error":"#N/A"}},{"$f":"VALUE((IF('2-Impact Assessment '!K188=\"vl\",\"1\",(IF('2-Impact Assessment '!K188=\"l\",\"2\",(IF('2-Impact Assessment '!K188=\"m\",\"3\",(IF('2-Impact Assessment '!K188=\"h\",\"4\",(IF('2-Impact Assessment '!K188=\"vh\",\"5\", NA())))))))))))","v":{"$error":"#N/A"}},null,null,{"$f":"IFERROR(INDEX($AA$12:$AG$12,MATCH(TRUE, AA188:AG188 >= 3, 0)),200)","v":200},null,{"$f":"IFERROR(INDEX($AA$12:$AG$12,MATCH(TRUE, AA188:AG188 >= 4, 0)),200)","v":200},null,null,null,null,null,null,null,null,null,null,{"$f":"MAX(IF(ISERROR(E189:E192),0,E189:E192))","v":0},{"$f":"MAX(IF(ISERROR(F189:F192),0,F189:F192))","v":0},{"$f":"MAX(IF(ISERROR(G189:G192),0,G189:G192))","v":0},{"$f":"MAX(IF(ISERROR(H189:H192),0,H189:H192))","v":0},{"$f":"MAX(IF(ISERROR(I189:I192),0,I189:I192))","v":0},{"$f":"MAX(IF(ISERROR(J189:J192),0,J189:J192))","v":0},{"$f":"MAX(IF(ISERROR(K189:K192),0,K189:K192))","v":0}]
[null,null,null,{"$f":"'[2]Consequence Criteria'!$A$6","v":"Environmental"},{"$f":"VALUE((IF('2-Impact Assessment '!E189=\"vl\",\"1\",(IF('2-Impact Assessment '!E189=\"l\",\"2\",(IF('2-Impact Assessment '!E189=\"m\",\"3\",(IF('2-Impact Assessment '!E189=\"h\",\"4\",(IF('2-Impact Assessment '!E189=\"vh\",\"5\", NA())))))))))))","v":{"$error":"#N/A"}},{"$f":"VALUE((IF('2-Impact Assessment '!F189=\"vl\",\"1\",(IF('2-Impact Assessment '!F189=\"l\",\"2\",(IF('2-Impact Assessment '!F189=\"m\",\"3\",(IF('2-Impact Assessment '!F189=\"h\",\"4\",(IF('2-Impact Assessment '!F189=\"vh\",\"5\", NA())))))))))))","v":{"$error":"#N/A"}},{"$f":"VALUE((IF('2-Impact Assessment '!G189=\"vl\",\"1\",(IF('2-Impact Assessment '!G189=\"l\",\"2\",(IF('2-Impact Assessment '!G189=\"m\",\"3\",(IF('2-Impact Assessment '!G189=\"h\",\"4\",(IF('2-Impact Assessment '!G189=\"vh\",\"5\", NA())))))))))))","v":{"$error":"#N/A"}},{"$f":"VALUE((IF('2-Impact Assessment '!H189=\"vl\",\"1\",(IF('2-Impact Assessment '!H189=\"l\",\"2\",(IF('2-Impact Assessment '!H189=\"m\",\"3\",(IF('2-Impact Assessment '!H189=\"h\",\"4\",(IF('2-Impact Assessment '!H189=\"vh\",\"5\", NA())))))))))))","v":{"$error":"#N/A"}},{"$f":"VALUE((IF('2-Impact Assessment '!I189=\"vl\",\"1\",(IF('2-Impact Assessment '!I189=\"l\",\"2\",(IF('2-Impact Assessment '!I189=\"m\",\"3\",(IF('2-Impact Assessment '!I189=\"h\",\"4\",(IF('2-Impact Assessment '!I189=\"vh\",\"5\", NA())))))))))))","v":{"$error":"#N/A"}},{"$f":"VALUE((IF('2-Impact Assessment '!J189=\"vl\",\"1\",(IF('2-Impact Assessment '!J189=\"l\",\"2\",(IF('2-Impact Assessment '!J189=\"m\",\"3\",(IF('2-Impact Assessment '!J189=\"h\",\"4\",(IF('2-Impact Assessment '!J189=\"vh\",\"5\", NA())))))))))))","v":{"$error":"#N/A"}},{"$f":"VALUE((IF('2-Impact Assessment '!K189=\"vl\",\"1\",(IF('2-Impact Assessment '!K189=\"l\",\"2\",(IF('2-Impact Assessment '!K189=\"m\",\"3\",(IF('2-Impact Assessment '!K189=\"h\",\"4\",(IF('2-Impact Assessment '!K189=\"vh\",\"5\", NA())))))))))))","v":{"$error":"#N/A"}},null,null,{"$f":"IFERROR(INDEX($AA$12:$AG$12,MATCH(TRUE, AA189:AG189 >= 3, 0)),200)","v":200},null,{"$f":"IFERROR(INDEX($AA$12:$AG$12,MATCH(TRUE, AA189:AG189 >= 4, 0)),200)","v":200},null,null,null,null,null,null,null,null,null,null,{"$f":"MAX(IF(ISERROR(E190:E193),0,E190:E193))","v":0},{"$f":"MAX(IF(ISERROR(F190:F193),0,F190:F193))","v":0},{"$f":"MAX(IF(ISERROR(G190:G193),0,G190:G193))","v":0},{"$f":"MAX(IF(ISERROR(H190:H193),0,H190:H193))","v":0},{"$f":"MAX(IF(ISERROR(I190:I193),0,I190:I193))","v":0},{"$f":"MAX(IF(ISERROR(J190:J193),0,J190:J193))","v":0},{"$f":"MAX(IF(ISERROR(K190:K193),0,K190:K193))","v":0}]
[null,null,null,{"$f":"'[2]Consequence Criteria'!$A$7","v":0},{"$f":"VALUE((IF('2-Impact Assessment '!E190=\"vl\",\"1\",(IF('2-Impact Assessment '!E190=\"l\",\"2\",(IF('2-Impact Assessment '!E190=\"m\",\"3\",(IF('2-Impact Assessment '!E190=\"h\",\"4\",(IF('2-Impact Assessment '!E190=\"vh\",\"5\", NA())))))))))))","v":{"$error":"#N/A"}},{"$f":"VALUE((IF('2-Impact Assessment '!F190=\"vl\",\"1\",(IF('2-Impact Assessment '!F190=\"l\",\"2\",(IF('2-Impact Assessment '!F190=\"m\",\"3\",(IF('2-Impact Assessment '!F190=\"h\",\"4\",(IF('2-Impact Assessment '!F190=\"vh\",\"5\", NA())))))))))))","v":{"$error":"#N/A"}},{"$f":"VALUE((IF('2-Impact Assessment '!G190=\"vl\",\"1\",(IF('2-Impact Assessment '!G190=\"l\",\"2\",(IF('2-Impact Assessment '!G190=\"m\",\"3\",(IF('2-Impact Assessment '!G190=\"h\",\"4\",(IF('2-Impact Assessment '!G190=\"vh\",\"5\", NA())))))))))))","v":{"$error":"#N/A"}},{"$f":"VALUE((IF('2-Impact Assessment '!H190=\"vl\",\"1\",(IF('2-Impact Assessment '!H190=\"l\",\"2\",(IF('2-Impact Assessment '!H190=\"m\",\"3\",(IF('2-Impact Assessment '!H190=\"h\",\"4\",(IF('2-Impact Assessment '!H190=\"vh\",\"5\", NA())))))))))))","v":{"$error":"#N/A"}},{"$f":"VALUE((IF('2-Impact Assessment '!I190=\"vl\",\"1\",(IF('2-Impact Assessment '!I190=\"l\",\"2\",(IF('2-Impact Assessment '!I190=\"m\",\"3\",(IF('2-Impact Assessment '!I190=\"h\",\"4\",(IF('2-Impact Assessment '!I190=\"vh\",\"5\", NA())))))))))))","v":{"$error":"#N/A"}},{"$f":"VALUE((IF('2-Impact Assessment '!J190=\"vl\",\"1\",(IF('2-Impact Assessment '!J190=\"l\",\"2\",(IF('2-Impact Assessment '!J190=\"m\",\"3\",(IF('2-Impact Assessment '!J190=\"h\",\"4\",(IF('2-Impact Assessment '!J190=\"vh\",\"5\", NA())))))))))))","v":{"$error":"#N/A"}},{"$f":"VALUE((IF('2-Impact Assessment '!K190=\"vl\",\"1\",(IF('2-Impact Assessment '!K190=\"l\",\"2\",(IF('2-Impact Assessment '!K190=\"m\",\"3\",(IF('2-Impact Assessment '!K190=\"h\",\"4\",(IF('2-Impact Assessment '!K190=\"vh\",\"5\", NA())))))))))))","v":{"$error":"#N/A"}},null,null,{"$f":"IFERROR(INDEX($AA$12:$AG$12,MATCH(TRUE, AA190:AG190 >= 3, 0)),200)","v":200},null,{"$f":"IFERROR(INDEX($AA$12:$AG$12,MATCH(TRUE, AA190:AG190 >= 4, 0)),200)","v":200},null,null,null,null,null,null,null,null,null,null,{"$f":"MAX(IF(ISERROR(E191:E194),0,E191:E194))","v":0},{"$f":"MAX(IF(ISERROR(F191:F194),0,F191:F194))","v":0},{"$f":"MAX(IF(ISERROR(G191:G194),0,G191:G194))","v":0},{"$f":"MAX(IF(ISERROR(H191:H194),0,H191:H194))","v":0},{"$f":"MAX(IF(ISERROR(I191:I194),0,I191:I194))","v":0},{"$f":"MAX(IF(ISERROR(J191:J194),0,J191:J194))","v":0},{"$f":"MAX(IF(ISERROR(K191:K194),0,K191:K194))","v":0}]
[null,null,null,{"$f":"'[2]Consequence Criteria'!$A$8","v":0},{"$f":"VALUE((IF('2-Impact Assessment '!E191=\"vl\",\"1\",(IF('2-Impact Assessment '!E191=\"l\",\"2\",(IF('2-Impact Assessment '!E191=\"m\",\"3\",(IF('2-Impact Assessment '!E191=\"h\",\"4\",(IF('2-Impact Assessment '!E191=\"vh\",\"5\", NA())))))))))))","v":{"$error":"#N/A"}},{"$f":"VALUE((IF('2-Impact Assessment '!F191=\"vl\",\"1\",(IF('2-Impact Assessment '!F191=\"l\",\"2\",(IF('2-Impact Assessment '!F191=\"m\",\"3\",(IF('2-Impact Assessment '!F191=\"h\",\"4\",(IF('2-Impact Assessment '!F191=\"vh\",\"5\", NA())))))))))))","v":{"$error":"#N/A"}},{"$f":"VALUE((IF('2-Impact Assessment '!G191=\"vl\",\"1\",(IF('2-Impact Assessment '!G191=\"l\",\"2\",(IF('2-Impact Assessment '!G191=\"m\",\"3\",(IF('2-Impact Assessment '!G191=\"h\",\"4\",(IF('2-Impact Assessment '!G191=\"vh\",\"5\", NA())))))))))))","v":{"$error":"#N/A"}},{"$f":"VALUE((IF('2-Impact Assessment '!H191=\"vl\",\"1\",(IF('2-Impact Assessment '!H191=\"l\",\"2\",(IF('2-Impact Assessment '!H191=\"m\",\"3\",(IF('2-Impact Assessment '!H191=\"h\",\"4\",(IF('2-Impact Assessment '!H191=\"vh\",\"5\", NA())))))))))))","v":{"$error":"#N/A"}},{"$f":"VALUE((IF('2-Impact Assessment '!I191=\"vl\",\"1\",(IF('2-Impact Assessment '!I191=\"l\",\"2\",(IF('2-Impact Assessment '!I191=\"m\",\"3\",(IF('2-Impact Assessment '!I191=\"h\",\"4\",(IF('2-Impact Assessment '!I191=\"vh\",\"5\", NA())))))))))))","v":{"$error":"#N/A"}},{"$f":"VALUE((IF('2-Impact Assessment '!J191=\"vl\",\"1\",(IF('2-Impact Assessment '!J191=\"l\",\"2\",(IF('2-Impact Assessment '!J191=\"m\",\"3\",(IF('2-Impact Assessment '!J191=\"h\",\"4\",(IF('2-Impact Assessment '!J191=\"vh\",\"5\", NA())))))))))))","v":{"$error":"#N/A"}},{"$f":"VALUE((IF('2-Impact Assessment '!K191=\"vl\",\"1\",(IF('2-Impact Assessment '!K191=\"l\",\"2\",(IF('2-Impact Assessment '!K191=\"m\",\"3\",(IF('2-Impact Assessment '!K191=\"h\",\"4\",(IF('2-Impact Assessment '!K191=\"vh\",\"5\", NA())))))))))))","v":{"$error":"#N/A"}},null,null,{"$f":"IFERROR(INDEX($AA$12:$AG$12,MATCH(TRUE, AA191:AG191 >= 3, 0)),200)","v":200},null,{"$f":"IFERROR(INDEX($AA$12:$AG$12,MATCH(TRUE, AA191:AG191 >= 4, 0)),200)","v":200},null,null,null,null,null,null,null,null,null,null,{"$f":"MAX(IF(ISERROR(E192:E195),0,E192:E195))","v":0},{"$f":"MAX(IF(ISERROR(F192:F195),0,F192:F195))","v":0},{"$f":"MAX(IF(ISERROR(G192:G195),0,G192:G195))","v":0},{"$f":"MAX(IF(ISERROR(H192:H195),0,H192:H195))","v":0},{"$f":"MAX(IF(ISERROR(I192:I195),0,I192:I195))","v":0},{"$f":"MAX(IF(ISERROR(J192:J195),0,J192:J195))","v":0},{"$f":"MAX(IF(ISERROR(K192:K195),0,K192:K195))","v":0}]
[null,null,null,{"$f":"'[2]Consequence Criteria'!$A$9","v":0},{"$f":"VALUE((IF('2-Impact Assessment '!E192=\"vl\",\"1\",(IF('2-Impact Assessment '!E192=\"l\",\"2\",(IF('2-Impact Assessment '!E192=\"m\",\"3\",(IF('2-Impact Assessment '!E192=\"h\",\"4\",(IF('2-Impact Assessment '!E192=\"vh\",\"5\", NA())))))))))))","v":{"$error":"#N/A"}},{"$f":"VALUE((IF('2-Impact Assessment '!F192=\"vl\",\"1\",(IF('2-Impact Assessment '!F192=\"l\",\"2\",(IF('2-Impact Assessment '!F192=\"m\",\"3\",(IF('2-Impact Assessment '!F192=\"h\",\"4\",(IF('2-Impact Assessment '!F192=\"vh\",\"5\", NA())))))))))))","v":{"$error":"#N/A"}},{"$f":"VALUE((IF('2-Impact Assessment '!G192=\"vl\",\"1\",(IF('2-Impact Assessment '!G192=\"l\",\"2\",(IF('2-Impact Assessment '!G192=\"m\",\"3\",(IF('2-Impact Assessment '!G192=\"h\",\"4\",(IF('2-Impact Assessment '!G192=\"vh\",\"5\", NA())))))))))))","v":{"$error":"#N/A"}},{"$f":"VALUE((IF('2-Impact Assessment '!H192=\"vl\",\"1\",(IF('2-Impact Assessment '!H192=\"l\",\"2\",(IF('2-Impact Assessment '!H192=\"m\",\"3\",(IF('2-Impact Assessment '!H192=\"h\",\"4\",(IF('2-Impact Assessment '!H192=\"vh\",\"5\", NA())))))))))))","v":{"$error":"#N/A"}},{"$f":"VALUE((IF('2-Impact Assessment '!I192=\"vl\",\"1\",(IF('2-Impact Assessment '!I192=\"l\",\"2\",(IF('2-Impact Assessment '!I192=\"m\",\"3\",(IF('2-Impact Assessment '!I192=\"h\",\"4\",(IF('2-Impact Assessment '!I192=\"vh\",\"5\", NA())))))))))))","v":{"$error":"#N/A"}},{"$f":"VALUE((IF('2-Impact Assessment '!J192=\"vl\",\"1\",(IF('2-Impact Assessment '!J192=\"l\",\"2\",(IF('2-Impact Assessment '!J192=\"m\",\"3\",(IF('2-Impact Assessment '!J192=\"h\",\"4\",(IF('2-Impact Assessment '!J192=\"vh\",\"5\", NA())))))))))))","v":{"$error":"#N/A"}},{"$f":"VALUE((IF('2-Impact Assessment '!K192=\"vl\",\"1\",(IF('2-Impact Assessment '!K192=\"l\",\"2\",(IF('2-Impact Assessment '!K192=\"m\",\"3\",(IF('2-Impact Assessment '!K192=\"h\",\"4\",(IF('2-Impact Assessment '!K192=\"vh\",\"5\", NA())))))))))))","v":{"$error":"#N/A"}},null,null,{"$f":"IFERROR(INDEX($AA$12:$AG$12,MATCH(TRUE, AA192:AG192 >= 3, 0)),200)","v":200},null,{"$f":"IFERROR(INDEX($AA$12:$AG$12,MATCH(TRUE, AA192:AG192 >= 4, 0)),200)","v":200},null,null,null,null,null,null,null,null,null,null,{"$f":"MAX(IF(ISERROR(E193:E196),0,E193:E196))","v":0},{"$f":"MAX(IF(ISERROR(F193:F196),0,F193:F196))","v":0},{"$f":"MAX(IF(ISERROR(G193:G196),0,G193:G196))","v":0},{"$f":"MAX(IF(ISERROR(H193:H196),0,H193:H196))","v":0},{"$f":"MAX(IF(ISERROR(I193:I196),0,I193:I196))","v":0},{"$f":"MAX(IF(ISERROR(J193:J196),0,J193:J196))","v":0},{"$f":"MAX(IF(ISERROR(K193:K196),0,K193:K196))","v":0}]
[null,null,null,{"$f":"'[2]Consequence Criteria'!$A$10","v":0},{"$f":"VALUE((IF('2-Impact Assessment '!E193=\"vl\",\"1\",(IF('2-Impact Assessment '!E193=\"l\",\"2\",(IF('2-Impact Assessment '!E193=\"m\",\"3\",(IF('2-Impact Assessment '!E193=\"h\",\"4\",(IF('2-Impact Assessment '!E193=\"vh\",\"5\", NA())))))))))))","v":{"$error":"#N/A"}},{"$f":"VALUE((IF('2-Impact Assessment '!F193=\"vl\",\"1\",(IF('2-Impact Assessment '!F193=\"l\",\"2\",(IF('2-Impact Assessment '!F193=\"m\",\"3\",(IF('2-Impact Assessment '!F193=\"h\",\"4\",(IF('2-Impact Assessment '!F193=\"vh\",\"5\", NA())))))))))))","v":{"$error":"#N/A"}},{"$f":"VALUE((IF('2-Impact Assessment '!G193=\"vl\",\"1\",(IF('2-Impact Assessment '!G193=\"l\",\"2\",(IF('2-Impact Assessment '!G193=\"m\",\"3\",(IF('2-Impact Assessment '!G193=\"h\",\"4\",(IF('2-Impact Assessment '!G193=\"vh\",\"5\", NA())))))))))))","v":{"$error":"#N/A"}},{"$f":"VALUE((IF('2-Impact Assessment '!H193=\"vl\",\"1\",(IF('2-Impact Assessment '!H193=\"l\",\"2\",(IF('2-Impact Assessment '!H193=\"m\",\"3\",(IF('2-Impact Assessment '!H193=\"h\",\"4\",(IF('2-Impact Assessment '!H193=\"vh\",\"5\", NA())))))))))))","v":{"$error":"#N/A"}},{"$f":"VALUE((IF('2-Impact Assessment '!I193=\"vl\",\"1\",(IF('2-Impact Assessment '!I193=\"l\",\"2\",(IF('2-Impact Assessment '!I193=\"m\",\"3\",(IF('2-Impact Assessment '!I193=\"h\",\"4\",(IF('2-Impact Assessment '!I193=\"vh\",\"5\", NA())))))))))))","v":{"$error":"#N/A"}},{"$f":"VALUE((IF('2-Impact Assessment '!J193=\"vl\",\"1\",(IF('2-Impact Assessment '!J193=\"l\",\"2\",(IF('2-Impact Assessment '!J193=\"m\",\"3\",(IF('2-Impact Assessment '!J193=\"h\",\"4\",(IF('2-Impact Assessment '!J193=\"vh\",\"5\", NA())))))))))))","v":{"$error":"#N/A"}},{"$f":"VALUE((IF('2-Impact Assessment '!K193=\"vl\",\"1\",(IF('2-Impact Assessment '!K193=\"l\",\"2\",(IF('2-Impact Assessment '!K193=\"m\",\"3\",(IF('2-Impact Assessment '!K193=\"h\",\"4\",(IF('2-Impact Assessment '!K193=\"vh\",\"5\", NA())))))))))))","v":{"$error":"#N/A"}},null,null,{"$f":"IFERROR(INDEX($AA$12:$AG$12,MATCH(TRUE, AA193:AG193 >= 3, 0)),200)","v":200},null,{"$f":"IFERROR(INDEX($AA$12:$AG$12,MATCH(TRUE, AA193:AG193 >= 4, 0)),200)","v":200},null,null,null,null,null,null,null,null,null,null,{"$f":"MAX(IF(ISERROR(E194:E197),0,E194:E197))","v":0},{"$f":"MAX(IF(ISERROR(F194:F197),0,F194:F197))","v":0},{"$f":"MAX(IF(ISERROR(G194:G197),0,G194:G197))","v":0},{"$f":"MAX(IF(ISERROR(H194:H197),0,H194:H197))","v":0},{"$f":"MAX(IF(ISERROR(I194:I197),0,I194:I197))","v":0},{"$f":"MAX(IF(ISERROR(J194:J197),0,J194:J197))","v":0},{"$f":"MAX(IF(ISERROR(K194:K197),0,K194:K197))","v":0}]
[null,{"$f":"IF(ISTEXT('1-Services & Function'!D50),'1-Services & Function'!D50,\"\")","v":""},21,null,"1 hr","4 hr","1 day","2 days","5 days","1 month","> 6 months","Comments",null,{"$f":"IFERROR(INDEX($AA$12:$AG$12,MATCH(TRUE, AA194:AG194 >= 3, 0)),200)","v":200},null,{"$f":"IFERROR(INDEX($AA$12:$AG$12,MATCH(TRUE, AA194:AG194 >= 4, 0)),200)","v":200},null,null,null,null,null,null,null,null,null,null,{"$f":"MAX(IF(ISERROR(E195:E198),0,E195:E198))","v":0},{"$f":"MAX(IF(ISERROR(F195:F198),0,F195:F198))","v":0},{"$f":"MAX(IF(ISERROR(G195:G198),0,G195:G198))","v":0},{"$f":"MAX(IF(ISERROR(H195:H198),0,H195:H198))","v":0},{"$f":"MAX(IF(ISERROR(I195:I198),0,I195:I198))","v":0},{"$f":"MAX(IF(ISERROR(J195:J198),0,J195:J198))","v":0},{"$f":"MAX(IF(ISERROR(K195:K198),0,K195:K198))","v":0}]
[null,null,null,{"$f":"'[2]Consequence Criteria'!$A$3","v":"Economic"},{"$f":"VALUE((IF('2-Impact Assessment '!E195=\"vl\",\"1\",(IF('2-Impact Assessment '!E195=\"l\",\"2\",(IF('2-Impact Assessment '!E195=\"m\",\"3\",(IF('2-Impact Assessment '!E195=\"h\",\"4\",(IF('2-Impact Assessment '!E195=\"vh\",\"5\", NA())))))))))))","v":{"$error":"#N/A"}},{"$f":"VALUE((IF('2-Impact Assessment '!F195=\"vl\",\"1\",(IF('2-Impact Assessment '!F195=\"l\",\"2\",(IF('2-Impact Assessment '!F195=\"m\",\"3\",(IF('2-Impact Assessment '!F195=\"h\",\"4\",(IF('2-Impact Assessment '!F195=\"vh\",\"5\", NA())))))))))))","v":{"$error":"#N/A"}},{"$f":"VALUE((IF('2-Impact Assessment '!G195=\"vl\",\"1\",(IF('2-Impact Assessment '!G195=\"l\",\"2\",(IF('2-Impact Assessment '!G195=\"m\",\"3\",(IF('2-Impact Assessment '!G195=\"h\",\"4\",(IF('2-Impact Assessment '!G195=\"vh\",\"5\", NA())))))))))))","v":{"$error":"#N/A"}},{"$f":"VALUE((IF('2-Impact Assessment '!H195=\"vl\",\"1\",(IF('2-Impact Assessment '!H195=\"l\",\"2\",(IF('2-Impact Assessment '!H195=\"m\",\"3\",(IF('2-Impact Assessment '!H195=\"h\",\"4\",(IF('2-Impact Assessment '!H195=\"vh\",\"5\", NA())))))))))))","v":{"$error":"#N/A"}},{"$f":"VALUE((IF('2-Impact Assessment '!I195=\"vl\",\"1\",(IF('2-Impact Assessment '!I195=\"l\",\"2\",(IF('2-Impact Assessment '!I195=\"m\",\"3\",(IF('2-Impact Assessment '!I195=\"h\",\"4\",(IF('2-Impact Assessment '!I195=\"vh\",\"5\", NA())))))))))))","v":{"$error":"#N/A"}},{"$f":"VALUE((IF('2-Impact Assessment '!J195=\"vl\",\"1\",(IF('2-Impact Assessment '!J195=\"l\",\"2\",(IF('2-Impact Assessment '!J195=\"m\",\"3\",(IF('2-Impact Assessment '!J195=\"h\",\"4\",(IF('2-Impact Assessment '!J195=\"vh\",\"5\", NA())))))))))))","v":{"$error":"#N/A"}},{"$f":"VALUE((IF('2-Impact Assessment '!K195=\"vl\",\"1\",(IF('2-Impact Assessment '!K195=\"l\",\"2\",(IF('2-Impact Assessment '!K195=\"m\",\"3\",(IF('2-Impact Assessment '!K195=\"h\",\"4\",(IF('2-Impact Assessment '!K195=\"vh\",\"5\", NA())))))))))))","v":{"$error":"#N/A"}},null,null,{"$f":"IFERROR(INDEX($AA$12:$AG$12,MATCH(TRUE, AA195:AG195 >= 3, 0)),200)","v":200},null,{"$f":"IFERROR(INDEX($AA$12:$AG$12,MATCH(TRUE, AA195:AG195 >= 4, 0)),200)","v":200},null,null,null,null,null,null,null,null,null,null,{"$f":"MAX(IF(ISERROR(E196:E199),0,E196:E199))","v":0},{"$f":"MAX(IF(ISERROR(F196:F199),0,F196:F199))","v":0},{"$f":"MAX(IF(ISERROR(G196:G199),0,G196:G199))","v":0},{"$f":"MAX(IF(ISERROR(H196:H199),0,H196:H199))","v":0},{"$f":"MAX(IF(ISERROR(I196:I199),0,I196:I199))","v":0},{"$f":"MAX(IF(ISERROR(J196:J199),0,J196:J199))","v":0},{"$f":"MAX(IF(ISERROR(K196:K199),0,K196:K199))","v":0}]
[null,null,null,{"$f":"'[2]Consequence Criteria'!$A$4","v":"Social"},{"$f":"VALUE((IF('2-Impact Assessment '!E196=\"vl\",\"1\",(IF('2-Impact Assessment '!E196=\"l\",\"2\",(IF('2-Impact Assessment '!E196=\"m\",\"3\",(IF('2-Impact Assessment '!E196=\"h\",\"4\",(IF('2-Impact Assessment '!E196=\"vh\",\"5\", NA())))))))))))","v":{"$error":"#N/A"}},{"$f":"VALUE((IF('2-Impact Assessment '!F196=\"vl\",\"1\",(IF('2-Impact Assessment '!F196=\"l\",\"2\",(IF('2-Impact Assessment '!F196=\"m\",\"3\",(IF('2-Impact Assessment '!F196=\"h\",\"4\",(IF('2-Impact Assessment '!F196=\"vh\",\"5\", NA())))))))))))","v":{"$error":"#N/A"}},{"$f":"VALUE((IF('2-Impact Assessment '!G196=\"vl\",\"1\",(IF('2-Impact Assessment '!G196=\"l\",\"2\",(IF('2-Impact Assessment '!G196=\"m\",\"3\",(IF('2-Impact Assessment '!G196=\"h\",\"4\",(IF('2-Impact Assessment '!G196=\"vh\",\"5\", NA())))))))))))","v":{"$error":"#N/A"}},{"$f":"VALUE((IF('2-Impact Assessment '!H196=\"vl\",\"1\",(IF('2-Impact Assessment '!H196=\"l\",\"2\",(IF('2-Impact Assessment '!H196=\"m\",\"3\",(IF('2-Impact Assessment '!H196=\"h\",\"4\",(IF('2-Impact Assessment '!H196=\"vh\",\"5\", NA())))))))))))","v":{"$error":"#N/A"}},{"$f":"VALUE((IF('2-Impact Assessment '!I196=\"vl\",\"1\",(IF('2-Impact Assessment '!I196=\"l\",\"2\",(IF('2-Impact Assessment '!I196=\"m\",\"3\",(IF('2-Impact Assessment '!I196=\"h\",\"4\",(IF('2-Impact Assessment '!I196=\"vh\",\"5\", NA())))))))))))","v":{"$error":"#N/A"}},{"$f":"VALUE((IF('2-Impact Assessment '!J196=\"vl\",\"1\",(IF('2-Impact Assessment '!J196=\"l\",\"2\",(IF('2-Impact Assessment '!J196=\"m\",\"3\",(IF('2-Impact Assessment '!J196=\"h\",\"4\",(IF('2-Impact Assessment '!J196=\"vh\",\"5\", NA())))))))))))","v":{"$error":"#N/A"}},{"$f":"VALUE((IF('2-Impact Assessment '!K196=\"vl\",\"1\",(IF('2-Impact Assessment '!K196=\"l\",\"2\",(IF('2-Impact Assessment '!K196=\"m\",\"3\",(IF('2-Impact Assessment '!K196=\"h\",\"4\",(IF('2-Impact Assessment '!K196=\"vh\",\"5\", NA())))))))))))","v":{"$error":"#N/A"}},null,null,{"$f":"IFERROR(INDEX($AA$12:$AG$12,MATCH(TRUE, AA196:AG196 >= 3, 0)),200)","v":200},null,{"$f":"IFERROR(INDEX($AA$12:$AG$12,MATCH(TRUE, AA196:AG196 >= 4, 0)),200)","v":200},null,null,null,null,null,null,null,null,null,null,{"$f":"MAX(IF(ISERROR(E197:E200),0,E197:E200))","v":0},{"$f":"MAX(IF(ISERROR(F197:F200),0,F197:F200))","v":0},{"$f":"MAX(IF(ISERROR(G197:G200),0,G197:G200))","v":0},{"$f":"MAX(IF(ISERROR(H197:H200),0,H197:H200))","v":0},{"$f":"MAX(IF(ISERROR(I197:I200),0,I197:I200))","v":0},{"$f":"MAX(IF(ISERROR(J197:J200),0,J197:J200))","v":0},{"$f":"MAX(IF(ISERROR(K197:K200),0,K197:K200))","v":0}]
[null,null,null,{"$f":"'[2]Consequence Criteria'!$A$5","v":"Cultural"},{"$f":"VALUE((IF('2-Impact Assessment '!E197=\"vl\",\"1\",(IF('2-Impact Assessment '!E197=\"l\",\"2\",(IF('2-Impact Assessment '!E197=\"m\",\"3\",(IF('2-Impact Assessment '!E197=\"h\",\"4\",(IF('2-Impact Assessment '!E197=\"vh\",\"5\", NA())))))))))))","v":{"$error":"#N/A"}},{"$f":"VALUE((IF('2-Impact Assessment '!F197=\"vl\",\"1\",(IF('2-Impact Assessment '!F197=\"l\",\"2\",(IF('2-Impact Assessment '!F197=\"m\",\"3\",(IF('2-Impact Assessment '!F197=\"h\",\"4\",(IF('2-Impact Assessment '!F197=\"vh\",\"5\", NA())))))))))))","v":{"$error":"#N/A"}},{"$f":"VALUE((IF('2-Impact Assessment '!G197=\"vl\",\"1\",(IF('2-Impact Assessment '!G197=\"l\",\"2\",(IF('2-Impact Assessment '!G197=\"m\",\"3\",(IF('2-Impact Assessment '!G197=\"h\",\"4\",(IF('2-Impact Assessment '!G197=\"vh\",\"5\", NA())))))))))))","v":{"$error":"#N/A"}},{"$f":"VALUE((IF('2-Impact Assessment '!H197=\"vl\",\"1\",(IF('2-Impact Assessment '!H197=\"l\",\"2\",(IF('2-Impact Assessment '!H197=\"m\",\"3\",(IF('2-Impact Assessment '!H197=\"h\",\"4\",(IF('2-Impact Assessment '!H197=\"vh\",\"5\", NA())))))))))))","v":{"$error":"#N/A"}},{"$f":"VALUE((IF('2-Impact Assessment '!I197=\"vl\",\"1\",(IF('2-Impact Assessment '!I197=\"l\",\"2\",(IF('2-Impact Assessment '!I197=\"m\",\"3\",(IF('2-Impact Assessment '!I197=\"h\",\"4\",(IF('2-Impact Assessment '!I197=\"vh\",\"5\", NA())))))))))))","v":{"$error":"#N/A"}},{"$f":"VALUE((IF('2-Impact Assessment '!J197=\"vl\",\"1\",(IF('2-Impact Assessment '!J197=\"l\",\"2\",(IF('2-Impact Assessment '!J197=\"m\",\"3\",(IF('2-Impact Assessment '!J197=\"h\",\"4\",(IF('2-Impact Assessment '!J197=\"vh\",\"5\", NA())))))))))))","v":{"$error":"#N/A"}},{"$f":"VALUE((IF('2-Impact Assessment '!K197=\"vl\",\"1\",(IF('2-Impact Assessment '!K197=\"l\",\"2\",(IF('2-Impact Assessment '!K197=\"m\",\"3\",(IF('2-Impact Assessment '!K197=\"h\",\"4\",(IF('2-Impact Assessment '!K197=\"vh\",\"5\", NA())))))))))))","v":{"$error":"#N/A"}},null,null,{"$f":"IFERROR(INDEX($AA$12:$AG$12,MATCH(TRUE, AA197:AG197 >= 3, 0)),200)","v":200},null,{"$f":"IFERROR(INDEX($AA$12:$AG$12,MATCH(TRUE, AA197:AG197 >= 4, 0)),200)","v":200},null,null,null,null,null,null,null,null,null,null,{"$f":"MAX(IF(ISERROR(E198:E201),0,E198:E201))","v":0},{"$f":"MAX(IF(ISERROR(F198:F201),0,F198:F201))","v":0},{"$f":"MAX(IF(ISERROR(G198:G201),0,G198:G201))","v":0},{"$f":"MAX(IF(ISERROR(H198:H201),0,H198:H201))","v":0},{"$f":"MAX(IF(ISERROR(I198:I201),0,I198:I201))","v":0},{"$f":"MAX(IF(ISERROR(J198:J201),0,J198:J201))","v":0},{"$f":"MAX(IF(ISERROR(K198:K201),0,K198:K201))","v":0}]
[null,null,null,{"$f":"'[2]Consequence Criteria'!$A$6","v":"Environmental"},{"$f":"VALUE((IF('2-Impact Assessment '!E198=\"vl\",\"1\",(IF('2-Impact Assessment '!E198=\"l\",\"2\",(IF('2-Impact Assessment '!E198=\"m\",\"3\",(IF('2-Impact Assessment '!E198=\"h\",\"4\",(IF('2-Impact Assessment '!E198=\"vh\",\"5\", NA())))))))))))","v":{"$error":"#N/A"}},{"$f":"VALUE((IF('2-Impact Assessment '!F198=\"vl\",\"1\",(IF('2-Impact Assessment '!F198=\"l\",\"2\",(IF('2-Impact Assessment '!F198=\"m\",\"3\",(IF('2-Impact Assessment '!F198=\"h\",\"4\",(IF('2-Impact Assessment '!F198=\"vh\",\"5\", NA())))))))))))","v":{"$error":"#N/A"}},{"$f":"VALUE((IF('2-Impact Assessment '!G198=\"vl\",\"1\",(IF('2-Impact Assessment '!G198=\"l\",\"2\",(IF('2-Impact Assessment '!G198=\"m\",\"3\",(IF('2-Impact Assessment '!G198=\"h\",\"4\",(IF('2-Impact Assessment '!G198=\"vh\",\"5\", NA())))))))))))","v":{"$error":"#N/A"}},{"$f":"VALUE((IF('2-Impact Assessment '!H198=\"vl\",\"1\",(IF('2-Impact Assessment '!H198=\"l\",\"2\",(IF('2-Impact Assessment '!H198=\"m\",\"3\",(IF('2-Impact Assessment '!H198=\"h\",\"4\",(IF('2-Impact Assessment '!H198=\"vh\",\"5\", NA())))))))))))","v":{"$error":"#N/A"}},{"$f":"VALUE((IF('2-Impact Assessment '!I198=\"vl\",\"1\",(IF('2-Impact Assessment '!I198=\"l\",\"2\",(IF('2-Impact Assessment '!I198=\"m\",\"3\",(IF('2-Impact Assessment '!I198=\"h\",\"4\",(IF('2-Impact Assessment '!I198=\"vh\",\"5\", NA())))))))))))","v":{"$error":"#N/A"}},{"$f":"VALUE((IF('2-Impact Assessment '!J198=\"vl\",\"1\",(IF('2-Impact Assessment '!J198=\"l\",\"2\",(IF('2-Impact Assessment '!J198=\"m\",\"3\",(IF('2-Impact Assessment '!J198=\"h\",\"4\",(IF('2-Impact Assessment '!J198=\"vh\",\"5\", NA())))))))))))","v":{"$error":"#N/A"}},{"$f":"VALUE((IF('2-Impact Assessment '!K198=\"vl\",\"1\",(IF('2-Impact Assessment '!K198=\"l\",\"2\",(IF('2-Impact Assessment '!K198=\"m\",\"3\",(IF('2-Impact Assessment '!K198=\"h\",\"4\",(IF('2-Impact Assessment '!K198=\"vh\",\"5\", NA())))))))))))","v":{"$error":"#N/A"}},null,null,{"$f":"IFERROR(INDEX($AA$12:$AG$12,MATCH(TRUE, AA198:AG198 >= 3, 0)),200)","v":200},null,{"$f":"IFERROR(INDEX($AA$12:$AG$12,MATCH(TRUE, AA198:AG198 >= 4, 0)),200)","v":200},null,null,null,null,null,null,null,null,null,null,{"$f":"MAX(IF(ISERROR(E199:E202),0,E199:E202))","v":0},{"$f":"MAX(IF(ISERROR(F199:F202),0,F199:F202))","v":0},{"$f":"MAX(IF(ISERROR(G199:G202),0,G199:G202))","v":0},{"$f":"MAX(IF(ISERROR(H199:H202),0,H199:H202))","v":0},{"$f":"MAX(IF(ISERROR(I199:I202),0,I199:I202))","v":0},{"$f":"MAX(IF(ISERROR(J199:J202),0,J199:J202))","v":0},{"$f":"MAX(IF(ISERROR(K199:K202),0,K199:K202))","v":0}]
[null,null,null,{"$f":"'[2]Consequence Criteria'!$A$7","v":0},{"$f":"VALUE((IF('2-Impact Assessment '!E199=\"vl\",\"1\",(IF('2-Impact Assessment '!E199=\"l\",\"2\",(IF('2-Impact Assessment '!E199=\"m\",\"3\",(IF('2-Impact Assessment '!E199=\"h\",\"4\",(IF('2-Impact Assessment '!E199=\"vh\",\"5\", NA())))))))))))","v":{"$error":"#N/A"}},{"$f":"VALUE((IF('2-Impact Assessment '!F199=\"vl\",\"1\",(IF('2-Impact Assessment '!F199=\"l\",\"2\",(IF('2-Impact Assessment '!F199=\"m\",\"3\",(IF('2-Impact Assessment '!F199=\"h\",\"4\",(IF('2-Impact Assessment '!F199=\"vh\",\"5\", NA())))))))))))","v":{"$error":"#N/A"}},{"$f":"VALUE((IF('2-Impact Assessment '!G199=\"vl\",\"1\",(IF('2-Impact Assessment '!G199=\"l\",\"2\",(IF('2-Impact Assessment '!G199=\"m\",\"3\",(IF('2-Impact Assessment '!G199=\"h\",\"4\",(IF('2-Impact Assessment '!G199=\"vh\",\"5\", NA())))))))))))","v":{"$error":"#N/A"}},{"$f":"VALUE((IF('2-Impact Assessment '!H199=\"vl\",\"1\",(IF('2-Impact Assessment '!H199=\"l\",\"2\",(IF('2-Impact Assessment '!H199=\"m\",\"3\",(IF('2-Impact Assessment '!H199=\"h\",\"4\",(IF('2-Impact Assessment '!H199=\"vh\",\"5\", NA())))))))))))","v":{"$error":"#N/A"}},{"$f":"VALUE((IF('2-Impact Assessment '!I199=\"vl\",\"1\",(IF('2-Impact Assessment '!I199=\"l\",\"2\",(IF('2-Impact Assessment '!I199=\"m\",\"3\",(IF('2-Impact Assessment '!I199=\"h\",\"4\",(IF('2-Impact Assessment '!I199=\"vh\",\"5\", NA())))))))))))","v":{"$error":"#N/A"}},{"$f":"VALUE((IF('2-Impact Assessment '!J199=\"vl\",\"1\",(IF('2-Impact Assessment '!J199=\"l\",\"2\",(IF('2-Impact Assessment '!J199=\"m\",\"3\",(IF('2-Impact Assessment '!J199=\"h\",\"4\",(IF('2-Impact Assessment '!J199=\"vh\",\"5\", NA())))))))))))","v":{"$error":"#N/A"}},{"$f":"VALUE((IF('2-Impact Assessment '!K199=\"vl\",\"1\",(IF('2-Impact Assessment '!K199=\"l\",\"2\",(IF('2-Impact Assessment '!K199=\"m\",\"3\",(IF('2-Impact Assessment '!K199=\"h\",\"4\",(IF('2-Impact Assessment '!K199=\"vh\",\"5\", NA())))))))))))","v":{"$error":"#N/A"}},null,null,{"$f":"IFERROR(INDEX($AA$12:$AG$12,MATCH(TRUE, AA199:AG199 >= 3, 0)),200)","v":200},null,{"$f":"IFERROR(INDEX($AA$12:$AG$12,MATCH(TRUE, AA199:AG199 >= 4, 0)),200)","v":200},null,null,null,null,null,null,null,null,null,null,{"$f":"MAX(IF(ISERROR(E200:E203),0,E200:E203))","v":0},{"$f":"MAX(IF(ISERROR(F200:F203),0,F200:F203))","v":0},{"$f":"MAX(IF(ISERROR(G200:G203),0,G200:G203))","v":0},{"$f":"MAX(IF(ISERROR(H200:H203),0,H200:H203))","v":0},{"$f":"MAX(IF(ISERROR(I200:I203),0,I200:I203))","v":0},{"$f":"MAX(IF(ISERROR(J200:J203),0,J200:J203))","v":0},{"$f":"MAX(IF(ISERROR(K200:K203),0,K200:K203))","v":0}]
[null,null,null,{"$f":"'[2]Consequence Criteria'!$A$8","v":0},{"$f":"VALUE((IF('2-Impact Assessment '!E200=\"vl\",\"1\",(IF('2-Impact Assessment '!E200=\"l\",\"2\",(IF('2-Impact Assessment '!E200=\"m\",\"3\",(IF('2-Impact Assessment '!E200=\"h\",\"4\",(IF('2-Impact Assessment '!E200=\"vh\",\"5\", NA())))))))))))","v":{"$error":"#N/A"}},{"$f":"VALUE((IF('2-Impact Assessment '!F200=\"vl\",\"1\",(IF('2-Impact Assessment '!F200=\"l\",\"2\",(IF('2-Impact Assessment '!F200=\"m\",\"3\",(IF('2-Impact Assessment '!F200=\"h\",\"4\",(IF('2-Impact Assessment '!F200=\"vh\",\"5\", NA())))))))))))","v":{"$error":"#N/A"}},{"$f":"VALUE((IF('2-Impact Assessment '!G200=\"vl\",\"1\",(IF('2-Impact Assessment '!G200=\"l\",\"2\",(IF('2-Impact Assessment '!G200=\"m\",\"3\",(IF('2-Impact Assessment '!G200=\"h\",\"4\",(IF('2-Impact Assessment '!G200=\"vh\",\"5\", NA())))))))))))","v":{"$error":"#N/A"}},{"$f":"VALUE((IF('2-Impact Assessment '!H200=\"vl\",\"1\",(IF('2-Impact Assessment '!H200=\"l\",\"2\",(IF('2-Impact Assessment '!H200=\"m\",\"3\",(IF('2-Impact Assessment '!H200=\"h\",\"4\",(IF('2-Impact Assessment '!H200=\"vh\",\"5\", NA())))))))))))","v":{"$error":"#N/A"}},{"$f":"VALUE((IF('2-Impact Assessment '!I200=\"vl\",\"1\",(IF('2-Impact Assessment '!I200=\"l\",\"2\",(IF('2-Impact Assessment '!I200=\"m\",\"3\",(IF('2-Impact Assessment '!I200=\"h\",\"4\",(IF('2-Impact Assessment '!I200=\"vh\",\"5\", NA())))))))))))","v":{"$error":"#N/A"}},{"$f":"VALUE((IF('2-Impact Assessment '!J200=\"vl\",\"1\",(IF('2-Impact Assessment '!J200=\"l\",\"2\",(IF('2-Impact Assessment '!J200=\"m\",\"3\",(IF('2-Impact Assessment '!J200=\"h\",\"4\",(IF('2-Impact Assessment '!J200=\"vh\",\"5\", NA())))))))))))","v":{"$error":"#N/A"}},{"$f":"VALUE((IF('2-Impact Assessment '!K200=\"vl\",\"1\",(IF('2-Impact Assessment '!K200=\"l\",\"2\",(IF('2-Impact Assessment '!K200=\"m\",\"3\",(IF('2-Impact Assessment '!K200=\"h\",\"4\",(IF('2-Impact Assessment '!K200=\"vh\",\"5\", NA())))))))))))","v":{"$error":"#N/A"}},null,null,{"$f":"IFERROR(INDEX($AA$12:$AG$12,MATCH(TRUE, AA200:AG200 >= 3, 0)),200)","v":200},null,{"$f":"IFERROR(INDEX($AA$12:$AG$12,MATCH(TRUE, AA200:AG200 >= 4, 0)),200)","v":200},null,null,null,null,null,null,null,null,null,null,{"$f":"MAX(IF(ISERROR(E201:E204),0,E201:E204))","v":0},{"$f":"MAX(IF(ISERROR(F201:F204),0,F201:F204))","v":0},{"$f":"MAX(IF(ISERROR(G201:G204),0,G201:G204))","v":0},{"$f":"MAX(IF(ISERROR(H201:H204),0,H201:H204))","v":0},{"$f":"MAX(IF(ISERROR(I201:I204),0,I201:I204))","v":0},{"$f":"MAX(IF(ISERROR(J201:J204),0,J201:J204))","v":0},{"$f":"MAX(IF(ISERROR(K201:K204),0,K201:K204))","v":0}]
[null,null,null,{"$f":"'[2]Consequence Criteria'!$A$9","v":0},{"$f":"VALUE((IF('2-Impact Assessment '!E201=\"vl\",\"1\",(IF('2-Impact Assessment '!E201=\"l\",\"2\",(IF('2-Impact Assessment '!E201=\"m\",\"3\",(IF('2-Impact Assessment '!E201=\"h\",\"4\",(IF('2-Impact Assessment '!E201=\"vh\",\"5\", NA())))))))))))","v":{"$error":"#N/A"}},{"$f":"VALUE((IF('2-Impact Assessment '!F201=\"vl\",\"1\",(IF('2-Impact Assessment '!F201=\"l\",\"2\",(IF('2-Impact Assessment '!F201=\"m\",\"3\",(IF('2-Impact Assessment '!F201=\"h\",\"4\",(IF('2-Impact Assessment '!F201=\"vh\",\"5\", NA())))))))))))","v":{"$error":"#N/A"}},{"$f":"VALUE((IF('2-Impact Assessment '!G201=\"vl\",\"1\",(IF('2-Impact Assessment '!G201=\"l\",\"2\",(IF('2-Impact Assessment '!G201=\"m\",\"3\",(IF('2-Impact Assessment '!G201=\"h\",\"4\",(IF('2-Impact Assessment '!G201=\"vh\",\"5\", NA())))))))))))","v":{"$error":"#N/A"}},{"$f":"VALUE((IF('2-Impact Assessment '!H201=\"vl\",\"1\",(IF('2-Impact Assessment '!H201=\"l\",\"2\",(IF('2-Impact Assessment '!H201=\"m\",\"3\",(IF('2-Impact Assessment '!H201=\"h\",\"4\",(IF('2-Impact Assessment '!H201=\"vh\",\"5\", NA())))))))))))","v":{"$error":"#N/A"}},{"$f":"VALUE((IF('2-Impact Assessment '!I201=\"vl\",\"1\",(IF('2-Impact Assessment '!I201=\"l\",\"2\",(IF('2-Impact Assessment '!I201=\"m\",\"3\",(IF('2-Impact Assessment '!I201=\"h\",\"4\",(IF('2-Impact Assessment '!I201=\"vh\",\"5\", NA())))))))))))","v":{"$error":"#N/A"}},{"$f":"VALUE((IF('2-Impact Assessment '!J201=\"vl\",\"1\",(IF('2-Impact Assessment '!J201=\"l\",\"2\",(IF('2-Impact Assessment '!J201=\"m\",\"3\",(IF('2-Impact Assessment '!J201=\"h\",\"4\",(IF('2-Impact Assessment '!J201=\"vh\",\"5\", NA())))))))))))","v":{"$error":"#N/A"}},{"$f":"VALUE((IF('2-Impact Assessment '!K201=\"vl\",\"1\",(IF('2-Impact Assessment '!K201=\"l\",\"2\",(IF('2-Impact Assessment '!K201=\"m\",\"3\",(IF('2-Impact Assessment '!K201=\"h\",\"4\",(IF('2-Impact Assessment '!K201=\"vh\",\"5\", NA())))))))))))","v":{"$error":"#N/A"}},null,null,{"$f":"IFERROR(INDEX($AA$12:$AG$12,MATCH(TRUE, AA201:AG201 >= 3, 0)),200)","v":200},null,{"$f":"IFERROR(INDEX($AA$12:$AG$12,MATCH(TRUE, AA201:AG201 >= 4, 0)),200)","v":200},null,null,null,null,null,null,null,null,null,null,{"$f":"MAX(IF(ISERROR(E202:E205),0,E202:E205))","v":0},{"$f":"MAX(IF(ISERROR(F202:F205),0,F202:F205))","v":0},{"$f":"MAX(IF(ISERROR(G202:G205),0,G202:G205))","v":0},{"$f":"MAX(IF(ISERROR(H202:H205),0,H202:H205))","v":0},{"$f":"MAX(IF(ISERROR(I202:I205),0,I202:I205))","v":0},{"$f":"MAX(IF(ISERROR(J202:J205),0,J202:J205))","v":0},{"$f":"MAX(IF(ISERROR(K202:K205),0,K202:K205))","v":0}]
[null,null,null,{"$f":"'[2]Consequence Criteria'!$A$10","v":0},{"$f":"VALUE((IF('2-Impact Assessment '!E202=\"vl\",\"1\",(IF('2-Impact Assessment '!E202=\"l\",\"2\",(IF('2-Impact Assessment '!E202=\"m\",\"3\",(IF('2-Impact Assessment '!E202=\"h\",\"4\",(IF('2-Impact Assessment '!E202=\"vh\",\"5\", NA())))))))))))","v":{"$error":"#N/A"}},{"$f":"VALUE((IF('2-Impact Assessment '!F202=\"vl\",\"1\",(IF('2-Impact Assessment '!F202=\"l\",\"2\",(IF('2-Impact Assessment '!F202=\"m\",\"3\",(IF('2-Impact Assessment '!F202=\"h\",\"4\",(IF('2-Impact Assessment '!F202=\"vh\",\"5\", NA())))))))))))","v":{"$error":"#N/A"}},{"$f":"VALUE((IF('2-Impact Assessment '!G202=\"vl\",\"1\",(IF('2-Impact Assessment '!G202=\"l\",\"2\",(IF('2-Impact Assessment '!G202=\"m\",\"3\",(IF('2-Impact Assessment '!G202=\"h\",\"4\",(IF('2-Impact Assessment '!G202=\"vh\",\"5\", NA())))))))))))","v":{"$error":"#N/A"}},{"$f":"VALUE((IF('2-Impact Assessment '!H202=\"vl\",\"1\",(IF('2-Impact Assessment '!H202=\"l\",\"2\",(IF('2-Impact Assessment '!H202=\"m\",\"3\",(IF('2-Impact Assessment '!H202=\"h\",\"4\",(IF('2-Impact Assessment '!H202=\"vh\",\"5\", NA())))))))))))","v":{"$error":"#N/A"}},{"$f":"VALUE((IF('2-Impact Assessment '!I202=\"vl\",\"1\",(IF('2-Impact Assessment '!I202=\"l\",\"2\",(IF('2-Impact Assessment '!I202=\"m\",\"3\",(IF('2-Impact Assessment '!I202=\"h\",\"4\",(IF('2-Impact Assessment '!I202=\"vh\",\"5\", NA())))))))))))","v":{"$error":"#N/A"}},{"$f":"VALUE((IF('2-Impact Assessment '!J202=\"vl\",\"1\",(IF('2-Impact Assessment '!J202=\"l\",\"2\",(IF('2-Impact Assessment '!J202=\"m\",\"3\",(IF('2-Impact Assessment '!J202=\"h\",\"4\",(IF('2-Impact Assessment '!J202=\"vh\",\"5\", NA())))))))))))","v":{"$error":"#N/A"}},{"$f":"VALUE((IF('2-Impact Assessment '!K202=\"vl\",\"1\",(IF('2-Impact Assessment '!K202=\"l\",\"2\",(IF('2-Impact Assessment '!K202=\"m\",\"3\",(IF('2-Impact Assessment '!K202=\"h\",\"4\",(IF('2-Impact Assessment '!K202=\"vh\",\"5\", NA())))))))))))","v":{"$error":"#N/A"}},null,null,{"$f":"IFERROR(INDEX($AA$12:$AG$12,MATCH(TRUE, AA202:AG202 >= 3, 0)),200)","v":200},null,{"$f":"IFERROR(INDEX($AA$12:$AG$12,MATCH(TRUE, AA202:AG202 >= 4, 0)),200)","v":200},null,null,null,null,null,null,null,null,null,null,{"$f":"MAX(IF(ISERROR(E203:E206),0,E203:E206))","v":0},{"$f":"MAX(IF(ISERROR(F203:F206),0,F203:F206))","v":0},{"$f":"MAX(IF(ISERROR(G203:G206),0,G203:G206))","v":0},{"$f":"MAX(IF(ISERROR(H203:H206),0,H203:H206))","v":0},{"$f":"MAX(IF(ISERROR(I203:I206),0,I203:I206))","v":0},{"$f":"MAX(IF(ISERROR(J203:J206),0,J203:J206))","v":0},{"$f":"MAX(IF(ISERROR(K203:K206),0,K203:K206))","v":0}]
[null,{"$f":"IF(ISTEXT('1-Services & Function'!D51),'1-Services & Function'!D51,\"\")","v":""},22,null,"1 hr","4 hr","1 day","2 days","5 days","1 month","> 6 months","Comments",null,{"$f":"IFERROR(INDEX($AA$12:$AG$12,MATCH(TRUE, AA203:AG203 >= 3, 0)),200)","v":200},null,{"$f":"IFERROR(INDEX($AA$12:$AG$12,MATCH(TRUE, AA203:AG203 >= 4, 0)),200)","v":200},null,null,null,null,null,null,null,null,null,null,{"$f":"MAX(IF(ISERROR(E204:E207),0,E204:E207))","v":0},{"$f":"MAX(IF(ISERROR(F204:F207),0,F204:F207))","v":0},{"$f":"MAX(IF(ISERROR(G204:G207),0,G204:G207))","v":0},{"$f":"MAX(IF(ISERROR(H204:H207),0,H204:H207))","v":0},{"$f":"MAX(IF(ISERROR(I204:I207),0,I204:I207))","v":0},{"$f":"MAX(IF(ISERROR(J204:J207),0,J204:J207))","v":0},{"$f":"MAX(IF(ISERROR(K204:K207),0,K204:K207))","v":0}]
[null,null,null,{"$f":"'[2]Consequence Criteria'!$A$3","v":"Economic"},{"$f":"VALUE((IF('2-Impact Assessment '!E204=\"vl\",\"1\",(IF('2-Impact Assessment '!E204=\"l\",\"2\",(IF('2-Impact Assessment '!E204=\"m\",\"3\",(IF('2-Impact Assessment '!E204=\"h\",\"4\",(IF('2-Impact Assessment '!E204=\"vh\",\"5\", NA())))))))))))","v":{"$error":"#N/A"}},{"$f":"VALUE((IF('2-Impact Assessment '!F204=\"vl\",\"1\",(IF('2-Impact Assessment '!F204=\"l\",\"2\",(IF('2-Impact Assessment '!F204=\"m\",\"3\",(IF('2-Impact Assessment '!F204=\"h\",\"4\",(IF('2-Impact Assessment '!F204=\"vh\",\"5\", NA())))))))))))","v":{"$error":"#N/A"}},{"$f":"VALUE((IF('2-Impact Assessment '!G204=\"vl\",\"1\",(IF('2-Impact Assessment '!G204=\"l\",\"2\",(IF('2-Impact Assessment '!G204=\"m\",\"3\",(IF('2-Impact Assessment '!G204=\"h\",\"4\",(IF('2-Impact Assessment '!G204=\"vh\",\"5\", NA())))))))))))","v":{"$error":"#N/A"}},{"$f":"VALUE((IF('2-Impact Assessment '!H204=\"vl\",\"1\",(IF('2-Impact Assessment '!H204=\"l\",\"2\",(IF('2-Impact Assessment '!H204=\"m\",\"3\",(IF('2-Impact Assessment '!H204=\"h\",\"4\",(IF('2-Impact Assessment '!H204=\"vh\",\"5\", NA())))))))))))","v":{"$error":"#N/A"}},{"$f":"VALUE((IF('2-Impact Assessment '!I204=\"vl\",\"1\",(IF('2-Impact Assessment '!I204=\"l\",\"2\",(IF('2-Impact Assessment '!I204=\"m\",\"3\",(IF('2-Impact Assessment '!I204=\"h\",\"4\",(IF('2-Impact Assessment '!I204=\"vh\",\"5\", NA())))))))))))","v":{"$error":"#N/A"}},{"$f":"VALUE((IF('2-Impact Assessment '!J204=\"vl\",\"1\",(IF('2-Impact Assessment '!J204=\"l\",\"2\",(IF('2-Impact Assessment '!J204=\"m\",\"3\",(IF('2-Impact Assessment '!J204=\"h\",\"4\",(IF('2-Impact Assessment '!J204=\"vh\",\"5\", NA())))))))))))","v":{"$error":"#N/A"}},{"$f":"VALUE((IF('2-Impact Assessment '!K204=\"vl\",\"1\",(IF('2-Impact Assessment '!K204=\"l\",\"2\",(IF('2-Impact Assessment '!K204=\"m\",\"3\",(IF('2-Impact Assessment '!K204=\"h\",\"4\",(IF('2-Impact Assessment '!K204=\"vh\",\"5\", NA())))))))))))","v":{"$error":"#N/A"}},null,null,{"$f":"IFERROR(INDEX($AA$12:$AG$12,MATCH(TRUE, AA204:AG204 >= 3, 0)),200)","v":200},null,{"$f":"IFERROR(INDEX($AA$12:$AG$12,MATCH(TRUE, AA204:AG204 >= 4, 0)),200)","v":200},null,null,null,null,null,null,null,null,null,null,{"$f":"MAX(IF(ISERROR(E205:E208),0,E205:E208))","v":0},{"$f":"MAX(IF(ISERROR(F205:F208),0,F205:F208))","v":0},{"$f":"MAX(IF(ISERROR(G205:G208),0,G205:G208))","v":0},{"$f":"MAX(IF(ISERROR(H205:H208),0,H205:H208))","v":0},{"$f":"MAX(IF(ISERROR(I205:I208),0,I205:I208))","v":0},{"$f":"MAX(IF(ISERROR(J205:J208),0,J205:J208))","v":0},{"$f":"MAX(IF(ISERROR(K205:K208),0,K205:K208))","v":0}]
[null,null,null,{"$f":"'[2]Consequence Criteria'!$A$4","v":"Social"},{"$f":"VALUE((IF('2-Impact Assessment '!E205=\"vl\",\"1\",(IF('2-Impact Assessment '!E205=\"l\",\"2\",(IF('2-Impact Assessment '!E205=\"m\",\"3\",(IF('2-Impact Assessment '!E205=\"h\",\"4\",(IF('2-Impact Assessment '!E205=\"vh\",\"5\", NA())))))))))))","v":{"$error":"#N/A"}},{"$f":"VALUE((IF('2-Impact Assessment '!F205=\"vl\",\"1\",(IF('2-Impact Assessment '!F205=\"l\",\"2\",(IF('2-Impact Assessment '!F205=\"m\",\"3\",(IF('2-Impact Assessment '!F205=\"h\",\"4\",(IF('2-Impact Assessment '!F205=\"vh\",\"5\", NA())))))))))))","v":{"$error":"#N/A"}},{"$f":"VALUE((IF('2-Impact Assessment '!G205=\"vl\",\"1\",(IF('2-Impact Assessment '!G205=\"l\",\"2\",(IF('2-Impact Assessment '!G205=\"m\",\"3\",(IF('2-Impact Assessment '!G205=\"h\",\"4\",(IF('2-Impact Assessment '!G205=\"vh\",\"5\", NA())))))))))))","v":{"$error":"#N/A"}},{"$f":"VALUE((IF('2-Impact Assessment '!H205=\"vl\",\"1\",(IF('2-Impact Assessment '!H205=\"l\",\"2\",(IF('2-Impact Assessment '!H205=\"m\",\"3\",(IF('2-Impact Assessment '!H205=\"h\",\"4\",(IF('2-Impact Assessment '!H205=\"vh\",\"5\", NA())))))))))))","v":{"$error":"#N/A"}},{"$f":"VALUE((IF('2-Impact Assessment '!I205=\"vl\",\"1\",(IF('2-Impact Assessment '!I205=\"l\",\"2\",(IF('2-Impact Assessment '!I205=\"m\",\"3\",(IF('2-Impact Assessment '!I205=\"h\",\"4\",(IF('2-Impact Assessment '!I205=\"vh\",\"5\", NA())))))))))))","v":{"$error":"#N/A"}},{"$f":"VALUE((IF('2-Impact Assessment '!J205=\"vl\",\"1\",(IF('2-Impact Assessment '!J205=\"l\",\"2\",(IF('2-Impact Assessment '!J205=\"m\",\"3\",(IF('2-Impact Assessment '!J205=\"h\",\"4\",(IF('2-Impact Assessment '!J205=\"vh\",\"5\", NA())))))))))))","v":{"$error":"#N/A"}},{"$f":"VALUE((IF('2-Impact Assessment '!K205=\"vl\",\"1\",(IF('2-Impact Assessment '!K205=\"l\",\"2\",(IF('2-Impact Assessment '!K205=\"m\",\"3\",(IF('2-Impact Assessment '!K205=\"h\",\"4\",(IF('2-Impact Assessment '!K205=\"vh\",\"5\", NA())))))))))))","v":{"$error":"#N/A"}},null,null,{"$f":"IFERROR(INDEX($AA$12:$AG$12,MATCH(TRUE, AA205:AG205 >= 3, 0)),200)","v":200},null,{"$f":"IFERROR(INDEX($AA$12:$AG$12,MATCH(TRUE, AA205:AG205 >= 4, 0)),200)","v":200},null,null,null,null,null,null,null,null,null,null,{"$f":"MAX(IF(ISERROR(E206:E209),0,E206:E209))","v":0},{"$f":"MAX(IF(ISERROR(F206:F209),0,F206:F209))","v":0},{"$f":"MAX(IF(ISERROR(G206:G209),0,G206:G209))","v":0},{"$f":"MAX(IF(ISERROR(H206:H209),0,H206:H209))","v":0},{"$f":"MAX(IF(ISERROR(I206:I209),0,I206:I209))","v":0},{"$f":"MAX(IF(ISERROR(J206:J209),0,J206:J209))","v":0},{"$f":"MAX(IF(ISERROR(K206:K209),0,K206:K209))","v":0}]
[null,null,null,{"$f":"'[2]Consequence Criteria'!$A$5","v":"Cultural"},{"$f":"VALUE((IF('2-Impact Assessment '!E206=\"vl\",\"1\",(IF('2-Impact Assessment '!E206=\"l\",\"2\",(IF('2-Impact Assessment '!E206=\"m\",\"3\",(IF('2-Impact Assessment '!E206=\"h\",\"4\",(IF('2-Impact Assessment '!E206=\"vh\",\"5\", NA())))))))))))","v":{"$error":"#N/A"}},{"$f":"VALUE((IF('2-Impact Assessment '!F206=\"vl\",\"1\",(IF('2-Impact Assessment '!F206=\"l\",\"2\",(IF('2-Impact Assessment '!F206=\"m\",\"3\",(IF('2-Impact Assessment '!F206=\"h\",\"4\",(IF('2-Impact Assessment '!F206=\"vh\",\"5\", NA())))))))))))","v":{"$error":"#N/A"}},{"$f":"VALUE((IF('2-Impact Assessment '!G206=\"vl\",\"1\",(IF('2-Impact Assessment '!G206=\"l\",\"2\",(IF('2-Impact Assessment '!G206=\"m\",\"3\",(IF('2-Impact Assessment '!G206=\"h\",\"4\",(IF('2-Impact Assessment '!G206=\"vh\",\"5\", NA())))))))))))","v":{"$error":"#N/A"}},{"$f":"VALUE((IF('2-Impact Assessment '!H206=\"vl\",\"1\",(IF('2-Impact Assessment '!H206=\"l\",\"2\",(IF('2-Impact Assessment '!H206=\"m\",\"3\",(IF('2-Impact Assessment '!H206=\"h\",\"4\",(IF('2-Impact Assessment '!H206=\"vh\",\"5\", NA())))))))))))","v":{"$error":"#N/A"}},{"$f":"VALUE((IF('2-Impact Assessment '!I206=\"vl\",\"1\",(IF('2-Impact Assessment '!I206=\"l\",\"2\",(IF('2-Impact Assessment '!I206=\"m\",\"3\",(IF('2-Impact Assessment '!I206=\"h\",\"4\",(IF('2-Impact Assessment '!I206=\"vh\",\"5\", NA())))))))))))","v":{"$error":"#N/A"}},{"$f":"VALUE((IF('2-Impact Assessment '!J206=\"vl\",\"1\",(IF('2-Impact Assessment '!J206=\"l\",\"2\",(IF('2-Impact Assessment '!J206=\"m\",\"3\",(IF('2-Impact Assessment '!J206=\"h\",\"4\",(IF('2-Impact Assessment '!J206=\"vh\",\"5\", NA())))))))))))","v":{"$error":"#N/A"}},{"$f":"VALUE((IF('2-Impact Assessment '!K206=\"vl\",\"1\",(IF('2-Impact Assessment '!K206=\"l\",\"2\",(IF('2-Impact Assessment '!K206=\"m\",\"3\",(IF('2-Impact Assessment '!K206=\"h\",\"4\",(IF('2-Impact Assessment '!K206=\"vh\",\"5\", NA())))))))))))","v":{"$error":"#N/A"}},null,null,{"$f":"IFERROR(INDEX($AA$12:$AG$12,MATCH(TRUE, AA206:AG206 >= 3, 0)),200)","v":200},null,{"$f":"IFERROR(INDEX($AA$12:$AG$12,MATCH(TRUE, AA206:AG206 >= 4, 0)),200)","v":200},null,null,null,null,null,null,null,null,null,null,{"$f":"MAX(IF(ISERROR(E207:E210),0,E207:E210))","v":0},{"$f":"MAX(IF(ISERROR(F207:F210),0,F207:F210))","v":0},{"$f":"MAX(IF(ISERROR(G207:G210),0,G207:G210))","v":0},{"$f":"MAX(IF(ISERROR(H207:H210),0,H207:H210))","v":0},{"$f":"MAX(IF(ISERROR(I207:I210),0,I207:I210))","v":0},{"$f":"MAX(IF(ISERROR(J207:J210),0,J207:J210))","v":0},{"$f":"MAX(IF(ISERROR(K207:K210),0,K207:K210))","v":0}]
[null,null,null,{"$f":"'[2]Consequence Criteria'!$A$6","v":"Environmental"},{"$f":"VALUE((IF('2-Impact Assessment '!E207=\"vl\",\"1\",(IF('2-Impact Assessment '!E207=\"l\",\"2\",(IF('2-Impact Assessment '!E207=\"m\",\"3\",(IF('2-Impact Assessment '!E207=\"h\",\"4\",(IF('2-Impact Assessment '!E207=\"vh\",\"5\", NA())))))))))))","v":{"$error":"#N/A"}},{"$f":"VALUE((IF('2-Impact Assessment '!F207=\"vl\",\"1\",(IF('2-Impact Assessment '!F207=\"l\",\"2\",(IF('2-Impact Assessment '!F207=\"m\",\"3\",(IF('2-Impact Assessment '!F207=\"h\",\"4\",(IF('2-Impact Assessment '!F207=\"vh\",\"5\", NA())))))))))))","v":{"$error":"#N/A"}},{"$f":"VALUE((IF('2-Impact Assessment '!G207=\"vl\",\"1\",(IF('2-Impact Assessment '!G207=\"l\",\"2\",(IF('2-Impact Assessment '!G207=\"m\",\"3\",(IF('2-Impact Assessment '!G207=\"h\",\"4\",(IF('2-Impact Assessment '!G207=\"vh\",\"5\", NA())))))))))))","v":{"$error":"#N/A"}},{"$f":"VALUE((IF('2-Impact Assessment '!H207=\"vl\",\"1\",(IF('2-Impact Assessment '!H207=\"l\",\"2\",(IF('2-Impact Assessment '!H207=\"m\",\"3\",(IF('2-Impact Assessment '!H207=\"h\",\"4\",(IF('2-Impact Assessment '!H207=\"vh\",\"5\", NA())))))))))))","v":{"$error":"#N/A"}},{"$f":"VALUE((IF('2-Impact Assessment '!I207=\"vl\",\"1\",(IF('2-Impact Assessment '!I207=\"l\",\"2\",(IF('2-Impact Assessment '!I207=\"m\",\"3\",(IF('2-Impact Assessment '!I207=\"h\",\"4\",(IF('2-Impact Assessment '!I207=\"vh\",\"5\", NA())))))))))))","v":{"$error":"#N/A"}},{"$f":"VALUE((IF('2-Impact Assessment '!J207=\"vl\",\"1\",(IF('2-Impact Assessment '!J207=\"l\",\"2\",(IF('2-Impact Assessment '!J207=\"m\",\"3\",(IF('2-Impact Assessment '!J207=\"h\",\"4\",(IF('2-Impact Assessment '!J207=\"vh\",\"5\", NA())))))))))))","v":{"$error":"#N/A"}},{"$f":"VALUE((IF('2-Impact Assessment '!K207=\"vl\",\"1\",(IF('2-Impact Assessment '!K207=\"l\",\"2\",(IF('2-Impact Assessment '!K207=\"m\",\"3\",(IF('2-Impact Assessment '!K207=\"h\",\"4\",(IF('2-Impact Assessment '!K207=\"vh\",\"5\", NA())))))))))))","v":{"$error":"#N/A"}},null,null,{"$f":"IFERROR(INDEX($AA$12:$AG$12,MATCH(TRUE, AA207:AG207 >= 3, 0)),200)","v":200},null,{"$f":"IFERROR(INDEX($AA$12:$AG$12,MATCH(TRUE, AA207:AG207 >= 4, 0)),200)","v":200},null,null,null,null,null,null,null,null,null,null,{"$f":"MAX(IF(ISERROR(E208:E211),0,E208:E211))","v":0},{"$f":"MAX(IF(ISERROR(F208:F211),0,F208:F211))","v":0},{"$f":"MAX(IF(ISERROR(G208:G211),0,G208:G211))","v":0},{"$f":"MAX(IF(ISERROR(H208:H211),0,H208:H211))","v":0},{"$f":"MAX(IF(ISERROR(I208:I211),0,I208:I211))","v":0},{"$f":"MAX(IF(ISERROR(J208:J211),0,J208:J211))","v":0},{"$f":"MAX(IF(ISERROR(K208:K211),0,K208:K211))","v":0}]
[null,null,null,{"$f":"'[2]Consequence Criteria'!$A$7","v":0},{"$f":"VALUE((IF('2-Impact Assessment '!E208=\"vl\",\"1\",(IF('2-Impact Assessment '!E208=\"l\",\"2\",(IF('2-Impact Assessment '!E208=\"m\",\"3\",(IF('2-Impact Assessment '!E208=\"h\",\"4\",(IF('2-Impact Assessment '!E208=\"vh\",\"5\", NA())))))))))))","v":{"$error":"#N/A"}},{"$f":"VALUE((IF('2-Impact Assessment '!F208=\"vl\",\"1\",(IF('2-Impact Assessment '!F208=\"l\",\"2\",(IF('2-Impact Assessment '!F208=\"m\",\"3\",(IF('2-Impact Assessment '!F208=\"h\",\"4\",(IF('2-Impact Assessment '!F208=\"vh\",\"5\", NA())))))))))))","v":{"$error":"#N/A"}},{"$f":"VALUE((IF('2-Impact Assessment '!G208=\"vl\",\"1\",(IF('2-Impact Assessment '!G208=\"l\",\"2\",(IF('2-Impact Assessment '!G208=\"m\",\"3\",(IF('2-Impact Assessment '!G208=\"h\",\"4\",(IF('2-Impact Assessment '!G208=\"vh\",\"5\", NA())))))))))))","v":{"$error":"#N/A"}},{"$f":"VALUE((IF('2-Impact Assessment '!H208=\"vl\",\"1\",(IF('2-Impact Assessment '!H208=\"l\",\"2\",(IF('2-Impact Assessment '!H208=\"m\",\"3\",(IF('2-Impact Assessment '!H208=\"h\",\"4\",(IF('2-Impact Assessment '!H208=\"vh\",\"5\", NA())))))))))))","v":{"$error":"#N/A"}},{"$f":"VALUE((IF('2-Impact Assessment '!I208=\"vl\",\"1\",(IF('2-Impact Assessment '!I208=\"l\",\"2\",(IF('2-Impact Assessment '!I208=\"m\",\"3\",(IF('2-Impact Assessment '!I208=\"h\",\"4\",(IF('2-Impact Assessment '!I208=\"vh\",\"5\", NA())))))))))))","v":{"$error":"#N/A"}},{"$f":"VALUE((IF('2-Impact Assessment '!J208=\"vl\",\"1\",(IF('2-Impact Assessment '!J208=\"l\",\"2\",(IF('2-Impact Assessment '!J208=\"m\",\"3\",(IF('2-Impact Assessment '!J208=\"h\",\"4\",(IF('2-Impact Assessment '!J208=\"vh\",\"5\", NA())))))))))))","v":{"$error":"#N/A"}},{"$f":"VALUE((IF('2-Impact Assessment '!K208=\"vl\",\"1\",(IF('2-Impact Assessment '!K208=\"l\",\"2\",(IF('2-Impact Assessment '!K208=\"m\",\"3\",(IF('2-Impact Assessment '!K208=\"h\",\"4\",(IF('2-Impact Assessment '!K208=\"vh\",\"5\", NA())))))))))))","v":{"$error":"#N/A"}},null,null,{"$f":"IFERROR(INDEX($AA$12:$AG$12,MATCH(TRUE, AA208:AG208 >= 3, 0)),200)","v":200},null,{"$f":"IFERROR(INDEX($AA$12:$AG$12,MATCH(TRUE, AA208:AG208 >= 4, 0)),200)","v":200},null,null,null,null,null,null,null,null,null,null,{"$f":"MAX(IF(ISERROR(E209:E212),0,E209:E212))","v":0},{"$f":"MAX(IF(ISERROR(F209:F212),0,F209:F212))","v":0},{"$f":"MAX(IF(ISERROR(G209:G212),0,G209:G212))","v":0},{"$f":"MAX(IF(ISERROR(H209:H212),0,H209:H212))","v":0},{"$f":"MAX(IF(ISERROR(I209:I212),0,I209:I212))","v":0},{"$f":"MAX(IF(ISERROR(J209:J212),0,J209:J212))","v":0},{"$f":"MAX(IF(ISERROR(K209:K212),0,K209:K212))","v":0}]
[null,null,null,{"$f":"'[2]Consequence Criteria'!$A$8","v":0},{"$f":"VALUE((IF('2-Impact Assessment '!E209=\"vl\",\"1\",(IF('2-Impact Assessment '!E209=\"l\",\"2\",(IF('2-Impact Assessment '!E209=\"m\",\"3\",(IF('2-Impact Assessment '!E209=\"h\",\"4\",(IF('2-Impact Assessment '!E209=\"vh\",\"5\", NA())))))))))))","v":{"$error":"#N/A"}},{"$f":"VALUE((IF('2-Impact Assessment '!F209=\"vl\",\"1\",(IF('2-Impact Assessment '!F209=\"l\",\"2\",(IF('2-Impact Assessment '!F209=\"m\",\"3\",(IF('2-Impact Assessment '!F209=\"h\",\"4\",(IF('2-Impact Assessment '!F209=\"vh\",\"5\", NA())))))))))))","v":{"$error":"#N/A"}},{"$f":"VALUE((IF('2-Impact Assessment '!G209=\"vl\",\"1\",(IF('2-Impact Assessment '!G209=\"l\",\"2\",(IF('2-Impact Assessment '!G209=\"m\",\"3\",(IF('2-Impact Assessment '!G209=\"h\",\"4\",(IF('2-Impact Assessment '!G209=\"vh\",\"5\", NA())))))))))))","v":{"$error":"#N/A"}},{"$f":"VALUE((IF('2-Impact Assessment '!H209=\"vl\",\"1\",(IF('2-Impact Assessment '!H209=\"l\",\"2\",(IF('2-Impact Assessment '!H209=\"m\",\"3\",(IF('2-Impact Assessment '!H209=\"h\",\"4\",(IF('2-Impact Assessment '!H209=\"vh\",\"5\", NA())))))))))))","v":{"$error":"#N/A"}},{"$f":"VALUE((IF('2-Impact Assessment '!I209=\"vl\",\"1\",(IF('2-Impact Assessment '!I209=\"l\",\"2\",(IF('2-Impact Assessment '!I209=\"m\",\"3\",(IF('2-Impact Assessment '!I209=\"h\",\"4\",(IF('2-Impact Assessment '!I209=\"vh\",\"5\", NA())))))))))))","v":{"$error":"#N/A"}},{"$f":"VALUE((IF('2-Impact Assessment '!J209=\"vl\",\"1\",(IF('2-Impact Assessment '!J209=\"l\",\"2\",(IF('2-Impact Assessment '!J209=\"m\",\"3\",(IF('2-Impact Assessment '!J209=\"h\",\"4\",(IF('2-Impact Assessment '!J209=\"vh\",\"5\", NA())))))))))))","v":{"$error":"#N/A"}},{"$f":"VALUE((IF('2-Impact Assessment '!K209=\"vl\",\"1\",(IF('2-Impact Assessment '!K209=\"l\",\"2\",(IF('2-Impact Assessment '!K209=\"m\",\"3\",(IF('2-Impact Assessment '!K209=\"h\",\"4\",(IF('2-Impact Assessment '!K209=\"vh\",\"5\", NA())))))))))))","v":{"$error":"#N/A"}},null,null,{"$f":"IFERROR(INDEX($AA$12:$AG$12,MATCH(TRUE, AA209:AG209 >= 3, 0)),200)","v":200},null,{"$f":"IFERROR(INDEX($AA$12:$AG$12,MATCH(TRUE, AA209:AG209 >= 4, 0)),200)","v":200},null,null,null,null,null,null,null,null,null,null,{"$f":"MAX(IF(ISERROR(E210:E213),0,E210:E213))","v":0},{"$f":"MAX(IF(ISERROR(F210:F213),0,F210:F213))","v":0},{"$f":"MAX(IF(ISERROR(G210:G213),0,G210:G213))","v":0},{"$f":"MAX(IF(ISERROR(H210:H213),0,H210:H213))","v":0},{"$f":"MAX(IF(ISERROR(I210:I213),0,I210:I213))","v":0},{"$f":"MAX(IF(ISERROR(J210:J213),0,J210:J213))","v":0},{"$f":"MAX(IF(ISERROR(K210:K213),0,K210:K213))","v":0}]
[null,null,null,{"$f":"'[2]Consequence Criteria'!$A$9","v":0},{"$f":"VALUE((IF('2-Impact Assessment '!E210=\"vl\",\"1\",(IF('2-Impact Assessment '!E210=\"l\",\"2\",(IF('2-Impact Assessment '!E210=\"m\",\"3\",(IF('2-Impact Assessment '!E210=\"h\",\"4\",(IF('2-Impact Assessment '!E210=\"vh\",\"5\", NA())))))))))))","v":{"$error":"#N/A"}},{"$f":"VALUE((IF('2-Impact Assessment '!F210=\"vl\",\"1\",(IF('2-Impact Assessment '!F210=\"l\",\"2\",(IF('2-Impact Assessment '!F210=\"m\",\"3\",(IF('2-Impact Assessment '!F210=\"h\",\"4\",(IF('2-Impact Assessment '!F210=\"vh\",\"5\", NA())))))))))))","v":{"$error":"#N/A"}},{"$f":"VALUE((IF('2-Impact Assessment '!G210=\"vl\",\"1\",(IF('2-Impact Assessment '!G210=\"l\",\"2\",(IF('2-Impact Assessment '!G210=\"m\",\"3\",(IF('2-Impact Assessment '!G210=\"h\",\"4\",(IF('2-Impact Assessment '!G210=\"vh\",\"5\", NA())))))))))))","v":{"$error":"#N/A"}},{"$f":"VALUE((IF('2-Impact Assessment '!H210=\"vl\",\"1\",(IF('2-Impact Assessment '!H210=\"l\",\"2\",(IF('2-Impact Assessment '!H210=\"m\",\"3\",(IF('2-Impact Assessment '!H210=\"h\",\"4\",(IF('2-Impact Assessment '!H210=\"vh\",\"5\", NA())))))))))))","v":{"$error":"#N/A"}},{"$f":"VALUE((IF('2-Impact Assessment '!I210=\"vl\",\"1\",(IF('2-Impact Assessment '!I210=\"l\",\"2\",(IF('2-Impact Assessment '!I210=\"m\",\"3\",(IF('2-Impact Assessment '!I210=\"h\",\"4\",(IF('2-Impact Assessment '!I210=\"vh\",\"5\", NA())))))))))))","v":{"$error":"#N/A"}},{"$f":"VALUE((IF('2-Impact Assessment '!J210=\"vl\",\"1\",(IF('2-Impact Assessment '!J210=\"l\",\"2\",(IF('2-Impact Assessment '!J210=\"m\",\"3\",(IF('2-Impact Assessment '!J210=\"h\",\"4\",(IF('2-Impact Assessment '!J210=\"vh\",\"5\", NA())))))))))))","v":{"$error":"#N/A"}},{"$f":"VALUE((IF('2-Impact Assessment '!K210=\"vl\",\"1\",(IF('2-Impact Assessment '!K210=\"l\",\"2\",(IF('2-Impact Assessment '!K210=\"m\",\"3\",(IF('2-Impact Assessment '!K210=\"h\",\"4\",(IF('2-Impact Assessment '!K210=\"vh\",\"5\", NA())))))))))))","v":{"$error":"#N/A"}},null,null,{"$f":"IFERROR(INDEX($AA$12:$AG$12,MATCH(TRUE, AA210:AG210 >= 3, 0)),200)","v":200},null,{"$f":"IFERROR(INDEX($AA$12:$AG$12,MATCH(TRUE, AA210:AG210 >= 4, 0)),200)","v":200},null,null,null,null,null,null,null,null,null,null,{"$f":"MAX(IF(ISERROR(E211:E214),0,E211:E214))","v":0},{"$f":"MAX(IF(ISERROR(F211:F214),0,F211:F214))","v":0},{"$f":"MAX(IF(ISERROR(G211:G214),0,G211:G214))","v":0},{"$f":"MAX(IF(ISERROR(H211:H214),0,H211:H214))","v":0},{"$f":"MAX(IF(ISERROR(I211:I214),0,I211:I214))","v":0},{"$f":"MAX(IF(ISERROR(J211:J214),0,J211:J214))","v":0},{"$f":"MAX(IF(ISERROR(K211:K214),0,K211:K214))","v":0}]
[null,null,null,{"$f":"'[2]Consequence Criteria'!$A$10","v":0},{"$f":"VALUE((IF('2-Impact Assessment '!E211=\"vl\",\"1\",(IF('2-Impact Assessment '!E211=\"l\",\"2\",(IF('2-Impact Assessment '!E211=\"m\",\"3\",(IF('2-Impact Assessment '!E211=\"h\",\"4\",(IF('2-Impact Assessment '!E211=\"vh\",\"5\", NA())))))))))))","v":{"$error":"#N/A"}},{"$f":"VALUE((IF('2-Impact Assessment '!F211=\"vl\",\"1\",(IF('2-Impact Assessment '!F211=\"l\",\"2\",(IF('2-Impact Assessment '!F211=\"m\",\"3\",(IF('2-Impact Assessment '!F211=\"h\",\"4\",(IF('2-Impact Assessment '!F211=\"vh\",\"5\", NA())))))))))))","v":{"$error":"#N/A"}},{"$f":"VALUE((IF('2-Impact Assessment '!G211=\"vl\",\"1\",(IF('2-Impact Assessment '!G211=\"l\",\"2\",(IF('2-Impact Assessment '!G211=\"m\",\"3\",(IF('2-Impact Assessment '!G211=\"h\",\"4\",(IF('2-Impact Assessment '!G211=\"vh\",\"5\", NA())))))))))))","v":{"$error":"#N/A"}},{"$f":"VALUE((IF('2-Impact Assessment '!H211=\"vl\",\"1\",(IF('2-Impact Assessment '!H211=\"l\",\"2\",(IF('2-Impact Assessment '!H211=\"m\",\"3\",(IF('2-Impact Assessment '!H211=\"h\",\"4\",(IF('2-Impact Assessment '!H211=\"vh\",\"5\", NA())))))))))))","v":{"$error":"#N/A"}},{"$f":"VALUE((IF('2-Impact Assessment '!I211=\"vl\",\"1\",(IF('2-Impact Assessment '!I211=\"l\",\"2\",(IF('2-Impact Assessment '!I211=\"m\",\"3\",(IF('2-Impact Assessment '!I211=\"h\",\"4\",(IF('2-Impact Assessment '!I211=\"vh\",\"5\", NA())))))))))))","v":{"$error":"#N/A"}},{"$f":"VALUE((IF('2-Impact Assessment '!J211=\"vl\",\"1\",(IF('2-Impact Assessment '!J211=\"l\",\"2\",(IF('2-Impact Assessment '!J211=\"m\",\"3\",(IF('2-Impact Assessment '!J211=\"h\",\"4\",(IF('2-Impact Assessment '!J211=\"vh\",\"5\", NA())))))))))))","v":{"$error":"#N/A"}},{"$f":"VALUE((IF('2-Impact Assessment '!K211=\"vl\",\"1\",(IF('2-Impact Assessment '!K211=\"l\",\"2\",(IF('2-Impact Assessment '!K211=\"m\",\"3\",(IF('2-Impact Assessment '!K211=\"h\",\"4\",(IF('2-Impact Assessment '!K211=\"vh\",\"5\", NA())))))))))))","v":{"$error":"#N/A"}},null,null,{"$f":"IFERROR(INDEX($AA$12:$AG$12,MATCH(TRUE, AA211:AG211 >= 3, 0)),200)","v":200},null,{"$f":"IFERROR(INDEX($AA$12:$AG$12,MATCH(TRUE, AA211:AG211 >= 4, 0)),200)","v":200},null,null,null,null,null,null,null,null,null,null,{"$f":"MAX(IF(ISERROR(E212:E215),0,E212:E215))","v":0},{"$f":"MAX(IF(ISERROR(F212:F215),0,F212:F215))","v":0},{"$f":"MAX(IF(ISERROR(G212:G215),0,G212:G215))","v":0},{"$f":"MAX(IF(ISERROR(H212:H215),0,H212:H215))","v":0},{"$f":"MAX(IF(ISERROR(I212:I215),0,I212:I215))","v":0},{"$f":"MAX(IF(ISERROR(J212:J215),0,J212:J215))","v":0},{"$f":"MAX(IF(ISERROR(K212:K215),0,K212:K215))","v":0}]
[null,{"$f":"IF(ISTEXT('1-Services & Function'!D52),'1-Services & Function'!D52,\"\")","v":""},23,null,"1 hr","4 hr","1 day","2 days","5 days","1 month","> 6 months","Comments",null,{"$f":"IFERROR(INDEX($AA$12:$AG$12,MATCH(TRUE, AA212:AG212 >= 3, 0)),200)","v":200},null,{"$f":"IFERROR(INDEX($AA$12:$AG$12,MATCH(TRUE, AA212:AG212 >= 4, 0)),200)","v":200},null,null,null,null,null,null,null,null,null,null,{"$f":"MAX(IF(ISERROR(E213:E216),0,E213:E216))","v":0},{"$f":"MAX(IF(ISERROR(F213:F216),0,F213:F216))","v":0},{"$f":"MAX(IF(ISERROR(G213:G216),0,G213:G216))","v":0},{"$f":"MAX(IF(ISERROR(H213:H216),0,H213:H216))","v":0},{"$f":"MAX(IF(ISERROR(I213:I216),0,I213:I216))","v":0},{"$f":"MAX(IF(ISERROR(J213:J216),0,J213:J216))","v":0},{"$f":"MAX(IF(ISERROR(K213:K216),0,K213:K216))","v":0}]
[null,null,null,{"$f":"'[2]Consequence Criteria'!$A$3","v":"Economic"},{"$f":"VALUE((IF('2-Impact Assessment '!E213=\"vl\",\"1\",(IF('2-Impact Assessment '!E213=\"l\",\"2\",(IF('2-Impact Assessment '!E213=\"m\",\"3\",(IF('2-Impact Assessment '!E213=\"h\",\"4\",(IF('2-Impact Assessment '!E213=\"vh\",\"5\", NA())))))))))))","v":{"$error":"#N/A"}},{"$f":"VALUE((IF('2-Impact Assessment '!F213=\"vl\",\"1\",(IF('2-Impact Assessment '!F213=\"l\",\"2\",(IF('2-Impact Assessment '!F213=\"m\",\"3\",(IF('2-Impact Assessment '!F213=\"h\",\"4\",(IF('2-Impact Assessment '!F213=\"vh\",\"5\", NA())))))))))))","v":{"$error":"#N/A"}},{"$f":"VALUE((IF('2-Impact Assessment '!G213=\"vl\",\"1\",(IF('2-Impact Assessment '!G213=\"l\",\"2\",(IF('2-Impact Assessment '!G213=\"m\",\"3\",(IF('2-Impact Assessment '!G213=\"h\",\"4\",(IF('2-Impact Assessment '!G213=\"vh\",\"5\", NA())))))))))))","v":{"$error":"#N/A"}},{"$f":"VALUE((IF('2-Impact Assessment '!H213=\"vl\",\"1\",(IF('2-Impact Assessment '!H213=\"l\",\"2\",(IF('2-Impact Assessment '!H213=\"m\",\"3\",(IF('2-Impact Assessment '!H213=\"h\",\"4\",(IF('2-Impact Assessment '!H213=\"vh\",\"5\", NA())))))))))))","v":{"$error":"#N/A"}},{"$f":"VALUE((IF('2-Impact Assessment '!I213=\"vl\",\"1\",(IF('2-Impact Assessment '!I213=\"l\",\"2\",(IF('2-Impact Assessment '!I213=\"m\",\"3\",(IF('2-Impact Assessment '!I213=\"h\",\"4\",(IF('2-Impact Assessment '!I213=\"vh\",\"5\", NA())))))))))))","v":{"$error":"#N/A"}},{"$f":"VALUE((IF('2-Impact Assessment '!J213=\"vl\",\"1\",(IF('2-Impact Assessment '!J213=\"l\",\"2\",(IF('2-Impact Assessment '!J213=\"m\",\"3\",(IF('2-Impact Assessment '!J213=\"h\",\"4\",(IF('2-Impact Assessment '!J213=\"vh\",\"5\", NA())))))))))))","v":{"$error":"#N/A"}},{"$f":"VALUE((IF('2-Impact Assessment '!K213=\"vl\",\"1\",(IF('2-Impact Assessment '!K213=\"l\",\"2\",(IF('2-Impact Assessment '!K213=\"m\",\"3\",(IF('2-Impact Assessment '!K213=\"h\",\"4\",(IF('2-Impact Assessment '!K213=\"vh\",\"5\", NA())))))))))))","v":{"$error":"#N/A"}},null,null,{"$f":"IFERROR(INDEX($AA$12:$AG$12,MATCH(TRUE, AA213:AG213 >= 3, 0)),200)","v":200},null,{"$f":"IFERROR(INDEX($AA$12:$AG$12,MATCH(TRUE, AA213:AG213 >= 4, 0)),200)","v":200},null,null,null,null,null,null,null,null,null,null,{"$f":"MAX(IF(ISERROR(E214:E217),0,E214:E217))","v":0},{"$f":"MAX(IF(ISERROR(F214:F217),0,F214:F217))","v":0},{"$f":"MAX(IF(ISERROR(G214:G217),0,G214:G217))","v":0},{"$f":"MAX(IF(ISERROR(H214:H217),0,H214:H217))","v":0},{"$f":"MAX(IF(ISERROR(I214:I217),0,I214:I217))","v":0},{"$f":"MAX(IF(ISERROR(J214:J217),0,J214:J217))","v":0},{"$f":"MAX(IF(ISERROR(K214:K217),0,K214:K217))","v":0}]
[null,null,null,{"$f":"'[2]Consequence Criteria'!$A$4","v":"Social"},{"$f":"VALUE((IF('2-Impact Assessment '!E214=\"vl\",\"1\",(IF('2-Impact Assessment '!E214=\"l\",\"2\",(IF('2-Impact Assessment '!E214=\"m\",\"3\",(IF('2-Impact Assessment '!E214=\"h\",\"4\",(IF('2-Impact Assessment '!E214=\"vh\",\"5\", NA())))))))))))","v":{"$error":"#N/A"}},{"$f":"VALUE((IF('2-Impact Assessment '!F214=\"vl\",\"1\",(IF('2-Impact Assessment '!F214=\"l\",\"2\",(IF('2-Impact Assessment '!F214=\"m\",\"3\",(IF('2-Impact Assessment '!F214=\"h\",\"4\",(IF('2-Impact Assessment '!F214=\"vh\",\"5\", NA())))))))))))","v":{"$error":"#N/A"}},{"$f":"VALUE((IF('2-Impact Assessment '!G214=\"vl\",\"1\",(IF('2-Impact Assessment '!G214=\"l\",\"2\",(IF('2-Impact Assessment '!G214=\"m\",\"3\",(IF('2-Impact Assessment '!G214=\"h\",\"4\",(IF('2-Impact Assessment '!G214=\"vh\",\"5\", NA())))))))))))","v":{"$error":"#N/A"}},{"$f":"VALUE((IF('2-Impact Assessment '!H214=\"vl\",\"1\",(IF('2-Impact Assessment '!H214=\"l\",\"2\",(IF('2-Impact Assessment '!H214=\"m\",\"3\",(IF('2-Impact Assessment '!H214=\"h\",\"4\",(IF('2-Impact Assessment '!H214=\"vh\",\"5\", NA())))))))))))","v":{"$error":"#N/A"}},{"$f":"VALUE((IF('2-Impact Assessment '!I214=\"vl\",\"1\",(IF('2-Impact Assessment '!I214=\"l\",\"2\",(IF('2-Impact Assessment '!I214=\"m\",\"3\",(IF('2-Impact Assessment '!I214=\"h\",\"4\",(IF('2-Impact Assessment '!I214=\"vh\",\"5\", NA())))))))))))","v":{"$error":"#N/A"}},{"$f":"VALUE((IF('2-Impact Assessment '!J214=\"vl\",\"1\",(IF('2-Impact Assessment '!J214=\"l\",\"2\",(IF('2-Impact Assessment '!J214=\"m\",\"3\",(IF('2-Impact Assessment '!J214=\"h\",\"4\",(IF('2-Impact Assessment '!J214=\"vh\",\"5\", NA())))))))))))","v":{"$error":"#N/A"}},{"$f":"VALUE((IF('2-Impact Assessment '!K214=\"vl\",\"1\",(IF('2-Impact Assessment '!K214=\"l\",\"2\",(IF('2-Impact Assessment '!K214=\"m\",\"3\",(IF('2-Impact Assessment '!K214=\"h\",\"4\",(IF('2-Impact Assessment '!K214=\"vh\",\"5\", NA())))))))))))","v":{"$error":"#N/A"}},null,null,{"$f":"IFERROR(INDEX($AA$12:$AG$12,MATCH(TRUE, AA214:AG214 >= 3, 0)),200)","v":200},null,{"$f":"IFERROR(INDEX($AA$12:$AG$12,MATCH(TRUE, AA214:AG214 >= 4, 0)),200)","v":200},null,null,null,null,null,null,null,null,null,null,{"$f":"MAX(IF(ISERROR(E215:E218),0,E215:E218))","v":0},{"$f":"MAX(IF(ISERROR(F215:F218),0,F215:F218))","v":0},{"$f":"MAX(IF(ISERROR(G215:G218),0,G215:G218))","v":0},{"$f":"MAX(IF(ISERROR(H215:H218),0,H215:H218))","v":0},{"$f":"MAX(IF(ISERROR(I215:I218),0,I215:I218))","v":0},{"$f":"MAX(IF(ISERROR(J215:J218),0,J215:J218))","v":0},{"$f":"MAX(IF(ISERROR(K215:K218),0,K215:K218))","v":0}]
[null,null,null,{"$f":"'[2]Consequence Criteria'!$A$5","v":"Cultural"},{"$f":"VALUE((IF('2-Impact Assessment '!E215=\"vl\",\"1\",(IF('2-Impact Assessment '!E215=\"l\",\"2\",(IF('2-Impact Assessment '!E215=\"m\",\"3\",(IF('2-Impact Assessment '!E215=\"h\",\"4\",(IF('2-Impact Assessment '!E215=\"vh\",\"5\", NA())))))))))))","v":{"$error":"#N/A"}},{"$f":"VALUE((IF('2-Impact Assessment '!F215=\"vl\",\"1\",(IF('2-Impact Assessment '!F215=\"l\",\"2\",(IF('2-Impact Assessment '!F215=\"m\",\"3\",(IF('2-Impact Assessment '!F215=\"h\",\"4\",(IF('2-Impact Assessment '!F215=\"vh\",\"5\", NA())))))))))))","v":{"$error":"#N/A"}},{"$f":"VALUE((IF('2-Impact Assessment '!G215=\"vl\",\"1\",(IF('2-Impact Assessment '!G215=\"l\",\"2\",(IF('2-Impact Assessment '!G215=\"m\",\"3\",(IF('2-Impact Assessment '!G215=\"h\",\"4\",(IF('2-Impact Assessment '!G215=\"vh\",\"5\", NA())))))))))))","v":{"$error":"#N/A"}},{"$f":"VALUE((IF('2-Impact Assessment '!H215=\"vl\",\"1\",(IF('2-Impact Assessment '!H215=\"l\",\"2\",(IF('2-Impact Assessment '!H215=\"m\",\"3\",(IF('2-Impact Assessment '!H215=\"h\",\"4\",(IF('2-Impact Assessment '!H215=\"vh\",\"5\", NA())))))))))))","v":{"$error":"#N/A"}},{"$f":"VALUE((IF('2-Impact Assessment '!I215=\"vl\",\"1\",(IF('2-Impact Assessment '!I215=\"l\",\"2\",(IF('2-Impact Assessment '!I215=\"m\",\"3\",(IF('2-Impact Assessment '!I215=\"h\",\"4\",(IF('2-Impact Assessment '!I215=\"vh\",\"5\", NA())))))))))))","v":{"$error":"#N/A"}},{"$f":"VALUE((IF('2-Impact Assessment '!J215=\"vl\",\"1\",(IF('2-Impact Assessment '!J215=\"l\",\"2\",(IF('2-Impact Assessment '!J215=\"m\",\"3\",(IF('2-Impact Assessment '!J215=\"h\",\"4\",(IF('2-Impact Assessment '!J215=\"vh\",\"5\", NA())))))))))))","v":{"$error":"#N/A"}},{"$f":"VALUE((IF('2-Impact Assessment '!K215=\"vl\",\"1\",(IF('2-Impact Assessment '!K215=\"l\",\"2\",(IF('2-Impact Assessment '!K215=\"m\",\"3\",(IF('2-Impact Assessment '!K215=\"h\",\"4\",(IF('2-Impact Assessment '!K215=\"vh\",\"5\", NA())))))))))))","v":{"$error":"#N/A"}},null,null,{"$f":"IFERROR(INDEX($AA$12:$AG$12,MATCH(TRUE, AA215:AG215 >= 3, 0)),200)","v":200},null,{"$f":"IFERROR(INDEX($AA$12:$AG$12,MATCH(TRUE, AA215:AG215 >= 4, 0)),200)","v":200},null,null,null,null,null,null,null,null,null,null,{"$f":"MAX(IF(ISERROR(E216:E219),0,E216:E219))","v":0},{"$f":"MAX(IF(ISERROR(F216:F219),0,F216:F219))","v":0},{"$f":"MAX(IF(ISERROR(G216:G219),0,G216:G219))","v":0},{"$f":"MAX(IF(ISERROR(H216:H219),0,H216:H219))","v":0},{"$f":"MAX(IF(ISERROR(I216:I219),0,I216:I219))","v":0},{"$f":"MAX(IF(ISERROR(J216:J219),0,J216:J219))","v":0},{"$f":"MAX(IF(ISERROR(K216:K219),0,K216:K219))","v":0}]
[null,null,null,{"$f":"'[2]Consequence Criteria'!$A$6","v":"Environmental"},{"$f":"VALUE((IF('2-Impact Assessment '!E216=\"vl\",\"1\",(IF('2-Impact Assessment '!E216=\"l\",\"2\",(IF('2-Impact Assessment '!E216=\"m\",\"3\",(IF('2-Impact Assessment '!E216=\"h\",\"4\",(IF('2-Impact Assessment '!E216=\"vh\",\"5\", NA())))))))))))","v":{"$error":"#N/A"}},{"$f":"VALUE((IF('2-Impact Assessment '!F216=\"vl\",\"1\",(IF('2-Impact Assessment '!F216=\"l\",\"2\",(IF('2-Impact Assessment '!F216=\"m\",\"3\",(IF('2-Impact Assessment '!F216=\"h\",\"4\",(IF('2-Impact Assessment '!F216=\"vh\",\"5\", NA())))))))))))","v":{"$error":"#N/A"}},{"$f":"VALUE((IF('2-Impact Assessment '!G216=\"vl\",\"1\",(IF('2-Impact Assessment '!G216=\"l\",\"2\",(IF('2-Impact Assessment '!G216=\"m\",\"3\",(IF('2-Impact Assessment '!G216=\"h\",\"4\",(IF('2-Impact Assessment '!G216=\"vh\",\"5\", NA())))))))))))","v":{"$error":"#N/A"}},{"$f":"VALUE((IF('2-Impact Assessment '!H216=\"vl\",\"1\",(IF('2-Impact Assessment '!H216=\"l\",\"2\",(IF('2-Impact Assessment '!H216=\"m\",\"3\",(IF('2-Impact Assessment '!H216=\"h\",\"4\",(IF('2-Impact Assessment '!H216=\"vh\",\"5\", NA())))))))))))","v":{"$error":"#N/A"}},{"$f":"VALUE((IF('2-Impact Assessment '!I216=\"vl\",\"1\",(IF('2-Impact Assessment '!I216=\"l\",\"2\",(IF('2-Impact Assessment '!I216=\"m\",\"3\",(IF('2-Impact Assessment '!I216=\"h\",\"4\",(IF('2-Impact Assessment '!I216=\"vh\",\"5\", NA())))))))))))","v":{"$error":"#N/A"}},{"$f":"VALUE((IF('2-Impact Assessment '!J216=\"vl\",\"1\",(IF('2-Impact Assessment '!J216=\"l\",\"2\",(IF('2-Impact Assessment '!J216=\"m\",\"3\",(IF('2-Impact Assessment '!J216=\"h\",\"4\",(IF('2-Impact Assessment '!J216=\"vh\",\"5\", NA())))))))))))","v":{"$error":"#N/A"}},{"$f":"VALUE((IF('2-Impact Assessment '!K216=\"vl\",\"1\",(IF('2-Impact Assessment '!K216=\"l\",\"2\",(IF('2-Impact Assessment '!K216=\"m\",\"3\",(IF('2-Impact Assessment '!K216=\"h\",\"4\",(IF('2-Impact Assessment '!K216=\"vh\",\"5\", NA())))))))))))","v":{"$error":"#N/A"}},null,null,{"$f":"IFERROR(INDEX($AA$12:$AG$12,MATCH(TRUE, AA216:AG216 >= 3, 0)),200)","v":200},null,{"$f":"IFERROR(INDEX($AA$12:$AG$12,MATCH(TRUE, AA216:AG216 >= 4, 0)),200)","v":200},null,null,null,null,null,null,null,null,null,null,{"$f":"MAX(IF(ISERROR(E217:E220),0,E217:E220))","v":0},{"$f":"MAX(IF(ISERROR(F217:F220),0,F217:F220))","v":0},{"$f":"MAX(IF(ISERROR(G217:G220),0,G217:G220))","v":0},{"$f":"MAX(IF(ISERROR(H217:H220),0,H217:H220))","v":0},{"$f":"MAX(IF(ISERROR(I217:I220),0,I217:I220))","v":0},{"$f":"MAX(IF(ISERROR(J217:J220),0,J217:J220))","v":0},{"$f":"MAX(IF(ISERROR(K217:K220),0,K217:K220))","v":0}]
[null,null,null,{"$f":"'[2]Consequence Criteria'!$A$7","v":0},{"$f":"VALUE((IF('2-Impact Assessment '!E217=\"vl\",\"1\",(IF('2-Impact Assessment '!E217=\"l\",\"2\",(IF('2-Impact Assessment '!E217=\"m\",\"3\",(IF('2-Impact Assessment '!E217=\"h\",\"4\",(IF('2-Impact Assessment '!E217=\"vh\",\"5\", NA())))))))))))","v":{"$error":"#N/A"}},{"$f":"VALUE((IF('2-Impact Assessment '!F217=\"vl\",\"1\",(IF('2-Impact Assessment '!F217=\"l\",\"2\",(IF('2-Impact Assessment '!F217=\"m\",\"3\",(IF('2-Impact Assessment '!F217=\"h\",\"4\",(IF('2-Impact Assessment '!F217=\"vh\",\"5\", NA())))))))))))","v":{"$error":"#N/A"}},{"$f":"VALUE((IF('2-Impact Assessment '!G217=\"vl\",\"1\",(IF('2-Impact Assessment '!G217=\"l\",\"2\",(IF('2-Impact Assessment '!G217=\"m\",\"3\",(IF('2-Impact Assessment '!G217=\"h\",\"4\",(IF('2-Impact Assessment '!G217=\"vh\",\"5\", NA())))))))))))","v":{"$error":"#N/A"}},{"$f":"VALUE((IF('2-Impact Assessment '!H217=\"vl\",\"1\",(IF('2-Impact Assessment '!H217=\"l\",\"2\",(IF('2-Impact Assessment '!H217=\"m\",\"3\",(IF('2-Impact Assessment '!H217=\"h\",\"4\",(IF('2-Impact Assessment '!H217=\"vh\",\"5\", NA())))))))))))","v":{"$error":"#N/A"}},{"$f":"VALUE((IF('2-Impact Assessment '!I217=\"vl\",\"1\",(IF('2-Impact Assessment '!I217=\"l\",\"2\",(IF('2-Impact Assessment '!I217=\"m\",\"3\",(IF('2-Impact Assessment '!I217=\"h\",\"4\",(IF('2-Impact Assessment '!I217=\"vh\",\"5\", NA())))))))))))","v":{"$error":"#N/A"}},{"$f":"VALUE((IF('2-Impact Assessment '!J217=\"vl\",\"1\",(IF('2-Impact Assessment '!J217=\"l\",\"2\",(IF('2-Impact Assessment '!J217=\"m\",\"3\",(IF('2-Impact Assessment '!J217=\"h\",\"4\",(IF('2-Impact Assessment '!J217=\"vh\",\"5\", NA())))))))))))","v":{"$error":"#N/A"}},{"$f":"VALUE((IF('2-Impact Assessment '!K217=\"vl\",\"1\",(IF('2-Impact Assessment '!K217=\"l\",\"2\",(IF('2-Impact Assessment '!K217=\"m\",\"3\",(IF('2-Impact Assessment '!K217=\"h\",\"4\",(IF('2-Impact Assessment '!K217=\"vh\",\"5\", NA())))))))))))","v":{"$error":"#N/A"}},null,null,{"$f":"IFERROR(INDEX($AA$12:$AG$12,MATCH(TRUE, AA217:AG217 >= 3, 0)),200)","v":200},null,{"$f":"IFERROR(INDEX($AA$12:$AG$12,MATCH(TRUE, AA217:AG217 >= 4, 0)),200)","v":200},null,null,null,null,null,null,null,null,null,null,{"$f":"MAX(IF(ISERROR(E218:E221),0,E218:E221))","v":0},{"$f":"MAX(IF(ISERROR(F218:F221),0,F218:F221))","v":0},{"$f":"MAX(IF(ISERROR(G218:G221),0,G218:G221))","v":0},{"$f":"MAX(IF(ISERROR(H218:H221),0,H218:H221))","v":0},{"$f":"MAX(IF(ISERROR(I218:I221),0,I218:I221))","v":0},{"$f":"MAX(IF(ISERROR(J218:J221),0,J218:J221))","v":0},{"$f":"MAX(IF(ISERROR(K218:K221),0,K218:K221))","v":0}]
[null,null,null,{"$f":"'[2]Consequence Criteria'!$A$8","v":0},{"$f":"VALUE((IF('2-Impact Assessment '!E218=\"vl\",\"1\",(IF('2-Impact Assessment '!E218=\"l\",\"2\",(IF('2-Impact Assessment '!E218=\"m\",\"3\",(IF('2-Impact Assessment '!E218=\"h\",\"4\",(IF('2-Impact Assessment '!E218=\"vh\",\"5\", NA())))))))))))","v":{"$error":"#N/A"}},{"$f":"VALUE((IF('2-Impact Assessment '!F218=\"vl\",\"1\",(IF('2-Impact Assessment '!F218=\"l\",\"2\",(IF('2-Impact Assessment '!F218=\"m\",\"3\",(IF('2-Impact Assessment '!F218=\"h\",\"4\",(IF('2-Impact Assessment '!F218=\"vh\",\"5\", NA())))))))))))","v":{"$error":"#N/A"}},{"$f":"VALUE((IF('2-Impact Assessment '!G218=\"vl\",\"1\",(IF('2-Impact Assessment '!G218=\"l\",\"2\",(IF('2-Impact Assessment '!G218=\"m\",\"3\",(IF('2-Impact Assessment '!G218=\"h\",\"4\",(IF('2-Impact Assessment '!G218=\"vh\",\"5\", NA())))))))))))","v":{"$error":"#N/A"}},{"$f":"VALUE((IF('2-Impact Assessment '!H218=\"vl\",\"1\",(IF('2-Impact Assessment '!H218=\"l\",\"2\",(IF('2-Impact Assessment '!H218=\"m\",\"3\",(IF('2-Impact Assessment '!H218=\"h\",\"4\",(IF('2-Impact Assessment '!H218=\"vh\",\"5\", NA())))))))))))","v":{"$error":"#N/A"}},{"$f":"VALUE((IF('2-Impact Assessment '!I218=\"vl\",\"1\",(IF('2-Impact Assessment '!I218=\"l\",\"2\",(IF('2-Impact Assessment '!I218=\"m\",\"3\",(IF('2-Impact Assessment '!I218=\"h\",\"4\",(IF('2-Impact Assessment '!I218=\"vh\",\"5\", NA())))))))))))","v":{"$error":"#N/A"}},{"$f":"VALUE((IF('2-Impact Assessment '!J218=\"vl\",\"1\",(IF('2-Impact Assessment '!J218=\"l\",\"2\",(IF('2-Impact Assessment '!J218=\"m\",\"3\",(IF('2-Impact Assessment '!J218=\"h\",\"4\",(IF('2-Impact Assessment '!J218=\"vh\",\"5\", NA())))))))))))","v":{"$error":"#N/A"}},{"$f":"VALUE((IF('2-Impact Assessment '!K218=\"vl\",\"1\",(IF('2-Impact Assessment '!K218=\"l\",\"2\",(IF('2-Impact Assessment '!K218=\"m\",\"3\",(IF('2-Impact Assessment '!K218=\"h\",\"4\",(IF('2-Impact Assessment '!K218=\"vh\",\"5\", NA())))))))))))","v":{"$error":"#N/A"}},null,null,{"$f":"IFERROR(INDEX($AA$12:$AG$12,MATCH(TRUE, AA218:AG218 >= 3, 0)),200)","v":200},null,{"$f":"IFERROR(INDEX($AA$12:$AG$12,MATCH(TRUE, AA218:AG218 >= 4, 0)),200)","v":200},null,null,null,null,null,null,null,null,null,null,{"$f":"MAX(IF(ISERROR(E219:E222),0,E219:E222))","v":0},{"$f":"MAX(IF(ISERROR(F219:F222),0,F219:F222))","v":0},{"$f":"MAX(IF(ISERROR(G219:G222),0,G219:G222))","v":0},{"$f":"MAX(IF(ISERROR(H219:H222),0,H219:H222))","v":0},{"$f":"MAX(IF(ISERROR(I219:I222),0,I219:I222))","v":0},{"$f":"MAX(IF(ISERROR(J219:J222),0,J219:J222))","v":0},{"$f":"MAX(IF(ISERROR(K219:K222),0,K219:K222))","v":0}]
[null,null,null,{"$f":"'[2]Consequence Criteria'!$A$9","v":0},{"$f":"VALUE((IF('2-Impact Assessment '!E219=\"vl\",\"1\",(IF('2-Impact Assessment '!E219=\"l\",\"2\",(IF('2-Impact Assessment '!E219=\"m\",\"3\",(IF('2-Impact Assessment '!E219=\"h\",\"4\",(IF('2-Impact Assessment '!E219=\"vh\",\"5\", NA())))))))))))","v":{"$error":"#N/A"}},{"$f":"VALUE((IF('2-Impact Assessment '!F219=\"vl\",\"1\",(IF('2-Impact Assessment '!F219=\"l\",\"2\",(IF('2-Impact Assessment '!F219=\"m\",\"3\",(IF('2-Impact Assessment '!F219=\"h\",\"4\",(IF('2-Impact Assessment '!F219=\"vh\",\"5\", NA())))))))))))","v":{"$error":"#N/A"}},{"$f":"VALUE((IF('2-Impact Assessment '!G219=\"vl\",\"1\",(IF('2-Impact Assessment '!G219=\"l\",\"2\",(IF('2-Impact Assessment '!G219=\"m\",\"3\",(IF('2-Impact Assessment '!G219=\"h\",\"4\",(IF('2-Impact Assessment '!G219=\"vh\",\"5\", NA())))))))))))","v":{"$error":"#N/A"}},{"$f":"VALUE((IF('2-Impact Assessment '!H219=\"vl\",\"1\",(IF('2-Impact Assessment '!H219=\"l\",\"2\",(IF('2-Impact Assessment '!H219=\"m\",\"3\",(IF('2-Impact Assessment '!H219=\"h\",\"4\",(IF('2-Impact Assessment '!H219=\"vh\",\"5\", NA())))))))))))","v":{"$error":"#N/A"}},{"$f":"VALUE((IF('2-Impact Assessment '!I219=\"vl\",\"1\",(IF('2-Impact Assessment '!I219=\"l\",\"2\",(IF('2-Impact Assessment '!I219=\"m\",\"3\",(IF('2-Impact Assessment '!I219=\"h\",\"4\",(IF('2-Impact Assessment '!I219=\"vh\",\"5\", NA())))))))))))","v":{"$error":"#N/A"}},{"$f":"VALUE((IF('2-Impact Assessment '!J219=\"vl\",\"1\",(IF('2-Impact Assessment '!J219=\"l\",\"2\",(IF('2-Impact Assessment '!J219=\"m\",\"3\",(IF('2-Impact Assessment '!J219=\"h\",\"4\",(IF('2-Impact Assessment '!J219=\"vh\",\"5\", NA())))))))))))","v":{"$error":"#N/A"}},{"$f":"VALUE((IF('2-Impact Assessment '!K219=\"vl\",\"1\",(IF('2-Impact Assessment '!K219=\"l\",\"2\",(IF('2-Impact Assessment '!K219=\"m\",\"3\",(IF('2-Impact Assessment '!K219=\"h\",\"4\",(IF('2-Impact Assessment '!K219=\"vh\",\"5\", NA())))))))))))","v":{"$error":"#N/A"}},null,null,{"$f":"IFERROR(INDEX($AA$12:$AG$12,MATCH(TRUE, AA219:AG219 >= 3, 0)),200)","v":200},null,{"$f":"IFERROR(INDEX($AA$12:$AG$12,MATCH(TRUE, AA219:AG219 >= 4, 0)),200)","v":200},null,null,null,null,null,null,null,null,null,null,{"$f":"MAX(IF(ISERROR(E220:E223),0,E220:E223))","v":0},{"$f":"MAX(IF(ISERROR(F220:F223),0,F220:F223))","v":0},{"$f":"MAX(IF(ISERROR(G220:G223),0,G220:G223))","v":0},{"$f":"MAX(IF(ISERROR(H220:H223),0,H220:H223))","v":0},{"$f":"MAX(IF(ISERROR(I220:I223),0,I220:I223))","v":0},{"$f":"MAX(IF(ISERROR(J220:J223),0,J220:J223))","v":0},{"$f":"MAX(IF(ISERROR(K220:K223),0,K220:K223))","v":0}]
[null,null,null,{"$f":"'[2]Consequence Criteria'!$A$10","v":0},{"$f":"VALUE((IF('2-Impact Assessment '!E220=\"vl\",\"1\",(IF('2-Impact Assessment '!E220=\"l\",\"2\",(IF('2-Impact Assessment '!E220=\"m\",\"3\",(IF('2-Impact Assessment '!E220=\"h\",\"4\",(IF('2-Impact Assessment '!E220=\"vh\",\"5\", NA())))))))))))","v":{"$error":"#N/A"}},{"$f":"VALUE((IF('2-Impact Assessment '!F220=\"vl\",\"1\",(IF('2-Impact Assessment '!F220=\"l\",\"2\",(IF('2-Impact Assessment '!F220=\"m\",\"3\",(IF('2-Impact Assessment '!F220=\"h\",\"4\",(IF('2-Impact Assessment '!F220=\"vh\",\"5\", NA())))))))))))","v":{"$error":"#N/A"}},{"$f":"VALUE((IF('2-Impact Assessment '!G220=\"vl\",\"1\",(IF('2-Impact Assessment '!G220=\"l\",\"2\",(IF('2-Impact Assessment '!G220=\"m\",\"3\",(IF('2-Impact Assessment '!G220=\"h\",\"4\",(IF('2-Impact Assessment '!G220=\"vh\",\"5\", NA())))))))))))","v":{"$error":"#N/A"}},{"$f":"VALUE((IF('2-Impact Assessment '!H220=\"vl\",\"1\",(IF('2-Impact Assessment '!H220=\"l\",\"2\",(IF('2-Impact Assessment '!H220=\"m\",\"3\",(IF('2-Impact Assessment '!H220=\"h\",\"4\",(IF('2-Impact Assessment '!H220=\"vh\",\"5\", NA())))))))))))","v":{"$error":"#N/A"}},{"$f":"VALUE((IF('2-Impact Assessment '!I220=\"vl\",\"1\",(IF('2-Impact Assessment '!I220=\"l\",\"2\",(IF('2-Impact Assessment '!I220=\"m\",\"3\",(IF('2-Impact Assessment '!I220=\"h\",\"4\",(IF('2-Impact Assessment '!I220=\"vh\",\"5\", NA())))))))))))","v":{"$error":"#N/A"}},{"$f":"VALUE((IF('2-Impact Assessment '!J220=\"vl\",\"1\",(IF('2-Impact Assessment '!J220=\"l\",\"2\",(IF('2-Impact Assessment '!J220=\"m\",\"3\",(IF('2-Impact Assessment '!J220=\"h\",\"4\",(IF('2-Impact Assessment '!J220=\"vh\",\"5\", NA())))))))))))","v":{"$error":"#N/A"}},{"$f":"VALUE((IF('2-Impact Assessment '!K220=\"vl\",\"1\",(IF('2-Impact Assessment '!K220=\"l\",\"2\",(IF('2-Impact Assessment '!K220=\"m\",\"3\",(IF('2-Impact Assessment '!K220=\"h\",\"4\",(IF('2-Impact Assessment '!K220=\"vh\",\"5\", NA())))))))))))","v":{"$error":"#N/A"}},null,null,{"$f":"IFERROR(INDEX($AA$12:$AG$12,MATCH(TRUE, AA220:AG220 >= 3, 0)),200)","v":200},null,{"$f":"IFERROR(INDEX($AA$12:$AG$12,MATCH(TRUE, AA220:AG220 >= 4, 0)),200)","v":200},null,null,null,null,null,null,null,null,null,null,{"$f":"MAX(IF(ISERROR(E221:E224),0,E221:E224))","v":0},{"$f":"MAX(IF(ISERROR(F221:F224),0,F221:F224))","v":0},{"$f":"MAX(IF(ISERROR(G221:G224),0,G221:G224))","v":0},{"$f":"MAX(IF(ISERROR(H221:H224),0,H221:H224))","v":0},{"$f":"MAX(IF(ISERROR(I221:I224),0,I221:I224))","v":0},{"$f":"MAX(IF(ISERROR(J221:J224),0,J221:J224))","v":0},{"$f":"MAX(IF(ISERROR(K221:K224),0,K221:K224))","v":0}]
[null,{"$f":"IF(ISTEXT('1-Services & Function'!D53),'1-Services & Function'!D53,\"\")","v":""},24,null,"1 hr","4 hr","1 day","2 days","5 days","1 month","> 6 months","Comments",null,{"$f":"IFERROR(INDEX($AA$12:$AG$12,MATCH(TRUE, AA221:AG221 >= 3, 0)),200)","v":200},null,{"$f":"IFERROR(INDEX($AA$12:$AG$12,MATCH(TRUE, AA221:AG221 >= 4, 0)),200)","v":200},null,null,null,null,null,null,null,null,null,null,{"$f":"MAX(IF(ISERROR(E222:E225),0,E222:E225))","v":0},{"$f":"MAX(IF(ISERROR(F222:F225),0,F222:F225))","v":0},{"$f":"MAX(IF(ISERROR(G222:G225),0,G222:G225))","v":0},{"$f":"MAX(IF(ISERROR(H222:H225),0,H222:H225))","v":0},{"$f":"MAX(IF(ISERROR(I222:I225),0,I222:I225))","v":0},{"$f":"MAX(IF(ISERROR(J222:J225),0,J222:J225))","v":0},{"$f":"MAX(IF(ISERROR(K222:K225),0,K222:K225))","v":0}]
[null,null,null,{"$f":"'[2]Consequence Criteria'!$A$3","v":"Economic"},{"$f":"VALUE((IF('2-Impact Assessment '!E222=\"vl\",\"1\",(IF('2-Impact Assessment '!E222=\"l\",\"2\",(IF('2-Impact Assessment '!E222=\"m\",\"3\",(IF('2-Impact Assessment '!E222=\"h\",\"4\",(IF('2-Impact Assessment '!E222=\"vh\",\"5\", NA())))))))))))","v":{"$error":"#N/A"}},{"$f":"VALUE((IF('2-Impact Assessment '!F222=\"vl\",\"1\",(IF('2-Impact Assessment '!F222=\"l\",\"2\",(IF('2-Impact Assessment '!F222=\"m\",\"3\",(IF('2-Impact Assessment '!F222=\"h\",\"4\",(IF('2-Impact Assessment '!F222=\"vh\",\"5\", NA())))))))))))","v":{"$error":"#N/A"}},{"$f":"VALUE((IF('2-Impact Assessment '!G222=\"vl\",\"1\",(IF('2-Impact Assessment '!G222=\"l\",\"2\",(IF('2-Impact Assessment '!G222=\"m\",\"3\",(IF('2-Impact Assessment '!G222=\"h\",\"4\",(IF('2-Impact Assessment '!G222=\"vh\",\"5\", NA())))))))))))","v":{"$error":"#N/A"}},{"$f":"VALUE((IF('2-Impact Assessment '!H222=\"vl\",\"1\",(IF('2-Impact Assessment '!H222=\"l\",\"2\",(IF('2-Impact Assessment '!H222=\"m\",\"3\",(IF('2-Impact Assessment '!H222=\"h\",\"4\",(IF('2-Impact Assessment '!H222=\"vh\",\"5\", NA())))))))))))","v":{"$error":"#N/A"}},{"$f":"VALUE((IF('2-Impact Assessment '!I222=\"vl\",\"1\",(IF('2-Impact Assessment '!I222=\"l\",\"2\",(IF('2-Impact Assessment '!I222=\"m\",\"3\",(IF('2-Impact Assessment '!I222=\"h\",\"4\",(IF('2-Impact Assessment '!I222=\"vh\",\"5\", NA())))))))))))","v":{"$error":"#N/A"}},{"$f":"VALUE((IF('2-Impact Assessment '!J222=\"vl\",\"1\",(IF('2-Impact Assessment '!J222=\"l\",\"2\",(IF('2-Impact Assessment '!J222=\"m\",\"3\",(IF('2-Impact Assessment '!J222=\"h\",\"4\",(IF('2-Impact Assessment '!J222=\"vh\",\"5\", NA())))))))))))","v":{"$error":"#N/A"}},{"$f":"VALUE((IF('2-Impact Assessment '!K222=\"vl\",\"1\",(IF('2-Impact Assessment '!K222=\"l\",\"2\",(IF('2-Impact Assessment '!K222=\"m\",\"3\",(IF('2-Impact Assessment '!K222=\"h\",\"4\",(IF('2-Impact Assessment '!K222=\"vh\",\"5\", NA())))))))))))","v":{"$error":"#N/A"}},null,null,{"$f":"IFERROR(INDEX($AA$12:$AG$12,MATCH(TRUE, AA222:AG222 >= 3, 0)),200)","v":200},null,{"$f":"IFERROR(INDEX($AA$12:$AG$12,MATCH(TRUE, AA222:AG222 >= 4, 0)),200)","v":200},null,null,null,null,null,null,null,null,null,null,{"$f":"MAX(IF(ISERROR(E223:E226),0,E223:E226))","v":0},{"$f":"MAX(IF(ISERROR(F223:F226),0,F223:F226))","v":0},{"$f":"MAX(IF(ISERROR(G223:G226),0,G223:G226))","v":0},{"$f":"MAX(IF(ISERROR(H223:H226),0,H223:H226))","v":0},{"$f":"MAX(IF(ISERROR(I223:I226),0,I223:I226))","v":0},{"$f":"MAX(IF(ISERROR(J223:J226),0,J223:J226))","v":0},{"$f":"MAX(IF(ISERROR(K223:K226),0,K223:K226))","v":0}]
[null,null,null,{"$f":"'[2]Consequence Criteria'!$A$4","v":"Social"},{"$f":"VALUE((IF('2-Impact Assessment '!E223=\"vl\",\"1\",(IF('2-Impact Assessment '!E223=\"l\",\"2\",(IF('2-Impact Assessment '!E223=\"m\",\"3\",(IF('2-Impact Assessment '!E223=\"h\",\"4\",(IF('2-Impact Assessment '!E223=\"vh\",\"5\", NA())))))))))))","v":{"$error":"#N/A"}},{"$f":"VALUE((IF('2-Impact Assessment '!F223=\"vl\",\"1\",(IF('2-Impact Assessment '!F223=\"l\",\"2\",(IF('2-Impact Assessment '!F223=\"m\",\"3\",(IF('2-Impact Assessment '!F223=\"h\",\"4\",(IF('2-Impact Assessment '!F223=\"vh\",\"5\", NA())))))))))))","v":{"$error":"#N/A"}},{"$f":"VALUE((IF('2-Impact Assessment '!G223=\"vl\",\"1\",(IF('2-Impact Assessment '!G223=\"l\",\"2\",(IF('2-Impact Assessment '!G223=\"m\",\"3\",(IF('2-Impact Assessment '!G223=\"h\",\"4\",(IF('2-Impact Assessment '!G223=\"vh\",\"5\", NA())))))))))))","v":{"$error":"#N/A"}},{"$f":"VALUE((IF('2-Impact Assessment '!H223=\"vl\",\"1\",(IF('2-Impact Assessment '!H223=\"l\",\"2\",(IF('2-Impact Assessment '!H223=\"m\",\"3\",(IF('2-Impact Assessment '!H223=\"h\",\"4\",(IF('2-Impact Assessment '!H223=\"vh\",\"5\", NA())))))))))))","v":{"$error":"#N/A"}},{"$f":"VALUE((IF('2-Impact Assessment '!I223=\"vl\",\"1\",(IF('2-Impact Assessment '!I223=\"l\",\"2\",(IF('2-Impact Assessment '!I223=\"m\",\"3\",(IF('2-Impact Assessment '!I223=\"h\",\"4\",(IF('2-Impact Assessment '!I223=\"vh\",\"5\", NA())))))))))))","v":{"$error":"#N/A"}},{"$f":"VALUE((IF('2-Impact Assessment '!J223=\"vl\",\"1\",(IF('2-Impact Assessment '!J223=\"l\",\"2\",(IF('2-Impact Assessment '!J223=\"m\",\"3\",(IF('2-Impact Assessment '!J223=\"h\",\"4\",(IF('2-Impact Assessment '!J223=\"vh\",\"5\", NA())))))))))))","v":{"$error":"#N/A"}},{"$f":"VALUE((IF('2-Impact Assessment '!K223=\"vl\",\"1\",(IF('2-Impact Assessment '!K223=\"l\",\"2\",(IF('2-Impact Assessment '!K223=\"m\",\"3\",(IF('2-Impact Assessment '!K223=\"h\",\"4\",(IF('2-Impact Assessment '!K223=\"vh\",\"5\", NA())))))))))))","v":{"$error":"#N/A"}},null,null,{"$f":"IFERROR(INDEX($AA$12:$AG$12,MATCH(TRUE, AA223:AG223 >= 3, 0)),200)","v":200},null,{"$f":"IFERROR(INDEX($AA$12:$AG$12,MATCH(TRUE, AA223:AG223 >= 4, 0)),200)","v":200},null,null,null,null,null,null,null,null,null,null,{"$f":"MAX(IF(ISERROR(E224:E227),0,E224:E227))","v":0},{"$f":"MAX(IF(ISERROR(F224:F227),0,F224:F227))","v":0},{"$f":"MAX(IF(ISERROR(G224:G227),0,G224:G227))","v":0},{"$f":"MAX(IF(ISERROR(H224:H227),0,H224:H227))","v":0},{"$f":"MAX(IF(ISERROR(I224:I227),0,I224:I227))","v":0},{"$f":"MAX(IF(ISERROR(J224:J227),0,J224:J227))","v":0},{"$f":"MAX(IF(ISERROR(K224:K227),0,K224:K227))","v":0}]
[null,null,null,{"$f":"'[2]Consequence Criteria'!$A$5","v":"Cultural"},{"$f":"VALUE((IF('2-Impact Assessment '!E224=\"vl\",\"1\",(IF('2-Impact Assessment '!E224=\"l\",\"2\",(IF('2-Impact Assessment '!E224=\"m\",\"3\",(IF('2-Impact Assessment '!E224=\"h\",\"4\",(IF('2-Impact Assessment '!E224=\"vh\",\"5\", NA())))))))))))","v":{"$error":"#N/A"}},{"$f":"VALUE((IF('2-Impact Assessment '!F224=\"vl\",\"1\",(IF('2-Impact Assessment '!F224=\"l\",\"2\",(IF('2-Impact Assessment '!F224=\"m\",\"3\",(IF('2-Impact Assessment '!F224=\"h\",\"4\",(IF('2-Impact Assessment '!F224=\"vh\",\"5\", NA())))))))))))","v":{"$error":"#N/A"}},{"$f":"VALUE((IF('2-Impact Assessment '!G224=\"vl\",\"1\",(IF('2-Impact Assessment '!G224=\"l\",\"2\",(IF('2-Impact Assessment '!G224=\"m\",\"3\",(IF('2-Impact Assessment '!G224=\"h\",\"4\",(IF('2-Impact Assessment '!G224=\"vh\",\"5\", NA())))))))))))","v":{"$error":"#N/A"}},{"$f":"VALUE((IF('2-Impact Assessment '!H224=\"vl\",\"1\",(IF('2-Impact Assessment '!H224=\"l\",\"2\",(IF('2-Impact Assessment '!H224=\"m\",\"3\",(IF('2-Impact Assessment '!H224=\"h\",\"4\",(IF('2-Impact Assessment '!H224=\"vh\",\"5\", NA())))))))))))","v":{"$error":"#N/A"}},{"$f":"VALUE((IF('2-Impact Assessment '!I224=\"vl\",\"1\",(IF('2-Impact Assessment '!I224=\"l\",\"2\",(IF('2-Impact Assessment '!I224=\"m\",\"3\",(IF('2-Impact Assessment '!I224=\"h\",\"4\",(IF('2-Impact Assessment '!I224=\"vh\",\"5\", NA())))))))))))","v":{"$error":"#N/A"}},{"$f":"VALUE((IF('2-Impact Assessment '!J224=\"vl\",\"1\",(IF('2-Impact Assessment '!J224=\"l\",\"2\",(IF('2-Impact Assessment '!J224=\"m\",\"3\",(IF('2-Impact Assessment '!J224=\"h\",\"4\",(IF('2-Impact Assessment '!J224=\"vh\",\"5\", NA())))))))))))","v":{"$error":"#N/A"}},{"$f":"VALUE((IF('2-Impact Assessment '!K224=\"vl\",\"1\",(IF('2-Impact Assessment '!K224=\"l\",\"2\",(IF('2-Impact Assessment '!K224=\"m\",\"3\",(IF('2-Impact Assessment '!K224=\"h\",\"4\",(IF('2-Impact Assessment '!K224=\"vh\",\"5\", NA())))))))))))","v":{"$error":"#N/A"}},null,null,{"$f":"IFERROR(INDEX($AA$12:$AG$12,MATCH(TRUE, AA224:AG224 >= 3, 0)),200)","v":200},null,{"$f":"IFERROR(INDEX($AA$12:$AG$12,MATCH(TRUE, AA224:AG224 >= 4, 0)),200)","v":200},null,null,null,null,null,null,null,null,null,null,{"$f":"MAX(IF(ISERROR(E225:E228),0,E225:E228))","v":0},{"$f":"MAX(IF(ISERROR(F225:F228),0,F225:F228))","v":0},{"$f":"MAX(IF(ISERROR(G225:G228),0,G225:G228))","v":0},{"$f":"MAX(IF(ISERROR(H225:H228),0,H225:H228))","v":0},{"$f":"MAX(IF(ISERROR(I225:I228),0,I225:I228))","v":0},{"$f":"MAX(IF(ISERROR(J225:J228),0,J225:J228))","v":0},{"$f":"MAX(IF(ISERROR(K225:K228),0,K225:K228))","v":0}]
[null,null,null,{"$f":"'[2]Consequence Criteria'!$A$6","v":"Environmental"},{"$f":"VALUE((IF('2-Impact Assessment '!E225=\"vl\",\"1\",(IF('2-Impact Assessment '!E225=\"l\",\"2\",(IF('2-Impact Assessment '!E225=\"m\",\"3\",(IF('2-Impact Assessment '!E225=\"h\",\"4\",(IF('2-Impact Assessment '!E225=\"vh\",\"5\", NA())))))))))))","v":{"$error":"#N/A"}},{"$f":"VALUE((IF('2-Impact Assessment '!F225=\"vl\",\"1\",(IF('2-Impact Assessment '!F225=\"l\",\"2\",(IF('2-Impact Assessment '!F225=\"m\",\"3\",(IF('2-Impact Assessment '!F225=\"h\",\"4\",(IF('2-Impact Assessment '!F225=\"vh\",\"5\", NA())))))))))))","v":{"$error":"#N/A"}},{"$f":"VALUE((IF('2-Impact Assessment '!G225=\"vl\",\"1\",(IF('2-Impact Assessment '!G225=\"l\",\"2\",(IF('2-Impact Assessment '!G225=\"m\",\"3\",(IF('2-Impact Assessment '!G225=\"h\",\"4\",(IF('2-Impact Assessment '!G225=\"vh\",\"5\", NA())))))))))))","v":{"$error":"#N/A"}},{"$f":"VALUE((IF('2-Impact Assessment '!H225=\"vl\",\"1\",(IF('2-Impact Assessment '!H225=\"l\",\"2\",(IF('2-Impact Assessment '!H225=\"m\",\"3\",(IF('2-Impact Assessment '!H225=\"h\",\"4\",(IF('2-Impact Assessment '!H225=\"vh\",\"5\", NA())))))))))))","v":{"$error":"#N/A"}},{"$f":"VALUE((IF('2-Impact Assessment '!I225=\"vl\",\"1\",(IF('2-Impact Assessment '!I225=\"l\",\"2\",(IF('2-Impact Assessment '!I225=\"m\",\"3\",(IF('2-Impact Assessment '!I225=\"h\",\"4\",(IF('2-Impact Assessment '!I225=\"vh\",\"5\", NA())))))))))))","v":{"$error":"#N/A"}},{"$f":"VALUE((IF('2-Impact Assessment '!J225=\"vl\",\"1\",(IF('2-Impact Assessment '!J225=\"l\",\"2\",(IF('2-Impact Assessment '!J225=\"m\",\"3\",(IF('2-Impact Assessment '!J225=\"h\",\"4\",(IF('2-Impact Assessment '!J225=\"vh\",\"5\", NA())))))))))))","v":{"$error":"#N/A"}},{"$f":"VALUE((IF('2-Impact Assessment '!K225=\"vl\",\"1\",(IF('2-Impact Assessment '!K225=\"l\",\"2\",(IF('2-Impact Assessment '!K225=\"m\",\"3\",(IF('2-Impact Assessment '!K225=\"h\",\"4\",(IF('2-Impact Assessment '!K225=\"vh\",\"5\", NA())))))))))))","v":{"$error":"#N/A"}},null,null,{"$f":"IFERROR(INDEX($AA$12:$AG$12,MATCH(TRUE, AA225:AG225 >= 3, 0)),200)","v":200},null,{"$f":"IFERROR(INDEX($AA$12:$AG$12,MATCH(TRUE, AA225:AG225 >= 4, 0)),200)","v":200},null,null,null,null,null,null,null,null,null,null,{"$f":"MAX(IF(ISERROR(E226:E229),0,E226:E229))","v":0},{"$f":"MAX(IF(ISERROR(F226:F229),0,F226:F229))","v":0},{"$f":"MAX(IF(ISERROR(G226:G229),0,G226:G229))","v":0},{"$f":"MAX(IF(ISERROR(H226:H229),0,H226:H229))","v":0},{"$f":"MAX(IF(ISERROR(I226:I229),0,I226:I229))","v":0},{"$f":"MAX(IF(ISERROR(J226:J229),0,J226:J229))","v":0},{"$f":"MAX(IF(ISERROR(K226:K229),0,K226:K229))","v":0}]
[null,null,null,{"$f":"'[2]Consequence Criteria'!$A$7","v":0},{"$f":"VALUE((IF('2-Impact Assessment '!E226=\"vl\",\"1\",(IF('2-Impact Assessment '!E226=\"l\",\"2\",(IF('2-Impact Assessment '!E226=\"m\",\"3\",(IF('2-Impact Assessment '!E226=\"h\",\"4\",(IF('2-Impact Assessment '!E226=\"vh\",\"5\", NA())))))))))))","v":{"$error":"#N/A"}},{"$f":"VALUE((IF('2-Impact Assessment '!F226=\"vl\",\"1\",(IF('2-Impact Assessment '!F226=\"l\",\"2\",(IF('2-Impact Assessment '!F226=\"m\",\"3\",(IF('2-Impact Assessment '!F226=\"h\",\"4\",(IF('2-Impact Assessment '!F226=\"vh\",\"5\", NA())))))))))))","v":{"$error":"#N/A"}},{"$f":"VALUE((IF('2-Impact Assessment '!G226=\"vl\",\"1\",(IF('2-Impact Assessment '!G226=\"l\",\"2\",(IF('2-Impact Assessment '!G226=\"m\",\"3\",(IF('2-Impact Assessment '!G226=\"h\",\"4\",(IF('2-Impact Assessment '!G226=\"vh\",\"5\", NA())))))))))))","v":{"$error":"#N/A"}},{"$f":"VALUE((IF('2-Impact Assessment '!H226=\"vl\",\"1\",(IF('2-Impact Assessment '!H226=\"l\",\"2\",(IF('2-Impact Assessment '!H226=\"m\",\"3\",(IF('2-Impact Assessment '!H226=\"h\",\"4\",(IF('2-Impact Assessment '!H226=\"vh\",\"5\", NA())))))))))))","v":{"$error":"#N/A"}},{"$f":"VALUE((IF('2-Impact Assessment '!I226=\"vl\",\"1\",(IF('2-Impact Assessment '!I226=\"l\",\"2\",(IF('2-Impact Assessment '!I226=\"m\",\"3\",(IF('2-Impact Assessment '!I226=\"h\",\"4\",(IF('2-Impact Assessment '!I226=\"vh\",\"5\", NA())))))))))))","v":{"$error":"#N/A"}},{"$f":"VALUE((IF('2-Impact Assessment '!J226=\"vl\",\"1\",(IF('2-Impact Assessment '!J226=\"l\",\"2\",(IF('2-Impact Assessment '!J226=\"m\",\"3\",(IF('2-Impact Assessment '!J226=\"h\",\"4\",(IF('2-Impact Assessment '!J226=\"vh\",\"5\", NA())))))))))))","v":{"$error":"#N/A"}},{"$f":"VALUE((IF('2-Impact Assessment '!K226=\"vl\",\"1\",(IF('2-Impact Assessment '!K226=\"l\",\"2\",(IF('2-Impact Assessment '!K226=\"m\",\"3\",(IF('2-Impact Assessment '!K226=\"h\",\"4\",(IF('2-Impact Assessment '!K226=\"vh\",\"5\", NA())))))))))))","v":{"$error":"#N/A"}},null,null,{"$f":"IFERROR(INDEX($AA$12:$AG$12,MATCH(TRUE, AA226:AG226 >= 3, 0)),200)","v":200},null,{"$f":"IFERROR(INDEX($AA$12:$AG$12,MATCH(TRUE, AA226:AG226 >= 4, 0)),200)","v":200},null,null,null,null,null,null,null,null,null,null,{"$f":"MAX(IF(ISERROR(E227:E230),0,E227:E230))","v":0},{"$f":"MAX(IF(ISERROR(F227:F230),0,F227:F230))","v":0},{"$f":"MAX(IF(ISERROR(G227:G230),0,G227:G230))","v":0},{"$f":"MAX(IF(ISERROR(H227:H230),0,H227:H230))","v":0},{"$f":"MAX(IF(ISERROR(I227:I230),0,I227:I230))","v":0},{"$f":"MAX(IF(ISERROR(J227:J230),0,J227:J230))","v":0},{"$f":"MAX(IF(ISERROR(K227:K230),0,K227:K230))","v":0}]
[null,null,null,{"$f":"'[2]Consequence Criteria'!$A$8","v":0},{"$f":"VALUE((IF('2-Impact Assessment '!E227=\"vl\",\"1\",(IF('2-Impact Assessment '!E227=\"l\",\"2\",(IF('2-Impact Assessment '!E227=\"m\",\"3\",(IF('2-Impact Assessment '!E227=\"h\",\"4\",(IF('2-Impact Assessment '!E227=\"vh\",\"5\", NA())))))))))))","v":{"$error":"#N/A"}},{"$f":"VALUE((IF('2-Impact Assessment '!F227=\"vl\",\"1\",(IF('2-Impact Assessment '!F227=\"l\",\"2\",(IF('2-Impact Assessment '!F227=\"m\",\"3\",(IF('2-Impact Assessment '!F227=\"h\",\"4\",(IF('2-Impact Assessment '!F227=\"vh\",\"5\", NA())))))))))))","v":{"$error":"#N/A"}},{"$f":"VALUE((IF('2-Impact Assessment '!G227=\"vl\",\"1\",(IF('2-Impact Assessment '!G227=\"l\",\"2\",(IF('2-Impact Assessment '!G227=\"m\",\"3\",(IF('2-Impact Assessment '!G227=\"h\",\"4\",(IF('2-Impact Assessment '!G227=\"vh\",\"5\", NA())))))))))))","v":{"$error":"#N/A"}},{"$f":"VALUE((IF('2-Impact Assessment '!H227=\"vl\",\"1\",(IF('2-Impact Assessment '!H227=\"l\",\"2\",(IF('2-Impact Assessment '!H227=\"m\",\"3\",(IF('2-Impact Assessment '!H227=\"h\",\"4\",(IF('2-Impact Assessment '!H227=\"vh\",\"5\", NA())))))))))))","v":{"$error":"#N/A"}},{"$f":"VALUE((IF('2-Impact Assessment '!I227=\"vl\",\"1\",(IF('2-Impact Assessment '!I227=\"l\",\"2\",(IF('2-Impact Assessment '!I227=\"m\",\"3\",(IF('2-Impact Assessment '!I227=\"h\",\"4\",(IF('2-Impact Assessment '!I227=\"vh\",\"5\", NA())))))))))))","v":{"$error":"#N/A"}},{"$f":"VALUE((IF('2-Impact Assessment '!J227=\"vl\",\"1\",(IF('2-Impact Assessment '!J227=\"l\",\"2\",(IF('2-Impact Assessment '!J227=\"m\",\"3\",(IF('2-Impact Assessment '!J227=\"h\",\"4\",(IF('2-Impact Assessment '!J227=\"vh\",\"5\", NA())))))))))))","v":{"$error":"#N/A"}},{"$f":"VALUE((IF('2-Impact Assessment '!K227=\"vl\",\"1\",(IF('2-Impact Assessment '!K227=\"l\",\"2\",(IF('2-Impact Assessment '!K227=\"m\",\"3\",(IF('2-Impact Assessment '!K227=\"h\",\"4\",(IF('2-Impact Assessment '!K227=\"vh\",\"5\", NA())))))))))))","v":{"$error":"#N/A"}},null,null,{"$f":"IFERROR(INDEX($AA$12:$AG$12,MATCH(TRUE, AA227:AG227 >= 3, 0)),200)","v":200},null,{"$f":"IFERROR(INDEX($AA$12:$AG$12,MATCH(TRUE, AA227:AG227 >= 4, 0)),200)","v":200},null,null,null,null,null,null,null,null,null,null,{"$f":"MAX(IF(ISERROR(E228:E231),0,E228:E231))","v":0},{"$f":"MAX(IF(ISERROR(F228:F231),0,F228:F231))","v":0},{"$f":"MAX(IF(ISERROR(G228:G231),0,G228:G231))","v":0},{"$f":"MAX(IF(ISERROR(H228:H231),0,H228:H231))","v":0},{"$f":"MAX(IF(ISERROR(I228:I231),0,I228:I231))","v":0},{"$f":"MAX(IF(ISERROR(J228:J231),0,J228:J231))","v":0},{"$f":"MAX(IF(ISERROR(K228:K231),0,K228:K231))","v":0}]
[null,null,null,{"$f":"'[2]Consequence Criteria'!$A$9","v":0},{"$f":"VALUE((IF('2-Impact Assessment '!E228=\"vl\",\"1\",(IF('2-Impact Assessment '!E228=\"l\",\"2\",(IF('2-Impact Assessment '!E228=\"m\",\"3\",(IF('2-Impact Assessment '!E228=\"h\",\"4\",(IF('2-Impact Assessment '!E228=\"vh\",\"5\", NA())))))))))))","v":{"$error":"#N/A"}},{"$f":"VALUE((IF('2-Impact Assessment '!F228=\"vl\",\"1\",(IF('2-Impact Assessment '!F228=\"l\",\"2\",(IF('2-Impact Assessment '!F228=\"m\",\"3\",(IF('2-Impact Assessment '!F228=\"h\",\"4\",(IF('2-Impact Assessment '!F228=\"vh\",\"5\", NA())))))))))))","v":{"$error":"#N/A"}},{"$f":"VALUE((IF('2-Impact Assessment '!G228=\"vl\",\"1\",(IF('2-Impact Assessment '!G228=\"l\",\"2\",(IF('2-Impact Assessment '!G228=\"m\",\"3\",(IF('2-Impact Assessment '!G228=\"h\",\"4\",(IF('2-Impact Assessment '!G228=\"vh\",\"5\", NA())))))))))))","v":{"$error":"#N/A"}},{"$f":"VALUE((IF('2-Impact Assessment '!H228=\"vl\",\"1\",(IF('2-Impact Assessment '!H228=\"l\",\"2\",(IF('2-Impact Assessment '!H228=\"m\",\"3\",(IF('2-Impact Assessment '!H228=\"h\",\"4\",(IF('2-Impact Assessment '!H228=\"vh\",\"5\", NA())))))))))))","v":{"$error":"#N/A"}},{"$f":"VALUE((IF('2-Impact Assessment '!I228=\"vl\",\"1\",(IF('2-Impact Assessment '!I228=\"l\",\"2\",(IF('2-Impact Assessment '!I228=\"m\",\"3\",(IF('2-Impact Assessment '!I228=\"h\",\"4\",(IF('2-Impact Assessment '!I228=\"vh\",\"5\", NA())))))))))))","v":{"$error":"#N/A"}},{"$f":"VALUE((IF('2-Impact Assessment '!J228=\"vl\",\"1\",(IF('2-Impact Assessment '!J228=\"l\",\"2\",(IF('2-Impact Assessment '!J228=\"m\",\"3\",(IF('2-Impact Assessment '!J228=\"h\",\"4\",(IF('2-Impact Assessment '!J228=\"vh\",\"5\", NA())))))))))))","v":{"$error":"#N/A"}},{"$f":"VALUE((IF('2-Impact Assessment '!K228=\"vl\",\"1\",(IF('2-Impact Assessment '!K228=\"l\",\"2\",(IF('2-Impact Assessment '!K228=\"m\",\"3\",(IF('2-Impact Assessment '!K228=\"h\",\"4\",(IF('2-Impact Assessment '!K228=\"vh\",\"5\", NA())))))))))))","v":{"$error":"#N/A"}},null,null,{"$f":"IFERROR(INDEX($AA$12:$AG$12,MATCH(TRUE, AA228:AG228 >= 3, 0)),200)","v":200},null,{"$f":"IFERROR(INDEX($AA$12:$AG$12,MATCH(TRUE, AA228:AG228 >= 4, 0)),200)","v":200},null,null,null,null,null,null,null,null,null,null,{"$f":"MAX(IF(ISERROR(E229:E232),0,E229:E232))","v":0},{"$f":"MAX(IF(ISERROR(F229:F232),0,F229:F232))","v":0},{"$f":"MAX(IF(ISERROR(G229:G232),0,G229:G232))","v":0},{"$f":"MAX(IF(ISERROR(H229:H232),0,H229:H232))","v":0},{"$f":"MAX(IF(ISERROR(I229:I232),0,I229:I232))","v":0},{"$f":"MAX(IF(ISERROR(J229:J232),0,J229:J232))","v":0},{"$f":"MAX(IF(ISERROR(K229:K232),0,K229:K232))","v":0}]
[null,null,null,{"$f":"'[2]Consequence Criteria'!$A$10","v":0},{"$f":"VALUE((IF('2-Impact Assessment '!E229=\"vl\",\"1\",(IF('2-Impact Assessment '!E229=\"l\",\"2\",(IF('2-Impact Assessment '!E229=\"m\",\"3\",(IF('2-Impact Assessment '!E229=\"h\",\"4\",(IF('2-Impact Assessment '!E229=\"vh\",\"5\", NA())))))))))))","v":{"$error":"#N/A"}},{"$f":"VALUE((IF('2-Impact Assessment '!F229=\"vl\",\"1\",(IF('2-Impact Assessment '!F229=\"l\",\"2\",(IF('2-Impact Assessment '!F229=\"m\",\"3\",(IF('2-Impact Assessment '!F229=\"h\",\"4\",(IF('2-Impact Assessment '!F229=\"vh\",\"5\", NA())))))))))))","v":{"$error":"#N/A"}},{"$f":"VALUE((IF('2-Impact Assessment '!G229=\"vl\",\"1\",(IF('2-Impact Assessment '!G229=\"l\",\"2\",(IF('2-Impact Assessment '!G229=\"m\",\"3\",(IF('2-Impact Assessment '!G229=\"h\",\"4\",(IF('2-Impact Assessment '!G229=\"vh\",\"5\", NA())))))))))))","v":{"$error":"#N/A"}},{"$f":"VALUE((IF('2-Impact Assessment '!H229=\"vl\",\"1\",(IF('2-Impact Assessment '!H229=\"l\",\"2\",(IF('2-Impact Assessment '!H229=\"m\",\"3\",(IF('2-Impact Assessment '!H229=\"h\",\"4\",(IF('2-Impact Assessment '!H229=\"vh\",\"5\", NA())))))))))))","v":{"$error":"#N/A"}},{"$f":"VALUE((IF('2-Impact Assessment '!I229=\"vl\",\"1\",(IF('2-Impact Assessment '!I229=\"l\",\"2\",(IF('2-Impact Assessment '!I229=\"m\",\"3\",(IF('2-Impact Assessment '!I229=\"h\",\"4\",(IF('2-Impact Assessment '!I229=\"vh\",\"5\", NA())))))))))))","v":{"$error":"#N/A"}},{"$f":"VALUE((IF('2-Impact Assessment '!J229=\"vl\",\"1\",(IF('2-Impact Assessment '!J229=\"l\",\"2\",(IF('2-Impact Assessment '!J229=\"m\",\"3\",(IF('2-Impact Assessment '!J229=\"h\",\"4\",(IF('2-Impact Assessment '!J229=\"vh\",\"5\", NA())))))))))))","v":{"$error":"#N/A"}},{"$f":"VALUE((IF('2-Impact Assessment '!K229=\"vl\",\"1\",(IF('2-Impact Assessment '!K229=\"l\",\"2\",(IF('2-Impact Assessment '!K229=\"m\",\"3\",(IF('2-Impact Assessment '!K229=\"h\",\"4\",(IF('2-Impact Assessment '!K229=\"vh\",\"5\", NA())))))))))))","v":{"$error":"#N/A"}},null,null,{"$f":"IFERROR(INDEX($AA$12:$AG$12,MATCH(TRUE, AA229:AG229 >= 3, 0)),200)","v":200},null,{"$f":"IFERROR(INDEX($AA$12:$AG$12,MATCH(TRUE, AA229:AG229 >= 4, 0)),200)","v":200},null,null,null,null,null,null,null,null,null,null,{"$f":"MAX(IF(ISERROR(E230:E233),0,E230:E233))","v":0},{"$f":"MAX(IF(ISERROR(F230:F233),0,F230:F233))","v":0},{"$f":"MAX(IF(ISERROR(G230:G233),0,G230:G233))","v":0},{"$f":"MAX(IF(ISERROR(H230:H233),0,H230:H233))","v":0},{"$f":"MAX(IF(ISERROR(I230:I233),0,I230:I233))","v":0},{"$f":"MAX(IF(ISERROR(J230:J233),0,J230:J233))","v":0},{"$f":"MAX(IF(ISERROR(K230:K233),0,K230:K233))","v":0}]
[null,{"$f":"IF(ISTEXT('1-Services & Function'!D54),'1-Services & Function'!D54,\"\")","v":""},25,null,"1 hr","4 hr","1 day","2 days","5 days","1 month","> 6 months","Comments",null,{"$f":"IFERROR(INDEX($AA$12:$AG$12,MATCH(TRUE, AA230:AG230 >= 3, 0)),200)","v":200},null,{"$f":"IFERROR(INDEX($AA$12:$AG$12,MATCH(TRUE, AA230:AG230 >= 4, 0)),200)","v":200},null,null,null,null,null,null,null,null,null,null,{"$f":"MAX(IF(ISERROR(E231:E234),0,E231:E234))","v":0},{"$f":"MAX(IF(ISERROR(F231:F234),0,F231:F234))","v":0},{"$f":"MAX(IF(ISERROR(G231:G234),0,G231:G234))","v":0},{"$f":"MAX(IF(ISERROR(H231:H234),0,H231:H234))","v":0},{"$f":"MAX(IF(ISERROR(I231:I234),0,I231:I234))","v":0},{"$f":"MAX(IF(ISERROR(J231:J234),0,J231:J234))","v":0},{"$f":"MAX(IF(ISERROR(K231:K234),0,K231:K234))","v":0}]
[null,null,null,{"$f":"'[2]Consequence Criteria'!$A$3","v":"Economic"},{"$f":"VALUE((IF('2-Impact Assessment '!E231=\"vl\",\"1\",(IF('2-Impact Assessment '!E231=\"l\",\"2\",(IF('2-Impact Assessment '!E231=\"m\",\"3\",(IF('2-Impact Assessment '!E231=\"h\",\"4\",(IF('2-Impact Assessment '!E231=\"vh\",\"5\", NA())))))))))))","v":{"$error":"#N/A"}},{"$f":"VALUE((IF('2-Impact Assessment '!F231=\"vl\",\"1\",(IF('2-Impact Assessment '!F231=\"l\",\"2\",(IF('2-Impact Assessment '!F231=\"m\",\"3\",(IF('2-Impact Assessment '!F231=\"h\",\"4\",(IF('2-Impact Assessment '!F231=\"vh\",\"5\", NA())))))))))))","v":{"$error":"#N/A"}},{"$f":"VALUE((IF('2-Impact Assessment '!G231=\"vl\",\"1\",(IF('2-Impact Assessment '!G231=\"l\",\"2\",(IF('2-Impact Assessment '!G231=\"m\",\"3\",(IF('2-Impact Assessment '!G231=\"h\",\"4\",(IF('2-Impact Assessment '!G231=\"vh\",\"5\", NA())))))))))))","v":{"$error":"#N/A"}},{"$f":"VALUE((IF('2-Impact Assessment '!H231=\"vl\",\"1\",(IF('2-Impact Assessment '!H231=\"l\",\"2\",(IF('2-Impact Assessment '!H231=\"m\",\"3\",(IF('2-Impact Assessment '!H231=\"h\",\"4\",(IF('2-Impact Assessment '!H231=\"vh\",\"5\", NA())))))))))))","v":{"$error":"#N/A"}},{"$f":"VALUE((IF('2-Impact Assessment '!I231=\"vl\",\"1\",(IF('2-Impact Assessment '!I231=\"l\",\"2\",(IF('2-Impact Assessment '!I231=\"m\",\"3\",(IF('2-Impact Assessment '!I231=\"h\",\"4\",(IF('2-Impact Assessment '!I231=\"vh\",\"5\", NA())))))))))))","v":{"$error":"#N/A"}},{"$f":"VALUE((IF('2-Impact Assessment '!J231=\"vl\",\"1\",(IF('2-Impact Assessment '!J231=\"l\",\"2\",(IF('2-Impact Assessment '!J231=\"m\",\"3\",(IF('2-Impact Assessment '!J231=\"h\",\"4\",(IF('2-Impact Assessment '!J231=\"vh\",\"5\", NA())))))))))))","v":{"$error":"#N/A"}},{"$f":"VALUE((IF('2-Impact Assessment '!K231=\"vl\",\"1\",(IF('2-Impact Assessment '!K231=\"l\",\"2\",(IF('2-Impact Assessment '!K231=\"m\",\"3\",(IF('2-Impact Assessment '!K231=\"h\",\"4\",(IF('2-Impact Assessment '!K231=\"vh\",\"5\", NA())))))))))))","v":{"$error":"#N/A"}},null,null,{"$f":"IFERROR(INDEX($AA$12:$AG$12,MATCH(TRUE, AA231:AG231 >= 3, 0)),200)","v":200},null,{"$f":"IFERROR(INDEX($AA$12:$AG$12,MATCH(TRUE, AA231:AG231 >= 4, 0)),200)","v":200},null,null,null,null,null,null,null,null,null,null,{"$f":"MAX(IF(ISERROR(E232:E235),0,E232:E235))","v":0},{"$f":"MAX(IF(ISERROR(F232:F235),0,F232:F235))","v":0},{"$f":"MAX(IF(ISERROR(G232:G235),0,G232:G235))","v":0},{"$f":"MAX(IF(ISERROR(H232:H235),0,H232:H235))","v":0},{"$f":"MAX(IF(ISERROR(I232:I235),0,I232:I235))","v":0},{"$f":"MAX(IF(ISERROR(J232:J235),0,J232:J235))","v":0},{"$f":"MAX(IF(ISERROR(K232:K235),0,K232:K235))","v":0}]
[null,null,null,{"$f":"'[2]Consequence Criteria'!$A$4","v":"Social"},{"$f":"VALUE((IF('2-Impact Assessment '!E232=\"vl\",\"1\",(IF('2-Impact Assessment '!E232=\"l\",\"2\",(IF('2-Impact Assessment '!E232=\"m\",\"3\",(IF('2-Impact Assessment '!E232=\"h\",\"4\",(IF('2-Impact Assessment '!E232=\"vh\",\"5\", NA())))))))))))","v":{"$error":"#N/A"}},{"$f":"VALUE((IF('2-Impact Assessment '!F232=\"vl\",\"1\",(IF('2-Impact Assessment '!F232=\"l\",\"2\",(IF('2-Impact Assessment '!F232=\"m\",\"3\",(IF('2-Impact Assessment '!F232=\"h\",\"4\",(IF('2-Impact Assessment '!F232=\"vh\",\"5\", NA())))))))))))","v":{"$error":"#N/A"}},{"$f":"VALUE((IF('2-Impact Assessment '!G232=\"vl\",\"1\",(IF('2-Impact Assessment '!G232=\"l\",\"2\",(IF('2-Impact Assessment '!G232=\"m\",\"3\",(IF('2-Impact Assessment '!G232=\"h\",\"4\",(IF('2-Impact Assessment '!G232=\"vh\",\"5\", NA())))))))))))","v":{"$error":"#N/A"}},{"$f":"VALUE((IF('2-Impact Assessment '!H232=\"vl\",\"1\",(IF('2-Impact Assessment '!H232=\"l\",\"2\",(IF('2-Impact Assessment '!H232=\"m\",\"3\",(IF('2-Impact Assessment '!H232=\"h\",\"4\",(IF('2-Impact Assessment '!H232=\"vh\",\"5\", NA())))))))))))","v":{"$error":"#N/A"}},{"$f":"VALUE((IF('2-Impact Assessment '!I232=\"vl\",\"1\",(IF('2-Impact Assessment '!I232=\"l\",\"2\",(IF('2-Impact Assessment '!I232=\"m\",\"3\",(IF('2-Impact Assessment '!I232=\"h\",\"4\",(IF('2-Impact Assessment '!I232=\"vh\",\"5\", NA())))))))))))","v":{"$error":"#N/A"}},{"$f":"VALUE((IF('2-Impact Assessment '!J232=\"vl\",\"1\",(IF('2-Impact Assessment '!J232=\"l\",\"2\",(IF('2-Impact Assessment '!J232=\"m\",\"3\",(IF('2-Impact Assessment '!J232=\"h\",\"4\",(IF('2-Impact Assessment '!J232=\"vh\",\"5\", NA())))))))))))","v":{"$error":"#N/A"}},{"$f":"VALUE((IF('2-Impact Assessment '!K232=\"vl\",\"1\",(IF('2-Impact Assessment '!K232=\"l\",\"2\",(IF('2-Impact Assessment '!K232=\"m\",\"3\",(IF('2-Impact Assessment '!K232=\"h\",\"4\",(IF('2-Impact Assessment '!K232=\"vh\",\"5\", NA())))))))))))","v":{"$error":"#N/A"}},null,null,{"$f":"IFERROR(INDEX($AA$12:$AG$12,MATCH(TRUE, AA232:AG232 >= 3, 0)),200)","v":200},null,{"$f":"IFERROR(INDEX($AA$12:$AG$12,MATCH(TRUE, AA232:AG232 >= 4, 0)),200)","v":200},null,null,null,null,null,null,null,null,null,null,{"$f":"MAX(IF(ISERROR(E233:E236),0,E233:E236))","v":0},{"$f":"MAX(IF(ISERROR(F233:F236),0,F233:F236))","v":0},{"$f":"MAX(IF(ISERROR(G233:G236),0,G233:G236))","v":0},{"$f":"MAX(IF(ISERROR(H233:H236),0,H233:H236))","v":0},{"$f":"MAX(IF(ISERROR(I233:I236),0,I233:I236))","v":0},{"$f":"MAX(IF(ISERROR(J233:J236),0,J233:J236))","v":0},{"$f":"MAX(IF(ISERROR(K233:K236),0,K233:K236))","v":0}]
[null,null,null,{"$f":"'[2]Consequence Criteria'!$A$5","v":"Cultural"},{"$f":"VALUE((IF('2-Impact Assessment '!E233=\"vl\",\"1\",(IF('2-Impact Assessment '!E233=\"l\",\"2\",(IF('2-Impact Assessment '!E233=\"m\",\"3\",(IF('2-Impact Assessment '!E233=\"h\",\"4\",(IF('2-Impact Assessment '!E233=\"vh\",\"5\", NA())))))))))))","v":{"$error":"#N/A"}},{"$f":"VALUE((IF('2-Impact Assessment '!F233=\"vl\",\"1\",(IF('2-Impact Assessment '!F233=\"l\",\"2\",(IF('2-Impact Assessment '!F233=\"m\",\"3\",(IF('2-Impact Assessment '!F233=\"h\",\"4\",(IF('2-Impact Assessment '!F233=\"vh\",\"5\", NA())))))))))))","v":{"$error":"#N/A"}},{"$f":"VALUE((IF('2-Impact Assessment '!G233=\"vl\",\"1\",(IF('2-Impact Assessment '!G233=\"l\",\"2\",(IF('2-Impact Assessment '!G233=\"m\",\"3\",(IF('2-Impact Assessment '!G233=\"h\",\"4\",(IF('2-Impact Assessment '!G233=\"vh\",\"5\", NA())))))))))))","v":{"$error":"#N/A"}},{"$f":"VALUE((IF('2-Impact Assessment '!H233=\"vl\",\"1\",(IF('2-Impact Assessment '!H233=\"l\",\"2\",(IF('2-Impact Assessment '!H233=\"m\",\"3\",(IF('2-Impact Assessment '!H233=\"h\",\"4\",(IF('2-Impact Assessment '!H233=\"vh\",\"5\", NA())))))))))))","v":{"$error":"#N/A"}},{"$f":"VALUE((IF('2-Impact Assessment '!I233=\"vl\",\"1\",(IF('2-Impact Assessment '!I233=\"l\",\"2\",(IF('2-Impact Assessment '!I233=\"m\",\"3\",(IF('2-Impact Assessment '!I233=\"h\",\"4\",(IF('2-Impact Assessment '!I233=\"vh\",\"5\", NA())))))))))))","v":{"$error":"#N/A"}},{"$f":"VALUE((IF('2-Impact Assessment '!J233=\"vl\",\"1\",(IF('2-Impact Assessment '!J233=\"l\",\"2\",(IF('2-Impact Assessment '!J233=\"m\",\"3\",(IF('2-Impact Assessment '!J233=\"h\",\"4\",(IF('2-Impact Assessment '!J233=\"vh\",\"5\", NA())))))))))))","v":{"$error":"#N/A"}},{"$f":"VALUE((IF('2-Impact Assessment '!K233=\"vl\",\"1\",(IF('2-Impact Assessment '!K233=\"l\",\"2\",(IF('2-Impact Assessment '!K233=\"m\",\"3\",(IF('2-Impact Assessment '!K233=\"h\",\"4\",(IF('2-Impact Assessment '!K233=\"vh\",\"5\", NA())))))))))))","v":{"$error":"#N/A"}},null,null,{"$f":"IFERROR(INDEX($AA$12:$AG$12,MATCH(TRUE, AA233:AG233 >= 3, 0)),200)","v":200},null,{"$f":"IFERROR(INDEX($AA$12:$AG$12,MATCH(TRUE, AA233:AG233 >= 4, 0)),200)","v":200},null,null,null,null,null,null,null,null,null,null,{"$f":"MAX(IF(ISERROR(E234:E237),0,E234:E237))","v":0},{"$f":"MAX(IF(ISERROR(F234:F237),0,F234:F237))","v":0},{"$f":"MAX(IF(ISERROR(G234:G237),0,G234:G237))","v":0},{"$f":"MAX(IF(ISERROR(H234:H237),0,H234:H237))","v":0},{"$f":"MAX(IF(ISERROR(I234:I237),0,I234:I237))","v":0},{"$f":"MAX(IF(ISERROR(J234:J237),0,J234:J237))","v":0},{"$f":"MAX(IF(ISERROR(K234:K237),0,K234:K237))","v":0}]
[null,null,null,{"$f":"'[2]Consequence Criteria'!$A$6","v":"Environmental"},{"$f":"VALUE((IF('2-Impact Assessment '!E234=\"vl\",\"1\",(IF('2-Impact Assessment '!E234=\"l\",\"2\",(IF('2-Impact Assessment '!E234=\"m\",\"3\",(IF('2-Impact Assessment '!E234=\"h\",\"4\",(IF('2-Impact Assessment '!E234=\"vh\",\"5\", NA())))))))))))","v":{"$error":"#N/A"}},{"$f":"VALUE((IF('2-Impact Assessment '!F234=\"vl\",\"1\",(IF('2-Impact Assessment '!F234=\"l\",\"2\",(IF('2-Impact Assessment '!F234=\"m\",\"3\",(IF('2-Impact Assessment '!F234=\"h\",\"4\",(IF('2-Impact Assessment '!F234=\"vh\",\"5\", NA())))))))))))","v":{"$error":"#N/A"}},{"$f":"VALUE((IF('2-Impact Assessment '!G234=\"vl\",\"1\",(IF('2-Impact Assessment '!G234=\"l\",\"2\",(IF('2-Impact Assessment '!G234=\"m\",\"3\",(IF('2-Impact Assessment '!G234=\"h\",\"4\",(IF('2-Impact Assessment '!G234=\"vh\",\"5\", NA())))))))))))","v":{"$error":"#N/A"}},{"$f":"VALUE((IF('2-Impact Assessment '!H234=\"vl\",\"1\",(IF('2-Impact Assessment '!H234=\"l\",\"2\",(IF('2-Impact Assessment '!H234=\"m\",\"3\",(IF('2-Impact Assessment '!H234=\"h\",\"4\",(IF('2-Impact Assessment '!H234=\"vh\",\"5\", NA())))))))))))","v":{"$error":"#N/A"}},{"$f":"VALUE((IF('2-Impact Assessment '!I234=\"vl\",\"1\",(IF('2-Impact Assessment '!I234=\"l\",\"2\",(IF('2-Impact Assessment '!I234=\"m\",\"3\",(IF('2-Impact Assessment '!I234=\"h\",\"4\",(IF('2-Impact Assessment '!I234=\"vh\",\"5\", NA())))))))))))","v":{"$error":"#N/A"}},{"$f":"VALUE((IF('2-Impact Assessment '!J234=\"vl\",\"1\",(IF('2-Impact Assessment '!J234=\"l\",\"2\",(IF('2-Impact Assessment '!J234=\"m\",\"3\",(IF('2-Impact Assessment '!J234=\"h\",\"4\",(IF('2-Impact Assessment '!J234=\"vh\",\"5\", NA())))))))))))","v":{"$error":"#N/A"}},{"$f":"VALUE((IF('2-Impact Assessment '!K234=\"vl\",\"1\",(IF('2-Impact Assessment '!K234=\"l\",\"2\",(IF('2-Impact Assessment '!K234=\"m\",\"3\",(IF('2-Impact Assessment '!K234=\"h\",\"4\",(IF('2-Impact Assessment '!K234=\"vh\",\"5\", NA())))))))))))","v":{"$error":"#N/A"}},null,null,{"$f":"IFERROR(INDEX($AA$12:$AG$12,MATCH(TRUE, AA234:AG234 >= 3, 0)),200)","v":200},null,{"$f":"IFERROR(INDEX($AA$12:$AG$12,MATCH(TRUE, AA234:AG234 >= 4, 0)),200)","v":200},null,null,null,null,null,null,null,null,null,null,{"$f":"MAX(IF(ISERROR(E235:E238),0,E235:E238))","v":0},{"$f":"MAX(IF(ISERROR(F235:F238),0,F235:F238))","v":0},{"$f":"MAX(IF(ISERROR(G235:G238),0,G235:G238))","v":0},{"$f":"MAX(IF(ISERROR(H235:H238),0,H235:H238))","v":0},{"$f":"MAX(IF(ISERROR(I235:I238),0,I235:I238))","v":0},{"$f":"MAX(IF(ISERROR(J235:J238),0,J235:J238))","v":0},{"$f":"MAX(IF(ISERROR(K235:K238),0,K235:K238))","v":0}]
[null,null,null,{"$f":"'[2]Consequence Criteria'!$A$7","v":0},{"$f":"VALUE((IF('2-Impact Assessment '!E235=\"vl\",\"1\",(IF('2-Impact Assessment '!E235=\"l\",\"2\",(IF('2-Impact Assessment '!E235=\"m\",\"3\",(IF('2-Impact Assessment '!E235=\"h\",\"4\",(IF('2-Impact Assessment '!E235=\"vh\",\"5\", NA())))))))))))","v":{"$error":"#N/A"}},{"$f":"VALUE((IF('2-Impact Assessment '!F235=\"vl\",\"1\",(IF('2-Impact Assessment '!F235=\"l\",\"2\",(IF('2-Impact Assessment '!F235=\"m\",\"3\",(IF('2-Impact Assessment '!F235=\"h\",\"4\",(IF('2-Impact Assessment '!F235=\"vh\",\"5\", NA())))))))))))","v":{"$error":"#N/A"}},{"$f":"VALUE((IF('2-Impact Assessment '!G235=\"vl\",\"1\",(IF('2-Impact Assessment '!G235=\"l\",\"2\",(IF('2-Impact Assessment '!G235=\"m\",\"3\",(IF('2-Impact Assessment '!G235=\"h\",\"4\",(IF('2-Impact Assessment '!G235=\"vh\",\"5\", NA())))))))))))","v":{"$error":"#N/A"}},{"$f":"VALUE((IF('2-Impact Assessment '!H235=\"vl\",\"1\",(IF('2-Impact Assessment '!H235=\"l\",\"2\",(IF('2-Impact Assessment '!H235=\"m\",\"3\",(IF('2-Impact Assessment '!H235=\"h\",\"4\",(IF('2-Impact Assessment '!H235=\"vh\",\"5\", NA())))))))))))","v":{"$error":"#N/A"}},{"$f":"VALUE((IF('2-Impact Assessment '!I235=\"vl\",\"1\",(IF('2-Impact Assessment '!I235=\"l\",\"2\",(IF('2-Impact Assessment '!I235=\"m\",\"3\",(IF('2-Impact Assessment '!I235=\"h\",\"4\",(IF('2-Impact Assessment '!I235=\"vh\",\"5\", NA())))))))))))","v":{"$error":"#N/A"}},{"$f":"VALUE((IF('2-Impact Assessment '!J235=\"vl\",\"1\",(IF('2-Impact Assessment '!J235=\"l\",\"2\",(IF('2-Impact Assessment '!J235=\"m\",\"3\",(IF('2-Impact Assessment '!J235=\"h\",\"4\",(IF('2-Impact Assessment '!J235=\"vh\",\"5\", NA())))))))))))","v":{"$error":"#N/A"}},{"$f":"VALUE((IF('2-Impact Assessment '!K235=\"vl\",\"1\",(IF('2-Impact Assessment '!K235=\"l\",\"2\",(IF('2-Impact Assessment '!K235=\"m\",\"3\",(IF('2-Impact Assessment '!K235=\"h\",\"4\",(IF('2-Impact Assessment '!K235=\"vh\",\"5\", NA())))))))))))","v":{"$error":"#N/A"}},null,null,{"$f":"IFERROR(INDEX($AA$12:$AG$12,MATCH(TRUE, AA235:AG235 >= 3, 0)),200)","v":200},null,{"$f":"IFERROR(INDEX($AA$12:$AG$12,MATCH(TRUE, AA235:AG235 >= 4, 0)),200)","v":200},null,null,null,null,null,null,null,null,null,null,{"$f":"MAX(IF(ISERROR(E236:E239),0,E236:E239))","v":0},{"$f":"MAX(IF(ISERROR(F236:F239),0,F236:F239))","v":0},{"$f":"MAX(IF(ISERROR(G236:G239),0,G236:G239))","v":0},{"$f":"MAX(IF(ISERROR(H236:H239),0,H236:H239))","v":0},{"$f":"MAX(IF(ISERROR(I236:I239),0,I236:I239))","v":0},{"$f":"MAX(IF(ISERROR(J236:J239),0,J236:J239))","v":0},{"$f":"MAX(IF(ISERROR(K236:K239),0,K236:K239))","v":0}]
[null,null,null,{"$f":"'[2]Consequence Criteria'!$A$8","v":0},{"$f":"VALUE((IF('2-Impact Assessment '!E236=\"vl\",\"1\",(IF('2-Impact Assessment '!E236=\"l\",\"2\",(IF('2-Impact Assessment '!E236=\"m\",\"3\",(IF('2-Impact Assessment '!E236=\"h\",\"4\",(IF('2-Impact Assessment '!E236=\"vh\",\"5\", NA())))))))))))","v":{"$error":"#N/A"}},{"$f":"VALUE((IF('2-Impact Assessment '!F236=\"vl\",\"1\",(IF('2-Impact Assessment '!F236=\"l\",\"2\",(IF('2-Impact Assessment '!F236=\"m\",\"3\",(IF('2-Impact Assessment '!F236=\"h\",\"4\",(IF('2-Impact Assessment '!F236=\"vh\",\"5\", NA())))))))))))","v":{"$error":"#N/A"}},{"$f":"VALUE((IF('2-Impact Assessment '!G236=\"vl\",\"1\",(IF('2-Impact Assessment '!G236=\"l\",\"2\",(IF('2-Impact Assessment '!G236=\"m\",\"3\",(IF('2-Impact Assessment '!G236=\"h\",\"4\",(IF('2-Impact Assessment '!G236=\"vh\",\"5\", NA())))))))))))","v":{"$error":"#N/A"}},{"$f":"VALUE((IF('2-Impact Assessment '!H236=\"vl\",\"1\",(IF('2-Impact Assessment '!H236=\"l\",\"2\",(IF('2-Impact Assessment '!H236=\"m\",\"3\",(IF('2-Impact Assessment '!H236=\"h\",\"4\",(IF('2-Impact Assessment '!H236=\"vh\",\"5\", NA())))))))))))","v":{"$error":"#N/A"}},{"$f":"VALUE((IF('2-Impact Assessment '!I236=\"vl\",\"1\",(IF('2-Impact Assessment '!I236=\"l\",\"2\",(IF('2-Impact Assessment '!I236=\"m\",\"3\",(IF('2-Impact Assessment '!I236=\"h\",\"4\",(IF('2-Impact Assessment '!I236=\"vh\",\"5\", NA())))))))))))","v":{"$error":"#N/A"}},{"$f":"VALUE((IF('2-Impact Assessment '!J236=\"vl\",\"1\",(IF('2-Impact Assessment '!J236=\"l\",\"2\",(IF('2-Impact Assessment '!J236=\"m\",\"3\",(IF('2-Impact Assessment '!J236=\"h\",\"4\",(IF('2-Impact Assessment '!J236=\"vh\",\"5\", NA())))))))))))","v":{"$error":"#N/A"}},{"$f":"VALUE((IF('2-Impact Assessment '!K236=\"vl\",\"1\",(IF('2-Impact Assessment '!K236=\"l\",\"2\",(IF('2-Impact Assessment '!K236=\"m\",\"3\",(IF('2-Impact Assessment '!K236=\"h\",\"4\",(IF('2-Impact Assessment '!K236=\"vh\",\"5\", NA())))))))))))","v":{"$error":"#N/A"}},null,null,{"$f":"IFERROR(INDEX($AA$12:$AG$12,MATCH(TRUE, AA236:AG236 >= 3, 0)),200)","v":200},null,{"$f":"IFERROR(INDEX($AA$12:$AG$12,MATCH(TRUE, AA236:AG236 >= 4, 0)),200)","v":200},null,null,null,null,null,null,null,null,null,null,{"$f":"MAX(IF(ISERROR(E237:E240),0,E237:E240))","v":0},{"$f":"MAX(IF(ISERROR(F237:F240),0,F237:F240))","v":0},{"$f":"MAX(IF(ISERROR(G237:G240),0,G237:G240))","v":0},{"$f":"MAX(IF(ISERROR(H237:H240),0,H237:H240))","v":0},{"$f":"MAX(IF(ISERROR(I237:I240),0,I237:I240))","v":0},{"$f":"MAX(IF(ISERROR(J237:J240),0,J237:J240))","v":0},{"$f":"MAX(IF(ISERROR(K237:K240),0,K237:K240))","v":0}]
[null,null,null,{"$f":"'[2]Consequence Criteria'!$A$9","v":0},{"$f":"VALUE((IF('2-Impact Assessment '!E237=\"vl\",\"1\",(IF('2-Impact Assessment '!E237=\"l\",\"2\",(IF('2-Impact Assessment '!E237=\"m\",\"3\",(IF('2-Impact Assessment '!E237=\"h\",\"4\",(IF('2-Impact Assessment '!E237=\"vh\",\"5\", NA())))))))))))","v":{"$error":"#N/A"}},{"$f":"VALUE((IF('2-Impact Assessment '!F237=\"vl\",\"1\",(IF('2-Impact Assessment '!F237=\"l\",\"2\",(IF('2-Impact Assessment '!F237=\"m\",\"3\",(IF('2-Impact Assessment '!F237=\"h\",\"4\",(IF('2-Impact Assessment '!F237=\"vh\",\"5\", NA())))))))))))","v":{"$error":"#N/A"}},{"$f":"VALUE((IF('2-Impact Assessment '!G237=\"vl\",\"1\",(IF('2-Impact Assessment '!G237=\"l\",\"2\",(IF('2-Impact Assessment '!G237=\"m\",\"3\",(IF('2-Impact Assessment '!G237=\"h\",\"4\",(IF('2-Impact Assessment '!G237=\"vh\",\"5\", NA())))))))))))","v":{"$error":"#N/A"}},{"$f":"VALUE((IF('2-Impact Assessment '!H237=\"vl\",\"1\",(IF('2-Impact Assessment '!H237=\"l\",\"2\",(IF('2-Impact Assessment '!H237=\"m\",\"3\",(IF('2-Impact Assessment '!H237=\"h\",\"4\",(IF('2-Impact Assessment '!H237=\"vh\",\"5\", NA())))))))))))","v":{"$error":"#N/A"}},{"$f":"VALUE((IF('2-Impact Assessment '!I237=\"vl\",\"1\",(IF('2-Impact Assessment '!I237=\"l\",\"2\",(IF('2-Impact Assessment '!I237=\"m\",\"3\",(IF('2-Impact Assessment '!I237=\"h\",\"4\",(IF('2-Impact Assessment '!I237=\"vh\",\"5\", NA())))))))))))","v":{"$error":"#N/A"}},{"$f":"VALUE((IF('2-Impact Assessment '!J237=\"vl\",\"1\",(IF('2-Impact Assessment '!J237=\"l\",\"2\",(IF('2-Impact Assessment '!J237=\"m\",\"3\",(IF('2-Impact Assessment '!J237=\"h\",\"4\",(IF('2-Impact Assessment '!J237=\"vh\",\"5\", NA())))))))))))","v":{"$error":"#N/A"}},{"$f":"VALUE((IF('2-Impact Assessment '!K237=\"vl\",\"1\",(IF('2-Impact Assessment '!K237=\"l\",\"2\",(IF('2-Impact Assessment '!K237=\"m\",\"3\",(IF('2-Impact Assessment '!K237=\"h\",\"4\",(IF('2-Impact Assessment '!K237=\"vh\",\"5\", NA())))))))))))","v":{"$error":"#N/A"}},null,null,{"$f":"IFERROR(INDEX($AA$12:$AG$12,MATCH(TRUE, AA237:AG237 >= 3, 0)),200)","v":200},null,{"$f":"IFERROR(INDEX($AA$12:$AG$12,MATCH(TRUE, AA237:AG237 >= 4, 0)),200)","v":200},null,null,null,null,null,null,null,null,null,null,{"$f":"MAX(IF(ISERROR(E238:E241),0,E238:E241))","v":0},{"$f":"MAX(IF(ISERROR(F238:F241),0,F238:F241))","v":0},{"$f":"MAX(IF(ISERROR(G238:G241),0,G238:G241))","v":0},{"$f":"MAX(IF(ISERROR(H238:H241),0,H238:H241))","v":0},{"$f":"MAX(IF(ISERROR(I238:I241),0,I238:I241))","v":0},{"$f":"MAX(IF(ISERROR(J238:J241),0,J238:J241))","v":0},{"$f":"MAX(IF(ISERROR(K238:K241),0,K238:K241))","v":0}]
[null,null,null,{"$f":"'[2]Consequence Criteria'!$A$10","v":0},{"$f":"VALUE((IF('2-Impact Assessment '!E238=\"vl\",\"1\",(IF('2-Impact Assessment '!E238=\"l\",\"2\",(IF('2-Impact Assessment '!E238=\"m\",\"3\",(IF('2-Impact Assessment '!E238=\"h\",\"4\",(IF('2-Impact Assessment '!E238=\"vh\",\"5\", NA())))))))))))","v":{"$error":"#N/A"}},{"$f":"VALUE((IF('2-Impact Assessment '!F238=\"vl\",\"1\",(IF('2-Impact Assessment '!F238=\"l\",\"2\",(IF('2-Impact Assessment '!F238=\"m\",\"3\",(IF('2-Impact Assessment '!F238=\"h\",\"4\",(IF('2-Impact Assessment '!F238=\"vh\",\"5\", NA())))))))))))","v":{"$error":"#N/A"}},{"$f":"VALUE((IF('2-Impact Assessment '!G238=\"vl\",\"1\",(IF('2-Impact Assessment '!G238=\"l\",\"2\",(IF('2-Impact Assessment '!G238=\"m\",\"3\",(IF('2-Impact Assessment '!G238=\"h\",\"4\",(IF('2-Impact Assessment '!G238=\"vh\",\"5\", NA())))))))))))","v":{"$error":"#N/A"}},{"$f":"VALUE((IF('2-Impact Assessment '!H238=\"vl\",\"1\",(IF('2-Impact Assessment '!H238=\"l\",\"2\",(IF('2-Impact Assessment '!H238=\"m\",\"3\",(IF('2-Impact Assessment '!H238=\"h\",\"4\",(IF('2-Impact Assessment '!H238=\"vh\",\"5\", NA())))))))))))","v":{"$error":"#N/A"}},{"$f":"VALUE((IF('2-Impact Assessment '!I238=\"vl\",\"1\",(IF('2-Impact Assessment '!I238=\"l\",\"2\",(IF('2-Impact Assessment '!I238=\"m\",\"3\",(IF('2-Impact Assessment '!I238=\"h\",\"4\",(IF('2-Impact Assessment '!I238=\"vh\",\"5\", NA())))))))))))","v":{"$error":"#N/A"}},{"$f":"VALUE((IF('2-Impact Assessment '!J238=\"vl\",\"1\",(IF('2-Impact Assessment '!J238=\"l\",\"2\",(IF('2-Impact Assessment '!J238=\"m\",\"3\",(IF('2-Impact Assessment '!J238=\"h\",\"4\",(IF('2-Impact Assessment '!J238=\"vh\",\"5\", NA())))))))))))","v":{"$error":"#N/A"}},{"$f":"VALUE((IF('2-Impact Assessment '!K238=\"vl\",\"1\",(IF('2-Impact Assessment '!K238=\"l\",\"2\",(IF('2-Impact Assessment '!K238=\"m\",\"3\",(IF('2-Impact Assessment '!K238=\"h\",\"4\",(IF('2-Impact Assessment '!K238=\"vh\",\"5\", NA())))))))))))","v":{"$error":"#N/A"}},null,null,{"$f":"IFERROR(INDEX($AA$12:$AG$12,MATCH(TRUE, AA238:AG238 >= 3, 0)),200)","v":200},null,{"$f":"IFERROR(INDEX($AA$12:$AG$12,MATCH(TRUE, AA238:AG238 >= 4, 0)),200)","v":200},null,null,null,null,null,null,null,null,null,null,{"$f":"MAX(IF(ISERROR(E239:E242),0,E239:E242))","v":0},{"$f":"MAX(IF(ISERROR(F239:F242),0,F239:F242))","v":0},{"$f":"MAX(IF(ISERROR(G239:G242),0,G239:G242))","v":0},{"$f":"MAX(IF(ISERROR(H239:H242),0,H239:H242))","v":0},{"$f":"MAX(IF(ISERROR(I239:I242),0,I239:I242))","v":0},{"$f":"MAX(IF(ISERROR(J239:J242),0,J239:J242))","v":0},{"$f":"MAX(IF(ISERROR(K239:K242),0,K239:K242))","v":0}]
[null,{"$f":"IF(ISTEXT('1-Services & Function'!D55),'1-Services & Function'!D55,\"\")","v":""},26,null,"1 hr","4 hr","1 day","2 days","5 days","1 month","> 6 months","Comments",null,{"$f":"IFERROR(INDEX($AA$12:$AG$12,MATCH(TRUE, AA239:AG239 >= 3, 0)),200)","v":200},null,{"$f":"IFERROR(INDEX($AA$12:$AG$12,MATCH(TRUE, AA239:AG239 >= 4, 0)),200)","v":200},null,null,null,null,null,null,null,null,null,null,{"$f":"MAX(IF(ISERROR(E240:E243),0,E240:E243))","v":0},{"$f":"MAX(IF(ISERROR(F240:F243),0,F240:F243))","v":0},{"$f":"MAX(IF(ISERROR(G240:G243),0,G240:G243))","v":0},{"$f":"MAX(IF(ISERROR(H240:H243),0,H240:H243))","v":0},{"$f":"MAX(IF(ISERROR(I240:I243),0,I240:I243))","v":0},{"$f":"MAX(IF(ISERROR(J240:J243),0,J240:J243))","v":0},{"$f":"MAX(IF(ISERROR(K240:K243),0,K240:K243))","v":0}]
[null,null,null,{"$f":"'[2]Consequence Criteria'!$A$3","v":"Economic"},{"$f":"VALUE((IF('2-Impact Assessment '!E240=\"vl\",\"1\",(IF('2-Impact Assessment '!E240=\"l\",\"2\",(IF('2-Impact Assessment '!E240=\"m\",\"3\",(IF('2-Impact Assessment '!E240=\"h\",\"4\",(IF('2-Impact Assessment '!E240=\"vh\",\"5\", NA())))))))))))","v":{"$error":"#N/A"}},{"$f":"VALUE((IF('2-Impact Assessment '!F240=\"vl\",\"1\",(IF('2-Impact Assessment '!F240=\"l\",\"2\",(IF('2-Impact Assessment '!F240=\"m\",\"3\",(IF('2-Impact Assessment '!F240=\"h\",\"4\",(IF('2-Impact Assessment '!F240=\"vh\",\"5\", NA())))))))))))","v":{"$error":"#N/A"}},{"$f":"VALUE((IF('2-Impact Assessment '!G240=\"vl\",\"1\",(IF('2-Impact Assessment '!G240=\"l\",\"2\",(IF('2-Impact Assessment '!G240=\"m\",\"3\",(IF('2-Impact Assessment '!G240=\"h\",\"4\",(IF('2-Impact Assessment '!G240=\"vh\",\"5\", NA())))))))))))","v":{"$error":"#N/A"}},{"$f":"VALUE((IF('2-Impact Assessment '!H240=\"vl\",\"1\",(IF('2-Impact Assessment '!H240=\"l\",\"2\",(IF('2-Impact Assessment '!H240=\"m\",\"3\",(IF('2-Impact Assessment '!H240=\"h\",\"4\",(IF('2-Impact Assessment '!H240=\"vh\",\"5\", NA())))))))))))","v":{"$error":"#N/A"}},{"$f":"VALUE((IF('2-Impact Assessment '!I240=\"vl\",\"1\",(IF('2-Impact Assessment '!I240=\"l\",\"2\",(IF('2-Impact Assessment '!I240=\"m\",\"3\",(IF('2-Impact Assessment '!I240=\"h\",\"4\",(IF('2-Impact Assessment '!I240=\"vh\",\"5\", NA())))))))))))","v":{"$error":"#N/A"}},{"$f":"VALUE((IF('2-Impact Assessment '!J240=\"vl\",\"1\",(IF('2-Impact Assessment '!J240=\"l\",\"2\",(IF('2-Impact Assessment '!J240=\"m\",\"3\",(IF('2-Impact Assessment '!J240=\"h\",\"4\",(IF('2-Impact Assessment '!J240=\"vh\",\"5\", NA())))))))))))","v":{"$error":"#N/A"}},{"$f":"VALUE((IF('2-Impact Assessment '!K240=\"vl\",\"1\",(IF('2-Impact Assessment '!K240=\"l\",\"2\",(IF('2-Impact Assessment '!K240=\"m\",\"3\",(IF('2-Impact Assessment '!K240=\"h\",\"4\",(IF('2-Impact Assessment '!K240=\"vh\",\"5\", NA())))))))))))","v":{"$error":"#N/A"}},null,null,{"$f":"IFERROR(INDEX($AA$12:$AG$12,MATCH(TRUE, AA240:AG240 >= 3, 0)),200)","v":200},null,{"$f":"IFERROR(INDEX($AA$12:$AG$12,MATCH(TRUE, AA240:AG240 >= 4, 0)),200)","v":200},null,null,null,null,null,null,null,null,null,null,{"$f":"MAX(IF(ISERROR(E241:E244),0,E241:E244))","v":0},{"$f":"MAX(IF(ISERROR(F241:F244),0,F241:F244))","v":0},{"$f":"MAX(IF(ISERROR(G241:G244),0,G241:G244))","v":0},{"$f":"MAX(IF(ISERROR(H241:H244),0,H241:H244))","v":0},{"$f":"MAX(IF(ISERROR(I241:I244),0,I241:I244))","v":0},{"$f":"MAX(IF(ISERROR(J241:J244),0,J241:J244))","v":0},{"$f":"MAX(IF(ISERROR(K241:K244),0,K241:K244))","v":0}]
[null,null,null,{"$f":"'[2]Consequence Criteria'!$A$4","v":"Social"},{"$f":"VALUE((IF('2-Impact Assessment '!E241=\"vl\",\"1\",(IF('2-Impact Assessment '!E241=\"l\",\"2\",(IF('2-Impact Assessment '!E241=\"m\",\"3\",(IF('2-Impact Assessment '!E241=\"h\",\"4\",(IF('2-Impact Assessment '!E241=\"vh\",\"5\", NA())))))))))))","v":{"$error":"#N/A"}},{"$f":"VALUE((IF('2-Impact Assessment '!F241=\"vl\",\"1\",(IF('2-Impact Assessment '!F241=\"l\",\"2\",(IF('2-Impact Assessment '!F241=\"m\",\"3\",(IF('2-Impact Assessment '!F241=\"h\",\"4\",(IF('2-Impact Assessment '!F241=\"vh\",\"5\", NA())))))))))))","v":{"$error":"#N/A"}},{"$f":"VALUE((IF('2-Impact Assessment '!G241=\"vl\",\"1\",(IF('2-Impact Assessment '!G241=\"l\",\"2\",(IF('2-Impact Assessment '!G241=\"m\",\"3\",(IF('2-Impact Assessment '!G241=\"h\",\"4\",(IF('2-Impact Assessment '!G241=\"vh\",\"5\", NA())))))))))))","v":{"$error":"#N/A"}},{"$f":"VALUE((IF('2-Impact Assessment '!H241=\"vl\",\"1\",(IF('2-Impact Assessment '!H241=\"l\",\"2\",(IF('2-Impact Assessment '!H241=\"m\",\"3\",(IF('2-Impact Assessment '!H241=\"h\",\"4\",(IF('2-Impact Assessment '!H241=\"vh\",\"5\", NA())))))))))))","v":{"$error":"#N/A"}},{"$f":"VALUE((IF('2-Impact Assessment '!I241=\"vl\",\"1\",(IF('2-Impact Assessment '!I241=\"l\",\"2\",(IF('2-Impact Assessment '!I241=\"m\",\"3\",(IF('2-Impact Assessment '!I241=\"h\",\"4\",(IF('2-Impact Assessment '!I241=\"vh\",\"5\", NA())))))))))))","v":{"$error":"#N/A"}},{"$f":"VALUE((IF('2-Impact Assessment '!J241=\"vl\",\"1\",(IF('2-Impact Assessment '!J241=\"l\",\"2\",(IF('2-Impact Assessment '!J241=\"m\",\"3\",(IF('2-Impact Assessment '!J241=\"h\",\"4\",(IF('2-Impact Assessment '!J241=\"vh\",\"5\", NA())))))))))))","v":{"$error":"#N/A"}},{"$f":"VALUE((IF('2-Impact Assessment '!K241=\"vl\",\"1\",(IF('2-Impact Assessment '!K241=\"l\",\"2\",(IF('2-Impact Assessment '!K241=\"m\",\"3\",(IF('2-Impact Assessment '!K241=\"h\",\"4\",(IF('2-Impact Assessment '!K241=\"vh\",\"5\", NA())))))))))))","v":{"$error":"#N/A"}},null,null,{"$f":"IFERROR(INDEX($AA$12:$AG$12,MATCH(TRUE, AA241:AG241 >= 3, 0)),200)","v":200},null,{"$f":"IFERROR(INDEX($AA$12:$AG$12,MATCH(TRUE, AA241:AG241 >= 4, 0)),200)","v":200},null,null,null,null,null,null,null,null,null,null,{"$f":"MAX(IF(ISERROR(E242:E245),0,E242:E245))","v":0},{"$f":"MAX(IF(ISERROR(F242:F245),0,F242:F245))","v":0},{"$f":"MAX(IF(ISERROR(G242:G245),0,G242:G245))","v":0},{"$f":"MAX(IF(ISERROR(H242:H245),0,H242:H245))","v":0},{"$f":"MAX(IF(ISERROR(I242:I245),0,I242:I245))","v":0},{"$f":"MAX(IF(ISERROR(J242:J245),0,J242:J245))","v":0},{"$f":"MAX(IF(ISERROR(K242:K245),0,K242:K245))","v":0}]
[null,null,null,{"$f":"'[2]Consequence Criteria'!$A$5","v":"Cultural"},{"$f":"VALUE((IF('2-Impact Assessment '!E242=\"vl\",\"1\",(IF('2-Impact Assessment '!E242=\"l\",\"2\",(IF('2-Impact Assessment '!E242=\"m\",\"3\",(IF('2-Impact Assessment '!E242=\"h\",\"4\",(IF('2-Impact Assessment '!E242=\"vh\",\"5\", NA())))))))))))","v":{"$error":"#N/A"}},{"$f":"VALUE((IF('2-Impact Assessment '!F242=\"vl\",\"1\",(IF('2-Impact Assessment '!F242=\"l\",\"2\",(IF('2-Impact Assessment '!F242=\"m\",\"3\",(IF('2-Impact Assessment '!F242=\"h\",\"4\",(IF('2-Impact Assessment '!F242=\"vh\",\"5\", NA())))))))))))","v":{"$error":"#N/A"}},{"$f":"VALUE((IF('2-Impact Assessment '!G242=\"vl\",\"1\",(IF('2-Impact Assessment '!G242=\"l\",\"2\",(IF('2-Impact Assessment '!G242=\"m\",\"3\",(IF('2-Impact Assessment '!G242=\"h\",\"4\",(IF('2-Impact Assessment '!G242=\"vh\",\"5\", NA())))))))))))","v":{"$error":"#N/A"}},{"$f":"VALUE((IF('2-Impact Assessment '!H242=\"vl\",\"1\",(IF('2-Impact Assessment '!H242=\"l\",\"2\",(IF('2-Impact Assessment '!H242=\"m\",\"3\",(IF('2-Impact Assessment '!H242=\"h\",\"4\",(IF('2-Impact Assessment '!H242=\"vh\",\"5\", NA())))))))))))","v":{"$error":"#N/A"}},{"$f":"VALUE((IF('2-Impact Assessment '!I242=\"vl\",\"1\",(IF('2-Impact Assessment '!I242=\"l\",\"2\",(IF('2-Impact Assessment '!I242=\"m\",\"3\",(IF('2-Impact Assessment '!I242=\"h\",\"4\",(IF('2-Impact Assessment '!I242=\"vh\",\"5\", NA())))))))))))","v":{"$error":"#N/A"}},{"$f":"VALUE((IF('2-Impact Assessment '!J242=\"vl\",\"1\",(IF('2-Impact Assessment '!J242=\"l\",\"2\",(IF('2-Impact Assessment '!J242=\"m\",\"3\",(IF('2-Impact Assessment '!J242=\"h\",\"4\",(IF('2-Impact Assessment '!J242=\"vh\",\"5\", NA())))))))))))","v":{"$error":"#N/A"}},{"$f":"VALUE((IF('2-Impact Assessment '!K242=\"vl\",\"1\",(IF('2-Impact Assessment '!K242=\"l\",\"2\",(IF('2-Impact Assessment '!K242=\"m\",\"3\",(IF('2-Impact Assessment '!K242=\"h\",\"4\",(IF('2-Impact Assessment '!K242=\"vh\",\"5\", NA())))))))))))","v":{"$error":"#N/A"}},null,null,{"$f":"IFERROR(INDEX($AA$12:$AG$12,MATCH(TRUE, AA242:AG242 >= 3, 0)),200)","v":200},null,{"$f":"IFERROR(INDEX($AA$12:$AG$12,MATCH(TRUE, AA242:AG242 >= 4, 0)),200)","v":200},null,null,null,null,null,null,null,null,null,null,{"$f":"MAX(IF(ISERROR(E243:E246),0,E243:E246))","v":0},{"$f":"MAX(IF(ISERROR(F243:F246),0,F243:F246))","v":0},{"$f":"MAX(IF(ISERROR(G243:G246),0,G243:G246))","v":0},{"$f":"MAX(IF(ISERROR(H243:H246),0,H243:H246))","v":0},{"$f":"MAX(IF(ISERROR(I243:I246),0,I243:I246))","v":0},{"$f":"MAX(IF(ISERROR(J243:J246),0,J243:J246))","v":0},{"$f":"MAX(IF(ISERROR(K243:K246),0,K243:K246))","v":0}]
[null,null,null,{"$f":"'[2]Consequence Criteria'!$A$6","v":"Environmental"},{"$f":"VALUE((IF('2-Impact Assessment '!E243=\"vl\",\"1\",(IF('2-Impact Assessment '!E243=\"l\",\"2\",(IF('2-Impact Assessment '!E243=\"m\",\"3\",(IF('2-Impact Assessment '!E243=\"h\",\"4\",(IF('2-Impact Assessment '!E243=\"vh\",\"5\", NA())))))))))))","v":{"$error":"#N/A"}},{"$f":"VALUE((IF('2-Impact Assessment '!F243=\"vl\",\"1\",(IF('2-Impact Assessment '!F243=\"l\",\"2\",(IF('2-Impact Assessment '!F243=\"m\",\"3\",(IF('2-Impact Assessment '!F243=\"h\",\"4\",(IF('2-Impact Assessment '!F243=\"vh\",\"5\", NA())))))))))))","v":{"$error":"#N/A"}},{"$f":"VALUE((IF('2-Impact Assessment '!G243=\"vl\",\"1\",(IF('2-Impact Assessment '!G243=\"l\",\"2\",(IF('2-Impact Assessment '!G243=\"m\",\"3\",(IF('2-Impact Assessment '!G243=\"h\",\"4\",(IF('2-Impact Assessment '!G243=\"vh\",\"5\", NA())))))))))))","v":{"$error":"#N/A"}},{"$f":"VALUE((IF('2-Impact Assessment '!H243=\"vl\",\"1\",(IF('2-Impact Assessment '!H243=\"l\",\"2\",(IF('2-Impact Assessment '!H243=\"m\",\"3\",(IF('2-Impact Assessment '!H243=\"h\",\"4\",(IF('2-Impact Assessment '!H243=\"vh\",\"5\", NA())))))))))))","v":{"$error":"#N/A"}},{"$f":"VALUE((IF('2-Impact Assessment '!I243=\"vl\",\"1\",(IF('2-Impact Assessment '!I243=\"l\",\"2\",(IF('2-Impact Assessment '!I243=\"m\",\"3\",(IF('2-Impact Assessment '!I243=\"h\",\"4\",(IF('2-Impact Assessment '!I243=\"vh\",\"5\", NA())))))))))))","v":{"$error":"#N/A"}},{"$f":"VALUE((IF('2-Impact Assessment '!J243=\"vl\",\"1\",(IF('2-Impact Assessment '!J243=\"l\",\"2\",(IF('2-Impact Assessment '!J243=\"m\",\"3\",(IF('2-Impact Assessment '!J243=\"h\",\"4\",(IF('2-Impact Assessment '!J243=\"vh\",\"5\", NA())))))))))))","v":{"$error":"#N/A"}},{"$f":"VALUE((IF('2-Impact Assessment '!K243=\"vl\",\"1\",(IF('2-Impact Assessment '!K243=\"l\",\"2\",(IF('2-Impact Assessment '!K243=\"m\",\"3\",(IF('2-Impact Assessment '!K243=\"h\",\"4\",(IF('2-Impact Assessment '!K243=\"vh\",\"5\", NA())))))))))))","v":{"$error":"#N/A"}},null,null,{"$f":"IFERROR(INDEX($AA$12:$AG$12,MATCH(TRUE, AA243:AG243 >= 3, 0)),200)","v":200},null,{"$f":"IFERROR(INDEX($AA$12:$AG$12,MATCH(TRUE, AA243:AG243 >= 4, 0)),200)","v":200},null,null,null,null,null,null,null,null,null,null,{"$f":"MAX(IF(ISERROR(E244:E247),0,E244:E247))","v":0},{"$f":"MAX(IF(ISERROR(F244:F247),0,F244:F247))","v":0},{"$f":"MAX(IF(ISERROR(G244:G247),0,G244:G247))","v":0},{"$f":"MAX(IF(ISERROR(H244:H247),0,H244:H247))","v":0},{"$f":"MAX(IF(ISERROR(I244:I247),0,I244:I247))","v":0},{"$f":"MAX(IF(ISERROR(J244:J247),0,J244:J247))","v":0},{"$f":"MAX(IF(ISERROR(K244:K247),0,K244:K247))","v":0}]
[null,null,null,{"$f":"'[2]Consequence Criteria'!$A$7","v":0},{"$f":"VALUE((IF('2-Impact Assessment '!E244=\"vl\",\"1\",(IF('2-Impact Assessment '!E244=\"l\",\"2\",(IF('2-Impact Assessment '!E244=\"m\",\"3\",(IF('2-Impact Assessment '!E244=\"h\",\"4\",(IF('2-Impact Assessment '!E244=\"vh\",\"5\", NA())))))))))))","v":{"$error":"#N/A"}},{"$f":"VALUE((IF('2-Impact Assessment '!F244=\"vl\",\"1\",(IF('2-Impact Assessment '!F244=\"l\",\"2\",(IF('2-Impact Assessment '!F244=\"m\",\"3\",(IF('2-Impact Assessment '!F244=\"h\",\"4\",(IF('2-Impact Assessment '!F244=\"vh\",\"5\", NA())))))))))))","v":{"$error":"#N/A"}},{"$f":"VALUE((IF('2-Impact Assessment '!G244=\"vl\",\"1\",(IF('2-Impact Assessment '!G244=\"l\",\"2\",(IF('2-Impact Assessment '!G244=\"m\",\"3\",(IF('2-Impact Assessment '!G244=\"h\",\"4\",(IF('2-Impact Assessment '!G244=\"vh\",\"5\", NA())))))))))))","v":{"$error":"#N/A"}},{"$f":"VALUE((IF('2-Impact Assessment '!H244=\"vl\",\"1\",(IF('2-Impact Assessment '!H244=\"l\",\"2\",(IF('2-Impact Assessment '!H244=\"m\",\"3\",(IF('2-Impact Assessment '!H244=\"h\",\"4\",(IF('2-Impact Assessment '!H244=\"vh\",\"5\", NA())))))))))))","v":{"$error":"#N/A"}},{"$f":"VALUE((IF('2-Impact Assessment '!I244=\"vl\",\"1\",(IF('2-Impact Assessment '!I244=\"l\",\"2\",(IF('2-Impact Assessment '!I244=\"m\",\"3\",(IF('2-Impact Assessment '!I244=\"h\",\"4\",(IF('2-Impact Assessment '!I244=\"vh\",\"5\", NA())))))))))))","v":{"$error":"#N/A"}},{"$f":"VALUE((IF('2-Impact Assessment '!J244=\"vl\",\"1\",(IF('2-Impact Assessment '!J244=\"l\",\"2\",(IF('2-Impact Assessment '!J244=\"m\",\"3\",(IF('2-Impact Assessment '!J244=\"h\",\"4\",(IF('2-Impact Assessment '!J244=\"vh\",\"5\", NA())))))))))))","v":{"$error":"#N/A"}},{"$f":"VALUE((IF('2-Impact Assessment '!K244=\"vl\",\"1\",(IF('2-Impact Assessment '!K244=\"l\",\"2\",(IF('2-Impact Assessment '!K244=\"m\",\"3\",(IF('2-Impact Assessment '!K244=\"h\",\"4\",(IF('2-Impact Assessment '!K244=\"vh\",\"5\", NA())))))))))))","v":{"$error":"#N/A"}},null,null,{"$f":"IFERROR(INDEX($AA$12:$AG$12,MATCH(TRUE, AA244:AG244 >= 3, 0)),200)","v":200},null,{"$f":"IFERROR(INDEX($AA$12:$AG$12,MATCH(TRUE, AA244:AG244 >= 4, 0)),200)","v":200},null,null,null,null,null,null,null,null,null,null,{"$f":"MAX(IF(ISERROR(E245:E248),0,E245:E248))","v":0},{"$f":"MAX(IF(ISERROR(F245:F248),0,F245:F248))","v":0},{"$f":"MAX(IF(ISERROR(G245:G248),0,G245:G248))","v":0},{"$f":"MAX(IF(ISERROR(H245:H248),0,H245:H248))","v":0},{"$f":"MAX(IF(ISERROR(I245:I248),0,I245:I248))","v":0},{"$f":"MAX(IF(ISERROR(J245:J248),0,J245:J248))","v":0},{"$f":"MAX(IF(ISERROR(K245:K248),0,K245:K248))","v":0}]
[null,null,null,{"$f":"'[2]Consequence Criteria'!$A$8","v":0},{"$f":"VALUE((IF('2-Impact Assessment '!E245=\"vl\",\"1\",(IF('2-Impact Assessment '!E245=\"l\",\"2\",(IF('2-Impact Assessment '!E245=\"m\",\"3\",(IF('2-Impact Assessment '!E245=\"h\",\"4\",(IF('2-Impact Assessment '!E245=\"vh\",\"5\", NA())))))))))))","v":{"$error":"#N/A"}},{"$f":"VALUE((IF('2-Impact Assessment '!F245=\"vl\",\"1\",(IF('2-Impact Assessment '!F245=\"l\",\"2\",(IF('2-Impact Assessment '!F245=\"m\",\"3\",(IF('2-Impact Assessment '!F245=\"h\",\"4\",(IF('2-Impact Assessment '!F245=\"vh\",\"5\", NA())))))))))))","v":{"$error":"#N/A"}},{"$f":"VALUE((IF('2-Impact Assessment '!G245=\"vl\",\"1\",(IF('2-Impact Assessment '!G245=\"l\",\"2\",(IF('2-Impact Assessment '!G245=\"m\",\"3\",(IF('2-Impact Assessment '!G245=\"h\",\"4\",(IF('2-Impact Assessment '!G245=\"vh\",\"5\", NA())))))))))))","v":{"$error":"#N/A"}},{"$f":"VALUE((IF('2-Impact Assessment '!H245=\"vl\",\"1\",(IF('2-Impact Assessment '!H245=\"l\",\"2\",(IF('2-Impact Assessment '!H245=\"m\",\"3\",(IF('2-Impact Assessment '!H245=\"h\",\"4\",(IF('2-Impact Assessment '!H245=\"vh\",\"5\", NA())))))))))))","v":{"$error":"#N/A"}},{"$f":"VALUE((IF('2-Impact Assessment '!I245=\"vl\",\"1\",(IF('2-Impact Assessment '!I245=\"l\",\"2\",(IF('2-Impact Assessment '!I245=\"m\",\"3\",(IF('2-Impact Assessment '!I245=\"h\",\"4\",(IF('2-Impact Assessment '!I245=\"vh\",\"5\", NA())))))))))))","v":{"$error":"#N/A"}},{"$f":"VALUE((IF('2-Impact Assessment '!J245=\"vl\",\"1\",(IF('2-Impact Assessment '!J245=\"l\",\"2\",(IF('2-Impact Assessment '!J245=\"m\",\"3\",(IF('2-Impact Assessment '!J245=\"h\",\"4\",(IF('2-Impact Assessment '!J245=\"vh\",\"5\", NA())))))))))))","v":{"$error":"#N/A"}},{"$f":"VALUE((IF('2-Impact Assessment '!K245=\"vl\",\"1\",(IF('2-Impact Assessment '!K245=\"l\",\"2\",(IF('2-Impact Assessment '!K245=\"m\",\"3\",(IF('2-Impact Assessment '!K245=\"h\",\"4\",(IF('2-Impact Assessment '!K245=\"vh\",\"5\", NA())))))))))))","v":{"$error":"#N/A"}},null,null,{"$f":"IFERROR(INDEX($AA$12:$AG$12,MATCH(TRUE, AA245:AG245 >= 3, 0)),200)","v":200},null,{"$f":"IFERROR(INDEX($AA$12:$AG$12,MATCH(TRUE, AA245:AG245 >= 4, 0)),200)","v":200},null,null,null,null,null,null,null,null,null,null,{"$f":"MAX(IF(ISERROR(E246:E249),0,E246:E249))","v":0},{"$f":"MAX(IF(ISERROR(F246:F249),0,F246:F249))","v":0},{"$f":"MAX(IF(ISERROR(G246:G249),0,G246:G249))","v":0},{"$f":"MAX(IF(ISERROR(H246:H249),0,H246:H249))","v":0},{"$f":"MAX(IF(ISERROR(I246:I249),0,I246:I249))","v":0},{"$f":"MAX(IF(ISERROR(J246:J249),0,J246:J249))","v":0},{"$f":"MAX(IF(ISERROR(K246:K249),0,K246:K249))","v":0}]
[null,null,null,{"$f":"'[2]Consequence Criteria'!$A$9","v":0},{"$f":"VALUE((IF('2-Impact Assessment '!E246=\"vl\",\"1\",(IF('2-Impact Assessment '!E246=\"l\",\"2\",(IF('2-Impact Assessment '!E246=\"m\",\"3\",(IF('2-Impact Assessment '!E246=\"h\",\"4\",(IF('2-Impact Assessment '!E246=\"vh\",\"5\", NA())))))))))))","v":{"$error":"#N/A"}},{"$f":"VALUE((IF('2-Impact Assessment '!F246=\"vl\",\"1\",(IF('2-Impact Assessment '!F246=\"l\",\"2\",(IF('2-Impact Assessment '!F246=\"m\",\"3\",(IF('2-Impact Assessment '!F246=\"h\",\"4\",(IF('2-Impact Assessment '!F246=\"vh\",\"5\", NA())))))))))))","v":{"$error":"#N/A"}},{"$f":"VALUE((IF('2-Impact Assessment '!G246=\"vl\",\"1\",(IF('2-Impact Assessment '!G246=\"l\",\"2\",(IF('2-Impact Assessment '!G246=\"m\",\"3\",(IF('2-Impact Assessment '!G246=\"h\",\"4\",(IF('2-Impact Assessment '!G246=\"vh\",\"5\", NA())))))))))))","v":{"$error":"#N/A"}},{"$f":"VALUE((IF('2-Impact Assessment '!H246=\"vl\",\"1\",(IF('2-Impact Assessment '!H246=\"l\",\"2\",(IF('2-Impact Assessment '!H246=\"m\",\"3\",(IF('2-Impact Assessment '!H246=\"h\",\"4\",(IF('2-Impact Assessment '!H246=\"vh\",\"5\", NA())))))))))))","v":{"$error":"#N/A"}},{"$f":"VALUE((IF('2-Impact Assessment '!I246=\"vl\",\"1\",(IF('2-Impact Assessment '!I246=\"l\",\"2\",(IF('2-Impact Assessment '!I246=\"m\",\"3\",(IF('2-Impact Assessment '!I246=\"h\",\"4\",(IF('2-Impact Assessment '!I246=\"vh\",\"5\", NA())))))))))))","v":{"$error":"#N/A"}},{"$f":"VALUE((IF('2-Impact Assessment '!J246=\"vl\",\"1\",(IF('2-Impact Assessment '!J246=\"l\",\"2\",(IF('2-Impact Assessment '!J246=\"m\",\"3\",(IF('2-Impact Assessment '!J246=\"h\",\"4\",(IF('2-Impact Assessment '!J246=\"vh\",\"5\", NA())))))))))))","v":{"$error":"#N/A"}},{"$f":"VALUE((IF('2-Impact Assessment '!K246=\"vl\",\"1\",(IF('2-Impact Assessment '!K246=\"l\",\"2\",(IF('2-Impact Assessment '!K246=\"m\",\"3\",(IF('2-Impact Assessment '!K246=\"h\",\"4\",(IF('2-Impact Assessment '!K246=\"vh\",\"5\", NA())))))))))))","v":{"$error":"#N/A"}},null,null,{"$f":"IFERROR(INDEX($AA$12:$AG$12,MATCH(TRUE, AA246:AG246 >= 3, 0)),200)","v":200},null,{"$f":"IFERROR(INDEX($AA$12:$AG$12,MATCH(TRUE, AA246:AG246 >= 4, 0)),200)","v":200},null,null,null,null,null,null,null,null,null,null,{"$f":"MAX(IF(ISERROR(E247:E250),0,E247:E250))","v":0},{"$f":"MAX(IF(ISERROR(F247:F250),0,F247:F250))","v":0},{"$f":"MAX(IF(ISERROR(G247:G250),0,G247:G250))","v":0},{"$f":"MAX(IF(ISERROR(H247:H250),0,H247:H250))","v":0},{"$f":"MAX(IF(ISERROR(I247:I250),0,I247:I250))","v":0},{"$f":"MAX(IF(ISERROR(J247:J250),0,J247:J250))","v":0},{"$f":"MAX(IF(ISERROR(K247:K250),0,K247:K250))","v":0}]
[null,null,null,{"$f":"'[2]Consequence Criteria'!$A$10","v":0},{"$f":"VALUE((IF('2-Impact Assessment '!E247=\"vl\",\"1\",(IF('2-Impact Assessment '!E247=\"l\",\"2\",(IF('2-Impact Assessment '!E247=\"m\",\"3\",(IF('2-Impact Assessment '!E247=\"h\",\"4\",(IF('2-Impact Assessment '!E247=\"vh\",\"5\", NA())))))))))))","v":{"$error":"#N/A"}},{"$f":"VALUE((IF('2-Impact Assessment '!F247=\"vl\",\"1\",(IF('2-Impact Assessment '!F247=\"l\",\"2\",(IF('2-Impact Assessment '!F247=\"m\",\"3\",(IF('2-Impact Assessment '!F247=\"h\",\"4\",(IF('2-Impact Assessment '!F247=\"vh\",\"5\", NA())))))))))))","v":{"$error":"#N/A"}},{"$f":"VALUE((IF('2-Impact Assessment '!G247=\"vl\",\"1\",(IF('2-Impact Assessment '!G247=\"l\",\"2\",(IF('2-Impact Assessment '!G247=\"m\",\"3\",(IF('2-Impact Assessment '!G247=\"h\",\"4\",(IF('2-Impact Assessment '!G247=\"vh\",\"5\", NA())))))))))))","v":{"$error":"#N/A"}},{"$f":"VALUE((IF('2-Impact Assessment '!H247=\"vl\",\"1\",(IF('2-Impact Assessment '!H247=\"l\",\"2\",(IF('2-Impact Assessment '!H247=\"m\",\"3\",(IF('2-Impact Assessment '!H247=\"h\",\"4\",(IF('2-Impact Assessment '!H247=\"vh\",\"5\", NA())))))))))))","v":{"$error":"#N/A"}},{"$f":"VALUE((IF('2-Impact Assessment '!I247=\"vl\",\"1\",(IF('2-Impact Assessment '!I247=\"l\",\"2\",(IF('2-Impact Assessment '!I247=\"m\",\"3\",(IF('2-Impact Assessment '!I247=\"h\",\"4\",(IF('2-Impact Assessment '!I247=\"vh\",\"5\", NA())))))))))))","v":{"$error":"#N/A"}},{"$f":"VALUE((IF('2-Impact Assessment '!J247=\"vl\",\"1\",(IF('2-Impact Assessment '!J247=\"l\",\"2\",(IF('2-Impact Assessment '!J247=\"m\",\"3\",(IF('2-Impact Assessment '!J247=\"h\",\"4\",(IF('2-Impact Assessment '!J247=\"vh\",\"5\", NA())))))))))))","v":{"$error":"#N/A"}},{"$f":"VALUE((IF('2-Impact Assessment '!K247=\"vl\",\"1\",(IF('2-Impact Assessment '!K247=\"l\",\"2\",(IF('2-Impact Assessment '!K247=\"m\",\"3\",(IF('2-Impact Assessment '!K247=\"h\",\"4\",(IF('2-Impact Assessment '!K247=\"vh\",\"5\", NA())))))))))))","v":{"$error":"#N/A"}},null,null,{"$f":"IFERROR(INDEX($AA$12:$AG$12,MATCH(TRUE, AA247:AG247 >= 3, 0)),200)","v":200},null,{"$f":"IFERROR(INDEX($AA$12:$AG$12,MATCH(TRUE, AA247:AG247 >= 4, 0)),200)","v":200},null,null,null,null,null,null,null,null,null,null,{"$f":"MAX(IF(ISERROR(E248:E251),0,E248:E251))","v":0},{"$f":"MAX(IF(ISERROR(F248:F251),0,F248:F251))","v":0},{"$f":"MAX(IF(ISERROR(G248:G251),0,G248:G251))","v":0},{"$f":"MAX(IF(ISERROR(H248:H251),0,H248:H251))","v":0},{"$f":"MAX(IF(ISERROR(I248:I251),0,I248:I251))","v":0},{"$f":"MAX(IF(ISERROR(J248:J251),0,J248:J251))","v":0},{"$f":"MAX(IF(ISERROR(K248:K251),0,K248:K251))","v":0}]
[null,{"$f":"IF(ISTEXT('1-Services & Function'!D56),'1-Services & Function'!D56,\"\")","v":""},27,null,"1 hr","4 hr","1 day","2 days","5 days","1 month","> 6 months","Comments",null,{"$f":"IFERROR(INDEX($AA$12:$AG$12,MATCH(TRUE, AA248:AG248 >= 3, 0)),200)","v":200},null,{"$f":"IFERROR(INDEX($AA$12:$AG$12,MATCH(TRUE, AA248:AG248 >= 4, 0)),200)","v":200},null,null,null,null,null,null,null,null,null,null,{"$f":"MAX(IF(ISERROR(E249:E252),0,E249:E252))","v":0},{"$f":"MAX(IF(ISERROR(F249:F252),0,F249:F252))","v":0},{"$f":"MAX(IF(ISERROR(G249:G252),0,G249:G252))","v":0},{"$f":"MAX(IF(ISERROR(H249:H252),0,H249:H252))","v":0},{"$f":"MAX(IF(ISERROR(I249:I252),0,I249:I252))","v":0},{"$f":"MAX(IF(ISERROR(J249:J252),0,J249:J252))","v":0},{"$f":"MAX(IF(ISERROR(K249:K252),0,K249:K252))","v":0}]
[null,null,null,{"$f":"'[2]Consequence Criteria'!$A$3","v":"Economic"},{"$f":"VALUE((IF('2-Impact Assessment '!E249=\"vl\",\"1\",(IF('2-Impact Assessment '!E249=\"l\",\"2\",(IF('2-Impact Assessment '!E249=\"m\",\"3\",(IF('2-Impact Assessment '!E249=\"h\",\"4\",(IF('2-Impact Assessment '!E249=\"vh\",\"5\", NA())))))))))))","v":{"$error":"#N/A"}},{"$f":"VALUE((IF('2-Impact Assessment '!F249=\"vl\",\"1\",(IF('2-Impact Assessment '!F249=\"l\",\"2\",(IF('2-Impact Assessment '!F249=\"m\",\"3\",(IF('2-Impact Assessment '!F249=\"h\",\"4\",(IF('2-Impact Assessment '!F249=\"vh\",\"5\", NA())))))))))))","v":{"$error":"#N/A"}},{"$f":"VALUE((IF('2-Impact Assessment '!G249=\"vl\",\"1\",(IF('2-Impact Assessment '!G249=\"l\",\"2\",(IF('2-Impact Assessment '!G249=\"m\",\"3\",(IF('2-Impact Assessment '!G249=\"h\",\"4\",(IF('2-Impact Assessment '!G249=\"vh\",\"5\", NA())))))))))))","v":{"$error":"#N/A"}},{"$f":"VALUE((IF('2-Impact Assessment '!H249=\"vl\",\"1\",(IF('2-Impact Assessment '!H249=\"l\",\"2\",(IF('2-Impact Assessment '!H249=\"m\",\"3\",(IF('2-Impact Assessment '!H249=\"h\",\"4\",(IF('2-Impact Assessment '!H249=\"vh\",\"5\", NA())))))))))))","v":{"$error":"#N/A"}},{"$f":"VALUE((IF('2-Impact Assessment '!I249=\"vl\",\"1\",(IF('2-Impact Assessment '!I249=\"l\",\"2\",(IF('2-Impact Assessment '!I249=\"m\",\"3\",(IF('2-Impact Assessment '!I249=\"h\",\"4\",(IF('2-Impact Assessment '!I249=\"vh\",\"5\", NA())))))))))))","v":{"$error":"#N/A"}},{"$f":"VALUE((IF('2-Impact Assessment '!J249=\"vl\",\"1\",(IF('2-Impact Assessment '!J249=\"l\",\"2\",(IF('2-Impact Assessment '!J249=\"m\",\"3\",(IF('2-Impact Assessment '!J249=\"h\",\"4\",(IF('2-Impact Assessment '!J249=\"vh\",\"5\", NA())))))))))))","v":{"$error":"#N/A"}},{"$f":"VALUE((IF('2-Impact Assessment '!K249=\"vl\",\"1\",(IF('2-Impact Assessment '!K249=\"l\",\"2\",(IF('2-Impact Assessment '!K249=\"m\",\"3\",(IF('2-Impact Assessment '!K249=\"h\",\"4\",(IF('2-Impact Assessment '!K249=\"vh\",\"5\", NA())))))))))))","v":{"$error":"#N/A"}},null,null,{"$f":"IFERROR(INDEX($AA$12:$AG$12,MATCH(TRUE, AA249:AG249 >= 3, 0)),200)","v":200},null,{"$f":"IFERROR(INDEX($AA$12:$AG$12,MATCH(TRUE, AA249:AG249 >= 4, 0)),200)","v":200},null,null,null,null,null,null,null,null,null,null,{"$f":"MAX(IF(ISERROR(E250:E253),0,E250:E253))","v":0},{"$f":"MAX(IF(ISERROR(F250:F253),0,F250:F253))","v":0},{"$f":"MAX(IF(ISERROR(G250:G253),0,G250:G253))","v":0},{"$f":"MAX(IF(ISERROR(H250:H253),0,H250:H253))","v":0},{"$f":"MAX(IF(ISERROR(I250:I253),0,I250:I253))","v":0},{"$f":"MAX(IF(ISERROR(J250:J253),0,J250:J253))","v":0},{"$f":"MAX(IF(ISERROR(K250:K253),0,K250:K253))","v":0}]
[null,null,null,{"$f":"'[2]Consequence Criteria'!$A$4","v":"Social"},{"$f":"VALUE((IF('2-Impact Assessment '!E250=\"vl\",\"1\",(IF('2-Impact Assessment '!E250=\"l\",\"2\",(IF('2-Impact Assessment '!E250=\"m\",\"3\",(IF('2-Impact Assessment '!E250=\"h\",\"4\",(IF('2-Impact Assessment '!E250=\"vh\",\"5\", NA())))))))))))","v":{"$error":"#N/A"}},{"$f":"VALUE((IF('2-Impact Assessment '!F250=\"vl\",\"1\",(IF('2-Impact Assessment '!F250=\"l\",\"2\",(IF('2-Impact Assessment '!F250=\"m\",\"3\",(IF('2-Impact Assessment '!F250=\"h\",\"4\",(IF('2-Impact Assessment '!F250=\"vh\",\"5\", NA())))))))))))","v":{"$error":"#N/A"}},{"$f":"VALUE((IF('2-Impact Assessment '!G250=\"vl\",\"1\",(IF('2-Impact Assessment '!G250=\"l\",\"2\",(IF('2-Impact Assessment '!G250=\"m\",\"3\",(IF('2-Impact Assessment '!G250=\"h\",\"4\",(IF('2-Impact Assessment '!G250=\"vh\",\"5\", NA())))))))))))","v":{"$error":"#N/A"}},{"$f":"VALUE((IF('2-Impact Assessment '!H250=\"vl\",\"1\",(IF('2-Impact Assessment '!H250=\"l\",\"2\",(IF('2-Impact Assessment '!H250=\"m\",\"3\",(IF('2-Impact Assessment '!H250=\"h\",\"4\",(IF('2-Impact Assessment '!H250=\"vh\",\"5\", NA())))))))))))","v":{"$error":"#N/A"}},{"$f":"VALUE((IF('2-Impact Assessment '!I250=\"vl\",\"1\",(IF('2-Impact Assessment '!I250=\"l\",\"2\",(IF('2-Impact Assessment '!I250=\"m\",\"3\",(IF('2-Impact Assessment '!I250=\"h\",\"4\",(IF('2-Impact Assessment '!I250=\"vh\",\"5\", NA())))))))))))","v":{"$error":"#N/A"}},{"$f":"VALUE((IF('2-Impact Assessment '!J250=\"vl\",\"1\",(IF('2-Impact Assessment '!J250=\"l\",\"2\",(IF('2-Impact Assessment '!J250=\"m\",\"3\",(IF('2-Impact Assessment '!J250=\"h\",\"4\",(IF('2-Impact Assessment '!J250=\"vh\",\"5\", NA())))))))))))","v":{"$error":"#N/A"}},{"$f":"VALUE((IF('2-Impact Assessment '!K250=\"vl\",\"1\",(IF('2-Impact Assessment '!K250=\"l\",\"2\",(IF('2-Impact Assessment '!K250=\"m\",\"3\",(IF('2-Impact Assessment '!K250=\"h\",\"4\",(IF('2-Impact Assessment '!K250=\"vh\",\"5\", NA())))))))))))","v":{"$error":"#N/A"}},null,null,{"$f":"IFERROR(INDEX($AA$12:$AG$12,MATCH(TRUE, AA250:AG250 >= 3, 0)),200)","v":200},null,{"$f":"IFERROR(INDEX($AA$12:$AG$12,MATCH(TRUE, AA250:AG250 >= 4, 0)),200)","v":200},null,null,null,null,null,null,null,null,null,null,{"$f":"MAX(IF(ISERROR(E251:E254),0,E251:E254))","v":0},{"$f":"MAX(IF(ISERROR(F251:F254),0,F251:F254))","v":0},{"$f":"MAX(IF(ISERROR(G251:G254),0,G251:G254))","v":0},{"$f":"MAX(IF(ISERROR(H251:H254),0,H251:H254))","v":0},{"$f":"MAX(IF(ISERROR(I251:I254),0,I251:I254))","v":0},{"$f":"MAX(IF(ISERROR(J251:J254),0,J251:J254))","v":0},{"$f":"MAX(IF(ISERROR(K251:K254),0,K251:K254))","v":0}]
[null,null,null,{"$f":"'[2]Consequence Criteria'!$A$5","v":"Cultural"},{"$f":"VALUE((IF('2-Impact Assessment '!E251=\"vl\",\"1\",(IF('2-Impact Assessment '!E251=\"l\",\"2\",(IF('2-Impact Assessment '!E251=\"m\",\"3\",(IF('2-Impact Assessment '!E251=\"h\",\"4\",(IF('2-Impact Assessment '!E251=\"vh\",\"5\", NA())))))))))))","v":{"$error":"#N/A"}},{"$f":"VALUE((IF('2-Impact Assessment '!F251=\"vl\",\"1\",(IF('2-Impact Assessment '!F251=\"l\",\"2\",(IF('2-Impact Assessment '!F251=\"m\",\"3\",(IF('2-Impact Assessment '!F251=\"h\",\"4\",(IF('2-Impact Assessment '!F251=\"vh\",\"5\", NA())))))))))))","v":{"$error":"#N/A"}},{"$f":"VALUE((IF('2-Impact Assessment '!G251=\"vl\",\"1\",(IF('2-Impact Assessment '!G251=\"l\",\"2\",(IF('2-Impact Assessment '!G251=\"m\",\"3\",(IF('2-Impact Assessment '!G251=\"h\",\"4\",(IF('2-Impact Assessment '!G251=\"vh\",\"5\", NA())))))))))))","v":{"$error":"#N/A"}},{"$f":"VALUE((IF('2-Impact Assessment '!H251=\"vl\",\"1\",(IF('2-Impact Assessment '!H251=\"l\",\"2\",(IF('2-Impact Assessment '!H251=\"m\",\"3\",(IF('2-Impact Assessment '!H251=\"h\",\"4\",(IF('2-Impact Assessment '!H251=\"vh\",\"5\", NA())))))))))))","v":{"$error":"#N/A"}},{"$f":"VALUE((IF('2-Impact Assessment '!I251=\"vl\",\"1\",(IF('2-Impact Assessment '!I251=\"l\",\"2\",(IF('2-Impact Assessment '!I251=\"m\",\"3\",(IF('2-Impact Assessment '!I251=\"h\",\"4\",(IF('2-Impact Assessment '!I251=\"vh\",\"5\", NA())))))))))))","v":{"$error":"#N/A"}},{"$f":"VALUE((IF('2-Impact Assessment '!J251=\"vl\",\"1\",(IF('2-Impact Assessment '!J251=\"l\",\"2\",(IF('2-Impact Assessment '!J251=\"m\",\"3\",(IF('2-Impact Assessment '!J251=\"h\",\"4\",(IF('2-Impact Assessment '!J251=\"vh\",\"5\", NA())))))))))))","v":{"$error":"#N/A"}},{"$f":"VALUE((IF('2-Impact Assessment '!K251=\"vl\",\"1\",(IF('2-Impact Assessment '!K251=\"l\",\"2\",(IF('2-Impact Assessment '!K251=\"m\",\"3\",(IF('2-Impact Assessment '!K251=\"h\",\"4\",(IF('2-Impact Assessment '!K251=\"vh\",\"5\", NA())))))))))))","v":{"$error":"#N/A"}},null,null,{"$f":"IFERROR(INDEX($AA$12:$AG$12,MATCH(TRUE, AA251:AG251 >= 3, 0)),200)","v":200},null,{"$f":"IFERROR(INDEX($AA$12:$AG$12,MATCH(TRUE, AA251:AG251 >= 4, 0)),200)","v":200},null,null,null,null,null,null,null,null,null,null,{"$f":"MAX(IF(ISERROR(E252:E255),0,E252:E255))","v":0},{"$f":"MAX(IF(ISERROR(F252:F255),0,F252:F255))","v":0},{"$f":"MAX(IF(ISERROR(G252:G255),0,G252:G255))","v":0},{"$f":"MAX(IF(ISERROR(H252:H255),0,H252:H255))","v":0},{"$f":"MAX(IF(ISERROR(I252:I255),0,I252:I255))","v":0},{"$f":"MAX(IF(ISERROR(J252:J255),0,J252:J255))","v":0},{"$f":"MAX(IF(ISERROR(K252:K255),0,K252:K255))","v":0}]
[null,null,null,{"$f":"'[2]Consequence Criteria'!$A$6","v":"Environmental"},{"$f":"VALUE((IF('2-Impact Assessment '!E252=\"vl\",\"1\",(IF('2-Impact Assessment '!E252=\"l\",\"2\",(IF('2-Impact Assessment '!E252=\"m\",\"3\",(IF('2-Impact Assessment '!E252=\"h\",\"4\",(IF('2-Impact Assessment '!E252=\"vh\",\"5\", NA())))))))))))","v":{"$error":"#N/A"}},{"$f":"VALUE((IF('2-Impact Assessment '!F252=\"vl\",\"1\",(IF('2-Impact Assessment '!F252=\"l\",\"2\",(IF('2-Impact Assessment '!F252=\"m\",\"3\",(IF('2-Impact Assessment '!F252=\"h\",\"4\",(IF('2-Impact Assessment '!F252=\"vh\",\"5\", NA())))))))))))","v":{"$error":"#N/A"}},{"$f":"VALUE((IF('2-Impact Assessment '!G252=\"vl\",\"1\",(IF('2-Impact Assessment '!G252=\"l\",\"2\",(IF('2-Impact Assessment '!G252=\"m\",\"3\",(IF('2-Impact Assessment '!G252=\"h\",\"4\",(IF('2-Impact Assessment '!G252=\"vh\",\"5\", NA())))))))))))","v":{"$error":"#N/A"}},{"$f":"VALUE((IF('2-Impact Assessment '!H252=\"vl\",\"1\",(IF('2-Impact Assessment '!H252=\"l\",\"2\",(IF('2-Impact Assessment '!H252=\"m\",\"3\",(IF('2-Impact Assessment '!H252=\"h\",\"4\",(IF('2-Impact Assessment '!H252=\"vh\",\"5\", NA())))))))))))","v":{"$error":"#N/A"}},{"$f":"VALUE((IF('2-Impact Assessment '!I252=\"vl\",\"1\",(IF('2-Impact Assessment '!I252=\"l\",\"2\",(IF('2-Impact Assessment '!I252=\"m\",\"3\",(IF('2-Impact Assessment '!I252=\"h\",\"4\",(IF('2-Impact Assessment '!I252=\"vh\",\"5\", NA())))))))))))","v":{"$error":"#N/A"}},{"$f":"VALUE((IF('2-Impact Assessment '!J252=\"vl\",\"1\",(IF('2-Impact Assessment '!J252=\"l\",\"2\",(IF('2-Impact Assessment '!J252=\"m\",\"3\",(IF('2-Impact Assessment '!J252=\"h\",\"4\",(IF('2-Impact Assessment '!J252=\"vh\",\"5\", NA())))))))))))","v":{"$error":"#N/A"}},{"$f":"VALUE((IF('2-Impact Assessment '!K252=\"vl\",\"1\",(IF('2-Impact Assessment '!K252=\"l\",\"2\",(IF('2-Impact Assessment '!K252=\"m\",\"3\",(IF('2-Impact Assessment '!K252=\"h\",\"4\",(IF('2-Impact Assessment '!K252=\"vh\",\"5\", NA())))))))))))","v":{"$error":"#N/A"}},null,null,{"$f":"IFERROR(INDEX($AA$12:$AG$12,MATCH(TRUE, AA252:AG252 >= 3, 0)),200)","v":200},null,{"$f":"IFERROR(INDEX($AA$12:$AG$12,MATCH(TRUE, AA252:AG252 >= 4, 0)),200)","v":200},null,null,null,null,null,null,null,null,null,null,{"$f":"MAX(IF(ISERROR(E253:E256),0,E253:E256))","v":0},{"$f":"MAX(IF(ISERROR(F253:F256),0,F253:F256))","v":0},{"$f":"MAX(IF(ISERROR(G253:G256),0,G253:G256))","v":0},{"$f":"MAX(IF(ISERROR(H253:H256),0,H253:H256))","v":0},{"$f":"MAX(IF(ISERROR(I253:I256),0,I253:I256))","v":0},{"$f":"MAX(IF(ISERROR(J253:J256),0,J253:J256))","v":0},{"$f":"MAX(IF(ISERROR(K253:K256),0,K253:K256))","v":0}]
[null,null,null,{"$f":"'[2]Consequence Criteria'!$A$7","v":0},{"$f":"VALUE((IF('2-Impact Assessment '!E253=\"vl\",\"1\",(IF('2-Impact Assessment '!E253=\"l\",\"2\",(IF('2-Impact Assessment '!E253=\"m\",\"3\",(IF('2-Impact Assessment '!E253=\"h\",\"4\",(IF('2-Impact Assessment '!E253=\"vh\",\"5\", NA())))))))))))","v":{"$error":"#N/A"}},{"$f":"VALUE((IF('2-Impact Assessment '!F253=\"vl\",\"1\",(IF('2-Impact Assessment '!F253=\"l\",\"2\",(IF('2-Impact Assessment '!F253=\"m\",\"3\",(IF('2-Impact Assessment '!F253=\"h\",\"4\",(IF('2-Impact Assessment '!F253=\"vh\",\"5\", NA())))))))))))","v":{"$error":"#N/A"}},{"$f":"VALUE((IF('2-Impact Assessment '!G253=\"vl\",\"1\",(IF('2-Impact Assessment '!G253=\"l\",\"2\",(IF('2-Impact Assessment '!G253=\"m\",\"3\",(IF('2-Impact Assessment '!G253=\"h\",\"4\",(IF('2-Impact Assessment '!G253=\"vh\",\"5\", NA())))))))))))","v":{"$error":"#N/A"}},{"$f":"VALUE((IF('2-Impact Assessment '!H253=\"vl\",\"1\",(IF('2-Impact Assessment '!H253=\"l\",\"2\",(IF('2-Impact Assessment '!H253=\"m\",\"3\",(IF('2-Impact Assessment '!H253=\"h\",\"4\",(IF('2-Impact Assessment '!H253=\"vh\",\"5\", NA())))))))))))","v":{"$error":"#N/A"}},{"$f":"VALUE((IF('2-Impact Assessment '!I253=\"vl\",\"1\",(IF('2-Impact Assessment '!I253=\"l\",\"2\",(IF('2-Impact Assessment '!I253=\"m\",\"3\",(IF('2-Impact Assessment '!I253=\"h\",\"4\",(IF('2-Impact Assessment '!I253=\"vh\",\"5\", NA())))))))))))","v":{"$error":"#N/A"}},{"$f":"VALUE((IF('2-Impact Assessment '!J253=\"vl\",\"1\",(IF('2-Impact Assessment '!J253=\"l\",\"2\",(IF('2-Impact Assessment '!J253=\"m\",\"3\",(IF('2-Impact Assessment '!J253=\"h\",\"4\",(IF('2-Impact Assessment '!J253=\"vh\",\"5\", NA())))))))))))","v":{"$error":"#N/A"}},{"$f":"VALUE((IF('2-Impact Assessment '!K253=\"vl\",\"1\",(IF('2-Impact Assessment '!K253=\"l\",\"2\",(IF('2-Impact Assessment '!K253=\"m\",\"3\",(IF('2-Impact Assessment '!K253=\"h\",\"4\",(IF('2-Impact Assessment '!K253=\"vh\",\"5\", NA())))))))))))","v":{"$error":"#N/A"}},null,null,{"$f":"IFERROR(INDEX($AA$12:$AG$12,MATCH(TRUE, AA253:AG253 >= 3, 0)),200)","v":200},null,{"$f":"IFERROR(INDEX($AA$12:$AG$12,MATCH(TRUE, AA253:AG253 >= 4, 0)),200)","v":200},null,null,null,null,null,null,null,null,null,null,{"$f":"MAX(IF(ISERROR(E254:E257),0,E254:E257))","v":0},{"$f":"MAX(IF(ISERROR(F254:F257),0,F254:F257))","v":0},{"$f":"MAX(IF(ISERROR(G254:G257),0,G254:G257))","v":0},{"$f":"MAX(IF(ISERROR(H254:H257),0,H254:H257))","v":0},{"$f":"MAX(IF(ISERROR(I254:I257),0,I254:I257))","v":0},{"$f":"MAX(IF(ISERROR(J254:J257),0,J254:J257))","v":0},{"$f":"MAX(IF(ISERROR(K254:K257),0,K254:K257))","v":0}]
[null,null,null,{"$f":"'[2]Consequence Criteria'!$A$8","v":0},{"$f":"VALUE((IF('2-Impact Assessment '!E254=\"vl\",\"1\",(IF('2-Impact Assessment '!E254=\"l\",\"2\",(IF('2-Impact Assessment '!E254=\"m\",\"3\",(IF('2-Impact Assessment '!E254=\"h\",\"4\",(IF('2-Impact Assessment '!E254=\"vh\",\"5\", NA())))))))))))","v":{"$error":"#N/A"}},{"$f":"VALUE((IF('2-Impact Assessment '!F254=\"vl\",\"1\",(IF('2-Impact Assessment '!F254=\"l\",\"2\",(IF('2-Impact Assessment '!F254=\"m\",\"3\",(IF('2-Impact Assessment '!F254=\"h\",\"4\",(IF('2-Impact Assessment '!F254=\"vh\",\"5\", NA())))))))))))","v":{"$error":"#N/A"}},{"$f":"VALUE((IF('2-Impact Assessment '!G254=\"vl\",\"1\",(IF('2-Impact Assessment '!G254=\"l\",\"2\",(IF('2-Impact Assessment '!G254=\"m\",\"3\",(IF('2-Impact Assessment '!G254=\"h\",\"4\",(IF('2-Impact Assessment '!G254=\"vh\",\"5\", NA())))))))))))","v":{"$error":"#N/A"}},{"$f":"VALUE((IF('2-Impact Assessment '!H254=\"vl\",\"1\",(IF('2-Impact Assessment '!H254=\"l\",\"2\",(IF('2-Impact Assessment '!H254=\"m\",\"3\",(IF('2-Impact Assessment '!H254=\"h\",\"4\",(IF('2-Impact Assessment '!H254=\"vh\",\"5\", NA())))))))))))","v":{"$error":"#N/A"}},{"$f":"VALUE((IF('2-Impact Assessment '!I254=\"vl\",\"1\",(IF('2-Impact Assessment '!I254=\"l\",\"2\",(IF('2-Impact Assessment '!I254=\"m\",\"3\",(IF('2-Impact Assessment '!I254=\"h\",\"4\",(IF('2-Impact Assessment '!I254=\"vh\",\"5\", NA())))))))))))","v":{"$error":"#N/A"}},{"$f":"VALUE((IF('2-Impact Assessment '!J254=\"vl\",\"1\",(IF('2-Impact Assessment '!J254=\"l\",\"2\",(IF('2-Impact Assessment '!J254=\"m\",\"3\",(IF('2-Impact Assessment '!J254=\"h\",\"4\",(IF('2-Impact Assessment '!J254=\"vh\",\"5\", NA())))))))))))","v":{"$error":"#N/A"}},{"$f":"VALUE((IF('2-Impact Assessment '!K254=\"vl\",\"1\",(IF('2-Impact Assessment '!K254=\"l\",\"2\",(IF('2-Impact Assessment '!K254=\"m\",\"3\",(IF('2-Impact Assessment '!K254=\"h\",\"4\",(IF('2-Impact Assessment '!K254=\"vh\",\"5\", NA())))))))))))","v":{"$error":"#N/A"}},null,null,{"$f":"IFERROR(INDEX($AA$12:$AG$12,MATCH(TRUE, AA254:AG254 >= 3, 0)),200)","v":200},null,{"$f":"IFERROR(INDEX($AA$12:$AG$12,MATCH(TRUE, AA254:AG254 >= 4, 0)),200)","v":200},null,null,null,null,null,null,null,null,null,null,{"$f":"MAX(IF(ISERROR(E255:E258),0,E255:E258))","v":0},{"$f":"MAX(IF(ISERROR(F255:F258),0,F255:F258))","v":0},{"$f":"MAX(IF(ISERROR(G255:G258),0,G255:G258))","v":0},{"$f":"MAX(IF(ISERROR(H255:H258),0,H255:H258))","v":0},{"$f":"MAX(IF(ISERROR(I255:I258),0,I255:I258))","v":0},{"$f":"MAX(IF(ISERROR(J255:J258),0,J255:J258))","v":0},{"$f":"MAX(IF(ISERROR(K255:K258),0,K255:K258))","v":0}]
[null,null,null,{"$f":"'[2]Consequence Criteria'!$A$9","v":0},{"$f":"VALUE((IF('2-Impact Assessment '!E255=\"vl\",\"1\",(IF('2-Impact Assessment '!E255=\"l\",\"2\",(IF('2-Impact Assessment '!E255=\"m\",\"3\",(IF('2-Impact Assessment '!E255=\"h\",\"4\",(IF('2-Impact Assessment '!E255=\"vh\",\"5\", NA())))))))))))","v":{"$error":"#N/A"}},{"$f":"VALUE((IF('2-Impact Assessment '!F255=\"vl\",\"1\",(IF('2-Impact Assessment '!F255=\"l\",\"2\",(IF('2-Impact Assessment '!F255=\"m\",\"3\",(IF('2-Impact Assessment '!F255=\"h\",\"4\",(IF('2-Impact Assessment '!F255=\"vh\",\"5\", NA())))))))))))","v":{"$error":"#N/A"}},{"$f":"VALUE((IF('2-Impact Assessment '!G255=\"vl\",\"1\",(IF('2-Impact Assessment '!G255=\"l\",\"2\",(IF('2-Impact Assessment '!G255=\"m\",\"3\",(IF('2-Impact Assessment '!G255=\"h\",\"4\",(IF('2-Impact Assessment '!G255=\"vh\",\"5\", NA())))))))))))","v":{"$error":"#N/A"}},{"$f":"VALUE((IF('2-Impact Assessment '!H255=\"vl\",\"1\",(IF('2-Impact Assessment '!H255=\"l\",\"2\",(IF('2-Impact Assessment '!H255=\"m\",\"3\",(IF('2-Impact Assessment '!H255=\"h\",\"4\",(IF('2-Impact Assessment '!H255=\"vh\",\"5\", NA())))))))))))","v":{"$error":"#N/A"}},{"$f":"VALUE((IF('2-Impact Assessment '!I255=\"vl\",\"1\",(IF('2-Impact Assessment '!I255=\"l\",\"2\",(IF('2-Impact Assessment '!I255=\"m\",\"3\",(IF('2-Impact Assessment '!I255=\"h\",\"4\",(IF('2-Impact Assessment '!I255=\"vh\",\"5\", NA())))))))))))","v":{"$error":"#N/A"}},{"$f":"VALUE((IF('2-Impact Assessment '!J255=\"vl\",\"1\",(IF('2-Impact Assessment '!J255=\"l\",\"2\",(IF('2-Impact Assessment '!J255=\"m\",\"3\",(IF('2-Impact Assessment '!J255=\"h\",\"4\",(IF('2-Impact Assessment '!J255=\"vh\",\"5\", NA())))))))))))","v":{"$error":"#N/A"}},{"$f":"VALUE((IF('2-Impact Assessment '!K255=\"vl\",\"1\",(IF('2-Impact Assessment '!K255=\"l\",\"2\",(IF('2-Impact Assessment '!K255=\"m\",\"3\",(IF('2-Impact Assessment '!K255=\"h\",\"4\",(IF('2-Impact Assessment '!K255=\"vh\",\"5\", NA())))))))))))","v":{"$error":"#N/A"}},null,null,{"$f":"IFERROR(INDEX($AA$12:$AG$12,MATCH(TRUE, AA255:AG255 >= 3, 0)),200)","v":200},null,{"$f":"IFERROR(INDEX($AA$12:$AG$12,MATCH(TRUE, AA255:AG255 >= 4, 0)),200)","v":200},null,null,null,null,null,null,null,null,null,null,{"$f":"MAX(IF(ISERROR(E256:E259),0,E256:E259))","v":0},{"$f":"MAX(IF(ISERROR(F256:F259),0,F256:F259))","v":0},{"$f":"MAX(IF(ISERROR(G256:G259),0,G256:G259))","v":0},{"$f":"MAX(IF(ISERROR(H256:H259),0,H256:H259))","v":0},{"$f":"MAX(IF(ISERROR(I256:I259),0,I256:I259))","v":0},{"$f":"MAX(IF(ISERROR(J256:J259),0,J256:J259))","v":0},{"$f":"MAX(IF(ISERROR(K256:K259),0,K256:K259))","v":0}]
[null,null,null,{"$f":"'[2]Consequence Criteria'!$A$10","v":0},{"$f":"VALUE((IF('2-Impact Assessment '!E256=\"vl\",\"1\",(IF('2-Impact Assessment '!E256=\"l\",\"2\",(IF('2-Impact Assessment '!E256=\"m\",\"3\",(IF('2-Impact Assessment '!E256=\"h\",\"4\",(IF('2-Impact Assessment '!E256=\"vh\",\"5\", NA())))))))))))","v":{"$error":"#N/A"}},{"$f":"VALUE((IF('2-Impact Assessment '!F256=\"vl\",\"1\",(IF('2-Impact Assessment '!F256=\"l\",\"2\",(IF('2-Impact Assessment '!F256=\"m\",\"3\",(IF('2-Impact Assessment '!F256=\"h\",\"4\",(IF('2-Impact Assessment '!F256=\"vh\",\"5\", NA())))))))))))","v":{"$error":"#N/A"}},{"$f":"VALUE((IF('2-Impact Assessment '!G256=\"vl\",\"1\",(IF('2-Impact Assessment '!G256=\"l\",\"2\",(IF('2-Impact Assessment '!G256=\"m\",\"3\",(IF('2-Impact Assessment '!G256=\"h\",\"4\",(IF('2-Impact Assessment '!G256=\"vh\",\"5\", NA())))))))))))","v":{"$error":"#N/A"}},{"$f":"VALUE((IF('2-Impact Assessment '!H256=\"vl\",\"1\",(IF('2-Impact Assessment '!H256=\"l\",\"2\",(IF('2-Impact Assessment '!H256=\"m\",\"3\",(IF('2-Impact Assessment '!H256=\"h\",\"4\",(IF('2-Impact Assessment '!H256=\"vh\",\"5\", NA())))))))))))","v":{"$error":"#N/A"}},{"$f":"VALUE((IF('2-Impact Assessment '!I256=\"vl\",\"1\",(IF('2-Impact Assessment '!I256=\"l\",\"2\",(IF('2-Impact Assessment '!I256=\"m\",\"3\",(IF('2-Impact Assessment '!I256=\"h\",\"4\",(IF('2-Impact Assessment '!I256=\"vh\",\"5\", NA())))))))))))","v":{"$error":"#N/A"}},{"$f":"VALUE((IF('2-Impact Assessment '!J256=\"vl\",\"1\",(IF('2-Impact Assessment '!J256=\"l\",\"2\",(IF('2-Impact Assessment '!J256=\"m\",\"3\",(IF('2-Impact Assessment '!J256=\"h\",\"4\",(IF('2-Impact Assessment '!J256=\"vh\",\"5\", NA())))))))))))","v":{"$error":"#N/A"}},{"$f":"VALUE((IF('2-Impact Assessment '!K256=\"vl\",\"1\",(IF('2-Impact Assessment '!K256=\"l\",\"2\",(IF('2-Impact Assessment '!K256=\"m\",\"3\",(IF('2-Impact Assessment '!K256=\"h\",\"4\",(IF('2-Impact Assessment '!K256=\"vh\",\"5\", NA())))))))))))","v":{"$error":"#N/A"}},null,null,{"$f":"IFERROR(INDEX($AA$12:$AG$12,MATCH(TRUE, AA256:AG256 >= 3, 0)),200)","v":200},null,{"$f":"IFERROR(INDEX($AA$12:$AG$12,MATCH(TRUE, AA256:AG256 >= 4, 0)),200)","v":200},null,null,null,null,null,null,null,null,null,null,{"$f":"MAX(IF(ISERROR(E257:E260),0,E257:E260))","v":0},{"$f":"MAX(IF(ISERROR(F257:F260),0,F257:F260))","v":0},{"$f":"MAX(IF(ISERROR(G257:G260),0,G257:G260))","v":0},{"$f":"MAX(IF(ISERROR(H257:H260),0,H257:H260))","v":0},{"$f":"MAX(IF(ISERROR(I257:I260),0,I257:I260))","v":0},{"$f":"MAX(IF(ISERROR(J257:J260),0,J257:J260))","v":0},{"$f":"MAX(IF(ISERROR(K257:K260),0,K257:K260))","v":0}]
[null,{"$f":"IF(ISTEXT('1-Services & Function'!D57),'1-Services & Function'!D57,\"\")","v":""},28,null,"1 hr","4 hr","1 day","2 days","5 days","1 month","> 6 months","Comments",null,{"$f":"IFERROR(INDEX($AA$12:$AG$12,MATCH(TRUE, AA257:AG257 >= 3, 0)),200)","v":200},null,{"$f":"IFERROR(INDEX($AA$12:$AG$12,MATCH(TRUE, AA257:AG257 >= 4, 0)),200)","v":200},null,null,null,null,null,null,null,null,null,null,{"$f":"MAX(IF(ISERROR(E258:E261),0,E258:E261))","v":0},{"$f":"MAX(IF(ISERROR(F258:F261),0,F258:F261))","v":0},{"$f":"MAX(IF(ISERROR(G258:G261),0,G258:G261))","v":0},{"$f":"MAX(IF(ISERROR(H258:H261),0,H258:H261))","v":0},{"$f":"MAX(IF(ISERROR(I258:I261),0,I258:I261))","v":0},{"$f":"MAX(IF(ISERROR(J258:J261),0,J258:J261))","v":0},{"$f":"MAX(IF(ISERROR(K258:K261),0,K258:K261))","v":0}]
[null,null,null,{"$f":"'[2]Consequence Criteria'!$A$3","v":"Economic"},{"$f":"VALUE((IF('2-Impact Assessment '!E258=\"vl\",\"1\",(IF('2-Impact Assessment '!E258=\"l\",\"2\",(IF('2-Impact Assessment '!E258=\"m\",\"3\",(IF('2-Impact Assessment '!E258=\"h\",\"4\",(IF('2-Impact Assessment '!E258=\"vh\",\"5\", NA())))))))))))","v":{"$error":"#N/A"}},{"$f":"VALUE((IF('2-Impact Assessment '!F258=\"vl\",\"1\",(IF('2-Impact Assessment '!F258=\"l\",\"2\",(IF('2-Impact Assessment '!F258=\"m\",\"3\",(IF('2-Impact Assessment '!F258=\"h\",\"4\",(IF('2-Impact Assessment '!F258=\"vh\",\"5\", NA())))))))))))","v":{"$error":"#N/A"}},{"$f":"VALUE((IF('2-Impact Assessment '!G258=\"vl\",\"1\",(IF('2-Impact Assessment '!G258=\"l\",\"2\",(IF('2-Impact Assessment '!G258=\"m\",\"3\",(IF('2-Impact Assessment '!G258=\"h\",\"4\",(IF('2-Impact Assessment '!G258=\"vh\",\"5\", NA())))))))))))","v":{"$error":"#N/A"}},{"$f":"VALUE((IF('2-Impact Assessment '!H258=\"vl\",\"1\",(IF('2-Impact Assessment '!H258=\"l\",\"2\",(IF('2-Impact Assessment '!H258=\"m\",\"3\",(IF('2-Impact Assessment '!H258=\"h\",\"4\",(IF('2-Impact Assessment '!H258=\"vh\",\"5\", NA())))))))))))","v":{"$error":"#N/A"}},{"$f":"VALUE((IF('2-Impact Assessment '!I258=\"vl\",\"1\",(IF('2-Impact Assessment '!I258=\"l\",\"2\",(IF('2-Impact Assessment '!I258=\"m\",\"3\",(IF('2-Impact Assessment '!I258=\"h\",\"4\",(IF('2-Impact Assessment '!I258=\"vh\",\"5\", NA())))))))))))","v":{"$error":"#N/A"}},{"$f":"VALUE((IF('2-Impact Assessment '!J258=\"vl\",\"1\",(IF('2-Impact Assessment '!J258=\"l\",\"2\",(IF('2-Impact Assessment '!J258=\"m\",\"3\",(IF('2-Impact Assessment '!J258=\"h\",\"4\",(IF('2-Impact Assessment '!J258=\"vh\",\"5\", NA())))))))))))","v":{"$error":"#N/A"}},{"$f":"VALUE((IF('2-Impact Assessment '!K258=\"vl\",\"1\",(IF('2-Impact Assessment '!K258=\"l\",\"2\",(IF('2-Impact Assessment '!K258=\"m\",\"3\",(IF('2-Impact Assessment '!K258=\"h\",\"4\",(IF('2-Impact Assessment '!K258=\"vh\",\"5\", NA())))))))))))","v":{"$error":"#N/A"}},null,null,{"$f":"IFERROR(INDEX($AA$12:$AG$12,MATCH(TRUE, AA258:AG258 >= 3, 0)),200)","v":200},null,{"$f":"IFERROR(INDEX($AA$12:$AG$12,MATCH(TRUE, AA258:AG258 >= 4, 0)),200)","v":200},null,null,null,null,null,null,null,null,null,null,{"$f":"MAX(IF(ISERROR(E259:E262),0,E259:E262))","v":0},{"$f":"MAX(IF(ISERROR(F259:F262),0,F259:F262))","v":0},{"$f":"MAX(IF(ISERROR(G259:G262),0,G259:G262))","v":0},{"$f":"MAX(IF(ISERROR(H259:H262),0,H259:H262))","v":0},{"$f":"MAX(IF(ISERROR(I259:I262),0,I259:I262))","v":0},{"$f":"MAX(IF(ISERROR(J259:J262),0,J259:J262))","v":0},{"$f":"MAX(IF(ISERROR(K259:K262),0,K259:K262))","v":0}]
[null,null,null,{"$f":"'[2]Consequence Criteria'!$A$4","v":"Social"},{"$f":"VALUE((IF('2-Impact Assessment '!E259=\"vl\",\"1\",(IF('2-Impact Assessment '!E259=\"l\",\"2\",(IF('2-Impact Assessment '!E259=\"m\",\"3\",(IF('2-Impact Assessment '!E259=\"h\",\"4\",(IF('2-Impact Assessment '!E259=\"vh\",\"5\", NA())))))))))))","v":{"$error":"#N/A"}},{"$f":"VALUE((IF('2-Impact Assessment '!F259=\"vl\",\"1\",(IF('2-Impact Assessment '!F259=\"l\",\"2\",(IF('2-Impact Assessment '!F259=\"m\",\"3\",(IF('2-Impact Assessment '!F259=\"h\",\"4\",(IF('2-Impact Assessment '!F259=\"vh\",\"5\", NA())))))))))))","v":{"$error":"#N/A"}},{"$f":"VALUE((IF('2-Impact Assessment '!G259=\"vl\",\"1\",(IF('2-Impact Assessment '!G259=\"l\",\"2\",(IF('2-Impact Assessment '!G259=\"m\",\"3\",(IF('2-Impact Assessment '!G259=\"h\",\"4\",(IF('2-Impact Assessment '!G259=\"vh\",\"5\", NA())))))))))))","v":{"$error":"#N/A"}},{"$f":"VALUE((IF('2-Impact Assessment '!H259=\"vl\",\"1\",(IF('2-Impact Assessment '!H259=\"l\",\"2\",(IF('2-Impact Assessment '!H259=\"m\",\"3\",(IF('2-Impact Assessment '!H259=\"h\",\"4\",(IF('2-Impact Assessment '!H259=\"vh\",\"5\", NA())))))))))))","v":{"$error":"#N/A"}},{"$f":"VALUE((IF('2-Impact Assessment '!I259=\"vl\",\"1\",(IF('2-Impact Assessment '!I259=\"l\",\"2\",(IF('2-Impact Assessment '!I259=\"m\",\"3\",(IF('2-Impact Assessment '!I259=\"h\",\"4\",(IF('2-Impact Assessment '!I259=\"vh\",\"5\", NA())))))))))))","v":{"$error":"#N/A"}},{"$f":"VALUE((IF('2-Impact Assessment '!J259=\"vl\",\"1\",(IF('2-Impact Assessment '!J259=\"l\",\"2\",(IF('2-Impact Assessment '!J259=\"m\",\"3\",(IF('2-Impact Assessment '!J259=\"h\",\"4\",(IF('2-Impact Assessment '!J259=\"vh\",\"5\", NA())))))))))))","v":{"$error":"#N/A"}},{"$f":"VALUE((IF('2-Impact Assessment '!K259=\"vl\",\"1\",(IF('2-Impact Assessment '!K259=\"l\",\"2\",(IF('2-Impact Assessment '!K259=\"m\",\"3\",(IF('2-Impact Assessment '!K259=\"h\",\"4\",(IF('2-Impact Assessment '!K259=\"vh\",\"5\", NA())))))))))))","v":{"$error":"#N/A"}},null,null,{"$f":"IFERROR(INDEX($AA$12:$AG$12,MATCH(TRUE, AA259:AG259 >= 3, 0)),200)","v":200},null,{"$f":"IFERROR(INDEX($AA$12:$AG$12,MATCH(TRUE, AA259:AG259 >= 4, 0)),200)","v":200},null,null,null,null,null,null,null,null,null,null,{"$f":"MAX(IF(ISERROR(E260:E263),0,E260:E263))","v":0},{"$f":"MAX(IF(ISERROR(F260:F263),0,F260:F263))","v":0},{"$f":"MAX(IF(ISERROR(G260:G263),0,G260:G263))","v":0},{"$f":"MAX(IF(ISERROR(H260:H263),0,H260:H263))","v":0},{"$f":"MAX(IF(ISERROR(I260:I263),0,I260:I263))","v":0},{"$f":"MAX(IF(ISERROR(J260:J263),0,J260:J263))","v":0},{"$f":"MAX(IF(ISERROR(K260:K263),0,K260:K263))","v":0}]
[null,null,null,{"$f":"'[2]Consequence Criteria'!$A$5","v":"Cultural"},{"$f":"VALUE((IF('2-Impact Assessment '!E260=\"vl\",\"1\",(IF('2-Impact Assessment '!E260=\"l\",\"2\",(IF('2-Impact Assessment '!E260=\"m\",\"3\",(IF('2-Impact Assessment '!E260=\"h\",\"4\",(IF('2-Impact Assessment '!E260=\"vh\",\"5\", NA())))))))))))","v":{"$error":"#N/A"}},{"$f":"VALUE((IF('2-Impact Assessment '!F260=\"vl\",\"1\",(IF('2-Impact Assessment '!F260=\"l\",\"2\",(IF('2-Impact Assessment '!F260=\"m\",\"3\",(IF('2-Impact Assessment '!F260=\"h\",\"4\",(IF('2-Impact Assessment '!F260=\"vh\",\"5\", NA())))))))))))","v":{"$error":"#N/A"}},{"$f":"VALUE((IF('2-Impact Assessment '!G260=\"vl\",\"1\",(IF('2-Impact Assessment '!G260=\"l\",\"2\",(IF('2-Impact Assessment '!G260=\"m\",\"3\",(IF('2-Impact Assessment '!G260=\"h\",\"4\",(IF('2-Impact Assessment '!G260=\"vh\",\"5\", NA())))))))))))","v":{"$error":"#N/A"}},{"$f":"VALUE((IF('2-Impact Assessment '!H260=\"vl\",\"1\",(IF('2-Impact Assessment '!H260=\"l\",\"2\",(IF('2-Impact Assessment '!H260=\"m\",\"3\",(IF('2-Impact Assessment '!H260=\"h\",\"4\",(IF('2-Impact Assessment '!H260=\"vh\",\"5\", NA())))))))))))","v":{"$error":"#N/A"}},{"$f":"VALUE((IF('2-Impact Assessment '!I260=\"vl\",\"1\",(IF('2-Impact Assessment '!I260=\"l\",\"2\",(IF('2-Impact Assessment '!I260=\"m\",\"3\",(IF('2-Impact Assessment '!I260=\"h\",\"4\",(IF('2-Impact Assessment '!I260=\"vh\",\"5\", NA())))))))))))","v":{"$error":"#N/A"}},{"$f":"VALUE((IF('2-Impact Assessment '!J260=\"vl\",\"1\",(IF('2-Impact Assessment '!J260=\"l\",\"2\",(IF('2-Impact Assessment '!J260=\"m\",\"3\",(IF('2-Impact Assessment '!J260=\"h\",\"4\",(IF('2-Impact Assessment '!J260=\"vh\",\"5\", NA())))))))))))","v":{"$error":"#N/A"}},{"$f":"VALUE((IF('2-Impact Assessment '!K260=\"vl\",\"1\",(IF('2-Impact Assessment '!K260=\"l\",\"2\",(IF('2-Impact Assessment '!K260=\"m\",\"3\",(IF('2-Impact Assessment '!K260=\"h\",\"4\",(IF('2-Impact Assessment '!K260=\"vh\",\"5\", NA())))))))))))","v":{"$error":"#N/A"}},null,null,{"$f":"IFERROR(INDEX($AA$12:$AG$12,MATCH(TRUE, AA260:AG260 >= 3, 0)),200)","v":200},null,{"$f":"IFERROR(INDEX($AA$12:$AG$12,MATCH(TRUE, AA260:AG260 >= 4, 0)),200)","v":200},null,null,null,null,null,null,null,null,null,null,{"$f":"MAX(IF(ISERROR(E261:E264),0,E261:E264))","v":0},{"$f":"MAX(IF(ISERROR(F261:F264),0,F261:F264))","v":0},{"$f":"MAX(IF(ISERROR(G261:G264),0,G261:G264))","v":0},{"$f":"MAX(IF(ISERROR(H261:H264),0,H261:H264))","v":0},{"$f":"MAX(IF(ISERROR(I261:I264),0,I261:I264))","v":0},{"$f":"MAX(IF(ISERROR(J261:J264),0,J261:J264))","v":0},{"$f":"MAX(IF(ISERROR(K261:K264),0,K261:K264))","v":0}]
[null,null,null,{"$f":"'[2]Consequence Criteria'!$A$6","v":"Environmental"},{"$f":"VALUE((IF('2-Impact Assessment '!E261=\"vl\",\"1\",(IF('2-Impact Assessment '!E261=\"l\",\"2\",(IF('2-Impact Assessment '!E261=\"m\",\"3\",(IF('2-Impact Assessment '!E261=\"h\",\"4\",(IF('2-Impact Assessment '!E261=\"vh\",\"5\", NA())))))))))))","v":{"$error":"#N/A"}},{"$f":"VALUE((IF('2-Impact Assessment '!F261=\"vl\",\"1\",(IF('2-Impact Assessment '!F261=\"l\",\"2\",(IF('2-Impact Assessment '!F261=\"m\",\"3\",(IF('2-Impact Assessment '!F261=\"h\",\"4\",(IF('2-Impact Assessment '!F261=\"vh\",\"5\", NA())))))))))))","v":{"$error":"#N/A"}},{"$f":"VALUE((IF('2-Impact Assessment '!G261=\"vl\",\"1\",(IF('2-Impact Assessment '!G261=\"l\",\"2\",(IF('2-Impact Assessment '!G261=\"m\",\"3\",(IF('2-Impact Assessment '!G261=\"h\",\"4\",(IF('2-Impact Assessment '!G261=\"vh\",\"5\", NA())))))))))))","v":{"$error":"#N/A"}},{"$f":"VALUE((IF('2-Impact Assessment '!H261=\"vl\",\"1\",(IF('2-Impact Assessment '!H261=\"l\",\"2\",(IF('2-Impact Assessment '!H261=\"m\",\"3\",(IF('2-Impact Assessment '!H261=\"h\",\"4\",(IF('2-Impact Assessment '!H261=\"vh\",\"5\", NA())))))))))))","v":{"$error":"#N/A"}},{"$f":"VALUE((IF('2-Impact Assessment '!I261=\"vl\",\"1\",(IF('2-Impact Assessment '!I261=\"l\",\"2\",(IF('2-Impact Assessment '!I261=\"m\",\"3\",(IF('2-Impact Assessment '!I261=\"h\",\"4\",(IF('2-Impact Assessment '!I261=\"vh\",\"5\", NA())))))))))))","v":{"$error":"#N/A"}},{"$f":"VALUE((IF('2-Impact Assessment '!J261=\"vl\",\"1\",(IF('2-Impact Assessment '!J261=\"l\",\"2\",(IF('2-Impact Assessment '!J261=\"m\",\"3\",(IF('2-Impact Assessment '!J261=\"h\",\"4\",(IF('2-Impact Assessment '!J261=\"vh\",\"5\", NA())))))))))))","v":{"$error":"#N/A"}},{"$f":"VALUE((IF('2-Impact Assessment '!K261=\"vl\",\"1\",(IF('2-Impact Assessment '!K261=\"l\",\"2\",(IF('2-Impact Assessment '!K261=\"m\",\"3\",(IF('2-Impact Assessment '!K261=\"h\",\"4\",(IF('2-Impact Assessment '!K261=\"vh\",\"5\", NA())))))))))))","v":{"$error":"#N/A"}},null,null,{"$f":"IFERROR(INDEX($AA$12:$AG$12,MATCH(TRUE, AA261:AG261 >= 3, 0)),200)","v":200},null,{"$f":"IFERROR(INDEX($AA$12:$AG$12,MATCH(TRUE, AA261:AG261 >= 4, 0)),200)","v":200},null,null,null,null,null,null,null,null,null,null,{"$f":"MAX(IF(ISERROR(E262:E265),0,E262:E265))","v":0},{"$f":"MAX(IF(ISERROR(F262:F265),0,F262:F265))","v":0},{"$f":"MAX(IF(ISERROR(G262:G265),0,G262:G265))","v":0},{"$f":"MAX(IF(ISERROR(H262:H265),0,H262:H265))","v":0},{"$f":"MAX(IF(ISERROR(I262:I265),0,I262:I265))","v":0},{"$f":"MAX(IF(ISERROR(J262:J265),0,J262:J265))","v":0},{"$f":"MAX(IF(ISERROR(K262:K265),0,K262:K265))","v":0}]
[null,null,null,{"$f":"'[2]Consequence Criteria'!$A$7","v":0},{"$f":"VALUE((IF('2-Impact Assessment '!E262=\"vl\",\"1\",(IF('2-Impact Assessment '!E262=\"l\",\"2\",(IF('2-Impact Assessment '!E262=\"m\",\"3\",(IF('2-Impact Assessment '!E262=\"h\",\"4\",(IF('2-Impact Assessment '!E262=\"vh\",\"5\", NA())))))))))))","v":{"$error":"#N/A"}},{"$f":"VALUE((IF('2-Impact Assessment '!F262=\"vl\",\"1\",(IF('2-Impact Assessment '!F262=\"l\",\"2\",(IF('2-Impact Assessment '!F262=\"m\",\"3\",(IF('2-Impact Assessment '!F262=\"h\",\"4\",(IF('2-Impact Assessment '!F262=\"vh\",\"5\", NA())))))))))))","v":{"$error":"#N/A"}},{"$f":"VALUE((IF('2-Impact Assessment '!G262=\"vl\",\"1\",(IF('2-Impact Assessment '!G262=\"l\",\"2\",(IF('2-Impact Assessment '!G262=\"m\",\"3\",(IF('2-Impact Assessment '!G262=\"h\",\"4\",(IF('2-Impact Assessment '!G262=\"vh\",\"5\", NA())))))))))))","v":{"$error":"#N/A"}},{"$f":"VALUE((IF('2-Impact Assessment '!H262=\"vl\",\"1\",(IF('2-Impact Assessment '!H262=\"l\",\"2\",(IF('2-Impact Assessment '!H262=\"m\",\"3\",(IF('2-Impact Assessment '!H262=\"h\",\"4\",(IF('2-Impact Assessment '!H262=\"vh\",\"5\", NA())))))))))))","v":{"$error":"#N/A"}},{"$f":"VALUE((IF('2-Impact Assessment '!I262=\"vl\",\"1\",(IF('2-Impact Assessment '!I262=\"l\",\"2\",(IF('2-Impact Assessment '!I262=\"m\",\"3\",(IF('2-Impact Assessment '!I262=\"h\",\"4\",(IF('2-Impact Assessment '!I262=\"vh\",\"5\", NA())))))))))))","v":{"$error":"#N/A"}},{"$f":"VALUE((IF('2-Impact Assessment '!J262=\"vl\",\"1\",(IF('2-Impact Assessment '!J262=\"l\",\"2\",(IF('2-Impact Assessment '!J262=\"m\",\"3\",(IF('2-Impact Assessment '!J262=\"h\",\"4\",(IF('2-Impact Assessment '!J262=\"vh\",\"5\", NA())))))))))))","v":{"$error":"#N/A"}},{"$f":"VALUE((IF('2-Impact Assessment '!K262=\"vl\",\"1\",(IF('2-Impact Assessment '!K262=\"l\",\"2\",(IF('2-Impact Assessment '!K262=\"m\",\"3\",(IF('2-Impact Assessment '!K262=\"h\",\"4\",(IF('2-Impact Assessment '!K262=\"vh\",\"5\", NA())))))))))))","v":{"$error":"#N/A"}},null,null,{"$f":"IFERROR(INDEX($AA$12:$AG$12,MATCH(TRUE, AA262:AG262 >= 3, 0)),200)","v":200},null,{"$f":"IFERROR(INDEX($AA$12:$AG$12,MATCH(TRUE, AA262:AG262 >= 4, 0)),200)","v":200},null,null,null,null,null,null,null,null,null,null,{"$f":"MAX(IF(ISERROR(E263:E266),0,E263:E266))","v":0},{"$f":"MAX(IF(ISERROR(F263:F266),0,F263:F266))","v":0},{"$f":"MAX(IF(ISERROR(G263:G266),0,G263:G266))","v":0},{"$f":"MAX(IF(ISERROR(H263:H266),0,H263:H266))","v":0},{"$f":"MAX(IF(ISERROR(I263:I266),0,I263:I266))","v":0},{"$f":"MAX(IF(ISERROR(J263:J266),0,J263:J266))","v":0},{"$f":"MAX(IF(ISERROR(K263:K266),0,K263:K266))","v":0}]
[null,null,null,{"$f":"'[2]Consequence Criteria'!$A$8","v":0},{"$f":"VALUE((IF('2-Impact Assessment '!E263=\"vl\",\"1\",(IF('2-Impact Assessment '!E263=\"l\",\"2\",(IF('2-Impact Assessment '!E263=\"m\",\"3\",(IF('2-Impact Assessment '!E263=\"h\",\"4\",(IF('2-Impact Assessment '!E263=\"vh\",\"5\", NA())))))))))))","v":{"$error":"#N/A"}},{"$f":"VALUE((IF('2-Impact Assessment '!F263=\"vl\",\"1\",(IF('2-Impact Assessment '!F263=\"l\",\"2\",(IF('2-Impact Assessment '!F263=\"m\",\"3\",(IF('2-Impact Assessment '!F263=\"h\",\"4\",(IF('2-Impact Assessment '!F263=\"vh\",\"5\", NA())))))))))))","v":{"$error":"#N/A"}},{"$f":"VALUE((IF('2-Impact Assessment '!G263=\"vl\",\"1\",(IF('2-Impact Assessment '!G263=\"l\",\"2\",(IF('2-Impact Assessment '!G263=\"m\",\"3\",(IF('2-Impact Assessment '!G263=\"h\",\"4\",(IF('2-Impact Assessment '!G263=\"vh\",\"5\", NA())))))))))))","v":{"$error":"#N/A"}},{"$f":"VALUE((IF('2-Impact Assessment '!H263=\"vl\",\"1\",(IF('2-Impact Assessment '!H263=\"l\",\"2\",(IF('2-Impact Assessment '!H263=\"m\",\"3\",(IF('2-Impact Assessment '!H263=\"h\",\"4\",(IF('2-Impact Assessment '!H263=\"vh\",\"5\", NA())))))))))))","v":{"$error":"#N/A"}},{"$f":"VALUE((IF('2-Impact Assessment '!I263=\"vl\",\"1\",(IF('2-Impact Assessment '!I263=\"l\",\"2\",(IF('2-Impact Assessment '!I263=\"m\",\"3\",(IF('2-Impact Assessment '!I263=\"h\",\"4\",(IF('2-Impact Assessment '!I263=\"vh\",\"5\", NA())))))))))))","v":{"$error":"#N/A"}},{"$f":"VALUE((IF('2-Impact Assessment '!J263=\"vl\",\"1\",(IF('2-Impact Assessment '!J263=\"l\",\"2\",(IF('2-Impact Assessment '!J263=\"m\",\"3\",(IF('2-Impact Assessment '!J263=\"h\",\"4\",(IF('2-Impact Assessment '!J263=\"vh\",\"5\", NA())))))))))))","v":{"$error":"#N/A"}},{"$f":"VALUE((IF('2-Impact Assessment '!K263=\"vl\",\"1\",(IF('2-Impact Assessment '!K263=\"l\",\"2\",(IF('2-Impact Assessment '!K263=\"m\",\"3\",(IF('2-Impact Assessment '!K263=\"h\",\"4\",(IF('2-Impact Assessment '!K263=\"vh\",\"5\", NA())))))))))))","v":{"$error":"#N/A"}},null,null,{"$f":"IFERROR(INDEX($AA$12:$AG$12,MATCH(TRUE, AA263:AG263 >= 3, 0)),200)","v":200},null,{"$f":"IFERROR(INDEX($AA$12:$AG$12,MATCH(TRUE, AA263:AG263 >= 4, 0)),200)","v":200},null,null,null,null,null,null,null,null,null,null,{"$f":"MAX(IF(ISERROR(E264:E267),0,E264:E267))","v":0},{"$f":"MAX(IF(ISERROR(F264:F267),0,F264:F267))","v":0},{"$f":"MAX(IF(ISERROR(G264:G267),0,G264:G267))","v":0},{"$f":"MAX(IF(ISERROR(H264:H267),0,H264:H267))","v":0},{"$f":"MAX(IF(ISERROR(I264:I267),0,I264:I267))","v":0},{"$f":"MAX(IF(ISERROR(J264:J267),0,J264:J267))","v":0},{"$f":"MAX(IF(ISERROR(K264:K267),0,K264:K267))","v":0}]
[null,null,null,{"$f":"'[2]Consequence Criteria'!$A$9","v":0},{"$f":"VALUE((IF('2-Impact Assessment '!E264=\"vl\",\"1\",(IF('2-Impact Assessment '!E264=\"l\",\"2\",(IF('2-Impact Assessment '!E264=\"m\",\"3\",(IF('2-Impact Assessment '!E264=\"h\",\"4\",(IF('2-Impact Assessment '!E264=\"vh\",\"5\", NA())))))))))))","v":{"$error":"#N/A"}},{"$f":"VALUE((IF('2-Impact Assessment '!F264=\"vl\",\"1\",(IF('2-Impact Assessment '!F264=\"l\",\"2\",(IF('2-Impact Assessment '!F264=\"m\",\"3\",(IF('2-Impact Assessment '!F264=\"h\",\"4\",(IF('2-Impact Assessment '!F264=\"vh\",\"5\", NA())))))))))))","v":{"$error":"#N/A"}},{"$f":"VALUE((IF('2-Impact Assessment '!G264=\"vl\",\"1\",(IF('2-Impact Assessment '!G264=\"l\",\"2\",(IF('2-Impact Assessment '!G264=\"m\",\"3\",(IF('2-Impact Assessment '!G264=\"h\",\"4\",(IF('2-Impact Assessment '!G264=\"vh\",\"5\", NA())))))))))))","v":{"$error":"#N/A"}},{"$f":"VALUE((IF('2-Impact Assessment '!H264=\"vl\",\"1\",(IF('2-Impact Assessment '!H264=\"l\",\"2\",(IF('2-Impact Assessment '!H264=\"m\",\"3\",(IF('2-Impact Assessment '!H264=\"h\",\"4\",(IF('2-Impact Assessment '!H264=\"vh\",\"5\", NA())))))))))))","v":{"$error":"#N/A"}},{"$f":"VALUE((IF('2-Impact Assessment '!I264=\"vl\",\"1\",(IF('2-Impact Assessment '!I264=\"l\",\"2\",(IF('2-Impact Assessment '!I264=\"m\",\"3\",(IF('2-Impact Assessment '!I264=\"h\",\"4\",(IF('2-Impact Assessment '!I264=\"vh\",\"5\", NA())))))))))))","v":{"$error":"#N/A"}},{"$f":"VALUE((IF('2-Impact Assessment '!J264=\"vl\",\"1\",(IF('2-Impact Assessment '!J264=\"l\",\"2\",(IF('2-Impact Assessment '!J264=\"m\",\"3\",(IF('2-Impact Assessment '!J264=\"h\",\"4\",(IF('2-Impact Assessment '!J264=\"vh\",\"5\", NA())))))))))))","v":{"$error":"#N/A"}},{"$f":"VALUE((IF('2-Impact Assessment '!K264=\"vl\",\"1\",(IF('2-Impact Assessment '!K264=\"l\",\"2\",(IF('2-Impact Assessment '!K264=\"m\",\"3\",(IF('2-Impact Assessment '!K264=\"h\",\"4\",(IF('2-Impact Assessment '!K264=\"vh\",\"5\", NA())))))))))))","v":{"$error":"#N/A"}},null,null,{"$f":"IFERROR(INDEX($AA$12:$AG$12,MATCH(TRUE, AA264:AG264 >= 3, 0)),200)","v":200},null,{"$f":"IFERROR(INDEX($AA$12:$AG$12,MATCH(TRUE, AA264:AG264 >= 4, 0)),200)","v":200},null,null,null,null,null,null,null,null,null,null,{"$f":"MAX(IF(ISERROR(E265:E268),0,E265:E268))","v":0},{"$f":"MAX(IF(ISERROR(F265:F268),0,F265:F268))","v":0},{"$f":"MAX(IF(ISERROR(G265:G268),0,G265:G268))","v":0},{"$f":"MAX(IF(ISERROR(H265:H268),0,H265:H268))","v":0},{"$f":"MAX(IF(ISERROR(I265:I268),0,I265:I268))","v":0},{"$f":"MAX(IF(ISERROR(J265:J268),0,J265:J268))","v":0},{"$f":"MAX(IF(ISERROR(K265:K268),0,K265:K268))","v":0}]
[null,null,null,{"$f":"'[2]Consequence Criteria'!$A$10","v":0},{"$f":"VALUE((IF('2-Impact Assessment '!E265=\"vl\",\"1\",(IF('2-Impact Assessment '!E265=\"l\",\"2\",(IF('2-Impact Assessment '!E265=\"m\",\"3\",(IF('2-Impact Assessment '!E265=\"h\",\"4\",(IF('2-Impact Assessment '!E265=\"vh\",\"5\", NA())))))))))))","v":{"$error":"#N/A"}},{"$f":"VALUE((IF('2-Impact Assessment '!F265=\"vl\",\"1\",(IF('2-Impact Assessment '!F265=\"l\",\"2\",(IF('2-Impact Assessment '!F265=\"m\",\"3\",(IF('2-Impact Assessment '!F265=\"h\",\"4\",(IF('2-Impact Assessment '!F265=\"vh\",\"5\", NA())))))))))))","v":{"$error":"#N/A"}},{"$f":"VALUE((IF('2-Impact Assessment '!G265=\"vl\",\"1\",(IF('2-Impact Assessment '!G265=\"l\",\"2\",(IF('2-Impact Assessment '!G265=\"m\",\"3\",(IF('2-Impact Assessment '!G265=\"h\",\"4\",(IF('2-Impact Assessment '!G265=\"vh\",\"5\", NA())))))))))))","v":{"$error":"#N/A"}},{"$f":"VALUE((IF('2-Impact Assessment '!H265=\"vl\",\"1\",(IF('2-Impact Assessment '!H265=\"l\",\"2\",(IF('2-Impact Assessment '!H265=\"m\",\"3\",(IF('2-Impact Assessment '!H265=\"h\",\"4\",(IF('2-Impact Assessment '!H265=\"vh\",\"5\", NA())))))))))))","v":{"$error":"#N/A"}},{"$f":"VALUE((IF('2-Impact Assessment '!I265=\"vl\",\"1\",(IF('2-Impact Assessment '!I265=\"l\",\"2\",(IF('2-Impact Assessment '!I265=\"m\",\"3\",(IF('2-Impact Assessment '!I265=\"h\",\"4\",(IF('2-Impact Assessment '!I265=\"vh\",\"5\", NA())))))))))))","v":{"$error":"#N/A"}},{"$f":"VALUE((IF('2-Impact Assessment '!J265=\"vl\",\"1\",(IF('2-Impact Assessment '!J265=\"l\",\"2\",(IF('2-Impact Assessment '!J265=\"m\",\"3\",(IF('2-Impact Assessment '!J265=\"h\",\"4\",(IF('2-Impact Assessment '!J265=\"vh\",\"5\", NA())))))))))))","v":{"$error":"#N/A"}},{"$f":"VALUE((IF('2-Impact Assessment '!K265=\"vl\",\"1\",(IF('2-Impact Assessment '!K265=\"l\",\"2\",(IF('2-Impact Assessment '!K265=\"m\",\"3\",(IF('2-Impact Assessment '!K265=\"h\",\"4\",(IF('2-Impact Assessment '!K265=\"vh\",\"5\", NA())))))))))))","v":{"$error":"#N/A"}},null,null,{"$f":"IFERROR(INDEX($AA$12:$AG$12,MATCH(TRUE, AA265:AG265 >= 3, 0)),200)","v":200},null,{"$f":"IFERROR(INDEX($AA$12:$AG$12,MATCH(TRUE, AA265:AG265 >= 4, 0)),200)","v":200},null,null,null,null,null,null,null,null,null,null,{"$f":"MAX(IF(ISERROR(E266:E269),0,E266:E269))","v":0},{"$f":"MAX(IF(ISERROR(F266:F269),0,F266:F269))","v":0},{"$f":"MAX(IF(ISERROR(G266:G269),0,G266:G269))","v":0},{"$f":"MAX(IF(ISERROR(H266:H269),0,H266:H269))","v":0},{"$f":"MAX(IF(ISERROR(I266:I269),0,I266:I269))","v":0},{"$f":"MAX(IF(ISERROR(J266:J269),0,J266:J269))","v":0},{"$f":"MAX(IF(ISERROR(K266:K269),0,K266:K269))","v":0}]
[null,{"$f":"IF(ISTEXT('1-Services & Function'!D58),'1-Services & Function'!D58,\"\")","v":""},29,null,"1 hr","4 hr","1 day","2 days","5 days","1 month","> 6 months","Comments",null,{"$f":"IFERROR(INDEX($AA$12:$AG$12,MATCH(TRUE, AA266:AG266 >= 3, 0)),200)","v":200},null,{"$f":"IFERROR(INDEX($AA$12:$AG$12,MATCH(TRUE, AA266:AG266 >= 4, 0)),200)","v":200},null,null,null,null,null,null,null,null,null,null,{"$f":"MAX(IF(ISERROR(E267:E270),0,E267:E270))","v":0},{"$f":"MAX(IF(ISERROR(F267:F270),0,F267:F270))","v":0},{"$f":"MAX(IF(ISERROR(G267:G270),0,G267:G270))","v":0},{"$f":"MAX(IF(ISERROR(H267:H270),0,H267:H270))","v":0},{"$f":"MAX(IF(ISERROR(I267:I270),0,I267:I270))","v":0},{"$f":"MAX(IF(ISERROR(J267:J270),0,J267:J270))","v":0},{"$f":"MAX(IF(ISERROR(K267:K270),0,K267:K270))","v":0}]
[null,null,null,{"$f":"'[2]Consequence Criteria'!$A$3","v":"Economic"},{"$f":"VALUE((IF('2-Impact Assessment '!E267=\"vl\",\"1\",(IF('2-Impact Assessment '!E267=\"l\",\"2\",(IF('2-Impact Assessment '!E267=\"m\",\"3\",(IF('2-Impact Assessment '!E267=\"h\",\"4\",(IF('2-Impact Assessment '!E267=\"vh\",\"5\", NA())))))))))))","v":{"$error":"#N/A"}},{"$f":"VALUE((IF('2-Impact Assessment '!F267=\"vl\",\"1\",(IF('2-Impact Assessment '!F267=\"l\",\"2\",(IF('2-Impact Assessment '!F267=\"m\",\"3\",(IF('2-Impact Assessment '!F267=\"h\",\"4\",(IF('2-Impact Assessment '!F267=\"vh\",\"5\", NA())))))))))))","v":{"$error":"#N/A"}},{"$f":"VALUE((IF('2-Impact Assessment '!G267=\"vl\",\"1\",(IF('2-Impact Assessment '!G267=\"l\",\"2\",(IF('2-Impact Assessment '!G267=\"m\",\"3\",(IF('2-Impact Assessment '!G267=\"h\",\"4\",(IF('2-Impact Assessment '!G267=\"vh\",\"5\", NA())))))))))))","v":{"$error":"#N/A"}},{"$f":"VALUE((IF('2-Impact Assessment '!H267=\"vl\",\"1\",(IF('2-Impact Assessment '!H267=\"l\",\"2\",(IF('2-Impact Assessment '!H267=\"m\",\"3\",(IF('2-Impact Assessment '!H267=\"h\",\"4\",(IF('2-Impact Assessment '!H267=\"vh\",\"5\", NA())))))))))))","v":{"$error":"#N/A"}},{"$f":"VALUE((IF('2-Impact Assessment '!I267=\"vl\",\"1\",(IF('2-Impact Assessment '!I267=\"l\",\"2\",(IF('2-Impact Assessment '!I267=\"m\",\"3\",(IF('2-Impact Assessment '!I267=\"h\",\"4\",(IF('2-Impact Assessment '!I267=\"vh\",\"5\", NA())))))))))))","v":{"$error":"#N/A"}},{"$f":"VALUE((IF('2-Impact Assessment '!J267=\"vl\",\"1\",(IF('2-Impact Assessment '!J267=\"l\",\"2\",(IF('2-Impact Assessment '!J267=\"m\",\"3\",(IF('2-Impact Assessment '!J267=\"h\",\"4\",(IF('2-Impact Assessment '!J267=\"vh\",\"5\", NA())))))))))))","v":{"$error":"#N/A"}},{"$f":"VALUE((IF('2-Impact Assessment '!K267=\"vl\",\"1\",(IF('2-Impact Assessment '!K267=\"l\",\"2\",(IF('2-Impact Assessment '!K267=\"m\",\"3\",(IF('2-Impact Assessment '!K267=\"h\",\"4\",(IF('2-Impact Assessment '!K267=\"vh\",\"5\", NA())))))))))))","v":{"$error":"#N/A"}},null,null,{"$f":"IFERROR(INDEX($AA$12:$AG$12,MATCH(TRUE, AA267:AG267 >= 3, 0)),200)","v":200},null,{"$f":"IFERROR(INDEX($AA$12:$AG$12,MATCH(TRUE, AA267:AG267 >= 4, 0)),200)","v":200},null,null,null,null,null,null,null,null,null,null,{"$f":"MAX(IF(ISERROR(E268:E271),0,E268:E271))","v":0},{"$f":"MAX(IF(ISERROR(F268:F271),0,F268:F271))","v":0},{"$f":"MAX(IF(ISERROR(G268:G271),0,G268:G271))","v":0},{"$f":"MAX(IF(ISERROR(H268:H271),0,H268:H271))","v":0},{"$f":"MAX(IF(ISERROR(I268:I271),0,I268:I271))","v":0},{"$f":"MAX(IF(ISERROR(J268:J271),0,J268:J271))","v":0},{"$f":"MAX(IF(ISERROR(K268:K271),0,K268:K271))","v":0}]
[null,null,null,{"$f":"'[2]Consequence Criteria'!$A$4","v":"Social"},{"$f":"VALUE((IF('2-Impact Assessment '!E268=\"vl\",\"1\",(IF('2-Impact Assessment '!E268=\"l\",\"2\",(IF('2-Impact Assessment '!E268=\"m\",\"3\",(IF('2-Impact Assessment '!E268=\"h\",\"4\",(IF('2-Impact Assessment '!E268=\"vh\",\"5\", NA())))))))))))","v":{"$error":"#N/A"}},{"$f":"VALUE((IF('2-Impact Assessment '!F268=\"vl\",\"1\",(IF('2-Impact Assessment '!F268=\"l\",\"2\",(IF('2-Impact Assessment '!F268=\"m\",\"3\",(IF('2-Impact Assessment '!F268=\"h\",\"4\",(IF('2-Impact Assessment '!F268=\"vh\",\"5\", NA())))))))))))","v":{"$error":"#N/A"}},{"$f":"VALUE((IF('2-Impact Assessment '!G268=\"vl\",\"1\",(IF('2-Impact Assessment '!G268=\"l\",\"2\",(IF('2-Impact Assessment '!G268=\"m\",\"3\",(IF('2-Impact Assessment '!G268=\"h\",\"4\",(IF('2-Impact Assessment '!G268=\"vh\",\"5\", NA())))))))))))","v":{"$error":"#N/A"}},{"$f":"VALUE((IF('2-Impact Assessment '!H268=\"vl\",\"1\",(IF('2-Impact Assessment '!H268=\"l\",\"2\",(IF('2-Impact Assessment '!H268=\"m\",\"3\",(IF('2-Impact Assessment '!H268=\"h\",\"4\",(IF('2-Impact Assessment '!H268=\"vh\",\"5\", NA())))))))))))","v":{"$error":"#N/A"}},{"$f":"VALUE((IF('2-Impact Assessment '!I268=\"vl\",\"1\",(IF('2-Impact Assessment '!I268=\"l\",\"2\",(IF('2-Impact Assessment '!I268=\"m\",\"3\",(IF('2-Impact Assessment '!I268=\"h\",\"4\",(IF('2-Impact Assessment '!I268=\"vh\",\"5\", NA())))))))))))","v":{"$error":"#N/A"}},{"$f":"VALUE((IF('2-Impact Assessment '!J268=\"vl\",\"1\",(IF('2-Impact Assessment '!J268=\"l\",\"2\",(IF('2-Impact Assessment '!J268=\"m\",\"3\",(IF('2-Impact Assessment '!J268=\"h\",\"4\",(IF('2-Impact Assessment '!J268=\"vh\",\"5\", NA())))))))))))","v":{"$error":"#N/A"}},{"$f":"VALUE((IF('2-Impact Assessment '!K268=\"vl\",\"1\",(IF('2-Impact Assessment '!K268=\"l\",\"2\",(IF('2-Impact Assessment '!K268=\"m\",\"3\",(IF('2-Impact Assessment '!K268=\"h\",\"4\",(IF('2-Impact Assessment '!K268=\"vh\",\"5\", NA())))))))))))","v":{"$error":"#N/A"}},null,null,{"$f":"IFERROR(INDEX($AA$12:$AG$12,MATCH(TRUE, AA268:AG268 >= 3, 0)),200)","v":200},null,{"$f":"IFERROR(INDEX($AA$12:$AG$12,MATCH(TRUE, AA268:AG268 >= 4, 0)),200)","v":200},null,null,null,null,null,null,null,null,null,null,{"$f":"MAX(IF(ISERROR(E269:E272),0,E269:E272))","v":0},{"$f":"MAX(IF(ISERROR(F269:F272),0,F269:F272))","v":0},{"$f":"MAX(IF(ISERROR(G269:G272),0,G269:G272))","v":0},{"$f":"MAX(IF(ISERROR(H269:H272),0,H269:H272))","v":0},{"$f":"MAX(IF(ISERROR(I269:I272),0,I269:I272))","v":0},{"$f":"MAX(IF(ISERROR(J269:J272),0,J269:J272))","v":0},{"$f":"MAX(IF(ISERROR(K269:K272),0,K269:K272))","v":0}]
[null,null,null,{"$f":"'[2]Consequence Criteria'!$A$5","v":"Cultural"},{"$f":"VALUE((IF('2-Impact Assessment '!E269=\"vl\",\"1\",(IF('2-Impact Assessment '!E269=\"l\",\"2\",(IF('2-Impact Assessment '!E269=\"m\",\"3\",(IF('2-Impact Assessment '!E269=\"h\",\"4\",(IF('2-Impact Assessment '!E269=\"vh\",\"5\", NA())))))))))))","v":{"$error":"#N/A"}},{"$f":"VALUE((IF('2-Impact Assessment '!F269=\"vl\",\"1\",(IF('2-Impact Assessment '!F269=\"l\",\"2\",(IF('2-Impact Assessment '!F269=\"m\",\"3\",(IF('2-Impact Assessment '!F269=\"h\",\"4\",(IF('2-Impact Assessment '!F269=\"vh\",\"5\", NA())))))))))))","v":{"$error":"#N/A"}},{"$f":"VALUE((IF('2-Impact Assessment '!G269=\"vl\",\"1\",(IF('2-Impact Assessment '!G269=\"l\",\"2\",(IF('2-Impact Assessment '!G269=\"m\",\"3\",(IF('2-Impact Assessment '!G269=\"h\",\"4\",(IF('2-Impact Assessment '!G269=\"vh\",\"5\", NA())))))))))))","v":{"$error":"#N/A"}},{"$f":"VALUE((IF('2-Impact Assessment '!H269=\"vl\",\"1\",(IF('2-Impact Assessment '!H269=\"l\",\"2\",(IF('2-Impact Assessment '!H269=\"m\",\"3\",(IF('2-Impact Assessment '!H269=\"h\",\"4\",(IF('2-Impact Assessment '!H269=\"vh\",\"5\", NA())))))))))))","v":{"$error":"#N/A"}},{"$f":"VALUE((IF('2-Impact Assessment '!I269=\"vl\",\"1\",(IF('2-Impact Assessment '!I269=\"l\",\"2\",(IF('2-Impact Assessment '!I269=\"m\",\"3\",(IF('2-Impact Assessment '!I269=\"h\",\"4\",(IF('2-Impact Assessment '!I269=\"vh\",\"5\", NA())))))))))))","v":{"$error":"#N/A"}},{"$f":"VALUE((IF('2-Impact Assessment '!J269=\"vl\",\"1\",(IF('2-Impact Assessment '!J269=\"l\",\"2\",(IF('2-Impact Assessment '!J269=\"m\",\"3\",(IF('2-Impact Assessment '!J269=\"h\",\"4\",(IF('2-Impact Assessment '!J269=\"vh\",\"5\", NA())))))))))))","v":{"$error":"#N/A"}},{"$f":"VALUE((IF('2-Impact Assessment '!K269=\"vl\",\"1\",(IF('2-Impact Assessment '!K269=\"l\",\"2\",(IF('2-Impact Assessment '!K269=\"m\",\"3\",(IF('2-Impact Assessment '!K269=\"h\",\"4\",(IF('2-Impact Assessment '!K269=\"vh\",\"5\", NA())))))))))))","v":{"$error":"#N/A"}},null,null,{"$f":"IFERROR(INDEX($AA$12:$AG$12,MATCH(TRUE, AA269:AG269 >= 3, 0)),200)","v":200},null,{"$f":"IFERROR(INDEX($AA$12:$AG$12,MATCH(TRUE, AA269:AG269 >= 4, 0)),200)","v":200},null,null,null,null,null,null,null,null,null,null,{"$f":"MAX(IF(ISERROR(E270:E273),0,E270:E273))","v":0},{"$f":"MAX(IF(ISERROR(F270:F273),0,F270:F273))","v":0},{"$f":"MAX(IF(ISERROR(G270:G273),0,G270:G273))","v":0},{"$f":"MAX(IF(ISERROR(H270:H273),0,H270:H273))","v":0},{"$f":"MAX(IF(ISERROR(I270:I273),0,I270:I273))","v":0},{"$f":"MAX(IF(ISERROR(J270:J273),0,J270:J273))","v":0},{"$f":"MAX(IF(ISERROR(K270:K273),0,K270:K273))","v":0}]
[null,null,null,{"$f":"'[2]Consequence Criteria'!$A$6","v":"Environmental"},{"$f":"VALUE((IF('2-Impact Assessment '!E270=\"vl\",\"1\",(IF('2-Impact Assessment '!E270=\"l\",\"2\",(IF('2-Impact Assessment '!E270=\"m\",\"3\",(IF('2-Impact Assessment '!E270=\"h\",\"4\",(IF('2-Impact Assessment '!E270=\"vh\",\"5\", NA())))))))))))","v":{"$error":"#N/A"}},{"$f":"VALUE((IF('2-Impact Assessment '!F270=\"vl\",\"1\",(IF('2-Impact Assessment '!F270=\"l\",\"2\",(IF('2-Impact Assessment '!F270=\"m\",\"3\",(IF('2-Impact Assessment '!F270=\"h\",\"4\",(IF('2-Impact Assessment '!F270=\"vh\",\"5\", NA())))))))))))","v":{"$error":"#N/A"}},{"$f":"VALUE((IF('2-Impact Assessment '!G270=\"vl\",\"1\",(IF('2-Impact Assessment '!G270=\"l\",\"2\",(IF('2-Impact Assessment '!G270=\"m\",\"3\",(IF('2-Impact Assessment '!G270=\"h\",\"4\",(IF('2-Impact Assessment '!G270=\"vh\",\"5\", NA())))))))))))","v":{"$error":"#N/A"}},{"$f":"VALUE((IF('2-Impact Assessment '!H270=\"vl\",\"1\",(IF('2-Impact Assessment '!H270=\"l\",\"2\",(IF('2-Impact Assessment '!H270=\"m\",\"3\",(IF('2-Impact Assessment '!H270=\"h\",\"4\",(IF('2-Impact Assessment '!H270=\"vh\",\"5\", NA())))))))))))","v":{"$error":"#N/A"}},{"$f":"VALUE((IF('2-Impact Assessment '!I270=\"vl\",\"1\",(IF('2-Impact Assessment '!I270=\"l\",\"2\",(IF('2-Impact Assessment '!I270=\"m\",\"3\",(IF('2-Impact Assessment '!I270=\"h\",\"4\",(IF('2-Impact Assessment '!I270=\"vh\",\"5\", NA())))))))))))","v":{"$error":"#N/A"}},{"$f":"VALUE((IF('2-Impact Assessment '!J270=\"vl\",\"1\",(IF('2-Impact Assessment '!J270=\"l\",\"2\",(IF('2-Impact Assessment '!J270=\"m\",\"3\",(IF('2-Impact Assessment '!J270=\"h\",\"4\",(IF('2-Impact Assessment '!J270=\"vh\",\"5\", NA())))))))))))","v":{"$error":"#N/A"}},{"$f":"VALUE((IF('2-Impact Assessment '!K270=\"vl\",\"1\",(IF('2-Impact Assessment '!K270=\"l\",\"2\",(IF('2-Impact Assessment '!K270=\"m\",\"3\",(IF('2-Impact Assessment '!K270=\"h\",\"4\",(IF('2-Impact Assessment '!K270=\"vh\",\"5\", NA())))))))))))","v":{"$error":"#N/A"}},null,null,{"$f":"IFERROR(INDEX($AA$12:$AG$12,MATCH(TRUE, AA270:AG270 >= 3, 0)),200)","v":200},null,{"$f":"IFERROR(INDEX($AA$12:$AG$12,MATCH(TRUE, AA270:AG270 >= 4, 0)),200)","v":200},null,null,null,null,null,null,null,null,null,null,{"$f":"MAX(IF(ISERROR(E271:E274),0,E271:E274))","v":0},{"$f":"MAX(IF(ISERROR(F271:F274),0,F271:F274))","v":0},{"$f":"MAX(IF(ISERROR(G271:G274),0,G271:G274))","v":0},{"$f":"MAX(IF(ISERROR(H271:H274),0,H271:H274))","v":0},{"$f":"MAX(IF(ISERROR(I271:I274),0,I271:I274))","v":0},{"$f":"MAX(IF(ISERROR(J271:J274),0,J271:J274))","v":0},{"$f":"MAX(IF(ISERROR(K271:K274),0,K271:K274))","v":0}]
[null,null,null,{"$f":"'[2]Consequence Criteria'!$A$7","v":0},{"$f":"VALUE((IF('2-Impact Assessment '!E271=\"vl\",\"1\",(IF('2-Impact Assessment '!E271=\"l\",\"2\",(IF('2-Impact Assessment '!E271=\"m\",\"3\",(IF('2-Impact Assessment '!E271=\"h\",\"4\",(IF('2-Impact Assessment '!E271=\"vh\",\"5\", NA())))))))))))","v":{"$error":"#N/A"}},{"$f":"VALUE((IF('2-Impact Assessment '!F271=\"vl\",\"1\",(IF('2-Impact Assessment '!F271=\"l\",\"2\",(IF('2-Impact Assessment '!F271=\"m\",\"3\",(IF('2-Impact Assessment '!F271=\"h\",\"4\",(IF('2-Impact Assessment '!F271=\"vh\",\"5\", NA())))))))))))","v":{"$error":"#N/A"}},{"$f":"VALUE((IF('2-Impact Assessment '!G271=\"vl\",\"1\",(IF('2-Impact Assessment '!G271=\"l\",\"2\",(IF('2-Impact Assessment '!G271=\"m\",\"3\",(IF('2-Impact Assessment '!G271=\"h\",\"4\",(IF('2-Impact Assessment '!G271=\"vh\",\"5\", NA())))))))))))","v":{"$error":"#N/A"}},{"$f":"VALUE((IF('2-Impact Assessment '!H271=\"vl\",\"1\",(IF('2-Impact Assessment '!H271=\"l\",\"2\",(IF('2-Impact Assessment '!H271=\"m\",\"3\",(IF('2-Impact Assessment '!H271=\"h\",\"4\",(IF('2-Impact Assessment '!H271=\"vh\",\"5\", NA())))))))))))","v":{"$error":"#N/A"}},{"$f":"VALUE((IF('2-Impact Assessment '!I271=\"vl\",\"1\",(IF('2-Impact Assessment '!I271=\"l\",\"2\",(IF('2-Impact Assessment '!I271=\"m\",\"3\",(IF('2-Impact Assessment '!I271=\"h\",\"4\",(IF('2-Impact Assessment '!I271=\"vh\",\"5\", NA())))))))))))","v":{"$error":"#N/A"}},{"$f":"VALUE((IF('2-Impact Assessment '!J271=\"vl\",\"1\",(IF('2-Impact Assessment '!J271=\"l\",\"2\",(IF('2-Impact Assessment '!J271=\"m\",\"3\",(IF('2-Impact Assessment '!J271=\"h\",\"4\",(IF('2-Impact Assessment '!J271=\"vh\",\"5\", NA())))))))))))","v":{"$error":"#N/A"}},{"$f":"VALUE((IF('2-Impact Assessment '!K271=\"vl\",\"1\",(IF('2-Impact Assessment '!K271=\"l\",\"2\",(IF('2-Impact Assessment '!K271=\"m\",\"3\",(IF('2-Impact Assessment '!K271=\"h\",\"4\",(IF('2-Impact Assessment '!K271=\"vh\",\"5\", NA())))))))))))","v":{"$error":"#N/A"}},null,null,{"$f":"IFERROR(INDEX($AA$12:$AG$12,MATCH(TRUE, AA271:AG271 >= 3, 0)),200)","v":200},null,{"$f":"IFERROR(INDEX($AA$12:$AG$12,MATCH(TRUE, AA271:AG271 >= 4, 0)),200)","v":200},null,null,null,null,null,null,null,null,null,null,{"$f":"MAX(IF(ISERROR(E272:E275),0,E272:E275))","v":0},{"$f":"MAX(IF(ISERROR(F272:F275),0,F272:F275))","v":0},{"$f":"MAX(IF(ISERROR(G272:G275),0,G272:G275))","v":0},{"$f":"MAX(IF(ISERROR(H272:H275),0,H272:H275))","v":0},{"$f":"MAX(IF(ISERROR(I272:I275),0,I272:I275))","v":0},{"$f":"MAX(IF(ISERROR(J272:J275),0,J272:J275))","v":0},{"$f":"MAX(IF(ISERROR(K272:K275),0,K272:K275))","v":0}]
[null,null,null,{"$f":"'[2]Consequence Criteria'!$A$8","v":0},{"$f":"VALUE((IF('2-Impact Assessment '!E272=\"vl\",\"1\",(IF('2-Impact Assessment '!E272=\"l\",\"2\",(IF('2-Impact Assessment '!E272=\"m\",\"3\",(IF('2-Impact Assessment '!E272=\"h\",\"4\",(IF('2-Impact Assessment '!E272=\"vh\",\"5\", NA())))))))))))","v":{"$error":"#N/A"}},{"$f":"VALUE((IF('2-Impact Assessment '!F272=\"vl\",\"1\",(IF('2-Impact Assessment '!F272=\"l\",\"2\",(IF('2-Impact Assessment '!F272=\"m\",\"3\",(IF('2-Impact Assessment '!F272=\"h\",\"4\",(IF('2-Impact Assessment '!F272=\"vh\",\"5\", NA())))))))))))","v":{"$error":"#N/A"}},{"$f":"VALUE((IF('2-Impact Assessment '!G272=\"vl\",\"1\",(IF('2-Impact Assessment '!G272=\"l\",\"2\",(IF('2-Impact Assessment '!G272=\"m\",\"3\",(IF('2-Impact Assessment '!G272=\"h\",\"4\",(IF('2-Impact Assessment '!G272=\"vh\",\"5\", NA())))))))))))","v":{"$error":"#N/A"}},{"$f":"VALUE((IF('2-Impact Assessment '!H272=\"vl\",\"1\",(IF('2-Impact Assessment '!H272=\"l\",\"2\",(IF('2-Impact Assessment '!H272=\"m\",\"3\",(IF('2-Impact Assessment '!H272=\"h\",\"4\",(IF('2-Impact Assessment '!H272=\"vh\",\"5\", NA())))))))))))","v":{"$error":"#N/A"}},{"$f":"VALUE((IF('2-Impact Assessment '!I272=\"vl\",\"1\",(IF('2-Impact Assessment '!I272=\"l\",\"2\",(IF('2-Impact Assessment '!I272=\"m\",\"3\",(IF('2-Impact Assessment '!I272=\"h\",\"4\",(IF('2-Impact Assessment '!I272=\"vh\",\"5\", NA())))))))))))","v":{"$error":"#N/A"}},{"$f":"VALUE((IF('2-Impact Assessment '!J272=\"vl\",\"1\",(IF('2-Impact Assessment '!J272=\"l\",\"2\",(IF('2-Impact Assessment '!J272=\"m\",\"3\",(IF('2-Impact Assessment '!J272=\"h\",\"4\",(IF('2-Impact Assessment '!J272=\"vh\",\"5\", NA())))))))))))","v":{"$error":"#N/A"}},{"$f":"VALUE((IF('2-Impact Assessment '!K272=\"vl\",\"1\",(IF('2-Impact Assessment '!K272=\"l\",\"2\",(IF('2-Impact Assessment '!K272=\"m\",\"3\",(IF('2-Impact Assessment '!K272=\"h\",\"4\",(IF('2-Impact Assessment '!K272=\"vh\",\"5\", NA())))))))))))","v":{"$error":"#N/A"}},null,null,{"$f":"IFERROR(INDEX($AA$12:$AG$12,MATCH(TRUE, AA272:AG272 >= 3, 0)),200)","v":200},null,{"$f":"IFERROR(INDEX($AA$12:$AG$12,MATCH(TRUE, AA272:AG272 >= 4, 0)),200)","v":200},null,null,null,null,null,null,null,null,null,null,{"$f":"MAX(IF(ISERROR(E273:E276),0,E273:E276))","v":0},{"$f":"MAX(IF(ISERROR(F273:F276),0,F273:F276))","v":0},{"$f":"MAX(IF(ISERROR(G273:G276),0,G273:G276))","v":0},{"$f":"MAX(IF(ISERROR(H273:H276),0,H273:H276))","v":0},{"$f":"MAX(IF(ISERROR(I273:I276),0,I273:I276))","v":0},{"$f":"MAX(IF(ISERROR(J273:J276),0,J273:J276))","v":0},{"$f":"MAX(IF(ISERROR(K273:K276),0,K273:K276))","v":0}]
[null,null,null,{"$f":"'[2]Consequence Criteria'!$A$9","v":0},{"$f":"VALUE((IF('2-Impact Assessment '!E273=\"vl\",\"1\",(IF('2-Impact Assessment '!E273=\"l\",\"2\",(IF('2-Impact Assessment '!E273=\"m\",\"3\",(IF('2-Impact Assessment '!E273=\"h\",\"4\",(IF('2-Impact Assessment '!E273=\"vh\",\"5\", NA())))))))))))","v":{"$error":"#N/A"}},{"$f":"VALUE((IF('2-Impact Assessment '!F273=\"vl\",\"1\",(IF('2-Impact Assessment '!F273=\"l\",\"2\",(IF('2-Impact Assessment '!F273=\"m\",\"3\",(IF('2-Impact Assessment '!F273=\"h\",\"4\",(IF('2-Impact Assessment '!F273=\"vh\",\"5\", NA())))))))))))","v":{"$error":"#N/A"}},{"$f":"VALUE((IF('2-Impact Assessment '!G273=\"vl\",\"1\",(IF('2-Impact Assessment '!G273=\"l\",\"2\",(IF('2-Impact Assessment '!G273=\"m\",\"3\",(IF('2-Impact Assessment '!G273=\"h\",\"4\",(IF('2-Impact Assessment '!G273=\"vh\",\"5\", NA())))))))))))","v":{"$error":"#N/A"}},{"$f":"VALUE((IF('2-Impact Assessment '!H273=\"vl\",\"1\",(IF('2-Impact Assessment '!H273=\"l\",\"2\",(IF('2-Impact Assessment '!H273=\"m\",\"3\",(IF('2-Impact Assessment '!H273=\"h\",\"4\",(IF('2-Impact Assessment '!H273=\"vh\",\"5\", NA())))))))))))","v":{"$error":"#N/A"}},{"$f":"VALUE((IF('2-Impact Assessment '!I273=\"vl\",\"1\",(IF('2-Impact Assessment '!I273=\"l\",\"2\",(IF('2-Impact Assessment '!I273=\"m\",\"3\",(IF('2-Impact Assessment '!I273=\"h\",\"4\",(IF('2-Impact Assessment '!I273=\"vh\",\"5\", NA())))))))))))","v":{"$error":"#N/A"}},{"$f":"VALUE((IF('2-Impact Assessment '!J273=\"vl\",\"1\",(IF('2-Impact Assessment '!J273=\"l\",\"2\",(IF('2-Impact Assessment '!J273=\"m\",\"3\",(IF('2-Impact Assessment '!J273=\"h\",\"4\",(IF('2-Impact Assessment '!J273=\"vh\",\"5\", NA())))))))))))","v":{"$error":"#N/A"}},{"$f":"VALUE((IF('2-Impact Assessment '!K273=\"vl\",\"1\",(IF('2-Impact Assessment '!K273=\"l\",\"2\",(IF('2-Impact Assessment '!K273=\"m\",\"3\",(IF('2-Impact Assessment '!K273=\"h\",\"4\",(IF('2-Impact Assessment '!K273=\"vh\",\"5\", NA())))))))))))","v":{"$error":"#N/A"}},null,null,{"$f":"IFERROR(INDEX($AA$12:$AG$12,MATCH(TRUE, AA273:AG273 >= 3, 0)),200)","v":200},null,{"$f":"IFERROR(INDEX($AA$12:$AG$12,MATCH(TRUE, AA273:AG273 >= 4, 0)),200)","v":200},null,null,null,null,null,null,null,null,null,null,{"$f":"MAX(IF(ISERROR(E274:E277),0,E274:E277))","v":0},{"$f":"MAX(IF(ISERROR(F274:F277),0,F274:F277))","v":0},{"$f":"MAX(IF(ISERROR(G274:G277),0,G274:G277))","v":0},{"$f":"MAX(IF(ISERROR(H274:H277),0,H274:H277))","v":0},{"$f":"MAX(IF(ISERROR(I274:I277),0,I274:I277))","v":0},{"$f":"MAX(IF(ISERROR(J274:J277),0,J274:J277))","v":0},{"$f":"MAX(IF(ISERROR(K274:K277),0,K274:K277))","v":0}]
[null,null,null,{"$f":"'[2]Consequence Criteria'!$A$10","v":0},{"$f":"VALUE((IF('2-Impact Assessment '!E274=\"vl\",\"1\",(IF('2-Impact Assessment '!E274=\"l\",\"2\",(IF('2-Impact Assessment '!E274=\"m\",\"3\",(IF('2-Impact Assessment '!E274=\"h\",\"4\",(IF('2-Impact Assessment '!E274=\"vh\",\"5\", NA())))))))))))","v":{"$error":"#N/A"}},{"$f":"VALUE((IF('2-Impact Assessment '!F274=\"vl\",\"1\",(IF('2-Impact Assessment '!F274=\"l\",\"2\",(IF('2-Impact Assessment '!F274=\"m\",\"3\",(IF('2-Impact Assessment '!F274=\"h\",\"4\",(IF('2-Impact Assessment '!F274=\"vh\",\"5\", NA())))))))))))","v":{"$error":"#N/A"}},{"$f":"VALUE((IF('2-Impact Assessment '!G274=\"vl\",\"1\",(IF('2-Impact Assessment '!G274=\"l\",\"2\",(IF('2-Impact Assessment '!G274=\"m\",\"3\",(IF('2-Impact Assessment '!G274=\"h\",\"4\",(IF('2-Impact Assessment '!G274=\"vh\",\"5\", NA())))))))))))","v":{"$error":"#N/A"}},{"$f":"VALUE((IF('2-Impact Assessment '!H274=\"vl\",\"1\",(IF('2-Impact Assessment '!H274=\"l\",\"2\",(IF('2-Impact Assessment '!H274=\"m\",\"3\",(IF('2-Impact Assessment '!H274=\"h\",\"4\",(IF('2-Impact Assessment '!H274=\"vh\",\"5\", NA())))))))))))","v":{"$error":"#N/A"}},{"$f":"VALUE((IF('2-Impact Assessment '!I274=\"vl\",\"1\",(IF('2-Impact Assessment '!I274=\"l\",\"2\",(IF('2-Impact Assessment '!I274=\"m\",\"3\",(IF('2-Impact Assessment '!I274=\"h\",\"4\",(IF('2-Impact Assessment '!I274=\"vh\",\"5\", NA())))))))))))","v":{"$error":"#N/A"}},{"$f":"VALUE((IF('2-Impact Assessment '!J274=\"vl\",\"1\",(IF('2-Impact Assessment '!J274=\"l\",\"2\",(IF('2-Impact Assessment '!J274=\"m\",\"3\",(IF('2-Impact Assessment '!J274=\"h\",\"4\",(IF('2-Impact Assessment '!J274=\"vh\",\"5\", NA())))))))))))","v":{"$error":"#N/A"}},{"$f":"VALUE((IF('2-Impact Assessment '!K274=\"vl\",\"1\",(IF('2-Impact Assessment '!K274=\"l\",\"2\",(IF('2-Impact Assessment '!K274=\"m\",\"3\",(IF('2-Impact Assessment '!K274=\"h\",\"4\",(IF('2-Impact Assessment '!K274=\"vh\",\"5\", NA())))))))))))","v":{"$error":"#N/A"}},null,null,{"$f":"IFERROR(INDEX($AA$12:$AG$12,MATCH(TRUE, AA274:AG274 >= 3, 0)),200)","v":200},null,{"$f":"IFERROR(INDEX($AA$12:$AG$12,MATCH(TRUE, AA274:AG274 >= 4, 0)),200)","v":200},null,null,null,null,null,null,null,null,null,null,{"$f":"MAX(IF(ISERROR(E275:E278),0,E275:E278))","v":0},{"$f":"MAX(IF(ISERROR(F275:F278),0,F275:F278))","v":0},{"$f":"MAX(IF(ISERROR(G275:G278),0,G275:G278))","v":0},{"$f":"MAX(IF(ISERROR(H275:H278),0,H275:H278))","v":0},{"$f":"MAX(IF(ISERROR(I275:I278),0,I275:I278))","v":0},{"$f":"MAX(IF(ISERROR(J275:J278),0,J275:J278))","v":0},{"$f":"MAX(IF(ISERROR(K275:K278),0,K275:K278))","v":0}]
[null,{"$f":"IF(ISTEXT('1-Services & Function'!D59),'1-Services & Function'!D59,\"\")","v":""},30,null,"1 hr","4 hr","1 day","2 days","5 days","1 month","> 6 months","Comments",null,{"$f":"IFERROR(INDEX($AA$12:$AG$12,MATCH(TRUE, AA275:AG275 >= 3, 0)),200)","v":200},null,{"$f":"IFERROR(INDEX($AA$12:$AG$12,MATCH(TRUE, AA275:AG275 >= 4, 0)),200)","v":200},null,null,null,null,null,null,null,null,null,null,{"$f":"MAX(IF(ISERROR(E276:E279),0,E276:E279))","v":0},{"$f":"MAX(IF(ISERROR(F276:F279),0,F276:F279))","v":0},{"$f":"MAX(IF(ISERROR(G276:G279),0,G276:G279))","v":0},{"$f":"MAX(IF(ISERROR(H276:H279),0,H276:H279))","v":0},{"$f":"MAX(IF(ISERROR(I276:I279),0,I276:I279))","v":0},{"$f":"MAX(IF(ISERROR(J276:J279),0,J276:J279))","v":0},{"$f":"MAX(IF(ISERROR(K276:K279),0,K276:K279))","v":0}]
[null,null,null,{"$f":"'[2]Consequence Criteria'!$A$3","v":"Economic"},{"$f":"VALUE((IF('2-Impact Assessment '!E276=\"vl\",\"1\",(IF('2-Impact Assessment '!E276=\"l\",\"2\",(IF('2-Impact Assessment '!E276=\"m\",\"3\",(IF('2-Impact Assessment '!E276=\"h\",\"4\",(IF('2-Impact Assessment '!E276=\"vh\",\"5\", NA())))))))))))","v":{"$error":"#N/A"}},{"$f":"VALUE((IF('2-Impact Assessment '!F276=\"vl\",\"1\",(IF('2-Impact Assessment '!F276=\"l\",\"2\",(IF('2-Impact Assessment '!F276=\"m\",\"3\",(IF('2-Impact Assessment '!F276=\"h\",\"4\",(IF('2-Impact Assessment '!F276=\"vh\",\"5\", NA())))))))))))","v":{"$error":"#N/A"}},{"$f":"VALUE((IF('2-Impact Assessment '!G276=\"vl\",\"1\",(IF('2-Impact Assessment '!G276=\"l\",\"2\",(IF('2-Impact Assessment '!G276=\"m\",\"3\",(IF('2-Impact Assessment '!G276=\"h\",\"4\",(IF('2-Impact Assessment '!G276=\"vh\",\"5\", NA())))))))))))","v":{"$error":"#N/A"}},{"$f":"VALUE((IF('2-Impact Assessment '!H276=\"vl\",\"1\",(IF('2-Impact Assessment '!H276=\"l\",\"2\",(IF('2-Impact Assessment '!H276=\"m\",\"3\",(IF('2-Impact Assessment '!H276=\"h\",\"4\",(IF('2-Impact Assessment '!H276=\"vh\",\"5\", NA())))))))))))","v":{"$error":"#N/A"}},{"$f":"VALUE((IF('2-Impact Assessment '!I276=\"vl\",\"1\",(IF('2-Impact Assessment '!I276=\"l\",\"2\",(IF('2-Impact Assessment '!I276=\"m\",\"3\",(IF('2-Impact Assessment '!I276=\"h\",\"4\",(IF('2-Impact Assessment '!I276=\"vh\",\"5\", NA())))))))))))","v":{"$error":"#N/A"}},{"$f":"VALUE((IF('2-Impact Assessment '!J276=\"vl\",\"1\",(IF('2-Impact Assessment '!J276=\"l\",\"2\",(IF('2-Impact Assessment '!J276=\"m\",\"3\",(IF('2-Impact Assessment '!J276=\"h\",\"4\",(IF('2-Impact Assessment '!J276=\"vh\",\"5\", NA())))))))))))","v":{"$error":"#N/A"}},{"$f":"VALUE((IF('2-Impact Assessment '!K276=\"vl\",\"1\",(IF('2-Impact Assessment '!K276=\"l\",\"2\",(IF('2-Impact Assessment '!K276=\"m\",\"3\",(IF('2-Impact Assessment '!K276=\"h\",\"4\",(IF('2-Impact Assessment '!K276=\"vh\",\"5\", NA())))))))))))","v":{"$error":"#N/A"}},null,null,{"$f":"IFERROR(INDEX($AA$12:$AG$12,MATCH(TRUE, AA276:AG276 >= 3, 0)),200)","v":200},null,{"$f":"IFERROR(INDEX($AA$12:$AG$12,MATCH(TRUE, AA276:AG276 >= 4, 0)),200)","v":200},null,null,null,null,null,null,null,null,null,null,{"$f":"MAX(IF(ISERROR(E277:E280),0,E277:E280))","v":0},{"$f":"MAX(IF(ISERROR(F277:F280),0,F277:F280))","v":0},{"$f":"MAX(IF(ISERROR(G277:G280),0,G277:G280))","v":0},{"$f":"MAX(IF(ISERROR(H277:H280),0,H277:H280))","v":0},{"$f":"MAX(IF(ISERROR(I277:I280),0,I277:I280))","v":0},{"$f":"MAX(IF(ISERROR(J277:J280),0,J277:J280))","v":0},{"$f":"MAX(IF(ISERROR(K277:K280),0,K277:K280))","v":0}]
[null,null,null,{"$f":"'[2]Consequence Criteria'!$A$4","v":"Social"},{"$f":"VALUE((IF('2-Impact Assessment '!E277=\"vl\",\"1\",(IF('2-Impact Assessment '!E277=\"l\",\"2\",(IF('2-Impact Assessment '!E277=\"m\",\"3\",(IF('2-Impact Assessment '!E277=\"h\",\"4\",(IF('2-Impact Assessment '!E277=\"vh\",\"5\", NA())))))))))))","v":{"$error":"#N/A"}},{"$f":"VALUE((IF('2-Impact Assessment '!F277=\"vl\",\"1\",(IF('2-Impact Assessment '!F277=\"l\",\"2\",(IF('2-Impact Assessment '!F277=\"m\",\"3\",(IF('2-Impact Assessment '!F277=\"h\",\"4\",(IF('2-Impact Assessment '!F277=\"vh\",\"5\", NA())))))))))))","v":{"$error":"#N/A"}},{"$f":"VALUE((IF('2-Impact Assessment '!G277=\"vl\",\"1\",(IF('2-Impact Assessment '!G277=\"l\",\"2\",(IF('2-Impact Assessment '!G277=\"m\",\"3\",(IF('2-Impact Assessment '!G277=\"h\",\"4\",(IF('2-Impact Assessment '!G277=\"vh\",\"5\", NA())))))))))))","v":{"$error":"#N/A"}},{"$f":"VALUE((IF('2-Impact Assessment '!H277=\"vl\",\"1\",(IF('2-Impact Assessment '!H277=\"l\",\"2\",(IF('2-Impact Assessment '!H277=\"m\",\"3\",(IF('2-Impact Assessment '!H277=\"h\",\"4\",(IF('2-Impact Assessment '!H277=\"vh\",\"5\", NA())))))))))))","v":{"$error":"#N/A"}},{"$f":"VALUE((IF('2-Impact Assessment '!I277=\"vl\",\"1\",(IF('2-Impact Assessment '!I277=\"l\",\"2\",(IF('2-Impact Assessment '!I277=\"m\",\"3\",(IF('2-Impact Assessment '!I277=\"h\",\"4\",(IF('2-Impact Assessment '!I277=\"vh\",\"5\", NA())))))))))))","v":{"$error":"#N/A"}},{"$f":"VALUE((IF('2-Impact Assessment '!J277=\"vl\",\"1\",(IF('2-Impact Assessment '!J277=\"l\",\"2\",(IF('2-Impact Assessment '!J277=\"m\",\"3\",(IF('2-Impact Assessment '!J277=\"h\",\"4\",(IF('2-Impact Assessment '!J277=\"vh\",\"5\", NA())))))))))))","v":{"$error":"#N/A"}},{"$f":"VALUE((IF('2-Impact Assessment '!K277=\"vl\",\"1\",(IF('2-Impact Assessment '!K277=\"l\",\"2\",(IF('2-Impact Assessment '!K277=\"m\",\"3\",(IF('2-Impact Assessment '!K277=\"h\",\"4\",(IF('2-Impact Assessment '!K277=\"vh\",\"5\", NA())))))))))))","v":{"$error":"#N/A"}},null,null,{"$f":"IFERROR(INDEX($AA$12:$AG$12,MATCH(TRUE, AA277:AG277 >= 3, 0)),200)","v":200},null,{"$f":"IFERROR(INDEX($AA$12:$AG$12,MATCH(TRUE, AA277:AG277 >= 4, 0)),200)","v":200},null,null,null,null,null,null,null,null,null,null,{"$f":"MAX(IF(ISERROR(E278:E281),0,E278:E281))","v":0},{"$f":"MAX(IF(ISERROR(F278:F281),0,F278:F281))","v":0},{"$f":"MAX(IF(ISERROR(G278:G281),0,G278:G281))","v":0},{"$f":"MAX(IF(ISERROR(H278:H281),0,H278:H281))","v":0},{"$f":"MAX(IF(ISERROR(I278:I281),0,I278:I281))","v":0},{"$f":"MAX(IF(ISERROR(J278:J281),0,J278:J281))","v":0},{"$f":"MAX(IF(ISERROR(K278:K281),0,K278:K281))","v":0}]
[null,null,null,{"$f":"'[2]Consequence Criteria'!$A$5","v":"Cultural"},{"$f":"VALUE((IF('2-Impact Assessment '!E278=\"vl\",\"1\",(IF('2-Impact Assessment '!E278=\"l\",\"2\",(IF('2-Impact Assessment '!E278=\"m\",\"3\",(IF('2-Impact Assessment '!E278=\"h\",\"4\",(IF('2-Impact Assessment '!E278=\"vh\",\"5\", NA())))))))))))","v":{"$error":"#N/A"}},{"$f":"VALUE((IF('2-Impact Assessment '!F278=\"vl\",\"1\",(IF('2-Impact Assessment '!F278=\"l\",\"2\",(IF('2-Impact Assessment '!F278=\"m\",\"3\",(IF('2-Impact Assessment '!F278=\"h\",\"4\",(IF('2-Impact Assessment '!F278=\"vh\",\"5\", NA())))))))))))","v":{"$error":"#N/A"}},{"$f":"VALUE((IF('2-Impact Assessment '!G278=\"vl\",\"1\",(IF('2-Impact Assessment '!G278=\"l\",\"2\",(IF('2-Impact Assessment '!G278=\"m\",\"3\",(IF('2-Impact Assessment '!G278=\"h\",\"4\",(IF('2-Impact Assessment '!G278=\"vh\",\"5\", NA())))))))))))","v":{"$error":"#N/A"}},{"$f":"VALUE((IF('2-Impact Assessment '!H278=\"vl\",\"1\",(IF('2-Impact Assessment '!H278=\"l\",\"2\",(IF('2-Impact Assessment '!H278=\"m\",\"3\",(IF('2-Impact Assessment '!H278=\"h\",\"4\",(IF('2-Impact Assessment '!H278=\"vh\",\"5\", NA())))))))))))","v":{"$error":"#N/A"}},{"$f":"VALUE((IF('2-Impact Assessment '!I278=\"vl\",\"1\",(IF('2-Impact Assessment '!I278=\"l\",\"2\",(IF('2-Impact Assessment '!I278=\"m\",\"3\",(IF('2-Impact Assessment '!I278=\"h\",\"4\",(IF('2-Impact Assessment '!I278=\"vh\",\"5\", NA())))))))))))","v":{"$error":"#N/A"}},{"$f":"VALUE((IF('2-Impact Assessment '!J278=\"vl\",\"1\",(IF('2-Impact Assessment '!J278=\"l\",\"2\",(IF('2-Impact Assessment '!J278=\"m\",\"3\",(IF('2-Impact Assessment '!J278=\"h\",\"4\",(IF('2-Impact Assessment '!J278=\"vh\",\"5\", NA())))))))))))","v":{"$error":"#N/A"}},{"$f":"VALUE((IF('2-Impact Assessment '!K278=\"vl\",\"1\",(IF('2-Impact Assessment '!K278=\"l\",\"2\",(IF('2-Impact Assessment '!K278=\"m\",\"3\",(IF('2-Impact Assessment '!K278=\"h\",\"4\",(IF('2-Impact Assessment '!K278=\"vh\",\"5\", NA())))))))))))","v":{"$error":"#N/A"}},null,null,{"$f":"IFERROR(INDEX($AA$12:$AG$12,MATCH(TRUE, AA278:AG278 >= 3, 0)),200)","v":200},null,{"$f":"IFERROR(INDEX($AA$12:$AG$12,MATCH(TRUE, AA278:AG278 >= 4, 0)),200)","v":200},null,null,null,null,null,null,null,null,null,null,{"$f":"MAX(IF(ISERROR(E279:E282),0,E279:E282))","v":0},{"$f":"MAX(IF(ISERROR(F279:F282),0,F279:F282))","v":0},{"$f":"MAX(IF(ISERROR(G279:G282),0,G279:G282))","v":0},{"$f":"MAX(IF(ISERROR(H279:H282),0,H279:H282))","v":0},{"$f":"MAX(IF(ISERROR(I279:I282),0,I279:I282))","v":0},{"$f":"MAX(IF(ISERROR(J279:J282),0,J279:J282))","v":0},{"$f":"MAX(IF(ISERROR(K279:K282),0,K279:K282))","v":0}]
[null,null,null,{"$f":"'[2]Consequence Criteria'!$A$6","v":"Environmental"},{"$f":"VALUE((IF('2-Impact Assessment '!E279=\"vl\",\"1\",(IF('2-Impact Assessment '!E279=\"l\",\"2\",(IF('2-Impact Assessment '!E279=\"m\",\"3\",(IF('2-Impact Assessment '!E279=\"h\",\"4\",(IF('2-Impact Assessment '!E279=\"vh\",\"5\", NA())))))))))))","v":{"$error":"#N/A"}},{"$f":"VALUE((IF('2-Impact Assessment '!F279=\"vl\",\"1\",(IF('2-Impact Assessment '!F279=\"l\",\"2\",(IF('2-Impact Assessment '!F279=\"m\",\"3\",(IF('2-Impact Assessment '!F279=\"h\",\"4\",(IF('2-Impact Assessment '!F279=\"vh\",\"5\", NA())))))))))))","v":{"$error":"#N/A"}},{"$f":"VALUE((IF('2-Impact Assessment '!G279=\"vl\",\"1\",(IF('2-Impact Assessment '!G279=\"l\",\"2\",(IF('2-Impact Assessment '!G279=\"m\",\"3\",(IF('2-Impact Assessment '!G279=\"h\",\"4\",(IF('2-Impact Assessment '!G279=\"vh\",\"5\", NA())))))))))))","v":{"$error":"#N/A"}},{"$f":"VALUE((IF('2-Impact Assessment '!H279=\"vl\",\"1\",(IF('2-Impact Assessment '!H279=\"l\",\"2\",(IF('2-Impact Assessment '!H279=\"m\",\"3\",(IF('2-Impact Assessment '!H279=\"h\",\"4\",(IF('2-Impact Assessment '!H279=\"vh\",\"5\", NA())))))))))))","v":{"$error":"#N/A"}},{"$f":"VALUE((IF('2-Impact Assessment '!I279=\"vl\",\"1\",(IF('2-Impact Assessment '!I279=\"l\",\"2\",(IF('2-Impact Assessment '!I279=\"m\",\"3\",(IF('2-Impact Assessment '!I279=\"h\",\"4\",(IF('2-Impact Assessment '!I279=\"vh\",\"5\", NA())))))))))))","v":{"$error":"#N/A"}},{"$f":"VALUE((IF('2-Impact Assessment '!J279=\"vl\",\"1\",(IF('2-Impact Assessment '!J279=\"l\",\"2\",(IF('2-Impact Assessment '!J279=\"m\",\"3\",(IF('2-Impact Assessment '!J279=\"h\",\"4\",(IF('2-Impact Assessment '!J279=\"vh\",\"5\", NA())))))))))))","v":{"$error":"#N/A"}},{"$f":"VALUE((IF('2-Impact Assessment '!K279=\"vl\",\"1\",(IF('2-Impact Assessment '!K279=\"l\",\"2\",(IF('2-Impact Assessment '!K279=\"m\",\"3\",(IF('2-Impact Assessment '!K279=\"h\",\"4\",(IF('2-Impact Assessment '!K279=\"vh\",\"5\", NA())))))))))))","v":{"$error":"#N/A"}},null,null,{"$f":"IFERROR(INDEX($AA$12:$AG$12,MATCH(TRUE, AA279:AG279 >= 3, 0)),200)","v":200},null,{"$f":"IFERROR(INDEX($AA$12:$AG$12,MATCH(TRUE, AA279:AG279 >= 4, 0)),200)","v":200},null,null,null,null,null,null,null,null,null,null,{"$f":"MAX(IF(ISERROR(E280:E283),0,E280:E283))","v":0},{"$f":"MAX(IF(ISERROR(F280:F283),0,F280:F283))","v":0},{"$f":"MAX(IF(ISERROR(G280:G283),0,G280:G283))","v":0},{"$f":"MAX(IF(ISERROR(H280:H283),0,H280:H283))","v":0},{"$f":"MAX(IF(ISERROR(I280:I283),0,I280:I283))","v":0},{"$f":"MAX(IF(ISERROR(J280:J283),0,J280:J283))","v":0},{"$f":"MAX(IF(ISERROR(K280:K283),0,K280:K283))","v":0}]
[null,null,null,{"$f":"'[2]Consequence Criteria'!$A$7","v":0},{"$f":"VALUE((IF('2-Impact Assessment '!E280=\"vl\",\"1\",(IF('2-Impact Assessment '!E280=\"l\",\"2\",(IF('2-Impact Assessment '!E280=\"m\",\"3\",(IF('2-Impact Assessment '!E280=\"h\",\"4\",(IF('2-Impact Assessment '!E280=\"vh\",\"5\", NA())))))))))))","v":{"$error":"#N/A"}},{"$f":"VALUE((IF('2-Impact Assessment '!F280=\"vl\",\"1\",(IF('2-Impact Assessment '!F280=\"l\",\"2\",(IF('2-Impact Assessment '!F280=\"m\",\"3\",(IF('2-Impact Assessment '!F280=\"h\",\"4\",(IF('2-Impact Assessment '!F280=\"vh\",\"5\", NA())))))))))))","v":{"$error":"#N/A"}},{"$f":"VALUE((IF('2-Impact Assessment '!G280=\"vl\",\"1\",(IF('2-Impact Assessment '!G280=\"l\",\"2\",(IF('2-Impact Assessment '!G280=\"m\",\"3\",(IF('2-Impact Assessment '!G280=\"h\",\"4\",(IF('2-Impact Assessment '!G280=\"vh\",\"5\", NA())))))))))))","v":{"$error":"#N/A"}},{"$f":"VALUE((IF('2-Impact Assessment '!H280=\"vl\",\"1\",(IF('2-Impact Assessment '!H280=\"l\",\"2\",(IF('2-Impact Assessment '!H280=\"m\",\"3\",(IF('2-Impact Assessment '!H280=\"h\",\"4\",(IF('2-Impact Assessment '!H280=\"vh\",\"5\", NA())))))))))))","v":{"$error":"#N/A"}},{"$f":"VALUE((IF('2-Impact Assessment '!I280=\"vl\",\"1\",(IF('2-Impact Assessment '!I280=\"l\",\"2\",(IF('2-Impact Assessment '!I280=\"m\",\"3\",(IF('2-Impact Assessment '!I280=\"h\",\"4\",(IF('2-Impact Assessment '!I280=\"vh\",\"5\", NA())))))))))))","v":{"$error":"#N/A"}},{"$f":"VALUE((IF('2-Impact Assessment '!J280=\"vl\",\"1\",(IF('2-Impact Assessment '!J280=\"l\",\"2\",(IF('2-Impact Assessment '!J280=\"m\",\"3\",(IF('2-Impact Assessment '!J280=\"h\",\"4\",(IF('2-Impact Assessment '!J280=\"vh\",\"5\", NA())))))))))))","v":{"$error":"#N/A"}},{"$f":"VALUE((IF('2-Impact Assessment '!K280=\"vl\",\"1\",(IF('2-Impact Assessment '!K280=\"l\",\"2\",(IF('2-Impact Assessment '!K280=\"m\",\"3\",(IF('2-Impact Assessment '!K280=\"h\",\"4\",(IF('2-Impact Assessment '!K280=\"vh\",\"5\", NA())))))))))))","v":{"$error":"#N/A"}},null,null,{"$f":"IFERROR(INDEX($AA$12:$AG$12,MATCH(TRUE, AA280:AG280 >= 3, 0)),200)","v":200},null,null,null,null,null,null,null,null,null,null,null,null,{"$f":"MAX(IF(ISERROR(E281:E284),0,E281:E284))","v":0},{"$f":"MAX(IF(ISERROR(F281:F284),0,F281:F284))","v":0},{"$f":"MAX(IF(ISERROR(G281:G284),0,G281:G284))","v":0},{"$f":"MAX(IF(ISERROR(H281:H284),0,H281:H284))","v":0},{"$f":"MAX(IF(ISERROR(I281:I284),0,I281:I284))","v":0},{"$f":"MAX(IF(ISERROR(J281:J284),0,J281:J284))","v":0},{"$f":"MAX(IF(ISERROR(K281:K284),0,K281:K284))","v":0}]
[null,null,null,{"$f":"'[2]Consequence Criteria'!$A$8","v":0},{"$f":"VALUE((IF('2-Impact Assessment '!E281=\"vl\",\"1\",(IF('2-Impact Assessment '!E281=\"l\",\"2\",(IF('2-Impact Assessment '!E281=\"m\",\"3\",(IF('2-Impact Assessment '!E281=\"h\",\"4\",(IF('2-Impact Assessment '!E281=\"vh\",\"5\", NA())))))))))))","v":{"$error":"#N/A"}},{"$f":"VALUE((IF('2-Impact Assessment '!F281=\"vl\",\"1\",(IF('2-Impact Assessment '!F281=\"l\",\"2\",(IF('2-Impact Assessment '!F281=\"m\",\"3\",(IF('2-Impact Assessment '!F281=\"h\",\"4\",(IF('2-Impact Assessment '!F281=\"vh\",\"5\", NA())))))))))))","v":{"$error":"#N/A"}},{"$f":"VALUE((IF('2-Impact Assessment '!G281=\"vl\",\"1\",(IF('2-Impact Assessment '!G281=\"l\",\"2\",(IF('2-Impact Assessment '!G281=\"m\",\"3\",(IF('2-Impact Assessment '!G281=\"h\",\"4\",(IF('2-Impact Assessment '!G281=\"vh\",\"5\", NA())))))))))))","v":{"$error":"#N/A"}},{"$f":"VALUE((IF('2-Impact Assessment '!H281=\"vl\",\"1\",(IF('2-Impact Assessment '!H281=\"l\",\"2\",(IF('2-Impact Assessment '!H281=\"m\",\"3\",(IF('2-Impact Assessment '!H281=\"h\",\"4\",(IF('2-Impact Assessment '!H281=\"vh\",\"5\", NA())))))))))))","v":{"$error":"#N/A"}},{"$f":"VALUE((IF('2-Impact Assessment '!I281=\"vl\",\"1\",(IF('2-Impact Assessment '!I281=\"l\",\"2\",(IF('2-Impact Assessment '!I281=\"m\",\"3\",(IF('2-Impact Assessment '!I281=\"h\",\"4\",(IF('2-Impact Assessment '!I281=\"vh\",\"5\", NA())))))))))))","v":{"$error":"#N/A"}},{"$f":"VALUE((IF('2-Impact Assessment '!J281=\"vl\",\"1\",(IF('2-Impact Assessment '!J281=\"l\",\"2\",(IF('2-Impact Assessment '!J281=\"m\",\"3\",(IF('2-Impact Assessment '!J281=\"h\",\"4\",(IF('2-Impact Assessment '!J281=\"vh\",\"5\", NA())))))))))))","v":{"$error":"#N/A"}},{"$f":"VALUE((IF('2-Impact Assessment '!K281=\"vl\",\"1\",(IF('2-Impact Assessment '!K281=\"l\",\"2\",(IF('2-Impact Assessment '!K281=\"m\",\"3\",(IF('2-Impact Assessment '!K281=\"h\",\"4\",(IF('2-Impact Assessment '!K281=\"vh\",\"5\", NA())))))))))))","v":{"$error":"#N/A"}},null,null,{"$f":"IFERROR(INDEX($AA$12:$AG$12,MATCH(TRUE, AA281:AG281 >= 3, 0)),200)","v":200},null,null,null,null,null,null,null,null,null,null,null,null,{"$f":"MAX(IF(ISERROR(E282:E285),0,E282:E285))","v":0},{"$f":"MAX(IF(ISERROR(F282:F285),0,F282:F285))","v":0},{"$f":"MAX(IF(ISERROR(G282:G285),0,G282:G285))","v":0},{"$f":"MAX(IF(ISERROR(H282:H285),0,H282:H285))","v":0},{"$f":"MAX(IF(ISERROR(I282:I285),0,I282:I285))","v":0},{"$f":"MAX(IF(ISERROR(J282:J285),0,J282:J285))","v":0},{"$f":"MAX(IF(ISERROR(K282:K285),0,K282:K285))","v":0}]
[null,null,null,{"$f":"'[2]Consequence Criteria'!$A$9","v":0},{"$f":"VALUE((IF('2-Impact Assessment '!E282=\"vl\",\"1\",(IF('2-Impact Assessment '!E282=\"l\",\"2\",(IF('2-Impact Assessment '!E282=\"m\",\"3\",(IF('2-Impact Assessment '!E282=\"h\",\"4\",(IF('2-Impact Assessment '!E282=\"vh\",\"5\", NA())))))))))))","v":{"$error":"#N/A"}},{"$f":"VALUE((IF('2-Impact Assessment '!F282=\"vl\",\"1\",(IF('2-Impact Assessment '!F282=\"l\",\"2\",(IF('2-Impact Assessment '!F282=\"m\",\"3\",(IF('2-Impact Assessment '!F282=\"h\",\"4\",(IF('2-Impact Assessment '!F282=\"vh\",\"5\", NA())))))))))))","v":{"$error":"#N/A"}},{"$f":"VALUE((IF('2-Impact Assessment '!G282=\"vl\",\"1\",(IF('2-Impact Assessment '!G282=\"l\",\"2\",(IF('2-Impact Assessment '!G282=\"m\",\"3\",(IF('2-Impact Assessment '!G282=\"h\",\"4\",(IF('2-Impact Assessment '!G282=\"vh\",\"5\", NA())))))))))))","v":{"$error":"#N/A"}},{"$f":"VALUE((IF('2-Impact Assessment '!H282=\"vl\",\"1\",(IF('2-Impact Assessment '!H282=\"l\",\"2\",(IF('2-Impact Assessment '!H282=\"m\",\"3\",(IF('2-Impact Assessment '!H282=\"h\",\"4\",(IF('2-Impact Assessment '!H282=\"vh\",\"5\", NA())))))))))))","v":{"$error":"#N/A"}},{"$f":"VALUE((IF('2-Impact Assessment '!I282=\"vl\",\"1\",(IF('2-Impact Assessment '!I282=\"l\",\"2\",(IF('2-Impact Assessment '!I282=\"m\",\"3\",(IF('2-Impact Assessment '!I282=\"h\",\"4\",(IF('2-Impact Assessment '!I282=\"vh\",\"5\", NA())))))))))))","v":{"$error":"#N/A"}},{"$f":"VALUE((IF('2-Impact Assessment '!J282=\"vl\",\"1\",(IF('2-Impact Assessment '!J282=\"l\",\"2\",(IF('2-Impact Assessment '!J282=\"m\",\"3\",(IF('2-Impact Assessment '!J282=\"h\",\"4\",(IF('2-Impact Assessment '!J282=\"vh\",\"5\", NA())))))))))))","v":{"$error":"#N/A"}},{"$f":"VALUE((IF('2-Impact Assessment '!K282=\"vl\",\"1\",(IF('2-Impact Assessment '!K282=\"l\",\"2\",(IF('2-Impact Assessment '!K282=\"m\",\"3\",(IF('2-Impact Assessment '!K282=\"h\",\"4\",(IF('2-Impact Assessment '!K282=\"vh\",\"5\", NA())))))))))))","v":{"$error":"#N/A"}},null,null,{"$f":"IFERROR(INDEX($AA$12:$AG$12,MATCH(TRUE, AA282:AG282 >= 3, 0)),200)","v":200},null,null,null,null,null,null,null,null,null,null,null,null,{"$f":"MAX(IF(ISERROR(E283:E286),0,E283:E286))","v":0},{"$f":"MAX(IF(ISERROR(F283:F286),0,F283:F286))","v":0},{"$f":"MAX(IF(ISERROR(G283:G286),0,G283:G286))","v":0},{"$f":"MAX(IF(ISERROR(H283:H286),0,H283:H286))","v":0},{"$f":"MAX(IF(ISERROR(I283:I286),0,I283:I286))","v":0},{"$f":"MAX(IF(ISERROR(J283:J286),0,J283:J286))","v":0},{"$f":"MAX(IF(ISERROR(K283:K286),0,K283:K286))","v":0}]
[null,null,null,{"$f":"'[2]Consequence Criteria'!$A$10","v":0},{"$f":"VALUE((IF('2-Impact Assessment '!E283=\"vl\",\"1\",(IF('2-Impact Assessment '!E283=\"l\",\"2\",(IF('2-Impact Assessment '!E283=\"m\",\"3\",(IF('2-Impact Assessment '!E283=\"h\",\"4\",(IF('2-Impact Assessment '!E283=\"vh\",\"5\", NA())))))))))))","v":{"$error":"#N/A"}},{"$f":"VALUE((IF('2-Impact Assessment '!F283=\"vl\",\"1\",(IF('2-Impact Assessment '!F283=\"l\",\"2\",(IF('2-Impact Assessment '!F283=\"m\",\"3\",(IF('2-Impact Assessment '!F283=\"h\",\"4\",(IF('2-Impact Assessment '!F283=\"vh\",\"5\", NA())))))))))))","v":{"$error":"#N/A"}},{"$f":"VALUE((IF('2-Impact Assessment '!G283=\"vl\",\"1\",(IF('2-Impact Assessment '!G283=\"l\",\"2\",(IF('2-Impact Assessment '!G283=\"m\",\"3\",(IF('2-Impact Assessment '!G283=\"h\",\"4\",(IF('2-Impact Assessment '!G283=\"vh\",\"5\", NA())))))))))))","v":{"$error":"#N/A"}},{"$f":"VALUE((IF('2-Impact Assessment '!H283=\"vl\",\"1\",(IF('2-Impact Assessment '!H283=\"l\",\"2\",(IF('2-Impact Assessment '!H283=\"m\",\"3\",(IF('2-Impact Assessment '!H283=\"h\",\"4\",(IF('2-Impact Assessment '!H283=\"vh\",\"5\", NA())))))))))))","v":{"$error":"#N/A"}},{"$f":"VALUE((IF('2-Impact Assessment '!I283=\"vl\",\"1\",(IF('2-Impact Assessment '!I283=\"l\",\"2\",(IF('2-Impact Assessment '!I283=\"m\",\"3\",(IF('2-Impact Assessment '!I283=\"h\",\"4\",(IF('2-Impact Assessment '!I283=\"vh\",\"5\", NA())))))))))))","v":{"$error":"#N/A"}},{"$f":"VALUE((IF('2-Impact Assessment '!J283=\"vl\",\"1\",(IF('2-Impact Assessment '!J283=\"l\",\"2\",(IF('2-Impact Assessment '!J283=\"m\",\"3\",(IF('2-Impact Assessment '!J283=\"h\",\"4\",(IF('2-Impact Assessment '!J283=\"vh\",\"5\", NA())))))))))))","v":{"$error":"#N/A"}},{"$f":"VALUE((IF('2-Impact Assessment '!K283=\"vl\",\"1\",(IF('2-Impact Assessment '!K283=\"l\",\"2\",(IF('2-Impact Assessment '!K283=\"m\",\"3\",(IF('2-Impact Assessment '!K283=\"h\",\"4\",(IF('2-Impact Assessment '!K283=\"vh\",\"5\", NA())))))))))))","v":{"$error":"#N/A"}},null,null,{"$f":"IFERROR(INDEX($AA$12:$AG$12,MATCH(TRUE, AA283:AG283 >= 3, 0)),200)","v":200},null,null,null,null,null,null,null,null,null,null,null,null,{"$f":"MAX(IF(ISERROR(E284:E287),0,E284:E287))","v":0},{"$f":"MAX(IF(ISERROR(F284:F287),0,F284:F287))","v":0},{"$f":"MAX(IF(ISERROR(G284:G287),0,G284:G287))","v":0},{"$f":"MAX(IF(ISERROR(H284:H287),0,H284:H287))","v":0},{"$f":"MAX(IF(ISERROR(I284:I287),0,I284:I287))","v":0},{"$f":"MAX(IF(ISERROR(J284:J287),0,J284:J287))","v":0},{"$f":"MAX(IF(ISERROR(K284:K287),0,K284:K287))","v":0}]
[null,null,null,null,null,null,null,null,null,null,null,null,null,null,null,null,null,null,null,null,null,null,null,null,null,null,{"$f":"MAX(IF(ISERROR(E285:E288),0,E285:E288))","v":0},{"$f":"MAX(IF(ISERROR(F285:F288),0,F285:F288))","v":0},{"$f":"MAX(IF(ISERROR(G285:G288),0,G285:G288))","v":0},{"$f":"MAX(IF(ISERROR(H285:H288),0,H285:H288))","v":0},{"$f":"MAX(IF(ISERROR(I285:I288),0,I285:I288))","v":0},{"$f":"MAX(IF(ISERROR(J285:J288),0,J285:J288))","v":0},{"$f":"MAX(IF(ISERROR(K285:K288),0,K285:K288))","v":0}]

{"sheet":"3-Challenges","index":5,"n_rows":18,"n_cols":9,"rows_kept":18,"cut":false,"hidden":false,"merged":[[2,1,2,7],[9,3,9,5]]}
[]
[null,"Step 3: Challenges"]
[null,"1. Select the challenges that are likely to impact your asset based on the asset type and its location using the dropdown menu.  Add extra challenges by pressing the button and adding the additional challenge using the dropdown selections or free text. \n2. For that challenges that you identified, indicate the likelihood of the challenge today occurring using the likelihood matrix to the right.  \n3. Indicate if the challenge is likely to be exacerbated or mitigated over time (50- and 100-years).  Note that this step is included to specifically allow for the consideration of impacts of climate change, but may also be used to reflect anticipated changes to governance or other systemic aspects.\n4. The challenge priority will auto populate based on your assessment in steps 2 and 3 based on the Challenge Priority matrix to the right.\n5. For the challenges that you identified, briefly detail the disruption scenario.\n6. Record the key data sources used to support your assessment (see Guidance Manual for key data to review to get you started) and any limitations in available data.\n"]
[]
[]
[]
[]
[]
[]
[null,null,null,"Select Challenge Likelihood \nfrom the drop-down list"]
[null,"Challenge Group","Challenges","Today","50 years","100 years","Challenge Priority \n(auto-populated)","Disruption Scenarios\n (i.e. describe what this challenge means for the service provided by your asset)","Data Sources\nto support your decision"]
[null,"Natural_Shocks","Earthquake: liquefaction, tsunami, landslide, sinkholes","Medium","High","High",{"$f":"IFERROR(VLOOKUP(CONCATENATE(tblChallenges[[#This Row],[Today]],tblChallenges[[#This Row],[50 years]],tblChallenges[[#This Row],[100 years]]),tblConcordanceBE[[Joined]:[Priority]],2,FALSE),\"\")","v":"High"},"Signficant disruption to the road network, as well as the other parts of the transport network. \nTemporary reduction in demand for the network expected. ","http://www.gw.govt.nz/assets/Emergencies--Hazards/combined_earthquake_hazard_map_wellington.pdf \nhttp://www.gw.govt.nz/assets/Emergencies--Hazards/Emergency-Planning/12-11-13-WeLG-report-to-CDEM-Joint-Committee-restoration-times-FINAL.pdf "]
[null,"Natural_Shocks","Flooding","High","Very High","Very High",{"$f":"IFERROR(VLOOKUP(CONCATENATE(tblChallenges[[#This Row],[Today]],tblChallenges[[#This Row],[50 years]],tblChallenges[[#This Row],[100 years]]),tblConcordanceBE[[Joined]:[Priority]],2,FALSE),\"\")","v":"Urgent"},"Flooding is generally projected to become more frequent in the Hutt Valley and degrade the flood-protection standards of existing and planned stopbanks, with a large range of uncertainty","http://www.victoria.ac.nz/sgees/research-centres/documents/vulnerability-and-adaptation-to-increased-flood-risk-with-climate-change-hutt-valley-summary.pdf "]
[null,"Natural_Shocks","Landslide ","Medium","Medium","Medium",{"$f":"IFERROR(VLOOKUP(CONCATENATE(tblChallenges[[#This Row],[Today]],tblChallenges[[#This Row],[50 years]],tblChallenges[[#This Row],[100 years]]),tblConcordanceBE[[Joined]:[Priority]],2,FALSE),\"\")","v":"Medium"},"Signficant disruption to the roading network, as well as the other parts of the transport network. \nTenporary reduction in demand for the network expected.  ","http://www.gw.govt.nz/assets/Emergencies--Hazards/combined_earthquake_hazard_map_wellington.pdf \nhttp://www.gw.govt.nz/assets/Emergencies--Hazards/Emergency-Planning/12-11-13-WeLG-report-to-CDEM-Joint-Committee-restoration-times-FINAL.pdf "]
[null,"Natural_Stresses","Winter storms: snow, ice, hail ","High","Very High","Very High",{"$f":"IFERROR(VLOOKUP(CONCATENATE(tblChallenges[[#This Row],[Today]],tblChallenges[[#This Row],[50 years]],tblChallenges[[#This Row],[100 years]]),tblConcordanceBE[[Joined]:[Priority]],2,FALSE),\"\")","v":"Urgent"},"Winter storms occur every year - with impacts of ice and hail common occurences. ","https://hwe.niwa.co.nz/search/summary/Startdate/2000-01-01/Enddate/2016-11-15/Regions/Wellington/Hazards/all/Impacts/all/Keywords/none/numberOfEvents/20/page/1"]
[null,"Systemic_Stresses","Congestion","High","Very High","Very High",{"$f":"IFERROR(VLOOKUP(CONCATENATE(tblChallenges[[#This Row],[Today]],tblChallenges[[#This Row],[50 years]],tblChallenges[[#This Row],[100 years]]),tblConcordanceBE[[Joined]:[Priority]],2,FALSE),\"\")","v":"Urgent"},"With population forecasts in the catchment expected to increase over the next 30 years, and land use changes forecast, congestion can be expected to increase. \nCVL supporting documentation also shows a steep increase in congestion along the Esplanade. ","Statistics NZ population forecasts.\nCross Valley Link Strategic Case"]
[null,"Systemic_Stresses","Interdependencies with other assets (operation or maintenance)","Low","Medium","Medium",{"$f":"IFERROR(VLOOKUP(CONCATENATE(tblChallenges[[#This Row],[Today]],tblChallenges[[#This Row],[50 years]],tblChallenges[[#This Row],[100 years]]),tblConcordanceBE[[Joined]:[Priority]],2,FALSE),\"\")","v":"Medium"},"Interdependencies with other assets aren't expected to cause disproportionate disruption to Petone Esplanade or Waione St bridge.","N/A\nOil truck spills and gas line ruptures can be envisaged. "]
[null,"Systemic_Stresses","Less than optimal maintenance (capability or capacity)","Low","Low","Low",{"$f":"IFERROR(VLOOKUP(CONCATENATE(tblChallenges[[#This Row],[Today]],tblChallenges[[#This Row],[50 years]],tblChallenges[[#This Row],[100 years]]),tblConcordanceBE[[Joined]:[Priority]],2,FALSE),\"\")","v":"Low"}]

{"sheet":"4-Controls","index":6,"n_rows":35,"n_cols":10,"rows_kept":35,"cut":false,"hidden":false,"merged":[[2,1,2,6]]}
[]
[null,"Step 4: Controls"]
[null,"1. Reset the worksheet by selecting the \"Clear Challenge Controls\" button.\n2. Select the \"Setup Challenge Controls\" button.  Challenges identified as Urgent, High and Medium Priority in Step 3 will auto-populate. \n3. Hide any Challenges that are not applicable using the checkboxes in Column A (note that these can be retrieved by selecting the “Show Hidden Challenges\" button).\n4. Select generic control options for each Challenge from the dropdown list.  Add additional rows as needed using the \"Add Control\" button to the right of each Challenge.\n5. Select a secondary generic control option for each control from the dropdown list (if applicable).\n6. Provide a short name to identify each control (e.g. seawall, maintenance contract).\n7. Develop detailed controls for the urgent, high and medium priority challenges.\n8. Record any Interdependencies or Enablers associated with the successful delivery or implementation of each control.\n9. Record if these are Current (included in business case, detailed design, existing) or potential Future controls.\n10. Select if controls should be carried through to the decision-support heatmap (note that you can select / deselect as needed as decisioning progresses).\n* indicates a mandatory field\n"]
[]
["Hide Challenge","Select a primary control type from the drop down list*","Select a secondary control type from the drop down list if applicable","Provide a short name for each control to be used in the heatmap (free text)*","Provide details of your control or link to another document (free text)","Detail interdependencies or enablers linked to the implementation of your control (free text)","Indicate if this is an existing or potential future control*","Select the controls to be carried though to the heatmap*",null,"Select to add a new control to the Challenge"]
[]
[]
[null,"Challenge: Flooding","Priority: Urgent"]
[null,"Primary Generic Control","Secondary Generic Control","Control Name","Detailed Control","Interdependencies and Enablers","Current/Future","Carry through to Heatmap"]
[null,"Robustness through Civil Engineering",null,"Stop banks","Construction of heightened stopbanks on the Hutt River. ","GWRC ability to fund development. ","Current","N"]
[null,"Redundancy through Civil Engineering",null,"Cross Valley Link","2 lanes (1 lane in each direction) link from the intersection of Hutt Road and Wakefield Street along Wakefield Street to the Cuba Street overbridge then parallel to the rail line. The link would then cross the Hutt  river on a newly constructed bridge and then continue to follow the rail line to a connection with Whites Line East.","The progression of CVL is likely to be heavily dependent on P2G.","Future","N"]
[]
[null,"Challenge: Winter storms: snow, ice, hail ","Priority: Urgent"]
[null,"Primary Generic Control","Secondary Generic Control","Control Name","Detailed Control","Interdependencies and Enablers","Current/Future","Carry through to Heatmap"]
[null,"Recovery through Processes",null,"Recovery contracts","Developing 'rapid-response' plans with contractors to remove snow/ice/hail quickly",null,"Current","Y"]
[null,"Governance through Information Technology","Recovery through People","Communication around working from home","Send a text message to all ratepayers in the Hutt Valley encouraging them to work from home when the roads are deemed inoperable from snow and ice.","IT service providers to be accommodating. ","Future","Y"]
[]
[null,"Challenge: Congestion","Priority: Urgent"]
[null,"Primary Generic Control","Secondary Generic Control","Control Name","Detailed Control","Interdependencies and Enablers","Current/Future","Carry through to Heatmap"]
[null,"Robustness through Civil Engineering",null,"Capacity improvements","Capacity imporvements along the Esplanade",null,"Current","Y"]
[null,"Governance through People","Robustness through Processes","Land use change","Stricter development controls on industrial land, and medium/high density residential in Eastbourne, Petone and Wainuiomata. ","Ability to influence District Plan processes.\nAbility to convince Wellington that it is apporpriate to have a) decrease industrial land in Seaview and b) decreased residential requirements in Petone, Eastbourne and Wainuiomata.","Future","Y"]
[null,"Redundancy through Civil Engineering",null,"Cross Valley Link","2 lanes (1 lane in each direction) link from the intersection of Hutt Road and Wakefield Street along Wakefield Street to the Cuba Street overbridge then parallel to the rail line. The link would then cross the Hutt  river on a newly constructed bridge and then continue to follow the rail line to a connection with Whites Line East.","The progression of CVL is likely to be heavily dependent on P2G.","Future","Y"]
[]
[null,"Challenge: Earthquake: liquefaction, tsunami, landslide, sinkholes","Priority: High"]
[null,"Primary Generic Control","Secondary Generic Control","Control Name","Detailed Control","Interdependencies and Enablers","Current/Future","Carry through to Heatmap"]
[null,"Redundancy through Civil Engineering",null,"Barge Landing","Develop a barge landing point to enable freight to be shipped in the case of an emergency.","Finding a suitable location. Funding an option of this nature. ","Future","Y"]
[null,"Recovery through Processes",null,"Recovery contracts","Developing 'rapid-response' plans with contractors to remove snow/ice/hail quickly","Capacity of local contrators. ","Current","Y"]
[]
[null,"Challenge: Landslide ","Priority: Medium"]
[null,"Primary Generic Control","Secondary Generic Control","Control Name","Detailed Control","Interdependencies and Enablers","Current/Future","Carry through to Heatmap"]
[null,null,null,null,null,null,null,"N"]
[]
[null,"Challenge: Interdependencies with other assets (operation or maintenance)","Priority: Medium"]
[null,"Primary Generic Control","Secondary Generic Control","Control Name","Detailed Control","Interdependencies and Enablers","Current/Future","Carry through to Heatmap"]
[null,null,null,null,null,null,null,"N"]

{"sheet":"5-Heatmap","index":7,"n_rows":19,"n_cols":125,"rows_kept":19,"cut":false,"hidden":false,"merged":[[8,21,9,21],[2,1,2,11],[8,11,8,14],[8,15,8,18],[8,19,9,19],[8,20,9,20]]}
[]
[null,"Step 5: Heatmap"]
[null,"1. Select the \"Clear Heatmap\" button.\n2. Select the \"Create Heatmap\" button.  Review the Challenges and Controls carried through from Step 4 in the context of the Impact Assessment in Step 2.  Do the controls protect or create resilience for the critical functions identified?  Amend the list of possible Challenges and Controls by amending Steps 3 and 4 as needed.  Refresh the heatmap.\n3. Indicate the level of resilience each existing and potential future control provides.\n4. Indicate the broader environmental, social, cultural and economic value or benefits which are a result of the existing or proposed control.  See Indirect Benefits tab for definitions of Low, Medium and High indirect value.\n5. Indicate the indirect environmental, social, cultural and economic costs which are a result of the existing or proposed control.  See Indirect Costs tab for definitions of Low, Medium and High indirect costs.\n6. Use the check boxes in column A to remove or return an option to the assessment.\n7. Review the overall resilience to each challenge.  Add additional controls by amending Step 4 as needed. \n\nNOTE: the heatmap will clear all inputs if refreshed.  Therefore take a screenshot if you need to add a control if you have begun your evaluation."]
[]
[null,null,null,null,null,null,null,"Click to view"]
[]
[]
[]
[null,{"$f":"TODAY()","v":"2017-04-27"},null,null,null,"Challenge","Challenge","Challenge","Challenge","Challenge","Challenge","Indirect Costs of Control",null,null,null,"Indirect Benefits of Control",null,null,null,"Total","Cost of control","Source"]
[null,null,"Control","Primary Characteristic","Secondary Characteristic","Flooding","Winter storms: snow, ice, hail ","Congestion","Earthquake: liquefaction, tsunami, landslide, sinkholes","Landslide ","Interdependencies with other assets (operation or maintenance)","Environment","Social","Cultural","Economic","Environment","Social","Cultural","Economic"]
[true,"Current","Stop banks","Robustness through Civil Engineering",null,"H","L","L","L","L","M","M","L","L","L","M","M","L","M",{"$f":"SUM(DH11:DU11)","v":27},"20m","Estimate",null,null,null,null,null,null,null,null,null,null,null,null,null,null,null,null,null,null,null,null,null,null,null,null,null,null,null,null,null,null,null,null,null,null,null,null,null,null,null,null,null,null,null,null,null,null,null,null,null,null,null,null,null,null,null,null,null,null,null,null,null,null,null,null,null,null,null,null,null,null,null,null,null,null,null,null,null,null,null,null,null,null,null,null,null,null,null,null,null,{"$f":"IF(A11 = TRUE,IF(F11 = \"L\", 1, IF(F11 = \"M\", 2, IF(F11 = \"H\",3,0))),0)","v":3},{"$f":"IF(A11 = TRUE,IF(G11 = \"L\", 1, IF(G11 = \"M\", 2, IF(G11 = \"H\",3,0))),0)","v":1},{"$f":"IF(A11 = TRUE,IF(H11 = \"L\", 1, IF(H11 = \"M\", 2, IF(H11 = \"H\",3,0))),0)","v":1},{"$f":"IF(A11 = TRUE,IF(I11 = \"L\", 1, IF(I11 = \"M\", 2, IF(I11 = \"H\",3,0))),0)","v":1},{"$f":"IF(A11 = TRUE,IF(J11 = \"L\", 1, IF(J11 = \"M\", 2, IF(J11 = \"H\",3,0))),0)","v":1},{"$f":"IF(A11 = TRUE,IF(K11 = \"L\", 1, IF(K11 = \"M\", 2, IF(K11 = \"H\",3,0))),0)","v":2},{"$f":"IF(A11,IF(L11 = \"L\", 3, IF(L11 = \"M\", 2, IF(L11 = \"H\",1,0))),0)","v":2},{"$f":"IF(A11,IF(M11 = \"L\", 3, IF(M11 = \"M\", 2, IF(M11 = \"H\",1,0))),0)","v":3},{"$f":"IF(A11,IF(N11 = \"L\", 3, IF(N11 = \"M\", 2, IF(N11 = \"H\",1,0))),0)","v":3},{"$f":"IF(A11,IF(O11 = \"L\", 3, IF(O11 = \"M\", 2, IF(O11 = \"H\",1,0))),0)","v":3},{"$f":"IF(A11,IF(P11 = \"L\", 1, IF(P11 = \"M\", 2, IF(P11 = \"H\",3,0))),0)","v":2},{"$f":"IF(A11,IF(Q11 = \"L\", 1, IF(Q11 = \"M\", 2, IF(Q11 = \"H\",3,0))),0)","v":2},{"$f":"IF(A11,IF(R11 = \"L\", 1, IF(R11 = \"M\", 2, IF(R11 = \"H\",3,0))),0)","v":1},{"$f":"IF(A11,IF(S11 = \"L\", 1, IF(S11 = \"M\", 2, IF(S11 = \"H\",3,0))),0)","v":2}]
[true,"Current","Recovery contracts","Recovery through Processes",null,"M","L","L","L","L","L","L","L","L","L","L","L","L","L",23,"$1m","Estimate",null,null,null,null,null,null,null,null,null,null,null,null,null,null,null,null,null,null,null,null,null,null,null,null,null,null,null,null,null,null,null,null,null,null,null,null,null,null,null,null,null,null,null,null,null,null,null,null,null,null,null,null,null,null,null,null,null,null,null,null,null,null,null,null,null,null,null,null,null,null,null,null,null,null,null,null,null,null,null,null,null,null,null,null,null,null,null,null,null,{"$f":"IF(A12 = TRUE,IF(F12 = \"L\", 1, IF(F12 = \"M\", 2, IF(F12 = \"H\",3,0))),0)","v":2},{"$f":"IF(A12 = TRUE,IF(G12 = \"L\", 1, IF(G12 = \"M\", 2, IF(G12 = \"H\",3,0))),0)","v":1},{"$f":"IF(A12 = TRUE,IF(H12 = \"L\", 1, IF(H12 = \"M\", 2, IF(H12 = \"H\",3,0))),0)","v":1},{"$f":"IF(A12 = TRUE,IF(I12 = \"L\", 1, IF(I12 = \"M\", 2, IF(I12 = \"H\",3,0))),0)","v":1},{"$f":"IF(A12 = TRUE,IF(J12 = \"L\", 1, IF(J12 = \"M\", 2, IF(J12 = \"H\",3,0))),0)","v":1},{"$f":"IF(A12 = TRUE,IF(K12 = \"L\", 1, IF(K12 = \"M\", 2, IF(K12 = \"H\",3,0))),0)","v":1},3,3,3,3,{"$f":"IF(A12,IF(P12 = \"L\", 1, IF(P12 = \"M\", 2, IF(P12 = \"H\",3,0))),0)","v":1},{"$f":"IF(A12,IF(Q12 = \"L\", 1, IF(Q12 = \"M\", 2, IF(Q12 = \"H\",3,0))),0)","v":1},{"$f":"IF(A12,IF(R12 = \"L\", 1, IF(R12 = \"M\", 2, IF(R12 = \"H\",3,0))),0)","v":1},{"$f":"IF(A12,IF(S12 = \"L\", 1, IF(S12 = \"M\", 2, IF(S12 = \"H\",3,0))),0)","v":1}]
[true,"Current","Capacity improvements","Robustness through Civil Engineering",null,"L","H","L","L","L","M","M","M","M","M","L","L","L","M",22,"$20-90m","SH2 Ngauranga - Te Marua PBC",null,null,null,null,null,null,null,null,null,null,null,null,null,null,null,null,null,null,null,null,null,null,null,null,null,null,null,null,null,null,null,null,null,null,null,null,null,null,null,null,null,null,null,null,null,null,null,null,null,null,null,null,null,null,null,null,null,null,null,null,null,null,null,null,null,null,null,null,null,null,null,null,null,null,null,null,null,null,null,null,null,null,null,null,null,null,null,null,null,{"$f":"IF(A13 = TRUE,IF(F13 = \"L\", 1, IF(F13 = \"M\", 2, IF(F13 = \"H\",3,0))),0)","v":1},{"$f":"IF(A13 = TRUE,IF(G13 = \"L\", 1, IF(G13 = \"M\", 2, IF(G13 = \"H\",3,0))),0)","v":3},{"$f":"IF(A13 = TRUE,IF(H13 = \"L\", 1, IF(H13 = \"M\", 2, IF(H13 = \"H\",3,0))),0)","v":1},{"$f":"IF(A13 = TRUE,IF(I13 = \"L\", 1, IF(I13 = \"M\", 2, IF(I13 = \"H\",3,0))),0)","v":1},{"$f":"IF(A13 = TRUE,IF(J13 = \"L\", 1, IF(J13 = \"M\", 2, IF(J13 = \"H\",3,0))),0)","v":1},{"$f":"IF(A13 = TRUE,IF(K13 = \"L\", 1, IF(K13 = \"M\", 2, IF(K13 = \"H\",3,0))),0)","v":2},2,2,2,2,{"$f":"IF(A13,IF(P13 = \"L\", 1, IF(P13 = \"M\", 2, IF(P13 = \"H\",3,0))),0)","v":1},{"$f":"IF(A13,IF(Q13 = \"L\", 1, IF(Q13 = \"M\", 2, IF(Q13 = \"H\",3,0))),0)","v":1},{"$f":"IF(A13,IF(R13 = \"L\", 1, IF(R13 = \"M\", 2, IF(R13 = \"H\",3,0))),0)","v":1},{"$f":"IF(A13,IF(S13 = \"L\", 1, IF(S13 = \"M\", 2, IF(S13 = \"H\",3,0))),0)","v":2}]
[true,"Current","Recovery contracts","Recovery through Processes",null,"L","L","L","M","M","L","L","L","L","L","L","L","L","L",24,"$3m","Estimate",null,null,null,null,null,null,null,null,null,null,null,null,null,null,null,null,null,null,null,null,null,null,null,null,null,null,null,null,null,null,null,null,null,null,null,null,null,null,null,null,null,null,null,null,null,null,null,null,null,null,null,null,null,null,null,null,null,null,null,null,null,null,null,null,null,null,null,null,null,null,null,null,null,null,null,null,null,null,null,null,null,null,null,null,null,null,null,null,null,{"$f":"IF(A14 = TRUE,IF(F14 = \"L\", 1, IF(F14 = \"M\", 2, IF(F14 = \"H\",3,0))),0)","v":1},{"$f":"IF(A14 = TRUE,IF(G14 = \"L\", 1, IF(G14 = \"M\", 2, IF(G14 = \"H\",3,0))),0)","v":1},{"$f":"IF(A14 = TRUE,IF(H14 = \"L\", 1, IF(H14 = \"M\", 2, IF(H14 = \"H\",3,0))),0)","v":1},{"$f":"IF(A14 = TRUE,IF(I14 = \"L\", 1, IF(I14 = \"M\", 2, IF(I14 = \"H\",3,0))),0)","v":2},{"$f":"IF(A14 = TRUE,IF(J14 = \"L\", 1, IF(J14 = \"M\", 2, IF(J14 = \"H\",3,0))),0)","v":2},{"$f":"IF(A14 = TRUE,IF(K14 = \"L\", 1, IF(K14 = \"M\", 2, IF(K14 = \"H\",3,0))),0)","v":1},3,3,3,3,{"$f":"IF(A14,IF(P14 = \"L\", 1, IF(P14 = \"M\", 2, IF(P14 = \"H\",3,0))),0)","v":1},{"$f":"IF(A14,IF(Q14 = \"L\", 1, IF(Q14 = \"M\", 2, IF(Q14 = \"H\",3,0))),0)","v":1},{"$f":"IF(A14,IF(R14 = \"L\", 1, IF(R14 = \"M\", 2, IF(R14 = \"H\",3,0))),0)","v":1},{"$f":"IF(A14,IF(S14 = \"L\", 1, IF(S14 = \"M\", 2, IF(S14 = \"H\",3,0))),0)","v":1}]
[true,"Future","Communication around working from home","Governance through Information\n Technology","Recovery through People","H","L","H","L","L","L","L","L","L","L","L","M","L","M",28,"$1m","Estimate",null,null,null,null,null,null,null,null,null,null,null,null,null,null,null,null,null,null,null,null,null,null,null,null,null,null,null,null,null,null,null,null,null,null,null,null,null,null,null,null,null,null,null,null,null,null,null,null,null,null,null,null,null,null,null,null,null,null,null,null,null,null,null,null,null,null,null,null,null,null,null,null,null,null,null,null,null,null,null,null,null,null,null,null,null,null,null,null,null,{"$f":"IF(A15,IF(F15 = \"L\", 1, IF(F15 = \"M\", 2, IF(F15 = \"H\",3,0))),0)","v":3},{"$f":"IF(A15,IF(G15 = \"L\", 1, IF(G15 = \"M\", 2, IF(G15 = \"H\",3,0))),0)","v":1},{"$f":"IF(A15,IF(H15 = \"L\", 1, IF(H15 = \"M\", 2, IF(H15 = \"H\",3,0))),0)","v":3},{"$f":"IF(A15,IF(I15 = \"L\", 1, IF(I15 = \"M\", 2, IF(I15 = \"H\",3,0))),0)","v":1},{"$f":"IF(A15,IF(J15 = \"L\", 1, IF(J15 = \"M\", 2, IF(J15 = \"H\",3,0))),0)","v":1},{"$f":"IF(A15,IF(K15 = \"L\", 1, IF(K15 = \"M\", 2, IF(K15 = \"H\",3,0))),0)","v":1},3,3,3,3,{"$f":"IF(A15, IF(P15 = \"L\", 1, IF(P15 = \"M\", 2, IF(P15 = \"H\",3,0))),0)","v":1},{"$f":"IF(A15, IF(Q15 = \"L\", 1, IF(Q15 = \"M\", 2, IF(Q15 = \"H\",3,0))),0)","v":2},{"$f":"IF(A15, IF(R15 = \"L\", 1, IF(R15 = \"M\", 2, IF(R15 = \"H\",3,0))),0)","v":1},{"$f":"IF(A15, IF(S15 = \"L\", 1, IF(S15 = \"M\", 2, IF(S15 = \"H\",3,0))),0)","v":2}]
[false,"Future","Land use change","Governance through People","Robustness through Processes","L","M","L","L","L","L","M","M","M","M","L","L","L","L",0,"$1m","Estimate",null,null,null,null,null,null,null,null,null,null,null,null,null,null,null,null,null,null,null,null,null,null,null,null,null,null,null,null,null,null,null,null,null,null,null,null,null,null,null,null,null,null,null,null,null,null,null,null,null,null,null,null,null,null,null,null,null,null,null,null,null,null,null,null,null,null,null,null,null,null,null,null,null,null,null,null,null,null,null,null,null,null,null,null,null,null,null,null,null,{"$f":"IF(A16,IF(F16 = \"L\", 1, IF(F16 = \"M\", 2, IF(F16 = \"H\",3,0))),0)","v":0},{"$f":"IF(A16,IF(G16 = \"L\", 1, IF(G16 = \"M\", 2, IF(G16 = \"H\",3,0))),0)","v":0},{"$f":"IF(A16,IF(H16 = \"L\", 1, IF(H16 = \"M\", 2, IF(H16 = \"H\",3,0))),0)","v":0},{"$f":"IF(A16,IF(I16 = \"L\", 1, IF(I16 = \"M\", 2, IF(I16 = \"H\",3,0))),0)","v":0},{"$f":"IF(A16,IF(J16 = \"L\", 1, IF(J16 = \"M\", 2, IF(J16 = \"H\",3,0))),0)","v":0},{"$f":"IF(A16,IF(K16 = \"L\", 1, IF(K16 = \"M\", 2, IF(K16 = \"H\",3,0))),0)","v":0},0,0,0,0,{"$f":"IF(A16, IF(P16 = \"L\", 1, IF(P16 = \"M\", 2, IF(P16 = \"H\",3,0))),0)","v":0},{"$f":"IF(A16, IF(Q16 = \"L\", 1, IF(Q16 = \"M\", 2, IF(Q16 = \"H\",3,0))),0)","v":0},{"$f":"IF(A16, IF(R16 = \"L\", 1, IF(R16 = \"M\", 2, IF(R16 = \"H\",3,0))),0)","v":0},{"$f":"IF(A16, IF(S16 = \"L\", 1, IF(S16 = \"M\", 2, IF(S16 = \"H\",3,0))),0)","v":0}]
[true,"Future","Cross Valley Link","Redundancy through Civil Engineering",null,"M","H","L","M","L","M","M","H","M","L","L","H","M","M",27,"$70m","CVL Strategic Case",null,null,null,null,null,null,null,null,null,null,null,null,null,null,null,null,null,null,null,null,null,null,null,null,null,null,null,null,null,null,null,null,null,null,null,null,null,null,null,null,null,null,null,null,null,null,null,null,null,null,null,null,null,null,null,null,null,null,null,null,null,null,null,null,null,null,null,null,null,null,null,null,null,null,null,null,null,null,null,null,null,null,null,null,null,null,null,null,null,{"$f":"IF(A17,IF(F17 = \"L\", 1, IF(F17 = \"M\", 2, IF(F17 = \"H\",3,0))),0)","v":2},{"$f":"IF(A17,IF(G17 = \"L\", 1, IF(G17 = \"M\", 2, IF(G17 = \"H\",3,0))),0)","v":3},{"$f":"IF(A17,IF(H17 = \"L\", 1, IF(H17 = \"M\", 2, IF(H17 = \"H\",3,0))),0)","v":1},{"$f":"IF(A17,IF(I17 = \"L\", 1, IF(I17 = \"M\", 2, IF(I17 = \"H\",3,0))),0)","v":2},{"$f":"IF(A17,IF(J17 = \"L\", 1, IF(J17 = \"M\", 2, IF(J17 = \"H\",3,0))),0)","v":1},{"$f":"IF(A17,IF(K17 = \"L\", 1, IF(K17 = \"M\", 2, IF(K17 = \"H\",3,0))),0)","v":2},2,1,2,3,{"$f":"IF(A17, IF(P17 = \"L\", 1, IF(P17 = \"M\", 2, IF(P17 = \"H\",3,0))),0)","v":1},{"$f":"IF(A17, IF(Q17 = \"L\", 1, IF(Q17 = \"M\", 2, IF(Q17 = \"H\",3,0))),0)","v":3},{"$f":"IF(A17, IF(R17 = \"L\", 1, IF(R17 = \"M\", 2, IF(R17 = \"H\",3,0))),0)","v":2},{"$f":"IF(A17, IF(S17 = \"L\", 1, IF(S17 = \"M\", 2, IF(S17 = \"H\",3,0))),0)","v":2}]
[false,"Future","Barge Landing","Redundancy through Civil Engineering",null,"M","L","L","M","M","M","H","L","M","L","L","L","L","M",0,"$100m","Estimate",null,null,null,null,null,null,null,null,null,null,null,null,null,null,null,null,null,null,null,null,null,null,null,null,null,null,null,null,null,null,null,null,null,null,null,null,null,null,null,null,null,null,null,null,null,null,null,null,null,null,null,null,null,null,null,null,null,null,null,null,null,null,null,null,null,null,null,null,null,null,null,null,null,null,null,null,null,null,null,null,null,null,null,null,null,null,null,null,null,{"$f":"IF(A18,IF(F18 = \"L\", 1, IF(F18 = \"M\", 2, IF(F18 = \"H\",3,0))),0)","v":0},{"$f":"IF(A18,IF(G18 = \"L\", 1, IF(G18 = \"M\", 2, IF(G18 = \"H\",3,0))),0)","v":0},{"$f":"IF(A18,IF(H18 = \"L\", 1, IF(H18 = \"M\", 2, IF(H18 = \"H\",3,0))),0)","v":0},{"$f":"IF(A18,IF(I18 = \"L\", 1, IF(I18 = \"M\", 2, IF(I18 = \"H\",3,0))),0)","v":0},{"$f":"IF(A18,IF(J18 = \"L\", 1, IF(J18 = \"M\", 2, IF(J18 = \"H\",3,0))),0)","v":0},{"$f":"IF(A18,IF(K18 = \"L\", 1, IF(K18 = \"M\", 2, IF(K18 = \"H\",3,0))),0)","v":0},0,0,0,0,{"$f":"IF(A18, IF(P18 = \"L\", 1, IF(P18 = \"M\", 2, IF(P18 = \"H\",3,0))),0)","v":0},{"$f":"IF(A18, IF(Q18 = \"L\", 1, IF(Q18 = \"M\", 2, IF(Q18 = \"H\",3,0))),0)","v":0},{"$f":"IF(A18, IF(R18 = \"L\", 1, IF(R18 = \"M\", 2, IF(R18 = \"H\",3,0))),0)","v":0},{"$f":"IF(A18, IF(S18 = \"L\", 1, IF(S18 = \"M\", 2, IF(S18 = \"H\",3,0))),0)","v":0}]
[null,null,null,null,"Existing Resilience Score",{"$f":"SUM(DH11:DH18)","v":12},10,8,8,7,9]

{"sheet":"6-Summary","index":8,"n_rows":47,"n_cols":2,"rows_kept":47,"cut":false,"hidden":false,"merged":[]}
[]
[null,"Step 6: Summary\n"]
[null,"1. Complete the following checklist to ensure that you are ready to provide recommendations.\n2. Copy and paste the key figures generated in Step 2.\n3. Copy and paste a picture of the completed heatmap from Step 5.\n4. Review the mix of resilience measures proposed.\n5. Provide an appropriate summary of each of the recommended controls."]
[]
[null,"Checklist"]
[null,"Reviewed preferred controls in the context of the critical functions identified in Step 1"]
[null,"Reviewed preferred controls in the context of the recovery time objectives identified in Step 2"]
[null,"Reviewed the overall resilience provided by the recommended mix of resilience measures in the context of the Challenges identified in Step 3?"]
[]
[]
[null,"Executive Summary"]
[null,{"$f":"\"Asset: \"&'1-Services & Function'!C30","v":"Asset: Petone Esplanade + Waione St bridge"}]
[null,"Critical Function(s): The Petone Esplanade can be considered to concurrently link the Hutt Valley/freight to other parts of the region and impede community access to the waterfront. Crucially it serves the Wellington region with bulk liquid fuel supplies. "]
[null,"Overall Recovery Time Objective: 24 hours at 50%"]
[null,"Key Challenges: Winter Storms, Congestion, Flooding"]
[null,"Key Resilience Recommendations: \nExplore additional ex-ante recovery contracts to ensure that when events do occur, that they can be repaired quickly. \nExplore communication tools to encourage people to work from home during emergencies. \nExplore CVL further."]
[]
[]
[]
[]
[]
[]
[]
[]
[null,"Critical Functions and Recovery Time Objectives"]
[]
[null,"Copy and paste the key figures generated in Step 2 and include an appropriate justification of each of the recovery time objectives."]
[]
[null,"Heatmap"]
[]
[null,"Copy and paste the heatmap generated in Step 5 and review the resilience, costs and benefits associated with each option."]
[]
[null,"Resilience Measures"]
[]
[null,"Review the mix of resilience measures provided by your proposed actions."]
[]
[null,"Recommended Resilience Measures"]
[]
[null,"The Heatmap shows that the following two new measures score the highest on the total resilience score."]
[null,"Explore communication tools to encourage people to work from home during emergencies. "]
[null,"Explore CVL further."]
[]
[null,"These controils don't materially help mitigate against particular challenges the asset is exposed to (namely, Earthquakes, Tsunami's and Landslides) . "]
[]
[null,"Accordingly, attention should be paid to investigating further ex-ante recovery contracts to ensure that when events do occur they can be repaired quickly as these have been shown to have high value for money under current conditions. "]
[]
[null,"Higher cost options such as a barge landing and CVL require considerably more investigatoin if they are to be justified on resilience grounds alone. "]

{"sheet":"Backend","index":9,"n_rows":84,"n_cols":21,"rows_kept":84,"cut":false,"hidden":true,"merged":[[11,7,11,11],[24,15,26,15],[28,15,29,15]]}
[]
[null,"Challenges",null,"Yes/No",null,"Likelihood",null,"Priority",null,"Option Timing",null,"Heat Map ",null,"Impact Assessment",null,"Natural_Shocks","Natural_Stresses","Systemic_Stresses","Systemic_Shocks"]
[null,"See far right",null,"Y",null,"Rare",null,"Low",null,"Current",null,"L",null,"VL",null,"Earthquake: liquefaction, tsunami, landslide, sinkholes","Extreme low temperatures","Congestion","Disruption of supply chain (materials)"]
[null,null,null,"N",null,"Low",null,"Medium",null,"Future",null,"M",null,"L",null,"Volcano: ash fall, lava flows, lahar","Extreme high temperatures","Difficult to maintain (location or technology)","Disruption of supply chain (people)"]
[null,null,null,null,null,"Medium",null,"High",null,null,null,"H",null,"M",null,"Bush / scrub fire","Winter storms: snow, ice, hail ","Frequent accidents (alignment / driver behaviour / usage)","Terrorism"]
[null,null,null,null,null,"High",null,"Urgent",null,null,null,null,null,"H",null,"Coastal storms: inundation, overtopping",null,"Interdependencies with other assets (operation or maintenance)"]
[null,null,null,null,null,"Very High",null,null,null,null,null,null,null,"VH",null,"Erosion",null,"Less than optimal maintenance (capability or capacity)"]
[null,null,null,null,null,null,null,null,null,null,null,null,null,null,null,"Flooding"]
[null,null,null,null,null,null,null,null,null,null,null,null,null,null,null,"High winds"]
[null,null,null,null,null,null,null,null,null,null,null,null,null,null,null,"Landslide "]
[null,null,null,null,null,null,null,null,null,null,null,null,null,null,null,"Liquefaction"]
[null,null,null,"Resilience Characteristic","Solution Type","Generic Control",null,"Concordance Matrix",null,null,null,null,null,null,null,"Rockfall"]
[null,null,null,"Robustness","Civil Engineering",{"$f":"CONCATENATE(D13,\" through \",E13)","v":"Robustness through Civil Engineering"},null,"Today","50 years","100 years","Joined","Priority",null,null,null,"Sinkholes"]
[null,null,null,"Robustness","Information Technology",{"$f":"CONCATENATE(D14,\" through \",E14)","v":"Robustness through Information Technology"},null,"Rare","Rare","Rare",{"$f":"CONCATENATE(tblConcordanceBE[[#This Row],[Today]],tblConcordanceBE[[#This Row],[50 years]],tblConcordanceBE[[#This Row],[100 years]])","v":"RareRareRare"},"Low",null,null,null,"Tsunami"]
[null,null,null,"Robustness","Processes","Robustness through Processes",null,"Rare","Rare","Low",{"$f":"CONCATENATE(tblConcordanceBE[[#This Row],[Today]],tblConcordanceBE[[#This Row],[50 years]],tblConcordanceBE[[#This Row],[100 years]])","v":"RareRareLow"},"Low"]
[null,null,null,"Robustness","People","Robustness through People",null,"Rare","Low","Low",{"$f":"CONCATENATE(tblConcordanceBE[[#This Row],[Today]],tblConcordanceBE[[#This Row],[50 years]],tblConcordanceBE[[#This Row],[100 years]])","v":"RareLowLow"},"Low"]
[null,null,null,"Redundancy","Civil Engineering","Redundancy through Civil Engineering",null,"Low","Low","Low",{"$f":"CONCATENATE(tblConcordanceBE[[#This Row],[Today]],tblConcordanceBE[[#This Row],[50 years]],tblConcordanceBE[[#This Row],[100 years]])","v":"LowLowLow"},"Low"]
[null,null,null,"Redundancy","Information Technology","Redundancy through Information Technology",null,"Low","Low","Medium",{"$f":"CONCATENATE(tblConcordanceBE[[#This Row],[Today]],tblConcordanceBE[[#This Row],[50 years]],tblConcordanceBE[[#This Row],[100 years]])","v":"LowLowMedium"},"Medium"]
[null,null,null,"Redundancy","Processes","Redundancy through Processes",null,"Low","Medium","Medium",{"$f":"CONCATENATE(tblConcordanceBE[[#This Row],[Today]],tblConcordanceBE[[#This Row],[50 years]],tblConcordanceBE[[#This Row],[100 years]])","v":"LowMediumMedium"},"Medium"]
[null,null,null,"Redundancy","People","Redundancy through People",null,"Medium","Medium","Medium",{"$f":"CONCATENATE(tblConcordanceBE[[#This Row],[Today]],tblConcordanceBE[[#This Row],[50 years]],tblConcordanceBE[[#This Row],[100 years]])","v":"MediumMediumMedium"},"Medium"]
[null,null,null,"Recovery","Civil Engineering","Recovery through Civil Engineering",null,"Medium","Medium","High",{"$f":"CONCATENATE(tblConcordanceBE[[#This Row],[Today]],tblConcordanceBE[[#This Row],[50 years]],tblConcordanceBE[[#This Row],[100 years]])","v":"MediumMediumHigh"},"Medium"]
[null,null,null,"Recovery","Information Technology","Recovery through Information Technology",null,"Medium","High","High",{"$f":"CONCATENATE(tblConcordanceBE[[#This Row],[Today]],tblConcordanceBE[[#This Row],[50 years]],tblConcordanceBE[[#This Row],[100 years]])","v":"MediumHighHigh"},"High"]
[null,null,null,"Recovery","Processes","Recovery through Processes",null,"High","High","High",{"$f":"CONCATENATE(tblConcordanceBE[[#This Row],[Today]],tblConcordanceBE[[#This Row],[50 years]],tblConcordanceBE[[#This Row],[100 years]])","v":"HighHighHigh"},"High"]
[null,null,null,"Recovery","People","Recovery through People",null,"High","High","Very High",{"$f":"CONCATENATE(tblConcordanceBE[[#This Row],[Today]],tblConcordanceBE[[#This Row],[50 years]],tblConcordanceBE[[#This Row],[100 years]])","v":"HighHighVery High"},"High"]
[null,null,null,"Governance","Civil Engineering","Governance through Civil Engineering",null,"High","Very High","Very High",{"$f":"CONCATENATE(tblConcordanceBE[[#This Row],[Today]],tblConcordanceBE[[#This Row],[50 years]],tblConcordanceBE[[#This Row],[100 years]])","v":"HighVery HighVery High"},"Urgent",null,null,null,"Challenge Likelihood","Rare","Low","Medium ","High","Very High"]
[null,null,null,"Governance","Information Technology","Governance through Information Technology",null,"Very High","Very High","Very High",{"$f":"CONCATENATE(tblConcordanceBE[[#This Row],[Today]],tblConcordanceBE[[#This Row],[50 years]],tblConcordanceBE[[#This Row],[100 years]])","v":"Very HighVery HighVery High"},"Urgent",null,null,null,null,"Challenge may occur in exceptional circumstances","Challenge may occur in the next 10-30 years","Challenge may occur in the next 3-10 years","Challenge may occur in the next 1-3 years","Challenge can be expected in the next 12 months"]
[null,null,null,"Governance","Processes","Governance through Processes",null,"Very High","Very High","High",{"$f":"CONCATENATE(tblConcordanceBE[[#This Row],[Today]],tblConcordanceBE[[#This Row],[50 years]],tblConcordanceBE[[#This Row],[100 years]])","v":"Very HighVery HighHigh"},"Urgent",null,null,null,null,"<1%","1-9%","10-19%","20-50%",">50%"]
[null,null,null,"Governance","People","Governance through People",null,"Very High","High","High",{"$f":"CONCATENATE(tblConcordanceBE[[#This Row],[Today]],tblConcordanceBE[[#This Row],[50 years]],tblConcordanceBE[[#This Row],[100 years]])","v":"Very HighHighHigh"},"Urgent"]
[null,null,null,null,null,null,null,"High","High","Medium",{"$f":"CONCATENATE(tblConcordanceBE[[#This Row],[Today]],tblConcordanceBE[[#This Row],[50 years]],tblConcordanceBE[[#This Row],[100 years]])","v":"HighHighMedium"},"High",null,null,null,"Challenge Priority","Low ","Moderate ","High ","Urgent"]
[null,null,null,"Spider Chart from Heatmap",null,null,null,"High","Medium","Medium",{"$f":"CONCATENATE(tblConcordanceBE[[#This Row],[Today]],tblConcordanceBE[[#This Row],[50 years]],tblConcordanceBE[[#This Row],[100 years]])","v":"HighMediumMedium"},"High",null,null,null,null,"Challenge is not a priority for control measures","Challenge requires monitoring and potentially control","Challenge requires evaluation and control measure(s)","Challenge requires control measure(s)"]
[null,null,null,null,{"$f":"COUNTIFS('5-Heatmap'!$D$11:$D$1001,Backend!F13,'5-Heatmap'!$A$11:$A$1001,\"=True\")","v":2},{"$f":"D13","v":"Robustness"},null,"Medium","Medium","Low",{"$f":"CONCATENATE(tblConcordanceBE[[#This Row],[Today]],tblConcordanceBE[[#This Row],[50 years]],tblConcordanceBE[[#This Row],[100 years]])","v":"MediumMediumLow"},"Medium"]
[null,null,null,null,{"$f":"COUNTIFS('5-Heatmap'!$D$11:$D$1001,Backend!F14,'5-Heatmap'!$A$11:$A$1001,\"=True\")","v":0},{"$f":"D14","v":"Robustness"},null,"Medium","Low","Low",{"$f":"CONCATENATE(tblConcordanceBE[[#This Row],[Today]],tblConcordanceBE[[#This Row],[50 years]],tblConcordanceBE[[#This Row],[100 years]])","v":"MediumLowLow"},"Medium"]
[null,null,null,null,{"$f":"COUNTIFS('5-Heatmap'!$D$11:$D$1001,Backend!F15,'5-Heatmap'!$A$11:$A$1001,\"=True\")","v":0},"Robustness",null,"Low","Low","Rare",{"$f":"CONCATENATE(tblConcordanceBE[[#This Row],[Today]],tblConcordanceBE[[#This Row],[50 years]],tblConcordanceBE[[#This Row],[100 years]])","v":"LowLowRare"},"Low"]
[null,null,null,null,{"$f":"COUNTIFS('5-Heatmap'!$D$11:$D$1001,Backend!F16,'5-Heatmap'!$A$11:$A$1001,\"=True\")","v":0},"Robustness",null,"Low","Rare","Rare",{"$f":"CONCATENATE(tblConcordanceBE[[#This Row],[Today]],tblConcordanceBE[[#This Row],[50 years]],tblConcordanceBE[[#This Row],[100 years]])","v":"LowRareRare"},"Low"]
[null,null,null,null,{"$f":"COUNTIFS('5-Heatmap'!$D$11:$D$1001,Backend!F17,'5-Heatmap'!$A$11:$A$1001,\"=True\")","v":1},"Redundancy",null,"Rare","Rare","Medium","RareRareMedium","Low"]
[null,null,null,null,{"$f":"COUNTIFS('5-Heatmap'!$D$11:$D$1001,Backend!F18,'5-Heatmap'!$A$11:$A$1001,\"=True\")","v":0},"Redundancy",null,"Rare","Rare","High","RareRareHigh","Medium"]
[null,null,null,null,{"$f":"COUNTIFS('5-Heatmap'!$D$11:$D$1001,Backend!F19,'5-Heatmap'!$A$11:$A$1001,\"=True\")","v":0},"Redundancy",null,"Rare","Rare","Very High","RareRareVery High","High"]
[null,null,null,null,{"$f":"COUNTIFS('5-Heatmap'!$D$11:$D$1001,Backend!F20,'5-Heatmap'!$A$11:$A$1001,\"=True\")","v":0},"Redundancy",null,"Rare","Medium","Medium","RareMediumMedium","Medium"]
[null,null,null,null,{"$f":"COUNTIFS('5-Heatmap'!$D$11:$D$1001,Backend!F21,'5-Heatmap'!$A$11:$A$1001,\"=True\")","v":0},"Recovery",null,"Rare","Medium","High","RareMediumHigh","Medium"]
[null,null,null,null,{"$f":"COUNTIFS('5-Heatmap'!$D$11:$D$1001,Backend!F22,'5-Heatmap'!$A$11:$A$1001,\"=True\")","v":0},"Recovery",null,"Rare","Medium","Very High","RareMediumVery High","Medium"]
[null,null,null,null,{"$f":"COUNTIFS('5-Heatmap'!$D$11:$D$1001,Backend!F23,'5-Heatmap'!$A$11:$A$1001,\"=True\")","v":2},"Recovery",null,"Rare","High","High","RareHighHigh","High"]
[null,null,null,null,{"$f":"COUNTIFS('5-Heatmap'!$D$11:$D$1001,Backend!F24,'5-Heatmap'!$A$11:$A$1001,\"=True\")","v":0},"Recovery",null,"Rare","High","Very High","RareHighVery High","High"]
[null,null,null,null,{"$f":"COUNTIFS('5-Heatmap'!$D$11:$D$1001,Backend!F25,'5-Heatmap'!$A$11:$A$1001,\"=True\")","v":0},"Governance",null,"Rare","Very High","Very High","RareVery HighVery High","High"]
[null,null,null,null,{"$f":"COUNTIFS('5-Heatmap'!$D$11:$D$1001,Backend!F26,'5-Heatmap'!$A$11:$A$1001,\"=True\")","v":0},"Governance",null,"Medium","Rare","Rare","MediumRareRare","Medium"]
[null,null,null,null,{"$f":"COUNTIFS('5-Heatmap'!$D$11:$D$1001,Backend!F27,'5-Heatmap'!$A$11:$A$1001,\"=True\")","v":0},"Governance",null,"High","Rare","Rare","HighRareRare","High"]
[null,null,null,null,{"$f":"COUNTIFS('5-Heatmap'!$D$11:$D$1001,Backend!F28,'5-Heatmap'!$A$11:$A$1001,\"=True\")","v":0},"Governance",null,"Very High","Rare","Rare","Very HighRareRare","Urgent"]
[null,null,null,null,null,null,null,"Medium","Medium","Rare","MediumMediumRare","Medium"]
[null,null,null,"Robustness",{"$f":"SUM(E31:E34)","v":2},null,null,"High","Medium","Rare","HighMediumRare","High"]
[null,null,null,"Redundancy",{"$f":"SUM(E35:E38)","v":1},null,null,"Very High","Medium","Rare","Very HighMediumRare","Urgent"]
[null,null,null,"Recovery",{"$f":"SUM(E39:E42)","v":2},null,null,"High","High","Rare","HighHighRare","High"]
[null,null,null,"Governance",{"$f":"SUM(E43:E46)","v":0},null,null,"Very High","Very High","Rare","Very HighVery HighRare","Urgent"]
[null,null,null,null,null,null,null,"Low","Low","High","LowLowHigh","Low"]
[null,null,null,null,null,null,null,"Low","Low","Very High","LowLowVery High","Medium"]
[null,null,null,null,null,null,null,"Low","High","Very High","LowHighVery High","High"]
[null,null,null,null,null,null,null,"Low","Very High","Very High","LowVery HighVery High","High"]
[null,null,null,null,null,null,null,"Very High","Very High","Low","Very HighVery HighLow","Urgent"]
[null,null,null,null,null,null,null,"Very High","High","Low","Very HighHighLow","Urgent"]
[null,null,null,null,null,null,null,"Very High","Low","Low","Very HighLowLow","Urgent"]
[null,null,null,null,null,null,null,"High","Low","Low","HighLowLow","High"]
[null,null,null,null,null,null,null,"High","High","Low","HighHighLow","High"]
[null,null,null,null,null,null,null,"Medium","Very High","Very High","MediumVery HighVery High","High"]
[null,null,null,null,null,null,null,"Very High","Very High","Medium","Very HighVery HighMedium","Urgent"]
[null,null,null,null,null,null,null,"Very High","Medium","Medium","Very HighMediumMedium","Urgent"]
[null,null,null,null,null,null,null,"Medium","Rare","Rare","MediumRareRare","Medium"]
[null,null,null,null,null,null,null,"High","Rare","Rare","HighRareRare","High"]
[null,null,null,null,null,null,null,"Very High","Rare","Rare","Very HighRareRare","Urgent"]
[null,null,null,null,null,null,null,"Medium","Medium","Rare","MediumMediumRare","Medium"]
[null,null,null,null,null,null,null,"High","Medium","Rare","HighMediumRare","High"]
[null,null,null,null,null,null,null,"Very High","Medium","Rare","Very HighMediumRare","Urgent"]
[null,null,null,null,null,null,null,"High","High","Rare","HighHighRare","High"]
[null,null,null,null,null,null,null,"Very High","Very High","Rare","Very HighVery HighRare","Urgent"]
[null,null,null,null,null,null,null,"Medium","High","Very High",{"$f":"CONCATENATE(tblConcordanceBE[[#This Row],[Today]],tblConcordanceBE[[#This Row],[50 years]],tblConcordanceBE[[#This Row],[100 years]])","v":"MediumHighVery High"}]
[null,null,null,null,null,null,null,"Medium","Very High","Very High","MediumVery HighVery High","High"]
[null,null,null,null,null,null,null,"Very High","Medium","Medium","Very HighMediumMedium","Urgent"]
[null,null,null,null,null,null,null,"Very High","Medium","Low","Very HighMediumLow","Urgent"]
[null,null,null,null,null,null,null,"Very High","Medium","Rare","Very HighMediumRare","Urgent"]
[null,null,null,null,null,null,null,"High","Low","Low","HighLowLow","High"]
[null,null,null,null,null,null,null,"High","Low","Rare","HighLowRare","High"]
[null,null,null,null,null,null,null,"High","Rare","Rare","HighRareRare","High"]
[null,null,null,null,null,null,null,"Rare","Medium","Medium","RareMediumMedium","Low"]
[null,null,null,null,null,null,null,"Low","High","High",{"$f":"CONCATENATE(tblConcordanceBE[[#This Row],[Today]],tblConcordanceBE[[#This Row],[50 years]],tblConcordanceBE[[#This Row],[100 years]])","v":"LowHighHigh"},"High"]
[null,null,null,null,null,null,null,"Rare","Low","Medium",{"$f":"CONCATENATE(tblConcordanceBE[[#This Row],[Today]],tblConcordanceBE[[#This Row],[50 years]],tblConcordanceBE[[#This Row],[100 years]])","v":"RareLowMedium"},"Low"]
[null,null,null,null,null,null,null,"Rare","Low","High",{"$f":"CONCATENATE(tblConcordanceBE[[#This Row],[Today]],tblConcordanceBE[[#This Row],[50 years]],tblConcordanceBE[[#This Row],[100 years]])","v":"RareLowHigh"},"Medium"]
[null,null,null,null,null,null,null,"Low","Medium","High",{"$f":"CONCATENATE(tblConcordanceBE[[#This Row],[Today]],tblConcordanceBE[[#This Row],[50 years]],tblConcordanceBE[[#This Row],[100 years]])","v":"LowMediumHigh"},"Medium"]

{"sheet":"Backend2","index":10,"n_rows":8,"n_cols":27,"rows_kept":8,"cut":false,"hidden":true,"merged":[[2,16,2,19],[2,20,2,23],[2,24,3,24],[2,26,3,26],[2,25,3,25]]}
["Be careful when modifying!","Base Controls Table",null,null,null,null,null,null,null,"Heat map components"]
[null,"Challenge: ","Priority:",null,null,null,null,null,null,null,null,null,null,null," "]
[null,"Primary Generic Control","Secondary Generic Control","Control Name","Detailed Control","Interdependencies and Enablers","Current/Future","Carry through to Heatmap",null,{"$f":"TODAY()","v":"2017-04-27"},null,null,null,null,"Challenge",null,"Indirect Costs of Control",null,null,null,"Indirect Benefits of Control",null,null,null,"Total","Cost of control","Source"]
[null,null,null,null,null,null,null,null,null,null,"Control","Primary Characteristic","Secondary Characteristic",null,null,null,"Environment","Social","Cultural","Economic","Environment","Social","Cultural","Economic"]
[]
[]
[]
[null,null,null,null,null,null,null,null,null,null,null,null,null,"Existing Resilience Score"]

{"sheet":"Consequence Criteria","index":11,"n_rows":7,"n_cols":9,"rows_kept":7,"cut":false,"hidden":false,"merged":[[1,7,2,7],[1,1,2,1]]}
[]
[null,"Aspect","vl","l","m","h","vh","notes","Click to view"]
[null,null,"very low","low","medium","high","very high"]
[null,"Economic","Minor disruption to economic activity in the local area","Major disruption to economic activity in the local area\nOR\nMinor disruption to the regional economy","Minor loss of economic activity in the local area\nOR\nMajor disruption to the regional economy","Major loss of economic activity in the local area\nOR\nMinor loss of economic activity in the regional economy\nOR\nDisruption to the national economy","Sustained major loss of economic activity in local and regional economies\nOR\nLoss of economic activity to the national economy","Broader economic impact of asset being unavailable"]
[null,"Social","Sub-set of the community unable to access non-essential services\nOR\nMinor adverse local public or media attention or complaints","Significant proportion of the community unable to access non-essential services\nOR\nSub-set of the community unable to access essential services\nOR\nMajor adverse local public or media attention or complaints","Significant proportion of community unable to access essential services\nOR\nSub-set  of the community unable to access critical services\nOR\nFailure to meet Lifelines obligations for less than 24-hours\nOR\nMinor adverse national media attention","Significant proportion of community unable to access critical services\nOR \nMultiple injuries requiring medical treatment, but not resulting in permanent disability or permanent negative impact on public health\nOR\nTemporary breakdown of social cohesion / community structure \nOR\nFailure to meet Lifelines obligations for more than 24-hours\nOR\nMajor adverse national media attention","Potential for fatality or multiple injuries leading to permanent disability or permanent negative impact of public health \nOR\nPermanent breakdown of social cohesion / community structure \nOR\nSustained adverse media attention nationally and internationally","Non-essential services include retail (excluding lifeline utilities), places of worship.\nEssential services include educational facilities, financial institutions and insurance providers.\nCritical services include health and wellbeing services (GP, hospital) and lifeline services"]
[null,"Cultural","Unplanned temporary loss of access to sites of special cultural or heritage significance to a sub-set of the local population","Unplanned temporary loss of access to sites of special cultural or heritage significance to a significant proportion of the  local population","Unplanned temporary loss of access to sites of special cultural or heritage significance to sub-sets of the national population","Unplanned permanent loss of sites of special cultural or heritage significance locally\nOR\nUnplanned permanent loss of access to sites of special cultural or heritage significance to a sub-set of the local population","Unplanned permanent loss of sites of special cultural or heritage significance nationally\nOR\nPermanent unplanned loss of access to sites of special cultural or heritage significance to a significant proportion of the local population\nOR\nUnplanned permanent loss of access to sites of special cultural significance to sub-sets of the national population","Includes heritage assets  e.g. Grafton Bridge"]
[null,"Environmental","Minor impact or release which does not require remediation","Localised pollution or degradation that can be remediated within 7 days","Pollution or other environmental damage at a localised level, with medium term effect \nOR\nAn immediately reportable event","Significant and widespread pollution or other environmental damage, with long term effects","Irreversible pollution or other environmental damage\nOR\nLong-term effects affecting future generations\nOR\nUncontained, long term serious environmental degradation"]

{"sheet":"Indirect Costs","index":12,"n_rows":13,"n_cols":8,"rows_kept":13,"cut":false,"hidden":false,"merged":[[11,1,11,2],[12,1,12,2],[8,1,8,2],[9,1,9,2],[10,1,10,2]]}
[]
[null,null,"l","m","h",null,null,"Click to view"]
[null,"Aspect","low","medium","high","notes"]
[null,"Economic","Short-term economic cost to the local economy\nOR\nShort-term loss of economic activity in the local area","Sustained economic cost or loss of economic activity in the local economy\nOR\nShort-term economic cost or loss of economic activity in the regional economy\nOR\nTemporary decrease in employment\n","Sustained economic cost or loss of economic activity in the regional economy\nOR\nImpact on national GDP or productivity\nOR \nImpact on land value\nOR \nPermanent decrease in employment","Local: TLA, with the exception of Auckland where Wards better define local.  Can also be thought of as a population of ~20,000\nRegional: Regional Council Area or a population of more than ~20,000.\n(see http://www.constructing.co.nz/uploads/events/205/Graham%20Taylor,%20NZTA%20-%20Transport%20Sector%20Investment.pdf) "]
[null,"Social","Temporary reduction in access to non-essential services\nOR\nTemporary impact on local amenity values","Permanent reduction in access to non-essential services\nOR\nTemporary reduction in access to essential services\nOR\nTemporary loss of access to recreation or public space\nOR\nTemporary reduction of connectivity","Impact on access to critical services\nOR\nPermanent reduction of access to essential services\nOR\nPermanent loss of access to recreation or public space\nOR\nResidential property acquisition\nOR\nPermanent reduction of connectivity\nOR\nImpact on social cohesion","Non-essential services include retail (excluding lifeline utilities), places of worship.\nEssential services include educational facilities, financial institutions and insurance providers.\nCritical services include health and wellbeing services (GP, hospital) and lifeline services"]
[null,"Cultural","Temporary reduction in access to sites of special cultural or heritage significance ","Temporary loss of access to sites of special cultural or heritage significance\nOR\nIndirect impact on sites of special cultural or heritage significance","Permanent reduction or loss of access to sites of special cultural or heritage significance\nOR\nDirect impact on sites of special cultural or heritage significance","Includes heritage assets  e.g. Grafton Bridge"]
[null,"Environmental","Minor impact on local environment or biodiversity.  Can be remediated and recovery in the next year anticipated\nOR\nTemporary increase in carbon emissions\nOR \nTemporary increase in discharge to sewer / stormwater","Major impact on local environment or biodiversity.  Can be remediated and recovery in 1-3 years\nOR\nPotential impact on breeding success of threatened species\n","Impact on local environment or biodiversity which can not be remediated, or impact takes more than 5-years to recover\nOR\nImpact on breeding success of endangered or critically endangered species\nOR\nImpact on protected areas\nOR\nPermanent increase in carbon emissions\nOR\nPermanent increase in discharge to sewer / stormwater","Environmental impacts may be on dimensions of: Land, Air, Water, Habitat. "]
[]
[null,"Key concepts:"]
[null,"Scalable"]
[null,"Local, Regional, National"]
[null,"Economic, Social, Cultural, Environmental"]
[null,"Temporal"]

{"sheet":"Indirect Benefits","index":13,"n_rows":14,"n_cols":8,"rows_kept":14,"cut":false,"hidden":false,"merged":[[13,1,13,2],[8,1,8,2],[9,1,9,2],[10,1,10,2],[11,1,11,2],[12,1,12,2]]}
[]
[null,null,"l","m","h",null,null,"Click to view"]
[null,"Aspect","low","medium","high","notes"]
[null,"Economic","One off economic benefit to the local economy","Sustained economic benefit or increase in economic activity in the local economy\nOR\nShort-term economic benefit or increase in economic activity in the regional economy\nOR\nTemporary increase in employment\n","Sustained economic benefit or increase in  economic activity in the regional economy\nOR\nImpact on national GDP or productivity\nOR \nImpact on land value\nOR \nPermanent increase in employment","Local: TLA, with the exception of Auckland where Wards better define local.  Can also be thought of as a population of ~20,000\nRegional: Regional Council Area or a population of more than ~20,000.\n(see http://www.constructing.co.nz/uploads/events/205/Graham%20Taylor,%20NZTA%20-%20Transport%20Sector%20Investment.pdf) "]
[null,"Social","Improved access to non-essential services\nOR\nEnhancement of local amenity values","Improved access to essential services\nOR\nEducation outcomes in the local community\n","Improved access to critical services\nOR\nCreation of recreation or public space\nOR\nImprovement in connectivity\nOR\nImproved social cohesion\nOR\nEducation outcomes nationally","Non-essential services include retail (excluding lifeline utilities), places of worship.\nEssential services include educational facilities, financial institutions and insurance providers.\nCritical services include health and wellbeing services (GP, hospital) and lifeline services"]
[null,"Cultural","Enhancement of access to sites of special cultural or heritage significance\n ","Enhancement of sites with cultural significance\n","Involvement of iwi as Kaitiakitanga\nOR\nEducation of local community regarding local cultural values","Includes heritage assets  e.g. Grafton Bridge"]
[null,"Environmental","Additional protection for local environment or biodiversity\nOR\nNo net increase in waste to sewer / stormwater\nOR\nNo net increase in carbon emissions","Additional protection for protected areas \nOR \nReduction in stormwater to sewer\nOR \nEnergy generation \n","Habitat creation (net increase in natural area) \nOR\nPermanent decrease in carbon emissions","Environmental impacts may be on dimensions of: Land, Air, Water, Habitat. "]
[]
[null,"Key concepts:"]
[null,"NOT FINANCIAL COST - indirect costs accruing from the control"]
[null,"Scalable"]
[null,"Local, Regional, National"]
[null,"Economic, Social, Cultural, Environmental"]
[null,"Temporal"]