{"text_format":"1","workbook":"xlsx","n_sheets":15,"sheets":["Instructions","Do Minimum Assessment","Options Assessment","Summary","Error Margins","Region","NZ","LA","Popn","2020 Severity Factors","CMFs_all","CMFs_ped","CMFs_cyc","Models","Reference"],"not_rendered":{"charts":92,"images":7,"macros":1,"external_links":1,"defined_names":13,"comments":13,"pivot_tables":0},"unopened":[],"bounds":{"document_bytes":16777216,"sheet_cells":100000,"rows_first":2000,"rows_last":500,"rows_between":2000,"halvings":0,"cell_chars":16384,"cell_head_chars":4096},"cells_cut":0,"cells_raw":0,"read":"whole","date_system":"1900"}

{"sheet":"Instructions","index":0,"n_rows":22,"n_cols":4,"rows_kept":22,"cut":false,"hidden":false,"merged":[[21,0,21,3],[8,0,8,3],[7,0,7,3],[9,0,9,3],[0,0,0,3],[1,0,2,3],[4,0,4,3],[5,0,5,3],[6,0,6,3],[3,0,3,3],[11,0,11,3],[12,0,12,3],[17,0,17,3],[19,0,19,3],[10,0,10,3]]}
["User Instructions \nNB All models have been prepopulated with example data. Before populating with your own data, please hit the CLEAR CELLS button"]
["This forecasting tool has been developed to predict DSI and DSI savings for Arterial Activity Centre corridors. The tool is based on the Crash Estimation Compendium. The tool can be used to estimate do minimum DSI and DSI savings expected from corridor level safety treatments such as speed limit reduction, traffic calming devices or introducing pedestrian/ cycle facilities. A corridor can be segmented by intersection and links to predict injury crashes more accurately. "]
[]
["NOTE – The workbook assumes that the average operating speed across the selected road network is similar to the average operating speed (approx. 42km/h) on all urban roads nationally.  Where there is a lot of variability in the operating speeds across the network, due to varying cross-sections or congestion, this is acceptable as long as the overall average network speed is consistent with the national average.  Where all the roads in the network are narrow, wide or congested then the overall average network operating speeds may be considerably above or below the national average (of approximately 42 km/h) and the predicted DSI values (and applied severity factors) may not be appropriate. In this case care must be taken when using the DSI predictions, as the risk may be higher or lower due to the operating speeds. Furthermore, if High Occupancy Lanes/ Bus Lanes are considered then A3 tool should be used."]
["1.  For the do-minimum assessment, fill in information in cells C26: L38 (yellow cells) in the Do Minimum Assessment worksheet for each intersection or link segment, as appropriate.  Enter pedestrian and/or cycle volumes if available. Specify the appropriate crash prediction option for each segment in row 38. A list of available predictions is set out in Table 1 (below).  These crash prediction models are extracted from the Waka Kotahi Crash Estimation Compendium 2016. "]
["2. In the Do Minimum Assessment worksheet The primary prediction is an all vehicle crash prediction (row 44). Pedestrian and cyclist crash predictions (row 45 and row 46) will be populated if corresponding input data are entered. "]
["3. In the Do Minimum Assessment worksheet, preferably exposure volume input (rows 34:37) should be based on collected data and not estimated.  Where exposure data are estimated then crash predictions will not be as accurate."]
["4. For option assessment, select all appropriate/ complementary treatment options from list of treatments in the Options Assessment worksheet."]
["5. The default combined Crash Modification Factors (CMF) for the chosen treatments are shown in rows 36:38 in the Options Assessment worksheet."]
["6. Forecast results are compared in Summary worksheet.   "]
["The results of this tool have been validated using a small number of example corridors. However,  the crash prediction models and DSI severity indices used in this tool are based on nationwide crash data therefore, if the user intends to validate against actual crash data, it is recommended that at least 20 segments are used in the validation."]
["Table 1 Available crash prediction models by segment and crash type"]
["All Injury Crashes"]
["Signalised Intersection","Priority Intersection","Midblock","Roundabout"]
["Intersection Traffic Signals - X All Movements","Intersection Uncontrolled T All Movements","Midblock Commercial Arterial or higher","Intersection Roundabout (Single) All Movements"]
["Intersection Traffic Signals - T All Movements","Intersection Priority X All Movements","Midblock Residential Arterial or higher","Intersection Roundabout (Multiple) All Movements"]
[null,"Intersection Priority T All Movements"]
["All Pedestrian Injury Crashes"]
["Pedestrians Crossing Signalised intersection","Pedestrians Crossing Priority intersection","Pedestrians Crossing Mid-block","Pedestrians Crossing Roundabout"]
["All Cyclist Injury Crashes"]
["Cyclists Crossing/ Turning Signalised intersection","Cyclists Crossing/ Turning Priority intersection","Cyclists Crossing/ Turning Mid-block","Cyclists Crossing/ Turning Roundabout"]
["Click here for the Waka Kotahi Crash Estimation Compendium 2016"]

{"sheet":"Do Minimum Assessment","index":1,"n_rows":49,"n_cols":14,"rows_kept":49,"cut":false,"hidden":false,"merged":[[43,0,45,0],[46,0,48,0],[37,0,39,0],[25,0,32,0],[3,13,4,14],[0,0,11,1],[12,0,14,0],[12,1,14,1],[15,0,18,0],[15,1,18,1],[23,2,23,11],[40,0,42,0],[23,0,24,1],[33,0,36,0],[19,0,22,0],[19,1,22,1]]}
["A2 - Arterial Activity Centre Tool"]
[]
[]
[null,null,null,null,null,null,null,null,null,null,null,null,null,"Example Corridor"]
[]
[]
[]
[]
[]
[]
[]
[]
["Road Name","Joe Bloggs Avenue"]
[]
[]
["Route Description","4 lane arterial"]
[]
[]
[]
["Safety Concern","head on crashes"]
[]
[]
[]
["Road Information ",null,"Segments (Midblock or Intersection)"]
[null,null,"Segment 1","Segment 2","Segment 3","Segment 4","Segment 5","Segment 6","Segment 7","Segment 8","Segment 9","Segment 10"]
["User Input - Road Information","Intersection/ Corridor Name","Joe Bloggs Avenue"]
[null,"Segment Type","Signalised_Intersection"]
[null,"Current Speed Limit (km/h)",70]
[null,"For midblock segments only - Length (KM) ",5]
[null,"For midblock segments only - Land Use ","Commercial"]
[null,"For midblock segments only - Parking","Both Sides"]
[null,"For midblock segments only - Number of Lanes",4]
[null,"For midblock segments only - Flush Median","Yes"]
["User Input - Exposure Variables","Main road two-way vehicle volume/ day (required)",30000]
[null,"Side or cross road two-way vehicle volume/ day (required)",3000]
[null,"Pedestrians crossing volume/ day (if available)",500]
[null,"Cyclists crossing volume/ day (if available)",250]
["User Input - Crash prediction model for the specified segment type","All Vehicles","Intersection Traffic Signals - X All Movements"]
[null,"Pedestrians",{"$f":"IFERROR(VLOOKUP($B$39,Reference!$M$21:$Q$23,MATCH('Do Minimum Assessment'!C$27,Reference!$M$21:$Q$21,0),0),\"\")","v":"Pedestrians Crossing Signalised intersection"},{"$f":"IFERROR(VLOOKUP($B$39,Reference!$M$21:$Q$23,MATCH('Do Minimum Assessment'!D$27,Reference!$M$21:$Q$21,0),0),\"\")","v":""},{"$f":"IFERROR(VLOOKUP($B$39,Reference!$M$21:$Q$23,MATCH('Do Minimum Assessment'!E$27,Reference!$M$21:$Q$21,0),0),\"\")","v":""},{"$f":"IFERROR(VLOOKUP($B$39,Reference!$M$21:$Q$23,MATCH('Do Minimum Assessment'!F$27,Reference!$M$21:$Q$21,0),0),\"\")","v":""},{"$f":"IFERROR(VLOOKUP($B$39,Reference!$M$21:$Q$23,MATCH('Do Minimum Assessment'!G$27,Reference!$M$21:$Q$21,0),0),\"\")","v":""},{"$f":"IFERROR(VLOOKUP($B$39,Reference!$M$21:$Q$23,MATCH('Do Minimum Assessment'!H$27,Reference!$M$21:$Q$21,0),0),\"\")","v":""},{"$f":"IFERROR(VLOOKUP($B$39,Reference!$M$21:$Q$23,MATCH('Do Minimum Assessment'!I$27,Reference!$M$21:$Q$21,0),0),\"\")","v":""},{"$f":"IFERROR(VLOOKUP($B$39,Reference!$M$21:$Q$23,MATCH('Do Minimum Assessment'!J$27,Reference!$M$21:$Q$21,0),0),\"\")","v":""},{"$f":"IFERROR(VLOOKUP($B$39,Reference!$M$21:$Q$23,MATCH('Do Minimum Assessment'!K$27,Reference!$M$21:$Q$21,0),0),\"\")","v":""},{"$f":"IFERROR(VLOOKUP($B$39,Reference!$M$21:$Q$23,MATCH('Do Minimum Assessment'!L$27,Reference!$M$21:$Q$21,0),0),\"\")","v":""}]
[null,"Cyclists",{"$f":"IFERROR(VLOOKUP($B$40,Reference!$M$21:$Q$23,MATCH('Do Minimum Assessment'!C$27,Reference!$M$21:$Q$21,0),0),\"\")","v":"Cyclists Crossing/ Turning Signalised intersection"},{"$f":"IFERROR(VLOOKUP($B$40,Reference!$M$21:$Q$23,MATCH('Do Minimum Assessment'!D$27,Reference!$M$21:$Q$21,0),0),\"\")","v":""},{"$f":"IFERROR(VLOOKUP($B$40,Reference!$M$21:$Q$23,MATCH('Do Minimum Assessment'!E$27,Reference!$M$21:$Q$21,0),0),\"\")","v":""},{"$f":"IFERROR(VLOOKUP($B$40,Reference!$M$21:$Q$23,MATCH('Do Minimum Assessment'!F$27,Reference!$M$21:$Q$21,0),0),\"\")","v":""},{"$f":"IFERROR(VLOOKUP($B$40,Reference!$M$21:$Q$23,MATCH('Do Minimum Assessment'!G$27,Reference!$M$21:$Q$21,0),0),\"\")","v":""},{"$f":"IFERROR(VLOOKUP($B$40,Reference!$M$21:$Q$23,MATCH('Do Minimum Assessment'!H$27,Reference!$M$21:$Q$21,0),0),\"\")","v":""},{"$f":"IFERROR(VLOOKUP($B$40,Reference!$M$21:$Q$23,MATCH('Do Minimum Assessment'!I$27,Reference!$M$21:$Q$21,0),0),\"\")","v":""},{"$f":"IFERROR(VLOOKUP($B$40,Reference!$M$21:$Q$23,MATCH('Do Minimum Assessment'!J$27,Reference!$M$21:$Q$21,0),0),\"\")","v":""},{"$f":"IFERROR(VLOOKUP($B$40,Reference!$M$21:$Q$23,MATCH('Do Minimum Assessment'!K$27,Reference!$M$21:$Q$21,0),0),\"\")","v":""},{"$f":"IFERROR(VLOOKUP($B$40,Reference!$M$21:$Q$23,MATCH('Do Minimum Assessment'!L$27,Reference!$M$21:$Q$21,0),0),\"\")","v":""}]
["DSI Severity Factors","DSI Severity Indices Vehicle Crashes",{"$f":"IFERROR(VLOOKUP(C27,'2020 Severity Factors'!$B$23:$G$27,MATCH(C$28,'2020 Severity Factors'!$B$23:$G$23,0),0),\"\")","v":0.19500000000000001},{"$f":"IFERROR(VLOOKUP(D27,'2020 Severity Factors'!$B$23:$G$27,MATCH(D$28,'2020 Severity Factors'!$B$23:$G$23,0),0),\"\")","v":""},{"$f":"IFERROR(VLOOKUP(E27,'2020 Severity Factors'!$B$23:$G$27,MATCH(E$28,'2020 Severity Factors'!$B$23:$G$23,0),0),\"\")","v":""},{"$f":"IFERROR(VLOOKUP(F27,'2020 Severity Factors'!$B$23:$G$27,MATCH(F$28,'2020 Severity Factors'!$B$23:$G$23,0),0),\"\")","v":""},{"$f":"IFERROR(VLOOKUP(G27,'2020 Severity Factors'!$B$23:$G$27,MATCH(G$28,'2020 Severity Factors'!$B$23:$G$23,0),0),\"\")","v":""},{"$f":"IFERROR(VLOOKUP(H27,'2020 Severity Factors'!$B$23:$G$27,MATCH(H$28,'2020 Severity Factors'!$B$23:$G$23,0),0),\"\")","v":""},{"$f":"IFERROR(VLOOKUP(I27,'2020 Severity Factors'!$B$23:$G$27,MATCH(I$28,'2020 Severity Factors'!$B$23:$G$23,0),0),\"\")","v":""},{"$f":"IFERROR(VLOOKUP(J27,'2020 Severity Factors'!$B$23:$G$27,MATCH(J$28,'2020 Severity Factors'!$B$23:$G$23,0),0),\"\")","v":""},{"$f":"IFERROR(VLOOKUP(K27,'2020 Severity Factors'!$B$23:$G$27,MATCH(K$28,'2020 Severity Factors'!$B$23:$G$23,0),0),\"\")","v":""},{"$f":"IFERROR(VLOOKUP(L27,'2020 Severity Factors'!$B$23:$G$27,MATCH(L$28,'2020 Severity Factors'!$B$23:$G$23,0),0),\"\")","v":""}]
[null,"DSI Severity Indices Pedestrian Crashes",{"$f":"IFERROR(VLOOKUP(C27,'2020 Severity Factors'!$B$28:$G$32,MATCH(C$28,'2020 Severity Factors'!$B$28:$G$28,0),0),\"\")","v":0.43499999999999994},{"$f":"IFERROR(VLOOKUP(D27,'2020 Severity Factors'!$B$28:$G$32,MATCH(D$28,'2020 Severity Factors'!$B$28:$G$28,0),0),\"\")","v":""},{"$f":"IFERROR(VLOOKUP(E27,'2020 Severity Factors'!$B$28:$G$32,MATCH(E$28,'2020 Severity Factors'!$B$28:$G$28,0),0),\"\")","v":""},{"$f":"IFERROR(VLOOKUP(F27,'2020 Severity Factors'!$B$28:$G$32,MATCH(F$28,'2020 Severity Factors'!$B$28:$G$28,0),0),\"\")","v":""},{"$f":"IFERROR(VLOOKUP(G27,'2020 Severity Factors'!$B$28:$G$32,MATCH(G$28,'2020 Severity Factors'!$B$28:$G$28,0),0),\"\")","v":""},{"$f":"IFERROR(VLOOKUP(H27,'2020 Severity Factors'!$B$28:$G$32,MATCH(H$28,'2020 Severity Factors'!$B$28:$G$28,0),0),\"\")","v":""},{"$f":"IFERROR(VLOOKUP(I27,'2020 Severity Factors'!$B$28:$G$32,MATCH(I$28,'2020 Severity Factors'!$B$28:$G$28,0),0),\"\")","v":""},{"$f":"IFERROR(VLOOKUP(J27,'2020 Severity Factors'!$B$28:$G$32,MATCH(J$28,'2020 Severity Factors'!$B$28:$G$28,0),0),\"\")","v":""},{"$f":"IFERROR(VLOOKUP(K27,'2020 Severity Factors'!$B$28:$G$32,MATCH(K$28,'2020 Severity Factors'!$B$28:$G$28,0),0),\"\")","v":""},{"$f":"IFERROR(VLOOKUP(L27,'2020 Severity Factors'!$B$28:$G$32,MATCH(L$28,'2020 Severity Factors'!$B$28:$G$28,0),0),\"\")","v":""}]
[null,"DSI Severity Indices Cycle Crashes",{"$f":"IFERROR(VLOOKUP(C27,'2020 Severity Factors'!$B$34:$G$38,MATCH(C$28,'2020 Severity Factors'!$B$34:$G$34,0),0),\"\")","v":0.253},{"$f":"IFERROR(VLOOKUP(D27,'2020 Severity Factors'!$B$34:$G$38,MATCH(D$28,'2020 Severity Factors'!$B$34:$G$34,0),0),\"\")","v":""},{"$f":"IFERROR(VLOOKUP(E27,'2020 Severity Factors'!$B$34:$G$38,MATCH(E$28,'2020 Severity Factors'!$B$34:$G$34,0),0),\"\")","v":""},{"$f":"IFERROR(VLOOKUP(F27,'2020 Severity Factors'!$B$34:$G$38,MATCH(F$28,'2020 Severity Factors'!$B$34:$G$34,0),0),\"\")","v":""},{"$f":"IFERROR(VLOOKUP(G27,'2020 Severity Factors'!$B$34:$G$38,MATCH(G$28,'2020 Severity Factors'!$B$34:$G$34,0),0),\"\")","v":""},{"$f":"IFERROR(VLOOKUP(H27,'2020 Severity Factors'!$B$34:$G$38,MATCH(H$28,'2020 Severity Factors'!$B$34:$G$34,0),0),\"\")","v":""},{"$f":"IFERROR(VLOOKUP(I27,'2020 Severity Factors'!$B$34:$G$38,MATCH(I$28,'2020 Severity Factors'!$B$34:$G$34,0),0),\"\")","v":""},{"$f":"IFERROR(VLOOKUP(J27,'2020 Severity Factors'!$B$34:$G$38,MATCH(J$28,'2020 Severity Factors'!$B$34:$G$34,0),0),\"\")","v":""},{"$f":"IFERROR(VLOOKUP(K27,'2020 Severity Factors'!$B$34:$G$38,MATCH(K$28,'2020 Severity Factors'!$B$34:$G$34,0),0),\"\")","v":""},{"$f":"IFERROR(VLOOKUP(L27,'2020 Severity Factors'!$B$34:$G$38,MATCH(L$28,'2020 Severity Factors'!$B$34:$G$34,0),0),\"\")","v":""}]
["Annual Crash Prediction","All Vehicles",{"$f":"IF(C37=\"\",(IFERROR(VLOOKUP(C38,Models!$D$3:$O$46,MATCH(C$25,Models!$D$1:$O$1,0),0),\"\")),(IFERROR(VLOOKUP(C38,Models!$D$3:$O$46,MATCH(C$25,Models!$D$1:$O$1,0),0)-C46,\"\")))","v":0.94145719254063642},{"$f":"IF(D37=\"\",(IFERROR(VLOOKUP(D38,Models!$D$3:$O$46,MATCH(D$25,Models!$D$1:$O$1,0),0),\"\")),(IFERROR(VLOOKUP(D38,Models!$D$3:$O$46,MATCH(D$25,Models!$D$1:$O$1,0),0)-D46,\"\")))","v":""},{"$f":"IF(E37=\"\",(IFERROR(VLOOKUP(E38,Models!$D$3:$O$46,MATCH(E$25,Models!$D$1:$O$1,0),0),\"\")),(IFERROR(VLOOKUP(E38,Models!$D$3:$O$46,MATCH(E$25,Models!$D$1:$O$1,0),0)-E46,\"\")))","v":""},{"$f":"IF(F37=\"\",(IFERROR(VLOOKUP(F38,Models!$D$3:$O$46,MATCH(F$25,Models!$D$1:$O$1,0),0),\"\")),(IFERROR(VLOOKUP(F38,Models!$D$3:$O$46,MATCH(F$25,Models!$D$1:$O$1,0),0)-F46,\"\")))","v":""},{"$f":"IF(G37=\"\",(IFERROR(VLOOKUP(G38,Models!$D$3:$O$46,MATCH(G$25,Models!$D$1:$O$1,0),0),\"\")),(IFERROR(VLOOKUP(G38,Models!$D$3:$O$46,MATCH(G$25,Models!$D$1:$O$1,0),0)-G46,\"\")))","v":""},{"$f":"IF(H37=\"\",(IFERROR(VLOOKUP(H38,Models!$D$3:$O$46,MATCH(H$25,Models!$D$1:$O$1,0),0),\"\")),(IFERROR(VLOOKUP(H38,Models!$D$3:$O$46,MATCH(H$25,Models!$D$1:$O$1,0),0)-H46,\"\")))","v":""},{"$f":"IF(I37=\"\",(IFERROR(VLOOKUP(I38,Models!$D$3:$O$46,MATCH(I$25,Models!$D$1:$O$1,0),0),\"\")),(IFERROR(VLOOKUP(I38,Models!$D$3:$O$46,MATCH(I$25,Models!$D$1:$O$1,0),0)-I46,\"\")))","v":""},{"$f":"IF(J37=\"\",(IFERROR(VLOOKUP(J38,Models!$D$3:$O$46,MATCH(J$25,Models!$D$1:$O$1,0),0),\"\")),(IFERROR(VLOOKUP(J38,Models!$D$3:$O$46,MATCH(J$25,Models!$D$1:$O$1,0),0)-J46,\"\")))","v":""},{"$f":"IF(K37=\"\",(IFERROR(VLOOKUP(K38,Models!$D$3:$O$46,MATCH(K$25,Models!$D$1:$O$1,0),0),\"\")),(IFERROR(VLOOKUP(K38,Models!$D$3:$O$46,MATCH(K$25,Models!$D$1:$O$1,0),0)-K46,\"\")))","v":""},{"$f":"IF(L37=\"\",(IFERROR(VLOOKUP(L38,Models!$D$3:$O$46,MATCH(L$25,Models!$D$1:$O$1,0),0),\"\")),(IFERROR(VLOOKUP(L38,Models!$D$3:$O$46,MATCH(L$25,Models!$D$1:$O$1,0),0)-L46,\"\")))","v":""}]
[null,"Pedestrians",{"$f":"IF(C36=\"\",\"\",IFERROR(VLOOKUP(C39,Models!$D$3:$O$46,MATCH(C$25,Models!$D$1:$O$1,0),0),\"\"))","v":0.13860718412638542},{"$f":"IF(D36=\"\",\"\",IFERROR(VLOOKUP(D39,Models!$D$3:$O$46,MATCH(D$25,Models!$D$1:$O$1,0),0),\"\"))","v":""},{"$f":"IF(E36=\"\",\"\",IFERROR(VLOOKUP(E39,Models!$D$3:$O$46,MATCH(E$25,Models!$D$1:$O$1,0),0),\"\"))","v":""},{"$f":"IF(F36=\"\",\"\",IFERROR(VLOOKUP(F39,Models!$D$3:$O$46,MATCH(F$25,Models!$D$1:$O$1,0),0),\"\"))","v":""},{"$f":"IF(G36=\"\",\"\",IFERROR(VLOOKUP(G39,Models!$D$3:$O$46,MATCH(G$25,Models!$D$1:$O$1,0),0),\"\"))","v":""},{"$f":"IF(H36=\"\",\"\",IFERROR(VLOOKUP(H39,Models!$D$3:$O$46,MATCH(H$25,Models!$D$1:$O$1,0),0),\"\"))","v":""},{"$f":"IF(I36=\"\",\"\",IFERROR(VLOOKUP(I39,Models!$D$3:$O$46,MATCH(I$25,Models!$D$1:$O$1,0),0),\"\"))","v":""},{"$f":"IF(J36=\"\",\"\",IFERROR(VLOOKUP(J39,Models!$D$3:$O$46,MATCH(J$25,Models!$D$1:$O$1,0),0),\"\"))","v":""},{"$f":"IF(K36=\"\",\"\",IFERROR(VLOOKUP(K39,Models!$D$3:$O$46,MATCH(K$25,Models!$D$1:$O$1,0),0),\"\"))","v":""},{"$f":"IF(L36=\"\",\"\",IFERROR(VLOOKUP(L39,Models!$D$3:$O$46,MATCH(L$25,Models!$D$1:$O$1,0),0),\"\"))","v":""}]
[null,"Cyclists",{"$f":"IF(C37=\"\",\"\",IFERROR(VLOOKUP(C40,Models!$D$3:$O$46,MATCH(C$25,Models!$D$1:$O$1,0),0),\"\"))","v":4.7048268049660696E-2},{"$f":"IF(D37=\"\",\"\",IFERROR(VLOOKUP(D40,Models!$D$3:$O$46,MATCH(D$25,Models!$D$1:$O$1,0),0),\"\"))","v":""},{"$f":"IF(E37=\"\",\"\",IFERROR(VLOOKUP(E40,Models!$D$3:$O$46,MATCH(E$25,Models!$D$1:$O$1,0),0),\"\"))","v":""},{"$f":"IF(F37=\"\",\"\",IFERROR(VLOOKUP(F40,Models!$D$3:$O$46,MATCH(F$25,Models!$D$1:$O$1,0),0),\"\"))","v":""},{"$f":"IF(G37=\"\",\"\",IFERROR(VLOOKUP(G40,Models!$D$3:$O$46,MATCH(G$25,Models!$D$1:$O$1,0),0),\"\"))","v":""},{"$f":"IF(H37=\"\",\"\",IFERROR(VLOOKUP(H40,Models!$D$3:$O$46,MATCH(H$25,Models!$D$1:$O$1,0),0),\"\"))","v":""},{"$f":"IF(I37=\"\",\"\",IFERROR(VLOOKUP(I40,Models!$D$3:$O$46,MATCH(I$25,Models!$D$1:$O$1,0),0),\"\"))","v":""},{"$f":"IF(J37=\"\",\"\",IFERROR(VLOOKUP(J40,Models!$D$3:$O$46,MATCH(J$25,Models!$D$1:$O$1,0),0),\"\"))","v":""},{"$f":"IF(K37=\"\",\"\",IFERROR(VLOOKUP(K40,Models!$D$3:$O$46,MATCH(K$25,Models!$D$1:$O$1,0),0),\"\"))","v":""},{"$f":"IF(L37=\"\",\"\",IFERROR(VLOOKUP(L40,Models!$D$3:$O$46,MATCH(L$25,Models!$D$1:$O$1,0),0),\"\"))","v":""}]
["Annual DSI Prediction","All Vehicles",{"$f":"IFERROR(IF(ISNUMBER(SEARCH(\"*pedestrian*\",C$38)),C$44*C$42,IF(ISNUMBER(SEARCH(\"*cyclist*\",C$38)),C$44*C$43,C$44*C$41)),\"\")","v":0.1835841525454241},{"$f":"IFERROR(IF(ISNUMBER(SEARCH(\"*pedestrian*\",D$38)),D$44*D$42,IF(ISNUMBER(SEARCH(\"*cyclist*\",D$38)),D$44*D$43,D$44*D$41)),\"\")","v":""},"","","","","","","",""]
[null,"Pedestrians",{"$f":"IFERROR(IF(ISNUMBER(SEARCH(\"*pedestrian*\",C$39)),C$45*C$42,IF(ISNUMBER(SEARCH(\"*cyclist*\",C$39)),C$45*C$43,C$45*C$41)),\"\")","v":6.0294125094977655E-2},{"$f":"IFERROR(IF(ISNUMBER(SEARCH(\"*pedestrian*\",D$39)),D$45*D$42,IF(ISNUMBER(SEARCH(\"*cyclist*\",D$39)),D$45*D$43,D$45*D$41)),\"\")","v":""},"","","","","","","",""]
[null,"Cyclists",{"$f":"IFERROR(IF(ISNUMBER(SEARCH(\"*pedestrian*\",C$40)),C$46*C$42,IF(ISNUMBER(SEARCH(\"*cyclist*\",C$40)),C$46*C$43,C$46*C$41)),\"\")","v":1.1903211816564157E-2},{"$f":"IFERROR(IF(ISNUMBER(SEARCH(\"*pedestrian*\",D$40)),D$46*D$42,IF(ISNUMBER(SEARCH(\"*cyclist*\",D$40)),D$46*D$43,D$46*D$41)),\"\")","v":""},"","","","","","","",""]

{"sheet":"Options Assessment","index":2,"n_rows":54,"n_cols":20,"rows_kept":54,"cut":false,"hidden":false,"merged":[[0,0,0,1],[1,0,4,0],[35,0,35,1],[36,0,36,1],[37,0,37,1],[43,0,43,1],[38,0,38,1],[39,0,39,1],[40,0,40,1],[41,0,41,1],[42,0,42,1]]}
["Options (Click here for CMF's)",null,"Segment 1","Segment 2","Segment 3","Segment 4","Segment 5","Segment 6","Segment 7","Segment 8","Segment 9","Segment 10",null,null,"Facility","Treatment","Signalised Intersection","Midblock","Priority Intersection","Roundabout"]
[null,"Road Name",{"$f":"IF('Do Minimum Assessment'!C26=\"\",\"\",'Do Minimum Assessment'!C26)","v":"Joe Bloggs Avenue"},{"$f":"IF('Do Minimum Assessment'!D26=\"\",\"\",'Do Minimum Assessment'!D26)","v":""},{"$f":"IF('Do Minimum Assessment'!E26=\"\",\"\",'Do Minimum Assessment'!E26)","v":""},{"$f":"IF('Do Minimum Assessment'!F26=\"\",\"\",'Do Minimum Assessment'!F26)","v":""},{"$f":"IF('Do Minimum Assessment'!G26=\"\",\"\",'Do Minimum Assessment'!G26)","v":""},{"$f":"IF('Do Minimum Assessment'!H26=\"\",\"\",'Do Minimum Assessment'!H26)","v":""},{"$f":"IF('Do Minimum Assessment'!I26=\"\",\"\",'Do Minimum Assessment'!I26)","v":""},{"$f":"IF('Do Minimum Assessment'!J26=\"\",\"\",'Do Minimum Assessment'!J26)","v":""},{"$f":"IF('Do Minimum Assessment'!K26=\"\",\"\",'Do Minimum Assessment'!K26)","v":""},{"$f":"IF('Do Minimum Assessment'!L26=\"\",\"\",'Do Minimum Assessment'!L26)","v":""},null,null,"Median","Flush median",null,0.85,0.85]
[null,"Road Type",{"$f":"IF('Do Minimum Assessment'!C27=\"\",\"\",'Do Minimum Assessment'!C27)","v":"Signalised_Intersection"},{"$f":"IF('Do Minimum Assessment'!D27=\"\",\"\",'Do Minimum Assessment'!D27)","v":""},{"$f":"IF('Do Minimum Assessment'!E27=\"\",\"\",'Do Minimum Assessment'!E27)","v":""},{"$f":"IF('Do Minimum Assessment'!F27=\"\",\"\",'Do Minimum Assessment'!F27)","v":""},{"$f":"IF('Do Minimum Assessment'!G27=\"\",\"\",'Do Minimum Assessment'!G27)","v":""},{"$f":"IF('Do Minimum Assessment'!H27=\"\",\"\",'Do Minimum Assessment'!H27)","v":""},{"$f":"IF('Do Minimum Assessment'!I27=\"\",\"\",'Do Minimum Assessment'!I27)","v":""},{"$f":"IF('Do Minimum Assessment'!J27=\"\",\"\",'Do Minimum Assessment'!J27)","v":""},{"$f":"IF('Do Minimum Assessment'!K27=\"\",\"\",'Do Minimum Assessment'!K27)","v":""},{"$f":"IF('Do Minimum Assessment'!L27=\"\",\"\",'Do Minimum Assessment'!L27)","v":""},null,null,"Median","Solid median",null,0.55000000000000004,0.55000000000000004]
[null,null,null,null,null,null,null,null,null,null,null,null,null,null,"Parking ban","One side",1.5,1.5,1.5]
[null,"All Crashes",{"$f":"'Do Minimum Assessment'!C40","v":"Cyclists Crossing/ Turning Signalised intersection"},{"$f":"'Do Minimum Assessment'!D40","v":""},{"$f":"'Do Minimum Assessment'!E40","v":""},{"$f":"'Do Minimum Assessment'!F40","v":""},{"$f":"'Do Minimum Assessment'!G40","v":""},{"$f":"'Do Minimum Assessment'!H40","v":""},{"$f":"'Do Minimum Assessment'!I40","v":""},{"$f":"'Do Minimum Assessment'!J40","v":""},{"$f":"'Do Minimum Assessment'!K40","v":""},{"$f":"'Do Minimum Assessment'!L40","v":""},null,null,"Parking ban","Both sides",0.8,0.8,0.8]
["All Vehicles","Reduce speed limit by (Km/h)",null,null,null,null,null,null,null,null,null,null,null,null,"Parking - convert angle to parallel","Yes",null,0.65]
["All Vehicles","Alter medians ","Solid Median",null,null,null,null,null,null,null,null,null,null,null,"Road diet: Four to two lanes","Yes",null,0.65]
["All Vehicles","Parking ban","One Side",null,null,null,null,null,null,null,null,null,null,null,"New Route lighting","Subcategory V4",null,0.95]
["All Vehicles","Parking angle to parallel","Yes",null,null,null,null,null,null,null,null,null,null,null,"New Route lighting","Subcategory V3",null,0.91]
["All Vehicles","Four to two lanes","No",null,null,null,null,null,null,null,null,null,null,null,"New Route lighting","Subcategory V2/V1",null,0.88]
["All Vehicles","New midblock lighting","Subcategory V4",null,null,null,null,null,null,null,null,null,null,null,"Traffic Calming","Yes",null,0.8]
["All Vehicles","Introduce traffic calming","No",null,null,null,null,null,null,null,null,null,null,null,"Intermittent Surface Treatment","Yes",null,0.95]
["All Vehicles","Intermittent surface treatment","Yes",null,null,null,null,null,null,null,null,null,null,null,"Gateway Treatment","Yes",null,0.8,0.8]
["All Vehicles","Introduce gateway treatment","No",null,null,null,null,null,null,null,null,null,null,null,"New Traffic Signals","Yes",0.5,null,0.5]
["Cyclists","Advance cycle box at signal intersection","No",null,null,null,null,null,null,null,null,null,null,null,"Upgrade Traffic Signals","Yes",0.8,null,0.8]
["Cyclists","Midblock cycle facility","None",null,null,null,null,null,null,null,null,null,null,null,"Linked / Coordinated signals","Yes",0.85,null,0.85]
["All Vehicles","Increase number of lanes",4,null,null,null,null,null,null,null,null,null,null,null,"Signal Visibility","Replace pedestal mount with a mast arm mount signal",0.65]
["Pedestrians","New midblock pedestrian facility","Kerb extension",null,null,null,null,null,null,null,null,null,null,null,"Signal Visibility","Increase lens size to twelve inches",0.95]
["All Vehicles",null,null,null,null,null,null,null,null,null,null,null,null,null,"Signal Visibility","Provide additional signal head",0.8]
["All Vehicles","Install traffic signals - intersection","No",null,null,null,null,null,null,null,null,null,null,null,"Install right-turn lane","Signalised",0.7]
["All Vehicles","Upgrade Traffic Signals","No",null,null,null,null,null,null,null,null,null,null,null,"Install right-turn lane","Unsignalised",null,null,0.65,0.65]
["All Vehicles","Linked/Coordinated signals","Yes",null,null,null,null,null,null,null,null,null,null,null,"Install left-turn lane","Yes",0.8,null,0.8,0.8]
["All Vehicles","Improve Signal visibility","Increase lens size to twelve inches",null,null,null,null,null,null,null,null,null,null,null,"Install red light camera","Yes",0.95]
["All Vehicles","Install right-turn lane","No",null,null,null,null,null,null,null,null,null,null,null,"Street Lighting intersection","Yes",0.9,null,0.9,0.9]
["All Vehicles","Install left-turn lane","No",null,null,null,null,null,null,null,null,null,null,null,"Friction Surfacing","Yes",0.85,null,0.85]
["All Vehicles","Install red light camera","Yes",null,null,null,null,null,null,null,null,null,null,null,"Banned Right Turn","Yes",0.35,null,0.35]
["All Vehicles","Improve Street Lighting at Intersection","Yes",null,null,null,null,null,null,null,null,null,null,null,"Raised Intersection","Yes",0.6,null,0.6]
["All Vehicles","High Friction Surfacing","No",null,null,null,null,null,null,null,null,null,null,null,"Intersection Cycle facility","Yes",0.65]
["All Vehicles","Ban Right Turn","No",null,null,null,null,null,null,null,null,null,null,null,"Cycle facility","Standard on-road cycle lane",0.9,0.9,0.9]
["All Vehicles","Raised intersection","No",null,null,null,null,null,null,null,null,null,null,null,"Cycle facility","Wide on-road cycle lane",0.8,0.8,0.8]
["All Vehicles",null,null,null,null,null,null,null,null,null,null,null,null,null,"Cycle facility","Advanced Cycle stop boxes",0.65]
["Pedestrians","Improved lighting","Subcategory V3",null,null,null,null,null,null,null,null,null,null,null,"Cycle facility","Separated cycle paths",1,1,1]
["Pedestrians","Barnes dance","No",null,null,null,null,null,null,null,null,null,null,null,"Cycle facility","Shared path",1,1,1]
["Pedestrians","Traffic signals rest on red","No",null,null,null,null,null,null,null,null,null,null,null,"Improved lighting","Subcategory V4",null,0.95]
["Pedestrians","Pedestrian improved signal timing","Yes",null,null,null,null,null,null,null,null,null,null,null,"Improved lighting","Subcategory V3",null,0.91]
["All Vehicle Combined CMFs ",null,{"$f":"IFERROR(VLOOKUP(C$3,CMFs_all!$L$2:$W$6,MATCH('Options Assessment'!C$1,CMFs_all!$L$2:$W$2,0),0),\"\")","v":1.0356187499999998},{"$f":"IFERROR(VLOOKUP(D$3,CMFs_all!$L$2:$W$6,MATCH('Options Assessment'!D$1,CMFs_all!$L$2:$W$2,0),0),\"\")","v":""},{"$f":"IFERROR(VLOOKUP(E$3,CMFs_all!$L$2:$W$6,MATCH('Options Assessment'!E$1,CMFs_all!$L$2:$W$2,0),0),\"\")","v":""},{"$f":"IFERROR(VLOOKUP(F$3,CMFs_all!$L$2:$W$6,MATCH('Options Assessment'!F$1,CMFs_all!$L$2:$W$2,0),0),\"\")","v":""},{"$f":"IFERROR(VLOOKUP(G$3,CMFs_all!$L$2:$W$6,MATCH('Options Assessment'!G$1,CMFs_all!$L$2:$W$2,0),0),\"\")","v":""},{"$f":"IFERROR(VLOOKUP(H$3,CMFs_all!$L$2:$W$6,MATCH('Options Assessment'!H$1,CMFs_all!$L$2:$W$2,0),0),\"\")","v":""},{"$f":"IFERROR(VLOOKUP(I$3,CMFs_all!$L$2:$W$6,MATCH('Options Assessment'!I$1,CMFs_all!$L$2:$W$2,0),0),\"\")","v":""},{"$f":"IFERROR(VLOOKUP(J$3,CMFs_all!$L$2:$W$6,MATCH('Options Assessment'!J$1,CMFs_all!$L$2:$W$2,0),0),\"\")","v":""},{"$f":"IFERROR(VLOOKUP(K$3,CMFs_all!$L$2:$W$6,MATCH('Options Assessment'!K$1,CMFs_all!$L$2:$W$2,0),0),\"\")","v":""},{"$f":"IFERROR(VLOOKUP(L$3,CMFs_all!$L$2:$W$6,MATCH('Options Assessment'!L$1,CMFs_all!$L$2:$W$2,0),0),\"\")","v":""},null,null,"Improved lighting","Subcategory V2/V1",null,0.88]
["Pedestrians Combined CMFs ",null,{"$f":"IFERROR(VLOOKUP(C$3,CMFs_ped!$L$2:$W$6,MATCH('Options Assessment'!C$1,CMFs_ped!$L$2:$W$2,0),0),\"\")","v":0.65},{"$f":"IFERROR(VLOOKUP(D$3,CMFs_ped!$L$2:$W$6,MATCH('Options Assessment'!D$1,CMFs_ped!$L$2:$W$2,0),0),\"\")","v":""},{"$f":"IFERROR(VLOOKUP(E$3,CMFs_ped!$L$2:$W$6,MATCH('Options Assessment'!E$1,CMFs_ped!$L$2:$W$2,0),0),\"\")","v":""},{"$f":"IFERROR(VLOOKUP(F$3,CMFs_ped!$L$2:$W$6,MATCH('Options Assessment'!F$1,CMFs_ped!$L$2:$W$2,0),0),\"\")","v":""},{"$f":"IFERROR(VLOOKUP(G$3,CMFs_ped!$L$2:$W$6,MATCH('Options Assessment'!G$1,CMFs_ped!$L$2:$W$2,0),0),\"\")","v":""},{"$f":"IFERROR(VLOOKUP(H$3,CMFs_ped!$L$2:$W$6,MATCH('Options Assessment'!H$1,CMFs_ped!$L$2:$W$2,0),0),\"\")","v":""},{"$f":"IFERROR(VLOOKUP(I$3,CMFs_ped!$L$2:$W$6,MATCH('Options Assessment'!I$1,CMFs_ped!$L$2:$W$2,0),0),\"\")","v":""},{"$f":"IFERROR(VLOOKUP(J$3,CMFs_ped!$L$2:$W$6,MATCH('Options Assessment'!J$1,CMFs_ped!$L$2:$W$2,0),0),\"\")","v":""},{"$f":"IFERROR(VLOOKUP(K$3,CMFs_ped!$L$2:$W$6,MATCH('Options Assessment'!K$1,CMFs_ped!$L$2:$W$2,0),0),\"\")","v":""},{"$f":"IFERROR(VLOOKUP(L$3,CMFs_ped!$L$2:$W$6,MATCH('Options Assessment'!L$1,CMFs_ped!$L$2:$W$2,0),0),\"\")","v":""},null,null,"Barnes dance","Yes",0.45]
["Cyclists Combined CMFs ",null,{"$f":"IFERROR(VLOOKUP(C$3,CMFs_cyc!$L$2:$W$6,MATCH('Options Assessment'!C$1,CMFs_cyc!$L$2:$W$2,0),0),\"\")","v":1},{"$f":"IFERROR(VLOOKUP(D$3,CMFs_cyc!$L$2:$W$6,MATCH('Options Assessment'!D$1,CMFs_cyc!$L$2:$W$2,0),0),\"\")","v":""},{"$f":"IFERROR(VLOOKUP(E$3,CMFs_cyc!$L$2:$W$6,MATCH('Options Assessment'!E$1,CMFs_cyc!$L$2:$W$2,0),0),\"\")","v":""},{"$f":"IFERROR(VLOOKUP(F$3,CMFs_cyc!$L$2:$W$6,MATCH('Options Assessment'!F$1,CMFs_cyc!$L$2:$W$2,0),0),\"\")","v":""},{"$f":"IFERROR(VLOOKUP(G$3,CMFs_cyc!$L$2:$W$6,MATCH('Options Assessment'!G$1,CMFs_cyc!$L$2:$W$2,0),0),\"\")","v":""},{"$f":"IFERROR(VLOOKUP(H$3,CMFs_cyc!$L$2:$W$6,MATCH('Options Assessment'!H$1,CMFs_cyc!$L$2:$W$2,0),0),\"\")","v":""},{"$f":"IFERROR(VLOOKUP(I$3,CMFs_cyc!$L$2:$W$6,MATCH('Options Assessment'!I$1,CMFs_cyc!$L$2:$W$2,0),0),\"\")","v":""},{"$f":"IFERROR(VLOOKUP(J$3,CMFs_cyc!$L$2:$W$6,MATCH('Options Assessment'!J$1,CMFs_cyc!$L$2:$W$2,0),0),\"\")","v":""},{"$f":"IFERROR(VLOOKUP(K$3,CMFs_cyc!$L$2:$W$6,MATCH('Options Assessment'!K$1,CMFs_cyc!$L$2:$W$2,0),0),\"\")","v":""},{"$f":"IFERROR(VLOOKUP(L$3,CMFs_cyc!$L$2:$W$6,MATCH('Options Assessment'!L$1,CMFs_cyc!$L$2:$W$2,0),0),\"\")","v":""},null,null,"Improve signal timing to reduce pedestrian delays","Yes",0.65]
["All Vehicle Revised Crash Prediction",null,{"$f":"IFERROR('Do Minimum Assessment'!C44*('Options Assessment'!C36),\"\")","v":0.97499072091744299},{"$f":"IFERROR('Do Minimum Assessment'!D44*('Options Assessment'!D36),\"\")","v":""},{"$f":"IFERROR('Do Minimum Assessment'!E44*('Options Assessment'!E36),\"\")","v":""},{"$f":"IFERROR('Do Minimum Assessment'!F44*('Options Assessment'!F36),\"\")","v":""},{"$f":"IFERROR('Do Minimum Assessment'!G44*('Options Assessment'!G36),\"\")","v":""},{"$f":"IFERROR('Do Minimum Assessment'!H44*('Options Assessment'!H36),\"\")","v":""},{"$f":"IFERROR('Do Minimum Assessment'!I44*('Options Assessment'!I36),\"\")","v":""},{"$f":"IFERROR('Do Minimum Assessment'!J44*('Options Assessment'!J36),\"\")","v":""},{"$f":"IFERROR('Do Minimum Assessment'!K44*('Options Assessment'!K36),\"\")","v":""},{"$f":"IFERROR('Do Minimum Assessment'!L44*('Options Assessment'!L36),\"\")","v":""},null,null,"Pedestrian facility","Pedestrian overpass",null,0.15]
["Pedestrians Revised Crash Prediction",null,{"$f":"IFERROR('Do Minimum Assessment'!C45*('Options Assessment'!C37),\"\")","v":9.0094669682150533E-2},{"$f":"IFERROR('Do Minimum Assessment'!D45*('Options Assessment'!D37),\"\")","v":""},{"$f":"IFERROR('Do Minimum Assessment'!E45*('Options Assessment'!E37),\"\")","v":""},{"$f":"IFERROR('Do Minimum Assessment'!F45*('Options Assessment'!F37),\"\")","v":""},{"$f":"IFERROR('Do Minimum Assessment'!G45*('Options Assessment'!G37),\"\")","v":""},{"$f":"IFERROR('Do Minimum Assessment'!H45*('Options Assessment'!H37),\"\")","v":""},{"$f":"IFERROR('Do Minimum Assessment'!I45*('Options Assessment'!I37),\"\")","v":""},{"$f":"IFERROR('Do Minimum Assessment'!J45*('Options Assessment'!J37),\"\")","v":""},{"$f":"IFERROR('Do Minimum Assessment'!K45*('Options Assessment'!K37),\"\")","v":""},{"$f":"IFERROR('Do Minimum Assessment'!L45*('Options Assessment'!L37),\"\")","v":""},null,null,"Pedestrian facility","Raised platform",0.8,null,0.8]
["Cyclists Revised Crash Prediction",null,{"$f":"IFERROR('Do Minimum Assessment'!C46*('Options Assessment'!C38),\"\")","v":4.7048268049660696E-2},{"$f":"IFERROR('Do Minimum Assessment'!D46*('Options Assessment'!D38),\"\")","v":""},{"$f":"IFERROR('Do Minimum Assessment'!E46*('Options Assessment'!E38),\"\")","v":""},{"$f":"IFERROR('Do Minimum Assessment'!F46*('Options Assessment'!F38),\"\")","v":""},{"$f":"IFERROR('Do Minimum Assessment'!G46*('Options Assessment'!G38),\"\")","v":""},{"$f":"IFERROR('Do Minimum Assessment'!H46*('Options Assessment'!H38),\"\")","v":""},{"$f":"IFERROR('Do Minimum Assessment'!I46*('Options Assessment'!I38),\"\")","v":""},{"$f":"IFERROR('Do Minimum Assessment'!J46*('Options Assessment'!J38),\"\")","v":""},{"$f":"IFERROR('Do Minimum Assessment'!K46*('Options Assessment'!K38),\"\")","v":""},{"$f":"IFERROR('Do Minimum Assessment'!L46*('Options Assessment'!L38),\"\")","v":""},null,null,"Pedestrian facility","Pedestrian refuge - kerbside parking",null,0.85]
["All Vehicle Revised DSI prediction",null,{"$f":"IFERROR(C39*'Do Minimum Assessment'!C41,\"\")","v":0.1901231905789014},{"$f":"IFERROR(D39*'Do Minimum Assessment'!D41,\"\")","v":""},{"$f":"IFERROR(E39*'Do Minimum Assessment'!E41,\"\")","v":""},{"$f":"IFERROR(F39*'Do Minimum Assessment'!F41,\"\")","v":""},{"$f":"IFERROR(G39*'Do Minimum Assessment'!G41,\"\")","v":""},{"$f":"IFERROR(H39*'Do Minimum Assessment'!H41,\"\")","v":""},{"$f":"IFERROR(I39*'Do Minimum Assessment'!I41,\"\")","v":""},{"$f":"IFERROR(J39*'Do Minimum Assessment'!J41,\"\")","v":""},{"$f":"IFERROR(K39*'Do Minimum Assessment'!K41,\"\")","v":""},{"$f":"IFERROR(L39*'Do Minimum Assessment'!L41,\"\")","v":""},null,null,"Pedestrian facility","Pedestrian refuge - no kerbside parking",null,0.55000000000000004]
["Pedestrians Revised DSI prediction",null,{"$f":"IFERROR(C40*'Do Minimum Assessment'!C42,\"\")","v":3.9191181311735476E-2},{"$f":"IFERROR(D40*'Do Minimum Assessment'!D42,\"\")","v":""},{"$f":"IFERROR(E40*'Do Minimum Assessment'!E42,\"\")","v":""},{"$f":"IFERROR(F40*'Do Minimum Assessment'!F42,\"\")","v":""},{"$f":"IFERROR(G40*'Do Minimum Assessment'!G42,\"\")","v":""},{"$f":"IFERROR(H40*'Do Minimum Assessment'!H42,\"\")","v":""},{"$f":"IFERROR(I40*'Do Minimum Assessment'!I42,\"\")","v":""},{"$f":"IFERROR(J40*'Do Minimum Assessment'!J42,\"\")","v":""},{"$f":"IFERROR(K40*'Do Minimum Assessment'!K42,\"\")","v":""},{"$f":"IFERROR(L40*'Do Minimum Assessment'!L42,\"\")","v":""},null,null,"Pedestrian facility","Kerb extension",null,0.65]
["Cyclists Revised DSI prediction",null,{"$f":"IFERROR(C41*'Do Minimum Assessment'!C43,\"\")","v":1.1903211816564157E-2},{"$f":"IFERROR(D41*'Do Minimum Assessment'!D43,\"\")","v":""},{"$f":"IFERROR(E41*'Do Minimum Assessment'!E43,\"\")","v":""},{"$f":"IFERROR(F41*'Do Minimum Assessment'!F43,\"\")","v":""},{"$f":"IFERROR(G41*'Do Minimum Assessment'!G43,\"\")","v":""},{"$f":"IFERROR(H41*'Do Minimum Assessment'!H43,\"\")","v":""},{"$f":"IFERROR(I41*'Do Minimum Assessment'!I43,\"\")","v":""},{"$f":"IFERROR(J41*'Do Minimum Assessment'!J43,\"\")","v":""},{"$f":"IFERROR(K41*'Do Minimum Assessment'!K43,\"\")","v":""},{"$f":"IFERROR(L41*'Do Minimum Assessment'!L43,\"\")","v":""},null,null,"Pedestrian facility","Pedestrian refuge and kerb extensions",null,0.55000000000000004]
[null,null,null,null,null,null,null,null,null,null,null,null,null,null,"Pedestrian facility","Zebra crossing - two lane road",null,1]
[null,null,null,null,null,null,null,null,null,null,null,null,null,null,"Pedestrian facility","Zebra crossing - multi lane road",null,1.9]
[null,null,null,null,null,null,null,null,null,null,null,null,null,null,"Pedestrian facility","Mid-block traffic signals",null,0.55000000000000004,0.55000000000000004]
[null,null,null,null,null,null,null,null,null,null,null,null,null,null,"Pedestrian facility","Fencing and barriers",null,0.8]
[null,null,null,null,null,null,null,null,null,null,null,null,null,null,"Traffic signals rest on red","Yes",0.5,null,0.5]
[null,null,null,null,null,null,null,null,null,null,null,null,null,null,"Number of lanes",3,null,1.2]
[null,null,null,null,null,null,null,null,null,null,null,null,null,null,"Number of lanes",4,null,1.4]
[null,null,null,null,null,null,null,null,null,null,null,null,null,null,"Speed Limit Change",10,0.92,0.92,0.92,0.92]
[null,null,null,null,null,null,null,null,null,null,null,null,null,null,"Speed Limit Change",20,0.84,0.84,0.84,0.84]
[null,null,null,null,null,null,null,null,null,null,null,null,null,null,"Speed Limit Change",30,0.77,0.77,0.77,0.77]

{"sheet":"Summary","index":3,"n_rows":79,"n_cols":13,"rows_kept":79,"cut":false,"hidden":false,"merged":[[69,0,69,3],[53,0,54,0],[45,0,45,1],[46,0,49,0],[50,0,50,1],[57,0,57,3],[31,0,34,0],[35,0,35,1],[36,0,39,0],[40,0,40,1],[41,0,44,0],[18,0,18,1],[21,0,24,0],[25,0,25,1],[26,0,29,0],[30,0,30,1],[19,0,19,1],[20,0,20,1],[18,2,20,2],[3,8,5,8],[0,8,2,12],[3,9,5,12],[12,9,17,12],[12,8,17,8],[6,9,11,12],[6,8,11,8]]}
[null,null,null,null,null,null,null,null,"A2 - Arterial Activity Centre Tool"]
[]
[]
[null,null,null,null,null,null,null,null,"Road Name",{"$f":"IF('Do Minimum Assessment'!B13=\"\",\"\",'Do Minimum Assessment'!B13)","v":"Joe Bloggs Avenue"}]
[]
[]
[null,null,null,null,null,null,null,null,"Route Discerption",{"$f":"IF('Do Minimum Assessment'!B16=\"\",\"\",'Do Minimum Assessment'!B16)","v":"4 lane arterial"}]
[]
[]
[]
[]
[]
[null,null,null,null,null,null,null,null,"Safety Concern",{"$f":"IF('Do Minimum Assessment'!B20=\"\",\"\",'Do Minimum Assessment'!B20)","v":"head on crashes"}]
[]
[]
[]
[]
[]
["Summary Table",null,"Total Corridor","Segment 1","Segment 2","Segment 3","Segment 4","Segment 5","Segment 6","Segment 7","Segment 8","Segment 9","Segment 10"]
[{"$f":"'Do Minimum Assessment'!B26","v":"Intersection/ Corridor Name"},null,null,{"$f":"IF('Do Minimum Assessment'!C26=\"\",\"\",'Do Minimum Assessment'!C26)","v":"Joe Bloggs Avenue"},{"$f":"IF('Do Minimum Assessment'!D26=\"\",\"\",'Do Minimum Assessment'!D26)","v":""},{"$f":"IF('Do Minimum Assessment'!E26=\"\",\"\",'Do Minimum Assessment'!E26)","v":""},{"$f":"IF('Do Minimum Assessment'!F26=\"\",\"\",'Do Minimum Assessment'!F26)","v":""},{"$f":"IF('Do Minimum Assessment'!G26=\"\",\"\",'Do Minimum Assessment'!G26)","v":""},{"$f":"IF('Do Minimum Assessment'!H26=\"\",\"\",'Do Minimum Assessment'!H26)","v":""},{"$f":"IF('Do Minimum Assessment'!I26=\"\",\"\",'Do Minimum Assessment'!I26)","v":""},{"$f":"IF('Do Minimum Assessment'!J26=\"\",\"\",'Do Minimum Assessment'!J26)","v":""},{"$f":"IF('Do Minimum Assessment'!K26=\"\",\"\",'Do Minimum Assessment'!K26)","v":""},{"$f":"IF('Do Minimum Assessment'!L26=\"\",\"\",'Do Minimum Assessment'!L26)","v":""}]
[{"$f":"'Do Minimum Assessment'!B27","v":"Segment Type"},null,null,{"$f":"IF('Do Minimum Assessment'!C27=\"\",\"\",'Do Minimum Assessment'!C27)","v":"Signalised_Intersection"},{"$f":"IF('Do Minimum Assessment'!D27=\"\",\"\",'Do Minimum Assessment'!D27)","v":""},{"$f":"IF('Do Minimum Assessment'!E27=\"\",\"\",'Do Minimum Assessment'!E27)","v":""},{"$f":"IF('Do Minimum Assessment'!F27=\"\",\"\",'Do Minimum Assessment'!F27)","v":""},{"$f":"IF('Do Minimum Assessment'!G27=\"\",\"\",'Do Minimum Assessment'!G27)","v":""},{"$f":"IF('Do Minimum Assessment'!H27=\"\",\"\",'Do Minimum Assessment'!H27)","v":""},{"$f":"IF('Do Minimum Assessment'!I27=\"\",\"\",'Do Minimum Assessment'!I27)","v":""},{"$f":"IF('Do Minimum Assessment'!J27=\"\",\"\",'Do Minimum Assessment'!J27)","v":""},{"$f":"IF('Do Minimum Assessment'!K27=\"\",\"\",'Do Minimum Assessment'!K27)","v":""},{"$f":"IF('Do Minimum Assessment'!L27=\"\",\"\",'Do Minimum Assessment'!L27)","v":""}]
["All Vehicle Crashes - Do Minimum","All Injury Crash Prediction",{"$f":"IF(D22=\"\",\"\",SUM(D22:M22))","v":0.94145719254063642},{"$f":"'Do Minimum Assessment'!C44","v":0.94145719254063642},{"$f":"'Do Minimum Assessment'!D44","v":""},{"$f":"'Do Minimum Assessment'!E44","v":""},{"$f":"'Do Minimum Assessment'!F44","v":""},{"$f":"'Do Minimum Assessment'!G44","v":""},{"$f":"'Do Minimum Assessment'!H44","v":""},{"$f":"'Do Minimum Assessment'!I44","v":""},{"$f":"'Do Minimum Assessment'!J44","v":""},{"$f":"'Do Minimum Assessment'!K44","v":""},{"$f":"'Do Minimum Assessment'!L44","v":""}]
[null,"All Injury Crash Return Period (Years)",{"$f":"IF(D23=\"\",\"\",SUM(D23:M23))","v":1.0621831857286881},{"$f":"IFERROR(1/D22,\"\")","v":1.0621831857286881},{"$f":"IFERROR(1/E22,\"\")","v":""},"","","","","","","",""]
[null,"DSI Prediction",0.1835841525454241,{"$f":"'Do Minimum Assessment'!C47","v":0.1835841525454241},{"$f":"'Do Minimum Assessment'!D47","v":""},{"$f":"'Do Minimum Assessment'!E47","v":""},{"$f":"'Do Minimum Assessment'!F47","v":""},{"$f":"'Do Minimum Assessment'!G47","v":""},{"$f":"'Do Minimum Assessment'!H47","v":""},{"$f":"'Do Minimum Assessment'!I47","v":""},{"$f":"'Do Minimum Assessment'!J47","v":""},{"$f":"'Do Minimum Assessment'!K47","v":""},{"$f":"'Do Minimum Assessment'!L47","v":""}]
[null,"DSI Return Period (Years)",5.4470932601471178,{"$f":"IFERROR(1/D24,\"\")","v":5.4470932601471178},"","","","","","","","",""]
["Combined Crash Modification Factor (CMF) following option",null,null,{"$f":"IFERROR('Options Assessment'!C36,\"\")","v":1.0356187499999998},{"$f":"IFERROR('Options Assessment'!D36,\"\")","v":""},{"$f":"IFERROR('Options Assessment'!E36,\"\")","v":""},{"$f":"IFERROR('Options Assessment'!F36,\"\")","v":""},{"$f":"IFERROR('Options Assessment'!G36,\"\")","v":""},{"$f":"IFERROR('Options Assessment'!H36,\"\")","v":""},{"$f":"IFERROR('Options Assessment'!I36,\"\")","v":""},{"$f":"IFERROR('Options Assessment'!J36,\"\")","v":""},{"$f":"IFERROR('Options Assessment'!K36,\"\")","v":""},{"$f":"IFERROR('Options Assessment'!L36,\"\")","v":""}]
["All Vehicle Crashes - Option","All Injury Crash Prediction",{"$f":"IF(D27=\"\",\"\",SUM(D27:M27))","v":0.97499072091744299},{"$f":"'Options Assessment'!C39","v":0.97499072091744299},{"$f":"'Options Assessment'!D39","v":""},{"$f":"'Options Assessment'!E39","v":""},{"$f":"'Options Assessment'!F39","v":""},{"$f":"'Options Assessment'!G39","v":""},{"$f":"'Options Assessment'!H39","v":""},{"$f":"'Options Assessment'!I39","v":""},{"$f":"'Options Assessment'!J39","v":""},{"$f":"'Options Assessment'!K39","v":""},{"$f":"'Options Assessment'!L39","v":""}]
[null,"All Injury Crash Return Period (Years)",{"$f":"IF(D28=\"\",\"\",SUM(D28:M28))","v":1.0256507867675129},{"$f":"IFERROR(1/D27,\"\")","v":1.0256507867675129},{"$f":"IFERROR(1/E27,\"\")","v":""},"","","","","","","",""]
[null,"DSI Prediction",0.1901231905789014,{"$f":"'Options Assessment'!C42","v":0.1901231905789014},{"$f":"'Options Assessment'!D42","v":""},{"$f":"'Options Assessment'!E42","v":""},{"$f":"'Options Assessment'!F42","v":""},{"$f":"'Options Assessment'!G42","v":""},{"$f":"'Options Assessment'!H42","v":""},{"$f":"'Options Assessment'!I42","v":""},{"$f":"'Options Assessment'!J42","v":""},{"$f":"'Options Assessment'!K42","v":""},{"$f":"'Options Assessment'!L42","v":""}]
[null,"DSI Return Period (Years)",5.2597476244487833,{"$f":"IFERROR(1/D29,\"\")","v":5.2597476244487833},{"$f":"IFERROR(1/E29,\"\")","v":""},"","","","","","","",""]
["DSI Reduction per annum",null,{"$f":"IFERROR(C24-C29,\"\")","v":-6.5390380334773013E-3},{"$f":"IFERROR(D24-D29,\"\")","v":-6.5390380334773013E-3},{"$f":"IFERROR(E24-E29,\"\")","v":""},"","","","","","","",""]
["Pedestrian Crashes - Do Minimum","All Injury Crash Prediction",0.13860718412638542,{"$f":"'Do Minimum Assessment'!C45","v":0.13860718412638542},{"$f":"'Do Minimum Assessment'!D45","v":""},{"$f":"'Do Minimum Assessment'!E45","v":""},{"$f":"'Do Minimum Assessment'!F45","v":""},{"$f":"'Do Minimum Assessment'!G45","v":""},{"$f":"'Do Minimum Assessment'!H45","v":""},{"$f":"'Do Minimum Assessment'!I45","v":""},{"$f":"'Do Minimum Assessment'!J45","v":""},{"$f":"'Do Minimum Assessment'!K45","v":""},{"$f":"'Do Minimum Assessment'!L45","v":""}]
[null,"All Injury Crash Return Period (Years)",7.2146332551433661,{"$f":"IFERROR(1/D32,\"\")","v":7.2146332551433661},{"$f":"IFERROR(1/E32,\"\")","v":""},"","","","","","","",""]
[null,"DSI Prediction",6.0294125094977655E-2,{"$f":"'Do Minimum Assessment'!C48","v":6.0294125094977655E-2},{"$f":"'Do Minimum Assessment'!D48","v":""},{"$f":"'Do Minimum Assessment'!E48","v":""},{"$f":"'Do Minimum Assessment'!F48","v":""},{"$f":"'Do Minimum Assessment'!G48","v":""},{"$f":"'Do Minimum Assessment'!H48","v":""},{"$f":"'Do Minimum Assessment'!I48","v":""},{"$f":"'Do Minimum Assessment'!J48","v":""},{"$f":"'Do Minimum Assessment'!K48","v":""},{"$f":"'Do Minimum Assessment'!L48","v":""}]
[null,"DSI Return Period (Years)",16.58536380492728,{"$f":"IFERROR(1/D34,\"\")","v":16.58536380492728},"","","","","","","","",""]
["Combined Crash Modification Factor (CMF) following option",null,null,{"$f":"IF(D32=\"\",\"\",IFERROR('Options Assessment'!C37,\"\"))","v":0.65},{"$f":"IF(E32=\"\",\"\",IFERROR('Options Assessment'!D37,\"\"))","v":""},{"$f":"IF(F32=\"\",\"\",IFERROR('Options Assessment'!E37,\"\"))","v":""},{"$f":"IF(G32=\"\",\"\",IFERROR('Options Assessment'!F37,\"\"))","v":""},{"$f":"IF(H32=\"\",\"\",IFERROR('Options Assessment'!G37,\"\"))","v":""},{"$f":"IF(I32=\"\",\"\",IFERROR('Options Assessment'!H37,\"\"))","v":""},{"$f":"IF(J32=\"\",\"\",IFERROR('Options Assessment'!I37,\"\"))","v":""},{"$f":"IF(K32=\"\",\"\",IFERROR('Options Assessment'!J37,\"\"))","v":""},{"$f":"IF(L32=\"\",\"\",IFERROR('Options Assessment'!K37,\"\"))","v":""},{"$f":"IF(M32=\"\",\"\",IFERROR('Options Assessment'!L37,\"\"))","v":""}]
["Pedestrian Crashes - Option","All Injury Crash Prediction",{"$f":"IF(D37=\"\",\"\",SUM(D37:M37))","v":9.0094669682150533E-2},{"$f":"'Options Assessment'!C40","v":9.0094669682150533E-2},{"$f":"'Options Assessment'!D40","v":""},{"$f":"'Options Assessment'!E40","v":""},{"$f":"'Options Assessment'!F40","v":""},{"$f":"'Options Assessment'!G40","v":""},{"$f":"'Options Assessment'!H40","v":""},{"$f":"'Options Assessment'!I40","v":""},{"$f":"'Options Assessment'!J40","v":""},{"$f":"'Options Assessment'!K40","v":""},{"$f":"'Options Assessment'!L40","v":""}]
[null,"All Injury Crash Return Period (Years)",{"$f":"IF(D38=\"\",\"\",SUM(D38:M38))","v":11.09943577714364},{"$f":"IFERROR(1/D37,\"\")","v":11.09943577714364},{"$f":"IFERROR(1/E37,\"\")","v":""},"","","","","","","",""]
[null,"DSI Prediction",3.9191181311735476E-2,{"$f":"'Options Assessment'!C43","v":3.9191181311735476E-2},{"$f":"'Options Assessment'!D43","v":""},{"$f":"'Options Assessment'!E43","v":""},{"$f":"'Options Assessment'!F43","v":""},{"$f":"'Options Assessment'!G43","v":""},{"$f":"'Options Assessment'!H43","v":""},{"$f":"'Options Assessment'!I43","v":""},{"$f":"'Options Assessment'!J43","v":""},{"$f":"'Options Assessment'!K43","v":""},{"$f":"'Options Assessment'!L43","v":""}]
[null,"DSI Return Period (Years)",25.515944315272737,{"$f":"IFERROR(1/D39,\"\")","v":25.515944315272737},{"$f":"IFERROR(1/E39,\"\")","v":""},"","","","","","","",""]
["DSI Reduction per annum",null,{"$f":"IFERROR(C34-C39,\"\")","v":2.1102943783242178E-2},{"$f":"IFERROR(D34-D39,\"\")","v":2.1102943783242178E-2},{"$f":"IFERROR(E34-E39,\"\")","v":""},"","","","","","","",""]
["Cyclist Crashes - Do Minimum","All Injury Crash Prediction",{"$f":"IF(D42=\"\",\"\",SUM(D42:M42))","v":4.7048268049660696E-2},{"$f":"'Do Minimum Assessment'!C46","v":4.7048268049660696E-2},{"$f":"'Do Minimum Assessment'!D46","v":""},{"$f":"'Do Minimum Assessment'!E46","v":""},{"$f":"'Do Minimum Assessment'!F46","v":""},{"$f":"'Do Minimum Assessment'!G46","v":""},{"$f":"'Do Minimum Assessment'!H46","v":""},{"$f":"'Do Minimum Assessment'!I46","v":""},{"$f":"'Do Minimum Assessment'!J46","v":""},{"$f":"'Do Minimum Assessment'!K46","v":""},{"$f":"'Do Minimum Assessment'!L46","v":""}]
[null,"All Injury Crash Return Period (Years)",{"$f":"IF(D43=\"\",\"\",SUM(D43:M43))","v":21.254767528200475},{"$f":"IFERROR(1/D42,\"\")","v":21.254767528200475},{"$f":"IFERROR(1/E42,\"\")","v":""},"","","","","","","",""]
[null,"DSI Prediction",1.1903211816564157E-2,{"$f":"'Do Minimum Assessment'!C49","v":1.1903211816564157E-2},{"$f":"'Do Minimum Assessment'!D49","v":""},{"$f":"'Do Minimum Assessment'!E49","v":""},{"$f":"'Do Minimum Assessment'!F49","v":""},{"$f":"'Do Minimum Assessment'!G49","v":""},{"$f":"'Do Minimum Assessment'!H49","v":""},{"$f":"'Do Minimum Assessment'!I49","v":""},{"$f":"'Do Minimum Assessment'!J49","v":""},{"$f":"'Do Minimum Assessment'!K49","v":""},{"$f":"'Do Minimum Assessment'!L49","v":""}]
[null,"DSI Return Period (Years)",84.010938846642176,{"$f":"IFERROR(1/D44,\"\")","v":84.010938846642176},{"$f":"IFERROR(1/E44,\"\")","v":""},"","","","","","","",""]
["Combined Crash Modification Factor (CMF) following option",null,null,{"$f":"IF(D42=\"\",\"\",IFERROR('Options Assessment'!C38,\"\"))","v":1},{"$f":"IF(E42=\"\",\"\",IFERROR('Options Assessment'!D38,\"\"))","v":""},{"$f":"IF(F42=\"\",\"\",IFERROR('Options Assessment'!E38,\"\"))","v":""},{"$f":"IF(G42=\"\",\"\",IFERROR('Options Assessment'!F38,\"\"))","v":""},{"$f":"IF(H42=\"\",\"\",IFERROR('Options Assessment'!G38,\"\"))","v":""},{"$f":"IF(I42=\"\",\"\",IFERROR('Options Assessment'!H38,\"\"))","v":""},{"$f":"IF(J42=\"\",\"\",IFERROR('Options Assessment'!I38,\"\"))","v":""},{"$f":"IF(K42=\"\",\"\",IFERROR('Options Assessment'!J38,\"\"))","v":""},{"$f":"IF(L42=\"\",\"\",IFERROR('Options Assessment'!K38,\"\"))","v":""},{"$f":"IF(M42=\"\",\"\",IFERROR('Options Assessment'!L38,\"\"))","v":""}]
["Cyclist Crashes - Option","All Injury Crash Prediction",{"$f":"IF(D47=\"\",\"\",SUM(D47:M47))","v":4.7048268049660696E-2},{"$f":"'Options Assessment'!C41","v":4.7048268049660696E-2},{"$f":"'Options Assessment'!D41","v":""},{"$f":"'Options Assessment'!E41","v":""},{"$f":"'Options Assessment'!F41","v":""},{"$f":"'Options Assessment'!G41","v":""},{"$f":"'Options Assessment'!H41","v":""},{"$f":"'Options Assessment'!I41","v":""},{"$f":"'Options Assessment'!J41","v":""},{"$f":"'Options Assessment'!K41","v":""},{"$f":"'Options Assessment'!L41","v":""}]
[null,"All Injury Crash Return Period (Years)",{"$f":"IF(D48=\"\",\"\",SUM(D48:M48))","v":21.254767528200475},{"$f":"IFERROR(1/D47,\"\")","v":21.254767528200475},{"$f":"IFERROR(1/E47,\"\")","v":""},"","","","","","","",""]
[null,"DSI Prediction",1.1903211816564157E-2,{"$f":"'Options Assessment'!C44","v":1.1903211816564157E-2},{"$f":"'Options Assessment'!D44","v":""},{"$f":"'Options Assessment'!E44","v":""},{"$f":"'Options Assessment'!F44","v":""},{"$f":"'Options Assessment'!G44","v":""},{"$f":"'Options Assessment'!H44","v":""},{"$f":"'Options Assessment'!I44","v":""},{"$f":"'Options Assessment'!J44","v":""},{"$f":"'Options Assessment'!K44","v":""},{"$f":"'Options Assessment'!L44","v":""}]
[null,"DSI Return Period (Years)",84.010938846642176,{"$f":"IFERROR(1/D49,\"\")","v":84.010938846642176},{"$f":"IFERROR(1/E49,\"\")","v":""},"","","","","","","",""]
["DSI Reduction per annum",null,{"$f":"IFERROR(C44-C49,\"\")","v":0},{"$f":"IFERROR(D44-D49,\"\")","v":0},{"$f":"IFERROR(E44-E49,\"\")","v":""},"","","","","","","",""]
[]
[]
["All Crashes","Do Min DSI",null,{"$f":"IF(C24=\"\",0,C24+C34+C44)","v":0.25578148945696594}]
[null,"Option DSI",null,{"$f":"IF(C29=\"\",0,C29+C39+C49)","v":0.24121758370720101}]
[]
[]
["Do Minimum"]
[]
["Local authority",null,null,"Napier City"]
["Year when intervention will be effective",null,null,2024]
[]
["Do min DSI",{"$f":"\"Cumulative over \"&$D72&\" years to\"","v":"Cumulative over 5 years to"},{"$f":"D61+D72-1","v":2028},{"$f":"VLOOKUP(C$63,'Error Margins'!B30:AF51,31,FALSE)","v":1.2101069912215234}]
["Do min DSI -1 std error/deviation",null,null,{"$f":"MAX(0,D63-SQRT(D63))","v":0.11005835992310509}]
["Do min DSI +1 std error/deviation",null,null,{"$f":"D63+SQRT(D63)","v":2.3101556225199418}]
["Implied forecast range",null,null,{"$f":"ROUND(D64,1)&\" - \"&ROUND(D65,1)","v":"0.1 - 2.3"}]
[]
["Confidence Rating",null,null,{"$f":"IF((D65-D63)/D63<0.2,\"High\",IF((D65-D63)/D63<0.35,\"Medium\",\"Low\"))","v":"Low"}]
[]
["Option "]
[]
["Monitoring period (years)",null,null,5]
[]
["Option DSI",{"$f":"B63","v":"Cumulative over 5 years to"},{"$f":"C63","v":2028},{"$f":"D55*D63/D54","v":1.1412048818284704}]
["Option DSI -1 std error/deviation",null,null,{"$f":"MAX(0,D74-SQRT(D74))","v":7.2932968021657718E-2}]
["Option DSI +1 std error/deviation",null,null,{"$f":"D74+SQRT(D74)","v":2.209476795635283}]
["Implied forecast range",null,null,{"$f":"ROUND(D75,1)&\" - \"&ROUND(D76,1)","v":"0.1 - 2.2"}]
[]
["Confidence Rating",null,null,{"$f":"IF((D76-D74)/D74<0.2,\"High\",IF((D76-D74)/D74<0.35,\"Medium\",\"Low\"))","v":"Low"}]

{"sheet":"Error Margins","index":4,"n_rows":69,"n_cols":40,"rows_kept":69,"cut":false,"hidden":false,"merged":[[8,2,8,4],[8,6,8,8],[8,11,8,13],[8,16,8,17],[8,19,8,23],[0,0,0,34],[2,4,2,5],[7,2,7,8],[7,11,7,14],[7,16,7,17],[7,19,7,23],[7,25,7,29],[7,31,7,33]]}
["Do Minimum Projections for Deaths and Serious Injuries"]
[]
[null,null,"Select local authority",null,{"$f":"Summary!D60","v":"Napier City"},null,null,"Cells shaded yellow are for alternative assumptions and sensitivity analysis. They will over-ride default values."]
[null,null,"  Implied region",null,{"$f":"HLOOKUP(E3,LA!B3:BS4,2,FALSE)","v":"HB"},null,null,"Results are given in cells shaded light blue."]
[null,null,"  Region name",null,{"$f":"VLOOKUP(E4,Region!R3:S17,2,FALSE)","v":"Hawkes Bay"}]
[null,null,"End year for Figure 3 ",null,{"$f":"Summary!D61+Summary!D72-1","v":2028}]
[null,null," (see below)"]
[null,null,"New Zealand",null,null,null,null,null,null,null,null,{"$f":"E3","v":"Napier City"},null,null,null,null,{"$f":"E3","v":"Napier City"},null,null,{"$f":"E5","v":"Hawkes Bay"},null,null,null,null,null,{"$f":"E3","v":"Napier City"},null,null,null,null,null,"Area within LA"]
[null,null,"V/P",null,null,null,"T/V",null,null,null,null,"P",null,null,null,null,"T",null,null,"DSI/T ",null,null,null,null,null,"DSI","DSI-1se","DSI+1se","DSI-1sd","DSI+1sd",null,"DSI","DSI-1sd","DSI+1sd"]
[null,null,"level","endog change","exog change","selected change","level","endog change","exog change","selected change",null,"level","endog change","exog change","selected change",null,"level","change",null,"value","endog change","exog change","selected change","error"]
[1,2000,null,null,null,null,null,null,null,null,null,null,null,null,null,null,null,null,null,null,null,null,null,null,null,{"$f":"HLOOKUP(Z$8,LA!B$3:BS5,A11+2,FALSE)","v":21}]
[{"$f":"A11+1","v":2},{"$f":"B11+1","v":2001},{"$f":"NZ!C4","v":0.66063960829789981},null,null,null,{"$f":"NZ!B4","v":13266.491568926967},null,null,null,null,{"$f":"HLOOKUP(E$3,Popn!C$4:BT6,A12+1,FALSE)","v":55200},null,null,null,null,null,null,null,{"$f":"HLOOKUP(E$4,Region!B$3:P4,A12,FALSE)","v":98.158925642535408},null,null,null,null,null,{"$f":"HLOOKUP(Z$8,LA!B$3:BS6,A12+2,FALSE)","v":26}]
[{"$f":"A12+1","v":3},{"$f":"B12+1","v":2002},{"$f":"NZ!C5","v":0.67060934532100802},null,null,null,{"$f":"NZ!B5","v":13256.971995931872},null,null,null,null,{"$f":"HLOOKUP(E$3,Popn!C$4:BT7,A13+1,FALSE)","v":55500},null,null,null,null,null,null,null,{"$f":"HLOOKUP(E$4,Region!B$3:P5,A13,FALSE)","v":97.21000717725785},null,null,null,null,null,{"$f":"HLOOKUP(Z$8,LA!B$3:BS7,A13+2,FALSE)","v":30}]
[4,2003,{"$f":"NZ!C6","v":0.68518325387365908},null,null,null,{"$f":"NZ!B6","v":13106.600156557475},null,null,null,null,{"$f":"HLOOKUP(E$3,Popn!C$4:BT8,A14+1,FALSE)","v":55900},null,null,null,null,null,null,null,{"$f":"HLOOKUP(E$4,Region!B$3:P6,A14,FALSE)","v":102.98439072887292},null,null,null,null,null,{"$f":"HLOOKUP(Z$8,LA!B$3:BS8,A14+2,FALSE)","v":42}]
[5,2004,{"$f":"NZ!C7","v":0.70138568807339452},null,null,null,{"$f":"NZ!B7","v":12949.357285569082},null,null,null,null,{"$f":"HLOOKUP(E$3,Popn!C$4:BT9,A15+1,FALSE)","v":56200},null,null,null,null,null,null,null,{"$f":"HLOOKUP(E$4,Region!B$3:P7,A15,FALSE)","v":91.545109823444136},null,null,null,null,null,{"$f":"HLOOKUP(Z$8,LA!B$3:BS9,A15+2,FALSE)","v":33}]
[6,2005,{"$f":"NZ!C8","v":0.71774813130457926},null,null,null,{"$f":"NZ!B8","v":12607.21145806055},null,null,null,null,{"$f":"HLOOKUP(E$3,Popn!C$4:BT10,A16+1,FALSE)","v":56500},null,null,null,null,null,null,null,{"$f":"HLOOKUP(E$4,Region!B$3:P8,A16,FALSE)","v":110.5000938845631},null,null,null,null,null,{"$f":"HLOOKUP(Z$8,LA!B$3:BS10,A16+2,FALSE)","v":26}]
[7,2006,{"$f":"NZ!C9","v":0.72399727572527828},null,null,null,{"$f":"NZ!B9","v":12314.916950171291},null,null,null,null,{"$f":"HLOOKUP(E$3,Popn!C$4:BT11,A17+1,FALSE)","v":56800},null,null,null,null,null,null,null,{"$f":"HLOOKUP(E$4,Region!B$3:P9,A17,FALSE)","v":118.96828909126485},null,null,null,null,null,{"$f":"HLOOKUP(Z$8,LA!B$3:BS11,A17+2,FALSE)","v":45}]
[8,2007,{"$f":"NZ!C10","v":0.73124556086935932},null,null,null,{"$f":"NZ!B10","v":12254.349184672194},null,null,null,null,{"$f":"HLOOKUP(E$3,Popn!C$4:BT12,A18+1,FALSE)","v":57200},null,null,null,null,null,null,null,{"$f":"HLOOKUP(E$4,Region!B$3:P10,A18,FALSE)","v":103.23390971840003},null,null,null,null,null,{"$f":"HLOOKUP(Z$8,LA!B$3:BS12,A18+2,FALSE)","v":39}]
[9,2008,{"$f":"NZ!C11","v":0.72975961312737692},null,null,null,{"$f":"NZ!B11","v":11981.017243287235},null,null,null,null,{"$f":"HLOOKUP(E$3,Popn!C$4:BT13,A19+1,FALSE)","v":57400},null,null,null,null,null,null,null,{"$f":"HLOOKUP(E$4,Region!B$3:P11,A19,FALSE)","v":101.45429820367363},null,null,null,null,null,{"$f":"HLOOKUP(Z$8,LA!B$3:BS13,A19+2,FALSE)","v":32},null,null,null,null,null,{"$f":"VLOOKUP(RAND(),AM$19:AN$69,2)","v":0},null,null,null,null,null,{"$f":"EXP(-AF$29)*(AF$29^AN19)/FACT(AN19)","v":0.27834123686376488},{"$f":"AL19","v":0.27834123686376488},0]
[10,2009,{"$f":"NZ!C12","v":0.7204567005996374},null,null,null,{"$f":"NZ!B12","v":12041.209665217881},null,null,null,null,{"$f":"HLOOKUP(E$3,Popn!C$4:BT14,A20+1,FALSE)","v":57900},null,null,null,null,null,null,null,{"$f":"HLOOKUP(E$4,Region!B$3:P12,A20,FALSE)","v":87.571221263763718},null,null,null,null,null,{"$f":"HLOOKUP(Z$8,LA!B$3:BS14,A20+2,FALSE)","v":36},null,null,null,null,null,{"$f":"VLOOKUP(RAND(),AM$19:AN$69,2)","v":2},null,null,null,null,null,0.35597268071153965,{"$f":"AM19+AL20","v":0.63431391757530453},{"$f":"AN19+1","v":1}]
[11,2010,{"$f":"NZ!C13","v":0.71766589284482962},null,null,null,{"$f":"NZ!B13","v":11944.660363079207},null,null,null,null,{"$f":"HLOOKUP(E$3,Popn!C$4:BT15,A21+1,FALSE)","v":58600},null,null,null,null,null,null,null,{"$f":"HLOOKUP(E$4,Region!B$3:P13,A21,FALSE)","v":91.189424407641681},null,null,null,null,null,{"$f":"HLOOKUP(Z$8,LA!B$3:BS15,A21+2,FALSE)","v":19},null,null,null,null,null,0,null,null,null,null,null,0.22762805619596643,0.86194197377127102,2]
[12,2011,{"$f":"NZ!C14","v":0.71111199817518245},null,null,null,{"$f":"NZ!B14","v":11817.286318429904},null,null,null,null,{"$f":"HLOOKUP(E$3,Popn!C$4:BT16,A22+1,FALSE)","v":59000},null,null,null,null,null,null,null,{"$f":"HLOOKUP(E$4,Region!B$3:P14,A22,FALSE)","v":58.643499893532017},null,null,null,null,null,{"$f":"HLOOKUP(Z$8,LA!B$3:BS16,A22+2,FALSE)","v":24},null,null,null,null,null,{"$error":"#N/A"},null,null,null,null,null,9.703840542666374E-2,0.95898037919793477,3]
[13,2012,{"$f":"NZ!C15","v":0.71816519588938543},null,null,null,{"$f":"NZ!B15","v":11661.479142975553},null,null,null,null,{"$f":"HLOOKUP(E$3,Popn!C$4:BT17,A23+1,FALSE)","v":59400},null,null,null,null,null,null,null,{"$f":"HLOOKUP(E$4,Region!B$3:P15,A23,FALSE)","v":69.991858696978923},null,null,null,null,null,{"$f":"HLOOKUP(Z$8,LA!B$3:BS17,A23+2,FALSE)","v":20},null,null,null,null,null,1,null,null,null,null,null,3.1025784843201218E-2,0.99000616404113595,4]
[14,2013,{"$f":"NZ!C16","v":0.73016298597510187},null,null,null,{"$f":"NZ!B16","v":11551.975496514984},null,null,null,null,{"$f":"HLOOKUP(E$3,Popn!C$4:BT18,A24+1,FALSE)","v":59600},null,null,null,null,{"$f":"G24*C24*L24/10^9","v":0.50271556537781681},null,null,{"$f":"HLOOKUP(E$4,Region!B$3:P16,A24,FALSE)","v":61.163396300642063},null,null,null,null,null,{"$f":"HLOOKUP(Z$8,LA!B$3:BS18,A24+2,FALSE)","v":19},null,null,null,null,null,0,null,null,null,null,null,7.9358214587653651E-3,0.99794198549990132,5]
[15,2014,{"$f":"NZ!C17","v":0.74486906002616582},null,null,null,{"$f":"NZ!B17","v":11430.22814795233},null,null,null,null,{"$f":"HLOOKUP(E$3,Popn!C$4:BT19,A25+1,FALSE)","v":60500},null,null,null,null,0.51509840943521734,null,null,{"$f":"HLOOKUP(E$4,Region!B$3:P17,A25,FALSE)","v":71.178440171123142},null,null,null,null,null,{"$f":"HLOOKUP(Z$8,LA!B$3:BS19,A25+2,FALSE)","v":20},null,null,null,null,null,0,null,null,null,null,null,1.6915301939896309E-3,0.99963351569389092,6]
[16,2015,{"$f":"NZ!C18","v":0.75780816850534194},null,null,null,{"$f":"NZ!B18","v":11443.980836768687},null,null,null,null,{"$f":"HLOOKUP(E$3,Popn!C$4:BT20,A26+1,FALSE)","v":61400},null,null,null,null,0.53248180852096527,null,null,{"$f":"HLOOKUP(E$4,Region!B$3:P18,A26,FALSE)","v":67.035008304594385},null,null,null,null,null,{"$f":"HLOOKUP(Z$8,LA!B$3:BS20,A26+2,FALSE)","v":21},null,null,null,null,null,0,null,null,null,null,null,3.090443660572131E-4,0.99994256005994808,7]
[17,2016,{"$f":"NZ!C19","v":0.77385110372453758},null,null,null,{"$f":"NZ!B19","v":11512.299737763633},null,null,null,null,{"$f":"HLOOKUP(E$3,Popn!C$4:BT21,A27+1,FALSE)","v":62400},null,null,null,null,0.55590948556890807,null,null,{"$f":"HLOOKUP(E$4,Region!B$3:P19,A27,FALSE)","v":77.866601278613572},null,null,null,null,null,{"$f":"HLOOKUP(Z$8,LA!B$3:BS21,A27+2,FALSE)","v":32},null,null,null,null,null,{"$error":"#N/A"},null,null,null,null,null,4.9404892661498603E-5,0.99999196495260956,8]
[18,2017,{"$f":"NZ!C20","v":0.79070026492000245},null,null,null,{"$f":"NZ!B20","v":11437.870719670927},null,null,null,null,{"$f":"HLOOKUP(E$3,Popn!C$4:BT22,A28+1,FALSE)","v":63400},null,null,null,null,0.57338499767763196,null,null,{"$f":"HLOOKUP(E$4,Region!B$3:P20,A28,FALSE)","v":76.605810288869236},null,null,null,null,null,{"$f":"HLOOKUP(Z$8,LA!B$3:BS22,A28+2,FALSE)","v":16},{"$f":"Z28","v":16},{"$f":"Z28","v":16},{"$f":"Z28","v":16},{"$f":"Z28","v":16},null,{"$error":"#N/A"},{"$f":"AF28","v":{"$error":"#N/A"}},{"$f":"AF28","v":{"$error":"#N/A"}},null,null,null,7.0204761285664657E-6,0.99999898542873811,9]
[19,2018,{"$f":"NZ!C21","v":0.80983763685189014},{"$f":"C29/C28","v":1.0242030675604035},null,{"$f":"IF(ISNUMBER(E29)=TRUE,E29,D29)","v":1.0242030675604035},{"$f":"NZ!B21","v":11446.241402715625},{"$f":"G29/G28","v":1.0007318392775939},null,{"$f":"IF(ISNUMBER(I29)=TRUE,I29,H29)","v":1.0007318392775939},null,{"$f":"HLOOKUP(E$3,Popn!C$4:BT40,A29+18,FALSE)","v":64188.513150691986},{"$f":"L29/L28","v":1.012437115941514},null,{"$f":"IF(ISNUMBER(N29)=TRUE,N29,M29)","v":1.012437115941514},null,{"$f":"Q28*R29","v":0.59500165461111687},{"$f":"F29*J29*O29","v":1.037700074157919},null,{"$f":"HLOOKUP(E$4,Region!B$3:P21,A29,FALSE)","v":57.513100000000001},{"$f":"T29/T28","v":0.75076681237528287},null,{"$f":"IF(ISNUMBER(V29)=TRUE,V29,U29)","v":0.75076681237528287},{"$f":"HLOOKUP(E$4,Region!B$3:P46,A29+25,FALSE)","v":0.16018840677560159},null,{"$f":"W29*R29*AVERAGE(Z24:Z28)","v":16.827928780546127},{"$f":"Z29*(1-X29)","v":14.13228967985715},{"$f":"Z29*(1+X29)","v":19.523567881235106},{"$f":"$Z29-STDEV($Z$11:$Z$28)","v":8.1287063676959246},{"$f":"$Z29+STDEV($Z$11:$Z$28)","v":25.527151193396328},null,{"$f":"Summary!D54*Summary!D72","v":1.2789074472848296},{"$f":"MAX(0,$AF29-SQRT($AF29))","v":0.1480195451102464},{"$f":"$AF29+SQRT($AF29)","v":2.4097953494594129},null,null,null,8.9785392043090222E-7,0.99999988328265854,10]
[20,2019,{"$f":"NZ!C22","v":0.79149955845840014},0.97735585806461622,null,{"$f":"IF(ISNUMBER(E30)=TRUE,E30,D30)","v":0.97735585806461622},{"$f":"NZ!B22","v":11314.350251297121},0.98847733969797169,null,{"$f":"IF(ISNUMBER(I30)=TRUE,I30,H30)","v":0.98847733969797169},null,{"$f":"HLOOKUP(E$3,Popn!C$4:BT41,A30+18,FALSE)","v":64496.216302394867},1.0047937416930113,null,{"$f":"IF(ISNUMBER(N30)=TRUE,N30,M30)","v":1.0047937416930113},null,{"$f":"Q29*R30","v":0.57758317405599813},{"$f":"F30*J30*O30","v":0.97072532417325263},null,{"$f":"HLOOKUP(E$4,Region!B$3:P22,A30,FALSE)","v":58.673504999999999},{"$f":"T30/T29","v":1.0201763598206322},null,{"$f":"IF(ISNUMBER(V30)=TRUE,V30,U30)","v":1.0201763598206322},{"$f":"HLOOKUP(E$4,Region!B$3:P47,A30+25,FALSE)","v":0.2079744944337612},null,{"$f":"W30*R30*Z29","v":16.664883443055242},13.199012734188271,20.130754151922211,{"$f":"$Z30-STDEV($Z$11:$Z$28)","v":7.9656610302050392},{"$f":"$Z30+STDEV($Z$11:$Z$28)","v":25.364105855905443},null,{"$f":"W30*R30*AF29","v":1.2665161483269196},{"$f":"MAX(0,$AF30-SQRT($AF30))","v":0.14112015209851658},{"$f":"$AF30+SQRT($AF30)","v":2.3919121445553229},null,null,null,1.0438836958299652E-7,0.99999998767102816,11]
[21,2020,{"$f":"NZ!C23","v":0.79920856321299993},1.0097397461214186,null,1.0097397461214186,{"$f":"NZ!B23","v":11208.345200948219},0.99063092020359289,null,0.99063092020359289,null,{"$f":"HLOOKUP(E$3,Popn!C$4:BT42,A31+18,FALSE)","v":64788.21857213974},1.0045274325609397,null,1.0045274325609397,null,0.5803602583312647,{"$f":"F31*J31*O31","v":1.0048081114547796},null,{"$f":"HLOOKUP(E$4,Region!B$3:P23,A31,FALSE)","v":58.955613},{"$f":"T31/T30","v":1.0048080986469106},null,1.0048080986469106,{"$f":"HLOOKUP(E$4,Region!B$3:P48,A31+25,FALSE)","v":0.23714812574851629},null,{"$f":"W31*R31*Z30","v":16.825521720242495},12.835380779546036,20.815662660938955,8.1262993073922924,25.524744133092696,null,{"$f":"W31*R31*AF30","v":1.2787245128673783},0.14791749446530877,2.4095315312694479,null,null,null,1.1125255272467951E-8,0.99999999879628343,12]
[22,2021,{"$f":"NZ!C24","v":0.80679559750940011},1.0094931844397395,null,1.0094931844397395,{"$f":"NZ!B24","v":11117.193251167377},0.99186749264528984,null,0.99186749264528984,null,{"$f":"HLOOKUP(E$3,Popn!C$4:BT43,A32+18,FALSE)","v":65064.703749597073},1.0042675224531676,null,1.0042675224531676,null,0.58358501466835844,1.005556473398723,null,{"$f":"HLOOKUP(E$4,Region!B$3:P24,A32,FALSE)","v":58.845908999999999},0.99813921025636687,null,0.99813921025636687,{"$f":"HLOOKUP(E$4,Region!B$3:P49,A32+25,FALSE)","v":0.25518479523590426},null,16.887529559569998,12.578088786870847,21.196970332269149,8.1883071467197954,25.586751972420203,null,1.283437052868003,0.15054824417228518,2.4163258615637209,null,null,null,1.09447475545416E-9,0.99999999989075816,13]
[23,2022,{"$f":"NZ!C25","v":0.81436351793880024},1.0093802202847444,null,1.0093802202847444,{"$f":"NZ!B25","v":11034.98901253538},0.99260566612680179,null,0.99260566612680179,null,{"$f":"HLOOKUP(E$3,Popn!C$4:BT44,A33+18,FALSE)","v":65325.855624437332},1.0040137257190214,null,1.0040137257190214,null,0.58705030983936224,1.0059379440593983,null,{"$f":"HLOOKUP(E$4,Region!B$3:P25,A33,FALSE)","v":58.480277999999998},0.99378663689263425,null,0.99378663689263425,{"$f":"HLOOKUP(E$4,Region!B$3:P50,A33+25,FALSE)","v":0.26685982939948194},null,16.88225535356499,12.377059570034145,21.387451137095834,8.1830329407147868,25.58147776641519,null,1.2830362179568096,0.15032433139570811,2.415748104517911,null,null,null,9.9980851115397699E-11,0.99999999999073896,14]
[24,2023,{"$f":"NZ!C26","v":0.82192374589520001},1.0092836034398189,null,1.0092836034398189,{"$f":"NZ!B26","v":10957.993564950528},0.99302260768022632,null,0.99302260768022632,null,{"$f":"HLOOKUP(E$3,Popn!C$4:BT45,A34+18,FALSE)","v":65571.857986330986},1.0037657732844394,null,1.0037657732844394,null,0.59058179891840223,1.0060156498001105,null,{"$f":"HLOOKUP(E$4,Region!B$3:P26,A34,FALSE)","v":57.930211999999997},0.99059399136235293,null,0.99059399136235293,{"$f":"HLOOKUP(E$4,Region!B$3:P51,A34+25,FALSE)","v":0.27457270304134795},null,16.824063196987041,12.204634688851847,21.443491705122234,8.124840784136838,25.523285609837245,null,1.2786136664121928,0.14785566117314386,2.4093716716512414,null,null,null,8.5244170051571921E-12,0.99999999999926337,15]
[25,2024,{"$f":"NZ!C27","v":0.82948003265500003},1.0091934158096016,null,1.0091934158096016,{"$f":"NZ!B27","v":10883.858544685081},0.99323461728408291,null,0.99323461728408291,null,{"$f":"HLOOKUP(E$3,Popn!C$4:BT46,A35+18,FALSE)","v":65802.894624590874},1.0035234114962557,null,1.0035234114962557,null,0.59406480434840203,1.0058975834276955,null,{"$f":"HLOOKUP(E$4,Region!B$3:P27,A35,FALSE)","v":57.236843},0.98803096042527871,null,0.98803096042527871,{"$f":"HLOOKUP(E$4,Region!B$3:P52,A35+25,FALSE)","v":0.27974009799207972},null,16.720729051210327,12.043270667925738,21.398187434494918,8.0215066383601243,25.419951464060532,null,1.2707603643025813,0.14348029071723611,2.3980404378879268,null,null,null,6.8137127447856106E-13,0.99999999999994471,16]
[26,2025,{"$f":"NZ!C28","v":0.83703381399880028},1.0091066463886083,null,1.0091066463886083,{"$f":"NZ!B28","v":10811.121680243721},0.99331699652814032,null,0.99331699652814032,null,{"$f":"HLOOKUP(E$3,Popn!C$4:BT47,A36+18,FALSE)","v":66019.149328947067},1.0032864010859999,null,1.0032864010859999,null,0.59742539883136703,1.0056569493064835,null,{"$f":"HLOOKUP(E$4,Region!B$3:P28,A36,FALSE)","v":56.454566},0.98633263193778875,null,0.98633263193778875,{"$f":"HLOOKUP(E$4,Region!B$3:P53,A36+25,FALSE)","v":0.28323271160400809},null,16.585496236271574,11.887941163974306,21.283051308568844,7.8862738234213712,25.284718649121778,null,1.2604827920357911,0.13777054393488464,2.3831950401366973,null,null,null,5.1259458664505147E-14,0.999999999999996,17]
[27,2026,{"$f":"NZ!C29","v":0.84458624777519997},1.009022853856189,null,1.009022853856189,{"$f":"NZ!B29","v":10738.872394116757},0.99331713320191439,null,0.99331713320191439,null,{"$f":"HLOOKUP(E$3,Popn!C$4:BT48,A37+18,FALSE)","v":66220.805888950825},1.0030545161828575,null,1.0030545161828575,null,0.6006163482874487,1.0053411680560009,null,{"$f":"HLOOKUP(E$4,Region!B$3:P29,A37,FALSE)","v":55.532179999999997},0.98366144555960267,null,0.98366144555960267,{"$f":"HLOOKUP(E$4,Region!B$3:P54,A37+25,FALSE)","v":0.28560762558401803},null,16.401651759863817,11.717214945073181,21.086088574654454,7.7024293470136147,25.100874172714022,null,1.2465107772331216,0.13003830680085815,2.3629832476653849,null,null,null,3.642005746101362E-15,0.99999999999999967,18]
[28,2027,{"$f":"NZ!C30","v":0.85213846021300022},1.0089419078959601,null,1.0089419078959601,{"$f":"NZ!B30","v":10666.54207418811},0.99326462618474975,null,0.99326462618474975,null,{"$f":"HLOOKUP(E$3,Popn!C$4:BT49,A38+18,FALSE)","v":66408.048094391823},1.0028275434423888,null,1.0028275434423888,null,0.60360736917635249,1.0049799192070481,null,{"$f":"HLOOKUP(E$4,Region!B$3:P30,A38,FALSE)","v":54.517457},0.98172729757772892,null,0.98172729757772892,{"$f":"HLOOKUP(E$4,Region!B$3:P55,A38+25,FALSE)","v":0.28722954777758747},null,16.182135664403045,11.534148155440988,20.830123173365102,7.4829132515528425,24.881358077253246,null,1.2298277514760707,0.120851759185854,2.3388037437662872,null,null,null,2.4514675114437758E-16,0.99999999999999989,19]
[29,2028,{"$f":"NZ!C31","v":0.85969161036920005},1.0088637592467213,null,1.0088637592467213,{"$f":"NZ!B31","v":10593.773331926732},0.99317785072657516,null,0.99317785072657516,null,{"$f":"HLOOKUP(E$3,Popn!C$4:BT50,A39+18,FALSE)","v":66581.059734582901},1.0026052812144872,null,1.0026052812144872,null,0.60637888234602422,1.0045915827261247,null,{"$f":"HLOOKUP(E$4,Region!B$3:P31,A39,FALSE)","v":53.398066999999998},0.9794673108101869,null,0.9794673108101869,{"$f":"HLOOKUP(E$4,Region!B$3:P56,A39+25,FALSE)","v":0.28834092378228465},null,15.9226489050083,11.331497610677223,20.513800199339379,7.2234264921580973,24.621871317858503,null,1.2101069912215234,0.11005835992310509,2.3101556225199418,null,null,null,1.5676000285811266E-17,0.99999999999999989,20]
[30,2029,{"$f":"NZ!C32","v":0.86724690080319999},1.0087883728803115,null,1.0087883728803115,{"$f":"NZ!B32","v":10520.339052262641},0.99306816585901647,null,0.99306816585901647,null,{"$f":"HLOOKUP(E$3,Popn!C$4:BT51,A40+18,FALSE)","v":66740.024599194527},1.0023875388172752,null,1.0023875388172752,null,0.60891806064017617,1.0041874451239596,null,{"$f":"HLOOKUP(E$4,Region!B$3:P32,A40,FALSE)","v":52.186307999999997},0.97730706244478849,null,0.97730706244478849,{"$f":"HLOOKUP(E$4,Region!B$3:P57,A40+25,FALSE)","v":0.28910460901712881},null,15.626479389640883,11.108792175384535,20.144166603897233,6.9272569767906802,24.325701802491086,null,1.1875983745164178,9.7828502242267579E-2,2.277368246790568,null,null,null,9.5467397662681654E-19,0.99999999999999989,21]
[31,2030,{"$f":"NZ!C33","v":0.8748055834174},1.008715721678797,null,1.008715721678797,{"$f":"NZ!B33","v":10446.092361588471},0.99294255724028191,null,0.99294255724028191,null,{"$f":"HLOOKUP(E$3,Popn!C$4:BT52,A41+18,FALSE)","v":66885.126477837563},1.002174135828005,null,1.002174135828005,null,0.61121634612965714,1.0037743756312052,null,{"$f":"HLOOKUP(E$4,Region!B$3:P33,A41,FALSE)","v":50.89038},0.97516727950940707,null,0.97516727950940707,{"$f":"HLOOKUP(E$4,Region!B$3:P58,A41+25,FALSE)","v":0.28963065690378986},null,15.29594695881989,10.865771793171358,19.726122124468422,6.5967245459696873,23.995169371670094,null,1.1624782071530515,8.429538074880405E-2,2.240661033557299,null,null,null,5.5497257201684497E-20,0.99999999999999989,22]
[32,2031,{"$f":"NZ!C34","v":0.88236896126980002},1.0086457814122012,null,1.0086457814122012,{"$f":"NZ!B34","v":10370.935738956961},0.99280528832888082,null,0.99280528832888082,null,{"$f":"HLOOKUP(E$3,Popn!C$4:BT53,A42+18,FALSE)","v":67016.549160242081},1.0019649014560519,null,1.0019649014560519,null,0.61326789152000882,1.0033564962772061,null,{"$f":"HLOOKUP(E$4,Region!B$3:P34,A42,FALSE)","v":49.493316999999998},0.97254760133447615,null,0.97254760133447615,{"$f":"HLOOKUP(E$4,Region!B$3:P59,A42+25,FALSE)","v":0.28999390975511441},null,14.925967886155203,10.597528101969775,19.25440767034063,6.2267454733049998,23.625190299005403,null,1.1343601304995889,6.9296690839965258E-2,2.1994235701592126,null,null,null,3.0859067625702585E-21,0.99999999999999989,23]
[33,2032,{"$f":"NZ!C35","v":0.88993839078940007},1.0085785310361632,null,1.0085785310361632,{"$f":"NZ!B35","v":10294.801941711328},0.99265892691248225,null,0.99265892691248225,null,{"$f":"HLOOKUP(E$3,Popn!C$4:BT54,A43+18,FALSE)","v":67134.476435780525},1.0017596739464527,null,1.0017596739464527,null,0.61506858279459176,1.0029362229777266,null,{"$f":"HLOOKUP(E$4,Region!B$3:P35,A43,FALSE)","v":48.026133000000002},0.97035591694127121,null,0.97035591694127121,{"$f":"HLOOKUP(E$4,Region!B$3:P60,A43+25,FALSE)","v":0.29024535504330934},null,14.526028043587218,10.309915876707178,18.742140210467255,5.8268056307370149,23.225250456437422,null,1.10396506228909,5.326764519457261E-2,2.1546624793836076,null,null,null,1.6444121417823844E-22,0.99999999999999989,24]
[34,2033,{"$f":"NZ!C36","v":0.89751528399160008},1.0085139525169591,null,1.0085139525169591,{"$f":"NZ!B36","v":10217.642238125154},0.9925049841635567,null,0.9925049841635567,null,{"$f":"HLOOKUP(E$3,Popn!C$4:BT55,A44+18,FALSE)","v":67239.092094063759},1.0015583000544186,null,1.0015583000544186,null,0.61661542670569691,1.002514912896505,null,{"$f":"HLOOKUP(E$4,Region!B$3:P36,A44,FALSE)","v":46.466946999999998},0.9675346336962003,null,0.9675346336962003,{"$f":"HLOOKUP(E$4,Region!B$3:P61,A44+25,FALSE)","v":0.29041987887227483},null,14.089780902606329,9.9978284395345067,18.181733365678152,5.3905584897561258,22.789003315456533,null,1.070810672064777,3.6010849845630633E-2,2.1056104942839236,null,null,null,8.4122037381243538E-24,0.99999999999999989,25]
[35,2034,{"$f":"NZ!C37","v":0.90510111149920003},1.008452031561917,null,1.008452031561917,{"$f":"NZ!B37","v":10139.419134045371},0.99234430974810328,null,0.99234430974810328,null,{"$f":"HLOOKUP(E$3,Popn!C$4:BT56,A45+18,FALSE)","v":67330.579924702644},1.0013606345325261,null,1.0013606345325261,null,0.61790616631711537,1.0020932651949925,null,{"$f":"HLOOKUP(E$4,Region!B$3:P37,A45,FALSE)","v":44.844529999999999},0.96508449328508716,null,0.96508449328508716,{"$f":"HLOOKUP(E$4,Region!B$3:P62,A45+25,FALSE)","v":0.29054134234943629},null,13.626292925194532,9.6672914874618865,17.585294362927179,4.9270705123443292,22.325515338044735,null,1.0355860027802133,1.7948541411866525E-2,2.0532234641485601,null,null,null,4.1378576956786599E-25,0.99999999999999989,26]
[36,2035,{"$f":"NZ!C38","v":0.9126974037508},1.0083927554116219,null,1.0083927554116219,{"$f":"NZ!B38","v":10060.101892731473},0.99217733873456593,null,0.99217733873456593,null,{"$f":"HLOOKUP(E$3,Popn!C$4:BT57,A46+18,FALSE)","v":67409.123717427254},1.0011665396735399,null,1.0011665396735399,null,0.61893903885436585,1.0016715685868725,null,{"$f":"HLOOKUP(E$4,Region!B$3:P38,A46,FALSE)","v":43.11262},0.96137968220427328,null,0.96137968220427328,{"$f":"HLOOKUP(E$4,Region!B$3:P63,A46+25,FALSE)","v":0.29062615473126302},null,13.121938779339068,9.3083601692807125,16.935517389397425,4.4227163664888653,21.821161192189273,null,0.99725554146109918,0,1.9958823693908816,null,null,null,1.9599766751141791E-26,0.99999999999999989,27]
[37,2036,{"$f":"NZ!C39","v":0.92030575502880008},1.0083361158328412,null,1.0083361158328412,{"$f":"NZ!B39","v":9979.6637501989026},0.992004241767105,null,0.992004241767105,null,{"$f":"HLOOKUP(E$3,Popn!C$4:BT58,A47+18,FALSE)","v":67474.907261610031},1.0009758848736638,null,1.0009758848736638,null,0.61971262353217083,1.001249856010435,null,{"$f":"HLOOKUP(E$4,Region!B$3:P39,A47,FALSE)","v":41.278750000000002},0.95746326713616581,null,0.95746326713616581,{"$f":"HLOOKUP(E$4,Region!B$3:P64,A47+25,FALSE)","v":0.29068557937871575},null,12.579477283742861,8.9228046412366737,16.236149926249048,3.8802548708926583,21.278699696593065,null,0.95602895584675596,0,1.933796288010577,null,null,null,8.9522455939574388E-28,0.99999999999999989,28]
[38,2037,{"$f":"NZ!C40","v":0.92792782466779999},1.0082821058081521,null,1.0082821058081521,{"$f":"NZ!B40","v":9898.0802019211078},0.99182502032935038,null,0.99182502032935038,null,{"$f":"HLOOKUP(E$3,Popn!C$4:BT59,A48+18,FALSE)","v":67528.114346981049},1.0007885462541612,null,1.0007885462541612,null,0.6202257439915565,1.0008279974296168,null,{"$f":"HLOOKUP(E$4,Region!B$3:P40,A48,FALSE)","v":39.391173000000002},0.95427242830754322,null,0.95427242830754322,{"$f":"HLOOKUP(E$4,Region!B$3:P65,A48+25,FALSE)","v":0.29072739331085762},null,12.01418782116224,8.5213343131686905,15.50704132915579,3.3149654083120375,20.713410234012443,null,0.91306746527985017,0,1.8686131027456125,null,null,null,3.9479632965637835E-29,0.99999999999999989,29]
[39,2038,{"$f":"NZ!C41","v":0.93556534108260014},1.0082307224891487,null,1.0082307224891487,{"$f":"NZ!B41","v":9815.3279297183708},0.99163956337849479,null,0.99163956337849479,null,{"$f":"HLOOKUP(E$3,Popn!C$4:BT60,A49+18,FALSE)","v":67568.92876303196},1.0006044062750101,null,1.0006044062750101,null,0.62047740661467854,1.0004057597182316,null,{"$f":"HLOOKUP(E$4,Region!B$3:P41,A49,FALSE)","v":37.375256},0.94882312847093941,null,0.94882312847093941,{"$f":"HLOOKUP(E$4,Region!B$3:P66,A49+25,FALSE)","v":0.29075693966797062},null,11.403964667204669,8.0881828004865728,14.719746533922764,2.7047422543544659,20.103187080054873,null,0.86669105459500251,0,1.7976534891727907,null,null,null,1.6830265538608622E-30,0.99999999999999989,30]
[40,2039,{"$f":"NZ!C42","v":0.94322010317800009},1.0081819641656906,null,1.0081819641656906,{"$f":"NZ!B42","v":9731.3841420402587},0.99144768383907467,null,0.99144768383907467,null,{"$f":"HLOOKUP(E$3,Popn!C$4:BT61,A50+18,FALSE)","v":67597.534299492836},1.0004233534108731,null,1.0004233534108731,null,0.62046675938212226,0.99998284025744888,null,{"$f":"HLOOKUP(E$4,Region!B$3:P42,A50,FALSE)","v":35.286219000000003},0.94410641628782432,null,0.94410641628782432,{"$f":"HLOOKUP(E$4,Region!B$3:P67,A50+25,FALSE)","v":0.29077792209079817},null,10.766371462094785,7.6357483398891945,13.896994584300376,2.0671490492445823,19.465593874944986,null,0.81823454464733147,0,1.7227977235615142,null,null,null,6.9433393345509006E-32,0.99999999999999989,31]
[41,2040,{"$f":"NZ!C43","v":0.95089370000000017},1.0081355314588243,null,1.0081355314588243,{"$f":"NZ!B43","v":9646.2261554416782},0.99124913934589309,null,0.99124913934589309,null,{"$f":"HLOOKUP(E$3,Popn!C$4:BT62,A51+18,FALSE)","v":67614.114745736122},1.0002452818200414,null,1.0002452818200414,null,0.62019287997584471,0.99955859133122582,null,{"$f":"HLOOKUP(E$4,Region!B$3:P43,A51,FALSE)","v":33.096597000000003},0.9379468228092106,null,0.9379468228092106,{"$f":"HLOOKUP(E$4,Region!B$3:P68,A51+25,FALSE)","v":0.29079290870243968},null,10.093826435999683,7.1586132867377552,13.029039585261611,1.3946040231494798,18.793048848849885,null,0.76712172775083154,0,1.6429765831640053,null,null,null,{"$f":"EXP(-AF$29)*(AF$29^AN51)/FACT(AN51)","v":2.7749651199946377E-33},0.99999999999999989,32]
[null,null,null,null,null,null,null,null,null,null,null,null,null,null,null,null,null,null,null,null,null,null,null,null,null,null,null,null,null,null,null,null,null,null,null,null,null,1.0754313811869036E-34,0.99999999999999989,33]
[null,null,null,null,null,null,null,null,null,null,null,null,null,null,null,null,null,null,null,null,null,null,null,null,null,null,null,null,null,null,null,null,null,null,null,null,null,4.0452270660110069E-36,0.99999999999999989,34]
[null,null,null,null,null,null,null,null,null,null,null,null,null,null,null,null,null,null,null,null,null,null,null,null,null,null,null,null,null,null,null,null,null,null,null,null,null,1.4781345773370392E-37,0.99999999999999989,35]
[null,null,null,null,null,null,null,null,null,null,null,null,null,null,null,null,null,null,null,null,null,null,null,null,null,null,null,null,null,null,null,null,null,null,null,null,null,5.251103664015424E-39,0.99999999999999989,36]
[null,null,null,null,null,{"$f":"PRODUCT(F30:INDIRECT(\"F\"&28+MATCH($E6,$B29:$B51,1)))","v":1.0615604551439581},null,null,null,{"$f":"PRODUCT(J30:INDIRECT(\"j\"&28+MATCH($E6,$B29:$B51,1)))","v":0.92552419254527996},null,null,null,null,{"$f":"PRODUCT(O30:INDIRECT(\"o\"&28+MATCH($E6,$B29:$B51,1)))","v":1.037273749872879},null,null,{"$f":"PRODUCT(R30:INDIRECT(\"r\"&28+MATCH($E6,$B29:$B51,1)))","v":1.0191213379773592},null,null,null,null,{"$f":"PRODUCT(W30:INDIRECT(\"w\"&28+MATCH($E6,$B29:$B51,1)))","v":0.92845050953608865},null,null,{"$f":"VLOOKUP($E6,$B29:Z51,25)/Z29","v":0.94620372552417897},null,null,null,null,null,null,null,null,null,null,null,1.8150474546956712E-40,0.99999999999999989,37]
[null,null,null,null,null,{"$f":"F56-1","v":6.1560455143958137E-2},null,null,null,{"$f":"J56-1","v":-7.4475807454720044E-2},null,null,null,null,{"$f":"O56-1","v":3.7273749872879014E-2},null,null,null,null,null,null,null,{"$f":"W56-1","v":-7.1549490463911347E-2},null,null,{"$f":"Z56-1","v":-5.3796274475821027E-2},null,null,null,null,null,null,null,null,null,null,null,6.1086255446991267E-42,0.99999999999999989,38]
[null,null,null,null,null,"V/P",null,null,null,"T/V",null,null,null,null,"P",null,null,null,null,null,null,null,"DSI/T",null,null,"DSI",null,null,null,null,null,null,null,null,null,null,null,2.0031709491769385E-43,0.99999999999999989,39]
[null,null,null,null,null,null,null,null,null,null,null,null,null,null,null,null,null,null,null,null,null,null,null,null,null,null,null,null,null,null,null,null,null,null,null,null,null,6.4046756127175189E-45,0.99999999999999989,40]
[null,null,null,null,null,null,null,null,null,null,null,null,null,null,null,null,null,null,null,null,null,null,null,null,null,null,null,null,null,null,null,null,null,null,null,null,null,1.9978017898897484E-46,0.99999999999999989,41]
[null,null,null,null,null,null,null,null,null,null,null,null,null,null,null,null,null,null,null,null,null,null,null,null,null,null,null,null,null,null,null,null,null,null,null,null,null,6.0833418744975252E-48,0.99999999999999989,42]
[null,null,null,null,null,null,null,null,null,null,null,null,null,null,null,null,null,null,null,null,null,null,null,null,null,null,null,null,null,null,null,null,null,null,null,null,null,1.8093095878312885E-49,0.99999999999999989,43]
[null,null,null,null,null,null,null,null,null,null,null,null,null,null,null,null,null,null,null,null,null,null,null,null,null,null,null,null,null,null,null,null,null,null,null,null,null,5.258953423457453E-51,0.99999999999999989,44]
[null,null,null,null,null,null,null,null,null,null,null,null,null,null,null,null,null,null,null,null,null,null,null,null,null,null,null,null,null,null,null,null,null,null,null,null,null,1.4946032662630643E-52,0.99999999999999989,45]
[null,null,null,null,null,null,null,null,null,null,null,null,null,null,null,null,null,null,null,null,null,null,null,null,null,null,null,null,null,null,null,null,null,null,null,null,null,4.1553461912175313E-54,0.99999999999999989,46]
[null,null,null,null,null,null,null,null,null,null,null,null,null,null,null,null,null,null,null,null,null,null,null,null,null,null,null,null,null,null,null,null,null,null,null,null,null,1.1307028063818617E-55,0.99999999999999989,47]
[null,null,null,null,null,null,null,null,null,null,null,null,null,null,null,null,null,null,null,null,null,null,null,null,null,null,null,null,null,null,null,null,null,null,null,null,null,3.0126338328075435E-57,0.99999999999999989,48]
[null,null,null,null,null,null,null,null,null,null,null,null,null,null,null,null,null,null,null,null,null,null,null,null,null,null,null,null,null,null,null,null,null,null,null,null,null,7.8630200912649058E-59,0.99999999999999989,49]
[null,null,null,null,null,null,null,null,null,null,null,null,null,null,null,null,null,null,null,null,null,null,null,null,null,null,null,null,null,null,null,null,null,null,null,null,null,2.011214990573787E-60,0.99999999999999989,50]

{"sheet":"Region","index":5,"n_rows":68,"n_cols":19,"rows_kept":68,"cut":false,"hidden":true,"merged":[]}
["DSI/T (T in billion km) by region"]
[]
[null,"NL","AK","WK","BP","GS","HB","TN","MW","WL","NM","WC","CB","OT","SL","NZ",null,"NL","Northland"]
[2001,88.146827101901934,57.319396058368028,89.807136273752477,86.876515341838598,86.799886804502222,98.158925642535408,86.94435844849589,92.827907774948358,57.408220230567302,93.062294793447975,121.99584298226608,78.69225937147138,133.5175653784278,143.46928601123275,84.974665093515938,null,"AK","Auckland"]
[2002,91.03889786844627,63.964167136775316,78.654513646793163,94.277539361517057,53.320510569668016,97.21000717725785,62.031232244454458,92.86391446061964,63.322283925661495,102.35502470044453,103.43884437957557,67.799448137658402,151.51256293303703,168.82019697151443,85.604854576722829,null,"WK","Waikato"]
[2003,84.372936458967473,52.952515099711547,93.342979417668488,99.506038282530625,80.762960395111051,102.98439072887292,78.161842744056543,97.047992445399601,60.293727277454479,93.054520078678209,83.701133920627029,71.645063673107273,138.89368696900186,153.64154537888223,84.029293319056563,null,"BP","Bay of Plenty"]
[2004,100.94008186317441,52.471892429160398,93.767539365774709,82.541744005701375,66.751963399668298,91.545109823444136,91.657820329111274,91.885041803766043,58.366019515717326,87.230395367246203,84.285040502069975,61.689500212643708,128.19881483264223,104.85452516065402,78.815465097068483,null,"GS","Gisborne"]
[2005,87.211722967566075,45.667743050159025,84.450659447563197,74.794329951924084,110.6848926345473,110.5000938845631,65.765168055435126,102.60252388997058,59.970305351013522,61.748537337922578,95.045479187867144,71.209196479506872,143.48956453544244,144.6853123536153,78.48830978552914,null,"HB","Hawkes Bay"]
[2006,90.022437974510694,56.526856249668121,80.792067534228252,91.033601570249459,74.558643973946474,118.96828909126485,65.542837403869228,98.045787360615037,61.976774914303974,81.479492308888183,96.527661224707131,62.84483066407391,114.98162703009889,162.52973439663282,80.997588657454088,null,"TN","Taranaki"]
[2007,102.94825468715584,42.892175011137006,92.648187468443851,99.745049530313111,93.59735733477406,103.23390971840003,80.053776483214349,98.615397364026038,71.521176291780918,81.126845510938892,91.596013127815382,79.162264297457568,105.63324332323018,127.03128601601607,81.243435576311285,null,"MW","Manawatu/Wanganui"]
[2008,94.258309302031023,44.743022637720571,89.297883217404191,83.767914156425391,122.89413593400131,101.45429820367363,78.217269971508145,99.058149245203964,67.807453024915958,80.715094326669373,108.55901011398959,73.671825229377717,92.014340066842053,96.417175840021912,77.783193206695529,null,"WL","Wellington"]
[2009,85.864524098737334,46.487442006342135,90.757395306748961,82.015997224318795,87.020392704348481,87.571221263763718,77.068402502623854,87.99463968784346,53.685633358317943,75.291773195424881,103.05189633729447,71.923536331463211,98.782049141900202,104.77564234541114,75.256282782790635,null,"NM","Nelson/Marlborough"]
[2010,81.415224565578541,41.593661055086017,73.243924901643254,86.207956223472365,77.383555508485713,91.189424407641681,60.471678721897391,95.049568955070967,52.397936407502442,80.939016093629178,123.15401138654855,75.609180970837656,80.219350596454547,95.205887099955504,71.429723734652029,null,"WC","West Coast"]
[2011,67.642459373924808,36.945881805304211,87.552236492860473,79.724620332111954,81.875477292764728,58.643499893532017,65.794010509954305,73.587491705775705,51.943706237352707,48.404974299972615,102.46382222841066,61.600850536240763,74.990815652895392,69.942168337272562,63.625513073283912,null,"CB","Canterbury"]
[2012,87.460597715951934,33.792883459178654,77.821332801403244,76.587743812766519,59.852905770836259,69.991858696978923,81.291857918832875,81.708971264554989,55.0135727543434,60.120402414558946,75.254577881501604,59.499224767882417,97.427557594445773,83.92812585153284,64.495581551380553,null,"OT","Otago"]
[2013,89.268148557168189,38.329090142955629,65.714063766888188,69.489809017083061,78.688348157453845,61.163396300642063,55.841850518513922,71.256015448160696,36.039138297168911,51.803332566944327,96.26624215791125,62.584382007641317,84.76488974190724,59.527631042273931,59.623678314409801,null,"SL","Southland"]
[2014,88.372776444286927,36.869727607482957,62.561642133944403,62.12863002213394,89.306797552255475,71.178440171123142,54.333506265330094,87.67853557958702,44.210099727671974,54.256472588035713,86.010156659866951,63.8712924765195,83.815353500273403,64.183025887216388,61.126651127537492,null,"NZ","New Zealand"]
[2015,101.4673613914288,45.103772362039585,70.431405750213528,57.826722272970422,45.394764433830119,67.035008304594385,59.017385357977396,79.175012563972345,37.805103508454273,47.757079893687006,78.966219447962104,58.231895729650276,75.781513458427824,59.664074572573703,61.898635348403758]
[2016,121.28306498988128,45.912339427919548,72.461836825526788,67.594608912655161,153.02066104676589,77.866601278613572,72.996838269920104,66.104419441187119,52.953984313508116,60.215867001386606,102.00221901511991,58.197144601221694,82.858316715637585,88.183711440755829,67.614096893962525]
[2017,111.05847344469394,54.402465173966718,83.602469259868954,68.761551164328097,107.59561295853237,76.605810288869236,70.557399282626506,87.918940498620586,61.879461403232227,76.416692937804143,106.79325247201255,62.050805964188278,74.230456136110021,74.922599618536807,74.500036250172286]
[2018,101.73126999999999,49.017636000000003,81.339684000000005,61.654591000000003,92.592845999999994,57.513100000000001,63.574182,74.623075999999998,48.963175,55.674253999999998,103.851702,58.361960000000003,68.007124000000005,41.654439000000004,66.52]
[2019,101.559899,48.332244000000003,79.767643000000007,63.408428000000001,92.627814000000001,58.673504999999999,64.551254999999998,76.589342000000002,48.511971000000003,55.848286000000002,101.344167,59.351398000000003,68.737892000000002,46.628117000000003,65.540000000000006]
[2020,101.879062,47.650770000000001,78.346324999999993,65.110484,91.858489000000006,58.955613,65.216154000000003,76.957206999999997,48.023929000000003,55.606364999999997,99.578439000000003,59.697443999999997,68.673777999999999,50.256588000000001,64.77]
[2021,102.181365,47.201968000000001,77.288550999999998,65.301777000000001,91.630108000000007,58.845908999999999,64.978401000000005,76.749410999999995,47.546599000000001,55.207362000000003,98.331739999999996,59.783279999999998,68.266350000000003,50.182710999999998,64.19]
[2022,102.46641099999999,46.843477999999998,76.454114000000004,65.138758999999993,91.434500999999997,58.480277999999998,64.654781,76.367610999999997,47.003632000000003,54.645167000000001,97.407674,59.712592000000001,67.909296999999995,49.846608000000003,63.64]
[2023,102.723693,46.556902000000001,75.778947000000002,64.873889000000005,91.261630999999994,57.930211999999997,64.358372000000003,75.877685999999997,46.415365000000001,53.981138999999999,96.695396000000002,59.549475999999999,67.577950999999999,49.361685999999999,63.1]
[2024,102.952935,46.323501999999998,75.214727999999994,64.514375999999999,91.093992,57.236843,64.052824000000001,75.319346999999993,45.793028999999997,53.249234000000001,96.122068999999996,59.327247,67.266475999999997,48.636676999999999,62.56]
[2025,103.169732,46.138444,74.730540000000005,64.095631999999995,90.945863000000003,56.454566,63.744703000000001,74.731297999999995,45.164116999999997,52.499161000000001,95.642308999999997,59.072544999999998,66.981296,47.768208000000001,62.03]
[2026,103.348056,45.978347999999997,74.296644999999998,63.611440999999999,90.768128000000004,55.532179999999997,63.417256999999999,74.080405999999996,44.488194999999997,51.672792999999999,95.220512999999997,58.780791999999998,66.700149999999994,46.678829999999998,61.48]
[2027,103.505899,45.843631000000002,73.897041000000002,63.089419999999997,90.588076000000001,54.517457,63.082704999999997,73.399154999999993,43.788629,50.811874000000003,94.834795,58.467717,66.432513,45.452702000000002,60.92]
[2028,103.638835,45.724680999999997,73.517098000000004,62.530813000000002,90.390238999999994,53.398066999999998,62.735377999999997,72.677308999999994,43.053103,49.899509000000002,94.469086000000004,58.132368,66.169910000000002,44.077804999999998,60.34]
[2029,103.75250200000001,45.618678000000003,73.147559999999999,61.940849,90.180790999999999,52.186307999999997,62.375647000000001,71.921076999999997,42.285044999999997,48.943365,94.112690999999998,57.778567000000002,65.912028000000007,42.573472000000002,59.74]
[2030,103.851733,45.523206000000002,72.781829000000002,61.324015000000003,89.962046999999998,50.89038,62.004202999999997,71.133538000000001,41.486530999999999,47.947887999999999,93.758607999999995,57.408406999999997,65.657951999999995,40.957113999999997,59.12]
[2031,103.930813,45.431553000000001,72.412924000000004,60.672243000000002,89.721469999999997,49.493316999999998,61.613782999999998,70.301516000000007,40.643577999999998,46.892665000000001,93.400277000000003,57.017543000000003,65.400390999999999,39.201217,58.47]
[2032,104.00448900000001,45.347872000000002,72.039126999999993,59.997960999999997,89.479485999999994,48.026133000000002,61.212668999999998,69.443785000000005,39.773794000000002,45.80621,93.035244000000006,56.612960999999999,65.146337000000003,37.359648,57.8]
[2033,104.06537,45.265833000000001,71.656001000000003,59.291654000000001,89.219227000000004,46.466946999999998,60.793042,68.543631000000005,38.861623999999999,44.664411000000001,92.660101999999995,56.188851,64.887270999999998,35.397193000000001,57.1]
[2034,104.126558,45.190024999999999,71.263741999999993,58.563695000000003,88.959875999999994,44.844529999999999,60.362394999999999,67.618621000000005,37.923865999999997,43.493896999999997,92.274406999999997,55.751651000000003,64.629892999999996,33.360202000000001,56.38]
[2035,104.170177,45.109690999999998,70.856776999999994,57.794040000000003,88.669567999999998,43.11262,59.905881999999998,66.637043000000006,36.929312000000003,42.246676000000001,91.874071000000001,55.289693,64.360072000000002,31.173760999999999,55.62]
[2036,104.20146800000001,45.025899000000003,70.432810000000003,56.983718000000003,88.358264000000005,41.278750000000002,59.425190000000001,65.604478,35.880684000000002,40.929651,91.456138999999993,54.804186999999999,64.080985999999996,28.852671999999998,54.82]
[2037,104.24379999999999,44.948836999999997,69.994867999999997,56.154893999999999,88.057565999999994,39.391173000000002,58.935980000000001,64.551170999999997,34.809615999999998,39.591835000000003,91.022739000000001,54.306133000000003,63.805194,26.482999,54]
[2038,104.267464,44.862862999999997,69.536449000000005,55.274146999999999,87.716824000000003,37.375256,58.41386,63.426408000000002,33.667782000000003,38.157787999999996,90.569592,53.777151000000003,63.510078,23.936156,53.13]
[2039,104.297049,44.779496000000002,69.060182999999995,54.362430000000003,87.378127000000006,35.286219000000003,57.875287,62.267695000000003,32.489237000000003,36.682505999999997,90.097443999999996,53.23019,63.212681000000003,21.304698999999999,52.23]
[2040,104.32367600000001,44.693316000000003,68.563719000000006,53.410772999999999,87.021483000000003,33.096597000000003,57.312893000000003,61.055433999999998,31.257262000000001,35.139228000000003,89.605371000000005,52.658273999999999,62.904159999999997,18.549234999999999,51.29]
[]
["Standard errors for forecasts"]
[2018,9.8969931649350751E-2,0.10751582214049625,9.5675217531421983E-2,0.10553810912697849,0.31085530805115413,0.16018840677560159,0.14913622548862046,0.11556395577218112,0.13078756819519322,0.16410792355906764,0.12095081977099448,0.10320659544753599,0.15793637170612748,0.29768005613884235,4.6852232776139202E-2]
[2019,0.12946535468688483,0.14110438583886947,0.12147831583848805,0.12889023761206181,0.37338963778166478,0.2079744944337612,0.17424502688110918,0.13988350752362741,0.17230041135301424,0.21055118257167374,0.15067138175824585,0.12469628642983831,0.20314152533773167,0.37218138038776727,6.4684352312940951E-2]
[2020,0.14674067929175993,0.16342298156479881,0.1342541052496225,0.13629119071546586,0.40304520298842911,0.23714812574851629,0.17971623556805691,0.15214713955031395,0.19675719776929171,0.23672459275273319,0.16345989687760767,0.1348865745283209,0.2305738511430451,0.40742464222201441,7.6018592504363491E-2]
[2021,0.1573635186665947,0.17807988656308321,0.14116409605794858,0.14025556128876418,0.41754231579748646,0.25518479523590426,0.18223358011272436,0.15875042573028547,0.21102562758689714,0.25115609549558288,0.16979745865614287,0.13970611923803075,0.24948973398928004,0.42899057643848931,8.2867459628607282E-2]
[2022,0.16414312126942254,0.18811711772651526,0.1452257305167961,0.14285069084330587,0.42474288801310983,0.26685982939948194,0.18377389774545308,0.16264954069172846,0.21968188490268925,0.25951319276162987,0.17327724166358632,0.14227675672489667,0.26288476898676372,0.4422327544131785,8.7062155940223485E-2]
[2023,0.16854211775916569,0.1950747743470394,0.14777094914447717,0.14463757253051182,0.42817812317368525,0.27457270304134795,0.18480314882741269,0.16509694889050494,0.22506073604704505,0.26449979044809402,0.1753622156051213,0.14377919019150537,0.27255303270878967,0.45041721864746748,8.9647862574952275E-2]
[2024,0.17140834571875088,0.19993871218397233,0.14945000449382873,0.14591875598650664,0.42966679984934908,0.27974009799207972,0.18555196244410191,0.16671193136283716,0.22849195299341893,0.26757559014019999,0.17670543430579352,0.14473685356407906,0.27962132148359642,0.45552999516307097,9.1263443213325482E-2]
[2025,0.17326257814760607,0.20334723173035943,0.15060220423503223,0.1468623874405123,0.43015332942032714,0.28323271160400809,0.18611703046675038,0.16782076755170994,0.2307352401841572,0.26952839198376127,0.17761965355563192,0.1453895322787121,0.28483382212787617,0.45872977937305054,9.2288787295067315E-2]
[2026,0.17443958558169859,0.20573300449151685,0.15141654802425078,0.1475671183296178,0.43014296292446225,0.28560762558401803,0.18654657343116771,0.16860654738530501,0.23223658112921525,0.27079960659710545,0.17826620209715213,0.14585631121765316,0.28870291014721172,0.46072665278612551,9.2951162941142279E-2]
[2027,0.1751615240479425,0.20739568923750326,0.15200466806309665,0.14809785657400021,0.4299065211580006,0.28722954777758747,0.18687308444164535,0.16917733001212978,0.23326285545567499,0.27164412076457445,0.17873510910572321,0.14620105732988631,0.29159002789667804,0.46196510625134163,9.3387165012417936E-2]
[2028,0.17557899406025065,0.20854610714381236,0.15243606162021697,0.14849997615400432,0.42958771802813406,0.28834092378228465,0.18712093774095914,0.16959987104201241,0.23397746915865814,0.27221428945768589,0.17908063287012413,0.14646096340072925,0.2937543627103229,0.46272511485301504,9.3679625791772969E-2]
[2029,0.17579518523348331,0.20933402560692418,0.15275603106479352,0.1488060683972546,0.42926016719213472,0.28910460901712881,0.18730873912554499,0.16991712153380023,0.23448282310311419,0.27260409081638121,0.17933780786971859,0.14665935871177843,0.29538384181312327,0.46318400007715216,9.3879416374745006E-2]
[2030,0.17588107165642189,0.20986626580730575,0.1529952204395629,0.14903989051393277,0.42895877184936715,0.28963065690378986,0.18745083094208922,0.17015777928679948,0.23484475061102589,0.27287319630546047,0.17953041681080165,0.14681191649949915,0.29661575771353088,0.4634542994532273,9.4018226452174627E-2]
[2031,0.17588530572148472,0.21021920227099294,0.15317502570954702,0.14921895341888811,0.42869744706705615,0.28999390975511441,0.18755821186551894,0.17034161805240061,0.23510655889141241,0.27306040267410064,0.17967520849037008,0.14692968274535134,0.29755107268063657,0.46360751165063901,9.4116126693502625E-2]
[2032,0.17584091523624731,0.21044732624748327,0.15331067455144734,0.14935630762975913,0.42847901114548764,0.29024535504330934,0.18763929100130142,0.1704827250535651,0.23529741840054494,0.27319145176413373,0.1797843432911804,0.14702073813524155,0.2982642861419304,0.46368889264884056,9.4186085500427827E-2]
[2033,0.17577001436638248,0.21058940288462566,0.15341327798699528,0.1494617509772645,0.42830084473088753,0.29041987887227483,0.18770047807609985,0.1705913416565403,0.23543738958020866,0.27328365970261442,0.17986670183398679,0.14709116965311858,0.29881064158258513,0.46372703825953931,9.4236629941410618E-2]
[2034,0.1756870875466586,0.21067290490186996,0.15349099816247017,0.1495427063129251,0.42815804279057612,0.29054134234943629,0.18774663234183575,0.17067507419967071,0.2355404893396694,0.27334882804981986,0.1799289185141173,0.14714561392134598,0.29923117206121674,0.46373985576680726,9.4273473849880551E-2]
[2035,0.17560135415491426,0.21071717312209348,0.1535499052487837,0.14960483842439556,0.42804503917006087,0.29062615473126302,0.18778142794661593,0.17073967275199026,0.23561668623671195,0.27339507031967258,0.17997594885989363,0.14718764200745041,0.2995565120764932,0.4637385003624262,9.4300533701880795E-2]
[2036,0.175518412908961,0.21073572220709519,0.1535945887411363,0.14965249630086769,0.42795648441059486,0.29068557937871575,0.18780767070788792,0.17078947911199821,0.23567315583005702,0.27342799404705975,0.18001151123552547,0.14722004922296703,0.29980950596555672,0.4637297706182576,9.4320517161463335E-2]
[2037,0.17544142138057006,0.21073792910095518,0.15362846163178862,0.14968901558353531,0.42788758727864246,0.29072739331085762,0.18782744776400223,0.17082787914394432,0.23571509270672505,0.27345153062306055,0.180038391330377,0.14724499542578115,0.3000073247413923,0.46371775475215021,9.4335339442410709E-2]
[2038,0.17537194862918873,0.2107302122697142,0.15365413642185691,0.14971696460988712,0.42783430956044538,0.29075693966797062,0.18784234046101833,0.17085745549111467,0.23574625757884832,0.27346837931429352,0.18005872576443732,0.14726417819547577,0.30016288190046075,0.46370485812865281,9.4346371354311925E-2]
[2039,0.17531051702227318,0.21071687327629016,0.15367358682368462,0.14973832573251497,0.42779330096030438,0.29077792209079817,0.18785357233101879,0.1708802003234359,0.23576946887408273,0.27348051202237006,0.18007410003540145,0.14727889686648096,0.30028588409563878,0.46369237539959302,9.4354617346361982E-2]
[2040,0.17525701745575398,0.21070081558287015,0.15368829276822743,0.14975464288360962,0.42776186278461004,0.29079290870243968,0.18786203132332779,0.17089768248615109,0.23578675311546676,0.27348923657629426,0.18008572117575899,0.14729016263535849,0.30038373710226579,0.46368098678217395,9.436076795804417E-2]

{"sheet":"NZ","index":6,"n_rows":46,"n_cols":3,"rows_kept":46,"cut":false,"hidden":true,"merged":[]}
["T/V and P/V for New Zealand"]
[]
[null,"T/V","V/P"]
[2001,13266.491568926967,0.66063960829789981]
[{"$f":"A4+1","v":2002},13256.971995931872,0.67060934532100802]
[{"$f":"A5+1","v":2003},13106.600156557475,0.68518325387365908]
[2004,12949.357285569082,0.70138568807339452]
[2005,12607.21145806055,0.71774813130457926]
[2006,12314.916950171291,0.72399727572527828]
[2007,12254.349184672194,0.73124556086935932]
[2008,11981.017243287235,0.72975961312737692]
[2009,12041.209665217881,0.7204567005996374]
[2010,11944.660363079207,0.71766589284482962]
[2011,11817.286318429904,0.71111199817518245]
[2012,11661.479142975553,0.71816519588938543]
[2013,11551.975496514984,0.73016298597510187]
[2014,11430.22814795233,0.74486906002616582]
[2015,11443.980836768687,0.75780816850534194]
[2016,11512.299737763633,0.77385110372453758]
[2017,11437.870719670927,0.79070026492000245]
[2018,11446.241402715625,0.80983763685189014]
[2019,11314.350251297121,0.79149955845840014]
[2020,11208.345200948219,0.79920856321299993]
[2021,11117.193251167377,0.80679559750940011]
[2022,11034.98901253538,0.81436351793880024]
[2023,10957.993564950528,0.82192374589520001]
[2024,10883.858544685081,0.82948003265500003]
[2025,10811.121680243721,0.83703381399880028]
[2026,10738.872394116757,0.84458624777519997]
[2027,10666.54207418811,0.85213846021300022]
[2028,10593.773331926732,0.85969161036920005]
[2029,10520.339052262641,0.86724690080319999]
[2030,10446.092361588471,0.8748055834174]
[2031,10370.935738956961,0.88236896126980002]
[2032,10294.801941711328,0.88993839078940007]
[2033,10217.642238125154,0.89751528399160008]
[2034,10139.419134045371,0.90510111149920003]
[2035,10060.101892731473,0.9126974037508]
[2036,9979.6637501989026,0.92030575502880008]
[2037,9898.0802019211078,0.92792782466779999]
[2038,9815.3279297183708,0.93556534108260014]
[2039,9731.3841420402587,0.94322010317800009]
[2040,9646.2261554416782,0.95089370000000017]
[]
["Standard errors"]
[null,70.92,6.7999999999999996E-3]

{"sheet":"LA","index":7,"n_rows":26,"n_cols":72,"rows_kept":26,"cut":false,"hidden":true,"merged":[]}
["DSI by Local Authority (historical)",null,null,null,null,null,null,null,null,null,null,null,null,null,null,null,null,null,null,null,null,null,null,null,null,null,null,null,null,null,null,null,null,null,null,null,null,null,null,null,null,null,null,null,null,null,null,null,null,null,null,null,null,null,null,null,null,null,null,null,null,null,null,null,null,null,null,null,null,null,null,"Actual sum "]
[null,null,null,null,null,null,null,null,null,null,null,null,null,null,null,null,null,null,null,null,null,null,null,null,null,null,null,null,null,null,null,null,null,null,null,null,null,null,null,null,null,null,null,null,null,null,null,null,null,null,null,null,null,null,null,null,null,null,null,null,null,null,null,null,null,null,null,null,null,null,null,"not equal total"]
[null,"Far North District","Whangarei District","Kaipara District","Akl North","Akl West","Akl Central","Akl South","Thames-Coromandel District","Hauraki District","Waikato District","Matamata-Piako District","Hamilton City","Waipa District","Otorohanga District","South Waikato District","Waitomo District","Taupo District","Western Bay Of Plenty District","Tauranga City","Rotorua District","Whakatane District","Kawerau District","Opotiki District","Gisborne District","Wairoa District","Hastings District","Napier City","Central Hawkes Bay District","New Plymouth District","Stratford District","South Taranaki District","Ruapehu District","Wanganui District","Rangitikei District","Manawatu District","Palmerston North City","Tararua District","Horowhenua District","Kapiti Coast District","Porirua City","Upper Hutt City","Hutt City","Wellington City","Masterton District","Carterton District","South Wairarapa District","Tasman District","Nelson City","Marlborough District","Kaikoura District","Buller District","Grey District","Westland District","Hurunui District","Waimakariri District","Christchurch City","Selwyn District","Ashburton District","Timaru District","Mackenzie District","Waimate District","Waitaki District","Central Otago District","Queenstown-Lakes District","Dunedin City","Clutha District","Southland District","Gore District","Invercargill City","NZ"]
[null,"NL","NL","NL","AK","AK","AK","AK","WK","WK","WK","WK","WK","WK","WK","WK","WK","WK","BP","BP","BP","BP","BP","BP","GS","HB","HB","HB","HB","TN","TN","TN","MW","MW","MW","MW","MW","MW","MW","WL","WL","WL","WL","WL","WL","WL","WL","NM","NM","NM","CB","WC","WC","WC","CB","CB","CB","CB","CB","CB","CB","CB","CB","OT","OT","OT","OT","SL","SL","SL","NZ"]
[2000,69,61,32,165,69,179,163,13,36,100,49,57,44,17,42,14,55,52,45,45,21,4,7,44,18,66,21,19,51,6,37,29,30,43,40,35,27,32,28,31,20,30,50,13,7,17,45,13,35,3,18,13,17,21,34,142,42,16,36,7,11,22,22,26,57,38,58,4,34,{"$f":"SUM(B5:BR5)","v":2747}]
[2001,61,61,35,174,85,167,183,18,26,78,31,41,36,16,52,16,68,49,36,51,35,3,9,37,23,66,26,23,46,10,33,22,27,39,32,37,22,26,36,16,12,38,65,12,6,11,59,31,21,5,23,13,16,26,30,183,42,17,35,5,17,32,22,31,134,44,91,11,44,2890,{"$f":"SUM(B6:BR6)","v":2928}]
[2002,82,60,20,182,116,187,222,13,25,78,32,47,26,16,47,16,44,47,58,52,32,2,12,23,13,74,30,23,35,8,22,20,30,23,36,39,19,41,40,26,11,44,69,10,10,12,55,22,49,11,18,9,18,30,15,171,22,16,29,16,7,33,36,56,150,42,93,17,62,3005,3051]
[2003,75,63,14,135,100,172,203,23,33,86,29,62,27,19,45,25,69,63,54,48,40,2,16,35,11,76,42,22,55,3,25,17,52,20,40,37,30,24,21,24,19,45,61,22,9,16,68,20,30,1,10,16,12,28,27,178,29,27,33,10,7,45,40,43,140,45,80,17,62,3039,3077]
[2004,79,75,30,194,85,155,192,12,35,114,35,47,45,20,40,28,53,45,49,53,32,1,16,29,12,77,33,15,70,3,26,31,34,23,34,42,18,29,36,36,8,44,58,16,3,15,41,26,48,15,18,10,12,14,31,152,28,20,21,6,17,40,35,40,145,29,59,10,41,2926,2985]
[2005,73,52,33,159,64,162,170,22,44,79,36,53,43,10,33,24,45,31,43,52,43,2,13,47,22,96,26,21,36,6,29,25,32,34,35,47,33,29,40,27,32,35,60,13,11,5,34,16,32,14,14,15,16,37,24,190,39,19,24,10,16,27,46,52,142,42,80,18,54,2936,2988]
[2006,72,62,26,172,98,164,258,37,22,99,32,45,34,16,23,30,34,50,59,66,32,3,13,31,9,94,45,29,41,9,20,24,38,21,26,42,30,41,42,23,16,49,71,13,4,11,43,25,40,8,16,8,22,36,24,178,27,15,28,4,2,32,31,18,139,39,74,16,80,3022,3081]
[2007,100,56,26,152,55,138,187,24,26,107,40,64,33,14,44,19,62,59,54,75,50,3,8,39,21,80,39,15,53,14,20,18,27,29,29,56,22,45,33,21,22,51,100,18,13,11,47,23,41,6,22,7,15,26,26,235,53,32,32,12,13,24,25,35,115,38,73,9,53,3075,3134]
[2008,62,66,33,134,58,146,211,23,26,72,59,63,40,14,44,10,60,61,44,49,34,2,17,49,16,73,32,28,51,10,23,12,22,19,47,58,25,38,21,27,24,46,101,16,4,12,49,25,35,7,18,12,21,30,21,235,36,22,28,8,11,27,27,31,105,21,59,15,28,2897,2953]
[2009,64,55,25,150,79,145,196,17,30,86,31,66,45,7,34,21,76,60,37,46,29,1,29,34,30,56,36,6,53,12,18,31,18,17,19,54,23,33,22,30,11,30,62,19,11,14,34,34,33,18,17,18,15,27,34,197,35,30,29,9,7,30,19,32,123,26,53,18,41,2809,2847]
[2010,52,58,24,127,90,126,169,15,18,72,32,55,37,19,23,29,37,54,32,62,40,4,19,30,14,80,19,19,33,14,18,39,32,19,33,33,27,26,26,23,21,31,66,8,7,13,37,27,44,0,18,20,21,21,29,245,43,32,26,9,7,27,21,20,93,27,61,9,31,2664,2693]
[2011,59,28,21,103,58,141,152,39,24,98,45,60,35,12,35,16,38,52,56,36,29,3,16,31,3,47,24,9,38,9,22,20,20,23,12,31,32,19,19,21,15,22,88,14,4,8,24,14,26,4,13,12,23,26,35,164,38,21,18,12,10,24,21,23,71,32,46,6,21,2344,2371]
[2012,58,46,33,112,66,101,142,29,22,79,38,60,32,7,23,25,41,60,28,52,26,2,15,22,26,43,20,9,45,11,29,27,23,20,35,30,14,24,26,23,21,27,86,6,6,6,26,26,27,10,9,10,15,16,27,178,38,26,13,7,9,23,34,32,94,28,54,10,23,2381,2411]
[2013,53,55,32,99,61,141,185,18,14,75,38,53,27,15,19,14,31,45,38,46,26,3,11,29,9,46,19,12,29,8,22,29,19,8,15,39,17,24,15,16,5,25,38,18,8,8,35,21,13,10,10,15,18,13,33,193,56,10,25,11,8,17,16,35,94,22,38,3,21,2234,2274]
[2014,57,65,18,125,66,140,152,31,22,70,37,34,37,3,13,16,33,51,40,23,22,0,19,33,19,52,20,10,26,9,23,16,21,20,46,39,20,28,17,9,14,42,64,10,3,6,25,23,26,11,13,15,12,29,30,203,41,23,27,4,9,20,21,37,91,21,42,12,14,2347,2370]
[2015,68,77,20,153,69,177,221,21,29,71,26,44,35,12,35,26,52,46,28,31,21,9,10,17,12,57,21,8,41,9,14,12,16,27,34,33,17,37,18,12,9,31,51,9,7,7,25,16,27,8,20,5,14,24,33,184,46,12,11,12,15,27,25,25,76,34,41,4,20,2467,2484]
[2016,90,71,45,188,75,185,220,18,27,106,50,47,43,6,18,27,37,45,36,63,21,0,15,59,13,53,32,21,39,7,35,13,28,20,27,30,18,16,31,29,17,39,67,15,3,8,43,24,24,4,26,12,14,22,24,167,55,27,32,7,6,43,26,29,97,31,63,8,28,2827,2865]
[2017,94,73,28,208,112,192,315,29,30,102,58,66,31,8,43,24,62,53,57,40,30,2,9,43,24,75,16,7,49,12,19,21,31,20,30,41,26,39,35,19,18,52,84,22,7,16,56,30,37,2,25,14,17,24,42,177,63,20,33,14,19,29,30,33,80,27,42,12,32,3230,3230]
[]
["Mean",{"$f":"AVERAGE(B5:B22)","v":70.444444444444443},{"$f":"AVERAGE(C5:C22)","v":60.222222222222221},27.5,151.77777777777777,78.111111111111114,156.55555555555554,196.72222222222223,22.333333333333332,27.166666666666668,87.333333333333329,38.777777777777779,53.555555555555557,36.111111111111114,12.833333333333334,34.055555555555557,21.111111111111111,49.833333333333336,51.277777777777779,44.111111111111114,49.444444444444443,31.277777777777779,2.5555555555555554,14.111111111111111,35.111111111111114,16.388888888888889,67.277777777777771,27.833333333333332,16.444444444444443,43.944444444444443,8.8888888888888893,24.166666666666668,22.555555555555557,27.777777777777779,23.611111111111111,31.666666666666668,40.166666666666664,23.333333333333332,30.611111111111111,28.111111111111111,22.944444444444443,16.388888888888889,37.833333333333336,68.944444444444443,14.111111111111111,6.833333333333333,10.888888888888889,41.444444444444443,23.111111111111111,32.666666666666664,7.6111111111111107,17.111111111111111,12.444444444444445,16.555555555555557,25,28.833333333333332,187.33333333333334,40.722222222222221,21.388888888888889,26.666666666666668,9.0555555555555554,10.611111111111111,29,27.611111111111111,33.222222222222221,108.11111111111111,{"$f":"AVERAGE(BO5:BO22)","v":32.555555555555557},61.5,11.055555555555555,38.277777777777779,2768.8888888888887]
["Std dev",{"$f":"STDEV(B5:B22)","v":14.07635573753636},{"$f":"STDEV(C5:C22)","v":11.461216214878023},7.4774169808753044,31.603342257268711,18.786380826949177,23.907228102721469,41.879105495750309,7.9779106803429061,6.9978988443170653,14.507604496790437,9.6805174603764588,9.4260104605614785,6.2298039709400044,5.0088157576534647,11.588392885693972,6.0768498891418545,13.967399016786112,7.8125506534305558,10.41994066195643,12.505162332705654,8.1659663565280258,1.9769918391399959,5.2231260516700138,10.436862774568006,6.9716981549260053,15.899706085169347,8.6992224128502027,7.3101236991402558,10.794727592248435,3.1602101361420836,6.2708475832031434,7.4693272570695859,8.6129557374891768,8.2756829388622144,9.461998296591787,8.6040346213102765,5.6982969592058046,8.1539516864263515,8.7708668086548531,6.8554162547684756,6.5900003471292301,9.2942107217975458,16.94097789462413,4.5875648915287215,3.0534454984107229,3.8023040830356116,12.765865433312305,5.7893298290286603,9.5239635841881078,5.0192440125497333,4.9928052811183585,3.8535273714629787,3.4166068861341188,6.5798265666397944,6.1572530162307242,27.837765292325251,10.931904497740195,6.563167177414635,7.1042654958337614,3.3863431990035955,4.6417401514935035,7.6080452772822316,8.0230468679767544,9.9856105622367171,28.735894522129083,{"$f":"STDEV(BO5:BO22)","v":7.9942790001366726},17.088868065635765,4.9642512879258236,17.910908787517485,295.60305038800527]
["CV",{"$f":"B25/B24","v":0.19982208460225118},{"$f":"C25/C24","v":0.1903153984020336},0.27190607203182926,0.2082211422514044,0.24050843163946314,0.15270763160006617,0.21288446736049296,0.35721988120938386,0.25759136850246867,0.16611760874187523,0.24964085141371956,0.17600434469928072,0.17251764842603087,0.39029733176520504,0.34027907331564683,0.28785078422250893,0.28028225451744704,0.1523574341947454,0.23622031727357143,0.25291339549292335,0.26107885331705943,0.7736055022721724,0.37014279106322934,0.29725242079465836,0.42539175182599354,0.23632923991168314,0.31254691303653426,0.44453454927204261,0.24564487567695556,0.35552364031598438,0.25948334827047487,0.33115243996860233,0.31006640654961037,0.3504995127047526,0.29879994620816169,0.21420833082100274,0.24421272682310594,0.26637228739686813,0.31200711967546907,0.29878327502622898,0.4021017160960208,0.24566195740434041,0.24571926035715902,0.32510302380912198,0.44684568269425212,0.3491911912991888,0.30802356273407705,0.25049984837143241,0.29154990563841149,0.65946271697733727,0.29178732162380017,0.30965844949256077,0.20637222802152394,0.26319306266559178,0.21354634738372455,0.14860017059960098,0.2684505879390498,0.30684937452847644,0.26640995609376605,0.37395200970591852,0.43744148024546109,0.26234638887180106,0.29057312600318225,0.30057021759240954,0.26579964100633274,{"$f":"BO25/BO24","v":0.24555805802467595},0.27786777342497176,0.44902775468675793,0.4679192426347093,0.10675872606308377]

{"sheet":"Popn","index":8,"n_rows":62,"n_cols":95,"rows_kept":62,"cut":false,"hidden":true,"merged":[[7,0,22,0],[24,0,30,0],[33,0,37,0]]}
["Population Projections by Local Authority (base 2013)"]
["The calculations in cols K-O are temporary until Stats NZ releases projections based on the 2018 census."]
[]
[null,"end June","Far North District","Whangarei District","Kaipara District","Akl North","Akl West","Akl Central","Akl South","Thames-Coromandel District","Hauraki District","Waikato District","Matamata-Piako District","Hamilton City","Waipa District","Otorohanga District","South Waikato District","Waitomo District","Taupo District","Western Bay Of Plenty District","Tauranga City","Rotorua District","Whakatane District","Kawerau District","Opotiki District","Gisborne District","Wairoa District","Hastings District","Napier City","Central Hawkes Bay District","New Plymouth District","Stratford District","South Taranaki District","Ruapehu District","Wanganui District","Rangitikei District","Manawatu District","Palmerston North City","Tararua District","Horowhenua District","Kapiti Coast District","Porirua City","Upper Hutt City","Hutt City","Wellington City","Masterton District","Carterton District","South Wairarapa District","Tasman District","Nelson City","Marlborough District","Kaikoura District","Buller District","Grey District","Westland District","Hurunui District","Waimakariri District","Christchurch City","Selwyn District","Ashburton District","Timaru District","Mackenzie District","Waimate District","Waitaki District","Central Otago District","Queenstown-Lakes District","Dunedin City","Clutha District","Southland District","Gore District","Invercargill City","NZ",null,"  Auckland","  Rodney local board area","  Hibiscus and Bays local board area","  Upper Harbour local board area","  Kaipatiki local board area","  Devonport-Takapuna local board area","  Henderson-Massey local board area","  Waitakere Ranges local board area","  Great Barrier local board area","  Waiheke local board area","  Waitemata local board area","  Whau local board area","  Albert-Eden local board area","  Puketapapa local board area","  Orakei local board area","  Maungakiekie-Tamaki local board area","  Howick local board area","  Mangere-Otahuhu local board area","  Otara-Papatoetoe local board area","  Manurewa local board area","  Papakura local board area","  Franklin local board area"]
[null,null,"","","",null,null,null,null,"","","","","","","","","","","","","","","","","","","","","","","","","","","","","","","","","","","","","","","","","","","","","","","","","","","","","","","","","","","","","","",null,null,"","","","","","","","","","","","","","","","","","","","","",""]
["Stats NZ",2001,56400,70000,17950,{"$f":"SUM(BW6:CA6)","v":283400},{"$f":"CB6+CC6+CG6","v":201300},{"$f":"SUM(CD6:CJ6)-CG6","v":273960},{"$f":"SUM(CK6:CQ6)","v":459600},25800,18000,53700,30300,121200,40000,9590,24200,9780,32500,39000,93500,66900,34100,7290,9490,45500,9260,69600,55200,13200,68400,9110,28400,15000,44400,15500,26300,77100,18350,30600,43600,49500,37700,99100,171100,23200,7000,8940,42400,42900,40700,3580,9860,13200,7990,10150,37900,335300,28300,26000,42800,3790,7220,20500,14750,17850,119300,17550,29400,12750,51100,{"$f":"SUM(C6:BS6)","v":3879310},null,1218300,44100,75100,33700,78200,52300,90900,44200,1100,7560,52500,66200,90000,49800,73000,66400,97300,64600,70400,69100,38900,52900]
[null,{"$f":"B6+1","v":2002},56600,71300,18100,{"$f":"SUM(BW7:CA7)","v":291400},{"$f":"CB7+CC7+CG7","v":207200},{"$f":"SUM(CD7:CJ7)-CG7","v":282670},{"$f":"SUM(CK7:CQ7)","v":474600},26000,18050,55000,30400,124000,40600,9560,24000,9720,32700,39700,96000,67400,34200,7310,9470,45500,9190,70400,55500,13200,69000,9070,28100,14800,44300,15450,26300,77800,18250,30600,44300,49800,38100,99800,174400,23300,7050,8990,43200,43100,41200,3620,9830,13200,8100,10250,39000,340500,29600,26300,43100,3790,7230,20500,15200,19150,120200,17500,29300,12650,51500,3947200,null,1255800,45400,77300,36400,79300,53000,94000,44900,1080,7790,54100,68300,92700,51600,75400,68300,102200,66400,71800,71800,39800,54300]
["Dataset: Subnational population estimates (TA, SA2), by age and sex, at 30 June 1996-2019 (2020 boundaries)",{"$f":"B7+1","v":2003},56900,72700,18250,301100,213300,292800,490400,26200,18150,56300,30600,127100,41400,9490,23900,9750,33000,40600,99000,67900,34200,7290,9460,45800,9070,71100,55900,13200,69700,9090,28000,14750,44100,15450,26400,79000,18200,30600,45100,50300,38500,100300,178800,23300,7120,8990,44100,43600,41800,3660,9870,13250,8230,10350,40200,347600,30900,26800,43300,3840,7280,20600,15700,20400,120900,17450,29400,12650,52100,4026540,null,1297600,46800,80100,38900,81100,54200,97200,45800,1050,8050,59100,70300,94400,52900,77300,69600,107200,68300,73300,75200,40800,56000]
[null,2004,57000,74100,18350,308600,217200,297970,502200,26400,18200,57300,30900,130000,42100,9410,23800,9740,33200,41400,101900,68100,34400,7230,9440,45800,8920,71900,56200,13200,70100,9150,27700,14500,43900,15350,26400,79900,18150,30600,45900,50500,38900,100900,182100,23300,7170,9020,45000,44000,42500,3700,9870,13300,8360,10550,41500,353200,32200,27200,43600,3860,7340,20600,16150,21800,121600,17400,29300,12600,52200,4086330,null,1326000,48200,82100,41200,82300,54800,99700,46600,1020,8150,63600,70900,94800,53000,77400,69400,111900,70000,74300,77500,41600,57500]
[null,2005,57200,75300,18450,314600,220500,301430,512500,26500,18250,58400,31100,132300,43000,9360,23600,9710,33300,42300,104600,68000,34300,7200,9330,45800,8800,72400,56500,13200,70400,9140,27400,14200,43800,15250,26600,80200,18100,30600,46700,50400,39200,101200,184500,23300,7200,9050,45500,44100,43000,3710,9870,13400,8490,10650,42800,357200,33400,27600,43700,3880,7340,20600,16550,22900,122000,17300,29200,12500,52000,4132860,null,1348900,49700,83700,43200,82900,55100,101600,47000,970,8160,66200,71900,95300,53200,77600,69500,115700,71100,75300,79600,42400,58900]
[null,2006,57500,76500,18550,320600,224300,304190,523900,26700,18300,59500,31200,134800,43700,9310,23200,9680,33400,43000,107000,68100,34500,7150,9200,45900,8720,73200,56800,13250,71100,9120,27200,14050,43800,15150,26800,80800,18050,30600,47500,50600,39700,101300,187700,23200,7260,9120,45800,44300,43600,3730,9940,13550,8620,10750,44100,361800,34900,28000,43800,3900,7380,20700,17050,24100,122300,17200,29200,12400,51600,4183920,null,1373000,51000,85200,45100,83600,55700,103700,47500,940,8150,66600,73100,96200,53900,78400,70400,119100,72500,76600,81600,43100,60600]
[null,2007,58100,77800,18800,325500,226400,307780,530700,26800,18350,60600,31300,136900,44600,9280,23000,9580,33500,43600,109300,67900,34400,7060,9160,45900,8610,73700,57200,13250,71700,9090,26900,13700,43600,15000,26900,80800,17950,30600,48100,50800,39900,101300,189500,23200,7390,9190,46200,44700,43800,3730,10050,13600,8640,10800,45100,365600,36700,28600,44000,3950,7430,20700,17350,25400,121900,17200,29200,12300,51700,4223340,null,1390400,51900,86400,47200,83900,56100,105000,47800,910,8170,68900,73600,96700,54300,78800,70700,122400,72700,76800,82400,43700,62000]
[null,2008,58500,78800,19000,329600,228200,310920,536700,26800,18350,61800,31600,138700,45300,9290,23000,9580,33500,44100,111300,68000,34300,7020,9110,46000,8540,74100,57400,13300,72400,9100,26900,13450,43500,14900,27200,80900,17750,30700,48600,51100,40100,101100,190800,23300,7550,9290,46500,45200,44100,3720,10100,13650,8660,10950,46000,368700,38200,29100,44000,4010,7470,20800,17600,26300,121700,17300,29300,12300,51700,4258810,null,1405500,52900,87300,48900,84300,56200,106300,47900,880,8240,71200,74000,96900,54400,79300,71100,124900,72900,77200,83200,44300,63100]
[null,2009,59000,79900,19350,333500,230800,315080,542500,26900,18400,63000,31900,140900,46100,9350,23100,9590,33800,44600,113400,68100,34300,6970,9090,46300,8520,74700,57900,13350,73300,9130,27100,13350,43500,14850,27400,81500,17700,30800,49100,51700,40400,101300,192500,23500,7700,9400,46900,45800,44400,3720,10250,13750,8660,11150,46900,372300,39600,29600,44200,4060,7520,20900,17800,26900,121900,17350,29500,12350,52100,4302240,null,1421700,53800,88300,50100,84800,56500,107900,48300,870,8310,73500,74600,97600,54800,80000,71600,126900,73200,77900,83900,44800,64200]
[null,2010,59600,81200,19750,338100,233600,319090,548900,27100,18550,64300,32200,143300,46900,9430,23200,9590,34200,45200,115400,68400,34400,6950,9090,46700,8570,75600,58600,13450,74400,9150,27200,13150,43700,14800,27700,82200,17750,31000,49700,52300,40800,101600,193700,23700,7910,9540,47400,46500,44600,3720,10350,13850,8640,11300,47600,376300,41000,30100,44500,4130,7580,21000,18000,27500,122400,17400,29700,12400,52600,4350240,null,1439600,54800,89300,51400,85600,57000,109500,48700,910,8380,75500,75400,98400,55100,80800,72100,129000,73600,78500,84900,45600,65200]
[null,2011,60100,82100,20200,343500,236400,323440,556200,27200,18650,65400,32400,145600,47700,9500,23300,9590,34300,45600,117200,68800,34400,6890,9070,46800,8530,76200,59000,13450,75400,9160,27400,12950,43800,14700,28000,82800,17750,31000,50200,53000,41300,101700,195400,24000,8130,9690,48200,47500,44700,3760,10500,13900,8680,11550,49400,362300,42900,31000,44900,4210,7680,21200,18150,28400,123100,17500,30000,12450,53200,4383080,null,1459600,55800,90600,53100,86500,57500,111100,49300,930,8510,77100,76000,99400,55700,81800,72900,131100,74100,79300,86000,46500,66300]
[null,2012,60400,82800,20300,348600,238500,327020,562600,27200,18600,66100,32600,148100,48200,9570,23200,9490,34600,45500,118300,68600,34300,6850,8870,47000,8350,76400,59400,13350,76200,9230,27400,12600,43600,14550,28200,83300,17600,31200,50400,53400,41300,101200,196600,24100,8310,9710,48600,48200,44600,3680,10650,13900,8560,11800,50500,355100,44400,31700,45100,4280,7720,21300,18200,28800,123500,17300,30200,12400,53200,4407390,null,1476500,56700,91800,54900,87300,57900,112300,49900,960,8660,78500,76300,100100,56100,82700,73300,133700,74500,79800,86600,47400,67300]
[null,2013,60600,83700,20500,353600,240900,330880,567800,27300,18600,66500,32900,150200,48700,9590,23200,9340,34800,45500,119800,68400,34200,6650,8780,47000,8300,76700,59600,13250,77100,9210,27500,12450,43500,14550,28500,83500,17450,31200,50700,53700,41300,101200,197500,24100,8490,9800,48800,48700,44700,3640,10650,13700,8570,12000,52300,356700,46700,32300,45400,4300,7810,21400,18500,29700,123500,17250,30300,12400,53200,4441560,null,1493200,57300,94000,56800,87000,58500,113500,50700,950,8630,81300,76700,100000,56300,83700,73700,135000,75300,80300,87000,48200,68300]
[null,2014,61900,85400,20900,360100,245300,334600,580400,27900,18900,68200,33300,153200,49500,9720,23400,9400,35300,46700,123000,69600,34700,6800,8910,47500,8390,78200,60500,13550,78200,9300,27600,12500,44100,14700,29100,84300,17650,31700,51700,54600,42100,102400,199900,24500,8710,9990,49700,49600,45400,3740,10550,13700,8620,12200,54300,358000,49600,32800,45800,4440,7870,21700,18950,31300,124900,17350,30600,12450,53800,4515690,null,1520300,58700,96400,58200,88000,58800,115700,51400,960,8740,82200,78200,100800,57300,84600,74800,137800,76700,81900,88900,50600,69700]
[null,2015,63300,87200,21500,368600,249900,338860,595600,28500,19250,70400,33700,156800,50900,9900,23800,9470,35900,47900,126800,70900,35300,6960,9100,48100,8490,79900,61400,13800,79500,9420,27900,12550,44800,14900,29600,85300,17850,32200,52600,55600,42900,103800,202900,24900,8880,10200,50700,50500,46200,3840,10400,13750,8670,12450,56800,365600,53100,33300,46300,4550,7950,22000,19550,33400,126600,17550,30900,12550,54300,4608990,null,1552800,60600,99000,60600,89100,59300,118100,52100,960,8900,83500,79700,101500,58300,85700,76000,141500,78100,84200,91500,53100,71200]
[null,2016,64900,89300,22200,378200,254700,344160,612800,29100,19700,72600,34200,160800,52200,10150,24100,9580,36800,49400,131100,72300,35900,7120,9300,48800,8590,81600,62400,14150,80900,9560,28100,12650,45600,15100,30100,86400,18100,32900,53500,56800,43800,105700,206000,25400,9060,10400,51900,51400,47100,3950,10300,13850,8780,12700,58700,374600,56400,33900,47000,4720,8060,22400,20200,36100,128400,17750,31400,12700,54900,4713430,null,1589700,63200,102100,62900,90300,59700,120500,52800,970,9090,85700,81400,102500,59300,86600,77800,144900,79800,86300,95100,55800,73100]
[null,2017,66500,91800,23000,388600,259000,348410,628900,29900,20200,75600,34800,165100,53700,10300,24500,9610,37700,51500,136600,73700,36600,7300,9510,49200,8670,83200,63400,14400,82200,9650,28300,12700,46200,15300,30600,87300,18300,33700,54300,57800,44600,107500,208400,25800,9240,10650,53000,52000,47900,3990,10100,13800,8790,12850,60300,380400,60000,34400,47400,4900,8120,22700,21100,39000,129900,17850,31600,12750,55500,4812590,null,1625000,66100,105600,64900,91900,60100,122600,53600,970,9240,87300,82800,103400,60100,87400,79200,147800,81500,88400,98000,58700,75300]
[null,2018,67900,94100,23700,397800,262900,351120,642800,30700,20700,78200,35300,168600,55000,10500,24800,9630,38600,53400,142000,74800,37100,7460,9670,49500,8720,84700,64200,14650,83300,9710,28300,12750,46800,15450,31100,88300,18450,34500,55200,58900,45400,108600,211200,26400,9510,10900,54000,52700,48700,4060,9850,13750,8830,12950,61300,383800,63300,34600,47600,5100,8120,22900,22200,42500,131200,18050,31900,12800,55900,4899430,null,1654800,69100,108500,66800,92900,60500,124600,54200,960,9360,88500,84100,103700,60900,87700,80500,149400,82700,90500,100900,61100,77700]
[]
["Stats NZ Projections Based on 2013 Census","2013",60600,83700,20500,{"$f":"SUM(BW25:CA25)","v":353600},{"$f":"CB25+CC25+CG25","v":240900},{"$f":"SUM(CD25:CJ25)-CG25","v":330880},{"$f":"SUM(CK25:CQ25)","v":567800},27300,18600,66500,32900,150200,48700,9590,23200,9340,34800,45500,119800,68400,34200,6650,8780,47000,8300,76700,59600,13250,77100,9210,27500,12450,43500,14550,28500,83500,17450,31200,50700,53700,41300,101200,197500,24100,8490,9800,48800,48700,44700,3640,10650,13700,8570,12000,52300,356700,46700,32300,45400,4300,7810,21400,18500,29700,123500,17250,30300,12400,53200,4442160,null,1493200,57300,94000,56800,87000,58500,113500,50700,950,8630,81300,76700,100000,56300,83700,73700,135000,75300,80300,87000,48200,68300]
[null,"2018",62900,90600,22600,{"$f":"SUM(BW26:CA26)","v":402900},{"$f":"CB26+CC26+CG26","v":267300},{"$f":"SUM(CD26:CJ26)-CG26","v":391540},{"$f":"SUM(CK26:CQ26)","v":638200},29000,20200,75200,35000,168700,53900,10300,24000,9830,37200,49500,134600,71800,35800,6840,8800,48500,8140,80000,62100,13850,81900,9370,27900,12600,44200,14950,30700,88200,17500,32200,53100,56600,43400,105000,212800,25000,9070,10250,51300,51800,46000,3670,10100,13600,8850,12950,60900,387200,61900,34700,47400,4680,8040,22300,20500,38300,129000,17600,31400,12500,55300,4864640,null,1699900,66800,109000,69100,94900,63100,125000,55500,980,9560,114000,86800,110200,63700,93100,82700,153700,82900,88900,96600,56200,77200]
[null,"2023",64100,95500,23600,443300,290000,430600,695300,29400,20700,81700,35900,182100,57200,10850,24000,9770,38100,51800,145800,73400,36200,6630,8550,49400,7890,82100,63400,13900,85100,9440,28100,12100,44400,14900,31900,91400,17300,32500,54700,58300,44900,106800,222600,25500,9330,10500,53000,53700,46900,3690,10000,13550,8910,13450,66800,408800,71900,36300,48500,4790,8190,22800,21400,44000,132000,17550,31800,12400,55900,5157900,null,1859300,76100,119900,80500,100300,66500,136100,58900,1000,10100,132700,95000,117800,68900,100100,91700,167300,89000,95800,101700,63200,86600]
[null,"2028",64900,99200,24400,478100,310900,458860,742200,29600,20900,87200,36500,193500,59900,11000,23800,9650,38700,53800,154900,74000,36400,6370,8220,50000,7610,83900,64400,13800,88000,9490,28200,11500,44400,14750,32900,94200,17000,32600,56200,59500,46100,107800,230500,25800,9530,10650,54300,55300,47400,3680,9910,13450,8910,13850,71500,423800,79200,37800,49400,4880,8330,23300,22200,47700,133900,17500,32100,12300,56300,5389450,null,1990100,84600,128900,91200,103900,69500,147400,61100,1010,10650,144600,102400,123600,73200,105800,99900,177500,94300,100900,104100,69200,96300]
[null,"2033",65200,102400,24900,510800,330800,485330,785200,29500,20900,92400,36900,204400,62300,11000,23300,9430,39000,55500,163600,74100,36300,6030,7790,50300,7250,85200,65100,13550,90400,9510,28000,10750,44000,14450,33800,96700,16600,32400,57500,60300,47100,108100,238000,25900,9670,10800,55300,56500,47600,3640,9800,13250,8820,14200,75800,437500,86200,39200,50000,4930,8420,23600,22900,51100,135300,17300,32200,12100,56300,5595040,null,2112000,92900,137300,101600,106700,72300,158400,62900,1030,11100,156000,109500,129000,77100,111100,107800,186600,99000,105400,105400,75000,106000]
[null,"2038",64900,105000,25200,540900,349400,509250,823300,29000,20700,97200,37100,214700,64300,10950,22600,9120,39100,56900,171700,73600,35800,5620,7260,50200,6810,86000,65300,13150,92400,9470,27800,9920,43400,14000,34400,98800,16050,32000,58500,60600,47700,107700,244600,25800,9720,10850,55800,57400,47500,3580,9670,12950,8680,14400,79600,449100,92900,40500,50200,4980,8480,23900,23300,54300,136200,17000,32100,11800,56000,5769730,null,2222700,100700,144800,111700,109000,74700,169100,64200,1050,11400,166600,116100,133900,80500,115800,115200,194500,103100,109100,105500,80600,115300]
[null,"2043",64200,107300,25200,569300,367500,531120,858100,28400,20300,101700,37000,224800,65900,10850,21700,8760,39000,57900,179500,72600,35100,5180,6670,49900,6310,86300,65400,12700,94100,9420,27400,8980,42500,13550,34800,100700,15350,31500,59400,60500,48100,106700,250400,25600,9740,10850,55800,58000,47200,3510,9500,12600,8500,14550,83100,459100,99500,41900,50200,5030,8540,24100,23600,57400,136500,16500,32000,11450,55500,5922980,null,2326200,108000,151900,121400,111100,76900,179700,65200,1070,11650,176700,122600,138100,83600,120000,122300,201600,106600,112500,104800,86100,124200]
[]
["Revised on 2018 Census",2018,{"$f":"C23","v":67900},{"$f":"D23","v":94100},23700,397800,262900,351120,642800,30700,20700,78200,35300,168600,55000,10500,24800,9630,38600,53400,142000,74800,37100,7460,9670,49500,8720,84700,64200,14650,83300,9710,28300,12750,46800,15450,31100,88300,18450,34500,55200,58900,45400,108600,211200,26400,9510,10900,54000,52700,48700,4060,9850,13750,8830,12950,61300,383800,63300,34600,47600,5100,8120,22900,22200,42500,131200,{"$f":"BP23","v":18050},31900,12800,55900,4899430,null,1654800,69100,108500,66800,92900,60500,124600,54200,960,9360,88500,84100,103700,60900,87700,80500,149400,82700,90500,100900,61100,77700]
["Estimated Projections Using Stats NZ Revision for 2018",2023,{"$f":"C27/C$26*C$33","v":69195.389507154221},{"$f":"D27/D$26*D$33","v":99189.293598233984},24748.672566371682,437688.60759493668,285226.33744855964,386147.7039382949,700311.56377311191,31123.448275862069,21212.376237623765,84959.308510638308,36207.71428571429,181992.05690574984,58367.34693877551,11060.679611650485,24800,9571.2207527975588,39533.870967741932,55881.212121212127,153815.75037147102,76466.852367688029,37514.525139664809,7230.9649122807023,9395.2840909090901,50418.556701030924,8452.1867321867321,86923.375000000015,65543.961352657017,14702.888086642601,86554.700854700859,9782.5400213447174,28502.867383512548,12244.04761904762,47011.76470588235,15398.327759197324,32315.635179153094,91503.628117913831,18239.142857142855,34821.428571428572,56863.276836158198,60669.081272084804,46969.124423963127,110461.71428571429,220926.31578947368,26928,9782.613009922823,11165.853658536585,55789.473684210527,54633.011583011583,49652.82608695652,4082.1253405994553,9752.4752475247533,13699.448529411766,8889.8644067796595,13449.999999999998,67238.752052545155,405210.33057851245,73526.171243941833,36195.389048991354,48704.641350210972,5219.871794871794,8271.4925373134338,23413.452914798207,23174.634146341465,48825.065274151435,134251.16279069768,{"$f":"BP27/BP$26*BP$33","v":17998.721590909092},32306.369426751593,12697.6,56506.509945750455,5194787.280662084]
[null,2028,{"$f":"C28/C$26*C$33","v":70058.982511923692},103032.22958057396,25587.610619469026,472048.10126582277,305782.30452674895,411490.32844664657,747549.60827326856,31335.172413793105,21417.326732673268,90678.723404255317,36812.857142857145,193385.29934795495,61122.448979591834,11213.592233009709,24593.333333333336,9453.6622583926746,40156.451612903227,58038.787878787873,163416.04754829122,77091.922005571032,37721.787709497206,6947.397660818714,9032.6590909090901,51030.927835051538,8152.2358722358722,88829.125,66577.777777777781,14597.111913357399,89504.2735042735,9834.3543223052293,28604.301075268817,11636.904761904761,47011.76470588235,15243.311036789299,33328.664495114004,94306.802721088447,17922.857142857141,34928.571428571428,58422.598870056492,61917.844522968197,48224.423963133639,111496,228766.91729323307,27244.799999999999,9992.3153252480715,11325.365853658537,57157.894736842114,56260.810810810806,50182.17391304348,4071.0626702997274,9664.7029702970303,13598.345588235296,8889.8644067796595,13850.000000000002,71969.622331691295,420078.61570247932,80991.276252019379,37691.066282420747,49608.438818565395,5317.9487179487187,8412.8855721393029,23926.90582959641,24040.9756097561,52930.809399477803,136183.56589147286,17947.44318181818,32611.14649681529,12595.2,56910.849909584082,5427993.2355734445]
[null,2033,70382.829888712236,106355.84988962472,26111.946902654869,504334.17721518985,325354.73251028807,435227.74071614648,790859.5424631777,31229.310344827583,21417.326732673268,96086.170212765966,37216.28571428571,204278.83817427384,63571.428571428572,11213.592233009709,24076.666666666668,9238.1383519837236,40467.741935483871,59872.727272727265,172594.35364041603,77196.10027855153,37618.156424581,6576.5789473684208,8560.1477272727279,51337.113402061863,7766.5847665847659,90205.5,67301.44927536232,14332.671480144405,91945.299145299155,9855.0800426894348,28401.433691756269,10877.976190476191,46588.23529411765,14933.277591973245,34240.390879478829,96809.637188208624,17501.142857142859,34714.28571428571,59774.011299435027,62750.35335689046,49270.506912442397,111806.28571428571,236210.5263157895,27350.400000000001,10139.106945975744,11484.878048780489,58210.526315789473,57481.660231660229,50393.913043478264,4026.8119891008173,9557.425742574258,13396.139705882353,8800.0677966101703,14200,76297.865353037763,433658.3161157025,88149.596122778676,39087.031700288186,50210.970464135018,5372.4358974358975,8503.7810945273632,24234.977578475336,24799.024390243903,56703.655352480411,137607.4418604651,17742.329545454544,32712.738853503186,12390.4,56910.849909584082,5635053.5347322719]
[null,2038,70058.982511923692,109056.29139072847,26426.548672566372,534053.16455696209,343648.55967078189,456678.39812024316,829234.15857098089,30700,21212.376237623765,101077.6595744681,37418,214572.73266152933,65612.244897959186,11162.6213592233,23353.333333333332,8934.445574771109,40571.505376344081,61383.030303030304,181139.67310549776,76675.208913649025,37100,6129.4152046783629,7977.75,51235.051546391755,7295.2334152334151,91052.5,67508.21256038647,13909.566787003609,93979.487179487172,9813.6286019210256,28198.566308243728,10038.095238095239,45952.941176470587,14468.227424749164,34848.208469055375,98912.018140589571,16921.285714285714,34285.714285714283,60813.559322033892,63062.544169611312,49898.156682027649,111392.57142857143,242760.90225563908,27244.799999999999,10191.532524807057,11538.048780487805,58736.84210526316,58397.2972972973,50288.043478260865,3960.4359673024524,9430.6435643564346,13092.830882352941,8660.3841807909612,14400,80122.824302134642,445156.45661157026,95001.130856219708,40383.285302593664,50411.814345991559,5426.9230769230771,8564.3781094527367,24543.04932735426,25232.195121951216,60254.569190600523,138522.79069767441,17434.659090909092,32611.14649681529,12083.199999999999,56607.594936708861,5810992.8491933635]
[null,2043,69303.338632750398,111445.14348785872,26426.548672566372,562093.67088607594,361450.61728395062,476290.68396587833,864284.98903165152,30064.827586206895,20802.475247524751,105757.18085106384,37317.142857142855,224666.74570243034,67244.897959183683,11060.679611650485,22423.333333333332,8581.7700915564601,40467.741935483871,62461.818181818184,189368.49925705793,75633.426183844014,36374.581005586595,5649.5321637426896,7329.420454545454,50928.865979381437,6759.6068796068794,91370.125000000015,67611.594202898545,13433.574007220217,95708.547008547001,9761.8143009605119,27792.831541218638,9086.9047619047615,45000,{"$f":"AJ31/AJ$26*AJ$33","v":14003.177257525083},35253.420195439743,100814.1723356009,16183.285714285714,33750,61749.152542372874,62958.480565371028,50316.589861751156,110358.28571428571,248517.29323308272,27033.600000000002,10212.502756339582,11538.048780487805,58736.84210526316,59007.722007722004,49970.434782608696,3882.9972752043595,9264.8514851485143,12738.970588235296,8480.7909604519773,14550,83645.812807881768,455068.6466942149,101750.40387722132,41779.250720461096,50411.814345991559,5481.4102564102559,8624.9751243781102,24748.430493273543,25557.073170731706,63694.516971279372,138827.90697674421,16921.875,32509.554140127388,11724.800000000001,56102.169981916821,5965338.8331716228]
[]
["Interpolated",2018,{"$f":"TREND(C$33:C$38,$B$33:$B$38^{1,2,3},$B40^{1,2,3})","v":67889.71913087368},{"$f":"TREND(D$33:D$38,$B$33:$B$38^{1,2,3},$B40^{1,2,3})","v":94119.783453941345},{"$f":"TREND(E$33:E$38,$B$33:$B$38^{1,2,3},$B40^{1,2,3})","v":23698.335440397263},{"$f":"TREND(F$33:F$38,$B$33:$B$38^{1,2,3},$B40^{1,2,3})","v":397912.83906173706},{"$f":"TREND(G$33:G$38,$B$33:$B$38^{1,2,3},$B40^{1,2,3})","v":262908.58645105362},{"$f":"TREND(H$33:H$38,$B$33:$B$38^{1,2,3},$B40^{1,2,3})","v":351431.80431747437},{"$f":"TREND(I$33:I$38,$B$33:$B$38^{1,2,3},$B40^{1,2,3})","v":643008.63589096069},{"$f":"TREND(J$33:J$38,$B$33:$B$38^{1,2,3},$B40^{1,2,3})","v":30686.557197630405},{"$f":"TREND(K$33:K$38,$B$33:$B$38^{1,2,3},$B40^{1,2,3})","v":20704.066477954388},{"$f":"TREND(L$33:L$38,$B$33:$B$38^{1,2,3},$B40^{1,2,3})","v":78226.409996032715},{"$f":"TREND(M$33:M$38,$B$33:$B$38^{1,2,3},$B40^{1,2,3})","v":35307.204081632197},{"$f":"TREND(N$33:N$38,$B$33:$B$38^{1,2,3},$B40^{1,2,3})","v":168647.59081840515},{"$f":"TREND(O$33:O$38,$B$33:$B$38^{1,2,3},$B40^{1,2,3})","v":55012.957563817501},{"$f":"TREND(P$33:P$38,$B$33:$B$38^{1,2,3},$B40^{1,2,3})","v":10509.304206848145},{"$f":"TREND(Q$33:Q$38,$B$33:$B$38^{1,2,3},$B40^{1,2,3})","v":24795.079365074635},{"$f":"TREND(R$33:R$38,$B$33:$B$38^{1,2,3},$B40^{1,2,3})","v":9627.1232379302382},{"$f":"TREND(S$33:S$38,$B$33:$B$38^{1,2,3},$B40^{1,2,3})","v":38599.176480472088},{"$f":"TREND(T$33:T$38,$B$33:$B$38^{1,2,3},$B40^{1,2,3})","v":53403.424723446369},{"$f":"TREND(U$33:U$38,$B$33:$B$38^{1,2,3},$B40^{1,2,3})","v":142062.79629230499},{"$f":"TREND(V$33:V$38,$B$33:$B$38^{1,2,3},$B40^{1,2,3})","v":74818.189856529236},{"$f":"TREND(W$33:W$38,$B$33:$B$38^{1,2,3},$B40^{1,2,3})","v":37090.13035389781},{"$f":"TREND(X$33:X$38,$B$33:$B$38^{1,2,3},$B40^{1,2,3})","v":7457.2301122546196},{"$f":"TREND(Y$33:Y$38,$B$33:$B$38^{1,2,3},$B40^{1,2,3})","v":9667.7325036376715},{"$f":"TREND(Z$33:Z$38,$B$33:$B$38^{1,2,3},$B40^{1,2,3})","v":49494.329896897078},{"$f":"TREND(AA$33:AA$38,$B$33:$B$38^{1,2,3},$B40^{1,2,3})","v":8717.1943371891975},{"$f":"TREND(AB$33:AB$38,$B$33:$B$38^{1,2,3},$B40^{1,2,3})","v":84691.597222089767},{"$f":"TREND(AC$33:AC$38,$B$33:$B$38^{1,2,3},$B40^{1,2,3})","v":64188.513150691986},{"$f":"TREND(AD$33:AD$38,$B$33:$B$38^{1,2,3},$B40^{1,2,3})","v":14646.642026185989},{"$f":"TREND(AE$33:AE$38,$B$33:$B$38^{1,2,3},$B40^{1,2,3})","v":83287.891737759113},{"$f":"TREND(AF$33:AF$38,$B$33:$B$38^{1,2,3},$B40^{1,2,3})","v":9708.1906116977334},{"$f":"TREND(AG$33:AG$38,$B$33:$B$38^{1,2,3},$B40^{1,2,3})","v":28295.97485345602},{"$f":"TREND(AH$33:AH$38,$B$33:$B$38^{1,2,3},$B40^{1,2,3})","v":12748.393802016973},{"$f":"TREND(AI$33:AI$38,$B$33:$B$38^{1,2,3},$B40^{1,2,3})","v":46793.277310907841},{"$f":"TREND(AJ$33:AJ$38,$B$33:$B$38^{1,2,3},$B40^{1,2,3})","v":15443.028348445892},{"$f":"TREND(AK$33:AK$38,$B$33:$B$38^{1,2,3},$B40^{1,2,3})","v":31102.411974549294},{"$f":"TREND(AL$33:AL$38,$B$33:$B$38^{1,2,3},$B40^{1,2,3})","v":88298.410898923874},{"$f":"TREND(AM$33:AM$38,$B$33:$B$38^{1,2,3},$B40^{1,2,3})","v":18450.418367266655},{"$f":"TREND(AN$33:AN$38,$B$33:$B$38^{1,2,3},$B40^{1,2,3})","v":34491.496598482132},{"$f":"TREND(AO$33:AO$38,$B$33:$B$38^{1,2,3},$B40^{1,2,3})","v":55190.099542617798},{"$f":"TREND(AP$33:AP$38,$B$33:$B$38^{1,2,3},$B40^{1,2,3})","v":58901.651803195477},{"$f":"TREND(AQ$33:AQ$38,$B$33:$B$38^{1,2,3},$B40^{1,2,3})","v":45399.16977545619},{"$f":"TREND(AR$33:AR$38,$B$33:$B$38^{1,2,3},$B40^{1,2,3})","v":108600.82086157799},{"$f":"TREND(AS$33:AS$38,$B$33:$B$38^{1,2,3},$B40^{1,2,3})","v":211259.86394500732},{"$f":"TREND(AT$33:AT$38,$B$33:$B$38^{1,2,3},$B40^{1,2,3})","v":26396.647619128227},{"$f":"TREND(AU$33:AU$38,$B$33:$B$38^{1,2,3},$B40^{1,2,3})","v":9508.2524807006121},{"$f":"TREND(AV$33:AV$38,$B$33:$B$38^{1,2,3},$B40^{1,2,3})","v":10903.3759194538},{"$f":"TREND(AW$33:AW$38,$B$33:$B$38^{1,2,3},$B40^{1,2,3})","v":54005.84795320034},{"$f":"TREND(AX$33:AX$38,$B$33:$B$38^{1,2,3},$B40^{1,2,3})","v":52695.155359327793},{"$f":"TREND(AY$33:AY$38,$B$33:$B$38^{1,2,3},$B40^{1,2,3})","v":48700.84023475647},{"$f":"TREND(AZ$33:AZ$38,$B$33:$B$38^{1,2,3},$B40^{1,2,3})","v":4059.5610051453114},{"$f":"TREND(BA$33:BA$38,$B$33:$B$38^{1,2,3},$B40^{1,2,3})","v":9849.4581958353519},{"$f":"TREND(BB$33:BB$38,$B$33:$B$38^{1,2,3},$B40^{1,2,3})","v":13746.389180671424},{"$f":"TREND(BC$33:BC$38,$B$33:$B$38^{1,2,3},$B40^{1,2,3})","v":8828.178728312254},{"$f":"TREND(BD$33:BD$38,$B$33:$B$38^{1,2,3},$B40^{1,2,3})","v":12949.603174623102},{"$f":"TREND(BE$33:BE$38,$B$33:$B$38^{1,2,3},$B40^{1,2,3})","v":61326.362498283386},{"$f":"TREND(BF$33:BF$38,$B$33:$B$38^{1,2,3},$B40^{1,2,3})","v":383999.0304775238},{"$f":"TREND(BG$33:BG$38,$B$33:$B$38^{1,2,3},$B40^{1,2,3})","v":63390.899299621582},{"$f":"TREND(BH$33:BH$38,$B$33:$B$38^{1,2,3},$B40^{1,2,3})","v":34593.669091105461},{"$f":"TREND(BI$33:BI$38,$B$33:$B$38^{1,2,3},$B40^{1,2,3})","v":47590.436005622149},{"$f":"TREND(BJ$33:BJ$38,$B$33:$B$38^{1,2,3},$B40^{1,2,3})","v":5098.7891737818718},{"$f":"TREND(BK$33:BK$38,$B$33:$B$38^{1,2,3},$B40^{1,2,3})","v":8117.2747373878956},{"$f":"TREND(BL$33:BL$38,$B$33:$B$38^{1,2,3},$B40^{1,2,3})","v":22893.479962989688},{"$f":"TREND(BM$33:BM$38,$B$33:$B$38^{1,2,3},$B40^{1,2,3})","v":22194.843205451965},{"$f":"TREND(BN$33:BN$38,$B$33:$B$38^{1,2,3},$B40^{1,2,3})","v":42570.454639434814},{"$f":"TREND(BO$33:BO$38,$B$33:$B$38^{1,2,3},$B40^{1,2,3})","v":131227.44432091713},{"$f":"TREND(BP$33:BP$38,$B$33:$B$38^{1,2,3},$B40^{1,2,3})","v":18046.744227766991},{"$f":"TREND(BQ$33:BQ$38,$B$33:$B$38^{1,2,3},$B40^{1,2,3})","v":31889.518248856068},{"$f":"TREND(BR$33:BR$38,$B$33:$B$38^{1,2,3},$B40^{1,2,3})","v":12794.311111092567},{"$f":"TREND(BS$33:BS$38,$B$33:$B$38^{1,2,3},$B40^{1,2,3})","v":55887.96607246995},{"$f":"TREND(BT$33:BT$38,$B$33:$B$38^{1,2,3},$B40^{1,2,3})","v":4900595.8179016113}]
[null,{"$f":"B40+1","v":2019},{"$f":"TREND(C$33:C$38,$B$33:$B$38^{1,2,3},$B41^{1,2,3})","v":68196.356332808733},{"$f":"TREND(D$33:D$38,$B$33:$B$38^{1,2,3},$B41^{1,2,3})","v":95212.186228275299},{"$f":"TREND(E$33:E$38,$B$33:$B$38^{1,2,3},$B41^{1,2,3})","v":23929.083354398608},{"$f":"TREND(F$33:F$38,$B$33:$B$38^{1,2,3},$B41^{1,2,3})","v":406179.99276733398},{"$f":"TREND(G$33:G$38,$B$33:$B$38^{1,2,3},$B41^{1,2,3})","v":267505.44210386276},{"$f":"TREND(H$33:H$38,$B$33:$B$38^{1,2,3},$B41^{1,2,3})","v":358783.99749755859},{"$f":"TREND(I$33:I$38,$B$33:$B$38^{1,2,3},$B41^{1,2,3})","v":655046.49540710449},{"$f":"TREND(J$33:J$38,$B$33:$B$38^{1,2,3},$B41^{1,2,3})","v":30806.897164821625},{"$f":"TREND(K$33:K$38,$B$33:$B$38^{1,2,3},$B41^{1,2,3})","v":20825.768033921719},{"$f":"TREND(L$33:L$38,$B$33:$B$38^{1,2,3},$B41^{1,2,3})","v":79624.581627845764},{"$f":"TREND(M$33:M$38,$B$33:$B$38^{1,2,3},$B41^{1,2,3})","v":35502.00244897604},{"$f":"TREND(N$33:N$38,$B$33:$B$38^{1,2,3},$B41^{1,2,3})","v":171425.42894363403},{"$f":"TREND(O$33:O$38,$B$33:$B$38^{1,2,3},$B41^{1,2,3})","v":55714.862325847149},{"$f":"TREND(P$33:P$38,$B$33:$B$38^{1,2,3},$B41^{1,2,3})","v":10645.216828346252},{"$f":"TREND(Q$33:Q$38,$B$33:$B$38^{1,2,3},$B41^{1,2,3})","v":24821.591745942831},{"$f":"TREND(R$33:R$38,$B$33:$B$38^{1,2,3},$B41^{1,2,3})","v":9624.757139980793},{"$f":"TREND(S$33:S$38,$B$33:$B$38^{1,2,3},$B41^{1,2,3})","v":38815.439255714417},{"$f":"TREND(T$33:T$38,$B$33:$B$38^{1,2,3},$B41^{1,2,3})","v":53919.496296286583},{"$f":"TREND(U$33:U$38,$B$33:$B$38^{1,2,3},$B41^{1,2,3})","v":144517.69928455353},{"$f":"TREND(V$33:V$38,$B$33:$B$38^{1,2,3},$B41^{1,2,3})","v":75208.868302583694},{"$f":"TREND(W$33:W$38,$B$33:$B$38^{1,2,3},$B41^{1,2,3})","v":37202.111359417439},{"$f":"TREND(X$33:X$38,$B$33:$B$38^{1,2,3},$B41^{1,2,3})","v":7420.4328468590975},{"$f":"TREND(Y$33:Y$38,$B$33:$B$38^{1,2,3},$B41^{1,2,3})","v":9623.4430663734674},{"$f":"TREND(Z$33:Z$38,$B$33:$B$38^{1,2,3},$B41^{1,2,3})","v":49709.495728969574},{"$f":"TREND(AA$33:AA$38,$B$33:$B$38^{1,2,3},$B41^{1,2,3})","v":8670.2122382223606},{"$f":"TREND(AB$33:AB$38,$B$33:$B$38^{1,2,3},$B41^{1,2,3})","v":85172.77388882637},{"$f":"TREND(AC$33:AC$38,$B$33:$B$38^{1,2,3},$B41^{1,2,3})","v":64496.216302394867},{"$f":"TREND(AD$33:AD$38,$B$33:$B$38^{1,2,3},$B41^{1,2,3})","v":14675.856397867203},{"$f":"TREND(AE$33:AE$38,$B$33:$B$38^{1,2,3},$B41^{1,2,3})","v":83984.107122510672},{"$f":"TREND(AF$33:AF$38,$B$33:$B$38^{1,2,3},$B41^{1,2,3})","v":9726.4371411576867},{"$f":"TREND(AG$33:AG$38,$B$33:$B$38^{1,2,3},$B41^{1,2,3})","v":28357.337406814098},{"$f":"TREND(AH$33:AH$38,$B$33:$B$38^{1,2,3},$B41^{1,2,3})","v":12659.37316711247},{"$f":"TREND(AI$33:AI$38,$B$33:$B$38^{1,2,3},$B41^{1,2,3})","v":46867.072268888354},{"$f":"TREND(AJ$33:AJ$38,$B$33:$B$38^{1,2,3},$B41^{1,2,3})","v":15452.378563523293},{"$f":"TREND(AK$33:AK$38,$B$33:$B$38^{1,2,3},$B41^{1,2,3})","v":31353.180145859718},{"$f":"TREND(AL$33:AL$38,$B$33:$B$38^{1,2,3},$B41^{1,2,3})","v":88972.755548536777},{"$f":"TREND(AM$33:AM$38,$B$33:$B$38^{1,2,3},$B41^{1,2,3})","v":18414.35175511241},{"$f":"TREND(AN$33:AN$38,$B$33:$B$38^{1,2,3},$B41^{1,2,3})","v":34589.292517185211},{"$f":"TREND(AO$33:AO$38,$B$33:$B$38^{1,2,3},$B41^{1,2,3})","v":55543.605273157358},{"$f":"TREND(AP$33:AP$38,$B$33:$B$38^{1,2,3},$B41^{1,2,3})","v":59292.891311854124},{"$f":"TREND(AQ$33:AQ$38,$B$33:$B$38^{1,2,3},$B41^{1,2,3})","v":45735.131768018007},{"$f":"TREND(AR$33:AR$38,$B$33:$B$38^{1,2,3},$B41^{1,2,3})","v":109039.75201797485},{"$f":"TREND(AS$33:AS$38,$B$33:$B$38^{1,2,3},$B41^{1,2,3})","v":213261.65127038956},{"$f":"TREND(AT$33:AT$38,$B$33:$B$38^{1,2,3},$B41^{1,2,3})","v":26525.077333390713},{"$f":"TREND(AU$33:AU$38,$B$33:$B$38^{1,2,3},$B41^{1,2,3})","v":9569.9528933688998},{"$f":"TREND(AV$33:AV$38,$B$33:$B$38^{1,2,3},$B41^{1,2,3})","v":10957.772109936923},{"$f":"TREND(AW$33:AW$38,$B$33:$B$38^{1,2,3},$B41^{1,2,3})","v":54382.609858036041},{"$f":"TREND(AX$33:AX$38,$B$33:$B$38^{1,2,3},$B41^{1,2,3})","v":53115.999595433474},{"$f":"TREND(AY$33:AY$38,$B$33:$B$38^{1,2,3},$B41^{1,2,3})","v":48925.687025547028},{"$f":"TREND(AZ$33:AZ$38,$B$33:$B$38^{1,2,3},$B41^{1,2,3})","v":4067.751595467329},{"$f":"TREND(BA$33:BA$38,$B$33:$B$38^{1,2,3},$B41^{1,2,3})","v":9829.6095866560936},{"$f":"TREND(BB$33:BB$38,$B$33:$B$38^{1,2,3},$B41^{1,2,3})","v":13745.811449578032},{"$f":"TREND(BC$33:BC$38,$B$33:$B$38^{1,2,3},$B41^{1,2,3})","v":8848.832898914814},{"$f":"TREND(BD$33:BD$38,$B$33:$B$38^{1,2,3},$B41^{1,2,3})","v":13056.184126999229},{"$f":"TREND(BE$33:BE$38,$B$33:$B$38^{1,2,3},$B41^{1,2,3})","v":62575.427289009094},{"$f":"TREND(BF$33:BF$38,$B$33:$B$38^{1,2,3},$B41^{1,2,3})","v":388522.08553314209},{"$f":"TREND(BG$33:BG$38,$B$33:$B$38^{1,2,3},$B41^{1,2,3})","v":65539.953536987305},{"$f":"TREND(BH$33:BH$38,$B$33:$B$38^{1,2,3},$B41^{1,2,3})","v":34931.929555177689},{"$f":"TREND(BI$33:BI$38,$B$33:$B$38^{1,2,3},$B41^{1,2,3})","v":47839.539803057909},{"$f":"TREND(BJ$33:BJ$38,$B$33:$B$38^{1,2,3},$B41^{1,2,3})","v":5127.575010150671},{"$f":"TREND(BK$33:BK$38,$B$33:$B$38^{1,2,3},$B41^{1,2,3})","v":8153.0923825055361},{"$f":"TREND(BL$33:BL$38,$B$33:$B$38^{1,2,3},$B41^{1,2,3})","v":23010.234265759587},{"$f":"TREND(BM$33:BM$38,$B$33:$B$38^{1,2,3},$B41^{1,2,3})","v":22401.03247398138},{"$f":"TREND(BN$33:BN$38,$B$33:$B$38^{1,2,3},$B41^{1,2,3})","v":43925.339634895325},{"$f":"TREND(BO$33:BO$38,$B$33:$B$38^{1,2,3},$B41^{1,2,3})","v":131889.49821639061},{"$f":"TREND(BP$33:BP$38,$B$33:$B$38^{1,2,3},$B41^{1,2,3})","v":18041.049882590771},{"$f":"TREND(BQ$33:BQ$38,$B$33:$B$38^{1,2,3},$B41^{1,2,3})","v":31995.658072948456},{"$f":"TREND(BR$33:BR$38,$B$33:$B$38^{1,2,3},$B41^{1,2,3})","v":12782.071872979403},{"$f":"TREND(BS$33:BS$38,$B$33:$B$38^{1,2,3},$B41^{1,2,3})","v":56046.178524106741},{"$f":"TREND(BT$33:BT$38,$B$33:$B$38^{1,2,3},$B41^{1,2,3})","v":4963068.8700866699}]
[null,{"$f":"B41+1","v":2020},{"$f":"TREND(C$33:C$38,$B$33:$B$38^{1,2,3},$B42^{1,2,3})","v":68483.213142573833},{"$f":"TREND(D$33:D$38,$B$33:$B$38^{1,2,3},$B42^{1,2,3})","v":96256.475643634796},{"$f":"TREND(E$33:E$38,$B$33:$B$38^{1,2,3},$B42^{1,2,3})","v":24150.41651917994},{"$f":"TREND(F$33:F$38,$B$33:$B$38^{1,2,3},$B42^{1,2,3})","v":414245.16456031799},{"$f":"TREND(G$33:G$38,$B$33:$B$38^{1,2,3},$B42^{1,2,3})","v":272028.90388584137},{"$f":"TREND(H$33:H$38,$B$33:$B$38^{1,2,3},$B42^{1,2,3})","v":365813.7640838623},{"$f":"TREND(I$33:I$38,$B$33:$B$38^{1,2,3},$B42^{1,2,3})","v":666711.11249542236},{"$f":"TREND(J$33:J$38,$B$33:$B$38^{1,2,3},$B42^{1,2,3})","v":30914.358927249908},{"$f":"TREND(K$33:K$38,$B$33:$B$38^{1,2,3},$B42^{1,2,3})","v":20935.920792043209},{"$f":"TREND(L$33:L$38,$B$33:$B$38^{1,2,3},$B42^{1,2,3})","v":80986.730023145676},{"$f":"TREND(M$33:M$38,$B$33:$B$38^{1,2,3},$B42^{1,2,3})","v":35687.29142857343},{"$f":"TREND(N$33:N$38,$B$33:$B$38^{1,2,3},$B42^{1,2,3})","v":174128.98731422424},{"$f":"TREND(O$33:O$38,$B$33:$B$38^{1,2,3},$B42^{1,2,3})","v":56396.6439909935},{"$f":"TREND(P$33:P$38,$B$33:$B$38^{1,2,3},$B42^{1,2,3})","v":10764.550161600113},{"$f":"TREND(Q$33:Q$38,$B$33:$B$38^{1,2,3},$B42^{1,2,3})","v":24836.924444317818},{"$f":"TREND(R$33:R$38,$B$33:$B$38^{1,2,3},$B42^{1,2,3})","v":9618.827589020133},{"$f":"TREND(S$33:S$38,$B$33:$B$38^{1,2,3},$B42^{1,2,3})","v":39017.082915008068},{"$f":"TREND(T$33:T$38,$B$33:$B$38^{1,2,3},$B42^{1,2,3})","v":54424.608754277229},{"$f":"TREND(U$33:U$38,$B$33:$B$38^{1,2,3},$B42^{1,2,3})","v":146895.65923690796},{"$f":"TREND(V$33:V$38,$B$33:$B$38^{1,2,3},$B42^{1,2,3})","v":75561.936738014221},{"$f":"TREND(W$33:W$38,$B$33:$B$38^{1,2,3},$B42^{1,2,3})","v":37303.393668502569},{"$f":"TREND(X$33:X$38,$B$33:$B$38^{1,2,3},$B42^{1,2,3})","v":7380.1843014210463},{"$f":"TREND(Y$33:Y$38,$B$33:$B$38^{1,2,3},$B42^{1,2,3})","v":9574.6674747467041},{"$f":"TREND(Z$33:Z$38,$B$33:$B$38^{1,2,3},$B42^{1,2,3})","v":49910.787628859282},{"$f":"TREND(AA$33:AA$38,$B$33:$B$38^{1,2,3},$B42^{1,2,3})","v":8621.1590500026941},{"$f":"TREND(AB$33:AB$38,$B$33:$B$38^{1,2,3},$B42^{1,2,3})","v":85639.699444532394},{"$f":"TREND(AC$33:AC$38,$B$33:$B$38^{1,2,3},$B42^{1,2,3})","v":64788.21857213974},{"$f":"TREND(AD$33:AD$38,$B$33:$B$38^{1,2,3},$B42^{1,2,3})","v":14696.776574373245},{"$f":"TREND(AE$33:AE$38,$B$33:$B$38^{1,2,3},$B42^{1,2,3})","v":84662.634757816792},{"$f":"TREND(AF$33:AF$38,$B$33:$B$38^{1,2,3},$B42^{1,2,3})","v":9743.4743412770331},{"$f":"TREND(AG$33:AG$38,$B$33:$B$38^{1,2,3},$B42^{1,2,3})","v":28410.540183126926},{"$f":"TREND(AH$33:AH$38,$B$33:$B$38^{1,2,3},$B42^{1,2,3})","v":12565.014814868569},{"$f":"TREND(AI$33:AI$38,$B$33:$B$38^{1,2,3},$B42^{1,2,3})","v":46928.376470535994},{"$f":"TREND(AJ$33:AJ$38,$B$33:$B$38^{1,2,3},$B42^{1,2,3})","v":15454.363433659077},{"$f":"TREND(AK$33:AK$38,$B$33:$B$38^{1,2,3},$B42^{1,2,3})","v":31598.950705945492},{"$f":"TREND(AL$33:AL$38,$B$33:$B$38^{1,2,3},$B42^{1,2,3})","v":89630.217586517334},{"$f":"TREND(AM$33:AM$38,$B$33:$B$38^{1,2,3},$B42^{1,2,3})","v":18375.169142842293},{"$f":"TREND(AN$33:AN$38,$B$33:$B$38^{1,2,3},$B42^{1,2,3})","v":34673.523809432983},{"$f":"TREND(AO$33:AO$38,$B$33:$B$38^{1,2,3},$B42^{1,2,3})","v":55890.537099719048},{"$f":"TREND(AP$33:AP$38,$B$33:$B$38^{1,2,3},$B42^{1,2,3})","v":59664.335610479116},{"$f":"TREND(AQ$33:AQ$38,$B$33:$B$38^{1,2,3},$B42^{1,2,3})","v":46059.82263186574},{"$f":"TREND(AR$33:AR$38,$B$33:$B$38^{1,2,3},$B42^{1,2,3})","v":109444.43682539463},{"$f":"TREND(AS$33:AS$38,$B$33:$B$38^{1,2,3},$B42^{1,2,3})","v":215207.41854667664},{"$f":"TREND(AT$33:AT$38,$B$33:$B$38^{1,2,3},$B42^{1,2,3})","v":26643.114666700363},{"$f":"TREND(AU$33:AU$38,$B$33:$B$38^{1,2,3},$B42^{1,2,3})","v":9628.6355898454785},{"$f":"TREND(AV$33:AV$38,$B$33:$B$38^{1,2,3},$B42^{1,2,3})","v":11009.933441713452},{"$f":"TREND(AW$33:AW$38,$B$33:$B$38^{1,2,3},$B42^{1,2,3})","v":54747.695906281471},{"$f":"TREND(AX$33:AX$38,$B$33:$B$38^{1,2,3},$B42^{1,2,3})","v":53521.767310142517},{"$f":"TREND(AY$33:AY$38,$B$33:$B$38^{1,2,3},$B42^{1,2,3})","v":49132.418357491493},{"$f":"TREND(AZ$33:AZ$38,$B$33:$B$38^{1,2,3},$B42^{1,2,3})","v":4074.179884955287},{"$f":"TREND(BA$33:BA$38,$B$33:$B$38^{1,2,3},$B42^{1,2,3})","v":9810.2965897023678},{"$f":"TREND(BB$33:BB$38,$B$33:$B$38^{1,2,3},$B42^{1,2,3})","v":13741.911764703691},{"$f":"TREND(BC$33:BC$38,$B$33:$B$38^{1,2,3},$B42^{1,2,3})","v":8865.8565624654293},{"$f":"TREND(BD$33:BD$38,$B$33:$B$38^{1,2,3},$B42^{1,2,3})","v":13159.377777777612},{"$f":"TREND(BE$33:BE$38,$B$33:$B$38^{1,2,3},$B42^{1,2,3})","v":63780.45232629776},{"$f":"TREND(BF$33:BF$38,$B$33:$B$38^{1,2,3},$B42^{1,2,3})","v":392829.25623893738},{"$f":"TREND(BG$33:BG$38,$B$33:$B$38^{1,2,3},$B42^{1,2,3})","v":67592.719444274902},{"$f":"TREND(BH$33:BH$38,$B$33:$B$38^{1,2,3},$B42^{1,2,3})","v":35262.529618859291},{"$f":"TREND(BI$33:BI$38,$B$33:$B$38^{1,2,3},$B42^{1,2,3})","v":48078.276230633259},{"$f":"TREND(BJ$33:BJ$38,$B$33:$B$38^{1,2,3},$B42^{1,2,3})","v":5154.4193731844425},{"$f":"TREND(BK$33:BK$38,$B$33:$B$38^{1,2,3},$B42^{1,2,3})","v":8187.2312658876181},{"$f":"TREND(BL$33:BL$38,$B$33:$B$38^{1,2,3},$B42^{1,2,3})","v":23123.089586421847},{"$f":"TREND(BM$33:BM$38,$B$33:$B$38^{1,2,3},$B42^{1,2,3})","v":22603.426341474056},{"$f":"TREND(BN$33:BN$38,$B$33:$B$38^{1,2,3},$B42^{1,2,3})","v":45200.864521980286},{"$f":"TREND(BO$33:BO$38,$B$33:$B$38^{1,2,3},$B42^{1,2,3})","v":132513.13006043434},{"$f":"TREND(BP$33:BP$38,$B$33:$B$38^{1,2,3},$B42^{1,2,3})","v":18035.049494922161},{"$f":"TREND(BQ$33:BQ$38,$B$33:$B$38^{1,2,3},$B42^{1,2,3})","v":32093.251238524914},{"$f":"TREND(BR$33:BR$38,$B$33:$B$38^{1,2,3},$B42^{1,2,3})","v":12768.142222225666},{"$f":"TREND(BS$33:BS$38,$B$33:$B$38^{1,2,3},$B42^{1,2,3})","v":56190.855213910341},{"$f":"TREND(BT$33:BT$38,$B$33:$B$38^{1,2,3},$B42^{1,2,3})","v":5023247.2669677734}]
[null,2021,{"$f":"TREND(C$33:C$38,$B$33:$B$38^{1,2,3},$B43^{1,2,3})","v":68750.145627945662},{"$f":"TREND(D$33:D$38,$B$33:$B$38^{1,2,3},$B43^{1,2,3})","v":97254.590476036072},{"$f":"TREND(E$33:E$38,$B$33:$B$38^{1,2,3},$B43^{1,2,3})","v":24362.241719394922},{"$f":"TREND(F$33:F$38,$B$33:$B$38^{1,2,3},$B43^{1,2,3})","v":422116.25316619873},{"$f":"TREND(G$33:G$38,$B$33:$B$38^{1,2,3},$B43^{1,2,3})","v":276481.41971158981},{"$f":"TREND(H$33:H$38,$B$33:$B$38^{1,2,3},$B43^{1,2,3})","v":372537.63247299194},{"$f":"TREND(I$33:I$38,$B$33:$B$38^{1,2,3},$B43^{1,2,3})","v":678016.58807373047},{"$f":"TREND(J$33:J$38,$B$33:$B$38^{1,2,3},$B43^{1,2,3})","v":31009.036584556103},{"$f":"TREND(K$33:K$38,$B$33:$B$38^{1,2,3},$B43^{1,2,3})","v":21034.752475321293},{"$f":"TREND(L$33:L$38,$B$33:$B$38^{1,2,3},$B43^{1,2,3})","v":82314.334143877029},{"$f":"TREND(M$33:M$38,$B$33:$B$38^{1,2,3},$B43^{1,2,3})","v":35863.07102040574},{"$f":"TREND(N$33:N$38,$B$33:$B$38^{1,2,3},$B43^{1,2,3})","v":176762.13030719757},{"$f":"TREND(O$33:O$38,$B$33:$B$38^{1,2,3},$B43^{1,2,3})","v":57058.620019376278},{"$f":"TREND(P$33:P$38,$B$33:$B$38^{1,2,3},$B43^{1,2,3})","v":10868.233009576797},{"$f":"TREND(Q$33:Q$38,$B$33:$B$38^{1,2,3},$B43^{1,2,3})","v":24841.215238004923},{"$f":"TREND(R$33:R$38,$B$33:$B$38^{1,2,3},$B43^{1,2,3})","v":9609.3694172427058},{"$f":"TREND(S$33:S$38,$B$33:$B$38^{1,2,3},$B43^{1,2,3})","v":39204.476395249367},{"$f":"TREND(T$33:T$38,$B$33:$B$38^{1,2,3},$B43^{1,2,3})","v":54918.522366523743},{"$f":"TREND(U$33:U$38,$B$33:$B$38^{1,2,3},$B43^{1,2,3})","v":149200.61473083496},{"$f":"TREND(V$33:V$38,$B$33:$B$38^{1,2,3},$B43^{1,2,3})","v":75878.413794994354},{"$f":"TREND(W$33:W$38,$B$33:$B$38^{1,2,3},$B43^{1,2,3})","v":37393.839106172323},{"$f":"TREND(X$33:X$38,$B$33:$B$38^{1,2,3},$B43^{1,2,3})","v":7336.5474909245968},{"$f":"TREND(Y$33:Y$38,$B$33:$B$38^{1,2,3},$B43^{1,2,3})","v":9521.4545671343803},{"$f":"TREND(Z$33:Z$38,$B$33:$B$38^{1,2,3},$B43^{1,2,3})","v":50098.296318084002},{"$f":"TREND(AA$33:AA$38,$B$33:$B$38^{1,2,3},$B43^{1,2,3})","v":8569.9633555859327},{"$f":"TREND(AB$33:AB$38,$B$33:$B$38^{1,2,3},$B43^{1,2,3})","v":86091.903333306313},{"$f":"TREND(AC$33:AC$38,$B$33:$B$38^{1,2,3},$B43^{1,2,3})","v":65064.703749597073},{"$f":"TREND(AD$33:AD$38,$B$33:$B$38^{1,2,3},$B43^{1,2,3})","v":14709.637613713741},{"$f":"TREND(AE$33:AE$38,$B$33:$B$38^{1,2,3},$B43^{1,2,3})","v":85323.610256284475},{"$f":"TREND(AF$33:AF$38,$B$33:$B$38^{1,2,3},$B43^{1,2,3})","v":9759.2837891876698},{"$f":"TREND(AG$33:AG$38,$B$33:$B$38^{1,2,3},$B43^{1,2,3})","v":28455.763509124517},{"$f":"TREND(AH$33:AH$38,$B$33:$B$38^{1,2,3},$B43^{1,2,3})","v":12465.390702977777},{"$f":"TREND(AI$33:AI$38,$B$33:$B$38^{1,2,3},$B43^{1,2,3})","v":46977.236974775791},{"$f":"TREND(AJ$33:AJ$38,$B$33:$B$38^{1,2,3},$B43^{1,2,3})","v":15449.212613463402},{"$f":"TREND(AK$33:AK$38,$B$33:$B$38^{1,2,3},$B43^{1,2,3})","v":31839.45351344347},{"$f":"TREND(AL$33:AL$38,$B$33:$B$38^{1,2,3},$B43^{1,2,3})","v":90271.108476400375},{"$f":"TREND(AM$33:AM$38,$B$33:$B$38^{1,2,3},$B43^{1,2,3})","v":18332.68310213089},{"$f":"TREND(AN$33:AN$38,$B$33:$B$38^{1,2,3},$B43^{1,2,3})","v":34744.571428537369},{"$f":"TREND(AO$33:AO$38,$B$33:$B$38^{1,2,3},$B43^{1,2,3})","v":56230.756416559219},{"$f":"TREND(AP$33:AP$38,$B$33:$B$38^{1,2,3},$B43^{1,2,3})","v":60016.07720002532},{"$f":"TREND(AQ$33:AQ$38,$B$33:$B$38^{1,2,3},$B43^{1,2,3})","v":46373.195874512196},{"$f":"TREND(AR$33:AR$38,$B$33:$B$38^{1,2,3},$B43^{1,2,3})","v":109815.33496594429},{"$f":"TREND(AS$33:AS$38,$B$33:$B$38^{1,2,3},$B43^{1,2,3})","v":217098.93018245697},{"$f":"TREND(AT$33:AT$38,$B$33:$B$38^{1,2,3},$B43^{1,2,3})","v":26750.994285821915},{"$f":"TREND(AU$33:AU$38,$B$33:$B$38^{1,2,3},$B43^{1,2,3})","v":9684.3285304754972},{"$f":"TREND(AV$33:AV$38,$B$33:$B$38^{1,2,3},$B43^{1,2,3})","v":11059.836283385754},{"$f":"TREND(AW$33:AW$38,$B$33:$B$38^{1,2,3},$B43^{1,2,3})","v":55100.591478586197},{"$f":"TREND(AX$33:AX$38,$B$33:$B$38^{1,2,3},$B43^{1,2,3})","v":53912.594153285027},{"$f":"TREND(AY$33:AY$38,$B$33:$B$38^{1,2,3},$B43^{1,2,3})","v":49321.504761815071},{"$f":"TREND(AZ$33:AZ$38,$B$33:$B$38^{1,2,3},$B43^{1,2,3})","v":4078.9097911119461},{"$f":"TREND(BA$33:BA$38,$B$33:$B$38^{1,2,3},$B43^{1,2,3})","v":9791.4108439683914},{"$f":"TREND(BB$33:BB$38,$B$33:$B$38^{1,2,3},$B43^{1,2,3})","v":13734.690126049332},{"$f":"TREND(BC$33:BC$38,$B$33:$B$38^{1,2,3},$B43^{1,2,3})","v":8879.3472757339478},{"$f":"TREND(BD$33:BD$38,$B$33:$B$38^{1,2,3},$B43^{1,2,3})","v":13259.161904785782},{"$f":"TREND(BE$33:BE$38,$B$33:$B$38^{1,2,3},$B43^{1,2,3})","v":64943.316537380219},{"$f":"TREND(BF$33:BF$38,$B$33:$B$38^{1,2,3},$B43^{1,2,3})","v":396930.49883270264},{"$f":"TREND(BG$33:BG$38,$B$33:$B$38^{1,2,3},$B43^{1,2,3})","v":69555.10546875},{"$f":"TREND(BH$33:BH$38,$B$33:$B$38^{1,2,3},$B43^{1,2,3})","v":35585.912446975708},{"$f":"TREND(BI$33:BI$38,$B$33:$B$38^{1,2,3},$B43^{1,2,3})","v":48306.511392354965},{"$f":"TREND(BJ$33:BJ$38,$B$33:$B$38^{1,2,3},$B43^{1,2,3})","v":5179.4288156032562},{"$f":"TREND(BK$33:BK$38,$B$33:$B$38^{1,2,3},$B43^{1,2,3})","v":8219.7407628446817},{"$f":"TREND(BL$33:BL$38,$B$33:$B$38^{1,2,3},$B43^{1,2,3})","v":23232.091565206647},{"$f":"TREND(BM$33:BM$38,$B$33:$B$38^{1,2,3},$B43^{1,2,3})","v":22801.736028015614},{"$f":"TREND(BN$33:BN$38,$B$33:$B$38^{1,2,3},$B43^{1,2,3})","v":46401.862487792969},{"$f":"TREND(BO$33:BO$38,$B$33:$B$38^{1,2,3},$B43^{1,2,3})","v":133099.46991443634},{"$f":"TREND(BP$33:BP$38,$B$33:$B$38^{1,2,3},$B43^{1,2,3})","v":18028.355627715588},{"$f":"TREND(BQ$33:BQ$38,$B$33:$B$38^{1,2,3},$B43^{1,2,3})","v":32182.523506104946},{"$f":"TREND(BR$33:BR$38,$B$33:$B$38^{1,2,3},$B43^{1,2,3})","v":12752.408380925655},{"$f":"TREND(BS$33:BS$38,$B$33:$B$38^{1,2,3},$B43^{1,2,3})","v":56322.130922198296},{"$f":"TREND(BT$33:BT$38,$B$33:$B$38^{1,2,3},$B43^{1,2,3})","v":5081214.5038452148}]
[null,2022,{"$f":"TREND(C$33:C$38,$B$33:$B$38^{1,2,3},$B44^{1,2,3})","v":68997.009856820107},{"$f":"TREND(D$33:D$38,$B$33:$B$38^{1,2,3},$B44^{1,2,3})","v":98208.469503879547},{"$f":"TREND(E$33:E$38,$B$33:$B$38^{1,2,3},$B44^{1,2,3})","v":24564.465739578009},{"$f":"TREND(F$33:F$38,$B$33:$B$38^{1,2,3},$B44^{1,2,3})","v":429801.15732383728},{"$f":"TREND(G$33:G$38,$B$33:$B$38^{1,2,3},$B44^{1,2,3})","v":280865.43750524521},{"$f":"TREND(H$33:H$38,$B$33:$B$38^{1,2,3},$B44^{1,2,3})","v":378972.13106155396},{"$f":"TREND(I$33:I$38,$B$33:$B$38^{1,2,3},$B44^{1,2,3})","v":688977.02304840088},{"$f":"TREND(J$33:J$38,$B$33:$B$38^{1,2,3},$B44^{1,2,3})","v":31091.024236470461},{"$f":"TREND(K$33:K$38,$B$33:$B$38^{1,2,3},$B44^{1,2,3})","v":21122.490806102753},{"$f":"TREND(L$33:L$38,$B$33:$B$38^{1,2,3},$B44^{1,2,3})","v":83608.872948408127},{"$f":"TREND(M$33:M$38,$B$33:$B$38^{1,2,3},$B44^{1,2,3})","v":36029.341224487871},{"$f":"TREND(N$33:N$38,$B$33:$B$38^{1,2,3},$B44^{1,2,3})","v":179328.72229385376},{"$f":"TREND(O$33:O$38,$B$33:$B$38^{1,2,3},$B44^{1,2,3})","v":57701.107871711254},{"$f":"TREND(P$33:P$38,$B$33:$B$38^{1,2,3},$B44^{1,2,3})","v":10957.194174528122},{"$f":"TREND(Q$33:Q$38,$B$33:$B$38^{1,2,3},$B44^{1,2,3})","v":24834.60190474987},{"$f":"TREND(R$33:R$38,$B$33:$B$38^{1,2,3},$B44^{1,2,3})","v":9596.417456805706},{"$f":"TREND(S$33:S$38,$B$33:$B$38^{1,2,3},$B44^{1,2,3})","v":39377.988632798195},{"$f":"TREND(T$33:T$38,$B$33:$B$38^{1,2,3},$B44^{1,2,3})","v":55400.997402667999},{"$f":"TREND(U$33:U$38,$B$33:$B$38^{1,2,3},$B44^{1,2,3})","v":151436.50435066223},{"$f":"TREND(V$33:V$38,$B$33:$B$38^{1,2,3},$B44^{1,2,3})","v":76159.318105697632},{"$f":"TREND(W$33:W$38,$B$33:$B$38^{1,2,3},$B44^{1,2,3})","v":37473.309497177601},{"$f":"TREND(X$33:X$38,$B$33:$B$38^{1,2,3},$B44^{1,2,3})","v":7289.5854301899672},{"$f":"TREND(Y$33:Y$38,$B$33:$B$38^{1,2,3},$B44^{1,2,3})","v":9463.8531818091869},{"$f":"TREND(Z$33:Z$38,$B$33:$B$38^{1,2,3},$B44^{1,2,3})","v":50272.112518429756},{"$f":"TREND(AA$33:AA$38,$B$33:$B$38^{1,2,3},$B44^{1,2,3})","v":8516.5537381619215},{"$f":"TREND(AB$33:AB$38,$B$33:$B$38^{1,2,3},$B44^{1,2,3})","v":86528.914999842644},{"$f":"TREND(AC$33:AC$38,$B$33:$B$38^{1,2,3},$B44^{1,2,3})","v":65325.855624437332},{"$f":"TREND(AD$33:AD$38,$B$33:$B$38^{1,2,3},$B44^{1,2,3})","v":14714.674574434757},{"$f":"TREND(AE$33:AE$38,$B$33:$B$38^{1,2,3},$B44^{1,2,3})","v":85967.169230729342},{"$f":"TREND(AF$33:AF$38,$B$33:$B$38^{1,2,3},$B44^{1,2,3})","v":9773.8470620475709},{"$f":"TREND(AG$33:AG$38,$B$33:$B$38^{1,2,3},$B44^{1,2,3})","v":28493.187711209059},{"$f":"TREND(AH$33:AH$38,$B$33:$B$38^{1,2,3},$B44^{1,2,3})","v":12360.572789147496},{"$f":"TREND(AI$33:AI$38,$B$33:$B$38^{1,2,3},$B44^{1,2,3})","v":47013.700840294361},{"$f":"TREND(AJ$33:AJ$38,$B$33:$B$38^{1,2,3},$B44^{1,2,3})","v":15437.155757308006},{"$f":"TREND(AK$33:AK$38,$B$33:$B$38^{1,2,3},$B44^{1,2,3})","v":32074.418427467346},{"$f":"TREND(AL$33:AL$38,$B$33:$B$38^{1,2,3},$B44^{1,2,3})","v":90895.739682674408},{"$f":"TREND(AM$33:AM$38,$B$33:$B$38^{1,2,3},$B44^{1,2,3})","v":18286.706204116344},{"$f":"TREND(AN$33:AN$38,$B$33:$B$38^{1,2,3},$B44^{1,2,3})","v":34802.816326260567},{"$f":"TREND(AO$33:AO$38,$B$33:$B$38^{1,2,3},$B44^{1,2,3})","v":56564.124616712332},{"$f":"TREND(AP$33:AP$38,$B$33:$B$38^{1,2,3},$B44^{1,2,3})","v":60348.208581477404},{"$f":"TREND(AQ$33:AQ$38,$B$33:$B$38^{1,2,3},$B44^{1,2,3})","v":46675.205003298819},{"$f":"TREND(AR$33:AR$38,$B$33:$B$38^{1,2,3},$B44^{1,2,3})","v":110152.90612232685},{"$f":"TREND(AS$33:AS$38,$B$33:$B$38^{1,2,3},$B44^{1,2,3})","v":218937.95059013367},{"$f":"TREND(AT$33:AT$38,$B$33:$B$38^{1,2,3},$B44^{1,2,3})","v":26848.950857102871},{"$f":"TREND(AU$33:AU$38,$B$33:$B$38^{1,2,3},$B44^{1,2,3})","v":9737.0596755370498},{"$f":"TREND(AV$33:AV$38,$B$33:$B$38^{1,2,3},$B44^{1,2,3})","v":11107.457003474236},{"$f":"TREND(AW$33:AW$38,$B$33:$B$38^{1,2,3},$B44^{1,2,3})","v":55440.781954884529},{"$f":"TREND(AX$33:AX$38,$B$33:$B$38^{1,2,3},$B44^{1,2,3})","v":54288.615774899721},{"$f":"TREND(AY$33:AY$38,$B$33:$B$38^{1,2,3},$B44^{1,2,3})","v":49493.416770339012},{"$f":"TREND(AZ$33:AZ$38,$B$33:$B$38^{1,2,3},$B44^{1,2,3})","v":4082.0052316188812},{"$f":"TREND(BA$33:BA$38,$B$33:$B$38^{1,2,3},$B44^{1,2,3})","v":9772.8439886868},{"$f":"TREND(BB$33:BB$38,$B$33:$B$38^{1,2,3},$B44^{1,2,3})","v":13724.146533610299},{"$f":"TREND(BC$33:BC$38,$B$33:$B$38^{1,2,3},$B44^{1,2,3})","v":8889.4025956094265},{"$f":"TREND(BD$33:BD$38,$B$33:$B$38^{1,2,3},$B44^{1,2,3})","v":13355.514285735786},{"$f":"TREND(BE$33:BE$38,$B$33:$B$38^{1,2,3},$B44^{1,2,3})","v":66065.898850440979},{"$f":"TREND(BF$33:BF$38,$B$33:$B$38^{1,2,3},$B44^{1,2,3})","v":400835.76957130432},{"$f":"TREND(BG$33:BG$38,$B$33:$B$38^{1,2,3},$B44^{1,2,3})","v":71433.020079612732},{"$f":"TREND(BH$33:BH$38,$B$33:$B$38^{1,2,3},$B44^{1,2,3})","v":35902.521202087402},{"$f":"TREND(BI$33:BI$38,$B$33:$B$38^{1,2,3},$B44^{1,2,3})","v":48524.111392408609},{"$f":"TREND(BJ$33:BJ$38,$B$33:$B$38^{1,2,3},$B44^{1,2,3})","v":5202.7098900973797},{"$f":"TREND(BK$33:BK$38,$B$33:$B$38^{1,2,3},$B44^{1,2,3})","v":8250.6702487468719},{"$f":"TREND(BL$33:BL$38,$B$33:$B$38^{1,2,3},$B44^{1,2,3})","v":23337.285842373967},{"$f":"TREND(BM$33:BM$38,$B$33:$B$38^{1,2,3},$B44^{1,2,3})","v":22995.672752439976},{"$f":"TREND(BN$33:BN$38,$B$33:$B$38^{1,2,3},$B44^{1,2,3})","v":47533.166728019714},{"$f":"TREND(BO$33:BO$38,$B$33:$B$38^{1,2,3},$B44^{1,2,3})","v":133649.6478407383},{"$f":"TREND(BP$33:BP$38,$B$33:$B$38^{1,2,3},$B44^{1,2,3})","v":18020.580844223499},{"$f":"TREND(BQ$33:BQ$38,$B$33:$B$38^{1,2,3},$B44^{1,2,3})","v":32263.700636863708},{"$f":"TREND(BR$33:BR$38,$B$33:$B$38^{1,2,3},$B44^{1,2,3})","v":12734.756571441889},{"$f":"TREND(BS$33:BS$38,$B$33:$B$38^{1,2,3},$B44^{1,2,3})","v":56440.140428841114},{"$f":"TREND(BT$33:BT$38,$B$33:$B$38^{1,2,3},$B44^{1,2,3})","v":5137054.0757446289}]
[null,2023,{"$f":"TREND(C$33:C$38,$B$33:$B$38^{1,2,3},$B45^{1,2,3})","v":69223.661897152662},{"$f":"TREND(D$33:D$38,$B$33:$B$38^{1,2,3},$B45^{1,2,3})","v":99120.051507949829},{"$f":"TREND(E$33:E$38,$B$33:$B$38^{1,2,3},$B45^{1,2,3})","v":24756.995364516973},{"$f":"TREND(F$33:F$38,$B$33:$B$38^{1,2,3},$B45^{1,2,3})","v":437307.77577018738},{"$f":"TREND(G$33:G$38,$B$33:$B$38^{1,2,3},$B45^{1,2,3})","v":285183.40518379211},{"$f":"TREND(H$33:H$38,$B$33:$B$38^{1,2,3},$B45^{1,2,3})","v":385133.78827667236},{"$f":"TREND(I$33:I$38,$B$33:$B$38^{1,2,3},$B45^{1,2,3})","v":699606.51832580566},{"$f":"TREND(J$33:J$38,$B$33:$B$38^{1,2,3},$B45^{1,2,3})","v":31160.415982484818},{"$f":"TREND(K$33:K$38,$B$33:$B$38^{1,2,3},$B45^{1,2,3})","v":21199.363507688046},{"$f":"TREND(L$33:L$38,$B$33:$B$38^{1,2,3},$B45^{1,2,3})","v":84871.825396537781},{"$f":"TREND(M$33:M$38,$B$33:$B$38^{1,2,3},$B45^{1,2,3})","v":36186.102040816098},{"$f":"TREND(N$33:N$38,$B$33:$B$38^{1,2,3},$B45^{1,2,3})","v":181832.62765407562},{"$f":"TREND(O$33:O$38,$B$33:$B$38^{1,2,3},$B45^{1,2,3})","v":58324.425008177757},{"$f":"TREND(P$33:P$38,$B$33:$B$38^{1,2,3},$B45^{1,2,3})","v":11032.362458944321},{"$f":"TREND(Q$33:Q$38,$B$33:$B$38^{1,2,3},$B45^{1,2,3})","v":24817.222222089767},{"$f":"TREND(R$33:R$38,$B$33:$B$38^{1,2,3},$B45^{1,2,3})","v":9580.0065397545695},{"$f":"TREND(S$33:S$38,$B$33:$B$38^{1,2,3},$B45^{1,2,3})","v":39537.988564372063},{"$f":"TREND(T$33:T$38,$B$33:$B$38^{1,2,3},$B45^{1,2,3})","v":55871.794131934643},{"$f":"TREND(U$33:U$38,$B$33:$B$38^{1,2,3},$B45^{1,2,3})","v":153607.26667976379},{"$f":"TREND(V$33:V$38,$B$33:$B$38^{1,2,3},$B45^{1,2,3})","v":76405.668302297592},{"$f":"TREND(W$33:W$38,$B$33:$B$38^{1,2,3},$B45^{1,2,3})","v":37541.666666656733},{"$f":"TREND(X$33:X$38,$B$33:$B$38^{1,2,3},$B45^{1,2,3})","v":7239.3611342459917},{"$f":"TREND(Y$33:Y$38,$B$33:$B$38^{1,2,3},$B45^{1,2,3})","v":9401.9121572971344},{"$f":"TREND(Z$33:Z$38,$B$33:$B$38^{1,2,3},$B45^{1,2,3})","v":50432.32695132494},{"$f":"TREND(AA$33:AA$38,$B$33:$B$38^{1,2,3},$B45^{1,2,3})","v":8460.8587808609009},{"$f":"TREND(AB$33:AB$38,$B$33:$B$38^{1,2,3},$B45^{1,2,3})","v":86950.263888835907},{"$f":"TREND(AC$33:AC$38,$B$33:$B$38^{1,2,3},$B45^{1,2,3})","v":65571.857986330986},{"$f":"TREND(AD$33:AD$38,$B$33:$B$38^{1,2,3},$B45^{1,2,3})","v":14712.122514367104},{"$f":"TREND(AE$33:AE$38,$B$33:$B$38^{1,2,3},$B45^{1,2,3})","v":86593.447293430567},{"$f":"TREND(AF$33:AF$38,$B$33:$B$38^{1,2,3},$B45^{1,2,3})","v":9787.1457369811833},{"$f":"TREND(AG$33:AG$38,$B$33:$B$38^{1,2,3},$B45^{1,2,3})","v":28522.993116021156},{"$f":"TREND(AH$33:AH$38,$B$33:$B$38^{1,2,3},$B45^{1,2,3})","v":12250.633030980825},{"$f":"TREND(AI$33:AI$38,$B$33:$B$38^{1,2,3},$B45^{1,2,3})","v":47037.815126016736},{"$f":"TREND(AJ$33:AJ$38,$B$33:$B$38^{1,2,3},$B45^{1,2,3})","v":15418.422519505024},{"$f":"TREND(AK$33:AK$38,$B$33:$B$38^{1,2,3},$B45^{1,2,3})","v":32303.575306355953},{"$f":"TREND(AL$33:AL$38,$B$33:$B$38^{1,2,3},$B45^{1,2,3})","v":91504.422668516636},{"$f":"TREND(AM$33:AM$38,$B$33:$B$38^{1,2,3},$B45^{1,2,3})","v":18237.051020354033},{"$f":"TREND(AN$33:AN$38,$B$33:$B$38^{1,2,3},$B45^{1,2,3})","v":34848.639455676079},{"$f":"TREND(AO$33:AO$38,$B$33:$B$38^{1,2,3},$B45^{1,2,3})","v":56890.503093957901},{"$f":"TREND(AP$33:AP$38,$B$33:$B$38^{1,2,3},$B45^{1,2,3})","v":60660.822255820036},{"$f":"TREND(AQ$33:AQ$38,$B$33:$B$38^{1,2,3},$B45^{1,2,3})","v":46965.803525738418},{"$f":"TREND(AR$33:AR$38,$B$33:$B$38^{1,2,3},$B45^{1,2,3})","v":110457.60997724533},{"$f":"TREND(AS$33:AS$38,$B$33:$B$38^{1,2,3},$B45^{1,2,3})","v":220726.24418067932},{"$f":"TREND(AT$33:AT$38,$B$33:$B$38^{1,2,3},$B45^{1,2,3})","v":26937.219047665596},{"$f":"TREND(AU$33:AU$38,$B$33:$B$38^{1,2,3},$B45^{1,2,3})","v":9786.8569853454828},{"$f":"TREND(AV$33:AV$38,$B$33:$B$38^{1,2,3},$B45^{1,2,3})","v":11152.771970562637},{"$f":"TREND(AW$33:AW$38,$B$33:$B$38^{1,2,3},$B45^{1,2,3})","v":55767.752715110779},{"$f":"TREND(AX$33:AX$38,$B$33:$B$38^{1,2,3},$B45^{1,2,3})","v":54649.967824906111},{"$f":"TREND(AY$33:AY$38,$B$33:$B$38^{1,2,3},$B45^{1,2,3})","v":49648.624913811684},{"$f":"TREND(AZ$33:AZ$38,$B$33:$B$38^{1,2,3},$B45^{1,2,3})","v":4083.5301240980625},{"$f":"TREND(BA$33:BA$38,$B$33:$B$38^{1,2,3},$B45^{1,2,3})","v":9754.4876630604267},{"$f":"TREND(BB$33:BB$38,$B$33:$B$38^{1,2,3},$B45^{1,2,3})","v":13710.280987393111},{"$f":"TREND(BC$33:BC$38,$B$33:$B$38^{1,2,3},$B45^{1,2,3})","v":8896.1200789213181},{"$f":"TREND(BD$33:BD$38,$B$33:$B$38^{1,2,3},$B45^{1,2,3})","v":13448.412698421627},{"$f":"TREND(BE$33:BE$38,$B$33:$B$38^{1,2,3},$B45^{1,2,3})","v":67150.078191757202},{"$f":"TREND(BF$33:BF$38,$B$33:$B$38^{1,2,3},$B45^{1,2,3})","v":404555.02467918396},{"$f":"TREND(BG$33:BG$38,$B$33:$B$38^{1,2,3},$B45^{1,2,3})","v":73232.371719360352},{"$f":"TREND(BH$33:BH$38,$B$33:$B$38^{1,2,3},$B45^{1,2,3})","v":36212.799048662186},{"$f":"TREND(BI$33:BI$38,$B$33:$B$38^{1,2,3},$B45^{1,2,3})","v":48730.942334741354},{"$f":"TREND(BJ$33:BJ$38,$B$33:$B$38^{1,2,3},$B45^{1,2,3})","v":5224.3691493570805},{"$f":"TREND(BK$33:BK$38,$B$33:$B$38^{1,2,3},$B45^{1,2,3})","v":8280.0690989196301},{"$f":"TREND(BL$33:BL$38,$B$33:$B$38^{1,2,3},$B45^{1,2,3})","v":23438.71805819869},{"$f":"TREND(BM$33:BM$38,$B$33:$B$38^{1,2,3},$B45^{1,2,3})","v":23184.947735309601},{"$f":"TREND(BN$33:BN$38,$B$33:$B$38^{1,2,3},$B45^{1,2,3})","v":48599.610427856445},{"$f":"TREND(BO$33:BO$38,$B$33:$B$38^{1,2,3},$B45^{1,2,3})","v":134164.79389739037},{"$f":"TREND(BP$33:BP$38,$B$33:$B$38^{1,2,3},$B45^{1,2,3})","v":18011.337707519531},{"$f":"TREND(BQ$33:BQ$38,$B$33:$B$38^{1,2,3},$B45^{1,2,3})","v":32337.00839138031},{"$f":"TREND(BR$33:BR$38,$B$33:$B$38^{1,2,3},$B45^{1,2,3})","v":12715.073015868664},{"$f":"TREND(BS$33:BS$38,$B$33:$B$38^{1,2,3},$B45^{1,2,3})","v":56545.0185136199},{"$f":"TREND(BT$33:BT$38,$B$33:$B$38^{1,2,3},$B45^{1,2,3})","v":5190849.4776763916}]
[null,2024,{"$f":"TREND(C$33:C$38,$B$33:$B$38^{1,2,3},$B46^{1,2,3})","v":69429.957816630602},{"$f":"TREND(D$33:D$38,$B$33:$B$38^{1,2,3},$B46^{1,2,3})","v":99991.275265693665},{"$f":"TREND(E$33:E$38,$B$33:$B$38^{1,2,3},$B46^{1,2,3})","v":24939.737378880382},{"$f":"TREND(F$33:F$38,$B$33:$B$38^{1,2,3},$B46^{1,2,3})","v":444644.00723457336},{"$f":"TREND(G$33:G$38,$B$33:$B$38^{1,2,3},$B46^{1,2,3})","v":289437.77067136765},{"$f":"TREND(H$33:H$38,$B$33:$B$38^{1,2,3},$B46^{1,2,3})","v":391039.13250732422},{"$f":"TREND(I$33:I$38,$B$33:$B$38^{1,2,3},$B46^{1,2,3})","v":709919.17481613159},{"$f":"TREND(J$33:J$38,$B$33:$B$38^{1,2,3},$B46^{1,2,3})","v":31217.305922269821},{"$f":"TREND(K$33:K$38,$B$33:$B$38^{1,2,3},$B46^{1,2,3})","v":21265.598302662373},{"$f":"TREND(L$33:L$38,$B$33:$B$38^{1,2,3},$B46^{1,2,3})","v":86104.670448541641},{"$f":"TREND(M$33:M$38,$B$33:$B$38^{1,2,3},$B46^{1,2,3})","v":36333.353469390422},{"$f":"TREND(N$33:N$38,$B$33:$B$38^{1,2,3},$B46^{1,2,3})","v":184277.7107629776},{"$f":"TREND(O$33:O$38,$B$33:$B$38^{1,2,3},$B46^{1,2,3})","v":58928.888888776302},{"$f":"TREND(P$33:P$38,$B$33:$B$38^{1,2,3},$B46^{1,2,3})","v":11094.666666507721},{"$f":"TREND(Q$33:Q$38,$B$33:$B$38^{1,2,3},$B46^{1,2,3})","v":24789.213968187571},{"$f":"TREND(R$33:R$38,$B$33:$B$38^{1,2,3},$B46^{1,2,3})","v":9560.1714983358979},{"$f":"TREND(S$33:S$38,$B$33:$B$38^{1,2,3},$B46^{1,2,3})","v":39684.845127046108},{"$f":"TREND(T$33:T$38,$B$33:$B$38^{1,2,3},$B46^{1,2,3})","v":56330.672823488712},{"$f":"TREND(U$33:U$38,$B$33:$B$38^{1,2,3},$B46^{1,2,3})","v":155716.84030342102},{"$f":"TREND(V$33:V$38,$B$33:$B$38^{1,2,3},$B46^{1,2,3})","v":76618.483016729355},{"$f":"TREND(W$33:W$38,$B$33:$B$38^{1,2,3},$B46^{1,2,3})","v":37598.77243950963},{"$f":"TREND(X$33:X$38,$B$33:$B$38^{1,2,3},$B46^{1,2,3})","v":7185.9376180320978},{"$f":"TREND(Y$33:Y$38,$B$33:$B$38^{1,2,3},$B46^{1,2,3})","v":9335.680331915617},{"$f":"TREND(Z$33:Z$38,$B$33:$B$38^{1,2,3},$B46^{1,2,3})","v":50579.030338674784},{"$f":"TREND(AA$33:AA$38,$B$33:$B$38^{1,2,3},$B46^{1,2,3})","v":8402.8070668131113},{"$f":"TREND(AB$33:AB$38,$B$33:$B$38^{1,2,3},$B46^{1,2,3})","v":87355.479444265366},{"$f":"TREND(AC$33:AC$38,$B$33:$B$38^{1,2,3},$B46^{1,2,3})","v":65802.894624590874},{"$f":"TREND(AD$33:AD$38,$B$33:$B$38^{1,2,3},$B46^{1,2,3})","v":14702.216491937637},{"$f":"TREND(AE$33:AE$38,$B$33:$B$38^{1,2,3},$B46^{1,2,3})","v":87202.580056905746},{"$f":"TREND(AF$33:AF$38,$B$33:$B$38^{1,2,3},$B46^{1,2,3})","v":9799.1613911315799},{"$f":"TREND(AG$33:AG$38,$B$33:$B$38^{1,2,3},$B46^{1,2,3})","v":28545.360050022602},{"$f":"TREND(AH$33:AH$38,$B$33:$B$38^{1,2,3},$B46^{1,2,3})","v":12135.643386334181},{"$f":"TREND(AI$33:AI$38,$B$33:$B$38^{1,2,3},$B46^{1,2,3})","v":47049.626890748739},{"$f":"TREND(AJ$33:AJ$38,$B$33:$B$38^{1,2,3},$B46^{1,2,3})","v":15393.242554664612},{"$f":"TREND(AK$33:AK$38,$B$33:$B$38^{1,2,3},$B46^{1,2,3})","v":32526.654009640217},{"$f":"TREND(AL$33:AL$38,$B$33:$B$38^{1,2,3},$B46^{1,2,3})","v":92097.468898415565},{"$f":"TREND(AM$33:AM$38,$B$33:$B$38^{1,2,3},$B46^{1,2,3})","v":18183.530122429132},{"$f":"TREND(AN$33:AN$38,$B$33:$B$38^{1,2,3},$B46^{1,2,3})","v":34882.421768665314},{"$f":"TREND(AO$33:AO$38,$B$33:$B$38^{1,2,3},$B46^{1,2,3})","v":57209.753241866827},{"$f":"TREND(AP$33:AP$38,$B$33:$B$38^{1,2,3},$B46^{1,2,3})","v":60954.010724037886},{"$f":"TREND(AQ$33:AQ$38,$B$33:$B$38^{1,2,3},$B46^{1,2,3})","v":47244.944949194789},{"$f":"TREND(AR$33:AR$38,$B$33:$B$38^{1,2,3},$B46^{1,2,3})","v":110729.90621304512},{"$f":"TREND(AS$33:AS$38,$B$33:$B$38^{1,2,3},$B46^{1,2,3})","v":222465.5753660202},{"$f":"TREND(AT$33:AT$38,$B$33:$B$38^{1,2,3},$B46^{1,2,3})","v":27016.033523738384},{"$f":"TREND(AU$33:AU$38,$B$33:$B$38^{1,2,3},$B46^{1,2,3})","v":9833.7484202235937},{"$f":"TREND(AV$33:AV$38,$B$33:$B$38^{1,2,3},$B46^{1,2,3})","v":11195.757553208619},{"$f":"TREND(AW$33:AW$38,$B$33:$B$38^{1,2,3},$B46^{1,2,3})","v":56080.989139556885},{"$f":"TREND(AX$33:AX$38,$B$33:$B$38^{1,2,3},$B46^{1,2,3})","v":54996.78595328331},{"$f":"TREND(AY$33:AY$38,$B$33:$B$38^{1,2,3},$B46^{1,2,3})","v":49787.599723935127},{"$f":"TREND(AZ$33:AZ$38,$B$33:$B$38^{1,2,3},$B46^{1,2,3})","v":4083.5483863204718},{"$f":"TREND(BA$33:BA$38,$B$33:$B$38^{1,2,3},$B46^{1,2,3})","v":9736.2335062623024},{"$f":"TREND(BB$33:BB$38,$B$33:$B$38^{1,2,3},$B46^{1,2,3})","v":13693.093487393111},{"$f":"TREND(BC$33:BC$38,$B$33:$B$38^{1,2,3},$B46^{1,2,3})","v":8899.5972823798656},{"$f":"TREND(BD$33:BD$38,$B$33:$B$38^{1,2,3},$B46^{1,2,3})","v":13537.834920641035},{"$f":"TREND(BE$33:BE$38,$B$33:$B$38^{1,2,3},$B46^{1,2,3})","v":68197.733489513397},{"$f":"TREND(BF$33:BF$38,$B$33:$B$38^{1,2,3},$B46^{1,2,3})","v":408098.22040748596},{"$f":"TREND(BG$33:BG$38,$B$33:$B$38^{1,2,3},$B46^{1,2,3})","v":74959.06885433197},{"$f":"TREND(BH$33:BH$38,$B$33:$B$38^{1,2,3},$B46^{1,2,3})","v":36517.189149618149},{"$f":"TREND(BI$33:BI$38,$B$33:$B$38^{1,2,3},$B46^{1,2,3})","v":48926.870323508978},{"$f":"TREND(BJ$33:BJ$38,$B$33:$B$38^{1,2,3},$B46^{1,2,3})","v":5244.5131461024284},{"$f":"TREND(BK$33:BK$38,$B$33:$B$38^{1,2,3},$B46^{1,2,3})","v":8307.9866887629032},{"$f":"TREND(BL$33:BL$38,$B$33:$B$38^{1,2,3},$B46^{1,2,3})","v":23536.433852910995},{"$f":"TREND(BM$33:BM$38,$B$33:$B$38^{1,2,3},$B46^{1,2,3})","v":23369.272195339203},{"$f":"TREND(BN$33:BN$38,$B$33:$B$38^{1,2,3},$B46^{1,2,3})","v":49606.026776313782},{"$f":"TREND(BO$33:BO$38,$B$33:$B$38^{1,2,3},$B46^{1,2,3})","v":134646.03814411163},{"$f":"TREND(BP$33:BP$38,$B$33:$B$38^{1,2,3},$B46^{1,2,3})","v":18000.238780796528},{"$f":"TREND(BQ$33:BQ$38,$B$33:$B$38^{1,2,3},$B46^{1,2,3})","v":32402.672530531883},{"$f":"TREND(BR$33:BR$38,$B$33:$B$38^{1,2,3},$B46^{1,2,3})","v":12693.243936538696},{"$f":"TREND(BS$33:BS$38,$B$33:$B$38^{1,2,3},$B46^{1,2,3})","v":56636.899956971407},{"$f":"TREND(BT$33:BT$38,$B$33:$B$38^{1,2,3},$B46^{1,2,3})","v":5242684.2048492432}]
[null,2025,{"$f":"TREND(C$33:C$38,$B$33:$B$38^{1,2,3},$B47^{1,2,3})","v":69615.75368309021},{"$f":"TREND(D$33:D$38,$B$33:$B$38^{1,2,3},$B47^{1,2,3})","v":100824.0795545578},{"$f":"TREND(E$33:E$38,$B$33:$B$38^{1,2,3},$B47^{1,2,3})","v":25112.598567262292},{"$f":"TREND(F$33:F$38,$B$33:$B$38^{1,2,3},$B47^{1,2,3})","v":451817.75045013428},{"$f":"TREND(G$33:G$38,$B$33:$B$38^{1,2,3},$B47^{1,2,3})","v":293630.98187923431},{"$f":"TREND(H$33:H$38,$B$33:$B$38^{1,2,3},$B47^{1,2,3})","v":396704.69217300415},{"$f":"TREND(I$33:I$38,$B$33:$B$38^{1,2,3},$B47^{1,2,3})","v":719929.09342575073},{"$f":"TREND(J$33:J$38,$B$33:$B$38^{1,2,3},$B47^{1,2,3})","v":31261.788155436516},{"$f":"TREND(K$33:K$38,$B$33:$B$38^{1,2,3},$B47^{1,2,3})","v":21321.422913730145},{"$f":"TREND(L$33:L$38,$B$33:$B$38^{1,2,3},$B47^{1,2,3})","v":87308.887064933777},{"$f":"TREND(M$33:M$38,$B$33:$B$38^{1,2,3},$B47^{1,2,3})","v":36471.095510203391},{"$f":"TREND(N$33:N$38,$B$33:$B$38^{1,2,3},$B47^{1,2,3})","v":186667.83598899841},{"$f":"TREND(O$33:O$38,$B$33:$B$38^{1,2,3},$B47^{1,2,3})","v":59514.816974520683},{"$f":"TREND(P$33:P$38,$B$33:$B$38^{1,2,3},$B47^{1,2,3})","v":11145.035598278046},{"$f":"TREND(Q$33:Q$38,$B$33:$B$38^{1,2,3},$B47^{1,2,3})","v":24750.714920580387},{"$f":"TREND(R$33:R$38,$B$33:$B$38^{1,2,3},$B47^{1,2,3})","v":9536.9471646845341},{"$f":"TREND(S$33:S$38,$B$33:$B$38^{1,2,3},$B47^{1,2,3})","v":39818.927256941795},{"$f":"TREND(T$33:T$38,$B$33:$B$38^{1,2,3},$B47^{1,2,3})","v":56777.393747091293},{"$f":"TREND(U$33:U$38,$B$33:$B$38^{1,2,3},$B47^{1,2,3})","v":157769.16380119324},{"$f":"TREND(V$33:V$38,$B$33:$B$38^{1,2,3},$B47^{1,2,3})","v":76798.780880689621},{"$f":"TREND(W$33:W$38,$B$33:$B$38^{1,2,3},$B47^{1,2,3})","v":37644.488640576601},{"$f":"TREND(X$33:X$38,$B$33:$B$38^{1,2,3},$B47^{1,2,3})","v":7129.3778965622187},{"$f":"TREND(Y$33:Y$38,$B$33:$B$38^{1,2,3},$B47^{1,2,3})","v":9265.2065440267324},{"$f":"TREND(Z$33:Z$38,$B$33:$B$38^{1,2,3},$B47^{1,2,3})","v":50712.313402026892},{"$f":"TREND(AA$33:AA$38,$B$33:$B$38^{1,2,3},$B47^{1,2,3})","v":8342.3271791487932},{"$f":"TREND(AB$33:AB$38,$B$33:$B$38^{1,2,3},$B47^{1,2,3})","v":87744.091111183167},{"$f":"TREND(AC$33:AC$38,$B$33:$B$38^{1,2,3},$B47^{1,2,3})","v":66019.149328947067},{"$f":"TREND(AD$33:AD$38,$B$33:$B$38^{1,2,3},$B47^{1,2,3})","v":14685.191564917564},{"$f":"TREND(AE$33:AE$38,$B$33:$B$38^{1,2,3},$B47^{1,2,3})","v":87794.70313385129},{"$f":"TREND(AF$33:AF$38,$B$33:$B$38^{1,2,3},$B47^{1,2,3})","v":9809.8756016306579},{"$f":"TREND(AG$33:AG$38,$B$33:$B$38^{1,2,3},$B47^{1,2,3})","v":28560.468840003014},{"$f":"TREND(AH$33:AH$38,$B$33:$B$38^{1,2,3},$B47^{1,2,3})","v":12015.675812616944},{"$f":"TREND(AI$33:AI$38,$B$33:$B$38^{1,2,3},$B47^{1,2,3})","v":47049.183193251491},{"$f":"TREND(AJ$33:AJ$38,$B$33:$B$38^{1,2,3},$B47^{1,2,3})","v":15361.84551680088},{"$f":"TREND(AK$33:AK$38,$B$33:$B$38^{1,2,3},$B47^{1,2,3})","v":32743.384396016598},{"$f":"TREND(AL$33:AL$38,$B$33:$B$38^{1,2,3},$B47^{1,2,3})","v":92675.189835786819},{"$f":"TREND(AM$33:AM$38,$B$33:$B$38^{1,2,3},$B47^{1,2,3})","v":18125.956081628799},{"$f":"TREND(AN$33:AN$38,$B$33:$B$38^{1,2,3},$B47^{1,2,3})","v":34904.544217705727},{"$f":"TREND(AO$33:AO$38,$B$33:$B$38^{1,2,3},$B47^{1,2,3})","v":57521.736454159021},{"$f":"TREND(AP$33:AP$38,$B$33:$B$38^{1,2,3},$B47^{1,2,3})","v":61227.866487175226},{"$f":"TREND(AQ$33:AQ$38,$B$33:$B$38^{1,2,3},$B47^{1,2,3})","v":47512.582781091332},{"$f":"TREND(AR$33:AR$38,$B$33:$B$38^{1,2,3},$B47^{1,2,3})","v":110970.25451231003},{"$f":"TREND(AS$33:AS$38,$B$33:$B$38^{1,2,3},$B47^{1,2,3})","v":224157.70855665207},{"$f":"TREND(AT$33:AT$38,$B$33:$B$38^{1,2,3},$B47^{1,2,3})","v":27085.628952383995},{"$f":"TREND(AU$33:AU$38,$B$33:$B$38^{1,2,3},$B47^{1,2,3})","v":9877.7619404494762},{"$f":"TREND(AV$33:AV$38,$B$33:$B$38^{1,2,3},$B47^{1,2,3})","v":11236.390119992197},{"$f":"TREND(AW$33:AW$38,$B$33:$B$38^{1,2,3},$B47^{1,2,3})","v":56379.976608157158},{"$f":"TREND(AX$33:AX$38,$B$33:$B$38^{1,2,3},$B47^{1,2,3})","v":55329.205809801817},{"$f":"TREND(AY$33:AY$38,$B$33:$B$38^{1,2,3},$B47^{1,2,3})","v":49910.811732172966},{"$f":"TREND(AZ$33:AZ$38,$B$33:$B$38^{1,2,3},$B47^{1,2,3})","v":4082.1239358186722},{"$f":"TREND(BA$33:BA$38,$B$33:$B$38^{1,2,3},$B47^{1,2,3})","v":9717.9731573462486},{"$f":"TREND(BB$33:BB$38,$B$33:$B$38^{1,2,3},$B47^{1,2,3})","v":13672.584033610299},{"$f":"TREND(BC$33:BC$38,$B$33:$B$38^{1,2,3},$B47^{1,2,3})","v":8899.9317628443241},{"$f":"TREND(BD$33:BD$38,$B$33:$B$38^{1,2,3},$B47^{1,2,3})","v":13623.758730180562},{"$f":"TREND(BE$33:BE$38,$B$33:$B$38^{1,2,3},$B47^{1,2,3})","v":69210.743669986725},{"$f":"TREND(BF$33:BF$38,$B$33:$B$38^{1,2,3},$B47^{1,2,3})","v":411475.31300735474},{"$f":"TREND(BG$33:BG$38,$B$33:$B$38^{1,2,3},$B47^{1,2,3})","v":76619.01992893219},{"$f":"TREND(BH$33:BH$38,$B$33:$B$38^{1,2,3},$B47^{1,2,3})","v":36816.134669065475},{"$f":"TREND(BI$33:BI$38,$B$33:$B$38^{1,2,3},$B47^{1,2,3})","v":49111.761462777853},{"$f":"TREND(BJ$33:BJ$38,$B$33:$B$38^{1,2,3},$B47^{1,2,3})","v":5263.2484330236912},{"$f":"TREND(BK$33:BK$38,$B$33:$B$38^{1,2,3},$B47^{1,2,3})","v":8334.4723935425282},{"$f":"TREND(BL$33:BL$38,$B$33:$B$38^{1,2,3},$B47^{1,2,3})","v":23630.478866800666},{"$f":"TREND(BM$33:BM$38,$B$33:$B$38^{1,2,3},$B47^{1,2,3})","v":23548.357352018356},{"$f":"TREND(BN$33:BN$38,$B$33:$B$38^{1,2,3},$B47^{1,2,3})","v":50557.248952865601},{"$f":"TREND(BO$33:BO$38,$B$33:$B$38^{1,2,3},$B47^{1,2,3})","v":135094.51064300537},{"$f":"TREND(BP$33:BP$38,$B$33:$B$38^{1,2,3},$B47^{1,2,3})","v":17986.896626770496},{"$f":"TREND(BQ$33:BQ$38,$B$33:$B$38^{1,2,3},$B47^{1,2,3})","v":32460.918814957142},{"$f":"TREND(BR$33:BR$38,$B$33:$B$38^{1,2,3},$B47^{1,2,3})","v":12669.155555576086},{"$f":"TREND(BS$33:BS$38,$B$33:$B$38^{1,2,3},$B47^{1,2,3})","v":56715.919538408518},{"$f":"TREND(BT$33:BT$38,$B$33:$B$38^{1,2,3},$B47^{1,2,3})","v":5292641.7522735596}]
[null,2026,{"$f":"TREND(C$33:C$38,$B$33:$B$38^{1,2,3},$B48^{1,2,3})","v":69780.905564367771},{"$f":"TREND(D$33:D$38,$B$33:$B$38^{1,2,3},$B48^{1,2,3})","v":101620.40315294266},{"$f":"TREND(E$33:E$38,$B$33:$B$38^{1,2,3},$B48^{1,2,3})","v":25275.485714316368},{"$f":"TREND(F$33:F$38,$B$33:$B$38^{1,2,3},$B48^{1,2,3})","v":458836.9041595459},{"$f":"TREND(G$33:G$38,$B$33:$B$38^{1,2,3},$B48^{1,2,3})","v":297765.48673295975},{"$f":"TREND(H$33:H$38,$B$33:$B$38^{1,2,3},$B48^{1,2,3})","v":402146.99566268921},{"$f":"TREND(I$33:I$38,$B$33:$B$38^{1,2,3},$B48^{1,2,3})","v":729650.37506484985},{"$f":"TREND(J$33:J$38,$B$33:$B$38^{1,2,3},$B48^{1,2,3})","v":31293.956781625748},{"$f":"TREND(K$33:K$38,$B$33:$B$38^{1,2,3},$B48^{1,2,3})","v":21367.065063595772},{"$f":"TREND(L$33:L$38,$B$33:$B$38^{1,2,3},$B48^{1,2,3})","v":88485.95420384407},{"$f":"TREND(M$33:M$38,$B$33:$B$38^{1,2,3},$B48^{1,2,3})","v":36599.328163266182},{"$f":"TREND(N$33:N$38,$B$33:$B$38^{1,2,3},$B48^{1,2,3})","v":189006.86770915985},{"$f":"TREND(O$33:O$38,$B$33:$B$38^{1,2,3},$B48^{1,2,3})","v":60082.526724874973},{"$f":"TREND(P$33:P$38,$B$33:$B$38^{1,2,3},$B48^{1,2,3})","v":11184.398058414459},{"$f":"TREND(Q$33:Q$38,$B$33:$B$38^{1,2,3},$B48^{1,2,3})","v":24701.86285713315},{"$f":"TREND(R$33:R$38,$B$33:$B$38^{1,2,3},$B48^{1,2,3})","v":9510.3683708757162},{"$f":"TREND(S$33:S$38,$B$33:$B$38^{1,2,3},$B48^{1,2,3})","v":39940.603891432285},{"$f":"TREND(T$33:T$38,$B$33:$B$38^{1,2,3},$B48^{1,2,3})","v":57211.717171788216},{"$f":"TREND(U$33:U$38,$B$33:$B$38^{1,2,3},$B48^{1,2,3})","v":159768.17575931549},{"$f":"TREND(V$33:V$38,$B$33:$B$38^{1,2,3},$B48^{1,2,3})","v":76947.580527544022},{"$f":"TREND(W$33:W$38,$B$33:$B$38^{1,2,3},$B48^{1,2,3})","v":37678.677095025778},{"$f":"TREND(X$33:X$38,$B$33:$B$38^{1,2,3},$B48^{1,2,3})","v":7069.74498462677},{"$f":"TREND(Y$33:Y$38,$B$33:$B$38^{1,2,3},$B48^{1,2,3})","v":9190.5396320670843},{"$f":"TREND(Z$33:Z$38,$B$33:$B$38^{1,2,3},$B48^{1,2,3})","v":50832.26686295867},{"$f":"TREND(AA$33:AA$38,$B$33:$B$38^{1,2,3},$B48^{1,2,3})","v":8279.3477009832859},{"$f":"TREND(AB$33:AB$38,$B$33:$B$38^{1,2,3},$B48^{1,2,3})","v":88115.628333210945},{"$f":"TREND(AC$33:AC$38,$B$33:$B$38^{1,2,3},$B48^{1,2,3})","v":66220.805888950825},{"$f":"TREND(AD$33:AD$38,$B$33:$B$38^{1,2,3},$B48^{1,2,3})","v":14661.282791674137},{"$f":"TREND(AE$33:AE$38,$B$33:$B$38^{1,2,3},$B48^{1,2,3})","v":88369.952136784792},{"$f":"TREND(AF$33:AF$38,$B$33:$B$38^{1,2,3},$B48^{1,2,3})","v":9819.2699456140399},{"$f":"TREND(AG$33:AG$38,$B$33:$B$38^{1,2,3},$B48^{1,2,3})","v":28568.499812155962},{"$f":"TREND(AH$33:AH$38,$B$33:$B$38^{1,2,3},$B48^{1,2,3})","v":11890.802267640829},{"$f":"TREND(AI$33:AI$38,$B$33:$B$38^{1,2,3},$B48^{1,2,3})","v":47036.531092405319},{"$f":"TREND(AJ$33:AJ$38,$B$33:$B$38^{1,2,3},$B48^{1,2,3})","v":15324.461060702801},{"$f":"TREND(AK$33:AK$38,$B$33:$B$38^{1,2,3},$B48^{1,2,3})","v":32953.496324062347},{"$f":"TREND(AL$33:AL$38,$B$33:$B$38^{1,2,3},$B48^{1,2,3})","v":93237.89694416523},{"$f":"TREND(AM$33:AM$38,$B$33:$B$38^{1,2,3},$B48^{1,2,3})","v":18064.1414693892},{"$f":"TREND(AN$33:AN$38,$B$33:$B$38^{1,2,3},$B48^{1,2,3})","v":34915.387755036354},{"$f":"TREND(AO$33:AO$38,$B$33:$B$38^{1,2,3},$B48^{1,2,3})","v":57826.314124315977},{"$f":"TREND(AP$33:AP$38,$B$33:$B$38^{1,2,3},$B48^{1,2,3})","v":61482.482046097517},{"$f":"TREND(AQ$33:AQ$38,$B$33:$B$38^{1,2,3},$B48^{1,2,3})","v":47768.670528881252},{"$f":"TREND(AR$33:AR$38,$B$33:$B$38^{1,2,3},$B48^{1,2,3})","v":111179.11455762386},{"$f":"TREND(AS$33:AS$38,$B$33:$B$38^{1,2,3},$B48^{1,2,3})","v":225804.40816307068},{"$f":"TREND(AT$33:AT$38,$B$33:$B$38^{1,2,3},$B48^{1,2,3})","v":27146.240000009537},{"$f":"TREND(AU$33:AU$38,$B$33:$B$38^{1,2,3},$B48^{1,2,3})","v":9918.9255063682795},{"$f":"TREND(AV$33:AV$38,$B$33:$B$38^{1,2,3},$B48^{1,2,3})","v":11274.646039478481},{"$f":"TREND(AW$33:AW$38,$B$33:$B$38^{1,2,3},$B48^{1,2,3})","v":56664.200501203537},{"$f":"TREND(AX$33:AX$38,$B$33:$B$38^{1,2,3},$B48^{1,2,3})","v":55647.363044559956},{"$f":"TREND(AY$33:AY$38,$B$33:$B$38^{1,2,3},$B48^{1,2,3})","v":50018.731469988823},{"$f":"TREND(AZ$33:AZ$38,$B$33:$B$38^{1,2,3},$B48^{1,2,3})","v":4079.3206902593374},{"$f":"TREND(BA$33:BA$38,$B$33:$B$38^{1,2,3},$B48^{1,2,3})","v":9699.5982555747032},{"$f":"TREND(BB$33:BB$38,$B$33:$B$38^{1,2,3},$B48^{1,2,3})","v":13648.752626048401},{"$f":"TREND(BC$33:BC$38,$B$33:$B$38^{1,2,3},$B48^{1,2,3})","v":8897.2210772037506},{"$f":"TREND(BD$33:BD$38,$B$33:$B$38^{1,2,3},$B48^{1,2,3})","v":13706.161904774606},{"$f":"TREND(BE$33:BE$38,$B$33:$B$38^{1,2,3},$B48^{1,2,3})","v":70190.98766040802},{"$f":"TREND(BF$33:BF$38,$B$33:$B$38^{1,2,3},$B48^{1,2,3})","v":414696.2587223053},{"$f":"TREND(BG$33:BG$38,$B$33:$B$38^{1,2,3},$B48^{1,2,3})","v":78218.133396148682},{"$f":"TREND(BH$33:BH$38,$B$33:$B$38^{1,2,3},$B48^{1,2,3})","v":37110.078770637512},{"$f":"TREND(BI$33:BI$38,$B$33:$B$38^{1,2,3},$B48^{1,2,3})","v":49285.481856495142},{"$f":"TREND(BJ$33:BJ$38,$B$33:$B$38^{1,2,3},$B48^{1,2,3})","v":5280.6815629005432},{"$f":"TREND(BK$33:BK$38,$B$33:$B$38^{1,2,3},$B48^{1,2,3})","v":8359.5755886733532},{"$f":"TREND(BL$33:BL$38,$B$33:$B$38^{1,2,3},$B48^{1,2,3})","v":23720.898740112782},{"$f":"TREND(BM$33:BM$38,$B$33:$B$38^{1,2,3},$B48^{1,2,3})","v":23721.914425134659},{"$f":"TREND(BN$33:BN$38,$B$33:$B$38^{1,2,3},$B48^{1,2,3})","v":51458.110157012939},{"$f":"TREND(BO$33:BO$38,$B$33:$B$38^{1,2,3},$B48^{1,2,3})","v":135511.34145522118},{"$f":"TREND(BP$33:BP$38,$B$33:$B$38^{1,2,3},$B48^{1,2,3})","v":17970.923809289932},{"$f":"TREND(BQ$33:BQ$38,$B$33:$B$38^{1,2,3},$B48^{1,2,3})","v":32511.973005652428},{"$f":"TREND(BR$33:BR$38,$B$33:$B$38^{1,2,3},$B48^{1,2,3})","v":12642.694095253944},{"$f":"TREND(BS$33:BS$38,$B$33:$B$38^{1,2,3},$B48^{1,2,3})","v":56782.21203815937},{"$f":"TREND(BT$33:BT$38,$B$33:$B$38^{1,2,3},$B48^{1,2,3})","v":5340805.6152038574}]
[null,2027,{"$f":"TREND(C$33:C$38,$B$33:$B$38^{1,2,3},$B49^{1,2,3})","v":69925.269528269768},{"$f":"TREND(D$33:D$38,$B$33:$B$38^{1,2,3},$B49^{1,2,3})","v":102382.18484163284},{"$f":"TREND(E$33:E$38,$B$33:$B$38^{1,2,3},$B49^{1,2,3})","v":25428.305604755878},{"$f":"TREND(F$33:F$38,$B$33:$B$38^{1,2,3},$B49^{1,2,3})","v":465709.36708831787},{"$f":"TREND(G$33:G$38,$B$33:$B$38^{1,2,3},$B49^{1,2,3})","v":301843.7331495285},{"$f":"TREND(H$33:H$38,$B$33:$B$38^{1,2,3},$B49^{1,2,3})","v":407382.57138061523},{"$f":"TREND(I$33:I$38,$B$33:$B$38^{1,2,3},$B49^{1,2,3})","v":739097.12064743042},{"$f":"TREND(J$33:J$38,$B$33:$B$38^{1,2,3},$B49^{1,2,3})","v":31313.905900418758},{"$f":"TREND(K$33:K$38,$B$33:$B$38^{1,2,3},$B49^{1,2,3})","v":21402.752475202084},{"$f":"TREND(L$33:L$38,$B$33:$B$38^{1,2,3},$B49^{1,2,3})","v":89637.350826501846},{"$f":"TREND(M$33:M$38,$B$33:$B$38^{1,2,3},$B49^{1,2,3})","v":36718.051428571343},{"$f":"TREND(N$33:N$38,$B$33:$B$38^{1,2,3},$B49^{1,2,3})","v":191298.6703004837},{"$f":"TREND(O$33:O$38,$B$33:$B$38^{1,2,3},$B49^{1,2,3})","v":60632.335600793362},{"$f":"TREND(P$33:P$38,$B$33:$B$38^{1,2,3},$B49^{1,2,3})","v":11213.682847738266},{"$f":"TREND(Q$33:Q$38,$B$33:$B$38^{1,2,3},$B49^{1,2,3})","v":24642.795555502176},{"$f":"TREND(R$33:R$38,$B$33:$B$38^{1,2,3},$B49^{1,2,3})","v":9480.4699491560459},{"$f":"TREND(S$33:S$38,$B$33:$B$38^{1,2,3},$B49^{1,2,3})","v":40050.243966579437},{"$f":"TREND(T$33:T$38,$B$33:$B$38^{1,2,3},$B49^{1,2,3})","v":57633.403367102146},{"$f":"TREND(U$33:U$38,$B$33:$B$38^{1,2,3},$B49^{1,2,3})","v":161717.81475830078},{"$f":"TREND(V$33:V$38,$B$33:$B$38^{1,2,3},$B49^{1,2,3})","v":77065.900587797165},{"$f":"TREND(W$33:W$38,$B$33:$B$38^{1,2,3},$B49^{1,2,3})","v":37701.199627548456},{"$f":"TREND(X$33:X$38,$B$33:$B$38^{1,2,3},$B49^{1,2,3})","v":7007.1018972843885},{"$f":"TREND(Y$33:Y$38,$B$33:$B$38^{1,2,3},$B49^{1,2,3})","v":9111.7284343391657},{"$f":"TREND(Z$33:Z$38,$B$33:$B$38^{1,2,3},$B49^{1,2,3})","v":50938.98144325614},{"$f":"TREND(AA$33:AA$38,$B$33:$B$38^{1,2,3},$B49^{1,2,3})","v":8213.797215461731},{"$f":"TREND(AB$33:AB$38,$B$33:$B$38^{1,2,3},$B49^{1,2,3})","v":88469.620555400848},{"$f":"TREND(AC$33:AC$38,$B$33:$B$38^{1,2,3},$B49^{1,2,3})","v":66408.048094391823},{"$f":"TREND(AD$33:AD$38,$B$33:$B$38^{1,2,3},$B49^{1,2,3})","v":14630.725230634212},{"$f":"TREND(AE$33:AE$38,$B$33:$B$38^{1,2,3},$B49^{1,2,3})","v":88928.46267798543},{"$f":"TREND(AF$33:AF$38,$B$33:$B$38^{1,2,3},$B49^{1,2,3})","v":9827.3260002434254},{"$f":"TREND(AG$33:AG$38,$B$33:$B$38^{1,2,3},$B49^{1,2,3})","v":28569.633293539286},{"$f":"TREND(AH$33:AH$38,$B$33:$B$38^{1,2,3},$B49^{1,2,3})","v":11761.094709008932},{"$f":"TREND(AI$33:AI$38,$B$33:$B$38^{1,2,3},$B49^{1,2,3})","v":47011.717647045851},{"$f":"TREND(AJ$33:AJ$38,$B$33:$B$38^{1,2,3},$B49^{1,2,3})","v":15281.318840622902},{"$f":"TREND(AK$33:AK$38,$B$33:$B$38^{1,2,3},$B49^{1,2,3})","v":33156.719652593136},{"$f":"TREND(AL$33:AL$38,$B$33:$B$38^{1,2,3},$B49^{1,2,3})","v":93785.901688277721},{"$f":"TREND(AM$33:AM$38,$B$33:$B$38^{1,2,3},$B49^{1,2,3})","v":17997.898857116699},{"$f":"TREND(AN$33:AN$38,$B$33:$B$38^{1,2,3},$B49^{1,2,3})","v":34915.33333325386},{"$f":"TREND(AO$33:AO$38,$B$33:$B$38^{1,2,3},$B49^{1,2,3})","v":58123.347646057606},{"$f":"TREND(AP$33:AP$38,$B$33:$B$38^{1,2,3},$B49^{1,2,3})","v":61717.949901819229},{"$f":"TREND(AQ$33:AQ$38,$B$33:$B$38^{1,2,3},$B49^{1,2,3})","v":48013.161699965596},{"$f":"TREND(AR$33:AR$38,$B$33:$B$38^{1,2,3},$B49^{1,2,3})","v":111356.94603157043},{"$f":"TREND(AS$33:AS$38,$B$33:$B$38^{1,2,3},$B49^{1,2,3})","v":227407.43859577179},{"$f":"TREND(AT$33:AT$38,$B$33:$B$38^{1,2,3},$B49^{1,2,3})","v":27198.101333320141},{"$f":"TREND(AU$33:AU$38,$B$33:$B$38^{1,2,3},$B49^{1,2,3})","v":9957.2670782729983},{"$f":"TREND(AV$33:AV$38,$B$33:$B$38^{1,2,3},$B49^{1,2,3})","v":11310.501680199057},{"$f":"TREND(AW$33:AW$38,$B$33:$B$38^{1,2,3},$B49^{1,2,3})","v":56933.146198749542},{"$f":"TREND(AX$33:AX$38,$B$33:$B$38^{1,2,3},$B49^{1,2,3})","v":55951.393307566643},{"$f":"TREND(AY$33:AY$38,$B$33:$B$38^{1,2,3},$B49^{1,2,3})","v":50111.829468846321},{"$f":"TREND(AZ$33:AZ$38,$B$33:$B$38^{1,2,3},$B49^{1,2,3})","v":4075.2025673240423},{"$f":"TREND(BA$33:BA$38,$B$33:$B$38^{1,2,3},$B49^{1,2,3})","v":9681.0004400610924},{"$f":"TREND(BB$33:BB$38,$B$33:$B$38^{1,2,3},$B49^{1,2,3})","v":13621.599264704622},{"$f":"TREND(BC$33:BC$38,$B$33:$B$38^{1,2,3},$B49^{1,2,3})","v":8891.5627821683884},{"$f":"TREND(BD$33:BD$38,$B$33:$B$38^{1,2,3},$B49^{1,2,3})","v":13785.022222232074},{"$f":"TREND(BE$33:BE$38,$B$33:$B$38^{1,2,3},$B49^{1,2,3})","v":71140.344389438629},{"$f":"TREND(BF$33:BF$38,$B$33:$B$38^{1,2,3},$B49^{1,2,3})","v":417771.01379013062},{"$f":"TREND(BG$33:BG$38,$B$33:$B$38^{1,2,3},$B49^{1,2,3})","v":79762.317717552185},{"$f":"TREND(BH$33:BH$38,$B$33:$B$38^{1,2,3},$B49^{1,2,3})","v":37399.464617490768},{"$f":"TREND(BI$33:BI$38,$B$33:$B$38^{1,2,3},$B49^{1,2,3})","v":49447.897608995438},{"$f":"TREND(BJ$33:BJ$38,$B$33:$B$38^{1,2,3},$B49^{1,2,3})","v":5296.9190882444382},{"$f":"TREND(BK$33:BK$38,$B$33:$B$38^{1,2,3},$B49^{1,2,3})","v":8383.345649510622},{"$f":"TREND(BL$33:BL$38,$B$33:$B$38^{1,2,3},$B49^{1,2,3})","v":23807.739113092422},{"$f":"TREND(BM$33:BM$38,$B$33:$B$38^{1,2,3},$B49^{1,2,3})","v":23889.654634177685},{"$f":"TREND(BN$33:BN$38,$B$33:$B$38^{1,2,3},$B49^{1,2,3})","v":52313.443573951721},{"$f":"TREND(BO$33:BO$38,$B$33:$B$38^{1,2,3},$B49^{1,2,3})","v":135897.66063714027},{"$f":"TREND(BP$33:BP$38,$B$33:$B$38^{1,2,3},$B49^{1,2,3})","v":17951.932891368866},{"$f":"TREND(BQ$33:BQ$38,$B$33:$B$38^{1,2,3},$B49^{1,2,3})","v":32556.060863316059},{"$f":"TREND(BR$33:BR$38,$B$33:$B$38^{1,2,3},$B49^{1,2,3})","v":12613.745777785778},{"$f":"TREND(BS$33:BS$38,$B$33:$B$38^{1,2,3},$B49^{1,2,3})","v":56835.912236332893},{"$f":"TREND(BT$33:BT$38,$B$33:$B$38^{1,2,3},$B49^{1,2,3})","v":5387259.2886505127}]
[null,2028,{"$f":"TREND(C$33:C$38,$B$33:$B$38^{1,2,3},$B50^{1,2,3})","v":70048.701642781496},{"$f":"TREND(D$33:D$38,$B$33:$B$38^{1,2,3},$B50^{1,2,3})","v":103111.36339664459},{"$f":"TREND(E$33:E$38,$B$33:$B$38^{1,2,3},$B50^{1,2,3})","v":25570.965023159981},{"$f":"TREND(F$33:F$38,$B$33:$B$38^{1,2,3},$B50^{1,2,3})","v":472443.03797531128},{"$f":"TREND(G$33:G$38,$B$33:$B$38^{1,2,3},$B50^{1,2,3})","v":305868.16904973984},{"$f":"TREND(H$33:H$38,$B$33:$B$38^{1,2,3},$B50^{1,2,3})","v":412427.94775009155},{"$f":"TREND(I$33:I$38,$B$33:$B$38^{1,2,3},$B50^{1,2,3})","v":748283.43107223511},{"$f":"TREND(J$33:J$38,$B$33:$B$38^{1,2,3},$B50^{1,2,3})","v":31321.729611366987},{"$f":"TREND(K$33:K$38,$B$33:$B$38^{1,2,3},$B50^{1,2,3})","v":21428.71287125349},{"$f":"TREND(L$33:L$38,$B$33:$B$38^{1,2,3},$B50^{1,2,3})","v":90764.555891990662},{"$f":"TREND(M$33:M$38,$B$33:$B$38^{1,2,3},$B50^{1,2,3})","v":36827.265306122601},{"$f":"TREND(N$33:N$38,$B$33:$B$38^{1,2,3},$B50^{1,2,3})","v":193547.10813617706},{"$f":"TREND(O$33:O$38,$B$33:$B$38^{1,2,3},$B50^{1,2,3})","v":61164.561062633991},{"$f":"TREND(P$33:P$38,$B$33:$B$38^{1,2,3},$B50^{1,2,3})","v":11233.818770170212},{"$f":"TREND(Q$33:Q$38,$B$33:$B$38^{1,2,3},$B50^{1,2,3})","v":24573.650793641806},{"$f":"TREND(R$33:R$38,$B$33:$B$38^{1,2,3},$B50^{1,2,3})","v":9447.2867315933108},{"$f":"TREND(S$33:S$38,$B$33:$B$38^{1,2,3},$B50^{1,2,3})","v":40148.216419160366},{"$f":"TREND(T$33:T$38,$B$33:$B$38^{1,2,3},$B50^{1,2,3})","v":58042.212602198124},{"$f":"TREND(U$33:U$38,$B$33:$B$38^{1,2,3},$B50^{1,2,3})","v":163622.0193862915},{"$f":"TREND(V$33:V$38,$B$33:$B$38^{1,2,3},$B50^{1,2,3})","v":77154.759693622589},{"$f":"TREND(W$33:W$38,$B$33:$B$38^{1,2,3},$B50^{1,2,3})","v":37711.918063253164},{"$f":"TREND(X$33:X$38,$B$33:$B$38^{1,2,3},$B50^{1,2,3})","v":6941.5116494297981},{"$f":"TREND(Y$33:Y$38,$B$33:$B$38^{1,2,3},$B50^{1,2,3})","v":9028.8217893093824},{"$f":"TREND(Z$33:Z$38,$B$33:$B$38^{1,2,3},$B50^{1,2,3})","v":51032.54786452651},{"$f":"TREND(AA$33:AA$38,$B$33:$B$38^{1,2,3},$B50^{1,2,3})","v":8145.604305639863},{"$f":"TREND(AB$33:AB$38,$B$33:$B$38^{1,2,3},$B50^{1,2,3})","v":88805.597222328186},{"$f":"TREND(AC$33:AC$38,$B$33:$B$38^{1,2,3},$B50^{1,2,3})","v":66581.059734582901},{"$f":"TREND(AD$33:AD$38,$B$33:$B$38^{1,2,3},$B50^{1,2,3})","v":14593.753939568996},{"$f":"TREND(AE$33:AE$38,$B$33:$B$38^{1,2,3},$B50^{1,2,3})","v":89470.370370268822},{"$f":"TREND(AF$33:AF$38,$B$33:$B$38^{1,2,3},$B50^{1,2,3})","v":9834.0253426171839},{"$f":"TREND(AG$33:AG$38,$B$33:$B$38^{1,2,3},$B50^{1,2,3})","v":28564.049610227346},{"$f":"TREND(AH$33:AH$38,$B$33:$B$38^{1,2,3},$B50^{1,2,3})","v":11626.625094518065},{"$f":"TREND(AI$33:AI$38,$B$33:$B$38^{1,2,3},$B50^{1,2,3})","v":46974.789915949106},{"$f":"TREND(AJ$33:AJ$38,$B$33:$B$38^{1,2,3},$B50^{1,2,3})","v":15232.648510873318},{"$f":"TREND(AK$33:AK$38,$B$33:$B$38^{1,2,3},$B50^{1,2,3})","v":33352.784240722656},{"$f":"TREND(AL$33:AL$38,$B$33:$B$38^{1,2,3},$B50^{1,2,3})","v":94319.51553106308},{"$f":"TREND(AM$33:AM$38,$B$33:$B$38^{1,2,3},$B50^{1,2,3})","v":17927.040816396475},{"$f":"TREND(AN$33:AN$38,$B$33:$B$38^{1,2,3},$B50^{1,2,3})","v":34904.76190495491},{"$f":"TREND(AO$33:AO$38,$B$33:$B$38^{1,2,3},$B50^{1,2,3})","v":58412.698412716389},{"$f":"TREND(AP$33:AP$38,$B$33:$B$38^{1,2,3},$B50^{1,2,3})","v":61934.362555354834},{"$f":"TREND(AQ$33:AQ$38,$B$33:$B$38^{1,2,3},$B50^{1,2,3})","v":48246.009801790118},{"$f":"TREND(AR$33:AR$38,$B$33:$B$38^{1,2,3},$B50^{1,2,3})","v":111504.20861673355},{"$f":"TREND(AS$33:AS$38,$B$33:$B$38^{1,2,3},$B50^{1,2,3})","v":228968.56426715851},{"$f":"TREND(AT$33:AT$38,$B$33:$B$38^{1,2,3},$B50^{1,2,3})","v":27241.447619140148},{"$f":"TREND(AU$33:AU$38,$B$33:$B$38^{1,2,3},$B50^{1,2,3})","v":9992.8146164789796},{"$f":"TREND(AV$33:AV$38,$B$33:$B$38^{1,2,3},$B50^{1,2,3})","v":11343.933410752565},{"$f":"TREND(AW$33:AW$38,$B$33:$B$38^{1,2,3},$B50^{1,2,3})","v":57186.299080848694},{"$f":"TREND(AX$33:AX$38,$B$33:$B$38^{1,2,3},$B50^{1,2,3})","v":56241.432248443365},{"$f":"TREND(AY$33:AY$38,$B$33:$B$38^{1,2,3},$B50^{1,2,3})","v":50190.576259493828},{"$f":"TREND(AZ$33:AZ$38,$B$33:$B$38^{1,2,3},$B50^{1,2,3})","v":4069.8334847092628},{"$f":"TREND(BA$33:BA$38,$B$33:$B$38^{1,2,3},$B50^{1,2,3})","v":9662.0713500082493},{"$f":"TREND(BB$33:BB$38,$B$33:$B$38^{1,2,3},$B50^{1,2,3})","v":13591.123949577101},{"$f":"TREND(BC$33:BC$38,$B$33:$B$38^{1,2,3},$B50^{1,2,3})","v":8883.0544345378876},{"$f":"TREND(BD$33:BD$38,$B$33:$B$38^{1,2,3},$B50^{1,2,3})","v":13860.317460332066},{"$f":"TREND(BE$33:BE$38,$B$33:$B$38^{1,2,3},$B50^{1,2,3})","v":72060.692781925201},{"$f":"TREND(BF$33:BF$38,$B$33:$B$38^{1,2,3},$B50^{1,2,3})","v":420709.53446388245},{"$f":"TREND(BG$33:BG$38,$B$33:$B$38^{1,2,3},$B50^{1,2,3})","v":81257.481345176697},{"$f":"TREND(BH$33:BH$38,$B$33:$B$38^{1,2,3},$B50^{1,2,3})","v":37684.735373735428},{"$f":"TREND(BI$33:BI$38,$B$33:$B$38^{1,2,3},$B50^{1,2,3})","v":49598.8748241961},{"$f":"TREND(BJ$33:BJ$38,$B$33:$B$38^{1,2,3},$B50^{1,2,3})","v":5312.0675620436668},{"$f":"TREND(BK$33:BK$38,$B$33:$B$38^{1,2,3},$B50^{1,2,3})","v":8405.8319513201714},{"$f":"TREND(BL$33:BL$38,$B$33:$B$38^{1,2,3},$B50^{1,2,3})","v":23891.04562599957},{"$f":"TREND(BM$33:BM$38,$B$33:$B$38^{1,2,3},$B50^{1,2,3})","v":24051.289198696613},{"$f":"TREND(BN$33:BN$38,$B$33:$B$38^{1,2,3},$B50^{1,2,3})","v":53128.082391738892},{"$f":"TREND(BO$33:BO$38,$B$33:$B$38^{1,2,3},$B50^{1,2,3})","v":136254.59825205803},{"$f":"TREND(BP$33:BP$38,$B$33:$B$38^{1,2,3},$B50^{1,2,3})","v":17929.536435604095},{"$f":"TREND(BQ$33:BQ$38,$B$33:$B$38^{1,2,3},$B50^{1,2,3})","v":32593.408148705959},{"$f":"TREND(BR$33:BR$38,$B$33:$B$38^{1,2,3},$B50^{1,2,3})","v":12582.196825385094},{"$f":"TREND(BS$33:BS$38,$B$33:$B$38^{1,2,3},$B50^{1,2,3})","v":56877.154912561178},{"$f":"TREND(BT$33:BT$38,$B$33:$B$38^{1,2,3},$B50^{1,2,3})","v":5432086.2677001953}]
[null,2029,{"$f":"TREND(C$33:C$38,$B$33:$B$38^{1,2,3},$B51^{1,2,3})","v":70151.057975620031},{"$f":"TREND(D$33:D$38,$B$33:$B$38^{1,2,3},$B51^{1,2,3})","v":103809.87759923935},{"$f":"TREND(E$33:E$38,$B$33:$B$38^{1,2,3},$B51^{1,2,3})","v":25703.370754316449},{"$f":"TREND(F$33:F$38,$B$33:$B$38^{1,2,3},$B51^{1,2,3})","v":479045.81555175781},{"$f":"TREND(G$33:G$38,$B$33:$B$38^{1,2,3},$B51^{1,2,3})","v":309841.24235391617},{"$f":"TREND(H$33:H$38,$B$33:$B$38^{1,2,3},$B51^{1,2,3})","v":417299.65316009521},{"$f":"TREND(I$33:I$38,$B$33:$B$38^{1,2,3},$B51^{1,2,3})","v":757223.40725708008},{"$f":"TREND(J$33:J$38,$B$33:$B$38^{1,2,3},$B51^{1,2,3})","v":31317.522014260292},{"$f":"TREND(K$33:K$38,$B$33:$B$38^{1,2,3},$B51^{1,2,3})","v":21445.173974573612},{"$f":"TREND(L$33:L$38,$B$33:$B$38^{1,2,3},$B51^{1,2,3})","v":91869.048361301422},{"$f":"TREND(M$33:M$38,$B$33:$B$38^{1,2,3},$B51^{1,2,3})","v":36926.969795919955},{"$f":"TREND(N$33:N$38,$B$33:$B$38^{1,2,3},$B51^{1,2,3})","v":195756.04558944702},{"$f":"TREND(O$33:O$38,$B$33:$B$38^{1,2,3},$B51^{1,2,3})","v":61679.520570218563},{"$f":"TREND(P$33:P$38,$B$33:$B$38^{1,2,3},$B51^{1,2,3})","v":11245.734627485275},{"$f":"TREND(Q$33:Q$38,$B$33:$B$38^{1,2,3},$B51^{1,2,3})","v":24494.56634914875},{"$f":"TREND(R$33:R$38,$B$33:$B$38^{1,2,3},$B51^{1,2,3})","v":9410.8535503596067},{"$f":"TREND(S$33:S$38,$B$33:$B$38^{1,2,3},$B51^{1,2,3})","v":40234.890186011791},{"$f":"TREND(T$33:T$38,$B$33:$B$38^{1,2,3},$B51^{1,2,3})","v":58437.905146837234},{"$f":"TREND(U$33:U$38,$B$33:$B$38^{1,2,3},$B51^{1,2,3})","v":165484.72822284698},{"$f":"TREND(V$33:V$38,$B$33:$B$38^{1,2,3},$B51^{1,2,3})","v":77215.17647767067},{"$f":"TREND(W$33:W$38,$B$33:$B$38^{1,2,3},$B51^{1,2,3})","v":37710.69422724843},{"$f":"TREND(X$33:X$38,$B$33:$B$38^{1,2,3},$B51^{1,2,3})","v":6873.0372560918331},{"$f":"TREND(Y$33:Y$38,$B$33:$B$38^{1,2,3},$B51^{1,2,3})","v":8941.8685353547335},{"$f":"TREND(Z$33:Z$38,$B$33:$B$38^{1,2,3},$B51^{1,2,3})","v":51113.056848287582},{"$f":"TREND(AA$33:AA$38,$B$33:$B$38^{1,2,3},$B51^{1,2,3})","v":8074.6975547671318},{"$f":"TREND(AB$33:AB$38,$B$33:$B$38^{1,2,3},$B51^{1,2,3})","v":89123.087777733803},{"$f":"TREND(AC$33:AC$38,$B$33:$B$38^{1,2,3},$B51^{1,2,3})","v":66740.024599194527},{"$f":"TREND(AD$33:AD$38,$B$33:$B$38^{1,2,3},$B51^{1,2,3})","v":14550.603976845741},{"$f":"TREND(AE$33:AE$38,$B$33:$B$38^{1,2,3},$B51^{1,2,3})","v":89995.81082624197},{"$f":"TREND(AF$33:AF$38,$B$33:$B$38^{1,2,3},$B51^{1,2,3})","v":9839.3495499044657},{"$f":"TREND(AG$33:AG$38,$B$33:$B$38^{1,2,3},$B51^{1,2,3})","v":28551.929089158773},{"$f":"TREND(AH$33:AH$38,$B$33:$B$38^{1,2,3},$B51^{1,2,3})","v":11487.465381711721},{"$f":"TREND(AI$33:AI$38,$B$33:$B$38^{1,2,3},$B51^{1,2,3})","v":46925.794957995415},{"$f":"TREND(AJ$33:AJ$38,$B$33:$B$38^{1,2,3},$B51^{1,2,3})","v":15178.67972612381},{"$f":"TREND(AK$33:AK$38,$B$33:$B$38^{1,2,3},$B51^{1,2,3})","v":33541.419947504997},{"$f":"TREND(AL$33:AL$38,$B$33:$B$38^{1,2,3},$B51^{1,2,3})","v":94839.049937188625},{"$f":"TREND(AM$33:AM$38,$B$33:$B$38^{1,2,3},$B51^{1,2,3})","v":17851.379918396473},{"$f":"TREND(AN$33:AN$38,$B$33:$B$38^{1,2,3},$B51^{1,2,3})","v":34884.054421663284},{"$f":"TREND(AO$33:AO$38,$B$33:$B$38^{1,2,3},$B51^{1,2,3})","v":58694.227818161249},{"$f":"TREND(AP$33:AP$38,$B$33:$B$38^{1,2,3},$B51^{1,2,3})","v":62131.812507688999},{"$f":"TREND(AQ$33:AQ$38,$B$33:$B$38^{1,2,3},$B51^{1,2,3})","v":48467.168341778219},{"$f":"TREND(AR$33:AR$38,$B$33:$B$38^{1,2,3},$B51^{1,2,3})","v":111621.36199533939},{"$f":"TREND(AS$33:AS$38,$B$33:$B$38^{1,2,3},$B51^{1,2,3})","v":230489.54958724976},{"$f":"TREND(AT$33:AT$38,$B$33:$B$38^{1,2,3},$B51^{1,2,3})","v":27276.513523757458},{"$f":"TREND(AU$33:AU$38,$B$33:$B$38^{1,2,3},$B51^{1,2,3})","v":10025.596081264317},{"$f":"TREND(AV$33:AV$38,$B$33:$B$38^{1,2,3},$B51^{1,2,3})","v":11374.917599666864},{"$f":"TREND(AW$33:AW$38,$B$33:$B$38^{1,2,3},$B51^{1,2,3})","v":57423.144528031349},{"$f":"TREND(AX$33:AX$38,$B$33:$B$38^{1,2,3},$B51^{1,2,3})","v":56517.61551746726},{"$f":"TREND(AY$33:AY$38,$B$33:$B$38^{1,2,3},$B51^{1,2,3})","v":50255.442374110222},{"$f":"TREND(AZ$33:AZ$38,$B$33:$B$38^{1,2,3},$B51^{1,2,3})","v":4063.277360022068},{"$f":"TREND(BA$33:BA$38,$B$33:$B$38^{1,2,3},$B51^{1,2,3})","v":9642.7026246190071},{"$f":"TREND(BB$33:BB$38,$B$33:$B$38^{1,2,3},$B51^{1,2,3})","v":13557.326680670492},{"$f":"TREND(BC$33:BC$38,$B$33:$B$38^{1,2,3},$B51^{1,2,3})","v":8871.79359126091},{"$f":"TREND(BD$33:BD$38,$B$33:$B$38^{1,2,3},$B51^{1,2,3})","v":13932.025396846235},{"$f":"TREND(BE$33:BE$38,$B$33:$B$38^{1,2,3},$B51^{1,2,3})","v":72953.911768913269},{"$f":"TREND(BF$33:BF$38,$B$33:$B$38^{1,2,3},$B51^{1,2,3})","v":423521.77698516846},{"$f":"TREND(BG$33:BG$38,$B$33:$B$38^{1,2,3},$B51^{1,2,3})","v":82709.532733917236},{"$f":"TREND(BH$33:BH$38,$B$33:$B$38^{1,2,3},$B51^{1,2,3})","v":37966.334202408791},{"$f":"TREND(BI$33:BI$38,$B$33:$B$38^{1,2,3},$B51^{1,2,3})","v":49738.279606163502},{"$f":"TREND(BJ$33:BJ$38,$B$33:$B$38^{1,2,3},$B51^{1,2,3})","v":5326.2335368096828},{"$f":"TREND(BK$33:BK$38,$B$33:$B$38^{1,2,3},$B51^{1,2,3})","v":8427.0838695317507},{"$f":"TREND(BL$33:BL$38,$B$33:$B$38^{1,2,3},$B51^{1,2,3})","v":23970.863919094205},{"$f":"TREND(BM$33:BM$38,$B$33:$B$38^{1,2,3},$B51^{1,2,3})","v":24206.5293379426},{"$f":"TREND(BN$33:BN$38,$B$33:$B$38^{1,2,3},$B51^{1,2,3})","v":53906.859798431396},{"$f":"TREND(BO$33:BO$38,$B$33:$B$38^{1,2,3},$B51^{1,2,3})","v":136583.28436112404},{"$f":"TREND(BP$33:BP$38,$B$33:$B$38^{1,2,3},$B51^{1,2,3})","v":17903.347005724907},{"$f":"TREND(BQ$33:BQ$38,$B$33:$B$38^{1,2,3},$B51^{1,2,3})","v":32624.240622758865},{"$f":"TREND(BR$33:BR$38,$B$33:$B$38^{1,2,3},$B51^{1,2,3})","v":12547.933460325003},{"$f":"TREND(BS$33:BS$38,$B$33:$B$38^{1,2,3},$B51^{1,2,3})","v":56906.074847072363},{"$f":"TREND(BT$33:BT$38,$B$33:$B$38^{1,2,3},$B51^{1,2,3})","v":5475370.0474243164}]
[null,2030,{"$f":"TREND(C$33:C$38,$B$33:$B$38^{1,2,3},$B52^{1,2,3})","v":70232.194594562054},{"$f":"TREND(D$33:D$38,$B$33:$B$38^{1,2,3},$B52^{1,2,3})","v":104479.66622447968},{"$f":"TREND(E$33:E$38,$B$33:$B$38^{1,2,3},$B52^{1,2,3})","v":25825.429582819343},{"$f":"TREND(F$33:F$38,$B$33:$B$38^{1,2,3},$B52^{1,2,3})","v":485525.59855079651},{"$f":"TREND(G$33:G$38,$B$33:$B$38^{1,2,3},$B52^{1,2,3})","v":313765.40097999573},{"$f":"TREND(H$33:H$38,$B$33:$B$38^{1,2,3},$B52^{1,2,3})","v":422014.21603012085},{"$f":"TREND(I$33:I$38,$B$33:$B$38^{1,2,3},$B52^{1,2,3})","v":765931.15010452271},{"$f":"TREND(J$33:J$38,$B$33:$B$38^{1,2,3},$B52^{1,2,3})","v":31301.377208590508},{"$f":"TREND(K$33:K$38,$B$33:$B$38^{1,2,3},$B52^{1,2,3})","v":21452.363507688046},{"$f":"TREND(L$33:L$38,$B$33:$B$38^{1,2,3},$B52^{1,2,3})","v":92952.307192087173},{"$f":"TREND(M$33:M$38,$B$33:$B$38^{1,2,3},$B52^{1,2,3})","v":37017.164897959679},{"$f":"TREND(N$33:N$38,$B$33:$B$38^{1,2,3},$B52^{1,2,3})","v":197929.34704017639},{"$f":"TREND(O$33:O$38,$B$33:$B$38^{1,2,3},$B52^{1,2,3})","v":62177.531584143639},{"$f":"TREND(P$33:P$38,$B$33:$B$38^{1,2,3},$B52^{1,2,3})","v":11250.359223127365},{"$f":"TREND(Q$33:Q$38,$B$33:$B$38^{1,2,3},$B52^{1,2,3})","v":24405.67999997735},{"$f":"TREND(R$33:R$38,$B$33:$B$38^{1,2,3},$B52^{1,2,3})","v":9371.2052376270294},{"$f":"TREND(S$33:S$38,$B$33:$B$38^{1,2,3},$B52^{1,2,3})","v":40310.634203672409},{"$f":"TREND(T$33:T$38,$B$33:$B$38^{1,2,3},$B52^{1,2,3})","v":58820.241269826889},{"$f":"TREND(U$33:U$38,$B$33:$B$38^{1,2,3},$B52^{1,2,3})","v":167309.87985420227},{"$f":"TREND(V$33:V$38,$B$33:$B$38^{1,2,3},$B52^{1,2,3})","v":77248.16957116127},{"$f":"TREND(W$33:W$38,$B$33:$B$38^{1,2,3},$B52^{1,2,3})","v":37697.389944136143},{"$f":"TREND(X$33:X$38,$B$33:$B$38^{1,2,3},$B52^{1,2,3})","v":6801.7417320609093},{"$f":"TREND(Y$33:Y$38,$B$33:$B$38^{1,2,3},$B52^{1,2,3})","v":8850.9175108224154},{"$f":"TREND(Z$33:Z$38,$B$33:$B$38^{1,2,3},$B52^{1,2,3})","v":51180.599116355181},{"$f":"TREND(AA$33:AA$38,$B$33:$B$38^{1,2,3},$B52^{1,2,3})","v":8001.0055458694696},{"$f":"TREND(AB$33:AB$38,$B$33:$B$38^{1,2,3},$B52^{1,2,3})","v":89421.621666669846},{"$f":"TREND(AC$33:AC$38,$B$33:$B$38^{1,2,3},$B52^{1,2,3})","v":66885.126477837563},{"$f":"TREND(AD$33:AD$38,$B$33:$B$38^{1,2,3},$B52^{1,2,3})","v":14501.510400474072},{"$f":"TREND(AE$33:AE$38,$B$33:$B$38^{1,2,3},$B52^{1,2,3})","v":90504.919658094645},{"$f":"TREND(AF$33:AF$38,$B$33:$B$38^{1,2,3},$B52^{1,2,3})","v":9843.2801992185414},{"$f":"TREND(AG$33:AG$38,$B$33:$B$38^{1,2,3},$B52^{1,2,3})","v":28533.45205655694},{"$f":"TREND(AH$33:AH$38,$B$33:$B$38^{1,2,3},$B52^{1,2,3})","v":11343.687528342009},{"$f":"TREND(AI$33:AI$38,$B$33:$B$38^{1,2,3},$B52^{1,2,3})","v":46864.779831930995},{"$f":"TREND(AJ$33:AJ$38,$B$33:$B$38^{1,2,3},$B52^{1,2,3})","v":15119.642140388489},{"$f":"TREND(AK$33:AK$38,$B$33:$B$38^{1,2,3},$B52^{1,2,3})","v":33722.356631159782},{"$f":"TREND(AL$33:AL$38,$B$33:$B$38^{1,2,3},$B52^{1,2,3})","v":95344.816370010376},{"$f":"TREND(AM$33:AM$38,$B$33:$B$38^{1,2,3},$B52^{1,2,3})","v":17770.728734642267},{"$f":"TREND(AN$33:AN$38,$B$33:$B$38^{1,2,3},$B52^{1,2,3})","v":34853.591836690903},{"$f":"TREND(AO$33:AO$38,$B$33:$B$38^{1,2,3},$B52^{1,2,3})","v":58967.79725587368},{"$f":"TREND(AP$33:AP$38,$B$33:$B$38^{1,2,3},$B52^{1,2,3})","v":62310.39225974679},{"$f":"TREND(AQ$33:AQ$38,$B$33:$B$38^{1,2,3},$B52^{1,2,3})","v":48676.590827308595},{"$f":"TREND(AR$33:AR$38,$B$33:$B$38^{1,2,3},$B52^{1,2,3})","v":111708.86585009098},{"$f":"TREND(AS$33:AS$38,$B$33:$B$38^{1,2,3},$B52^{1,2,3})","v":231972.15896892548},{"$f":"TREND(AT$33:AT$38,$B$33:$B$38^{1,2,3},$B52^{1,2,3})","v":27303.533714354038},{"$f":"TREND(AU$33:AU$38,$B$33:$B$38^{1,2,3},$B52^{1,2,3})","v":10055.63943298161},{"$f":"TREND(AV$33:AV$38,$B$33:$B$38^{1,2,3},$B52^{1,2,3})","v":11403.430615540594},{"$f":"TREND(AW$33:AW$38,$B$33:$B$38^{1,2,3},$B52^{1,2,3})","v":57643.167919754982},{"$f":"TREND(AX$33:AX$38,$B$33:$B$38^{1,2,3},$B52^{1,2,3})","v":56780.078764468431},{"$f":"TREND(AY$33:AY$38,$B$33:$B$38^{1,2,3},$B52^{1,2,3})","v":50306.898343682289},{"$f":"TREND(AZ$33:AZ$38,$B$33:$B$38^{1,2,3},$B52^{1,2,3})","v":4055.5981107950211},{"$f":"TREND(BA$33:BA$38,$B$33:$B$38^{1,2,3},$B52^{1,2,3})","v":9622.7859029471874},{"$f":"TREND(BB$33:BB$38,$B$33:$B$38^{1,2,3},$B52^{1,2,3})","v":13520.207457982004},{"$f":"TREND(BC$33:BC$38,$B$33:$B$38^{1,2,3},$B52^{1,2,3})","v":8857.8778089284897},{"$f":"TREND(BD$33:BD$38,$B$33:$B$38^{1,2,3},$B52^{1,2,3})","v":14000.123809531331},{"$f":"TREND(BE$33:BE$38,$B$33:$B$38^{1,2,3},$B52^{1,2,3})","v":73821.880271434784},{"$f":"TREND(BF$33:BF$38,$B$33:$B$38^{1,2,3},$B52^{1,2,3})","v":426217.69759368896},{"$f":"TREND(BG$33:BG$38,$B$33:$B$38^{1,2,3},$B52^{1,2,3})","v":84124.380336761475},{"$f":"TREND(BH$33:BH$38,$B$33:$B$38^{1,2,3},$B52^{1,2,3})","v":38244.704268097878},{"$f":"TREND(BI$33:BI$38,$B$33:$B$38^{1,2,3},$B52^{1,2,3})","v":49865.978059053421},{"$f":"TREND(BJ$33:BJ$38,$B$33:$B$38^{1,2,3},$B52^{1,2,3})","v":5339.5235652923584},{"$f":"TREND(BK$33:BK$38,$B$33:$B$38^{1,2,3},$B52^{1,2,3})","v":8447.1507793962955},{"$f":"TREND(BL$33:BL$38,$B$33:$B$38^{1,2,3},$B52^{1,2,3})","v":24047.239632681012},{"$f":"TREND(BM$33:BM$38,$B$33:$B$38^{1,2,3},$B52^{1,2,3})","v":24355.086271882057},{"$f":"TREND(BN$33:BN$38,$B$33:$B$38^{1,2,3},$B52^{1,2,3})","v":54654.608975410461},{"$f":"TREND(BO$33:BO$38,$B$33:$B$38^{1,2,3},$B52^{1,2,3})","v":136884.84902191162},{"$f":"TREND(BP$33:BP$38,$B$33:$B$38^{1,2,3},$B52^{1,2,3})","v":17872.977164626122},{"$f":"TREND(BQ$33:BQ$38,$B$33:$B$38^{1,2,3},$B52^{1,2,3})","v":32648.784045994282},{"$f":"TREND(BR$33:BR$38,$B$33:$B$38^{1,2,3},$B52^{1,2,3})","v":12510.841904759407},{"$f":"TREND(BS$33:BS$38,$B$33:$B$38^{1,2,3},$B52^{1,2,3})","v":56922.806819975376},{"$f":"TREND(BT$33:BT$38,$B$33:$B$38^{1,2,3},$B52^{1,2,3})","v":5517194.1230773926}]
[null,2031,{"$f":"TREND(C$33:C$38,$B$33:$B$38^{1,2,3},$B53^{1,2,3})","v":70291.967567503452},{"$f":"TREND(D$33:D$38,$B$33:$B$38^{1,2,3},$B53^{1,2,3})","v":105122.66805362701},{"$f":"TREND(E$33:E$38,$B$33:$B$38^{1,2,3},$B53^{1,2,3})","v":25937.048293292522},{"$f":"TREND(F$33:F$38,$B$33:$B$38^{1,2,3},$B53^{1,2,3})","v":491890.28571510315},{"$f":"TREND(G$33:G$38,$B$33:$B$38^{1,2,3},$B53^{1,2,3})","v":317643.09284734726},{"$f":"TREND(H$33:H$38,$B$33:$B$38^{1,2,3},$B53^{1,2,3})","v":426588.16474914551},{"$f":"TREND(I$33:I$38,$B$33:$B$38^{1,2,3},$B53^{1,2,3})","v":774420.76052474976},{"$f":"TREND(J$33:J$38,$B$33:$B$38^{1,2,3},$B53^{1,2,3})","v":31273.389293909073},{"$f":"TREND(K$33:K$38,$B$33:$B$38^{1,2,3},$B53^{1,2,3})","v":21450.509193778038},{"$f":"TREND(L$33:L$38,$B$33:$B$38^{1,2,3},$B53^{1,2,3})","v":94015.811346054077},{"$f":"TREND(M$33:M$38,$B$33:$B$38^{1,2,3},$B53^{1,2,3})","v":37097.8506122455},{"$f":"TREND(N$33:N$38,$B$33:$B$38^{1,2,3},$B53^{1,2,3})","v":200070.87685489655},{"$f":"TREND(O$33:O$38,$B$33:$B$38^{1,2,3},$B53^{1,2,3})","v":62658.911564648151},{"$f":"TREND(P$33:P$38,$B$33:$B$38^{1,2,3},$B53^{1,2,3})","v":11248.621359109879},{"$f":"TREND(Q$33:Q$38,$B$33:$B$38^{1,2,3},$B53^{1,2,3})","v":24307.129523724318},{"$f":"TREND(R$33:R$38,$B$33:$B$38^{1,2,3},$B53^{1,2,3})","v":9328.3766254931688},{"$f":"TREND(S$33:S$38,$B$33:$B$38^{1,2,3},$B53^{1,2,3})","v":40375.817409157753},{"$f":"TREND(T$33:T$38,$B$33:$B$38^{1,2,3},$B53^{1,2,3})","v":59188.981240987778},{"$f":"TREND(U$33:U$38,$B$33:$B$38^{1,2,3},$B53^{1,2,3})","v":169101.41286182404},{"$f":"TREND(V$33:V$38,$B$33:$B$38^{1,2,3},$B53^{1,2,3})","v":77254.75760602951},{"$f":"TREND(W$33:W$38,$B$33:$B$38^{1,2,3},$B53^{1,2,3})","v":37671.867039173841},{"$f":"TREND(X$33:X$38,$B$33:$B$38^{1,2,3},$B53^{1,2,3})","v":6727.6880923807621},{"$f":"TREND(Y$33:Y$38,$B$33:$B$38^{1,2,3},$B53^{1,2,3})","v":8756.0175541341305},{"$f":"TREND(Z$33:Z$38,$B$33:$B$38^{1,2,3},$B53^{1,2,3})","v":51235.265390276909},{"$f":"TREND(AA$33:AA$38,$B$33:$B$38^{1,2,3},$B53^{1,2,3})","v":7924.4568621218204},{"$f":"TREND(AB$33:AB$38,$B$33:$B$38^{1,2,3},$B53^{1,2,3})","v":89700.728333115578},{"$f":"TREND(AC$33:AC$38,$B$33:$B$38^{1,2,3},$B53^{1,2,3})","v":67016.549160242081},{"$f":"TREND(AD$33:AD$38,$B$33:$B$38^{1,2,3},$B53^{1,2,3})","v":14446.70826870203},{"$f":"TREND(AE$33:AE$38,$B$33:$B$38^{1,2,3},$B53^{1,2,3})","v":90997.832478612661},{"$f":"TREND(AF$33:AF$38,$B$33:$B$38^{1,2,3},$B53^{1,2,3})","v":9845.7988677062094},{"$f":"TREND(AG$33:AG$38,$B$33:$B$38^{1,2,3},$B53^{1,2,3})","v":28508.798839390278},{"$f":"TREND(AH$33:AH$38,$B$33:$B$38^{1,2,3},$B53^{1,2,3})","v":11195.363492116332},{"$f":"TREND(AI$33:AI$38,$B$33:$B$38^{1,2,3},$B53^{1,2,3})","v":46791.791596621275},{"$f":"TREND(AJ$33:AJ$38,$B$33:$B$38^{1,2,3},$B53^{1,2,3})","v":15055.76540851593},{"$f":"TREND(AK$33:AK$38,$B$33:$B$38^{1,2,3},$B53^{1,2,3})","v":33895.324150919914},{"$f":"TREND(AL$33:AL$38,$B$33:$B$38^{1,2,3},$B53^{1,2,3})","v":95837.126293122768},{"$f":"TREND(AM$33:AM$38,$B$33:$B$38^{1,2,3},$B53^{1,2,3})","v":17684.899836719036},{"$f":"TREND(AN$33:AN$38,$B$33:$B$38^{1,2,3},$B53^{1,2,3})","v":34813.755101919174},{"$f":"TREND(AO$33:AO$38,$B$33:$B$38^{1,2,3},$B53^{1,2,3})","v":59233.268119513988},{"$f":"TREND(AP$33:AP$38,$B$33:$B$38^{1,2,3},$B53^{1,2,3})","v":62470.194312602282},{"$f":"TREND(AQ$33:AQ$38,$B$33:$B$38^{1,2,3},$B53^{1,2,3})","v":48874.230765879154},{"$f":"TREND(AR$33:AR$38,$B$33:$B$38^{1,2,3},$B53^{1,2,3})","v":111767.17986392975},{"$f":"TREND(AS$33:AS$38,$B$33:$B$38^{1,2,3},$B53^{1,2,3})","v":233418.15682029724},{"$f":"TREND(AT$33:AT$38,$B$33:$B$38^{1,2,3},$B53^{1,2,3})","v":27322.742857158184},{"$f":"TREND(AU$33:AU$38,$B$33:$B$38^{1,2,3},$B53^{1,2,3})","v":10082.972631901503},{"$f":"TREND(AV$33:AV$38,$B$33:$B$38^{1,2,3},$B53^{1,2,3})","v":11429.448826931417},{"$f":"TREND(AW$33:AW$38,$B$33:$B$38^{1,2,3},$B53^{1,2,3})","v":57845.854636669159},{"$f":"TREND(AX$33:AX$38,$B$33:$B$38^{1,2,3},$B53^{1,2,3})","v":57028.957639217377},{"$f":"TREND(AY$33:AY$38,$B$33:$B$38^{1,2,3},$B53^{1,2,3})","v":50345.414699912071},{"$f":"TREND(AZ$33:AZ$38,$B$33:$B$38^{1,2,3},$B53^{1,2,3})","v":4046.8596548289061},{"$f":"TREND(BA$33:BA$38,$B$33:$B$38^{1,2,3},$B53^{1,2,3})","v":9602.2128241956234},{"$f":"TREND(BB$33:BB$38,$B$33:$B$38^{1,2,3},$B53^{1,2,3})","v":13479.766281509772},{"$f":"TREND(BC$33:BC$38,$B$33:$B$38^{1,2,3},$B53^{1,2,3})","v":8841.404644548893},{"$f":"TREND(BD$33:BD$38,$B$33:$B$38^{1,2,3},$B53^{1,2,3})","v":14064.59047620371},{"$f":"TREND(BE$33:BE$38,$B$33:$B$38^{1,2,3},$B53^{1,2,3})","v":74666.477221488953},{"$f":"TREND(BF$33:BF$38,$B$33:$B$38^{1,2,3},$B53^{1,2,3})","v":428807.25253105164},{"$f":"TREND(BG$33:BG$38,$B$33:$B$38^{1,2,3},$B53^{1,2,3})","v":85507.932612419128},{"$f":"TREND(BH$33:BH$38,$B$33:$B$38^{1,2,3},$B53^{1,2,3})","v":38520.288733363152},{"$f":"TREND(BI$33:BI$38,$B$33:$B$38^{1,2,3},$B53^{1,2,3})","v":49981.836286962032},{"$f":"TREND(BJ$33:BJ$38,$B$33:$B$38^{1,2,3},$B53^{1,2,3})","v":5352.0442002117634},{"$f":"TREND(BK$33:BK$38,$B$33:$B$38^{1,2,3},$B53^{1,2,3})","v":8466.0820563584566},{"$f":"TREND(BL$33:BL$38,$B$33:$B$38^{1,2,3},$B53^{1,2,3})","v":24120.218406960368},{"$f":"TREND(BM$33:BM$38,$B$33:$B$38^{1,2,3},$B53^{1,2,3})","v":24496.671219408512},{"$f":"TREND(BN$33:BN$38,$B$33:$B$38^{1,2,3},$B53^{1,2,3})","v":55376.163122177124},{"$f":"TREND(BO$33:BO$38,$B$33:$B$38^{1,2,3},$B53^{1,2,3})","v":137160.42229580879},{"$f":"TREND(BP$33:BP$38,$B$33:$B$38^{1,2,3},$B53^{1,2,3})","v":17838.039474964142},{"$f":"TREND(BQ$33:BQ$38,$B$33:$B$38^{1,2,3},$B53^{1,2,3})","v":32667.264179468155},{"$f":"TREND(BR$33:BR$38,$B$33:$B$38^{1,2,3},$B53^{1,2,3})","v":12470.808380961418},{"$f":"TREND(BS$33:BS$38,$B$33:$B$38^{1,2,3},$B53^{1,2,3})","v":56927.485610902309},{"$f":"TREND(BT$33:BT$38,$B$33:$B$38^{1,2,3},$B53^{1,2,3})","v":5557641.9896850586}]
[null,2032,{"$f":"TREND(C$33:C$38,$B$33:$B$38^{1,2,3},$B54^{1,2,3})","v":70330.232962369919},{"$f":"TREND(D$33:D$38,$B$33:$B$38^{1,2,3},$B54^{1,2,3})","v":105740.82186460495},{"$f":"TREND(E$33:E$38,$B$33:$B$38^{1,2,3},$B54^{1,2,3})","v":26038.133670464158},{"$f":"TREND(F$33:F$38,$B$33:$B$38^{1,2,3},$B54^{1,2,3})","v":498147.77577018738},{"$f":"TREND(G$33:G$38,$B$33:$B$38^{1,2,3},$B54^{1,2,3})","v":321476.76587581635},{"$f":"TREND(H$33:H$38,$B$33:$B$38^{1,2,3},$B54^{1,2,3})","v":431038.02773666382},{"$f":"TREND(I$33:I$38,$B$33:$B$38^{1,2,3},$B54^{1,2,3})","v":782706.339427948},{"$f":"TREND(J$33:J$38,$B$33:$B$38^{1,2,3},$B54^{1,2,3})","v":31233.652370035648},{"$f":"TREND(K$33:K$38,$B$33:$B$38^{1,2,3},$B54^{1,2,3})","v":21439.838755249977},{"$f":"TREND(L$33:L$38,$B$33:$B$38^{1,2,3},$B54^{1,2,3})","v":95061.039783239365},{"$f":"TREND(M$33:M$38,$B$33:$B$38^{1,2,3},$B54^{1,2,3})","v":37169.026938773692},{"$f":"TREND(N$33:N$38,$B$33:$B$38^{1,2,3},$B54^{1,2,3})","v":202184.49941444397},{"$f":"TREND(O$33:O$38,$B$33:$B$38^{1,2,3},$B54^{1,2,3})","v":63123.977972090244},{"$f":"TREND(P$33:P$38,$B$33:$B$38^{1,2,3},$B54^{1,2,3})","v":11241.44983792305},{"$f":"TREND(Q$33:Q$38,$B$33:$B$38^{1,2,3},$B54^{1,2,3})","v":24199.05269831419},{"$f":"TREND(R$33:R$38,$B$33:$B$38^{1,2,3},$B54^{1,2,3})","v":9282.4025461599231},{"$f":"TREND(S$33:S$38,$B$33:$B$38^{1,2,3},$B54^{1,2,3})","v":40430.808738648891},{"$f":"TREND(T$33:T$38,$B$33:$B$38^{1,2,3},$B54^{1,2,3})","v":59543.88532948494},{"$f":"TREND(U$33:U$38,$B$33:$B$38^{1,2,3},$B54^{1,2,3})","v":170863.26583003998},{"$f":"TREND(V$33:V$38,$B$33:$B$38^{1,2,3},$B54^{1,2,3})","v":77235.959216356277},{"$f":"TREND(W$33:W$38,$B$33:$B$38^{1,2,3},$B54^{1,2,3})","v":37633.987337052822},{"$f":"TREND(X$33:X$38,$B$33:$B$38^{1,2,3},$B54^{1,2,3})","v":6650.9393520057201},{"$f":"TREND(Y$33:Y$38,$B$33:$B$38^{1,2,3},$B54^{1,2,3})","v":8657.2175036072731},{"$f":"TREND(Z$33:Z$38,$B$33:$B$38^{1,2,3},$B54^{1,2,3})","v":51277.14639171958},{"$f":"TREND(AA$33:AA$38,$B$33:$B$38^{1,2,3},$B54^{1,2,3})","v":7844.9800866544247},{"$f":"TREND(AB$33:AB$38,$B$33:$B$38^{1,2,3},$B54^{1,2,3})","v":89959.937222242355},{"$f":"TREND(AC$33:AC$38,$B$33:$B$38^{1,2,3},$B54^{1,2,3})","v":67134.476435780525},{"$f":"TREND(AD$33:AD$38,$B$33:$B$38^{1,2,3},$B54^{1,2,3})","v":14386.432639956474},{"$f":"TREND(AE$33:AE$38,$B$33:$B$38^{1,2,3},$B54^{1,2,3})","v":91474.684900224209},{"$f":"TREND(AF$33:AF$38,$B$33:$B$38^{1,2,3},$B54^{1,2,3})","v":9846.8871325179935},{"$f":"TREND(AG$33:AG$38,$B$33:$B$38^{1,2,3},$B54^{1,2,3})","v":28478.149763941765},{"$f":"TREND(AH$33:AH$38,$B$33:$B$38^{1,2,3},$B54^{1,2,3})","v":11042.565230607986},{"$f":"TREND(AI$33:AI$38,$B$33:$B$38^{1,2,3},$B54^{1,2,3})","v":46706.877310931683},{"$f":"TREND(AJ$33:AJ$38,$B$33:$B$38^{1,2,3},$B54^{1,2,3})","v":14987.279184579849},{"$f":"TREND(AK$33:AK$38,$B$33:$B$38^{1,2,3},$B54^{1,2,3})","v":34060.052365422249},{"$f":"TREND(AL$33:AL$38,$B$33:$B$38^{1,2,3},$B54^{1,2,3})","v":96316.291171073914},{"$f":"TREND(AM$33:AM$38,$B$33:$B$38^{1,2,3},$B54^{1,2,3})","v":17593.705795943737},{"$f":"TREND(AN$33:AN$38,$B$33:$B$38^{1,2,3},$B54^{1,2,3})","v":34764.925169944763},{"$f":"TREND(AO$33:AO$38,$B$33:$B$38^{1,2,3},$B54^{1,2,3})","v":59490.501802504063},{"$f":"TREND(AP$33:AP$38,$B$33:$B$38^{1,2,3},$B54^{1,2,3})","v":62611.311167150736},{"$f":"TREND(AQ$33:AQ$38,$B$33:$B$38^{1,2,3},$B54^{1,2,3})","v":49060.041664838791},{"$f":"TREND(AR$33:AR$38,$B$33:$B$38^{1,2,3},$B54^{1,2,3})","v":111796.76371872425},{"$f":"TREND(AS$33:AS$38,$B$33:$B$38^{1,2,3},$B54^{1,2,3})","v":234829.30755472183},{"$f":"TREND(AT$33:AT$38,$B$33:$B$38^{1,2,3},$B54^{1,2,3})","v":27334.375619113445},{"$f":"TREND(AU$33:AU$38,$B$33:$B$38^{1,2,3},$B54^{1,2,3})","v":10107.623638369143},{"$f":"TREND(AV$33:AV$38,$B$33:$B$38^{1,2,3},$B54^{1,2,3})","v":11452.94860239327},{"$f":"TREND(AW$33:AW$38,$B$33:$B$38^{1,2,3},$B54^{1,2,3})","v":58030.690058588982},{"$f":"TREND(AX$33:AX$38,$B$33:$B$38^{1,2,3},$B54^{1,2,3})","v":57264.38779181242},{"$f":"TREND(AY$33:AY$38,$B$33:$B$38^{1,2,3},$B54^{1,2,3})","v":50371.461973667145},{"$f":"TREND(AZ$33:AZ$38,$B$33:$B$38^{1,2,3},$B54^{1,2,3})","v":4037.125909820199},{"$f":"TREND(BA$33:BA$38,$B$33:$B$38^{1,2,3},$B54^{1,2,3})","v":9580.8750275671482},{"$f":"TREND(BB$33:BB$38,$B$33:$B$38^{1,2,3},$B54^{1,2,3})","v":13436.003151259385},{"$f":"TREND(BC$33:BC$38,$B$33:$B$38^{1,2,3},$B54^{1,2,3})","v":8822.4716549217701},{"$f":"TREND(BD$33:BD$38,$B$33:$B$38^{1,2,3},$B54^{1,2,3})","v":14125.403174627572},{"$f":"TREND(BE$33:BE$38,$B$33:$B$38^{1,2,3},$B54^{1,2,3})","v":75489.58154630661},{"$f":"TREND(BF$33:BF$38,$B$33:$B$38^{1,2,3},$B54^{1,2,3})","v":431300.39804077148},{"$f":"TREND(BG$33:BG$38,$B$33:$B$38^{1,2,3},$B54^{1,2,3})","v":86866.098008155823},{"$f":"TREND(BH$33:BH$38,$B$33:$B$38^{1,2,3},$B54^{1,2,3})","v":38793.530762672424},{"$f":"TREND(BI$33:BI$38,$B$33:$B$38^{1,2,3},$B54^{1,2,3})","v":50085.720393806696},{"$f":"TREND(BJ$33:BJ$38,$B$33:$B$38^{1,2,3},$B54^{1,2,3})","v":5363.9019942879677},{"$f":"TREND(BK$33:BK$38,$B$33:$B$38^{1,2,3},$B54^{1,2,3})","v":8483.9270756989717},{"$f":"TREND(BL$33:BL$38,$B$33:$B$38^{1,2,3},$B54^{1,2,3})","v":24189.845882222056},{"$f":"TREND(BM$33:BM$38,$B$33:$B$38^{1,2,3},$B54^{1,2,3})","v":24630.995400846004},{"$f":"TREND(BN$33:BN$38,$B$33:$B$38^{1,2,3},$B54^{1,2,3})","v":56076.355425834656},{"$f":"TREND(BO$33:BO$38,$B$33:$B$38^{1,2,3},$B54^{1,2,3})","v":137411.13424372673},{"$f":"TREND(BP$33:BP$38,$B$33:$B$38^{1,2,3},$B54^{1,2,3})","v":17798.146500706673},{"$f":"TREND(BQ$33:BQ$38,$B$33:$B$38^{1,2,3},$B54^{1,2,3})","v":32679.906783938408},{"$f":"TREND(BR$33:BR$38,$B$33:$B$38^{1,2,3},$B54^{1,2,3})","v":12427.719111144543},{"$f":"TREND(BS$33:BS$38,$B$33:$B$38^{1,2,3},$B54^{1,2,3})","v":56920.246000170708},{"$f":"TREND(BT$33:BT$38,$B$33:$B$38^{1,2,3},$B54^{1,2,3})","v":5596797.1423797607}]
[null,2033,{"$f":"TREND(C$33:C$38,$B$33:$B$38^{1,2,3},$B55^{1,2,3})","v":70346.846846878529},{"$f":"TREND(D$33:D$38,$B$33:$B$38^{1,2,3},$B55^{1,2,3})","v":106336.06643533707},{"$f":"TREND(E$33:E$38,$B$33:$B$38^{1,2,3},$B55^{1,2,3})","v":26128.59249894321},{"$f":"TREND(F$33:F$38,$B$33:$B$38^{1,2,3},$B55^{1,2,3})","v":504305.96745109558},{"$f":"TREND(G$33:G$38,$B$33:$B$38^{1,2,3},$B55^{1,2,3})","v":325268.86798477173},{"$f":"TREND(H$33:H$38,$B$33:$B$38^{1,2,3},$B55^{1,2,3})","v":435380.33337402344},{"$f":"TREND(I$33:I$38,$B$33:$B$38^{1,2,3},$B55^{1,2,3})","v":790801.9877281189},{"$f":"TREND(J$33:J$38,$B$33:$B$38^{1,2,3},$B55^{1,2,3})","v":31182.260536462069},{"$f":"TREND(K$33:K$38,$B$33:$B$38^{1,2,3},$B55^{1,2,3})","v":21420.579915165901},{"$f":"TREND(L$33:L$38,$B$33:$B$38^{1,2,3},$B55^{1,2,3})","v":96089.4714615345},{"$f":"TREND(M$33:M$38,$B$33:$B$38^{1,2,3},$B55^{1,2,3})","v":37230.693877551705},{"$f":"TREND(N$33:N$38,$B$33:$B$38^{1,2,3},$B55^{1,2,3})","v":204274.07909011841},{"$f":"TREND(O$33:O$38,$B$33:$B$38^{1,2,3},$B55^{1,2,3})","v":63573.048267006874},{"$f":"TREND(P$33:P$38,$B$33:$B$38^{1,2,3},$B55^{1,2,3})","v":11229.773462772369},{"$f":"TREND(Q$33:Q$38,$B$33:$B$38^{1,2,3},$B55^{1,2,3})","v":24081.587301552296},{"$f":"TREND(R$33:R$38,$B$33:$B$38^{1,2,3},$B55^{1,2,3})","v":9233.3178317472339},{"$f":"TREND(S$33:S$38,$B$33:$B$38^{1,2,3},$B55^{1,2,3})","v":40475.977129042149},{"$f":"TREND(T$33:T$38,$B$33:$B$38^{1,2,3},$B55^{1,2,3})","v":59884.713804721832},{"$f":"TREND(U$33:U$38,$B$33:$B$38^{1,2,3},$B55^{1,2,3})","v":172599.37734222412},{"$f":"TREND(V$33:V$38,$B$33:$B$38^{1,2,3},$B55^{1,2,3})","v":77192.793032169342},{"$f":"TREND(W$33:W$38,$B$33:$B$38^{1,2,3},$B55^{1,2,3})","v":37583.612662881613},{"$f":"TREND(X$33:X$38,$B$33:$B$38^{1,2,3},$B55^{1,2,3})","v":6571.5585258752108},{"$f":"TREND(Y$33:Y$38,$B$33:$B$38^{1,2,3},$B55^{1,2,3})","v":8554.5661976784468},{"$f":"TREND(Z$33:Z$38,$B$33:$B$38^{1,2,3},$B55^{1,2,3})","v":51306.332842350006},{"$f":"TREND(AA$33:AA$38,$B$33:$B$38^{1,2,3},$B55^{1,2,3})","v":7762.5038025826216},{"$f":"TREND(AB$33:AB$38,$B$33:$B$38^{1,2,3},$B55^{1,2,3})","v":90198.777777671814},{"$f":"TREND(AC$33:AC$38,$B$33:$B$38^{1,2,3},$B55^{1,2,3})","v":67239.092094063759},{"$f":"TREND(AD$33:AD$38,$B$33:$B$38^{1,2,3},$B55^{1,2,3})","v":14320.918571949005},{"$f":"TREND(AE$33:AE$38,$B$33:$B$38^{1,2,3},$B55^{1,2,3})","v":91935.612535566092},{"$f":"TREND(AF$33:AF$38,$B$33:$B$38^{1,2,3},$B55^{1,2,3})","v":9846.5265707820654},{"$f":"TREND(AG$33:AG$38,$B$33:$B$38^{1,2,3},$B55^{1,2,3})","v":28441.685156732798},{"$f":"TREND(AH$33:AH$38,$B$33:$B$38^{1,2,3},$B55^{1,2,3})","v":10885.364701464772},{"$f":"TREND(AI$33:AI$38,$B$33:$B$38^{1,2,3},$B55^{1,2,3})","v":46610.084033608437},{"$f":"TREND(AJ$33:AJ$38,$B$33:$B$38^{1,2,3},$B55^{1,2,3})","v":14914.413123130798},{"$f":"TREND(AK$33:AK$38,$B$33:$B$38^{1,2,3},$B55^{1,2,3})","v":34216.271134018898},{"$f":"TREND(AL$33:AL$38,$B$33:$B$38^{1,2,3},$B55^{1,2,3})","v":96782.622466981411},{"$f":"TREND(AM$33:AM$38,$B$33:$B$38^{1,2,3},$B55^{1,2,3})","v":17496.959183692932},{"$f":"TREND(AN$33:AN$38,$B$33:$B$38^{1,2,3},$B55^{1,2,3})","v":34707.482993125916},{"$f":"TREND(AO$33:AO$38,$B$33:$B$38^{1,2,3},$B55^{1,2,3})","v":59739.359698683023},{"$f":"TREND(AP$33:AP$38,$B$33:$B$38^{1,2,3},$B55^{1,2,3})","v":62733.835324436426},{"$f":"TREND(AQ$33:AQ$38,$B$33:$B$38^{1,2,3},$B55^{1,2,3})","v":49233.977031692863},{"$f":"TREND(AR$33:AR$38,$B$33:$B$38^{1,2,3},$B55^{1,2,3})","v":111798.07709741592},{"$f":"TREND(AS$33:AS$38,$B$33:$B$38^{1,2,3},$B55^{1,2,3})","v":236207.3755812645},{"$f":"TREND(AT$33:AT$38,$B$33:$B$38^{1,2,3},$B55^{1,2,3})","v":27338.666666805744},{"$f":"TREND(AU$33:AU$38,$B$33:$B$38^{1,2,3},$B55^{1,2,3})","v":10129.620412662625},{"$f":"TREND(AV$33:AV$38,$B$33:$B$38^{1,2,3},$B55^{1,2,3})","v":11473.906310472637},{"$f":"TREND(AW$33:AW$38,$B$33:$B$38^{1,2,3},$B55^{1,2,3})","v":58197.159565329552},{"$f":"TREND(AX$33:AX$38,$B$33:$B$38^{1,2,3},$B55^{1,2,3})","v":57486.504872173071},{"$f":"TREND(AY$33:AY$38,$B$33:$B$38^{1,2,3},$B55^{1,2,3})","v":50385.510697245598},{"$f":"TREND(AZ$33:AZ$38,$B$33:$B$38^{1,2,3},$B55^{1,2,3})","v":4026.460793197155},{"$f":"TREND(BA$33:BA$38,$B$33:$B$38^{1,2,3},$B55^{1,2,3})","v":9558.6641521751881},{"$f":"TREND(BB$33:BB$38,$B$33:$B$38^{1,2,3},$B55^{1,2,3})","v":13388.918067226186},{"$f":"TREND(BC$33:BC$38,$B$33:$B$38^{1,2,3},$B55^{1,2,3})","v":8801.176396727562},{"$f":"TREND(BD$33:BD$38,$B$33:$B$38^{1,2,3},$B55^{1,2,3})","v":14182.539682552218},{"$f":"TREND(BE$33:BE$38,$B$33:$B$38^{1,2,3},$B55^{1,2,3})","v":76293.072170734406},{"$f":"TREND(BF$33:BF$38,$B$33:$B$38^{1,2,3},$B55^{1,2,3})","v":433707.09037780762},{"$f":"TREND(BG$33:BG$38,$B$33:$B$38^{1,2,3},$B55^{1,2,3})","v":88204.784982681274},{"$f":"TREND(BH$33:BH$38,$B$33:$B$38^{1,2,3},$B55^{1,2,3})","v":39064.873519182205},{"$f":"TREND(BI$33:BI$38,$B$33:$B$38^{1,2,3},$B55^{1,2,3})","v":50177.4964838624},{"$f":"TREND(BJ$33:BJ$38,$B$33:$B$38^{1,2,3},$B55^{1,2,3})","v":5375.2035001814365},{"$f":"TREND(BK$33:BK$38,$B$33:$B$38^{1,2,3},$B55^{1,2,3})","v":8500.7352128177881},{"$f":"TREND(BL$33:BL$38,$B$33:$B$38^{1,2,3},$B55^{1,2,3})","v":24256.167698740959},{"$f":"TREND(BM$33:BM$38,$B$33:$B$38^{1,2,3},$B55^{1,2,3})","v":24757.770034849644},{"$f":"TREND(BN$33:BN$38,$B$33:$B$38^{1,2,3},$B55^{1,2,3})","v":56760.019064903259},{"$f":"TREND(BO$33:BO$38,$B$33:$B$38^{1,2,3},$B55^{1,2,3})","v":137638.11492586136},{"$f":"TREND(BP$33:BP$38,$B$33:$B$38^{1,2,3},$B55^{1,2,3})","v":17752.910804390907},{"$f":"TREND(BQ$33:BQ$38,$B$33:$B$38^{1,2,3},$B55^{1,2,3})","v":32686.937620043755},{"$f":"TREND(BR$33:BR$38,$B$33:$B$38^{1,2,3},$B55^{1,2,3})","v":12381.460317462683},{"$f":"TREND(BS$33:BS$38,$B$33:$B$38^{1,2,3},$B55^{1,2,3})","v":56901.222767561674},{"$f":"TREND(BT$33:BT$38,$B$33:$B$38^{1,2,3},$B55^{1,2,3})","v":5634743.0761566162}]
[null,2034,{"$f":"TREND(C$33:C$38,$B$33:$B$38^{1,2,3},$B56^{1,2,3})","v":70341.665288835764},{"$f":"TREND(D$33:D$38,$B$33:$B$38^{1,2,3},$B56^{1,2,3})","v":106910.34054327011},{"$f":"TREND(E$33:E$38,$B$33:$B$38^{1,2,3},$B56^{1,2,3})","v":26208.331563442945},{"$f":"TREND(F$33:F$38,$B$33:$B$38^{1,2,3},$B56^{1,2,3})","v":510372.75949478149},{"$f":"TREND(G$33:G$38,$B$33:$B$38^{1,2,3},$B56^{1,2,3})","v":329021.8470954895},{"$f":"TREND(H$33:H$38,$B$33:$B$38^{1,2,3},$B56^{1,2,3})","v":439631.61008834839},{"$f":"TREND(I$33:I$38,$B$33:$B$38^{1,2,3},$B56^{1,2,3})","v":798721.80632019043},{"$f":"TREND(J$33:J$38,$B$33:$B$38^{1,2,3},$B56^{1,2,3})","v":31119.307892739773},{"$f":"TREND(K$33:K$38,$B$33:$B$38^{1,2,3},$B56^{1,2,3})","v":21392.960395991802},{"$f":"TREND(L$33:L$38,$B$33:$B$38^{1,2,3},$B56^{1,2,3})","v":97102.585342168808},{"$f":"TREND(M$33:M$38,$B$33:$B$38^{1,2,3},$B56^{1,2,3})","v":37282.851428572088},{"$f":"TREND(N$33:N$38,$B$33:$B$38^{1,2,3},$B56^{1,2,3})","v":206343.48025894165},{"$f":"TREND(O$33:O$38,$B$33:$B$38^{1,2,3},$B56^{1,2,3})","v":64006.439909517765},{"$f":"TREND(P$33:P$38,$B$33:$B$38^{1,2,3},$B56^{1,2,3})","v":11214.521035194397},{"$f":"TREND(Q$33:Q$38,$B$33:$B$38^{1,2,3},$B56^{1,2,3})","v":23954.871111065149},{"$f":"TREND(R$33:R$38,$B$33:$B$38^{1,2,3},$B56^{1,2,3})","v":9181.1573143601418},{"$f":"TREND(S$33:S$38,$B$33:$B$38^{1,2,3},$B56^{1,2,3})","v":40511.691517233849},{"$f":"TREND(T$33:T$38,$B$33:$B$38^{1,2,3},$B56^{1,2,3})","v":60211.226936042309},{"$f":"TREND(U$33:U$38,$B$33:$B$38^{1,2,3},$B56^{1,2,3})","v":174313.68598175049},{"$f":"TREND(V$33:V$38,$B$33:$B$38^{1,2,3},$B56^{1,2,3})","v":77126.27768445015},{"$f":"TREND(W$33:W$38,$B$33:$B$38^{1,2,3},$B56^{1,2,3})","v":37520.604841768742},{"$f":"TREND(X$33:X$38,$B$33:$B$38^{1,2,3},$B56^{1,2,3})","v":6489.6086289286613},{"$f":"TREND(Y$33:Y$38,$B$33:$B$38^{1,2,3},$B56^{1,2,3})","v":8448.1124747544527},{"$f":"TREND(Z$33:Z$38,$B$33:$B$38^{1,2,3},$B56^{1,2,3})","v":51322.915463864803},{"$f":"TREND(AA$33:AA$38,$B$33:$B$38^{1,2,3},$B56^{1,2,3})","v":7676.9565929919481},{"$f":"TREND(AB$33:AB$38,$B$33:$B$38^{1,2,3},$B56^{1,2,3})","v":90416.779444336891},{"$f":"TREND(AC$33:AC$38,$B$33:$B$38^{1,2,3},$B56^{1,2,3})","v":67330.579924702644},{"$f":"TREND(AD$33:AD$38,$B$33:$B$38^{1,2,3},$B56^{1,2,3})","v":14250.401123166084},{"$f":"TREND(AE$33:AE$38,$B$33:$B$38^{1,2,3},$B56^{1,2,3})","v":92380.750997066498},{"$f":"TREND(AF$33:AF$38,$B$33:$B$38^{1,2,3},$B56^{1,2,3})","v":9844.6987596191466},{"$f":"TREND(AG$33:AG$38,$B$33:$B$38^{1,2,3},$B56^{1,2,3})","v":28399.585344552994},{"$f":"TREND(AH$33:AH$38,$B$33:$B$38^{1,2,3},$B56^{1,2,3})","v":10723.833862453699},{"$f":"TREND(AI$33:AI$38,$B$33:$B$38^{1,2,3},$B56^{1,2,3})","v":46501.458823516965},{"$f":"TREND(AJ$33:AJ$38,$B$33:$B$38^{1,2,3},$B56^{1,2,3})","v":14837.396878480911},{"$f":"TREND(AK$33:AK$38,$B$33:$B$38^{1,2,3},$B56^{1,2,3})","v":34363.710315048695},{"$f":"TREND(AL$33:AL$38,$B$33:$B$38^{1,2,3},$B56^{1,2,3})","v":97236.431645452976},{"$f":"TREND(AM$33:AM$38,$B$33:$B$38^{1,2,3},$B56^{1,2,3})","v":17394.47257143259},{"$f":"TREND(AN$33:AN$38,$B$33:$B$38^{1,2,3},$B56^{1,2,3})","v":34641.809523820877},{"$f":"TREND(AO$33:AO$38,$B$33:$B$38^{1,2,3},$B56^{1,2,3})","v":59979.703201591969},{"$f":"TREND(AP$33:AP$38,$B$33:$B$38^{1,2,3},$B56^{1,2,3})","v":62837.859285384417},{"$f":"TREND(AQ$33:AQ$38,$B$33:$B$38^{1,2,3},$B56^{1,2,3})","v":49395.990373805165},{"$f":"TREND(AR$33:AR$38,$B$33:$B$38^{1,2,3},$B56^{1,2,3})","v":111771.57968235016},{"$f":"TREND(AS$33:AS$38,$B$33:$B$38^{1,2,3},$B56^{1,2,3})","v":237554.1253118515},{"$f":"TREND(AT$33:AT$38,$B$33:$B$38^{1,2,3},$B56^{1,2,3})","v":27335.850666642189},{"$f":"TREND(AU$33:AU$38,$B$33:$B$38^{1,2,3},$B56^{1,2,3})","v":10148.990915104747},{"$f":"TREND(AV$33:AV$38,$B$33:$B$38^{1,2,3},$B56^{1,2,3})","v":11492.29831976071},{"$f":"TREND(AW$33:AW$38,$B$33:$B$38^{1,2,3},$B56^{1,2,3})","v":58344.748537898064},{"$f":"TREND(AX$33:AX$38,$B$33:$B$38^{1,2,3},$B56^{1,2,3})","v":57695.444530129433},{"$f":"TREND(AY$33:AY$38,$B$33:$B$38^{1,2,3},$B56^{1,2,3})","v":50388.03140103817},{"$f":"TREND(AZ$33:AZ$38,$B$33:$B$38^{1,2,3},$B56^{1,2,3})","v":4014.9282228052616},{"$f":"TREND(BA$33:BA$38,$B$33:$B$38^{1,2,3},$B56^{1,2,3})","v":9535.4718372523785},{"$f":"TREND(BB$33:BB$38,$B$33:$B$38^{1,2,3},$B56^{1,2,3})","v":13338.511029409245},{"$f":"TREND(BC$33:BC$38,$B$33:$B$38^{1,2,3},$B56^{1,2,3})","v":8777.6164268553257},{"$f":"TREND(BD$33:BD$38,$B$33:$B$38^{1,2,3},$B56^{1,2,3})","v":14235.977777782828},{"$f":"TREND(BE$33:BE$38,$B$33:$B$38^{1,2,3},$B56^{1,2,3})","v":77078.82802438736},{"$f":"TREND(BF$33:BF$38,$B$33:$B$38^{1,2,3},$B56^{1,2,3})","v":436037.28578567505},{"$f":"TREND(BG$33:BG$38,$B$33:$B$38^{1,2,3},$B56^{1,2,3})","v":89529.901993751526},{"$f":"TREND(BH$33:BH$38,$B$33:$B$38^{1,2,3},$B56^{1,2,3})","v":39334.760166525841},{"$f":"TREND(BI$33:BI$38,$B$33:$B$38^{1,2,3},$B56^{1,2,3})","v":50257.030661016703},{"$f":"TREND(BJ$33:BJ$38,$B$33:$B$38^{1,2,3},$B56^{1,2,3})","v":5386.0552705824375},{"$f":"TREND(BK$33:BK$38,$B$33:$B$38^{1,2,3},$B56^{1,2,3})","v":8516.5558429807425},{"$f":"TREND(BL$33:BL$38,$B$33:$B$38^{1,2,3},$B56^{1,2,3})","v":24319.229496732354},{"$f":"TREND(BM$33:BM$38,$B$33:$B$38^{1,2,3},$B56^{1,2,3})","v":24876.70634162426},{"$f":"TREND(BN$33:BN$38,$B$33:$B$38^{1,2,3},$B56^{1,2,3})","v":57431.987234115601},{"$f":"TREND(BO$33:BO$38,$B$33:$B$38^{1,2,3},$B56^{1,2,3})","v":137842.49440097809},{"$f":"TREND(BP$33:BP$38,$B$33:$B$38^{1,2,3},$B56^{1,2,3})","v":17701.944949507713},{"$f":"TREND(BQ$33:BQ$38,$B$33:$B$38^{1,2,3},$B56^{1,2,3})","v":32688.582448601723},{"$f":"TREND(BR$33:BR$38,$B$33:$B$38^{1,2,3},$B56^{1,2,3})","v":12331.918222218752},{"$f":"TREND(BS$33:BS$38,$B$33:$B$38^{1,2,3},$B56^{1,2,3})","v":56870.550693184137},{"$f":"TREND(BT$33:BT$38,$B$33:$B$38^{1,2,3},$B56^{1,2,3})","v":5671563.2862548828}]
[null,2035,{"$f":"TREND(C$33:C$38,$B$33:$B$38^{1,2,3},$B57^{1,2,3})","v":70314.544356137514},{"$f":"TREND(D$33:D$38,$B$33:$B$38^{1,2,3},$B57^{1,2,3})","v":107465.58296966553},{"$f":"TREND(E$33:E$38,$B$33:$B$38^{1,2,3},$B57^{1,2,3})","v":26277.257648572326},{"$f":"TREND(F$33:F$38,$B$33:$B$38^{1,2,3},$B57^{1,2,3})","v":516356.05063056946},{"$f":"TREND(G$33:G$38,$B$33:$B$38^{1,2,3},$B57^{1,2,3})","v":332738.1511259079},{"$f":"TREND(H$33:H$38,$B$33:$B$38^{1,2,3},$B57^{1,2,3})","v":443808.3863067627},{"$f":"TREND(I$33:I$38,$B$33:$B$38^{1,2,3},$B57^{1,2,3})","v":806479.89613723755},{"$f":"TREND(J$33:J$38,$B$33:$B$38^{1,2,3},$B57^{1,2,3})","v":31044.888538599014},{"$f":"TREND(K$33:K$38,$B$33:$B$38^{1,2,3},$B57^{1,2,3})","v":21357.207920789719},{"$f":"TREND(L$33:L$38,$B$33:$B$38^{1,2,3},$B57^{1,2,3})","v":98101.860384702682},{"$f":"TREND(M$33:M$38,$B$33:$B$38^{1,2,3},$B57^{1,2,3})","v":37325.499591838568},{"$f":"TREND(N$33:N$38,$B$33:$B$38^{1,2,3},$B57^{1,2,3})","v":208396.56729507446},{"$f":"TREND(O$33:O$38,$B$33:$B$38^{1,2,3},$B57^{1,2,3})","v":64424.470359683037},{"$f":"TREND(P$33:P$38,$B$33:$B$38^{1,2,3},$B57^{1,2,3})","v":11196.621358633041},{"$f":"TREND(Q$33:Q$38,$B$33:$B$38^{1,2,3},$B57^{1,2,3})","v":23819.041904747486},{"$f":"TREND(R$33:R$38,$B$33:$B$38^{1,2,3},$B57^{1,2,3})","v":9125.955826215446},{"$f":"TREND(S$33:S$38,$B$33:$B$38^{1,2,3},$B57^{1,2,3})","v":40538.320839703083},{"$f":"TREND(T$33:T$38,$B$33:$B$38^{1,2,3},$B57^{1,2,3})","v":60523.184992790222},{"$f":"TREND(U$33:U$38,$B$33:$B$38^{1,2,3},$B57^{1,2,3})","v":176010.1303319931},{"$f":"TREND(V$33:V$38,$B$33:$B$38^{1,2,3},$B57^{1,2,3})","v":77037.431807994843},{"$f":"TREND(W$33:W$38,$B$33:$B$38^{1,2,3},$B57^{1,2,3})","v":37444.825698316097},{"$f":"TREND(X$33:X$38,$B$33:$B$38^{1,2,3},$B57^{1,2,3})","v":6405.1526760756969},{"$f":"TREND(Y$33:Y$38,$B$33:$B$38^{1,2,3},$B57^{1,2,3})","v":8337.9051731675863},{"$f":"TREND(Z$33:Z$38,$B$33:$B$38^{1,2,3},$B57^{1,2,3})","v":51326.98497787118},{"$f":"TREND(AA$33:AA$38,$B$33:$B$38^{1,2,3},$B57^{1,2,3})","v":7588.2670411318541},{"$f":"TREND(AB$33:AB$38,$B$33:$B$38^{1,2,3},$B57^{1,2,3})","v":90613.471666574478},{"$f":"TREND(AC$33:AC$38,$B$33:$B$38^{1,2,3},$B57^{1,2,3})","v":67409.123717427254},{"$f":"TREND(AD$33:AD$38,$B$33:$B$38^{1,2,3},$B57^{1,2,3})","v":14175.115351498127},{"$f":"TREND(AE$33:AE$38,$B$33:$B$38^{1,2,3},$B57^{1,2,3})","v":92810.235897362232},{"$f":"TREND(AF$33:AF$38,$B$33:$B$38^{1,2,3},$B57^{1,2,3})","v":9841.385276209563},{"$f":"TREND(AG$33:AG$38,$B$33:$B$38^{1,2,3},$B57^{1,2,3})","v":28352.030653655529},{"$f":"TREND(AH$33:AH$38,$B$33:$B$38^{1,2,3},$B57^{1,2,3})","v":10558.044671207666},{"$f":"TREND(AI$33:AI$38,$B$33:$B$38^{1,2,3},$B57^{1,2,3})","v":46381.048739507794},{"$f":"TREND(AJ$33:AJ$38,$B$33:$B$38^{1,2,3},$B57^{1,2,3})","v":14756.460105001926},{"$f":"TREND(AK$33:AK$38,$B$33:$B$38^{1,2,3},$B57^{1,2,3})","v":34502.099767446518},{"$f":"TREND(AL$33:AL$38,$B$33:$B$38^{1,2,3},$B57^{1,2,3})","v":97678.030169606209},{"$f":"TREND(AM$33:AM$38,$B$33:$B$38^{1,2,3},$B57^{1,2,3})","v":17286.058530718088},{"$f":"TREND(AN$33:AN$38,$B$33:$B$38^{1,2,3},$B57^{1,2,3})","v":34568.285714387894},{"$f":"TREND(AO$33:AO$38,$B$33:$B$38^{1,2,3},$B57^{1,2,3})","v":60211.393704593182},{"$f":"TREND(AP$33:AP$38,$B$33:$B$38^{1,2,3},$B57^{1,2,3})","v":62923.475551009178},{"$f":"TREND(AQ$33:AQ$38,$B$33:$B$38^{1,2,3},$B57^{1,2,3})","v":49546.035198606551},{"$f":"TREND(AR$33:AR$38,$B$33:$B$38^{1,2,3},$B57^{1,2,3})","v":111717.73115634918},{"$f":"TREND(AS$33:AS$38,$B$33:$B$38^{1,2,3},$B57^{1,2,3})","v":238871.32115936279},{"$f":"TREND(AT$33:AT$38,$B$33:$B$38^{1,2,3},$B57^{1,2,3})","v":27326.162285804749},{"$f":"TREND(AU$33:AU$38,$B$33:$B$38^{1,2,3},$B57^{1,2,3})","v":10165.763105995953},{"$f":"TREND(AV$33:AV$38,$B$33:$B$38^{1,2,3},$B57^{1,2,3})","v":11508.100998811424},{"$f":"TREND(AW$33:AW$38,$B$33:$B$38^{1,2,3},$B57^{1,2,3})","v":58472.942355751991},{"$f":"TREND(AX$33:AX$38,$B$33:$B$38^{1,2,3},$B57^{1,2,3})","v":57891.342415839434},{"$f":"TREND(AY$33:AY$38,$B$33:$B$38^{1,2,3},$B57^{1,2,3})","v":50379.49461710453},{"$f":"TREND(AZ$33:AZ$38,$B$33:$B$38^{1,2,3},$B57^{1,2,3})","v":4002.5921162515879},{"$f":"TREND(BA$33:BA$38,$B$33:$B$38^{1,2,3},$B57^{1,2,3})","v":9511.1897218823433},{"$f":"TREND(BB$33:BB$38,$B$33:$B$38^{1,2,3},$B57^{1,2,3})","v":13284.782037814148},{"$f":"TREND(BC$33:BC$38,$B$33:$B$38^{1,2,3},$B57^{1,2,3})","v":8751.8893021047115},{"$f":"TREND(BD$33:BD$38,$B$33:$B$38^{1,2,3},$B57^{1,2,3})","v":14285.695238102227},{"$f":"TREND(BE$33:BE$38,$B$33:$B$38^{1,2,3},$B57^{1,2,3})","v":77848.728031635284},{"$f":"TREND(BF$33:BF$38,$B$33:$B$38^{1,2,3},$B57^{1,2,3})","v":438300.9405002594},{"$f":"TREND(BG$33:BG$38,$B$33:$B$38^{1,2,3},$B57^{1,2,3})","v":90847.357487678528},{"$f":"TREND(BH$33:BH$38,$B$33:$B$38^{1,2,3},$B57^{1,2,3})","v":39603.633868694305},{"$f":"TREND(BI$33:BI$38,$B$33:$B$38^{1,2,3},$B57^{1,2,3})","v":50324.18902951479},{"$f":"TREND(BJ$33:BJ$38,$B$33:$B$38^{1,2,3},$B57^{1,2,3})","v":5396.5638583302498},{"$f":"TREND(BK$33:BK$38,$B$33:$B$38^{1,2,3},$B57^{1,2,3})","v":8531.4383416175842},{"$f":"TREND(BL$33:BL$38,$B$33:$B$38^{1,2,3},$B57^{1,2,3})","v":24379.076916456223},{"$f":"TREND(BM$33:BM$38,$B$33:$B$38^{1,2,3},$B57^{1,2,3})","v":24987.515539944172},{"$f":"TREND(BN$33:BN$38,$B$33:$B$38^{1,2,3},$B57^{1,2,3})","v":58097.093126296997},{"$f":"TREND(BO$33:BO$38,$B$33:$B$38^{1,2,3},$B57^{1,2,3})","v":138025.40273118019},{"$f":"TREND(BP$33:BP$38,$B$33:$B$38^{1,2,3},$B57^{1,2,3})","v":17644.861498832703},{"$f":"TREND(BQ$33:BQ$38,$B$33:$B$38^{1,2,3},$B57^{1,2,3})","v":32685.067030608654},{"$f":"TREND(BR$33:BR$38,$B$33:$B$38^{1,2,3},$B57^{1,2,3})","v":12278.979047656059},{"$f":"TREND(BS$33:BS$38,$B$33:$B$38^{1,2,3},$B57^{1,2,3})","v":56828.364556998014},{"$f":"TREND(BT$33:BT$38,$B$33:$B$38^{1,2,3},$B57^{1,2,3})","v":5707341.2677764893}]
[null,2036,{"$f":"TREND(C$33:C$38,$B$33:$B$38^{1,2,3},$B58^{1,2,3})","v":70265.340116530657},{"$f":"TREND(D$33:D$38,$B$33:$B$38^{1,2,3},$B58^{1,2,3})","v":108003.73249197006},{"$f":"TREND(E$33:E$38,$B$33:$B$38^{1,2,3},$B58^{1,2,3})","v":26335.277539029717},{"$f":"TREND(F$33:F$38,$B$33:$B$38^{1,2,3},$B58^{1,2,3})","v":522263.73960494995},{"$f":"TREND(G$33:G$38,$B$33:$B$38^{1,2,3},$B58^{1,2,3})","v":336420.22799539566},{"$f":"TREND(H$33:H$38,$B$33:$B$38^{1,2,3},$B58^{1,2,3})","v":447927.19036865234},{"$f":"TREND(I$33:I$38,$B$33:$B$38^{1,2,3},$B58^{1,2,3})","v":814090.35805511475},{"$f":"TREND(J$33:J$38,$B$33:$B$38^{1,2,3},$B58^{1,2,3})","v":30959.096573650837},{"$f":"TREND(K$33:K$38,$B$33:$B$38^{1,2,3},$B58^{1,2,3})","v":21313.550212204456},{"$f":"TREND(L$33:L$38,$B$33:$B$38^{1,2,3},$B58^{1,2,3})","v":99088.775548458099},{"$f":"TREND(M$33:M$38,$B$33:$B$38^{1,2,3},$B58^{1,2,3})","v":37358.638367347419},{"$f":"TREND(N$33:N$38,$B$33:$B$38^{1,2,3},$B58^{1,2,3})","v":210437.20457077026},{"$f":"TREND(O$33:O$38,$B$33:$B$38^{1,2,3},$B58^{1,2,3})","v":64827.457078039646},{"$f":"TREND(P$33:P$38,$B$33:$B$38^{1,2,3},$B58^{1,2,3})","v":11177.003236055374},{"$f":"TREND(Q$33:Q$38,$B$33:$B$38^{1,2,3},$B58^{1,2,3})","v":23674.237460255623},{"$f":"TREND(R$33:R$38,$B$33:$B$38^{1,2,3},$B58^{1,2,3})","v":9067.7481993958354},{"$f":"TREND(S$33:S$38,$B$33:$B$38^{1,2,3},$B58^{1,2,3})","v":40556.234033107758},{"$f":"TREND(T$33:T$38,$B$33:$B$38^{1,2,3},$B58^{1,2,3})","v":60820.348244488239},{"$f":"TREND(U$33:U$38,$B$33:$B$38^{1,2,3},$B58^{1,2,3})","v":177692.64897632599},{"$f":"TREND(V$33:V$38,$B$33:$B$38^{1,2,3},$B58^{1,2,3})","v":76927.274032115936},{"$f":"TREND(W$33:W$38,$B$33:$B$38^{1,2,3},$B58^{1,2,3})","v":37356.137057781219},{"$f":"TREND(X$33:X$38,$B$33:$B$38^{1,2,3},$B58^{1,2,3})","v":6318.2536822855473},{"$f":"TREND(Y$33:Y$38,$B$33:$B$38^{1,2,3},$B58^{1,2,3})","v":8223.9931313097477},{"$f":"TREND(Z$33:Z$38,$B$33:$B$38^{1,2,3},$B58^{1,2,3})","v":51318.632105976343},{"$f":"TREND(AA$33:AA$38,$B$33:$B$38^{1,2,3},$B58^{1,2,3})","v":7496.3637299537659},{"$f":"TREND(AB$33:AB$38,$B$33:$B$38^{1,2,3},$B58^{1,2,3})","v":90788.383888721466},{"$f":"TREND(AC$33:AC$38,$B$33:$B$38^{1,2,3},$B58^{1,2,3})","v":67474.907261610031},{"$f":"TREND(AD$33:AD$38,$B$33:$B$38^{1,2,3},$B58^{1,2,3})","v":14095.296315252781},{"$f":"TREND(AE$33:AE$38,$B$33:$B$38^{1,2,3},$B58^{1,2,3})","v":93224.202849000692},{"$f":"TREND(AF$33:AF$38,$B$33:$B$38^{1,2,3},$B58^{1,2,3})","v":9836.567697647959},{"$f":"TREND(AG$33:AG$38,$B$33:$B$38^{1,2,3},$B58^{1,2,3})","v":28299.201410919428},{"$f":"TREND(AH$33:AH$38,$B$33:$B$38^{1,2,3},$B58^{1,2,3})","v":10388.069085434079},{"$f":"TREND(AI$33:AI$38,$B$33:$B$38^{1,2,3},$B58^{1,2,3})","v":46248.900840342045},{"$f":"TREND(AJ$33:AJ$38,$B$33:$B$38^{1,2,3},$B58^{1,2,3})","v":14671.832457363605},{"$f":"TREND(AK$33:AK$38,$B$33:$B$38^{1,2,3},$B58^{1,2,3})","v":34631.169350385666},{"$f":"TREND(AL$33:AL$38,$B$33:$B$38^{1,2,3},$B58^{1,2,3})","v":98107.729503691196},{"$f":"TREND(AM$33:AM$38,$B$33:$B$38^{1,2,3},$B58^{1,2,3})","v":17171.529632598162},{"$f":"TREND(AN$33:AN$38,$B$33:$B$38^{1,2,3},$B58^{1,2,3})","v":34487.292516946793},{"$f":"TREND(AO$33:AO$38,$B$33:$B$38^{1,2,3},$B58^{1,2,3})","v":60434.292601585388},{"$f":"TREND(AP$33:AP$38,$B$33:$B$38^{1,2,3},$B58^{1,2,3})","v":62990.77662229538},{"$f":"TREND(AQ$33:AQ$38,$B$33:$B$38^{1,2,3},$B58^{1,2,3})","v":49684.065013550222},{"$f":"TREND(AR$33:AR$38,$B$33:$B$38^{1,2,3},$B58^{1,2,3})","v":111636.99120163918},{"$f":"TREND(AS$33:AS$38,$B$33:$B$38^{1,2,3},$B58^{1,2,3})","v":240160.72753238678},{"$f":"TREND(AT$33:AT$38,$B$33:$B$38^{1,2,3},$B58^{1,2,3})","v":27309.836190462112},{"$f":"TREND(AU$33:AU$38,$B$33:$B$38^{1,2,3},$B58^{1,2,3})","v":10179.964945651591},{"$f":"TREND(AV$33:AV$38,$B$33:$B$38^{1,2,3},$B58^{1,2,3})","v":11521.290716219693},{"$f":"TREND(AW$33:AW$38,$B$33:$B$38^{1,2,3},$B58^{1,2,3})","v":58581.226399302483},{"$f":"TREND(AX$33:AX$38,$B$33:$B$38^{1,2,3},$B58^{1,2,3})","v":58074.334178984165},{"$f":"TREND(AY$33:AY$38,$B$33:$B$38^{1,2,3},$B58^{1,2,3})","v":50360.370876431465},{"$f":"TREND(AZ$33:AZ$38,$B$33:$B$38^{1,2,3},$B58^{1,2,3})","v":3989.5163911134005},{"$f":"TREND(BA$33:BA$38,$B$33:$B$38^{1,2,3},$B58^{1,2,3})","v":9485.709445297718},{"$f":"TREND(BB$33:BB$38,$B$33:$B$38^{1,2,3},$B58^{1,2,3})","v":13227.731092436239},{"$f":"TREND(BC$33:BC$38,$B$33:$B$38^{1,2,3},$B58^{1,2,3})","v":8724.092579305172},{"$f":"TREND(BD$33:BD$38,$B$33:$B$38^{1,2,3},$B58^{1,2,3})","v":14331.66984128207},{"$f":"TREND(BE$33:BE$38,$B$33:$B$38^{1,2,3},$B58^{1,2,3})","v":78604.651121616364},{"$f":"TREND(BF$33:BF$38,$B$33:$B$38^{1,2,3},$B58^{1,2,3})","v":440508.01077270508},{"$f":"TREND(BG$33:BG$38,$B$33:$B$38^{1,2,3},$B58^{1,2,3})","v":92163.059927940369},{"$f":"TREND(BH$33:BH$38,$B$33:$B$38^{1,2,3},$B58^{1,2,3})","v":39871.937788844109},{"$f":"TREND(BI$33:BI$38,$B$33:$B$38^{1,2,3},$B58^{1,2,3})","v":50378.837693363428},{"$f":"TREND(BJ$33:BJ$38,$B$33:$B$38^{1,2,3},$B58^{1,2,3})","v":5406.8358160257339},{"$f":"TREND(BK$33:BK$38,$B$33:$B$38^{1,2,3},$B58^{1,2,3})","v":8545.4320839941502},{"$f":"TREND(BL$33:BL$38,$B$33:$B$38^{1,2,3},$B58^{1,2,3})","v":24435.75559823215},{"$f":"TREND(BM$33:BM$38,$B$33:$B$38^{1,2,3},$B58^{1,2,3})","v":25089.908850133419},{"$f":"TREND(BN$33:BN$38,$B$33:$B$38^{1,2,3},$B58^{1,2,3})","v":58760.169920921326},{"$f":"TREND(BO$33:BO$38,$B$33:$B$38^{1,2,3},$B58^{1,2,3})","v":138187.96997666359},{"$f":"TREND(BP$33:BP$38,$B$33:$B$38^{1,2,3},$B58^{1,2,3})","v":17581.273015975952},{"$f":"TREND(BQ$33:BQ$38,$B$33:$B$38^{1,2,3},$B58^{1,2,3})","v":32676.617126584053},{"$f":"TREND(BR$33:BR$38,$B$33:$B$38^{1,2,3},$B58^{1,2,3})","v":12222.5290158391},{"$f":"TREND(BS$33:BS$38,$B$33:$B$38^{1,2,3},$B58^{1,2,3})","v":56774.799138784409},{"$f":"TREND(BT$33:BT$38,$B$33:$B$38^{1,2,3},$B58^{1,2,3})","v":5742160.5157012939}]
[null,2037,{"$f":"TREND(C$33:C$38,$B$33:$B$38^{1,2,3},$B59^{1,2,3})","v":70193.908638060093},{"$f":"TREND(D$33:D$38,$B$33:$B$38^{1,2,3},$B59^{1,2,3})","v":108526.72788858414},{"$f":"TREND(E$33:E$38,$B$33:$B$38^{1,2,3},$B59^{1,2,3})","v":26382.298019394279},{"$f":"TREND(F$33:F$38,$B$33:$B$38^{1,2,3},$B59^{1,2,3})","v":528103.72513580322},{"$f":"TREND(G$33:G$38,$B$33:$B$38^{1,2,3},$B59^{1,2,3})","v":340070.52562379837},{"$f":"TREND(H$33:H$38,$B$33:$B$38^{1,2,3},$B59^{1,2,3})","v":452004.55073928833},{"$f":"TREND(I$33:I$38,$B$33:$B$38^{1,2,3},$B59^{1,2,3})","v":821567.29300308228},{"$f":"TREND(J$33:J$38,$B$33:$B$38^{1,2,3},$B59^{1,2,3})","v":30862.026097476482},{"$f":"TREND(K$33:K$38,$B$33:$B$38^{1,2,3},$B59^{1,2,3})","v":21262.214993000031},{"$f":"TREND(L$33:L$38,$B$33:$B$38^{1,2,3},$B59^{1,2,3})","v":100064.80979323387},{"$f":"TREND(M$33:M$38,$B$33:$B$38^{1,2,3},$B59^{1,2,3})","v":37382.267755102366},{"$f":"TREND(N$33:N$38,$B$33:$B$38^{1,2,3},$B59^{1,2,3})","v":212469.25646495819},{"$f":"TREND(O$33:O$38,$B$33:$B$38^{1,2,3},$B59^{1,2,3})","v":65215.717524886131},{"$f":"TREND(P$33:P$38,$B$33:$B$38^{1,2,3},$B59^{1,2,3})","v":11156.595468759537},{"$f":"TREND(Q$33:Q$38,$B$33:$B$38^{1,2,3},$B59^{1,2,3})","v":23520.595555514097},{"$f":"TREND(R$33:R$38,$B$33:$B$38^{1,2,3},$B59^{1,2,3})","v":9006.5692661106586},{"$f":"TREND(S$33:S$38,$B$33:$B$38^{1,2,3},$B59^{1,2,3})","v":40565.800034105778},{"$f":"TREND(T$33:T$38,$B$33:$B$38^{1,2,3},$B59^{1,2,3})","v":61102.476960122585},{"$f":"TREND(U$33:U$38,$B$33:$B$38^{1,2,3},$B59^{1,2,3})","v":179365.18049812317},{"$f":"TREND(V$33:V$38,$B$33:$B$38^{1,2,3},$B59^{1,2,3})","v":76796.822990655899},{"$f":"TREND(W$33:W$38,$B$33:$B$38^{1,2,3},$B59^{1,2,3})","v":37254.400744885206},{"$f":"TREND(X$33:X$38,$B$33:$B$38^{1,2,3},$B59^{1,2,3})","v":6228.9746624827385},{"$f":"TREND(Y$33:Y$38,$B$33:$B$38^{1,2,3},$B59^{1,2,3})","v":8106.4251876026392},{"$f":"TREND(Z$33:Z$38,$B$33:$B$38^{1,2,3},$B59^{1,2,3})","v":51297.947569936514},{"$f":"TREND(AA$33:AA$38,$B$33:$B$38^{1,2,3},$B59^{1,2,3})","v":7401.1752428114414},{"$f":"TREND(AB$33:AB$38,$B$33:$B$38^{1,2,3},$B59^{1,2,3})","v":90941.045555472374},{"$f":"TREND(AC$33:AC$38,$B$33:$B$38^{1,2,3},$B59^{1,2,3})","v":67528.114346981049},{"$f":"TREND(AD$33:AD$38,$B$33:$B$38^{1,2,3},$B59^{1,2,3})","v":14011.179072797298},{"$f":"TREND(AE$33:AE$38,$B$33:$B$38^{1,2,3},$B59^{1,2,3})","v":93622.787464410067},{"$f":"TREND(AF$33:AF$38,$B$33:$B$38^{1,2,3},$B59^{1,2,3})","v":9830.2276010848582},{"$f":"TREND(AG$33:AG$38,$B$33:$B$38^{1,2,3},$B59^{1,2,3})","v":28241.277942687273},{"$f":"TREND(AH$33:AH$38,$B$33:$B$38^{1,2,3},$B59^{1,2,3})","v":10213.979062765837},{"$f":"TREND(AI$33:AI$38,$B$33:$B$38^{1,2,3},$B59^{1,2,3})","v":46105.062184840441},{"$f":"TREND(AJ$33:AJ$38,$B$33:$B$38^{1,2,3},$B59^{1,2,3})","v":14583.743589699268},{"$f":"TREND(AK$33:AK$38,$B$33:$B$38^{1,2,3},$B59^{1,2,3})","v":34750.648922145367},{"$f":"TREND(AL$33:AL$38,$B$33:$B$38^{1,2,3},$B59^{1,2,3})","v":98525.841111660004},{"$f":"TREND(AM$33:AM$38,$B$33:$B$38^{1,2,3},$B59^{1,2,3})","v":17050.698448866606},{"$f":"TREND(AN$33:AN$38,$B$33:$B$38^{1,2,3},$B59^{1,2,3})","v":34399.210884332657},{"$f":"TREND(AO$33:AO$38,$B$33:$B$38^{1,2,3},$B59^{1,2,3})","v":60648.261285990477},{"$f":"TREND(AP$33:AP$38,$B$33:$B$38^{1,2,3},$B59^{1,2,3})","v":63039.85500022769},{"$f":"TREND(AQ$33:AQ$38,$B$33:$B$38^{1,2,3},$B59^{1,2,3})","v":49810.033326022327},{"$f":"TREND(AR$33:AR$38,$B$33:$B$38^{1,2,3},$B59^{1,2,3})","v":111529.81950104237},{"$f":"TREND(AS$33:AS$38,$B$33:$B$38^{1,2,3},$B59^{1,2,3})","v":241424.10884332657},{"$f":"TREND(AT$33:AT$38,$B$33:$B$38^{1,2,3},$B59^{1,2,3})","v":27287.107047617435},{"$f":"TREND(AU$33:AU$38,$B$33:$B$38^{1,2,3},$B59^{1,2,3})","v":10191.624394401908},{"$f":"TREND(AV$33:AV$38,$B$33:$B$38^{1,2,3},$B59^{1,2,3})","v":11531.843840479851},{"$f":"TREND(AW$33:AW$38,$B$33:$B$38^{1,2,3},$B59^{1,2,3})","v":58669.086048483849},{"$f":"TREND(AX$33:AX$38,$B$33:$B$38^{1,2,3},$B59^{1,2,3})","v":58244.555469661951},{"$f":"TREND(AY$33:AY$38,$B$33:$B$38^{1,2,3},$B59^{1,2,3})","v":50331.130710959435},{"$f":"TREND(AZ$33:AZ$38,$B$33:$B$38^{1,2,3},$B59^{1,2,3})","v":3975.76496514678},{"$f":"TREND(BA$33:BA$38,$B$33:$B$38^{1,2,3},$B59^{1,2,3})","v":9458.9226465523243},{"$f":"TREND(BB$33:BB$38,$B$33:$B$38^{1,2,3},$B59^{1,2,3})","v":13167.358193274587},{"$f":"TREND(BC$33:BC$38,$B$33:$B$38^{1,2,3},$B59^{1,2,3})","v":8694.3238151967525},{"$f":"TREND(BD$33:BD$38,$B$33:$B$38^{1,2,3},$B59^{1,2,3})","v":14373.879365086555},{"$f":"TREND(BE$33:BE$38,$B$33:$B$38^{1,2,3},$B59^{1,2,3})","v":79348.476222038269},{"$f":"TREND(BF$33:BF$38,$B$33:$B$38^{1,2,3},$B59^{1,2,3})","v":442668.45284843445},{"$f":"TREND(BG$33:BG$38,$B$33:$B$38^{1,2,3},$B59^{1,2,3})","v":93482.917767524719},{"$f":"TREND(BH$33:BH$38,$B$33:$B$38^{1,2,3},$B59^{1,2,3})","v":40140.115090847015},{"$f":"TREND(BI$33:BI$38,$B$33:$B$38^{1,2,3},$B59^{1,2,3})","v":50420.842756658792},{"$f":"TREND(BJ$33:BJ$38,$B$33:$B$38^{1,2,3},$B59^{1,2,3})","v":5416.9776963293552},{"$f":"TREND(BK$33:BK$38,$B$33:$B$38^{1,2,3},$B59^{1,2,3})","v":8558.5864455252886},{"$f":"TREND(BL$33:BL$38,$B$33:$B$38^{1,2,3},$B59^{1,2,3})","v":24489.311182275414},{"$f":"TREND(BM$33:BM$38,$B$33:$B$38^{1,2,3},$B59^{1,2,3})","v":25183.597491562366},{"$f":"TREND(BN$33:BN$38,$B$33:$B$38^{1,2,3},$B59^{1,2,3})","v":59426.050811767578},{"$f":"TREND(BO$33:BO$38,$B$33:$B$38^{1,2,3},$B59^{1,2,3})","v":138331.32619690895},{"$f":"TREND(BP$33:BP$38,$B$33:$B$38^{1,2,3},$B59^{1,2,3})","v":17510.792063474655},{"$f":"TREND(BQ$33:BQ$38,$B$33:$B$38^{1,2,3},$B59^{1,2,3})","v":32663.458497583866},{"$f":"TREND(BR$33:BR$38,$B$33:$B$38^{1,2,3},$B59^{1,2,3})","v":12162.454349219799},{"$f":"TREND(BS$33:BS$38,$B$33:$B$38^{1,2,3},$B59^{1,2,3})","v":56709.989218980074},{"$f":"TREND(BT$33:BT$38,$B$33:$B$38^{1,2,3},$B59^{1,2,3})","v":5776104.5253143311}]
[null,2038,{"$f":"TREND(C$33:C$38,$B$33:$B$38^{1,2,3},$B60^{1,2,3})","v":70100.105988353491},{"$f":"TREND(D$33:D$38,$B$33:$B$38^{1,2,3},$B60^{1,2,3})","v":109036.50793600082},{"$f":"TREND(E$33:E$38,$B$33:$B$38^{1,2,3},$B60^{1,2,3})","v":26418.225874468684},{"$f":"TREND(F$33:F$38,$B$33:$B$38^{1,2,3},$B60^{1,2,3})","v":533883.90596580505},{"$f":"TREND(G$33:G$38,$B$33:$B$38^{1,2,3},$B60^{1,2,3})","v":343691.49193191528},{"$f":"TREND(H$33:H$38,$B$33:$B$38^{1,2,3},$B60^{1,2,3})","v":456056.99578475952},{"$f":"TREND(I$33:I$38,$B$33:$B$38^{1,2,3},$B60^{1,2,3})","v":828924.8018951416},{"$f":"TREND(J$33:J$38,$B$33:$B$38^{1,2,3},$B60^{1,2,3})","v":30753.771209657192},{"$f":"TREND(K$33:K$38,$B$33:$B$38^{1,2,3},$B60^{1,2,3})","v":21203.429985761642},{"$f":"TREND(L$33:L$38,$B$33:$B$38^{1,2,3},$B60^{1,2,3})","v":101031.44207930565},{"$f":"TREND(M$33:M$38,$B$33:$B$38^{1,2,3},$B60^{1,2,3})","v":37396.387755099684},{"$f":"TREND(N$33:N$38,$B$33:$B$38^{1,2,3},$B60^{1,2,3})","v":214496.58734703064},{"$f":"TREND(O$33:O$38,$B$33:$B$38^{1,2,3},$B60^{1,2,3})","v":65589.569161117077},{"$f":"TREND(P$33:P$38,$B$33:$B$38^{1,2,3},$B60^{1,2,3})","v":11136.326860666275},{"$f":"TREND(Q$33:Q$38,$B$33:$B$38^{1,2,3},$B60^{1,2,3})","v":23358.253968149424},{"$f":"TREND(R$33:R$38,$B$33:$B$38^{1,2,3},$B60^{1,2,3})","v":8942.4538584724069},{"$f":"TREND(S$33:S$38,$B$33:$B$38^{1,2,3},$B60^{1,2,3})","v":40567.387779414654},{"$f":"TREND(T$33:T$38,$B$33:$B$38^{1,2,3},$B60^{1,2,3})","v":61369.331409454346},{"$f":"TREND(U$33:U$38,$B$33:$B$38^{1,2,3},$B60^{1,2,3})","v":181031.66348171234},{"$f":"TREND(V$33:V$38,$B$33:$B$38^{1,2,3},$B60^{1,2,3})","v":76647.097315788269},{"$f":"TREND(W$33:W$38,$B$33:$B$38^{1,2,3},$B60^{1,2,3})","v":37139.47858479619},{"$f":"TREND(X$33:X$38,$B$33:$B$38^{1,2,3},$B60^{1,2,3})","v":6137.378631696105},{"$f":"TREND(Y$33:Y$38,$B$33:$B$38^{1,2,3},$B60^{1,2,3})","v":7985.2501803934574},{"$f":"TREND(Z$33:Z$38,$B$33:$B$38^{1,2,3},$B60^{1,2,3})","v":51265.022091299295},{"$f":"TREND(AA$33:AA$38,$B$33:$B$38^{1,2,3},$B60^{1,2,3})","v":7302.6301626563072},{"$f":"TREND(AB$33:AB$38,$B$33:$B$38^{1,2,3},$B60^{1,2,3})","v":91070.986111164093},{"$f":"TREND(AC$33:AC$38,$B$33:$B$38^{1,2,3},$B60^{1,2,3})","v":67568.92876303196},{"$f":"TREND(AD$33:AD$38,$B$33:$B$38^{1,2,3},$B60^{1,2,3})","v":13922.998682022095},{"$f":"TREND(AE$33:AE$38,$B$33:$B$38^{1,2,3},$B60^{1,2,3})","v":94006.125356078148},{"$f":"TREND(AF$33:AF$38,$B$33:$B$38^{1,2,3},$B60^{1,2,3})","v":9822.3465636596084},{"$f":"TREND(AG$33:AG$38,$B$33:$B$38^{1,2,3},$B60^{1,2,3})","v":28178.440575748682},{"$f":"TREND(AH$33:AH$38,$B$33:$B$38^{1,2,3},$B60^{1,2,3})","v":10035.846560910344},{"$f":"TREND(AI$33:AI$38,$B$33:$B$38^{1,2,3},$B60^{1,2,3})","v":45949.579831928015},{"$f":"TREND(AJ$33:AJ$38,$B$33:$B$38^{1,2,3},$B60^{1,2,3})","v":14492.423156559467},{"$f":"TREND(AK$33:AK$38,$B$33:$B$38^{1,2,3},$B60^{1,2,3})","v":34860.268341958523},{"$f":"TREND(AL$33:AL$38,$B$33:$B$38^{1,2,3},$B60^{1,2,3})","v":98932.676456868649},{"$f":"TREND(AM$33:AM$38,$B$33:$B$38^{1,2,3},$B60^{1,2,3})","v":16923.377551078796},{"$f":"TREND(AN$33:AN$38,$B$33:$B$38^{1,2,3},$B60^{1,2,3})","v":34304.421768546104},{"$f":"TREND(AO$33:AO$38,$B$33:$B$38^{1,2,3},$B60^{1,2,3})","v":60853.161151409149},{"$f":"TREND(AP$33:AP$38,$B$33:$B$38^{1,2,3},$B60^{1,2,3})","v":63070.803185760975},{"$f":"TREND(AQ$33:AQ$38,$B$33:$B$38^{1,2,3},$B60^{1,2,3})","v":49923.893643513322},{"$f":"TREND(AR$33:AR$38,$B$33:$B$38^{1,2,3},$B60^{1,2,3})","v":111396.67573678493},{"$f":"TREND(AS$33:AS$38,$B$33:$B$38^{1,2,3},$B60^{1,2,3})","v":242663.22950124741},{"$f":"TREND(AT$33:AT$38,$B$33:$B$38^{1,2,3},$B60^{1,2,3})","v":27258.209523737431},{"$f":"TREND(AU$33:AU$38,$B$33:$B$38^{1,2,3},$B60^{1,2,3})","v":10200.769412502646},{"$f":"TREND(AV$33:AV$38,$B$33:$B$38^{1,2,3},$B60^{1,2,3})","v":11539.736740209162},{"$f":"TREND(AW$33:AW$38,$B$33:$B$38^{1,2,3},$B60^{1,2,3})","v":58736.006683349609},{"$f":"TREND(AX$33:AX$38,$B$33:$B$38^{1,2,3},$B60^{1,2,3})","v":58402.141937792301},{"$f":"TREND(AY$33:AY$38,$B$33:$B$38^{1,2,3},$B60^{1,2,3})","v":50292.244651675224},{"$f":"TREND(AZ$33:AZ$38,$B$33:$B$38^{1,2,3},$B60^{1,2,3})","v":3961.4017559736967},{"$f":"TREND(BA$33:BA$38,$B$33:$B$38^{1,2,3},$B60^{1,2,3})","v":9430.7209649682045},{"$f":"TREND(BB$33:BB$38,$B$33:$B$38^{1,2,3},$B60^{1,2,3})","v":13103.663340334781},{"$f":"TREND(BC$33:BC$38,$B$33:$B$38^{1,2,3},$B60^{1,2,3})","v":8662.6805667579174},{"$f":"TREND(BD$33:BD$38,$B$33:$B$38^{1,2,3},$B60^{1,2,3})","v":14412.301587313414},{"$f":"TREND(BE$33:BE$38,$B$33:$B$38^{1,2,3},$B60^{1,2,3})","v":80082.082258224487},{"$f":"TREND(BF$33:BF$38,$B$33:$B$38^{1,2,3},$B60^{1,2,3})","v":444792.22295761108},{"$f":"TREND(BG$33:BG$38,$B$33:$B$38^{1,2,3},$B60^{1,2,3})","v":94812.839450836182},{"$f":"TREND(BH$33:BH$38,$B$33:$B$38^{1,2,3},$B60^{1,2,3})","v":40408.608938336372},{"$f":"TREND(BI$33:BI$38,$B$33:$B$38^{1,2,3},$B60^{1,2,3})","v":50450.070323526859},{"$f":"TREND(BJ$33:BJ$38,$B$33:$B$38^{1,2,3},$B60^{1,2,3})","v":5427.0960520803928},{"$f":"TREND(BK$33:BK$38,$B$33:$B$38^{1,2,3},$B60^{1,2,3})","v":8570.9508015215397},{"$f":"TREND(BL$33:BL$38,$B$33:$B$38^{1,2,3},$B60^{1,2,3})","v":24539.789308831096},{"$f":"TREND(BM$33:BM$38,$B$33:$B$38^{1,2,3},$B60^{1,2,3})","v":25268.292683064938},{"$f":"TREND(BN$33:BN$38,$B$33:$B$38^{1,2,3},$B60^{1,2,3})","v":60099.568982124329},{"$f":"TREND(BO$33:BO$38,$B$33:$B$38^{1,2,3},$B60^{1,2,3})","v":138456.6014521122},{"$f":"TREND(BP$33:BP$38,$B$33:$B$38^{1,2,3},$B60^{1,2,3})","v":17433.031204819679},{"$f":"TREND(BQ$33:BQ$38,$B$33:$B$38^{1,2,3},$B60^{1,2,3})","v":32645.816904187202},{"$f":"TREND(BR$33:BR$38,$B$33:$B$38^{1,2,3},$B60^{1,2,3})","v":12098.64126983285},{"$f":"TREND(BS$33:BS$38,$B$33:$B$38^{1,2,3},$B60^{1,2,3})","v":56634.069577246904},{"$f":"TREND(BT$33:BT$38,$B$33:$B$38^{1,2,3},$B60^{1,2,3})","v":5809256.7914886475}]
[null,2039,{"$f":"TREND(C$33:C$38,$B$33:$B$38^{1,2,3},$B61^{1,2,3})","v":69983.788235247135},{"$f":"TREND(D$33:D$38,$B$33:$B$38^{1,2,3},$B61^{1,2,3})","v":109535.01141548157},{"$f":"TREND(E$33:E$38,$B$33:$B$38^{1,2,3},$B61^{1,2,3})","v":26442.967888772488},{"$f":"TREND(F$33:F$38,$B$33:$B$38^{1,2,3},$B61^{1,2,3})","v":539612.18083572388},{"$f":"TREND(G$33:G$38,$B$33:$B$38^{1,2,3},$B61^{1,2,3})","v":347285.57483577728},{"$f":"TREND(H$33:H$38,$B$33:$B$38^{1,2,3},$B61^{1,2,3})","v":460101.05393218994},{"$f":"TREND(I$33:I$38,$B$33:$B$38^{1,2,3},$B61^{1,2,3})","v":836176.98561859131},{"$f":"TREND(J$33:J$38,$B$33:$B$38^{1,2,3},$B61^{1,2,3})","v":30634.426009833813},{"$f":"TREND(K$33:K$38,$B$33:$B$38^{1,2,3},$B61^{1,2,3})","v":21137.42291367054},{"$f":"TREND(L$33:L$38,$B$33:$B$38^{1,2,3},$B61^{1,2,3})","v":101990.15136694908},{"$f":"TREND(M$33:M$38,$B$33:$B$38^{1,2,3},$B61^{1,2,3})","v":37400.998367346823},{"$f":"TREND(N$33:N$38,$B$33:$B$38^{1,2,3},$B61^{1,2,3})","v":216523.06159496307},{"$f":"TREND(O$33:O$38,$B$33:$B$38^{1,2,3},$B61^{1,2,3})","v":65949.329446017742},{"$f":"TREND(P$33:P$38,$B$33:$B$38^{1,2,3},$B61^{1,2,3})","v":11117.126213312149},{"$f":"TREND(Q$33:Q$38,$B$33:$B$38^{1,2,3},$B61^{1,2,3})","v":23187.35047608614},{"$f":"TREND(R$33:R$38,$B$33:$B$38^{1,2,3},$B61^{1,2,3})","v":8875.4368086233735},{"$f":"TREND(S$33:S$38,$B$33:$B$38^{1,2,3},$B61^{1,2,3})","v":40561.366205751896},{"$f":"TREND(T$33:T$38,$B$33:$B$38^{1,2,3},$B61^{1,2,3})","v":61620.671861469746},{"$f":"TREND(U$33:U$38,$B$33:$B$38^{1,2,3},$B61^{1,2,3})","v":182696.03650951385},{"$f":"TREND(V$33:V$38,$B$33:$B$38^{1,2,3},$B61^{1,2,3})","v":76479.115638971329},{"$f":"TREND(W$33:W$38,$B$33:$B$38^{1,2,3},$B61^{1,2,3})","v":37011.23240223527},{"$f":"TREND(X$33:X$38,$B$33:$B$38^{1,2,3},$B61^{1,2,3})","v":6043.528604760766},{"$f":"TREND(Y$33:Y$38,$B$33:$B$38^{1,2,3},$B61^{1,2,3})","v":7860.5169480890036},{"$f":"TREND(Z$33:Z$38,$B$33:$B$38^{1,2,3},$B61^{1,2,3})","v":51219.946391731501},{"$f":"TREND(AA$33:AA$38,$B$33:$B$38^{1,2,3},$B61^{1,2,3})","v":7200.6570726782084},{"$f":"TREND(AB$33:AB$38,$B$33:$B$38^{1,2,3},$B61^{1,2,3})","v":91177.734999775887},{"$f":"TREND(AC$33:AC$38,$B$33:$B$38^{1,2,3},$B61^{1,2,3})","v":67597.534299492836},{"$f":"TREND(AD$33:AD$38,$B$33:$B$38^{1,2,3},$B61^{1,2,3})","v":13830.990201056004},{"$f":"TREND(AE$33:AE$38,$B$33:$B$38^{1,2,3},$B61^{1,2,3})","v":94374.352136731148},{"$f":"TREND(AF$33:AF$38,$B$33:$B$38^{1,2,3},$B61^{1,2,3})","v":9812.9061625078321},{"$f":"TREND(AG$33:AG$38,$B$33:$B$38^{1,2,3},$B61^{1,2,3})","v":28110.869636446238},{"$f":"TREND(AH$33:AH$38,$B$33:$B$38^{1,2,3},$B61^{1,2,3})","v":9853.7435374706984},{"$f":"TREND(AI$33:AI$38,$B$33:$B$38^{1,2,3},$B61^{1,2,3})","v":45782.500840336084},{"$f":"TREND(AJ$33:AJ$38,$B$33:$B$38^{1,2,3},$B61^{1,2,3})","v":14398.100812256336},{"$f":"TREND(AK$33:AK$38,$B$33:$B$38^{1,2,3},$B61^{1,2,3})","v":34959.757468700409},{"$f":"TREND(AL$33:AL$38,$B$33:$B$38^{1,2,3},$B61^{1,2,3})","v":99328.547003805637},{"$f":"TREND(AM$33:AM$38,$B$33:$B$38^{1,2,3},$B61^{1,2,3})","v":16789.379510164261},{"$f":"TREND(AN$33:AN$38,$B$33:$B$38^{1,2,3},$B61^{1,2,3})","v":34203.306122422218},{"$f":"TREND(AO$33:AO$38,$B$33:$B$38^{1,2,3},$B61^{1,2,3})","v":61048.853591710329},{"$f":"TREND(AP$33:AP$38,$B$33:$B$38^{1,2,3},$B61^{1,2,3})","v":63083.713679879904},{"$f":"TREND(AQ$33:AQ$38,$B$33:$B$38^{1,2,3},$B61^{1,2,3})","v":50025.599473364651},{"$f":"TREND(AR$33:AR$38,$B$33:$B$38^{1,2,3},$B61^{1,2,3})","v":111238.01959180832},{"$f":"TREND(AS$33:AS$38,$B$33:$B$38^{1,2,3},$B61^{1,2,3})","v":243879.85391998291},{"$f":"TREND(AT$33:AT$38,$B$33:$B$38^{1,2,3},$B61^{1,2,3})","v":27223.378285765648},{"$f":"TREND(AU$33:AU$38,$B$33:$B$38^{1,2,3},$B61^{1,2,3})","v":10207.427960306406},{"$f":"TREND(AV$33:AV$38,$B$33:$B$38^{1,2,3},$B61^{1,2,3})","v":11544.945783954114},{"$f":"TREND(AW$33:AW$38,$B$33:$B$38^{1,2,3},$B61^{1,2,3})","v":58781.473683953285},{"$f":"TREND(AX$33:AX$38,$B$33:$B$38^{1,2,3},$B61^{1,2,3})","v":58547.229233294725},{"$f":"TREND(AY$33:AY$38,$B$33:$B$38^{1,2,3},$B61^{1,2,3})","v":50244.183229923248},{"$f":"TREND(AZ$33:AZ$38,$B$33:$B$38^{1,2,3},$B61^{1,2,3})","v":3946.4906812161207},{"$f":"TREND(BA$33:BA$38,$B$33:$B$38^{1,2,3},$B61^{1,2,3})","v":9400.9960395991802},{"$f":"TREND(BB$33:BB$38,$B$33:$B$38^{1,2,3},$B61^{1,2,3})","v":13036.646533612162},{"$f":"TREND(BC$33:BC$38,$B$33:$B$38^{1,2,3},$B61^{1,2,3})","v":8629.2603906393051},{"$f":"TREND(BD$33:BD$38,$B$33:$B$38^{1,2,3},$B61^{1,2,3})","v":14446.914285734296},{"$f":"TREND(BE$33:BE$38,$B$33:$B$38^{1,2,3},$B61^{1,2,3})","v":80807.348158359528},{"$f":"TREND(BF$33:BF$38,$B$33:$B$38^{1,2,3},$B61^{1,2,3})","v":446889.27735519409},{"$f":"TREND(BG$33:BG$38,$B$33:$B$38^{1,2,3},$B61^{1,2,3})","v":96158.733442306519},{"$f":"TREND(BH$33:BH$38,$B$33:$B$38^{1,2,3},$B61^{1,2,3})","v":40677.862494945526},{"$f":"TREND(BI$33:BI$38,$B$33:$B$38^{1,2,3},$B61^{1,2,3})","v":50466.386497914791},{"$f":"TREND(BJ$33:BJ$38,$B$33:$B$38^{1,2,3},$B61^{1,2,3})","v":5437.2974359095097},{"$f":"TREND(BK$33:BK$38,$B$33:$B$38^{1,2,3},$B61^{1,2,3})","v":8582.5745273530483},{"$f":"TREND(BL$33:BL$38,$B$33:$B$38^{1,2,3},$B61^{1,2,3})","v":24587.235618188977},{"$f":"TREND(BM$33:BM$38,$B$33:$B$38^{1,2,3},$B61^{1,2,3})","v":25343.705644726753},{"$f":"TREND(BN$33:BN$38,$B$33:$B$38^{1,2,3},$B61^{1,2,3})","v":60785.557628631592},{"$f":"TREND(BO$33:BO$38,$B$33:$B$38^{1,2,3},$B61^{1,2,3})","v":138564.92580246925},{"$f":"TREND(BP$33:BP$38,$B$33:$B$38^{1,2,3},$B61^{1,2,3})","v":17347.603003263474},{"$f":"TREND(BQ$33:BQ$38,$B$33:$B$38^{1,2,3},$B61^{1,2,3})","v":32623.918107271194},{"$f":"TREND(BR$33:BR$38,$B$33:$B$38^{1,2,3},$B61^{1,2,3})","v":12030.97600004077},{"$f":"TREND(BS$33:BS$38,$B$33:$B$38^{1,2,3},$B61^{1,2,3})","v":56547.174993425608},{"$f":"TREND(BT$33:BT$38,$B$33:$B$38^{1,2,3},$B61^{1,2,3})","v":5841700.8095703125}]
[null,2040,{"$f":"TREND(C$33:C$38,$B$33:$B$38^{1,2,3},$B62^{1,2,3})","v":69844.811446636915},{"$f":"TREND(D$33:D$38,$B$33:$B$38^{1,2,3},$B62^{1,2,3})","v":110024.17710494995},{"$f":"TREND(E$33:E$38,$B$33:$B$38^{1,2,3},$B62^{1,2,3})","v":26456.430847048759},{"$f":"TREND(F$33:F$38,$B$33:$B$38^{1,2,3},$B62^{1,2,3})","v":545296.44846534729},{"$f":"TREND(G$33:G$38,$B$33:$B$38^{1,2,3},$B62^{1,2,3})","v":350855.22226238251},{"$f":"TREND(H$33:H$38,$B$33:$B$38^{1,2,3},$B62^{1,2,3})","v":464153.25357818604},{"$f":"TREND(I$33:I$38,$B$33:$B$38^{1,2,3},$B62^{1,2,3})","v":843337.94510269165},{"$f":"TREND(J$33:J$38,$B$33:$B$38^{1,2,3},$B62^{1,2,3})","v":30504.084597766399},{"$f":"TREND(K$33:K$38,$B$33:$B$38^{1,2,3},$B62^{1,2,3})","v":21064.421499192715},{"$f":"TREND(L$33:L$38,$B$33:$B$38^{1,2,3},$B62^{1,2,3})","v":102942.41661524773},{"$f":"TREND(M$33:M$38,$B$33:$B$38^{1,2,3},$B62^{1,2,3})","v":37396.099591836333},{"$f":"TREND(N$33:N$38,$B$33:$B$38^{1,2,3},$B62^{1,2,3})","v":218552.54358386993},{"$f":"TREND(O$33:O$38,$B$33:$B$38^{1,2,3},$B62^{1,2,3})","v":66295.315840601921},{"$f":"TREND(P$33:P$38,$B$33:$B$38^{1,2,3},$B62^{1,2,3})","v":11099.922330141068},{"$f":"TREND(Q$33:Q$38,$B$33:$B$38^{1,2,3},$B62^{1,2,3})","v":23008.022857099771},{"$f":"TREND(R$33:R$38,$B$33:$B$38^{1,2,3},$B62^{1,2,3})","v":8805.5529487207532},{"$f":"TREND(S$33:S$38,$B$33:$B$38^{1,2,3},$B62^{1,2,3})","v":40548.104249715805},{"$f":"TREND(T$33:T$38,$B$33:$B$38^{1,2,3},$B62^{1,2,3})","v":61856.258585989475},{"$f":"TREND(U$33:U$38,$B$33:$B$38^{1,2,3},$B62^{1,2,3})","v":184362.23816490173},{"$f":"TREND(V$33:V$38,$B$33:$B$38^{1,2,3},$B62^{1,2,3})","v":76293.896590948105},{"$f":"TREND(W$33:W$38,$B$33:$B$38^{1,2,3},$B62^{1,2,3})","v":36869.524022340775},{"$f":"TREND(X$33:X$38,$B$33:$B$38^{1,2,3},$B62^{1,2,3})","v":5947.4875966906548},{"$f":"TREND(Y$33:Y$38,$B$33:$B$38^{1,2,3},$B62^{1,2,3})","v":7732.2743290215731},{"$f":"TREND(Z$33:Z$38,$B$33:$B$38^{1,2,3},$B62^{1,2,3})","v":51162.811192929745},{"$f":"TREND(AA$33:AA$38,$B$33:$B$38^{1,2,3},$B62^{1,2,3})","v":7095.1845560222864},{"$f":"TREND(AB$33:AB$38,$B$33:$B$38^{1,2,3},$B62^{1,2,3})","v":91260.82166659832},{"$f":"TREND(AC$33:AC$38,$B$33:$B$38^{1,2,3},$B62^{1,2,3})","v":67614.114745736122},{"$f":"TREND(AD$33:AD$38,$B$33:$B$38^{1,2,3},$B62^{1,2,3})","v":13735.388688266277},{"$f":"TREND(AE$33:AE$38,$B$33:$B$38^{1,2,3},$B62^{1,2,3})","v":94727.603418856859},{"$f":"TREND(AF$33:AF$38,$B$33:$B$38^{1,2,3},$B62^{1,2,3})","v":9801.8879747986794},{"$f":"TREND(AG$33:AG$38,$B$33:$B$38^{1,2,3},$B62^{1,2,3})","v":28038.745451450348},{"$f":"TREND(AH$33:AH$38,$B$33:$B$38^{1,2,3},$B62^{1,2,3})","v":9667.7419501692057},{"$f":"TREND(AI$33:AI$38,$B$33:$B$38^{1,2,3},$B62^{1,2,3})","v":45603.872268870473},{"$f":"TREND(AJ$33:AJ$38,$B$33:$B$38^{1,2,3},$B62^{1,2,3})","v":14301.006211221218},{"$f":"TREND(AK$33:AK$38,$B$33:$B$38^{1,2,3},$B62^{1,2,3})","v":35048.8461612463},{"$f":"TREND(AL$33:AL$38,$B$33:$B$38^{1,2,3},$B62^{1,2,3})","v":99713.76421558857},{"$f":"TREND(AM$33:AM$38,$B$33:$B$38^{1,2,3},$B62^{1,2,3})","v":16648.516897946596},{"$f":"TREND(AN$33:AN$38,$B$33:$B$38^{1,2,3},$B62^{1,2,3})","v":34096.244897842407},{"$f":"TREND(AO$33:AO$38,$B$33:$B$38^{1,2,3},$B62^{1,2,3})","v":61235.199999988079},{"$f":"TREND(AP$33:AP$38,$B$33:$B$38^{1,2,3},$B62^{1,2,3})","v":63078.678983658552},{"$f":"TREND(AQ$33:AQ$38,$B$33:$B$38^{1,2,3},$B62^{1,2,3})","v":50115.104323044419},{"$f":"TREND(AR$33:AR$38,$B$33:$B$38^{1,2,3},$B62^{1,2,3})","v":111054.31074821949},{"$f":"TREND(AS$33:AS$38,$B$33:$B$38^{1,2,3},$B62^{1,2,3})","v":245075.74650764465},{"$f":"TREND(AT$33:AT$38,$B$33:$B$38^{1,2,3},$B62^{1,2,3})","v":27182.847999989986},{"$f":"TREND(AU$33:AU$38,$B$33:$B$38^{1,2,3},$B62^{1,2,3})","v":10211.627998113632},{"$f":"TREND(AV$33:AV$38,$B$33:$B$38^{1,2,3},$B62^{1,2,3})","v":11547.447340276092},{"$f":"TREND(AW$33:AW$38,$B$33:$B$38^{1,2,3},$B62^{1,2,3})","v":58804.972431063652},{"$f":"TREND(AX$33:AX$38,$B$33:$B$38^{1,2,3},$B62^{1,2,3})","v":58679.953005999327},{"$f":"TREND(AY$33:AY$38,$B$33:$B$38^{1,2,3},$B62^{1,2,3})","v":50187.416977405548},{"$f":"TREND(AZ$33:AZ$38,$B$33:$B$38^{1,2,3},$B62^{1,2,3})","v":3931.0956584811211},{"$f":"TREND(BA$33:BA$38,$B$33:$B$38^{1,2,3},$B62^{1,2,3})","v":9369.639509677887},{"$f":"TREND(BB$33:BB$38,$B$33:$B$38^{1,2,3},$B62^{1,2,3})","v":12966.307773108594},{"$f":"TREND(BC$33:BC$38,$B$33:$B$38^{1,2,3},$B62^{1,2,3})","v":8594.1608436405659},{"$f":"TREND(BD$33:BD$38,$B$33:$B$38^{1,2,3},$B62^{1,2,3})","v":14477.695238113403},{"$f":"TREND(BE$33:BE$38,$B$33:$B$38^{1,2,3},$B62^{1,2,3})","v":81526.152849674225},{"$f":"TREND(BF$33:BF$38,$B$33:$B$38^{1,2,3},$B62^{1,2,3})","v":448969.57229042053},{"$f":"TREND(BG$33:BG$38,$B$33:$B$38^{1,2,3},$B62^{1,2,3})","v":97526.508194923401},{"$f":"TREND(BH$33:BH$38,$B$33:$B$38^{1,2,3},$B62^{1,2,3})","v":40948.318923950195},{"$f":"TREND(BI$33:BI$38,$B$33:$B$38^{1,2,3},$B62^{1,2,3})","v":50469.657383978367},{"$f":"TREND(BJ$33:BJ$38,$B$33:$B$38^{1,2,3},$B62^{1,2,3})","v":5447.6884004175663},{"$f":"TREND(BK$33:BK$38,$B$33:$B$38^{1,2,3},$B62^{1,2,3})","v":8593.5069983154535},{"$f":"TREND(BL$33:BL$38,$B$33:$B$38^{1,2,3},$B62^{1,2,3})","v":24631.695750564337},{"$f":"TREND(BM$33:BM$38,$B$33:$B$38^{1,2,3},$B62^{1,2,3})","v":25409.54759567976},{"$f":"TREND(BN$33:BN$38,$B$33:$B$38^{1,2,3},$B62^{1,2,3})","v":61488.849930763245},{"$f":"TREND(BO$33:BO$38,$B$33:$B$38^{1,2,3},$B62^{1,2,3})","v":138657.42931008339},{"$f":"TREND(BP$33:BP$38,$B$33:$B$38^{1,2,3},$B62^{1,2,3})","v":17254.12002158165},{"$f":"TREND(BQ$33:BQ$38,$B$33:$B$38^{1,2,3},$B62^{1,2,3})","v":32597.987867712975},{"$f":"TREND(BR$33:BR$38,$B$33:$B$38^{1,2,3},$B62^{1,2,3})","v":11959.344761908054},{"$f":"TREND(BS$33:BS$38,$B$33:$B$38^{1,2,3},$B62^{1,2,3})","v":56449.44024798274},{"$f":"TREND(BT$33:BT$38,$B$33:$B$38^{1,2,3},$B62^{1,2,3})","v":5873520.0745391846}]

{"sheet":"2020 Severity Factors","index":9,"n_rows":38,"n_cols":21,"rows_kept":38,"cut":false,"hidden":true,"merged":[[17,0,17,20],[13,0,13,20],[9,0,9,20],[0,1,0,14],[0,16,0,20],[5,0,5,20]]}
["Vehicle Crashes","Crash Movement Code (Primary)",null,null,null,null,null,null,null,null,null,null,null,null,null,null,"Speed Scaling Factor"]
[null,"All","A","B","C","D","E","F","G","H","J","K","L","M","Q","P","≤30",40,50,60,70]
["Generic",0.16,0.16,0.33,0.23,0.24,0.12,0.06,0.16,0.13,0.1,0.16,0.09,0.12,0.16,0.3,0.95,0.95,0.95,1.25,1.55]
["Midblock",0.19,0.19,0.35,0.23,0.26,0.12,0.05,0.19,0.19,0.19,0.19,0.19,0.14000000000000001,0.19,0.33,0.95,0.95,0.95,1.3,1.6]
["Intersection",0.14000000000000001,0.14000000000000001,0.14000000000000001,0.23,0.22,0.13,0.06,0.14000000000000001,0.13,0.1,0.14000000000000001,0.1,0.14000000000000001,0.14000000000000001,0.28999999999999998,0.95,0.95,0.95,1.1000000000000001,1.4]
["Intersections"]
["Signalised",0.13,0.13,0.13,0.13,0.18,0.13,0.06,0.13,0.18,0.16,0.13,0.1,0.13,0.13,null,0.9,0.9,0.9,1.5,1.5]
["Roundabout",0.1,0.1,0.1,0.27,0.16,0.1,0.06,0.1,0.08,0.06,0.02,0,0.1,0.1,null,1,1,1,1,1]
["Priority",0.15,0.15,0.32,0.22,0.23,0.13,0.06,0.15,0.12,0.1,0.15,0.1,0.11,0.15,null,0.95,0.95,0.95,1.2,1.6]
["Pedestrian Crashes"]
["Generic",0.3,null,null,null,null,null,null,null,null,null,null,null,null,null,null,0.75,0.8,1,1.6,1.6]
["Midblock",0.33,null,null,null,null,null,null,null,null,null,null,null,null,null,null,0.7,0.75,1,1.7,1.7]
["Intersection",0.28999999999999998,null,null,null,null,null,null,null,null,null,null,null,null,null,null,0.75,0.75,1,1.5,1.5]
["Cyclist Crashes"]
["Generic",0.22,null,null,null,null,null,null,null,null,null,null,null,null,null,null,0.8,0.8,1,1.25,1.25]
["Midblock",0.26,null,null,null,null,null,null,null,null,null,null,null,null,null,null,0.8,0.8,0.95,1.35,1.35]
["Intersection",0.22,null,null,null,null,null,null,null,null,null,null,null,null,null,null,0.75,0.75,1,1.1499999999999999,1.1499999999999999]
["Motorcyclist Crashes"]
["Generic",0.33,null,null,null,null,null,null,null,null,null,null,null,null,null,null,0.95,0.95,0.95,1.3,1.3]
["Midblock",0.38,null,null,null,null,null,null,null,null,null,null,null,null,null,null,0.95,0.95,0.95,1.2,1.3]
["Intersection",0.31,null,null,null,null,null,null,null,null,null,null,null,null,null,null,0.95,0.95,0.95,1.3,1.3]
[]
[null,null,30,40,50,60,70]
["Vehicle","Midblock",{"$f":"$B$4*Q4","v":0.18049999999999999},{"$f":"$B$4*R4","v":0.18049999999999999},{"$f":"$B$4*S4","v":0.18049999999999999},{"$f":"$B$4*T4","v":0.24700000000000003},{"$f":"$B$4*U4","v":0.30400000000000005}]
["Vehicle","Signalised_Intersection",{"$f":"$B$7*Q7","v":0.11700000000000001},{"$f":"$B$7*R7","v":0.11700000000000001},{"$f":"$B$7*S7","v":0.11700000000000001},{"$f":"$B$7*T7","v":0.19500000000000001},{"$f":"$B$7*U7","v":0.19500000000000001}]
["Vehicle","Roundabout",{"$f":"$B$8*Q8","v":0.1},{"$f":"$B$8*R8","v":0.1},{"$f":"$B$8*S8","v":0.1},{"$f":"$B$8*T8","v":0.1},{"$f":"$B$8*U8","v":0.1}]
["Vehicle","Priority_Intersection",{"$f":"$B$9*Q9","v":0.14249999999999999},{"$f":"$B$9*R9","v":0.14249999999999999},{"$f":"$B$9*S9","v":0.14249999999999999},{"$f":"$B$9*T9","v":0.18},{"$f":"$B$9*U9","v":0.24}]
[null,null,30,40,50,60,70]
["Pedestrian","Midblock",{"$f":"$B12*Q12","v":0.23099999999999998},0.2475,0.33,0.56100000000000005,0.56100000000000005]
["Pedestrian","Signalised_Intersection",0.21749999999999997,0.21749999999999997,0.28999999999999998,0.43499999999999994,0.43499999999999994]
["Pedestrian","Roundabout",{"$f":"C30","v":0.21749999999999997},0.21749999999999997,0.28999999999999998,0.43499999999999994,0.43499999999999994]
["Pedestrian","Priority_Intersection",0.21749999999999997,0.21749999999999997,0.28999999999999998,0.43499999999999994,0.43499999999999994]
[]
[null,null,30,40,50,60,70]
["Cyclists","Midblock",{"$f":"$B16*Q16","v":0.20800000000000002},0.20800000000000002,0.247,0.35100000000000003,0.35100000000000003]
["Cyclists","Signalised_Intersection",0.16500000000000001,0.16500000000000001,0.22,0.253,0.253]
["Cyclists","Roundabout",{"$f":"C36","v":0.16500000000000001},0.16500000000000001,0.22,0.253,0.253]
["Cyclists","Priority_Intersection",0.16500000000000001,0.16500000000000001,0.22,0.253,0.253]

{"sheet":"CMFs_all","index":10,"n_rows":157,"n_cols":23,"rows_kept":157,"cut":false,"hidden":true,"merged":[[3,0,38,0],[139,0,145,0],[147,0,156,0],[39,0,88,0],[121,0,127,0],[89,0,95,0],[96,0,120,0]]}
[null,null,null,null,null,null,null,null,null,null,null,null,"Network","Segments"]
[null,"Facility",null,"Lookup Value","Signalised_Intersection","Midblock","Priority_Intersection","Roundabout",null,null,null,null,null,{"$f":"'Options Assessment'!C1","v":"Segment 1"},{"$f":"'Options Assessment'!D1","v":"Segment 2"},{"$f":"'Options Assessment'!E1","v":"Segment 3"},{"$f":"'Options Assessment'!F1","v":"Segment 4"},{"$f":"'Options Assessment'!G1","v":"Segment 5"},{"$f":"'Options Assessment'!H1","v":"Segment 6"},{"$f":"'Options Assessment'!I1","v":"Segment 7"},{"$f":"'Options Assessment'!J1","v":"Segment 8"},{"$f":"'Options Assessment'!K1","v":"Segment 9"},{"$f":"'Options Assessment'!L1","v":"Segment 10"}]
[null,null,null,"N/A",null,null,null,null,null,null,null,"Signalised_Intersection",{"$f":"PRODUCT(_xlfn.IFS('Options Assessment'!#REF!=$C$5,$E$5, 'Options Assessment'!#REF!=$C$6,$E$6, TRUE,1), _xlfn.IFS('Options Assessment'!#REF!=$C$9,$E$9, 'Options Assessment'!#REF!=$C$10,$E$10, TRUE,1), IF('Options Assessment'!#REF!=$C$13,$E$13,1), IF('Options Assessment'!#REF!=$C$16,$E$16,1), _xlfn.IFS('Options Assessment'!#REF!=$C$19,$E$19, 'Options Assessment'!#REF!=$C$20,$E$20, 'Options Assessment'!#REF!=$C$21,$E$21, TRUE,1), IF('Options Assessment'!#REF!=$C$24,$E$24,1), IF('Options Assessment'!#REF!=$C$27,$E$27,1),IF('Options Assessment'!#REF!=$C$31,$E$31,1),IF('Options Assessment'!#REF!=$C$35,$E$35,1),IF('Options Assessment'!#REF!=$C$38,$E$38,1),IF('Options Assessment'!#REF!=$C$41,$E$41,1),IF('Options Assessment'!#REF!=$C$44,$E$44,1),IF('Options Assessment'!#REF!=$C$47,$E$47,1),IF('Options Assessment'!#REF!=$C$50,$E$50,1),_xlfn.IFS('Options Assessment'!#REF!=$C$54,$E$54, 'Options Assessment'!#REF!=$C$55,$E$55, 'Options Assessment'!#REF!=$C$56,$E$56, TRUE,1),_xlfn.IFS('Options Assessment'!#REF!=$C$59,$E$59, 'Options Assessment'!#REF!=$C$60,$E$60, TRUE,1),IF('Options Assessment'!#REF!=$C$63,$E$63,1),IF('Options Assessment'!#REF!=$C$66,$E$66,1),IF('Options Assessment'!#REF!=$C$69,$E$69,1),IF('Options Assessment'!#REF!=$C$73,$E$73,1),IF('Options Assessment'!#REF!=$C$76,$E$76,1),IF('Options Assessment'!#REF!=$C$80,$E$80,1),IF('Options Assessment'!#REF!=$C$88,$E$88,1),_xlfn.IFS('Options Assessment'!#REF!=$C$91,$E$91, 'Options Assessment'!#REF!=$C$92,$E$92, 'Options Assessment'!#REF!=$C$93,$E$93, 'Options Assessment'!#REF!=$C$94,$E$94, 'Options Assessment'!#REF!=$C$95,$E$95, TRUE,1),_xlfn.IFS( 'Options Assessment'!#REF!=$C$98,$E$98, 'Options Assessment'!#REF!=$C$99,$E$99, 'Options Assessment'!#REF!=$C$100,$E$100, TRUE,1),IF('Options Assessment'!#REF!=$C$103,$E$103,1),IF('Options Assessment'!#REF!=$C$106,$E$106,1),_xlfn.IFS('Options Assessment'!#REF!=$C$109,$E$109, 'Options Assessment'!#REF!=$C$110,$E$110, 'Options Assessment'!#REF!=$C$111,$E$111, 'Options Assessment'!#REF!=$C$112,$E$112, 'Options Assessment'!#REF!=$C$113,$E$113, 'Options Assessment'!#REF!=$C$114,$E$114, 'Options Assessment'!#REF!=$C$115,$E$115, 'Options Assessment'!#REF!=$C$116,$E$116, 'Options Assessment'!#REF!=$C$117,$E$117, 'Options Assessment'!#REF!=$C$118,$E$118, TRUE,1),IF('Options Assessment'!#REF!=$C$121,$E$121,1),_xlfn.IFS('Options Assessment'!#REF!=$C$127,$E$127, 'Options Assessment'!#REF!=$C$128,$E$128, TRUE,1))","v":{"$error":"#REF!"}},{"$f":"PRODUCT(_xlfn.IFS('Options Assessment'!C$7=$C$5,$E$5, 'Options Assessment'!C$7=$C$6,$E$6, TRUE,1), _xlfn.IFS('Options Assessment'!C$8=$C$9,$E$9, 'Options Assessment'!C$8=$C$10,$E$10, TRUE,1), IF('Options Assessment'!C$9=$C$13,$E$13,1), IF('Options Assessment'!C$10=$C$16,$E$16,1), _xlfn.IFS('Options Assessment'!C$11=$C$19,$E$19, 'Options Assessment'!C$11=$C$20,$E$20, 'Options Assessment'!C$11=$C$21,$E$21, TRUE,1), IF('Options Assessment'!C$12=$C$24,$E$24,1), IF('Options Assessment'!C$13=$C$35,$E$35,1),IF('Options Assessment'!C$14=$C$38,$E$38,1),IF('Options Assessment'!C$19=$C$41,$E$41,1),IF('Options Assessment'!C$20=$C$44,$E$44,1),IF('Options Assessment'!C$21=$C$47,$E$47,1),IF('Options Assessment'!C$22=$C$50,$E$50,1),_xlfn.IFS('Options Assessment'!C$23=$C$54,$E$54, 'Options Assessment'!C$23=$C$55,$E$55, 'Options Assessment'!C$23=$C$56,$E$56, TRUE,1),_xlfn.IFS('Options Assessment'!C$24=$C$59,$E$59, 'Options Assessment'!C$24=$C$60,$E$60, TRUE,1),IF('Options Assessment'!C$25=$C$63,$E$63,1),IF('Options Assessment'!C$26=$C$66,$E$66,1),IF('Options Assessment'!C$27=$C$69,$E$69,1),IF('Options Assessment'!C$28=$C$73,$E$73,1),IF('Options Assessment'!C$29=$C$76,$E$76,1),IF('Options Assessment'!C$30=$C$80,$E$80,1),IF('Options Assessment'!C$15=$C$88,$E$88,1),_xlfn.IFS('Options Assessment'!C$16=$C$91,$E$91, 'Options Assessment'!C$16=$C$92,$E$92, 'Options Assessment'!C$16=$C$93,$E$93, 'Options Assessment'!C$16=$C$94,$E$94, 'Options Assessment'!C$16=$C$95,$E$95, TRUE,1),_xlfn.IFS( 'Options Assessment'!C$32=$C$98,$E$98, 'Options Assessment'!C$32=$C$99,$E$99, 'Options Assessment'!C$32=$C$100,$E$100, TRUE,1),IF('Options Assessment'!C$33=$C$103,$E$103,1),IF('Options Assessment'!C$35=$C$106,$E$106,1),_xlfn.IFS('Options Assessment'!C$18=$C$109,$E$109, 'Options Assessment'!C$18=$C$110,$E$110, 'Options Assessment'!C$18=$C$111,$E$111, 'Options Assessment'!C$18=$C$112,$E$112, 'Options Assessment'!C$18=$C$113,$E$113, 'Options Assessment'!C$18=$C$114,$E$114, 'Options Assessment'!C$18=$C$115,$E$115, 'Options Assessment'!C$18=$C$116,$E$116, 'Options Assessment'!C$18=$C$117,$E$117, 'Options Assessment'!C$18=$C$118,$E$118, TRUE,1),IF('Options Assessment'!C$34=$C$121,$E$121,1),_xlfn.IFS('Options Assessment'!C$17=$C$127,$E$127, 'Options Assessment'!C$17=$C$128,$E$128, TRUE,1),_xlfn.IFS('Options Assessment'!C$6=$C$130,$E$130, 'Options Assessment'!C$6=$C$131,$E$131, 'Options Assessment'!C$6=$C$132,$E$132,TRUE,1))","v":1.0356187499999998},{"$f":"PRODUCT(_xlfn.IFS('Options Assessment'!D$7=$C$5,$E$5, 'Options Assessment'!D$7=$C$6,$E$6, TRUE,1), _xlfn.IFS('Options Assessment'!D$8=$C$9,$E$9, 'Options Assessment'!D$8=$C$10,$E$10, TRUE,1), IF('Options Assessment'!D$9=$C$13,$E$13,1), IF('Options Assessment'!D$10=$C$16,$E$16,1), _xlfn.IFS('Options Assessment'!D$11=$C$19,$E$19, 'Options Assessment'!D$11=$C$20,$E$20, 'Options Assessment'!D$11=$C$21,$E$21, TRUE,1), IF('Options Assessment'!D$12=$C$24,$E$24,1), IF('Options Assessment'!D$13=$C$35,$E$35,1),IF('Options Assessment'!D$14=$C$38,$E$38,1),IF('Options Assessment'!D$19=$C$41,$E$41,1),IF('Options Assessment'!D$20=$C$44,$E$44,1),IF('Options Assessment'!D$21=$C$47,$E$47,1),IF('Options Assessment'!D$22=$C$50,$E$50,1),_xlfn.IFS('Options Assessment'!D$23=$C$54,$E$54, 'Options Assessment'!D$23=$C$55,$E$55, 'Options Assessment'!D$23=$C$56,$E$56, TRUE,1),_xlfn.IFS('Options Assessment'!D$24=$C$59,$E$59, 'Options Assessment'!D$24=$C$60,$E$60, TRUE,1),IF('Options Assessment'!D$25=$C$63,$E$63,1),IF('Options Assessment'!D$26=$C$66,$E$66,1),IF('Options Assessment'!D$27=$C$69,$E$69,1),IF('Options Assessment'!D$28=$C$73,$E$73,1),IF('Options Assessment'!D$29=$C$76,$E$76,1),IF('Options Assessment'!D$30=$C$80,$E$80,1),IF('Options Assessment'!D$15=$C$88,$E$88,1),_xlfn.IFS('Options Assessment'!D$16=$C$91,$E$91, 'Options Assessment'!D$16=$C$92,$E$92, 'Options Assessment'!D$16=$C$93,$E$93, 'Options Assessment'!D$16=$C$94,$E$94, 'Options Assessment'!D$16=$C$95,$E$95, TRUE,1),_xlfn.IFS( 'Options Assessment'!D$32=$C$98,$E$98, 'Options Assessment'!D$32=$C$99,$E$99, 'Options Assessment'!D$32=$C$100,$E$100, TRUE,1),IF('Options Assessment'!D$33=$C$103,$E$103,1),IF('Options Assessment'!D$35=$C$106,$E$106,1),_xlfn.IFS('Options Assessment'!D$18=$C$109,$E$109, 'Options Assessment'!D$18=$C$110,$E$110, 'Options Assessment'!D$18=$C$111,$E$111, 'Options Assessment'!D$18=$C$112,$E$112, 'Options Assessment'!D$18=$C$113,$E$113, 'Options Assessment'!D$18=$C$114,$E$114, 'Options Assessment'!D$18=$C$115,$E$115, 'Options Assessment'!D$18=$C$116,$E$116, 'Options Assessment'!D$18=$C$117,$E$117, 'Options Assessment'!D$18=$C$118,$E$118, TRUE,1),IF('Options Assessment'!D$34=$C$121,$E$121,1),_xlfn.IFS('Options Assessment'!D$17=$C$127,$E$127, 'Options Assessment'!D$17=$C$128,$E$128, TRUE,1),_xlfn.IFS('Options Assessment'!D$6=$C$130,$E$130, 'Options Assessment'!D$6=$C$131,$E$131, 'Options Assessment'!D$6=$C$132,$E$132,TRUE,1))","v":1},{"$f":"PRODUCT(_xlfn.IFS('Options Assessment'!E$7=$C$5,$E$5, 'Options Assessment'!E$7=$C$6,$E$6, TRUE,1), _xlfn.IFS('Options Assessment'!E$8=$C$9,$E$9, 'Options Assessment'!E$8=$C$10,$E$10, TRUE,1), IF('Options Assessment'!E$9=$C$13,$E$13,1), IF('Options Assessment'!E$10=$C$16,$E$16,1), _xlfn.IFS('Options Assessment'!E$11=$C$19,$E$19, 'Options Assessment'!E$11=$C$20,$E$20, 'Options Assessment'!E$11=$C$21,$E$21, TRUE,1), IF('Options Assessment'!E$12=$C$24,$E$24,1), IF('Options Assessment'!E$13=$C$35,$E$35,1),IF('Options Assessment'!E$14=$C$38,$E$38,1),IF('Options Assessment'!E$19=$C$41,$E$41,1),IF('Options Assessment'!E$20=$C$44,$E$44,1),IF('Options Assessment'!E$21=$C$47,$E$47,1),IF('Options Assessment'!E$22=$C$50,$E$50,1),_xlfn.IFS('Options Assessment'!E$23=$C$54,$E$54, 'Options Assessment'!E$23=$C$55,$E$55, 'Options Assessment'!E$23=$C$56,$E$56, TRUE,1),_xlfn.IFS('Options Assessment'!E$24=$C$59,$E$59, 'Options Assessment'!E$24=$C$60,$E$60, TRUE,1),IF('Options Assessment'!E$25=$C$63,$E$63,1),IF('Options Assessment'!E$26=$C$66,$E$66,1),IF('Options Assessment'!E$27=$C$69,$E$69,1),IF('Options Assessment'!E$28=$C$73,$E$73,1),IF('Options Assessment'!E$29=$C$76,$E$76,1),IF('Options Assessment'!E$30=$C$80,$E$80,1),IF('Options Assessment'!E$15=$C$88,$E$88,1),_xlfn.IFS('Options Assessment'!E$16=$C$91,$E$91, 'Options Assessment'!E$16=$C$92,$E$92, 'Options Assessment'!E$16=$C$93,$E$93, 'Options Assessment'!E$16=$C$94,$E$94, 'Options Assessment'!E$16=$C$95,$E$95, TRUE,1),_xlfn.IFS( 'Options Assessment'!E$32=$C$98,$E$98, 'Options Assessment'!E$32=$C$99,$E$99, 'Options Assessment'!E$32=$C$100,$E$100, TRUE,1),IF('Options Assessment'!E$33=$C$103,$E$103,1),IF('Options Assessment'!E$35=$C$106,$E$106,1),_xlfn.IFS('Options Assessment'!E$18=$C$109,$E$109, 'Options Assessment'!E$18=$C$110,$E$110, 'Options Assessment'!E$18=$C$111,$E$111, 'Options Assessment'!E$18=$C$112,$E$112, 'Options Assessment'!E$18=$C$113,$E$113, 'Options Assessment'!E$18=$C$114,$E$114, 'Options Assessment'!E$18=$C$115,$E$115, 'Options Assessment'!E$18=$C$116,$E$116, 'Options Assessment'!E$18=$C$117,$E$117, 'Options Assessment'!E$18=$C$118,$E$118, TRUE,1),IF('Options Assessment'!E$34=$C$121,$E$121,1),_xlfn.IFS('Options Assessment'!E$17=$C$127,$E$127, 'Options Assessment'!E$17=$C$128,$E$128, TRUE,1),_xlfn.IFS('Options Assessment'!E$6=$C$130,$E$130, 'Options Assessment'!E$6=$C$131,$E$131, 'Options Assessment'!E$6=$C$132,$E$132,TRUE,1))","v":1},{"$f":"PRODUCT(_xlfn.IFS('Options Assessment'!F$7=$C$5,$E$5, 'Options Assessment'!F$7=$C$6,$E$6, TRUE,1), _xlfn.IFS('Options Assessment'!F$8=$C$9,$E$9, 'Options Assessment'!F$8=$C$10,$E$10, TRUE,1), IF('Options Assessment'!F$9=$C$13,$E$13,1), IF('Options Assessment'!F$10=$C$16,$E$16,1), _xlfn.IFS('Options Assessment'!F$11=$C$19,$E$19, 'Options Assessment'!F$11=$C$20,$E$20, 'Options Assessment'!F$11=$C$21,$E$21, TRUE,1), IF('Options Assessment'!F$12=$C$24,$E$24,1), IF('Options Assessment'!F$13=$C$35,$E$35,1),IF('Options Assessment'!F$14=$C$38,$E$38,1),IF('Options Assessment'!F$19=$C$41,$E$41,1),IF('Options Assessment'!F$20=$C$44,$E$44,1),IF('Options Assessment'!F$21=$C$47,$E$47,1),IF('Options Assessment'!F$22=$C$50,$E$50,1),_xlfn.IFS('Options Assessment'!F$23=$C$54,$E$54, 'Options Assessment'!F$23=$C$55,$E$55, 'Options Assessment'!F$23=$C$56,$E$56, TRUE,1),_xlfn.IFS('Options Assessment'!F$24=$C$59,$E$59, 'Options Assessment'!F$24=$C$60,$E$60, TRUE,1),IF('Options Assessment'!F$25=$C$63,$E$63,1),IF('Options Assessment'!F$26=$C$66,$E$66,1),IF('Options Assessment'!F$27=$C$69,$E$69,1),IF('Options Assessment'!F$28=$C$73,$E$73,1),IF('Options Assessment'!F$29=$C$76,$E$76,1),IF('Options Assessment'!F$30=$C$80,$E$80,1),IF('Options Assessment'!F$15=$C$88,$E$88,1),_xlfn.IFS('Options Assessment'!F$16=$C$91,$E$91, 'Options Assessment'!F$16=$C$92,$E$92, 'Options Assessment'!F$16=$C$93,$E$93, 'Options Assessment'!F$16=$C$94,$E$94, 'Options Assessment'!F$16=$C$95,$E$95, TRUE,1),_xlfn.IFS( 'Options Assessment'!F$32=$C$98,$E$98, 'Options Assessment'!F$32=$C$99,$E$99, 'Options Assessment'!F$32=$C$100,$E$100, TRUE,1),IF('Options Assessment'!F$33=$C$103,$E$103,1),IF('Options Assessment'!F$35=$C$106,$E$106,1),_xlfn.IFS('Options Assessment'!F$18=$C$109,$E$109, 'Options Assessment'!F$18=$C$110,$E$110, 'Options Assessment'!F$18=$C$111,$E$111, 'Options Assessment'!F$18=$C$112,$E$112, 'Options Assessment'!F$18=$C$113,$E$113, 'Options Assessment'!F$18=$C$114,$E$114, 'Options Assessment'!F$18=$C$115,$E$115, 'Options Assessment'!F$18=$C$116,$E$116, 'Options Assessment'!F$18=$C$117,$E$117, 'Options Assessment'!F$18=$C$118,$E$118, TRUE,1),IF('Options Assessment'!F$34=$C$121,$E$121,1),_xlfn.IFS('Options Assessment'!F$17=$C$127,$E$127, 'Options Assessment'!F$17=$C$128,$E$128, TRUE,1),_xlfn.IFS('Options Assessment'!F$6=$C$130,$E$130, 'Options Assessment'!F$6=$C$131,$E$131, 'Options Assessment'!F$6=$C$132,$E$132,TRUE,1))","v":1},{"$f":"PRODUCT(_xlfn.IFS('Options Assessment'!G$7=$C$5,$E$5, 'Options Assessment'!G$7=$C$6,$E$6, TRUE,1), _xlfn.IFS('Options Assessment'!G$8=$C$9,$E$9, 'Options Assessment'!G$8=$C$10,$E$10, TRUE,1), IF('Options Assessment'!G$9=$C$13,$E$13,1), IF('Options Assessment'!G$10=$C$16,$E$16,1), _xlfn.IFS('Options Assessment'!G$11=$C$19,$E$19, 'Options Assessment'!G$11=$C$20,$E$20, 'Options Assessment'!G$11=$C$21,$E$21, TRUE,1), IF('Options Assessment'!G$12=$C$24,$E$24,1), IF('Options Assessment'!G$13=$C$35,$E$35,1),IF('Options Assessment'!G$14=$C$38,$E$38,1),IF('Options Assessment'!G$19=$C$41,$E$41,1),IF('Options Assessment'!G$20=$C$44,$E$44,1),IF('Options Assessment'!G$21=$C$47,$E$47,1),IF('Options Assessment'!G$22=$C$50,$E$50,1),_xlfn.IFS('Options Assessment'!G$23=$C$54,$E$54, 'Options Assessment'!G$23=$C$55,$E$55, 'Options Assessment'!G$23=$C$56,$E$56, TRUE,1),_xlfn.IFS('Options Assessment'!G$24=$C$59,$E$59, 'Options Assessment'!G$24=$C$60,$E$60, TRUE,1),IF('Options Assessment'!G$25=$C$63,$E$63,1),IF('Options Assessment'!G$26=$C$66,$E$66,1),IF('Options Assessment'!G$27=$C$69,$E$69,1),IF('Options Assessment'!G$28=$C$73,$E$73,1),IF('Options Assessment'!G$29=$C$76,$E$76,1),IF('Options Assessment'!G$30=$C$80,$E$80,1),IF('Options Assessment'!G$15=$C$88,$E$88,1),_xlfn.IFS('Options Assessment'!G$16=$C$91,$E$91, 'Options Assessment'!G$16=$C$92,$E$92, 'Options Assessment'!G$16=$C$93,$E$93, 'Options Assessment'!G$16=$C$94,$E$94, 'Options Assessment'!G$16=$C$95,$E$95, TRUE,1),_xlfn.IFS( 'Options Assessment'!G$32=$C$98,$E$98, 'Options Assessment'!G$32=$C$99,$E$99, 'Options Assessment'!G$32=$C$100,$E$100, TRUE,1),IF('Options Assessment'!G$33=$C$103,$E$103,1),IF('Options Assessment'!G$35=$C$106,$E$106,1),_xlfn.IFS('Options Assessment'!G$18=$C$109,$E$109, 'Options Assessment'!G$18=$C$110,$E$110, 'Options Assessment'!G$18=$C$111,$E$111, 'Options Assessment'!G$18=$C$112,$E$112, 'Options Assessment'!G$18=$C$113,$E$113, 'Options Assessment'!G$18=$C$114,$E$114, 'Options Assessment'!G$18=$C$115,$E$115, 'Options Assessment'!G$18=$C$116,$E$116, 'Options Assessment'!G$18=$C$117,$E$117, 'Options Assessment'!G$18=$C$118,$E$118, TRUE,1),IF('Options Assessment'!G$34=$C$121,$E$121,1),_xlfn.IFS('Options Assessment'!G$17=$C$127,$E$127, 'Options Assessment'!G$17=$C$128,$E$128, TRUE,1),_xlfn.IFS('Options Assessment'!G$6=$C$130,$E$130, 'Options Assessment'!G$6=$C$131,$E$131, 'Options Assessment'!G$6=$C$132,$E$132,TRUE,1))","v":1},{"$f":"PRODUCT(_xlfn.IFS('Options Assessment'!H$7=$C$5,$E$5, 'Options Assessment'!H$7=$C$6,$E$6, TRUE,1), _xlfn.IFS('Options Assessment'!H$8=$C$9,$E$9, 'Options Assessment'!H$8=$C$10,$E$10, TRUE,1), IF('Options Assessment'!H$9=$C$13,$E$13,1), IF('Options Assessment'!H$10=$C$16,$E$16,1), _xlfn.IFS('Options Assessment'!H$11=$C$19,$E$19, 'Options Assessment'!H$11=$C$20,$E$20, 'Options Assessment'!H$11=$C$21,$E$21, TRUE,1), IF('Options Assessment'!H$12=$C$24,$E$24,1), IF('Options Assessment'!H$13=$C$35,$E$35,1),IF('Options Assessment'!H$14=$C$38,$E$38,1),IF('Options Assessment'!H$19=$C$41,$E$41,1),IF('Options Assessment'!H$20=$C$44,$E$44,1),IF('Options Assessment'!H$21=$C$47,$E$47,1),IF('Options Assessment'!H$22=$C$50,$E$50,1),_xlfn.IFS('Options Assessment'!H$23=$C$54,$E$54, 'Options Assessment'!H$23=$C$55,$E$55, 'Options Assessment'!H$23=$C$56,$E$56, TRUE,1),_xlfn.IFS('Options Assessment'!H$24=$C$59,$E$59, 'Options Assessment'!H$24=$C$60,$E$60, TRUE,1),IF('Options Assessment'!H$25=$C$63,$E$63,1),IF('Options Assessment'!H$26=$C$66,$E$66,1),IF('Options Assessment'!H$27=$C$69,$E$69,1),IF('Options Assessment'!H$28=$C$73,$E$73,1),IF('Options Assessment'!H$29=$C$76,$E$76,1),IF('Options Assessment'!H$30=$C$80,$E$80,1),IF('Options Assessment'!H$15=$C$88,$E$88,1),_xlfn.IFS('Options Assessment'!H$16=$C$91,$E$91, 'Options Assessment'!H$16=$C$92,$E$92, 'Options Assessment'!H$16=$C$93,$E$93, 'Options Assessment'!H$16=$C$94,$E$94, 'Options Assessment'!H$16=$C$95,$E$95, TRUE,1),_xlfn.IFS( 'Options Assessment'!H$32=$C$98,$E$98, 'Options Assessment'!H$32=$C$99,$E$99, 'Options Assessment'!H$32=$C$100,$E$100, TRUE,1),IF('Options Assessment'!H$33=$C$103,$E$103,1),IF('Options Assessment'!H$35=$C$106,$E$106,1),_xlfn.IFS('Options Assessment'!H$18=$C$109,$E$109, 'Options Assessment'!H$18=$C$110,$E$110, 'Options Assessment'!H$18=$C$111,$E$111, 'Options Assessment'!H$18=$C$112,$E$112, 'Options Assessment'!H$18=$C$113,$E$113, 'Options Assessment'!H$18=$C$114,$E$114, 'Options Assessment'!H$18=$C$115,$E$115, 'Options Assessment'!H$18=$C$116,$E$116, 'Options Assessment'!H$18=$C$117,$E$117, 'Options Assessment'!H$18=$C$118,$E$118, TRUE,1),IF('Options Assessment'!H$34=$C$121,$E$121,1),_xlfn.IFS('Options Assessment'!H$17=$C$127,$E$127, 'Options Assessment'!H$17=$C$128,$E$128, TRUE,1),_xlfn.IFS('Options Assessment'!H$6=$C$130,$E$130, 'Options Assessment'!H$6=$C$131,$E$131, 'Options Assessment'!H$6=$C$132,$E$132,TRUE,1))","v":1},{"$f":"PRODUCT(_xlfn.IFS('Options Assessment'!I$7=$C$5,$E$5, 'Options Assessment'!I$7=$C$6,$E$6, TRUE,1), _xlfn.IFS('Options Assessment'!I$8=$C$9,$E$9, 'Options Assessment'!I$8=$C$10,$E$10, TRUE,1), IF('Options Assessment'!I$9=$C$13,$E$13,1), IF('Options Assessment'!I$10=$C$16,$E$16,1), _xlfn.IFS('Options Assessment'!I$11=$C$19,$E$19, 'Options Assessment'!I$11=$C$20,$E$20, 'Options Assessment'!I$11=$C$21,$E$21, TRUE,1), IF('Options Assessment'!I$12=$C$24,$E$24,1), IF('Options Assessment'!I$13=$C$35,$E$35,1),IF('Options Assessment'!I$14=$C$38,$E$38,1),IF('Options Assessment'!I$19=$C$41,$E$41,1),IF('Options Assessment'!I$20=$C$44,$E$44,1),IF('Options Assessment'!I$21=$C$47,$E$47,1),IF('Options Assessment'!I$22=$C$50,$E$50,1),_xlfn.IFS('Options Assessment'!I$23=$C$54,$E$54, 'Options Assessment'!I$23=$C$55,$E$55, 'Options Assessment'!I$23=$C$56,$E$56, TRUE,1),_xlfn.IFS('Options Assessment'!I$24=$C$59,$E$59, 'Options Assessment'!I$24=$C$60,$E$60, TRUE,1),IF('Options Assessment'!I$25=$C$63,$E$63,1),IF('Options Assessment'!I$26=$C$66,$E$66,1),IF('Options Assessment'!I$27=$C$69,$E$69,1),IF('Options Assessment'!I$28=$C$73,$E$73,1),IF('Options Assessment'!I$29=$C$76,$E$76,1),IF('Options Assessment'!I$30=$C$80,$E$80,1),IF('Options Assessment'!I$15=$C$88,$E$88,1),_xlfn.IFS('Options Assessment'!I$16=$C$91,$E$91, 'Options Assessment'!I$16=$C$92,$E$92, 'Options Assessment'!I$16=$C$93,$E$93, 'Options Assessment'!I$16=$C$94,$E$94, 'Options Assessment'!I$16=$C$95,$E$95, TRUE,1),_xlfn.IFS( 'Options Assessment'!I$32=$C$98,$E$98, 'Options Assessment'!I$32=$C$99,$E$99, 'Options Assessment'!I$32=$C$100,$E$100, TRUE,1),IF('Options Assessment'!I$33=$C$103,$E$103,1),IF('Options Assessment'!I$35=$C$106,$E$106,1),_xlfn.IFS('Options Assessment'!I$18=$C$109,$E$109, 'Options Assessment'!I$18=$C$110,$E$110, 'Options Assessment'!I$18=$C$111,$E$111, 'Options Assessment'!I$18=$C$112,$E$112, 'Options Assessment'!I$18=$C$113,$E$113, 'Options Assessment'!I$18=$C$114,$E$114, 'Options Assessment'!I$18=$C$115,$E$115, 'Options Assessment'!I$18=$C$116,$E$116, 'Options Assessment'!I$18=$C$117,$E$117, 'Options Assessment'!I$18=$C$118,$E$118, TRUE,1),IF('Options Assessment'!I$34=$C$121,$E$121,1),_xlfn.IFS('Options Assessment'!I$17=$C$127,$E$127, 'Options Assessment'!I$17=$C$128,$E$128, TRUE,1),_xlfn.IFS('Options Assessment'!I$6=$C$130,$E$130, 'Options Assessment'!I$6=$C$131,$E$131, 'Options Assessment'!I$6=$C$132,$E$132,TRUE,1))","v":1},{"$f":"PRODUCT(_xlfn.IFS('Options Assessment'!J$7=$C$5,$E$5, 'Options Assessment'!J$7=$C$6,$E$6, TRUE,1), _xlfn.IFS('Options Assessment'!J$8=$C$9,$E$9, 'Options Assessment'!J$8=$C$10,$E$10, TRUE,1), IF('Options Assessment'!J$9=$C$13,$E$13,1), IF('Options Assessment'!J$10=$C$16,$E$16,1), _xlfn.IFS('Options Assessment'!J$11=$C$19,$E$19, 'Options Assessment'!J$11=$C$20,$E$20, 'Options Assessment'!J$11=$C$21,$E$21, TRUE,1), IF('Options Assessment'!J$12=$C$24,$E$24,1), IF('Options Assessment'!J$13=$C$35,$E$35,1),IF('Options Assessment'!J$14=$C$38,$E$38,1),IF('Options Assessment'!J$19=$C$41,$E$41,1),IF('Options Assessment'!J$20=$C$44,$E$44,1),IF('Options Assessment'!J$21=$C$47,$E$47,1),IF('Options Assessment'!J$22=$C$50,$E$50,1),_xlfn.IFS('Options Assessment'!J$23=$C$54,$E$54, 'Options Assessment'!J$23=$C$55,$E$55, 'Options Assessment'!J$23=$C$56,$E$56, TRUE,1),_xlfn.IFS('Options Assessment'!J$24=$C$59,$E$59, 'Options Assessment'!J$24=$C$60,$E$60, TRUE,1),IF('Options Assessment'!J$25=$C$63,$E$63,1),IF('Options Assessment'!J$26=$C$66,$E$66,1),IF('Options Assessment'!J$27=$C$69,$E$69,1),IF('Options Assessment'!J$28=$C$73,$E$73,1),IF('Options Assessment'!J$29=$C$76,$E$76,1),IF('Options Assessment'!J$30=$C$80,$E$80,1),IF('Options Assessment'!J$15=$C$88,$E$88,1),_xlfn.IFS('Options Assessment'!J$16=$C$91,$E$91, 'Options Assessment'!J$16=$C$92,$E$92, 'Options Assessment'!J$16=$C$93,$E$93, 'Options Assessment'!J$16=$C$94,$E$94, 'Options Assessment'!J$16=$C$95,$E$95, TRUE,1),_xlfn.IFS( 'Options Assessment'!J$32=$C$98,$E$98, 'Options Assessment'!J$32=$C$99,$E$99, 'Options Assessment'!J$32=$C$100,$E$100, TRUE,1),IF('Options Assessment'!J$33=$C$103,$E$103,1),IF('Options Assessment'!J$35=$C$106,$E$106,1),_xlfn.IFS('Options Assessment'!J$18=$C$109,$E$109, 'Options Assessment'!J$18=$C$110,$E$110, 'Options Assessment'!J$18=$C$111,$E$111, 'Options Assessment'!J$18=$C$112,$E$112, 'Options Assessment'!J$18=$C$113,$E$113, 'Options Assessment'!J$18=$C$114,$E$114, 'Options Assessment'!J$18=$C$115,$E$115, 'Options Assessment'!J$18=$C$116,$E$116, 'Options Assessment'!J$18=$C$117,$E$117, 'Options Assessment'!J$18=$C$118,$E$118, TRUE,1),IF('Options Assessment'!J$34=$C$121,$E$121,1),_xlfn.IFS('Options Assessment'!J$17=$C$127,$E$127, 'Options Assessment'!J$17=$C$128,$E$128, TRUE,1),_xlfn.IFS('Options Assessment'!J$6=$C$130,$E$130, 'Options Assessment'!J$6=$C$131,$E$131, 'Options Assessment'!J$6=$C$132,$E$132,TRUE,1))","v":1},{"$f":"PRODUCT(_xlfn.IFS('Options Assessment'!K$7=$C$5,$E$5, 'Options Assessment'!K$7=$C$6,$E$6, TRUE,1), _xlfn.IFS('Options Assessment'!K$8=$C$9,$E$9, 'Options Assessment'!K$8=$C$10,$E$10, TRUE,1), IF('Options Assessment'!K$9=$C$13,$E$13,1), IF('Options Assessment'!K$10=$C$16,$E$16,1), _xlfn.IFS('Options Assessment'!K$11=$C$19,$E$19, 'Options Assessment'!K$11=$C$20,$E$20, 'Options Assessment'!K$11=$C$21,$E$21, TRUE,1), IF('Options Assessment'!K$12=$C$24,$E$24,1), IF('Options Assessment'!K$13=$C$35,$E$35,1),IF('Options Assessment'!K$14=$C$38,$E$38,1),IF('Options Assessment'!K$19=$C$41,$E$41,1),IF('Options Assessment'!K$20=$C$44,$E$44,1),IF('Options Assessment'!K$21=$C$47,$E$47,1),IF('Options Assessment'!K$22=$C$50,$E$50,1),_xlfn.IFS('Options Assessment'!K$23=$C$54,$E$54, 'Options Assessment'!K$23=$C$55,$E$55, 'Options Assessment'!K$23=$C$56,$E$56, TRUE,1),_xlfn.IFS('Options Assessment'!K$24=$C$59,$E$59, 'Options Assessment'!K$24=$C$60,$E$60, TRUE,1),IF('Options Assessment'!K$25=$C$63,$E$63,1),IF('Options Assessment'!K$26=$C$66,$E$66,1),IF('Options Assessment'!K$27=$C$69,$E$69,1),IF('Options Assessment'!K$28=$C$73,$E$73,1),IF('Options Assessment'!K$29=$C$76,$E$76,1),IF('Options Assessment'!K$30=$C$80,$E$80,1),IF('Options Assessment'!K$15=$C$88,$E$88,1),_xlfn.IFS('Options Assessment'!K$16=$C$91,$E$91, 'Options Assessment'!K$16=$C$92,$E$92, 'Options Assessment'!K$16=$C$93,$E$93, 'Options Assessment'!K$16=$C$94,$E$94, 'Options Assessment'!K$16=$C$95,$E$95, TRUE,1),_xlfn.IFS( 'Options Assessment'!K$32=$C$98,$E$98, 'Options Assessment'!K$32=$C$99,$E$99, 'Options Assessment'!K$32=$C$100,$E$100, TRUE,1),IF('Options Assessment'!K$33=$C$103,$E$103,1),IF('Options Assessment'!K$35=$C$106,$E$106,1),_xlfn.IFS('Options Assessment'!K$18=$C$109,$E$109, 'Options Assessment'!K$18=$C$110,$E$110, 'Options Assessment'!K$18=$C$111,$E$111, 'Options Assessment'!K$18=$C$112,$E$112, 'Options Assessment'!K$18=$C$113,$E$113, 'Options Assessment'!K$18=$C$114,$E$114, 'Options Assessment'!K$18=$C$115,$E$115, 'Options Assessment'!K$18=$C$116,$E$116, 'Options Assessment'!K$18=$C$117,$E$117, 'Options Assessment'!K$18=$C$118,$E$118, TRUE,1),IF('Options Assessment'!K$34=$C$121,$E$121,1),_xlfn.IFS('Options Assessment'!K$17=$C$127,$E$127, 'Options Assessment'!K$17=$C$128,$E$128, TRUE,1),_xlfn.IFS('Options Assessment'!K$6=$C$130,$E$130, 'Options Assessment'!K$6=$C$131,$E$131, 'Options Assessment'!K$6=$C$132,$E$132,TRUE,1))","v":1},{"$f":"PRODUCT(_xlfn.IFS('Options Assessment'!L$7=$C$5,$E$5, 'Options Assessment'!L$7=$C$6,$E$6, TRUE,1), _xlfn.IFS('Options Assessment'!L$8=$C$9,$E$9, 'Options Assessment'!L$8=$C$10,$E$10, TRUE,1), IF('Options Assessment'!L$9=$C$13,$E$13,1), IF('Options Assessment'!L$10=$C$16,$E$16,1), _xlfn.IFS('Options Assessment'!L$11=$C$19,$E$19, 'Options Assessment'!L$11=$C$20,$E$20, 'Options Assessment'!L$11=$C$21,$E$21, TRUE,1), IF('Options Assessment'!L$12=$C$24,$E$24,1), IF('Options Assessment'!L$13=$C$35,$E$35,1),IF('Options Assessment'!L$14=$C$38,$E$38,1),IF('Options Assessment'!L$19=$C$41,$E$41,1),IF('Options Assessment'!L$20=$C$44,$E$44,1),IF('Options Assessment'!L$21=$C$47,$E$47,1),IF('Options Assessment'!L$22=$C$50,$E$50,1),_xlfn.IFS('Options Assessment'!L$23=$C$54,$E$54, 'Options Assessment'!L$23=$C$55,$E$55, 'Options Assessment'!L$23=$C$56,$E$56, TRUE,1),_xlfn.IFS('Options Assessment'!L$24=$C$59,$E$59, 'Options Assessment'!L$24=$C$60,$E$60, TRUE,1),IF('Options Assessment'!L$25=$C$63,$E$63,1),IF('Options Assessment'!L$26=$C$66,$E$66,1),IF('Options Assessment'!L$27=$C$69,$E$69,1),IF('Options Assessment'!L$28=$C$73,$E$73,1),IF('Options Assessment'!L$29=$C$76,$E$76,1),IF('Options Assessment'!L$30=$C$80,$E$80,1),IF('Options Assessment'!L$15=$C$88,$E$88,1),_xlfn.IFS('Options Assessment'!L$16=$C$91,$E$91, 'Options Assessment'!L$16=$C$92,$E$92, 'Options Assessment'!L$16=$C$93,$E$93, 'Options Assessment'!L$16=$C$94,$E$94, 'Options Assessment'!L$16=$C$95,$E$95, TRUE,1),_xlfn.IFS( 'Options Assessment'!L$32=$C$98,$E$98, 'Options Assessment'!L$32=$C$99,$E$99, 'Options Assessment'!L$32=$C$100,$E$100, TRUE,1),IF('Options Assessment'!L$33=$C$103,$E$103,1),IF('Options Assessment'!L$35=$C$106,$E$106,1),_xlfn.IFS('Options Assessment'!L$18=$C$109,$E$109, 'Options Assessment'!L$18=$C$110,$E$110, 'Options Assessment'!L$18=$C$111,$E$111, 'Options Assessment'!L$18=$C$112,$E$112, 'Options Assessment'!L$18=$C$113,$E$113, 'Options Assessment'!L$18=$C$114,$E$114, 'Options Assessment'!L$18=$C$115,$E$115, 'Options Assessment'!L$18=$C$116,$E$116, 'Options Assessment'!L$18=$C$117,$E$117, 'Options Assessment'!L$18=$C$118,$E$118, TRUE,1),IF('Options Assessment'!L$34=$C$121,$E$121,1),_xlfn.IFS('Options Assessment'!L$17=$C$127,$E$127, 'Options Assessment'!L$17=$C$128,$E$128, TRUE,1),_xlfn.IFS('Options Assessment'!L$6=$C$130,$E$130, 'Options Assessment'!L$6=$C$131,$E$131, 'Options Assessment'!L$6=$C$132,$E$132,TRUE,1))","v":1}]
["Midblock Crash Modification","Median","None",{"$f":"_xlfn.CONCAT(B4,\" - \",C4)","v":"Median - None"},null,1,1,null,null,null,null,"Midblock",{"$f":"PRODUCT(_xlfn.IFS('Options Assessment'!#REF!=$C$5,$F$5, 'Options Assessment'!#REF!=$C$6,$F$6, TRUE,1), _xlfn.IFS('Options Assessment'!#REF!=$C$9,$F$9, 'Options Assessment'!#REF!=$C$10,$F$10, TRUE,1), IF('Options Assessment'!#REF!=$C$13,$F$13,1), IF('Options Assessment'!#REF!=$C$16,$F$16,1), _xlfn.IFS('Options Assessment'!#REF!=$C$19,$F$19, 'Options Assessment'!#REF!=$C$20,$F$20, 'Options Assessment'!#REF!=$C$21,$F$21, TRUE,1), IF('Options Assessment'!#REF!=$C$24,$F$24,1), IF('Options Assessment'!#REF!=$C$27,$F$27,1),IF('Options Assessment'!#REF!=$C$31,$F$31,1),IF('Options Assessment'!#REF!=$C$35,$F$35,1),IF('Options Assessment'!#REF!=$C$38,$F$38,1),IF('Options Assessment'!#REF!=$C$41,$F$41,1),IF('Options Assessment'!#REF!=$C$44,$F$44,1),IF('Options Assessment'!#REF!=$C$47,$F$47,1),IF('Options Assessment'!#REF!=$C$50,$F$50,1),_xlfn.IFS('Options Assessment'!#REF!=$C$54,$F$54, 'Options Assessment'!#REF!=$C$55,$F$55, 'Options Assessment'!#REF!=$C$56,$F$56, TRUE,1),_xlfn.IFS('Options Assessment'!#REF!=$C$59,$F$59, 'Options Assessment'!#REF!=$C$60,$F$60, TRUE,1),IF('Options Assessment'!#REF!=$C$63,$F$63,1),IF('Options Assessment'!#REF!=$C$66,$F$66,1),IF('Options Assessment'!#REF!=$C$69,$F$69,1),IF('Options Assessment'!#REF!=$C$73,$F$73,1),IF('Options Assessment'!#REF!=$C$76,$F$76,1),IF('Options Assessment'!#REF!=$C$80,$F$80,1),IF('Options Assessment'!#REF!=$C$88,$F$88,1),_xlfn.IFS('Options Assessment'!#REF!=$C$91,$F$91, 'Options Assessment'!#REF!=$C$92,$F$92, 'Options Assessment'!#REF!=$C$93,$F$93, 'Options Assessment'!#REF!=$C$94,$F$94, 'Options Assessment'!#REF!=$C$95,$F$95, TRUE,1),_xlfn.IFS( 'Options Assessment'!#REF!=$C$98,$F$98, 'Options Assessment'!#REF!=$C$99,$F$99, 'Options Assessment'!#REF!=$C$100,$F$100, TRUE,1),IF('Options Assessment'!#REF!=$C$103,$F$103,1),IF('Options Assessment'!#REF!=$C$106,$F$106,1),_xlfn.IFS('Options Assessment'!#REF!=$C$109,$F$109, 'Options Assessment'!#REF!=$C$110,$F$110, 'Options Assessment'!#REF!=$C$111,$F$111, 'Options Assessment'!#REF!=$C$112,$F$112, 'Options Assessment'!#REF!=$C$113,$F$113, 'Options Assessment'!#REF!=$C$114,$F$114, 'Options Assessment'!#REF!=$C$115,$F$115, 'Options Assessment'!#REF!=$C$116,$F$116, 'Options Assessment'!#REF!=$C$117,$F$117, 'Options Assessment'!#REF!=$C$118,$F$118, TRUE,1),IF('Options Assessment'!#REF!=$C$121,$F$121,1),_xlfn.IFS('Options Assessment'!#REF!=$C$127,$F$127, 'Options Assessment'!#REF!=$C$128,$F$128, TRUE,1))","v":{"$error":"#REF!"}},{"$f":"PRODUCT(_xlfn.IFS('Options Assessment'!C$7=$C$5,$F$5, 'Options Assessment'!C$7=$C$6,$F$6, TRUE,1), _xlfn.IFS('Options Assessment'!C$8=$C$9,$F$9, 'Options Assessment'!C$8=$C$10,$F$10, TRUE,1), IF('Options Assessment'!C$9=$C$13,$F$13,1), IF('Options Assessment'!C$10=$C$16,$F$16,1), _xlfn.IFS('Options Assessment'!C$11=$C$19,$F$19, 'Options Assessment'!C$11=$C$20,$F$20, 'Options Assessment'!C$11=$C$21,$F$21, TRUE,1), IF('Options Assessment'!C$12=$C$24,$F$24,1), IF('Options Assessment'!C$13=$C$35,$F$35,1),IF('Options Assessment'!C$14=$C$38,$F$38,1),IF('Options Assessment'!C$19=$C$41,$F$41,1),IF('Options Assessment'!C$20=$C$44,$F$44,1),IF('Options Assessment'!C$21=$C$47,$F$47,1),IF('Options Assessment'!C$22=$C$50,$F$50,1),_xlfn.IFS('Options Assessment'!C$23=$C$54,$F$54, 'Options Assessment'!C$23=$C$55,$F$55, 'Options Assessment'!C$23=$C$56,$F$56, TRUE,1),_xlfn.IFS('Options Assessment'!C$24=$C$59,$F$59, 'Options Assessment'!C$24=$C$60,$F$60, TRUE,1),IF('Options Assessment'!C$25=$C$63,$F$63,1),IF('Options Assessment'!C$26=$C$66,$F$66,1),IF('Options Assessment'!C$27=$C$69,$F$69,1),IF('Options Assessment'!C$28=$C$73,$F$73,1),IF('Options Assessment'!C$29=$C$76,$F$76,1),IF('Options Assessment'!C$30=$C$80,$F$80,1),IF('Options Assessment'!C$15=$C$88,$F$88,1),_xlfn.IFS('Options Assessment'!C$16=$C$91,$F$91, 'Options Assessment'!C$16=$C$92,$F$92, 'Options Assessment'!C$16=$C$93,$F$93, 'Options Assessment'!C$16=$C$94,$F$94, 'Options Assessment'!C$16=$C$95,$F$95, TRUE,1),_xlfn.IFS( 'Options Assessment'!C$32=$C$98,$F$98, 'Options Assessment'!C$32=$C$99,$F$99, 'Options Assessment'!C$32=$C$100,$F$100, TRUE,1),IF('Options Assessment'!C$33=$C$103,$F$103,1),IF('Options Assessment'!C$35=$C$106,$F$106,1),_xlfn.IFS('Options Assessment'!C$18=$C$109,$F$109, 'Options Assessment'!C$18=$C$110,$F$110, 'Options Assessment'!C$18=$C$111,$F$111, 'Options Assessment'!C$18=$C$112,$F$112, 'Options Assessment'!C$18=$C$113,$F$113, 'Options Assessment'!C$18=$C$114,$F$114, 'Options Assessment'!C$18=$C$115,$F$115, 'Options Assessment'!C$18=$C$116,$F$116, 'Options Assessment'!C$18=$C$117,$F$117, 'Options Assessment'!C$18=$C$118,$F$118, TRUE,1),IF('Options Assessment'!C$34=$C$121,$F$121,1),_xlfn.IFS('Options Assessment'!C$17=$C$127,$F$127, 'Options Assessment'!C$17=$C$128,$F$128, TRUE,1),_xlfn.IFS('Options Assessment'!C$6=$C$130,$F$130, 'Options Assessment'!C$6=$C$131,$F$131, 'Options Assessment'!C$6=$C$132,$F$132,TRUE,1))","v":0.67755187500000003},{"$f":"PRODUCT(_xlfn.IFS('Options Assessment'!D$7=$C$5,$F$5, 'Options Assessment'!D$7=$C$6,$F$6, TRUE,1), _xlfn.IFS('Options Assessment'!D$8=$C$9,$F$9, 'Options Assessment'!D$8=$C$10,$F$10, TRUE,1), IF('Options Assessment'!D$9=$C$13,$F$13,1), IF('Options Assessment'!D$10=$C$16,$F$16,1), _xlfn.IFS('Options Assessment'!D$11=$C$19,$F$19, 'Options Assessment'!D$11=$C$20,$F$20, 'Options Assessment'!D$11=$C$21,$F$21, TRUE,1), IF('Options Assessment'!D$12=$C$24,$F$24,1), IF('Options Assessment'!D$13=$C$35,$F$35,1),IF('Options Assessment'!D$14=$C$38,$F$38,1),IF('Options Assessment'!D$19=$C$41,$F$41,1),IF('Options Assessment'!D$20=$C$44,$F$44,1),IF('Options Assessment'!D$21=$C$47,$F$47,1),IF('Options Assessment'!D$22=$C$50,$F$50,1),_xlfn.IFS('Options Assessment'!D$23=$C$54,$F$54, 'Options Assessment'!D$23=$C$55,$F$55, 'Options Assessment'!D$23=$C$56,$F$56, TRUE,1),_xlfn.IFS('Options Assessment'!D$24=$C$59,$F$59, 'Options Assessment'!D$24=$C$60,$F$60, TRUE,1),IF('Options Assessment'!D$25=$C$63,$F$63,1),IF('Options Assessment'!D$26=$C$66,$F$66,1),IF('Options Assessment'!D$27=$C$69,$F$69,1),IF('Options Assessment'!D$28=$C$73,$F$73,1),IF('Options Assessment'!D$29=$C$76,$F$76,1),IF('Options Assessment'!D$30=$C$80,$F$80,1),IF('Options Assessment'!D$15=$C$88,$F$88,1),_xlfn.IFS('Options Assessment'!D$16=$C$91,$F$91, 'Options Assessment'!D$16=$C$92,$F$92, 'Options Assessment'!D$16=$C$93,$F$93, 'Options Assessment'!D$16=$C$94,$F$94, 'Options Assessment'!D$16=$C$95,$F$95, TRUE,1),_xlfn.IFS( 'Options Assessment'!D$32=$C$98,$F$98, 'Options Assessment'!D$32=$C$99,$F$99, 'Options Assessment'!D$32=$C$100,$F$100, TRUE,1),IF('Options Assessment'!D$33=$C$103,$F$103,1),IF('Options Assessment'!D$35=$C$106,$F$106,1),_xlfn.IFS('Options Assessment'!D$18=$C$109,$F$109, 'Options Assessment'!D$18=$C$110,$F$110, 'Options Assessment'!D$18=$C$111,$F$111, 'Options Assessment'!D$18=$C$112,$F$112, 'Options Assessment'!D$18=$C$113,$F$113, 'Options Assessment'!D$18=$C$114,$F$114, 'Options Assessment'!D$18=$C$115,$F$115, 'Options Assessment'!D$18=$C$116,$F$116, 'Options Assessment'!D$18=$C$117,$F$117, 'Options Assessment'!D$18=$C$118,$F$118, TRUE,1),IF('Options Assessment'!D$34=$C$121,$F$121,1),_xlfn.IFS('Options Assessment'!D$17=$C$127,$F$127, 'Options Assessment'!D$17=$C$128,$F$128, TRUE,1),_xlfn.IFS('Options Assessment'!D$6=$C$130,$F$130, 'Options Assessment'!D$6=$C$131,$F$131, 'Options Assessment'!D$6=$C$132,$F$132,TRUE,1))","v":1},{"$f":"PRODUCT(_xlfn.IFS('Options Assessment'!E$7=$C$5,$F$5, 'Options Assessment'!E$7=$C$6,$F$6, TRUE,1), _xlfn.IFS('Options Assessment'!E$8=$C$9,$F$9, 'Options Assessment'!E$8=$C$10,$F$10, TRUE,1), IF('Options Assessment'!E$9=$C$13,$F$13,1), IF('Options Assessment'!E$10=$C$16,$F$16,1), _xlfn.IFS('Options Assessment'!E$11=$C$19,$F$19, 'Options Assessment'!E$11=$C$20,$F$20, 'Options Assessment'!E$11=$C$21,$F$21, TRUE,1), IF('Options Assessment'!E$12=$C$24,$F$24,1), IF('Options Assessment'!E$13=$C$35,$F$35,1),IF('Options Assessment'!E$14=$C$38,$F$38,1),IF('Options Assessment'!E$19=$C$41,$F$41,1),IF('Options Assessment'!E$20=$C$44,$F$44,1),IF('Options Assessment'!E$21=$C$47,$F$47,1),IF('Options Assessment'!E$22=$C$50,$F$50,1),_xlfn.IFS('Options Assessment'!E$23=$C$54,$F$54, 'Options Assessment'!E$23=$C$55,$F$55, 'Options Assessment'!E$23=$C$56,$F$56, TRUE,1),_xlfn.IFS('Options Assessment'!E$24=$C$59,$F$59, 'Options Assessment'!E$24=$C$60,$F$60, TRUE,1),IF('Options Assessment'!E$25=$C$63,$F$63,1),IF('Options Assessment'!E$26=$C$66,$F$66,1),IF('Options Assessment'!E$27=$C$69,$F$69,1),IF('Options Assessment'!E$28=$C$73,$F$73,1),IF('Options Assessment'!E$29=$C$76,$F$76,1),IF('Options Assessment'!E$30=$C$80,$F$80,1),IF('Options Assessment'!E$15=$C$88,$F$88,1),_xlfn.IFS('Options Assessment'!E$16=$C$91,$F$91, 'Options Assessment'!E$16=$C$92,$F$92, 'Options Assessment'!E$16=$C$93,$F$93, 'Options Assessment'!E$16=$C$94,$F$94, 'Options Assessment'!E$16=$C$95,$F$95, TRUE,1),_xlfn.IFS( 'Options Assessment'!E$32=$C$98,$F$98, 'Options Assessment'!E$32=$C$99,$F$99, 'Options Assessment'!E$32=$C$100,$F$100, TRUE,1),IF('Options Assessment'!E$33=$C$103,$F$103,1),IF('Options Assessment'!E$35=$C$106,$F$106,1),_xlfn.IFS('Options Assessment'!E$18=$C$109,$F$109, 'Options Assessment'!E$18=$C$110,$F$110, 'Options Assessment'!E$18=$C$111,$F$111, 'Options Assessment'!E$18=$C$112,$F$112, 'Options Assessment'!E$18=$C$113,$F$113, 'Options Assessment'!E$18=$C$114,$F$114, 'Options Assessment'!E$18=$C$115,$F$115, 'Options Assessment'!E$18=$C$116,$F$116, 'Options Assessment'!E$18=$C$117,$F$117, 'Options Assessment'!E$18=$C$118,$F$118, TRUE,1),IF('Options Assessment'!E$34=$C$121,$F$121,1),_xlfn.IFS('Options Assessment'!E$17=$C$127,$F$127, 'Options Assessment'!E$17=$C$128,$F$128, TRUE,1),_xlfn.IFS('Options Assessment'!E$6=$C$130,$F$130, 'Options Assessment'!E$6=$C$131,$F$131, 'Options Assessment'!E$6=$C$132,$F$132,TRUE,1))","v":1},{"$f":"PRODUCT(_xlfn.IFS('Options Assessment'!F$7=$C$5,$F$5, 'Options Assessment'!F$7=$C$6,$F$6, TRUE,1), _xlfn.IFS('Options Assessment'!F$8=$C$9,$F$9, 'Options Assessment'!F$8=$C$10,$F$10, TRUE,1), IF('Options Assessment'!F$9=$C$13,$F$13,1), IF('Options Assessment'!F$10=$C$16,$F$16,1), _xlfn.IFS('Options Assessment'!F$11=$C$19,$F$19, 'Options Assessment'!F$11=$C$20,$F$20, 'Options Assessment'!F$11=$C$21,$F$21, TRUE,1), IF('Options Assessment'!F$12=$C$24,$F$24,1), IF('Options Assessment'!F$13=$C$35,$F$35,1),IF('Options Assessment'!F$14=$C$38,$F$38,1),IF('Options Assessment'!F$19=$C$41,$F$41,1),IF('Options Assessment'!F$20=$C$44,$F$44,1),IF('Options Assessment'!F$21=$C$47,$F$47,1),IF('Options Assessment'!F$22=$C$50,$F$50,1),_xlfn.IFS('Options Assessment'!F$23=$C$54,$F$54, 'Options Assessment'!F$23=$C$55,$F$55, 'Options Assessment'!F$23=$C$56,$F$56, TRUE,1),_xlfn.IFS('Options Assessment'!F$24=$C$59,$F$59, 'Options Assessment'!F$24=$C$60,$F$60, TRUE,1),IF('Options Assessment'!F$25=$C$63,$F$63,1),IF('Options Assessment'!F$26=$C$66,$F$66,1),IF('Options Assessment'!F$27=$C$69,$F$69,1),IF('Options Assessment'!F$28=$C$73,$F$73,1),IF('Options Assessment'!F$29=$C$76,$F$76,1),IF('Options Assessment'!F$30=$C$80,$F$80,1),IF('Options Assessment'!F$15=$C$88,$F$88,1),_xlfn.IFS('Options Assessment'!F$16=$C$91,$F$91, 'Options Assessment'!F$16=$C$92,$F$92, 'Options Assessment'!F$16=$C$93,$F$93, 'Options Assessment'!F$16=$C$94,$F$94, 'Options Assessment'!F$16=$C$95,$F$95, TRUE,1),_xlfn.IFS( 'Options Assessment'!F$32=$C$98,$F$98, 'Options Assessment'!F$32=$C$99,$F$99, 'Options Assessment'!F$32=$C$100,$F$100, TRUE,1),IF('Options Assessment'!F$33=$C$103,$F$103,1),IF('Options Assessment'!F$35=$C$106,$F$106,1),_xlfn.IFS('Options Assessment'!F$18=$C$109,$F$109, 'Options Assessment'!F$18=$C$110,$F$110, 'Options Assessment'!F$18=$C$111,$F$111, 'Options Assessment'!F$18=$C$112,$F$112, 'Options Assessment'!F$18=$C$113,$F$113, 'Options Assessment'!F$18=$C$114,$F$114, 'Options Assessment'!F$18=$C$115,$F$115, 'Options Assessment'!F$18=$C$116,$F$116, 'Options Assessment'!F$18=$C$117,$F$117, 'Options Assessment'!F$18=$C$118,$F$118, TRUE,1),IF('Options Assessment'!F$34=$C$121,$F$121,1),_xlfn.IFS('Options Assessment'!F$17=$C$127,$F$127, 'Options Assessment'!F$17=$C$128,$F$128, TRUE,1),_xlfn.IFS('Options Assessment'!F$6=$C$130,$F$130, 'Options Assessment'!F$6=$C$131,$F$131, 'Options Assessment'!F$6=$C$132,$F$132,TRUE,1))","v":1},{"$f":"PRODUCT(_xlfn.IFS('Options Assessment'!G$7=$C$5,$F$5, 'Options Assessment'!G$7=$C$6,$F$6, TRUE,1), _xlfn.IFS('Options Assessment'!G$8=$C$9,$F$9, 'Options Assessment'!G$8=$C$10,$F$10, TRUE,1), IF('Options Assessment'!G$9=$C$13,$F$13,1), IF('Options Assessment'!G$10=$C$16,$F$16,1), _xlfn.IFS('Options Assessment'!G$11=$C$19,$F$19, 'Options Assessment'!G$11=$C$20,$F$20, 'Options Assessment'!G$11=$C$21,$F$21, TRUE,1), IF('Options Assessment'!G$12=$C$24,$F$24,1), IF('Options Assessment'!G$13=$C$35,$F$35,1),IF('Options Assessment'!G$14=$C$38,$F$38,1),IF('Options Assessment'!G$19=$C$41,$F$41,1),IF('Options Assessment'!G$20=$C$44,$F$44,1),IF('Options Assessment'!G$21=$C$47,$F$47,1),IF('Options Assessment'!G$22=$C$50,$F$50,1),_xlfn.IFS('Options Assessment'!G$23=$C$54,$F$54, 'Options Assessment'!G$23=$C$55,$F$55, 'Options Assessment'!G$23=$C$56,$F$56, TRUE,1),_xlfn.IFS('Options Assessment'!G$24=$C$59,$F$59, 'Options Assessment'!G$24=$C$60,$F$60, TRUE,1),IF('Options Assessment'!G$25=$C$63,$F$63,1),IF('Options Assessment'!G$26=$C$66,$F$66,1),IF('Options Assessment'!G$27=$C$69,$F$69,1),IF('Options Assessment'!G$28=$C$73,$F$73,1),IF('Options Assessment'!G$29=$C$76,$F$76,1),IF('Options Assessment'!G$30=$C$80,$F$80,1),IF('Options Assessment'!G$15=$C$88,$F$88,1),_xlfn.IFS('Options Assessment'!G$16=$C$91,$F$91, 'Options Assessment'!G$16=$C$92,$F$92, 'Options Assessment'!G$16=$C$93,$F$93, 'Options Assessment'!G$16=$C$94,$F$94, 'Options Assessment'!G$16=$C$95,$F$95, TRUE,1),_xlfn.IFS( 'Options Assessment'!G$32=$C$98,$F$98, 'Options Assessment'!G$32=$C$99,$F$99, 'Options Assessment'!G$32=$C$100,$F$100, TRUE,1),IF('Options Assessment'!G$33=$C$103,$F$103,1),IF('Options Assessment'!G$35=$C$106,$F$106,1),_xlfn.IFS('Options Assessment'!G$18=$C$109,$F$109, 'Options Assessment'!G$18=$C$110,$F$110, 'Options Assessment'!G$18=$C$111,$F$111, 'Options Assessment'!G$18=$C$112,$F$112, 'Options Assessment'!G$18=$C$113,$F$113, 'Options Assessment'!G$18=$C$114,$F$114, 'Options Assessment'!G$18=$C$115,$F$115, 'Options Assessment'!G$18=$C$116,$F$116, 'Options Assessment'!G$18=$C$117,$F$117, 'Options Assessment'!G$18=$C$118,$F$118, TRUE,1),IF('Options Assessment'!G$34=$C$121,$F$121,1),_xlfn.IFS('Options Assessment'!G$17=$C$127,$F$127, 'Options Assessment'!G$17=$C$128,$F$128, TRUE,1),_xlfn.IFS('Options Assessment'!G$6=$C$130,$F$130, 'Options Assessment'!G$6=$C$131,$F$131, 'Options Assessment'!G$6=$C$132,$F$132,TRUE,1))","v":1},{"$f":"PRODUCT(_xlfn.IFS('Options Assessment'!H$7=$C$5,$F$5, 'Options Assessment'!H$7=$C$6,$F$6, TRUE,1), _xlfn.IFS('Options Assessment'!H$8=$C$9,$F$9, 'Options Assessment'!H$8=$C$10,$F$10, TRUE,1), IF('Options Assessment'!H$9=$C$13,$F$13,1), IF('Options Assessment'!H$10=$C$16,$F$16,1), _xlfn.IFS('Options Assessment'!H$11=$C$19,$F$19, 'Options Assessment'!H$11=$C$20,$F$20, 'Options Assessment'!H$11=$C$21,$F$21, TRUE,1), IF('Options Assessment'!H$12=$C$24,$F$24,1), IF('Options Assessment'!H$13=$C$35,$F$35,1),IF('Options Assessment'!H$14=$C$38,$F$38,1),IF('Options Assessment'!H$19=$C$41,$F$41,1),IF('Options Assessment'!H$20=$C$44,$F$44,1),IF('Options Assessment'!H$21=$C$47,$F$47,1),IF('Options Assessment'!H$22=$C$50,$F$50,1),_xlfn.IFS('Options Assessment'!H$23=$C$54,$F$54, 'Options Assessment'!H$23=$C$55,$F$55, 'Options Assessment'!H$23=$C$56,$F$56, TRUE,1),_xlfn.IFS('Options Assessment'!H$24=$C$59,$F$59, 'Options Assessment'!H$24=$C$60,$F$60, TRUE,1),IF('Options Assessment'!H$25=$C$63,$F$63,1),IF('Options Assessment'!H$26=$C$66,$F$66,1),IF('Options Assessment'!H$27=$C$69,$F$69,1),IF('Options Assessment'!H$28=$C$73,$F$73,1),IF('Options Assessment'!H$29=$C$76,$F$76,1),IF('Options Assessment'!H$30=$C$80,$F$80,1),IF('Options Assessment'!H$15=$C$88,$F$88,1),_xlfn.IFS('Options Assessment'!H$16=$C$91,$F$91, 'Options Assessment'!H$16=$C$92,$F$92, 'Options Assessment'!H$16=$C$93,$F$93, 'Options Assessment'!H$16=$C$94,$F$94, 'Options Assessment'!H$16=$C$95,$F$95, TRUE,1),_xlfn.IFS( 'Options Assessment'!H$32=$C$98,$F$98, 'Options Assessment'!H$32=$C$99,$F$99, 'Options Assessment'!H$32=$C$100,$F$100, TRUE,1),IF('Options Assessment'!H$33=$C$103,$F$103,1),IF('Options Assessment'!H$35=$C$106,$F$106,1),_xlfn.IFS('Options Assessment'!H$18=$C$109,$F$109, 'Options Assessment'!H$18=$C$110,$F$110, 'Options Assessment'!H$18=$C$111,$F$111, 'Options Assessment'!H$18=$C$112,$F$112, 'Options Assessment'!H$18=$C$113,$F$113, 'Options Assessment'!H$18=$C$114,$F$114, 'Options Assessment'!H$18=$C$115,$F$115, 'Options Assessment'!H$18=$C$116,$F$116, 'Options Assessment'!H$18=$C$117,$F$117, 'Options Assessment'!H$18=$C$118,$F$118, TRUE,1),IF('Options Assessment'!H$34=$C$121,$F$121,1),_xlfn.IFS('Options Assessment'!H$17=$C$127,$F$127, 'Options Assessment'!H$17=$C$128,$F$128, TRUE,1),_xlfn.IFS('Options Assessment'!H$6=$C$130,$F$130, 'Options Assessment'!H$6=$C$131,$F$131, 'Options Assessment'!H$6=$C$132,$F$132,TRUE,1))","v":1},{"$f":"PRODUCT(_xlfn.IFS('Options Assessment'!I$7=$C$5,$F$5, 'Options Assessment'!I$7=$C$6,$F$6, TRUE,1), _xlfn.IFS('Options Assessment'!I$8=$C$9,$F$9, 'Options Assessment'!I$8=$C$10,$F$10, TRUE,1), IF('Options Assessment'!I$9=$C$13,$F$13,1), IF('Options Assessment'!I$10=$C$16,$F$16,1), _xlfn.IFS('Options Assessment'!I$11=$C$19,$F$19, 'Options Assessment'!I$11=$C$20,$F$20, 'Options Assessment'!I$11=$C$21,$F$21, TRUE,1), IF('Options Assessment'!I$12=$C$24,$F$24,1), IF('Options Assessment'!I$13=$C$35,$F$35,1),IF('Options Assessment'!I$14=$C$38,$F$38,1),IF('Options Assessment'!I$19=$C$41,$F$41,1),IF('Options Assessment'!I$20=$C$44,$F$44,1),IF('Options Assessment'!I$21=$C$47,$F$47,1),IF('Options Assessment'!I$22=$C$50,$F$50,1),_xlfn.IFS('Options Assessment'!I$23=$C$54,$F$54, 'Options Assessment'!I$23=$C$55,$F$55, 'Options Assessment'!I$23=$C$56,$F$56, TRUE,1),_xlfn.IFS('Options Assessment'!I$24=$C$59,$F$59, 'Options Assessment'!I$24=$C$60,$F$60, TRUE,1),IF('Options Assessment'!I$25=$C$63,$F$63,1),IF('Options Assessment'!I$26=$C$66,$F$66,1),IF('Options Assessment'!I$27=$C$69,$F$69,1),IF('Options Assessment'!I$28=$C$73,$F$73,1),IF('Options Assessment'!I$29=$C$76,$F$76,1),IF('Options Assessment'!I$30=$C$80,$F$80,1),IF('Options Assessment'!I$15=$C$88,$F$88,1),_xlfn.IFS('Options Assessment'!I$16=$C$91,$F$91, 'Options Assessment'!I$16=$C$92,$F$92, 'Options Assessment'!I$16=$C$93,$F$93, 'Options Assessment'!I$16=$C$94,$F$94, 'Options Assessment'!I$16=$C$95,$F$95, TRUE,1),_xlfn.IFS( 'Options Assessment'!I$32=$C$98,$F$98, 'Options Assessment'!I$32=$C$99,$F$99, 'Options Assessment'!I$32=$C$100,$F$100, TRUE,1),IF('Options Assessment'!I$33=$C$103,$F$103,1),IF('Options Assessment'!I$35=$C$106,$F$106,1),_xlfn.IFS('Options Assessment'!I$18=$C$109,$F$109, 'Options Assessment'!I$18=$C$110,$F$110, 'Options Assessment'!I$18=$C$111,$F$111, 'Options Assessment'!I$18=$C$112,$F$112, 'Options Assessment'!I$18=$C$113,$F$113, 'Options Assessment'!I$18=$C$114,$F$114, 'Options Assessment'!I$18=$C$115,$F$115, 'Options Assessment'!I$18=$C$116,$F$116, 'Options Assessment'!I$18=$C$117,$F$117, 'Options Assessment'!I$18=$C$118,$F$118, TRUE,1),IF('Options Assessment'!I$34=$C$121,$F$121,1),_xlfn.IFS('Options Assessment'!I$17=$C$127,$F$127, 'Options Assessment'!I$17=$C$128,$F$128, TRUE,1),_xlfn.IFS('Options Assessment'!I$6=$C$130,$F$130, 'Options Assessment'!I$6=$C$131,$F$131, 'Options Assessment'!I$6=$C$132,$F$132,TRUE,1))","v":1},{"$f":"PRODUCT(_xlfn.IFS('Options Assessment'!J$7=$C$5,$F$5, 'Options Assessment'!J$7=$C$6,$F$6, TRUE,1), _xlfn.IFS('Options Assessment'!J$8=$C$9,$F$9, 'Options Assessment'!J$8=$C$10,$F$10, TRUE,1), IF('Options Assessment'!J$9=$C$13,$F$13,1), IF('Options Assessment'!J$10=$C$16,$F$16,1), _xlfn.IFS('Options Assessment'!J$11=$C$19,$F$19, 'Options Assessment'!J$11=$C$20,$F$20, 'Options Assessment'!J$11=$C$21,$F$21, TRUE,1), IF('Options Assessment'!J$12=$C$24,$F$24,1), IF('Options Assessment'!J$13=$C$35,$F$35,1),IF('Options Assessment'!J$14=$C$38,$F$38,1),IF('Options Assessment'!J$19=$C$41,$F$41,1),IF('Options Assessment'!J$20=$C$44,$F$44,1),IF('Options Assessment'!J$21=$C$47,$F$47,1),IF('Options Assessment'!J$22=$C$50,$F$50,1),_xlfn.IFS('Options Assessment'!J$23=$C$54,$F$54, 'Options Assessment'!J$23=$C$55,$F$55, 'Options Assessment'!J$23=$C$56,$F$56, TRUE,1),_xlfn.IFS('Options Assessment'!J$24=$C$59,$F$59, 'Options Assessment'!J$24=$C$60,$F$60, TRUE,1),IF('Options Assessment'!J$25=$C$63,$F$63,1),IF('Options Assessment'!J$26=$C$66,$F$66,1),IF('Options Assessment'!J$27=$C$69,$F$69,1),IF('Options Assessment'!J$28=$C$73,$F$73,1),IF('Options Assessment'!J$29=$C$76,$F$76,1),IF('Options Assessment'!J$30=$C$80,$F$80,1),IF('Options Assessment'!J$15=$C$88,$F$88,1),_xlfn.IFS('Options Assessment'!J$16=$C$91,$F$91, 'Options Assessment'!J$16=$C$92,$F$92, 'Options Assessment'!J$16=$C$93,$F$93, 'Options Assessment'!J$16=$C$94,$F$94, 'Options Assessment'!J$16=$C$95,$F$95, TRUE,1),_xlfn.IFS( 'Options Assessment'!J$32=$C$98,$F$98, 'Options Assessment'!J$32=$C$99,$F$99, 'Options Assessment'!J$32=$C$100,$F$100, TRUE,1),IF('Options Assessment'!J$33=$C$103,$F$103,1),IF('Options Assessment'!J$35=$C$106,$F$106,1),_xlfn.IFS('Options Assessment'!J$18=$C$109,$F$109, 'Options Assessment'!J$18=$C$110,$F$110, 'Options Assessment'!J$18=$C$111,$F$111, 'Options Assessment'!J$18=$C$112,$F$112, 'Options Assessment'!J$18=$C$113,$F$113, 'Options Assessment'!J$18=$C$114,$F$114, 'Options Assessment'!J$18=$C$115,$F$115, 'Options Assessment'!J$18=$C$116,$F$116, 'Options Assessment'!J$18=$C$117,$F$117, 'Options Assessment'!J$18=$C$118,$F$118, TRUE,1),IF('Options Assessment'!J$34=$C$121,$F$121,1),_xlfn.IFS('Options Assessment'!J$17=$C$127,$F$127, 'Options Assessment'!J$17=$C$128,$F$128, TRUE,1),_xlfn.IFS('Options Assessment'!J$6=$C$130,$F$130, 'Options Assessment'!J$6=$C$131,$F$131, 'Options Assessment'!J$6=$C$132,$F$132,TRUE,1))","v":1},{"$f":"PRODUCT(_xlfn.IFS('Options Assessment'!K$7=$C$5,$F$5, 'Options Assessment'!K$7=$C$6,$F$6, TRUE,1), _xlfn.IFS('Options Assessment'!K$8=$C$9,$F$9, 'Options Assessment'!K$8=$C$10,$F$10, TRUE,1), IF('Options Assessment'!K$9=$C$13,$F$13,1), IF('Options Assessment'!K$10=$C$16,$F$16,1), _xlfn.IFS('Options Assessment'!K$11=$C$19,$F$19, 'Options Assessment'!K$11=$C$20,$F$20, 'Options Assessment'!K$11=$C$21,$F$21, TRUE,1), IF('Options Assessment'!K$12=$C$24,$F$24,1), IF('Options Assessment'!K$13=$C$35,$F$35,1),IF('Options Assessment'!K$14=$C$38,$F$38,1),IF('Options Assessment'!K$19=$C$41,$F$41,1),IF('Options Assessment'!K$20=$C$44,$F$44,1),IF('Options Assessment'!K$21=$C$47,$F$47,1),IF('Options Assessment'!K$22=$C$50,$F$50,1),_xlfn.IFS('Options Assessment'!K$23=$C$54,$F$54, 'Options Assessment'!K$23=$C$55,$F$55, 'Options Assessment'!K$23=$C$56,$F$56, TRUE,1),_xlfn.IFS('Options Assessment'!K$24=$C$59,$F$59, 'Options Assessment'!K$24=$C$60,$F$60, TRUE,1),IF('Options Assessment'!K$25=$C$63,$F$63,1),IF('Options Assessment'!K$26=$C$66,$F$66,1),IF('Options Assessment'!K$27=$C$69,$F$69,1),IF('Options Assessment'!K$28=$C$73,$F$73,1),IF('Options Assessment'!K$29=$C$76,$F$76,1),IF('Options Assessment'!K$30=$C$80,$F$80,1),IF('Options Assessment'!K$15=$C$88,$F$88,1),_xlfn.IFS('Options Assessment'!K$16=$C$91,$F$91, 'Options Assessment'!K$16=$C$92,$F$92, 'Options Assessment'!K$16=$C$93,$F$93, 'Options Assessment'!K$16=$C$94,$F$94, 'Options Assessment'!K$16=$C$95,$F$95, TRUE,1),_xlfn.IFS( 'Options Assessment'!K$32=$C$98,$F$98, 'Options Assessment'!K$32=$C$99,$F$99, 'Options Assessment'!K$32=$C$100,$F$100, TRUE,1),IF('Options Assessment'!K$33=$C$103,$F$103,1),IF('Options Assessment'!K$35=$C$106,$F$106,1),_xlfn.IFS('Options Assessment'!K$18=$C$109,$F$109, 'Options Assessment'!K$18=$C$110,$F$110, 'Options Assessment'!K$18=$C$111,$F$111, 'Options Assessment'!K$18=$C$112,$F$112, 'Options Assessment'!K$18=$C$113,$F$113, 'Options Assessment'!K$18=$C$114,$F$114, 'Options Assessment'!K$18=$C$115,$F$115, 'Options Assessment'!K$18=$C$116,$F$116, 'Options Assessment'!K$18=$C$117,$F$117, 'Options Assessment'!K$18=$C$118,$F$118, TRUE,1),IF('Options Assessment'!K$34=$C$121,$F$121,1),_xlfn.IFS('Options Assessment'!K$17=$C$127,$F$127, 'Options Assessment'!K$17=$C$128,$F$128, TRUE,1),_xlfn.IFS('Options Assessment'!K$6=$C$130,$F$130, 'Options Assessment'!K$6=$C$131,$F$131, 'Options Assessment'!K$6=$C$132,$F$132,TRUE,1))","v":1},{"$f":"PRODUCT(_xlfn.IFS('Options Assessment'!L$7=$C$5,$F$5, 'Options Assessment'!L$7=$C$6,$F$6, TRUE,1), _xlfn.IFS('Options Assessment'!L$8=$C$9,$F$9, 'Options Assessment'!L$8=$C$10,$F$10, TRUE,1), IF('Options Assessment'!L$9=$C$13,$F$13,1), IF('Options Assessment'!L$10=$C$16,$F$16,1), _xlfn.IFS('Options Assessment'!L$11=$C$19,$F$19, 'Options Assessment'!L$11=$C$20,$F$20, 'Options Assessment'!L$11=$C$21,$F$21, TRUE,1), IF('Options Assessment'!L$12=$C$24,$F$24,1), IF('Options Assessment'!L$13=$C$35,$F$35,1),IF('Options Assessment'!L$14=$C$38,$F$38,1),IF('Options Assessment'!L$19=$C$41,$F$41,1),IF('Options Assessment'!L$20=$C$44,$F$44,1),IF('Options Assessment'!L$21=$C$47,$F$47,1),IF('Options Assessment'!L$22=$C$50,$F$50,1),_xlfn.IFS('Options Assessment'!L$23=$C$54,$F$54, 'Options Assessment'!L$23=$C$55,$F$55, 'Options Assessment'!L$23=$C$56,$F$56, TRUE,1),_xlfn.IFS('Options Assessment'!L$24=$C$59,$F$59, 'Options Assessment'!L$24=$C$60,$F$60, TRUE,1),IF('Options Assessment'!L$25=$C$63,$F$63,1),IF('Options Assessment'!L$26=$C$66,$F$66,1),IF('Options Assessment'!L$27=$C$69,$F$69,1),IF('Options Assessment'!L$28=$C$73,$F$73,1),IF('Options Assessment'!L$29=$C$76,$F$76,1),IF('Options Assessment'!L$30=$C$80,$F$80,1),IF('Options Assessment'!L$15=$C$88,$F$88,1),_xlfn.IFS('Options Assessment'!L$16=$C$91,$F$91, 'Options Assessment'!L$16=$C$92,$F$92, 'Options Assessment'!L$16=$C$93,$F$93, 'Options Assessment'!L$16=$C$94,$F$94, 'Options Assessment'!L$16=$C$95,$F$95, TRUE,1),_xlfn.IFS( 'Options Assessment'!L$32=$C$98,$F$98, 'Options Assessment'!L$32=$C$99,$F$99, 'Options Assessment'!L$32=$C$100,$F$100, TRUE,1),IF('Options Assessment'!L$33=$C$103,$F$103,1),IF('Options Assessment'!L$35=$C$106,$F$106,1),_xlfn.IFS('Options Assessment'!L$18=$C$109,$F$109, 'Options Assessment'!L$18=$C$110,$F$110, 'Options Assessment'!L$18=$C$111,$F$111, 'Options Assessment'!L$18=$C$112,$F$112, 'Options Assessment'!L$18=$C$113,$F$113, 'Options Assessment'!L$18=$C$114,$F$114, 'Options Assessment'!L$18=$C$115,$F$115, 'Options Assessment'!L$18=$C$116,$F$116, 'Options Assessment'!L$18=$C$117,$F$117, 'Options Assessment'!L$18=$C$118,$F$118, TRUE,1),IF('Options Assessment'!L$34=$C$121,$F$121,1),_xlfn.IFS('Options Assessment'!L$17=$C$127,$F$127, 'Options Assessment'!L$17=$C$128,$F$128, TRUE,1),_xlfn.IFS('Options Assessment'!L$6=$C$130,$F$130, 'Options Assessment'!L$6=$C$131,$F$131, 'Options Assessment'!L$6=$C$132,$F$132,TRUE,1))","v":1}]
[null,"Median","Flush median",{"$f":"_xlfn.CONCAT(B5,\" - \",C5)","v":"Median - Flush median"},null,0.85,0.85,null,null,null,null,"Priority_Intersection",{"$f":"PRODUCT(_xlfn.IFS('Options Assessment'!#REF!=$C$5,$G$5, 'Options Assessment'!#REF!=$C$6,$G$6, TRUE,1), _xlfn.IFS('Options Assessment'!#REF!=$C$9,$G$9, 'Options Assessment'!#REF!=$C$10,$G$10, TRUE,1), IF('Options Assessment'!#REF!=$C$13,$G$13,1), IF('Options Assessment'!#REF!=$C$16,$G$16,1), _xlfn.IFS('Options Assessment'!#REF!=$C$19,$G$19, 'Options Assessment'!#REF!=$C$20,$G$20, 'Options Assessment'!#REF!=$C$21,$G$21, TRUE,1), IF('Options Assessment'!#REF!=$C$24,$G$24,1), IF('Options Assessment'!#REF!=$C$27,$G$27,1),IF('Options Assessment'!#REF!=$C$31,$G$31,1),IF('Options Assessment'!#REF!=$C$35,$G$35,1),IF('Options Assessment'!#REF!=$C$38,$G$38,1),IF('Options Assessment'!#REF!=$C$41,$G$41,1),IF('Options Assessment'!#REF!=$C$44,$G$44,1),IF('Options Assessment'!#REF!=$C$47,$G$47,1),IF('Options Assessment'!#REF!=$C$50,$G$50,1),_xlfn.IFS('Options Assessment'!#REF!=$C$54,$G$54, 'Options Assessment'!#REF!=$C$55,$G$55, 'Options Assessment'!#REF!=$C$56,$G$56, TRUE,1),_xlfn.IFS('Options Assessment'!#REF!=$C$59,$G$59, 'Options Assessment'!#REF!=$C$60,$G$60, TRUE,1),IF('Options Assessment'!#REF!=$C$63,$G$63,1),IF('Options Assessment'!#REF!=$C$66,$G$66,1),IF('Options Assessment'!#REF!=$C$69,$G$69,1),IF('Options Assessment'!#REF!=$C$73,$G$73,1),IF('Options Assessment'!#REF!=$C$76,$G$76,1),IF('Options Assessment'!#REF!=$C$80,$G$80,1),IF('Options Assessment'!#REF!=$C$88,$G$88,1),_xlfn.IFS('Options Assessment'!#REF!=$C$91,$G$91, 'Options Assessment'!#REF!=$C$92,$G$92, 'Options Assessment'!#REF!=$C$93,$G$93, 'Options Assessment'!#REF!=$C$94,$G$94, 'Options Assessment'!#REF!=$C$95,$G$95, TRUE,1),_xlfn.IFS( 'Options Assessment'!#REF!=$C$98,$G$98, 'Options Assessment'!#REF!=$C$99,$G$99, 'Options Assessment'!#REF!=$C$100,$G$100, TRUE,1),IF('Options Assessment'!#REF!=$C$103,$G$103,1),IF('Options Assessment'!#REF!=$C$106,$G$106,1),_xlfn.IFS('Options Assessment'!#REF!=$C$109,$G$109, 'Options Assessment'!#REF!=$C$110,$G$110, 'Options Assessment'!#REF!=$C$111,$G$111, 'Options Assessment'!#REF!=$C$112,$G$112, 'Options Assessment'!#REF!=$C$113,$G$113, 'Options Assessment'!#REF!=$C$114,$G$114, 'Options Assessment'!#REF!=$C$115,$G$115, 'Options Assessment'!#REF!=$C$116,$G$116, 'Options Assessment'!#REF!=$C$117,$G$117, 'Options Assessment'!#REF!=$C$118,$G$118, TRUE,1),IF('Options Assessment'!#REF!=$C$121,$G$121,1),_xlfn.IFS('Options Assessment'!#REF!=$C$127,$G$127, 'Options Assessment'!#REF!=$C$128,$G$128, TRUE,1))","v":{"$error":"#REF!"}},{"$f":"PRODUCT(_xlfn.IFS('Options Assessment'!C$7=$C$5,$G$5, 'Options Assessment'!C$7=$C$6,$G$6, TRUE,1), _xlfn.IFS('Options Assessment'!C$8=$C$9,$G$9, 'Options Assessment'!C$8=$C$10,$G$10, TRUE,1), IF('Options Assessment'!C$9=$C$13,$G$13,1), IF('Options Assessment'!C$10=$C$16,$G$16,1), _xlfn.IFS('Options Assessment'!C$11=$C$19,$G$19, 'Options Assessment'!C$11=$C$20,$G$20, 'Options Assessment'!C$11=$C$21,$G$21, TRUE,1), IF('Options Assessment'!C$12=$C$24,$G$24,1), IF('Options Assessment'!C$13=$C$35,$G$35,1),IF('Options Assessment'!C$14=$C$38,$G$38,1),IF('Options Assessment'!C$19=$C$41,$G$41,1),IF('Options Assessment'!C$20=$C$44,$G$44,1),IF('Options Assessment'!C$21=$C$47,$G$47,1),IF('Options Assessment'!C$22=$C$50,$G$50,1),_xlfn.IFS('Options Assessment'!C$23=$C$54,$G$54, 'Options Assessment'!C$23=$C$55,$G$55, 'Options Assessment'!C$23=$C$56,$G$56, TRUE,1),_xlfn.IFS('Options Assessment'!C$24=$C$59,$G$59, 'Options Assessment'!C$24=$C$60,$G$60, TRUE,1),IF('Options Assessment'!C$25=$C$63,$G$63,1),IF('Options Assessment'!C$26=$C$66,$G$66,1),IF('Options Assessment'!C$27=$C$69,$G$69,1),IF('Options Assessment'!C$28=$C$73,$G$73,1),IF('Options Assessment'!C$29=$C$76,$G$76,1),IF('Options Assessment'!C$30=$C$80,$G$80,1),IF('Options Assessment'!C$15=$C$88,$G$88,1),_xlfn.IFS('Options Assessment'!C$16=$C$91,$G$91, 'Options Assessment'!C$16=$C$92,$G$92, 'Options Assessment'!C$16=$C$93,$G$93, 'Options Assessment'!C$16=$C$94,$G$94, 'Options Assessment'!C$16=$C$95,$G$95, TRUE,1),_xlfn.IFS( 'Options Assessment'!C$32=$C$98,$G$98, 'Options Assessment'!C$32=$C$99,$G$99, 'Options Assessment'!C$32=$C$100,$G$100, TRUE,1),IF('Options Assessment'!C$33=$C$103,$G$103,1),IF('Options Assessment'!C$35=$C$106,$G$106,1),_xlfn.IFS('Options Assessment'!C$18=$C$109,$G$109, 'Options Assessment'!C$18=$C$110,$G$110, 'Options Assessment'!C$18=$C$111,$G$111, 'Options Assessment'!C$18=$C$112,$G$112, 'Options Assessment'!C$18=$C$113,$G$113, 'Options Assessment'!C$18=$C$114,$G$114, 'Options Assessment'!C$18=$C$115,$G$115, 'Options Assessment'!C$18=$C$116,$G$116, 'Options Assessment'!C$18=$C$117,$G$117, 'Options Assessment'!C$18=$C$118,$G$118, TRUE,1),IF('Options Assessment'!C$34=$C$121,$G$121,1),_xlfn.IFS('Options Assessment'!C$17=$C$127,$G$127, 'Options Assessment'!C$17=$C$128,$G$128, TRUE,1),_xlfn.IFS('Options Assessment'!C$6=$C$130,$F$130, 'Options Assessment'!C$6=$C$131,$F$131, 'Options Assessment'!C$6=$C$132,$F$132,TRUE,1))","v":0.63112500000000005},{"$f":"PRODUCT(_xlfn.IFS('Options Assessment'!D$7=$C$5,$G$5, 'Options Assessment'!D$7=$C$6,$G$6, TRUE,1), _xlfn.IFS('Options Assessment'!D$8=$C$9,$G$9, 'Options Assessment'!D$8=$C$10,$G$10, TRUE,1), IF('Options Assessment'!D$9=$C$13,$G$13,1), IF('Options Assessment'!D$10=$C$16,$G$16,1), _xlfn.IFS('Options Assessment'!D$11=$C$19,$G$19, 'Options Assessment'!D$11=$C$20,$G$20, 'Options Assessment'!D$11=$C$21,$G$21, TRUE,1), IF('Options Assessment'!D$12=$C$24,$G$24,1), IF('Options Assessment'!D$13=$C$35,$G$35,1),IF('Options Assessment'!D$14=$C$38,$G$38,1),IF('Options Assessment'!D$19=$C$41,$G$41,1),IF('Options Assessment'!D$20=$C$44,$G$44,1),IF('Options Assessment'!D$21=$C$47,$G$47,1),IF('Options Assessment'!D$22=$C$50,$G$50,1),_xlfn.IFS('Options Assessment'!D$23=$C$54,$G$54, 'Options Assessment'!D$23=$C$55,$G$55, 'Options Assessment'!D$23=$C$56,$G$56, TRUE,1),_xlfn.IFS('Options Assessment'!D$24=$C$59,$G$59, 'Options Assessment'!D$24=$C$60,$G$60, TRUE,1),IF('Options Assessment'!D$25=$C$63,$G$63,1),IF('Options Assessment'!D$26=$C$66,$G$66,1),IF('Options Assessment'!D$27=$C$69,$G$69,1),IF('Options Assessment'!D$28=$C$73,$G$73,1),IF('Options Assessment'!D$29=$C$76,$G$76,1),IF('Options Assessment'!D$30=$C$80,$G$80,1),IF('Options Assessment'!D$15=$C$88,$G$88,1),_xlfn.IFS('Options Assessment'!D$16=$C$91,$G$91, 'Options Assessment'!D$16=$C$92,$G$92, 'Options Assessment'!D$16=$C$93,$G$93, 'Options Assessment'!D$16=$C$94,$G$94, 'Options Assessment'!D$16=$C$95,$G$95, TRUE,1),_xlfn.IFS( 'Options Assessment'!D$32=$C$98,$G$98, 'Options Assessment'!D$32=$C$99,$G$99, 'Options Assessment'!D$32=$C$100,$G$100, TRUE,1),IF('Options Assessment'!D$33=$C$103,$G$103,1),IF('Options Assessment'!D$35=$C$106,$G$106,1),_xlfn.IFS('Options Assessment'!D$18=$C$109,$G$109, 'Options Assessment'!D$18=$C$110,$G$110, 'Options Assessment'!D$18=$C$111,$G$111, 'Options Assessment'!D$18=$C$112,$G$112, 'Options Assessment'!D$18=$C$113,$G$113, 'Options Assessment'!D$18=$C$114,$G$114, 'Options Assessment'!D$18=$C$115,$G$115, 'Options Assessment'!D$18=$C$116,$G$116, 'Options Assessment'!D$18=$C$117,$G$117, 'Options Assessment'!D$18=$C$118,$G$118, TRUE,1),IF('Options Assessment'!D$34=$C$121,$G$121,1),_xlfn.IFS('Options Assessment'!D$17=$C$127,$G$127, 'Options Assessment'!D$17=$C$128,$G$128, TRUE,1),_xlfn.IFS('Options Assessment'!D$6=$C$130,$F$130, 'Options Assessment'!D$6=$C$131,$F$131, 'Options Assessment'!D$6=$C$132,$F$132,TRUE,1))","v":1},{"$f":"PRODUCT(_xlfn.IFS('Options Assessment'!E$7=$C$5,$G$5, 'Options Assessment'!E$7=$C$6,$G$6, TRUE,1), _xlfn.IFS('Options Assessment'!E$8=$C$9,$G$9, 'Options Assessment'!E$8=$C$10,$G$10, TRUE,1), IF('Options Assessment'!E$9=$C$13,$G$13,1), IF('Options Assessment'!E$10=$C$16,$G$16,1), _xlfn.IFS('Options Assessment'!E$11=$C$19,$G$19, 'Options Assessment'!E$11=$C$20,$G$20, 'Options Assessment'!E$11=$C$21,$G$21, TRUE,1), IF('Options Assessment'!E$12=$C$24,$G$24,1), IF('Options Assessment'!E$13=$C$35,$G$35,1),IF('Options Assessment'!E$14=$C$38,$G$38,1),IF('Options Assessment'!E$19=$C$41,$G$41,1),IF('Options Assessment'!E$20=$C$44,$G$44,1),IF('Options Assessment'!E$21=$C$47,$G$47,1),IF('Options Assessment'!E$22=$C$50,$G$50,1),_xlfn.IFS('Options Assessment'!E$23=$C$54,$G$54, 'Options Assessment'!E$23=$C$55,$G$55, 'Options Assessment'!E$23=$C$56,$G$56, TRUE,1),_xlfn.IFS('Options Assessment'!E$24=$C$59,$G$59, 'Options Assessment'!E$24=$C$60,$G$60, TRUE,1),IF('Options Assessment'!E$25=$C$63,$G$63,1),IF('Options Assessment'!E$26=$C$66,$G$66,1),IF('Options Assessment'!E$27=$C$69,$G$69,1),IF('Options Assessment'!E$28=$C$73,$G$73,1),IF('Options Assessment'!E$29=$C$76,$G$76,1),IF('Options Assessment'!E$30=$C$80,$G$80,1),IF('Options Assessment'!E$15=$C$88,$G$88,1),_xlfn.IFS('Options Assessment'!E$16=$C$91,$G$91, 'Options Assessment'!E$16=$C$92,$G$92, 'Options Assessment'!E$16=$C$93,$G$93, 'Options Assessment'!E$16=$C$94,$G$94, 'Options Assessment'!E$16=$C$95,$G$95, TRUE,1),_xlfn.IFS( 'Options Assessment'!E$32=$C$98,$G$98, 'Options Assessment'!E$32=$C$99,$G$99, 'Options Assessment'!E$32=$C$100,$G$100, TRUE,1),IF('Options Assessment'!E$33=$C$103,$G$103,1),IF('Options Assessment'!E$35=$C$106,$G$106,1),_xlfn.IFS('Options Assessment'!E$18=$C$109,$G$109, 'Options Assessment'!E$18=$C$110,$G$110, 'Options Assessment'!E$18=$C$111,$G$111, 'Options Assessment'!E$18=$C$112,$G$112, 'Options Assessment'!E$18=$C$113,$G$113, 'Options Assessment'!E$18=$C$114,$G$114, 'Options Assessment'!E$18=$C$115,$G$115, 'Options Assessment'!E$18=$C$116,$G$116, 'Options Assessment'!E$18=$C$117,$G$117, 'Options Assessment'!E$18=$C$118,$G$118, TRUE,1),IF('Options Assessment'!E$34=$C$121,$G$121,1),_xlfn.IFS('Options Assessment'!E$17=$C$127,$G$127, 'Options Assessment'!E$17=$C$128,$G$128, TRUE,1),_xlfn.IFS('Options Assessment'!E$6=$C$130,$F$130, 'Options Assessment'!E$6=$C$131,$F$131, 'Options Assessment'!E$6=$C$132,$F$132,TRUE,1))","v":1},{"$f":"PRODUCT(_xlfn.IFS('Options Assessment'!F$7=$C$5,$G$5, 'Options Assessment'!F$7=$C$6,$G$6, TRUE,1), _xlfn.IFS('Options Assessment'!F$8=$C$9,$G$9, 'Options Assessment'!F$8=$C$10,$G$10, TRUE,1), IF('Options Assessment'!F$9=$C$13,$G$13,1), IF('Options Assessment'!F$10=$C$16,$G$16,1), _xlfn.IFS('Options Assessment'!F$11=$C$19,$G$19, 'Options Assessment'!F$11=$C$20,$G$20, 'Options Assessment'!F$11=$C$21,$G$21, TRUE,1), IF('Options Assessment'!F$12=$C$24,$G$24,1), IF('Options Assessment'!F$13=$C$35,$G$35,1),IF('Options Assessment'!F$14=$C$38,$G$38,1),IF('Options Assessment'!F$19=$C$41,$G$41,1),IF('Options Assessment'!F$20=$C$44,$G$44,1),IF('Options Assessment'!F$21=$C$47,$G$47,1),IF('Options Assessment'!F$22=$C$50,$G$50,1),_xlfn.IFS('Options Assessment'!F$23=$C$54,$G$54, 'Options Assessment'!F$23=$C$55,$G$55, 'Options Assessment'!F$23=$C$56,$G$56, TRUE,1),_xlfn.IFS('Options Assessment'!F$24=$C$59,$G$59, 'Options Assessment'!F$24=$C$60,$G$60, TRUE,1),IF('Options Assessment'!F$25=$C$63,$G$63,1),IF('Options Assessment'!F$26=$C$66,$G$66,1),IF('Options Assessment'!F$27=$C$69,$G$69,1),IF('Options Assessment'!F$28=$C$73,$G$73,1),IF('Options Assessment'!F$29=$C$76,$G$76,1),IF('Options Assessment'!F$30=$C$80,$G$80,1),IF('Options Assessment'!F$15=$C$88,$G$88,1),_xlfn.IFS('Options Assessment'!F$16=$C$91,$G$91, 'Options Assessment'!F$16=$C$92,$G$92, 'Options Assessment'!F$16=$C$93,$G$93, 'Options Assessment'!F$16=$C$94,$G$94, 'Options Assessment'!F$16=$C$95,$G$95, TRUE,1),_xlfn.IFS( 'Options Assessment'!F$32=$C$98,$G$98, 'Options Assessment'!F$32=$C$99,$G$99, 'Options Assessment'!F$32=$C$100,$G$100, TRUE,1),IF('Options Assessment'!F$33=$C$103,$G$103,1),IF('Options Assessment'!F$35=$C$106,$G$106,1),_xlfn.IFS('Options Assessment'!F$18=$C$109,$G$109, 'Options Assessment'!F$18=$C$110,$G$110, 'Options Assessment'!F$18=$C$111,$G$111, 'Options Assessment'!F$18=$C$112,$G$112, 'Options Assessment'!F$18=$C$113,$G$113, 'Options Assessment'!F$18=$C$114,$G$114, 'Options Assessment'!F$18=$C$115,$G$115, 'Options Assessment'!F$18=$C$116,$G$116, 'Options Assessment'!F$18=$C$117,$G$117, 'Options Assessment'!F$18=$C$118,$G$118, TRUE,1),IF('Options Assessment'!F$34=$C$121,$G$121,1),_xlfn.IFS('Options Assessment'!F$17=$C$127,$G$127, 'Options Assessment'!F$17=$C$128,$G$128, TRUE,1),_xlfn.IFS('Options Assessment'!F$6=$C$130,$F$130, 'Options Assessment'!F$6=$C$131,$F$131, 'Options Assessment'!F$6=$C$132,$F$132,TRUE,1))","v":1},{"$f":"PRODUCT(_xlfn.IFS('Options Assessment'!G$7=$C$5,$G$5, 'Options Assessment'!G$7=$C$6,$G$6, TRUE,1), _xlfn.IFS('Options Assessment'!G$8=$C$9,$G$9, 'Options Assessment'!G$8=$C$10,$G$10, TRUE,1), IF('Options Assessment'!G$9=$C$13,$G$13,1), IF('Options Assessment'!G$10=$C$16,$G$16,1), _xlfn.IFS('Options Assessment'!G$11=$C$19,$G$19, 'Options Assessment'!G$11=$C$20,$G$20, 'Options Assessment'!G$11=$C$21,$G$21, TRUE,1), IF('Options Assessment'!G$12=$C$24,$G$24,1), IF('Options Assessment'!G$13=$C$35,$G$35,1),IF('Options Assessment'!G$14=$C$38,$G$38,1),IF('Options Assessment'!G$19=$C$41,$G$41,1),IF('Options Assessment'!G$20=$C$44,$G$44,1),IF('Options Assessment'!G$21=$C$47,$G$47,1),IF('Options Assessment'!G$22=$C$50,$G$50,1),_xlfn.IFS('Options Assessment'!G$23=$C$54,$G$54, 'Options Assessment'!G$23=$C$55,$G$55, 'Options Assessment'!G$23=$C$56,$G$56, TRUE,1),_xlfn.IFS('Options Assessment'!G$24=$C$59,$G$59, 'Options Assessment'!G$24=$C$60,$G$60, TRUE,1),IF('Options Assessment'!G$25=$C$63,$G$63,1),IF('Options Assessment'!G$26=$C$66,$G$66,1),IF('Options Assessment'!G$27=$C$69,$G$69,1),IF('Options Assessment'!G$28=$C$73,$G$73,1),IF('Options Assessment'!G$29=$C$76,$G$76,1),IF('Options Assessment'!G$30=$C$80,$G$80,1),IF('Options Assessment'!G$15=$C$88,$G$88,1),_xlfn.IFS('Options Assessment'!G$16=$C$91,$G$91, 'Options Assessment'!G$16=$C$92,$G$92, 'Options Assessment'!G$16=$C$93,$G$93, 'Options Assessment'!G$16=$C$94,$G$94, 'Options Assessment'!G$16=$C$95,$G$95, TRUE,1),_xlfn.IFS( 'Options Assessment'!G$32=$C$98,$G$98, 'Options Assessment'!G$32=$C$99,$G$99, 'Options Assessment'!G$32=$C$100,$G$100, TRUE,1),IF('Options Assessment'!G$33=$C$103,$G$103,1),IF('Options Assessment'!G$35=$C$106,$G$106,1),_xlfn.IFS('Options Assessment'!G$18=$C$109,$G$109, 'Options Assessment'!G$18=$C$110,$G$110, 'Options Assessment'!G$18=$C$111,$G$111, 'Options Assessment'!G$18=$C$112,$G$112, 'Options Assessment'!G$18=$C$113,$G$113, 'Options Assessment'!G$18=$C$114,$G$114, 'Options Assessment'!G$18=$C$115,$G$115, 'Options Assessment'!G$18=$C$116,$G$116, 'Options Assessment'!G$18=$C$117,$G$117, 'Options Assessment'!G$18=$C$118,$G$118, TRUE,1),IF('Options Assessment'!G$34=$C$121,$G$121,1),_xlfn.IFS('Options Assessment'!G$17=$C$127,$G$127, 'Options Assessment'!G$17=$C$128,$G$128, TRUE,1),_xlfn.IFS('Options Assessment'!G$6=$C$130,$F$130, 'Options Assessment'!G$6=$C$131,$F$131, 'Options Assessment'!G$6=$C$132,$F$132,TRUE,1))","v":1},{"$f":"PRODUCT(_xlfn.IFS('Options Assessment'!H$7=$C$5,$G$5, 'Options Assessment'!H$7=$C$6,$G$6, TRUE,1), _xlfn.IFS('Options Assessment'!H$8=$C$9,$G$9, 'Options Assessment'!H$8=$C$10,$G$10, TRUE,1), IF('Options Assessment'!H$9=$C$13,$G$13,1), IF('Options Assessment'!H$10=$C$16,$G$16,1), _xlfn.IFS('Options Assessment'!H$11=$C$19,$G$19, 'Options Assessment'!H$11=$C$20,$G$20, 'Options Assessment'!H$11=$C$21,$G$21, TRUE,1), IF('Options Assessment'!H$12=$C$24,$G$24,1), IF('Options Assessment'!H$13=$C$35,$G$35,1),IF('Options Assessment'!H$14=$C$38,$G$38,1),IF('Options Assessment'!H$19=$C$41,$G$41,1),IF('Options Assessment'!H$20=$C$44,$G$44,1),IF('Options Assessment'!H$21=$C$47,$G$47,1),IF('Options Assessment'!H$22=$C$50,$G$50,1),_xlfn.IFS('Options Assessment'!H$23=$C$54,$G$54, 'Options Assessment'!H$23=$C$55,$G$55, 'Options Assessment'!H$23=$C$56,$G$56, TRUE,1),_xlfn.IFS('Options Assessment'!H$24=$C$59,$G$59, 'Options Assessment'!H$24=$C$60,$G$60, TRUE,1),IF('Options Assessment'!H$25=$C$63,$G$63,1),IF('Options Assessment'!H$26=$C$66,$G$66,1),IF('Options Assessment'!H$27=$C$69,$G$69,1),IF('Options Assessment'!H$28=$C$73,$G$73,1),IF('Options Assessment'!H$29=$C$76,$G$76,1),IF('Options Assessment'!H$30=$C$80,$G$80,1),IF('Options Assessment'!H$15=$C$88,$G$88,1),_xlfn.IFS('Options Assessment'!H$16=$C$91,$G$91, 'Options Assessment'!H$16=$C$92,$G$92, 'Options Assessment'!H$16=$C$93,$G$93, 'Options Assessment'!H$16=$C$94,$G$94, 'Options Assessment'!H$16=$C$95,$G$95, TRUE,1),_xlfn.IFS( 'Options Assessment'!H$32=$C$98,$G$98, 'Options Assessment'!H$32=$C$99,$G$99, 'Options Assessment'!H$32=$C$100,$G$100, TRUE,1),IF('Options Assessment'!H$33=$C$103,$G$103,1),IF('Options Assessment'!H$35=$C$106,$G$106,1),_xlfn.IFS('Options Assessment'!H$18=$C$109,$G$109, 'Options Assessment'!H$18=$C$110,$G$110, 'Options Assessment'!H$18=$C$111,$G$111, 'Options Assessment'!H$18=$C$112,$G$112, 'Options Assessment'!H$18=$C$113,$G$113, 'Options Assessment'!H$18=$C$114,$G$114, 'Options Assessment'!H$18=$C$115,$G$115, 'Options Assessment'!H$18=$C$116,$G$116, 'Options Assessment'!H$18=$C$117,$G$117, 'Options Assessment'!H$18=$C$118,$G$118, TRUE,1),IF('Options Assessment'!H$34=$C$121,$G$121,1),_xlfn.IFS('Options Assessment'!H$17=$C$127,$G$127, 'Options Assessment'!H$17=$C$128,$G$128, TRUE,1),_xlfn.IFS('Options Assessment'!H$6=$C$130,$F$130, 'Options Assessment'!H$6=$C$131,$F$131, 'Options Assessment'!H$6=$C$132,$F$132,TRUE,1))","v":1},{"$f":"PRODUCT(_xlfn.IFS('Options Assessment'!I$7=$C$5,$G$5, 'Options Assessment'!I$7=$C$6,$G$6, TRUE,1), _xlfn.IFS('Options Assessment'!I$8=$C$9,$G$9, 'Options Assessment'!I$8=$C$10,$G$10, TRUE,1), IF('Options Assessment'!I$9=$C$13,$G$13,1), IF('Options Assessment'!I$10=$C$16,$G$16,1), _xlfn.IFS('Options Assessment'!I$11=$C$19,$G$19, 'Options Assessment'!I$11=$C$20,$G$20, 'Options Assessment'!I$11=$C$21,$G$21, TRUE,1), IF('Options Assessment'!I$12=$C$24,$G$24,1), IF('Options Assessment'!I$13=$C$35,$G$35,1),IF('Options Assessment'!I$14=$C$38,$G$38,1),IF('Options Assessment'!I$19=$C$41,$G$41,1),IF('Options Assessment'!I$20=$C$44,$G$44,1),IF('Options Assessment'!I$21=$C$47,$G$47,1),IF('Options Assessment'!I$22=$C$50,$G$50,1),_xlfn.IFS('Options Assessment'!I$23=$C$54,$G$54, 'Options Assessment'!I$23=$C$55,$G$55, 'Options Assessment'!I$23=$C$56,$G$56, TRUE,1),_xlfn.IFS('Options Assessment'!I$24=$C$59,$G$59, 'Options Assessment'!I$24=$C$60,$G$60, TRUE,1),IF('Options Assessment'!I$25=$C$63,$G$63,1),IF('Options Assessment'!I$26=$C$66,$G$66,1),IF('Options Assessment'!I$27=$C$69,$G$69,1),IF('Options Assessment'!I$28=$C$73,$G$73,1),IF('Options Assessment'!I$29=$C$76,$G$76,1),IF('Options Assessment'!I$30=$C$80,$G$80,1),IF('Options Assessment'!I$15=$C$88,$G$88,1),_xlfn.IFS('Options Assessment'!I$16=$C$91,$G$91, 'Options Assessment'!I$16=$C$92,$G$92, 'Options Assessment'!I$16=$C$93,$G$93, 'Options Assessment'!I$16=$C$94,$G$94, 'Options Assessment'!I$16=$C$95,$G$95, TRUE,1),_xlfn.IFS( 'Options Assessment'!I$32=$C$98,$G$98, 'Options Assessment'!I$32=$C$99,$G$99, 'Options Assessment'!I$32=$C$100,$G$100, TRUE,1),IF('Options Assessment'!I$33=$C$103,$G$103,1),IF('Options Assessment'!I$35=$C$106,$G$106,1),_xlfn.IFS('Options Assessment'!I$18=$C$109,$G$109, 'Options Assessment'!I$18=$C$110,$G$110, 'Options Assessment'!I$18=$C$111,$G$111, 'Options Assessment'!I$18=$C$112,$G$112, 'Options Assessment'!I$18=$C$113,$G$113, 'Options Assessment'!I$18=$C$114,$G$114, 'Options Assessment'!I$18=$C$115,$G$115, 'Options Assessment'!I$18=$C$116,$G$116, 'Options Assessment'!I$18=$C$117,$G$117, 'Options Assessment'!I$18=$C$118,$G$118, TRUE,1),IF('Options Assessment'!I$34=$C$121,$G$121,1),_xlfn.IFS('Options Assessment'!I$17=$C$127,$G$127, 'Options Assessment'!I$17=$C$128,$G$128, TRUE,1),_xlfn.IFS('Options Assessment'!I$6=$C$130,$F$130, 'Options Assessment'!I$6=$C$131,$F$131, 'Options Assessment'!I$6=$C$132,$F$132,TRUE,1))","v":1},{"$f":"PRODUCT(_xlfn.IFS('Options Assessment'!J$7=$C$5,$G$5, 'Options Assessment'!J$7=$C$6,$G$6, TRUE,1), _xlfn.IFS('Options Assessment'!J$8=$C$9,$G$9, 'Options Assessment'!J$8=$C$10,$G$10, TRUE,1), IF('Options Assessment'!J$9=$C$13,$G$13,1), IF('Options Assessment'!J$10=$C$16,$G$16,1), _xlfn.IFS('Options Assessment'!J$11=$C$19,$G$19, 'Options Assessment'!J$11=$C$20,$G$20, 'Options Assessment'!J$11=$C$21,$G$21, TRUE,1), IF('Options Assessment'!J$12=$C$24,$G$24,1), IF('Options Assessment'!J$13=$C$35,$G$35,1),IF('Options Assessment'!J$14=$C$38,$G$38,1),IF('Options Assessment'!J$19=$C$41,$G$41,1),IF('Options Assessment'!J$20=$C$44,$G$44,1),IF('Options Assessment'!J$21=$C$47,$G$47,1),IF('Options Assessment'!J$22=$C$50,$G$50,1),_xlfn.IFS('Options Assessment'!J$23=$C$54,$G$54, 'Options Assessment'!J$23=$C$55,$G$55, 'Options Assessment'!J$23=$C$56,$G$56, TRUE,1),_xlfn.IFS('Options Assessment'!J$24=$C$59,$G$59, 'Options Assessment'!J$24=$C$60,$G$60, TRUE,1),IF('Options Assessment'!J$25=$C$63,$G$63,1),IF('Options Assessment'!J$26=$C$66,$G$66,1),IF('Options Assessment'!J$27=$C$69,$G$69,1),IF('Options Assessment'!J$28=$C$73,$G$73,1),IF('Options Assessment'!J$29=$C$76,$G$76,1),IF('Options Assessment'!J$30=$C$80,$G$80,1),IF('Options Assessment'!J$15=$C$88,$G$88,1),_xlfn.IFS('Options Assessment'!J$16=$C$91,$G$91, 'Options Assessment'!J$16=$C$92,$G$92, 'Options Assessment'!J$16=$C$93,$G$93, 'Options Assessment'!J$16=$C$94,$G$94, 'Options Assessment'!J$16=$C$95,$G$95, TRUE,1),_xlfn.IFS( 'Options Assessment'!J$32=$C$98,$G$98, 'Options Assessment'!J$32=$C$99,$G$99, 'Options Assessment'!J$32=$C$100,$G$100, TRUE,1),IF('Options Assessment'!J$33=$C$103,$G$103,1),IF('Options Assessment'!J$35=$C$106,$G$106,1),_xlfn.IFS('Options Assessment'!J$18=$C$109,$G$109, 'Options Assessment'!J$18=$C$110,$G$110, 'Options Assessment'!J$18=$C$111,$G$111, 'Options Assessment'!J$18=$C$112,$G$112, 'Options Assessment'!J$18=$C$113,$G$113, 'Options Assessment'!J$18=$C$114,$G$114, 'Options Assessment'!J$18=$C$115,$G$115, 'Options Assessment'!J$18=$C$116,$G$116, 'Options Assessment'!J$18=$C$117,$G$117, 'Options Assessment'!J$18=$C$118,$G$118, TRUE,1),IF('Options Assessment'!J$34=$C$121,$G$121,1),_xlfn.IFS('Options Assessment'!J$17=$C$127,$G$127, 'Options Assessment'!J$17=$C$128,$G$128, TRUE,1),_xlfn.IFS('Options Assessment'!J$6=$C$130,$F$130, 'Options Assessment'!J$6=$C$131,$F$131, 'Options Assessment'!J$6=$C$132,$F$132,TRUE,1))","v":1},{"$f":"PRODUCT(_xlfn.IFS('Options Assessment'!K$7=$C$5,$G$5, 'Options Assessment'!K$7=$C$6,$G$6, TRUE,1), _xlfn.IFS('Options Assessment'!K$8=$C$9,$G$9, 'Options Assessment'!K$8=$C$10,$G$10, TRUE,1), IF('Options Assessment'!K$9=$C$13,$G$13,1), IF('Options Assessment'!K$10=$C$16,$G$16,1), _xlfn.IFS('Options Assessment'!K$11=$C$19,$G$19, 'Options Assessment'!K$11=$C$20,$G$20, 'Options Assessment'!K$11=$C$21,$G$21, TRUE,1), IF('Options Assessment'!K$12=$C$24,$G$24,1), IF('Options Assessment'!K$13=$C$35,$G$35,1),IF('Options Assessment'!K$14=$C$38,$G$38,1),IF('Options Assessment'!K$19=$C$41,$G$41,1),IF('Options Assessment'!K$20=$C$44,$G$44,1),IF('Options Assessment'!K$21=$C$47,$G$47,1),IF('Options Assessment'!K$22=$C$50,$G$50,1),_xlfn.IFS('Options Assessment'!K$23=$C$54,$G$54, 'Options Assessment'!K$23=$C$55,$G$55, 'Options Assessment'!K$23=$C$56,$G$56, TRUE,1),_xlfn.IFS('Options Assessment'!K$24=$C$59,$G$59, 'Options Assessment'!K$24=$C$60,$G$60, TRUE,1),IF('Options Assessment'!K$25=$C$63,$G$63,1),IF('Options Assessment'!K$26=$C$66,$G$66,1),IF('Options Assessment'!K$27=$C$69,$G$69,1),IF('Options Assessment'!K$28=$C$73,$G$73,1),IF('Options Assessment'!K$29=$C$76,$G$76,1),IF('Options Assessment'!K$30=$C$80,$G$80,1),IF('Options Assessment'!K$15=$C$88,$G$88,1),_xlfn.IFS('Options Assessment'!K$16=$C$91,$G$91, 'Options Assessment'!K$16=$C$92,$G$92, 'Options Assessment'!K$16=$C$93,$G$93, 'Options Assessment'!K$16=$C$94,$G$94, 'Options Assessment'!K$16=$C$95,$G$95, TRUE,1),_xlfn.IFS( 'Options Assessment'!K$32=$C$98,$G$98, 'Options Assessment'!K$32=$C$99,$G$99, 'Options Assessment'!K$32=$C$100,$G$100, TRUE,1),IF('Options Assessment'!K$33=$C$103,$G$103,1),IF('Options Assessment'!K$35=$C$106,$G$106,1),_xlfn.IFS('Options Assessment'!K$18=$C$109,$G$109, 'Options Assessment'!K$18=$C$110,$G$110, 'Options Assessment'!K$18=$C$111,$G$111, 'Options Assessment'!K$18=$C$112,$G$112, 'Options Assessment'!K$18=$C$113,$G$113, 'Options Assessment'!K$18=$C$114,$G$114, 'Options Assessment'!K$18=$C$115,$G$115, 'Options Assessment'!K$18=$C$116,$G$116, 'Options Assessment'!K$18=$C$117,$G$117, 'Options Assessment'!K$18=$C$118,$G$118, TRUE,1),IF('Options Assessment'!K$34=$C$121,$G$121,1),_xlfn.IFS('Options Assessment'!K$17=$C$127,$G$127, 'Options Assessment'!K$17=$C$128,$G$128, TRUE,1),_xlfn.IFS('Options Assessment'!K$6=$C$130,$F$130, 'Options Assessment'!K$6=$C$131,$F$131, 'Options Assessment'!K$6=$C$132,$F$132,TRUE,1))","v":1},{"$f":"PRODUCT(_xlfn.IFS('Options Assessment'!L$7=$C$5,$G$5, 'Options Assessment'!L$7=$C$6,$G$6, TRUE,1), _xlfn.IFS('Options Assessment'!L$8=$C$9,$G$9, 'Options Assessment'!L$8=$C$10,$G$10, TRUE,1), IF('Options Assessment'!L$9=$C$13,$G$13,1), IF('Options Assessment'!L$10=$C$16,$G$16,1), _xlfn.IFS('Options Assessment'!L$11=$C$19,$G$19, 'Options Assessment'!L$11=$C$20,$G$20, 'Options Assessment'!L$11=$C$21,$G$21, TRUE,1), IF('Options Assessment'!L$12=$C$24,$G$24,1), IF('Options Assessment'!L$13=$C$35,$G$35,1),IF('Options Assessment'!L$14=$C$38,$G$38,1),IF('Options Assessment'!L$19=$C$41,$G$41,1),IF('Options Assessment'!L$20=$C$44,$G$44,1),IF('Options Assessment'!L$21=$C$47,$G$47,1),IF('Options Assessment'!L$22=$C$50,$G$50,1),_xlfn.IFS('Options Assessment'!L$23=$C$54,$G$54, 'Options Assessment'!L$23=$C$55,$G$55, 'Options Assessment'!L$23=$C$56,$G$56, TRUE,1),_xlfn.IFS('Options Assessment'!L$24=$C$59,$G$59, 'Options Assessment'!L$24=$C$60,$G$60, TRUE,1),IF('Options Assessment'!L$25=$C$63,$G$63,1),IF('Options Assessment'!L$26=$C$66,$G$66,1),IF('Options Assessment'!L$27=$C$69,$G$69,1),IF('Options Assessment'!L$28=$C$73,$G$73,1),IF('Options Assessment'!L$29=$C$76,$G$76,1),IF('Options Assessment'!L$30=$C$80,$G$80,1),IF('Options Assessment'!L$15=$C$88,$G$88,1),_xlfn.IFS('Options Assessment'!L$16=$C$91,$G$91, 'Options Assessment'!L$16=$C$92,$G$92, 'Options Assessment'!L$16=$C$93,$G$93, 'Options Assessment'!L$16=$C$94,$G$94, 'Options Assessment'!L$16=$C$95,$G$95, TRUE,1),_xlfn.IFS( 'Options Assessment'!L$32=$C$98,$G$98, 'Options Assessment'!L$32=$C$99,$G$99, 'Options Assessment'!L$32=$C$100,$G$100, TRUE,1),IF('Options Assessment'!L$33=$C$103,$G$103,1),IF('Options Assessment'!L$35=$C$106,$G$106,1),_xlfn.IFS('Options Assessment'!L$18=$C$109,$G$109, 'Options Assessment'!L$18=$C$110,$G$110, 'Options Assessment'!L$18=$C$111,$G$111, 'Options Assessment'!L$18=$C$112,$G$112, 'Options Assessment'!L$18=$C$113,$G$113, 'Options Assessment'!L$18=$C$114,$G$114, 'Options Assessment'!L$18=$C$115,$G$115, 'Options Assessment'!L$18=$C$116,$G$116, 'Options Assessment'!L$18=$C$117,$G$117, 'Options Assessment'!L$18=$C$118,$G$118, TRUE,1),IF('Options Assessment'!L$34=$C$121,$G$121,1),_xlfn.IFS('Options Assessment'!L$17=$C$127,$G$127, 'Options Assessment'!L$17=$C$128,$G$128, TRUE,1),_xlfn.IFS('Options Assessment'!L$6=$C$130,$F$130, 'Options Assessment'!L$6=$C$131,$F$131, 'Options Assessment'!L$6=$C$132,$F$132,TRUE,1))","v":1}]
[null,"Median","Solid median","Median - Solid median",null,0.55000000000000004,0.55000000000000004,null,null,null,null,"Roundabout",{"$f":"PRODUCT(_xlfn.IFS('Options Assessment'!#REF!=$C$5,$H$5, 'Options Assessment'!#REF!=$C$6,$H$6, TRUE,1), _xlfn.IFS('Options Assessment'!#REF!=$C$9,$H$9, 'Options Assessment'!#REF!=$C$10,$H$10, TRUE,1), IF('Options Assessment'!#REF!=$C$13,$H$13,1), IF('Options Assessment'!#REF!=$C$16,$H$16,1), _xlfn.IFS('Options Assessment'!#REF!=$C$19,$H$19, 'Options Assessment'!#REF!=$C$20,$H$20, 'Options Assessment'!#REF!=$C$21,$H$21, TRUE,1), IF('Options Assessment'!#REF!=$C$24,$H$24,1), IF('Options Assessment'!#REF!=$C$27,$H$27,1),IF('Options Assessment'!#REF!=$C$31,$H$31,1),IF('Options Assessment'!#REF!=$C$35,$H$35,1),IF('Options Assessment'!#REF!=$C$38,$H$38,1),IF('Options Assessment'!#REF!=$C$41,$H$41,1),IF('Options Assessment'!#REF!=$C$44,$H$44,1),IF('Options Assessment'!#REF!=$C$47,$H$47,1),IF('Options Assessment'!#REF!=$C$50,$H$50,1),_xlfn.IFS('Options Assessment'!#REF!=$C$54,$H$54, 'Options Assessment'!#REF!=$C$55,$H$55, 'Options Assessment'!#REF!=$C$56,$H$56, TRUE,1),_xlfn.IFS('Options Assessment'!#REF!=$C$59,$H$59, 'Options Assessment'!#REF!=$C$60,$H$60, TRUE,1),IF('Options Assessment'!#REF!=$C$63,$H$63,1),IF('Options Assessment'!#REF!=$C$66,$H$66,1),IF('Options Assessment'!#REF!=$C$69,$H$69,1),IF('Options Assessment'!#REF!=$C$73,$H$73,1),IF('Options Assessment'!#REF!=$C$76,$H$76,1),IF('Options Assessment'!#REF!=$C$80,$H$80,1),IF('Options Assessment'!#REF!=$C$88,$H$88,1),_xlfn.IFS('Options Assessment'!#REF!=$C$91,$H$91, 'Options Assessment'!#REF!=$C$92,$H$92, 'Options Assessment'!#REF!=$C$93,$H$93, 'Options Assessment'!#REF!=$C$94,$H$94, 'Options Assessment'!#REF!=$C$95,$H$95, TRUE,1),_xlfn.IFS( 'Options Assessment'!#REF!=$C$98,$H$98, 'Options Assessment'!#REF!=$C$99,$H$99, 'Options Assessment'!#REF!=$C$100,$H$100, TRUE,1),IF('Options Assessment'!#REF!=$C$103,$H$103,1),IF('Options Assessment'!#REF!=$C$106,$H$106,1),_xlfn.IFS('Options Assessment'!#REF!=$C$109,$H$109, 'Options Assessment'!#REF!=$C$110,$H$110, 'Options Assessment'!#REF!=$C$111,$H$111, 'Options Assessment'!#REF!=$C$112,$H$112, 'Options Assessment'!#REF!=$C$113,$H$113, 'Options Assessment'!#REF!=$C$114,$H$114, 'Options Assessment'!#REF!=$C$115,$H$115, 'Options Assessment'!#REF!=$C$116,$H$116, 'Options Assessment'!#REF!=$C$117,$H$117, 'Options Assessment'!#REF!=$C$118,$H$118, TRUE,1),IF('Options Assessment'!#REF!=$C$121,$H$121,1),_xlfn.IFS('Options Assessment'!#REF!=$C$127,$H$127, 'Options Assessment'!#REF!=$C$128,$H$128, TRUE,1))","v":{"$error":"#REF!"}},{"$f":"PRODUCT(_xlfn.IFS('Options Assessment'!C$7=$C$5,$H$5, 'Options Assessment'!C$7=$C$6,$H$6, TRUE,1), _xlfn.IFS('Options Assessment'!C$8=$C$9,$H$9, 'Options Assessment'!C$8=$C$10,$H$10, TRUE,1), IF('Options Assessment'!C$9=$C$13,$H$13,1), IF('Options Assessment'!C$10=$C$16,$H$16,1), _xlfn.IFS('Options Assessment'!C$11=$C$19,$H$19, 'Options Assessment'!C$11=$C$20,$H$20, 'Options Assessment'!C$11=$C$21,$H$21, TRUE,1), IF('Options Assessment'!C$12=$C$24,$H$24,1),IF('Options Assessment'!C$13=$C$35,$H$35,1),IF('Options Assessment'!C$14=$C$38,$H$38,1),IF('Options Assessment'!C$19=$C$41,$H$41,1),IF('Options Assessment'!C$20=$C$44,$H$44,1),IF('Options Assessment'!C$21=$C$47,$H$47,1),IF('Options Assessment'!C$22=$C$50,$H$50,1),_xlfn.IFS('Options Assessment'!C$23=$C$54,$H$54, 'Options Assessment'!C$23=$C$55,$H$55, 'Options Assessment'!C$23=$C$56,$H$56, TRUE,1),_xlfn.IFS('Options Assessment'!C$24=$C$59,$H$59, 'Options Assessment'!C$24=$C$60,$H$60, TRUE,1),IF('Options Assessment'!C$25=$C$63,$H$63,1),IF('Options Assessment'!C$26=$C$66,$H$66,1),IF('Options Assessment'!C$27=$C$69,$H$69,1),IF('Options Assessment'!C$28=$C$73,$H$73,1),IF('Options Assessment'!C$29=$C$76,$H$76,1),IF('Options Assessment'!C$30=$C$80,$H$80,1),IF('Options Assessment'!C$15=$C$88,$H$88,1),_xlfn.IFS('Options Assessment'!C$16=$C$91,$H$91, 'Options Assessment'!C$16=$C$92,$H$92, 'Options Assessment'!C$16=$C$93,$H$93, 'Options Assessment'!C$16=$C$94,$H$94, 'Options Assessment'!C$16=$C$95,$H$95, TRUE,1),_xlfn.IFS( 'Options Assessment'!C$32=$C$98,$H$98, 'Options Assessment'!C$32=$C$99,$H$99, 'Options Assessment'!C$32=$C$100,$H$100, TRUE,1),IF('Options Assessment'!C$33=$C$103,$H$103,1),IF('Options Assessment'!C$35=$C$106,$H$106,1),_xlfn.IFS('Options Assessment'!C$18=$C$109,$H$109, 'Options Assessment'!C$18=$C$110,$H$110, 'Options Assessment'!C$18=$C$111,$H$111, 'Options Assessment'!C$18=$C$112,$H$112, 'Options Assessment'!C$18=$C$113,$H$113, 'Options Assessment'!C$18=$C$114,$H$114, 'Options Assessment'!C$18=$C$115,$H$115, 'Options Assessment'!C$18=$C$116,$H$116, 'Options Assessment'!C$18=$C$117,$H$117, 'Options Assessment'!C$18=$C$118,$H$118, TRUE,1),IF('Options Assessment'!C$34=$C$121,$H$121,1),_xlfn.IFS('Options Assessment'!C$17=$C$127,$H$127, 'Options Assessment'!C$17=$C$128,$H$128, TRUE,1),_xlfn.IFS('Options Assessment'!C$6=$C$130,$F$130, 'Options Assessment'!C$6=$C$131,$F$131, 'Options Assessment'!C$6=$C$132,$F$132,TRUE,1))","v":0.9},{"$f":"PRODUCT(_xlfn.IFS('Options Assessment'!D$7=$C$5,$H$5, 'Options Assessment'!D$7=$C$6,$H$6, TRUE,1), _xlfn.IFS('Options Assessment'!D$8=$C$9,$H$9, 'Options Assessment'!D$8=$C$10,$H$10, TRUE,1), IF('Options Assessment'!D$9=$C$13,$H$13,1), IF('Options Assessment'!D$10=$C$16,$H$16,1), _xlfn.IFS('Options Assessment'!D$11=$C$19,$H$19, 'Options Assessment'!D$11=$C$20,$H$20, 'Options Assessment'!D$11=$C$21,$H$21, TRUE,1), IF('Options Assessment'!D$12=$C$24,$H$24,1),IF('Options Assessment'!D$13=$C$35,$H$35,1),IF('Options Assessment'!D$14=$C$38,$H$38,1),IF('Options Assessment'!D$19=$C$41,$H$41,1),IF('Options Assessment'!D$20=$C$44,$H$44,1),IF('Options Assessment'!D$21=$C$47,$H$47,1),IF('Options Assessment'!D$22=$C$50,$H$50,1),_xlfn.IFS('Options Assessment'!D$23=$C$54,$H$54, 'Options Assessment'!D$23=$C$55,$H$55, 'Options Assessment'!D$23=$C$56,$H$56, TRUE,1),_xlfn.IFS('Options Assessment'!D$24=$C$59,$H$59, 'Options Assessment'!D$24=$C$60,$H$60, TRUE,1),IF('Options Assessment'!D$25=$C$63,$H$63,1),IF('Options Assessment'!D$26=$C$66,$H$66,1),IF('Options Assessment'!D$27=$C$69,$H$69,1),IF('Options Assessment'!D$28=$C$73,$H$73,1),IF('Options Assessment'!D$29=$C$76,$H$76,1),IF('Options Assessment'!D$30=$C$80,$H$80,1),IF('Options Assessment'!D$15=$C$88,$H$88,1),_xlfn.IFS('Options Assessment'!D$16=$C$91,$H$91, 'Options Assessment'!D$16=$C$92,$H$92, 'Options Assessment'!D$16=$C$93,$H$93, 'Options Assessment'!D$16=$C$94,$H$94, 'Options Assessment'!D$16=$C$95,$H$95, TRUE,1),_xlfn.IFS( 'Options Assessment'!D$32=$C$98,$H$98, 'Options Assessment'!D$32=$C$99,$H$99, 'Options Assessment'!D$32=$C$100,$H$100, TRUE,1),IF('Options Assessment'!D$33=$C$103,$H$103,1),IF('Options Assessment'!D$35=$C$106,$H$106,1),_xlfn.IFS('Options Assessment'!D$18=$C$109,$H$109, 'Options Assessment'!D$18=$C$110,$H$110, 'Options Assessment'!D$18=$C$111,$H$111, 'Options Assessment'!D$18=$C$112,$H$112, 'Options Assessment'!D$18=$C$113,$H$113, 'Options Assessment'!D$18=$C$114,$H$114, 'Options Assessment'!D$18=$C$115,$H$115, 'Options Assessment'!D$18=$C$116,$H$116, 'Options Assessment'!D$18=$C$117,$H$117, 'Options Assessment'!D$18=$C$118,$H$118, TRUE,1),IF('Options Assessment'!D$34=$C$121,$H$121,1),_xlfn.IFS('Options Assessment'!D$17=$C$127,$H$127, 'Options Assessment'!D$17=$C$128,$H$128, TRUE,1),_xlfn.IFS('Options Assessment'!D$6=$C$130,$F$130, 'Options Assessment'!D$6=$C$131,$F$131, 'Options Assessment'!D$6=$C$132,$F$132,TRUE,1))","v":1},{"$f":"PRODUCT(_xlfn.IFS('Options Assessment'!E$7=$C$5,$H$5, 'Options Assessment'!E$7=$C$6,$H$6, TRUE,1), _xlfn.IFS('Options Assessment'!E$8=$C$9,$H$9, 'Options Assessment'!E$8=$C$10,$H$10, TRUE,1), IF('Options Assessment'!E$9=$C$13,$H$13,1), IF('Options Assessment'!E$10=$C$16,$H$16,1), _xlfn.IFS('Options Assessment'!E$11=$C$19,$H$19, 'Options Assessment'!E$11=$C$20,$H$20, 'Options Assessment'!E$11=$C$21,$H$21, TRUE,1), IF('Options Assessment'!E$12=$C$24,$H$24,1),IF('Options Assessment'!E$13=$C$35,$H$35,1),IF('Options Assessment'!E$14=$C$38,$H$38,1),IF('Options Assessment'!E$19=$C$41,$H$41,1),IF('Options Assessment'!E$20=$C$44,$H$44,1),IF('Options Assessment'!E$21=$C$47,$H$47,1),IF('Options Assessment'!E$22=$C$50,$H$50,1),_xlfn.IFS('Options Assessment'!E$23=$C$54,$H$54, 'Options Assessment'!E$23=$C$55,$H$55, 'Options Assessment'!E$23=$C$56,$H$56, TRUE,1),_xlfn.IFS('Options Assessment'!E$24=$C$59,$H$59, 'Options Assessment'!E$24=$C$60,$H$60, TRUE,1),IF('Options Assessment'!E$25=$C$63,$H$63,1),IF('Options Assessment'!E$26=$C$66,$H$66,1),IF('Options Assessment'!E$27=$C$69,$H$69,1),IF('Options Assessment'!E$28=$C$73,$H$73,1),IF('Options Assessment'!E$29=$C$76,$H$76,1),IF('Options Assessment'!E$30=$C$80,$H$80,1),IF('Options Assessment'!E$15=$C$88,$H$88,1),_xlfn.IFS('Options Assessment'!E$16=$C$91,$H$91, 'Options Assessment'!E$16=$C$92,$H$92, 'Options Assessment'!E$16=$C$93,$H$93, 'Options Assessment'!E$16=$C$94,$H$94, 'Options Assessment'!E$16=$C$95,$H$95, TRUE,1),_xlfn.IFS( 'Options Assessment'!E$32=$C$98,$H$98, 'Options Assessment'!E$32=$C$99,$H$99, 'Options Assessment'!E$32=$C$100,$H$100, TRUE,1),IF('Options Assessment'!E$33=$C$103,$H$103,1),IF('Options Assessment'!E$35=$C$106,$H$106,1),_xlfn.IFS('Options Assessment'!E$18=$C$109,$H$109, 'Options Assessment'!E$18=$C$110,$H$110, 'Options Assessment'!E$18=$C$111,$H$111, 'Options Assessment'!E$18=$C$112,$H$112, 'Options Assessment'!E$18=$C$113,$H$113, 'Options Assessment'!E$18=$C$114,$H$114, 'Options Assessment'!E$18=$C$115,$H$115, 'Options Assessment'!E$18=$C$116,$H$116, 'Options Assessment'!E$18=$C$117,$H$117, 'Options Assessment'!E$18=$C$118,$H$118, TRUE,1),IF('Options Assessment'!E$34=$C$121,$H$121,1),_xlfn.IFS('Options Assessment'!E$17=$C$127,$H$127, 'Options Assessment'!E$17=$C$128,$H$128, TRUE,1),_xlfn.IFS('Options Assessment'!E$6=$C$130,$F$130, 'Options Assessment'!E$6=$C$131,$F$131, 'Options Assessment'!E$6=$C$132,$F$132,TRUE,1))","v":1},{"$f":"PRODUCT(_xlfn.IFS('Options Assessment'!F$7=$C$5,$H$5, 'Options Assessment'!F$7=$C$6,$H$6, TRUE,1), _xlfn.IFS('Options Assessment'!F$8=$C$9,$H$9, 'Options Assessment'!F$8=$C$10,$H$10, TRUE,1), IF('Options Assessment'!F$9=$C$13,$H$13,1), IF('Options Assessment'!F$10=$C$16,$H$16,1), _xlfn.IFS('Options Assessment'!F$11=$C$19,$H$19, 'Options Assessment'!F$11=$C$20,$H$20, 'Options Assessment'!F$11=$C$21,$H$21, TRUE,1), IF('Options Assessment'!F$12=$C$24,$H$24,1),IF('Options Assessment'!F$13=$C$35,$H$35,1),IF('Options Assessment'!F$14=$C$38,$H$38,1),IF('Options Assessment'!F$19=$C$41,$H$41,1),IF('Options Assessment'!F$20=$C$44,$H$44,1),IF('Options Assessment'!F$21=$C$47,$H$47,1),IF('Options Assessment'!F$22=$C$50,$H$50,1),_xlfn.IFS('Options Assessment'!F$23=$C$54,$H$54, 'Options Assessment'!F$23=$C$55,$H$55, 'Options Assessment'!F$23=$C$56,$H$56, TRUE,1),_xlfn.IFS('Options Assessment'!F$24=$C$59,$H$59, 'Options Assessment'!F$24=$C$60,$H$60, TRUE,1),IF('Options Assessment'!F$25=$C$63,$H$63,1),IF('Options Assessment'!F$26=$C$66,$H$66,1),IF('Options Assessment'!F$27=$C$69,$H$69,1),IF('Options Assessment'!F$28=$C$73,$H$73,1),IF('Options Assessment'!F$29=$C$76,$H$76,1),IF('Options Assessment'!F$30=$C$80,$H$80,1),IF('Options Assessment'!F$15=$C$88,$H$88,1),_xlfn.IFS('Options Assessment'!F$16=$C$91,$H$91, 'Options Assessment'!F$16=$C$92,$H$92, 'Options Assessment'!F$16=$C$93,$H$93, 'Options Assessment'!F$16=$C$94,$H$94, 'Options Assessment'!F$16=$C$95,$H$95, TRUE,1),_xlfn.IFS( 'Options Assessment'!F$32=$C$98,$H$98, 'Options Assessment'!F$32=$C$99,$H$99, 'Options Assessment'!F$32=$C$100,$H$100, TRUE,1),IF('Options Assessment'!F$33=$C$103,$H$103,1),IF('Options Assessment'!F$35=$C$106,$H$106,1),_xlfn.IFS('Options Assessment'!F$18=$C$109,$H$109, 'Options Assessment'!F$18=$C$110,$H$110, 'Options Assessment'!F$18=$C$111,$H$111, 'Options Assessment'!F$18=$C$112,$H$112, 'Options Assessment'!F$18=$C$113,$H$113, 'Options Assessment'!F$18=$C$114,$H$114, 'Options Assessment'!F$18=$C$115,$H$115, 'Options Assessment'!F$18=$C$116,$H$116, 'Options Assessment'!F$18=$C$117,$H$117, 'Options Assessment'!F$18=$C$118,$H$118, TRUE,1),IF('Options Assessment'!F$34=$C$121,$H$121,1),_xlfn.IFS('Options Assessment'!F$17=$C$127,$H$127, 'Options Assessment'!F$17=$C$128,$H$128, TRUE,1),_xlfn.IFS('Options Assessment'!F$6=$C$130,$F$130, 'Options Assessment'!F$6=$C$131,$F$131, 'Options Assessment'!F$6=$C$132,$F$132,TRUE,1))","v":1},{"$f":"PRODUCT(_xlfn.IFS('Options Assessment'!G$7=$C$5,$H$5, 'Options Assessment'!G$7=$C$6,$H$6, TRUE,1), _xlfn.IFS('Options Assessment'!G$8=$C$9,$H$9, 'Options Assessment'!G$8=$C$10,$H$10, TRUE,1), IF('Options Assessment'!G$9=$C$13,$H$13,1), IF('Options Assessment'!G$10=$C$16,$H$16,1), _xlfn.IFS('Options Assessment'!G$11=$C$19,$H$19, 'Options Assessment'!G$11=$C$20,$H$20, 'Options Assessment'!G$11=$C$21,$H$21, TRUE,1), IF('Options Assessment'!G$12=$C$24,$H$24,1),IF('Options Assessment'!G$13=$C$35,$H$35,1),IF('Options Assessment'!G$14=$C$38,$H$38,1),IF('Options Assessment'!G$19=$C$41,$H$41,1),IF('Options Assessment'!G$20=$C$44,$H$44,1),IF('Options Assessment'!G$21=$C$47,$H$47,1),IF('Options Assessment'!G$22=$C$50,$H$50,1),_xlfn.IFS('Options Assessment'!G$23=$C$54,$H$54, 'Options Assessment'!G$23=$C$55,$H$55, 'Options Assessment'!G$23=$C$56,$H$56, TRUE,1),_xlfn.IFS('Options Assessment'!G$24=$C$59,$H$59, 'Options Assessment'!G$24=$C$60,$H$60, TRUE,1),IF('Options Assessment'!G$25=$C$63,$H$63,1),IF('Options Assessment'!G$26=$C$66,$H$66,1),IF('Options Assessment'!G$27=$C$69,$H$69,1),IF('Options Assessment'!G$28=$C$73,$H$73,1),IF('Options Assessment'!G$29=$C$76,$H$76,1),IF('Options Assessment'!G$30=$C$80,$H$80,1),IF('Options Assessment'!G$15=$C$88,$H$88,1),_xlfn.IFS('Options Assessment'!G$16=$C$91,$H$91, 'Options Assessment'!G$16=$C$92,$H$92, 'Options Assessment'!G$16=$C$93,$H$93, 'Options Assessment'!G$16=$C$94,$H$94, 'Options Assessment'!G$16=$C$95,$H$95, TRUE,1),_xlfn.IFS( 'Options Assessment'!G$32=$C$98,$H$98, 'Options Assessment'!G$32=$C$99,$H$99, 'Options Assessment'!G$32=$C$100,$H$100, TRUE,1),IF('Options Assessment'!G$33=$C$103,$H$103,1),IF('Options Assessment'!G$35=$C$106,$H$106,1),_xlfn.IFS('Options Assessment'!G$18=$C$109,$H$109, 'Options Assessment'!G$18=$C$110,$H$110, 'Options Assessment'!G$18=$C$111,$H$111, 'Options Assessment'!G$18=$C$112,$H$112, 'Options Assessment'!G$18=$C$113,$H$113, 'Options Assessment'!G$18=$C$114,$H$114, 'Options Assessment'!G$18=$C$115,$H$115, 'Options Assessment'!G$18=$C$116,$H$116, 'Options Assessment'!G$18=$C$117,$H$117, 'Options Assessment'!G$18=$C$118,$H$118, TRUE,1),IF('Options Assessment'!G$34=$C$121,$H$121,1),_xlfn.IFS('Options Assessment'!G$17=$C$127,$H$127, 'Options Assessment'!G$17=$C$128,$H$128, TRUE,1),_xlfn.IFS('Options Assessment'!G$6=$C$130,$F$130, 'Options Assessment'!G$6=$C$131,$F$131, 'Options Assessment'!G$6=$C$132,$F$132,TRUE,1))","v":1},{"$f":"PRODUCT(_xlfn.IFS('Options Assessment'!H$7=$C$5,$H$5, 'Options Assessment'!H$7=$C$6,$H$6, TRUE,1), _xlfn.IFS('Options Assessment'!H$8=$C$9,$H$9, 'Options Assessment'!H$8=$C$10,$H$10, TRUE,1), IF('Options Assessment'!H$9=$C$13,$H$13,1), IF('Options Assessment'!H$10=$C$16,$H$16,1), _xlfn.IFS('Options Assessment'!H$11=$C$19,$H$19, 'Options Assessment'!H$11=$C$20,$H$20, 'Options Assessment'!H$11=$C$21,$H$21, TRUE,1), IF('Options Assessment'!H$12=$C$24,$H$24,1),IF('Options Assessment'!H$13=$C$35,$H$35,1),IF('Options Assessment'!H$14=$C$38,$H$38,1),IF('Options Assessment'!H$19=$C$41,$H$41,1),IF('Options Assessment'!H$20=$C$44,$H$44,1),IF('Options Assessment'!H$21=$C$47,$H$47,1),IF('Options Assessment'!H$22=$C$50,$H$50,1),_xlfn.IFS('Options Assessment'!H$23=$C$54,$H$54, 'Options Assessment'!H$23=$C$55,$H$55, 'Options Assessment'!H$23=$C$56,$H$56, TRUE,1),_xlfn.IFS('Options Assessment'!H$24=$C$59,$H$59, 'Options Assessment'!H$24=$C$60,$H$60, TRUE,1),IF('Options Assessment'!H$25=$C$63,$H$63,1),IF('Options Assessment'!H$26=$C$66,$H$66,1),IF('Options Assessment'!H$27=$C$69,$H$69,1),IF('Options Assessment'!H$28=$C$73,$H$73,1),IF('Options Assessment'!H$29=$C$76,$H$76,1),IF('Options Assessment'!H$30=$C$80,$H$80,1),IF('Options Assessment'!H$15=$C$88,$H$88,1),_xlfn.IFS('Options Assessment'!H$16=$C$91,$H$91, 'Options Assessment'!H$16=$C$92,$H$92, 'Options Assessment'!H$16=$C$93,$H$93, 'Options Assessment'!H$16=$C$94,$H$94, 'Options Assessment'!H$16=$C$95,$H$95, TRUE,1),_xlfn.IFS( 'Options Assessment'!H$32=$C$98,$H$98, 'Options Assessment'!H$32=$C$99,$H$99, 'Options Assessment'!H$32=$C$100,$H$100, TRUE,1),IF('Options Assessment'!H$33=$C$103,$H$103,1),IF('Options Assessment'!H$35=$C$106,$H$106,1),_xlfn.IFS('Options Assessment'!H$18=$C$109,$H$109, 'Options Assessment'!H$18=$C$110,$H$110, 'Options Assessment'!H$18=$C$111,$H$111, 'Options Assessment'!H$18=$C$112,$H$112, 'Options Assessment'!H$18=$C$113,$H$113, 'Options Assessment'!H$18=$C$114,$H$114, 'Options Assessment'!H$18=$C$115,$H$115, 'Options Assessment'!H$18=$C$116,$H$116, 'Options Assessment'!H$18=$C$117,$H$117, 'Options Assessment'!H$18=$C$118,$H$118, TRUE,1),IF('Options Assessment'!H$34=$C$121,$H$121,1),_xlfn.IFS('Options Assessment'!H$17=$C$127,$H$127, 'Options Assessment'!H$17=$C$128,$H$128, TRUE,1),_xlfn.IFS('Options Assessment'!H$6=$C$130,$F$130, 'Options Assessment'!H$6=$C$131,$F$131, 'Options Assessment'!H$6=$C$132,$F$132,TRUE,1))","v":1},{"$f":"PRODUCT(_xlfn.IFS('Options Assessment'!I$7=$C$5,$H$5, 'Options Assessment'!I$7=$C$6,$H$6, TRUE,1), _xlfn.IFS('Options Assessment'!I$8=$C$9,$H$9, 'Options Assessment'!I$8=$C$10,$H$10, TRUE,1), IF('Options Assessment'!I$9=$C$13,$H$13,1), IF('Options Assessment'!I$10=$C$16,$H$16,1), _xlfn.IFS('Options Assessment'!I$11=$C$19,$H$19, 'Options Assessment'!I$11=$C$20,$H$20, 'Options Assessment'!I$11=$C$21,$H$21, TRUE,1), IF('Options Assessment'!I$12=$C$24,$H$24,1),IF('Options Assessment'!I$13=$C$35,$H$35,1),IF('Options Assessment'!I$14=$C$38,$H$38,1),IF('Options Assessment'!I$19=$C$41,$H$41,1),IF('Options Assessment'!I$20=$C$44,$H$44,1),IF('Options Assessment'!I$21=$C$47,$H$47,1),IF('Options Assessment'!I$22=$C$50,$H$50,1),_xlfn.IFS('Options Assessment'!I$23=$C$54,$H$54, 'Options Assessment'!I$23=$C$55,$H$55, 'Options Assessment'!I$23=$C$56,$H$56, TRUE,1),_xlfn.IFS('Options Assessment'!I$24=$C$59,$H$59, 'Options Assessment'!I$24=$C$60,$H$60, TRUE,1),IF('Options Assessment'!I$25=$C$63,$H$63,1),IF('Options Assessment'!I$26=$C$66,$H$66,1),IF('Options Assessment'!I$27=$C$69,$H$69,1),IF('Options Assessment'!I$28=$C$73,$H$73,1),IF('Options Assessment'!I$29=$C$76,$H$76,1),IF('Options Assessment'!I$30=$C$80,$H$80,1),IF('Options Assessment'!I$15=$C$88,$H$88,1),_xlfn.IFS('Options Assessment'!I$16=$C$91,$H$91, 'Options Assessment'!I$16=$C$92,$H$92, 'Options Assessment'!I$16=$C$93,$H$93, 'Options Assessment'!I$16=$C$94,$H$94, 'Options Assessment'!I$16=$C$95,$H$95, TRUE,1),_xlfn.IFS( 'Options Assessment'!I$32=$C$98,$H$98, 'Options Assessment'!I$32=$C$99,$H$99, 'Options Assessment'!I$32=$C$100,$H$100, TRUE,1),IF('Options Assessment'!I$33=$C$103,$H$103,1),IF('Options Assessment'!I$35=$C$106,$H$106,1),_xlfn.IFS('Options Assessment'!I$18=$C$109,$H$109, 'Options Assessment'!I$18=$C$110,$H$110, 'Options Assessment'!I$18=$C$111,$H$111, 'Options Assessment'!I$18=$C$112,$H$112, 'Options Assessment'!I$18=$C$113,$H$113, 'Options Assessment'!I$18=$C$114,$H$114, 'Options Assessment'!I$18=$C$115,$H$115, 'Options Assessment'!I$18=$C$116,$H$116, 'Options Assessment'!I$18=$C$117,$H$117, 'Options Assessment'!I$18=$C$118,$H$118, TRUE,1),IF('Options Assessment'!I$34=$C$121,$H$121,1),_xlfn.IFS('Options Assessment'!I$17=$C$127,$H$127, 'Options Assessment'!I$17=$C$128,$H$128, TRUE,1),_xlfn.IFS('Options Assessment'!I$6=$C$130,$F$130, 'Options Assessment'!I$6=$C$131,$F$131, 'Options Assessment'!I$6=$C$132,$F$132,TRUE,1))","v":1},{"$f":"PRODUCT(_xlfn.IFS('Options Assessment'!J$7=$C$5,$H$5, 'Options Assessment'!J$7=$C$6,$H$6, TRUE,1), _xlfn.IFS('Options Assessment'!J$8=$C$9,$H$9, 'Options Assessment'!J$8=$C$10,$H$10, TRUE,1), IF('Options Assessment'!J$9=$C$13,$H$13,1), IF('Options Assessment'!J$10=$C$16,$H$16,1), _xlfn.IFS('Options Assessment'!J$11=$C$19,$H$19, 'Options Assessment'!J$11=$C$20,$H$20, 'Options Assessment'!J$11=$C$21,$H$21, TRUE,1), IF('Options Assessment'!J$12=$C$24,$H$24,1),IF('Options Assessment'!J$13=$C$35,$H$35,1),IF('Options Assessment'!J$14=$C$38,$H$38,1),IF('Options Assessment'!J$19=$C$41,$H$41,1),IF('Options Assessment'!J$20=$C$44,$H$44,1),IF('Options Assessment'!J$21=$C$47,$H$47,1),IF('Options Assessment'!J$22=$C$50,$H$50,1),_xlfn.IFS('Options Assessment'!J$23=$C$54,$H$54, 'Options Assessment'!J$23=$C$55,$H$55, 'Options Assessment'!J$23=$C$56,$H$56, TRUE,1),_xlfn.IFS('Options Assessment'!J$24=$C$59,$H$59, 'Options Assessment'!J$24=$C$60,$H$60, TRUE,1),IF('Options Assessment'!J$25=$C$63,$H$63,1),IF('Options Assessment'!J$26=$C$66,$H$66,1),IF('Options Assessment'!J$27=$C$69,$H$69,1),IF('Options Assessment'!J$28=$C$73,$H$73,1),IF('Options Assessment'!J$29=$C$76,$H$76,1),IF('Options Assessment'!J$30=$C$80,$H$80,1),IF('Options Assessment'!J$15=$C$88,$H$88,1),_xlfn.IFS('Options Assessment'!J$16=$C$91,$H$91, 'Options Assessment'!J$16=$C$92,$H$92, 'Options Assessment'!J$16=$C$93,$H$93, 'Options Assessment'!J$16=$C$94,$H$94, 'Options Assessment'!J$16=$C$95,$H$95, TRUE,1),_xlfn.IFS( 'Options Assessment'!J$32=$C$98,$H$98, 'Options Assessment'!J$32=$C$99,$H$99, 'Options Assessment'!J$32=$C$100,$H$100, TRUE,1),IF('Options Assessment'!J$33=$C$103,$H$103,1),IF('Options Assessment'!J$35=$C$106,$H$106,1),_xlfn.IFS('Options Assessment'!J$18=$C$109,$H$109, 'Options Assessment'!J$18=$C$110,$H$110, 'Options Assessment'!J$18=$C$111,$H$111, 'Options Assessment'!J$18=$C$112,$H$112, 'Options Assessment'!J$18=$C$113,$H$113, 'Options Assessment'!J$18=$C$114,$H$114, 'Options Assessment'!J$18=$C$115,$H$115, 'Options Assessment'!J$18=$C$116,$H$116, 'Options Assessment'!J$18=$C$117,$H$117, 'Options Assessment'!J$18=$C$118,$H$118, TRUE,1),IF('Options Assessment'!J$34=$C$121,$H$121,1),_xlfn.IFS('Options Assessment'!J$17=$C$127,$H$127, 'Options Assessment'!J$17=$C$128,$H$128, TRUE,1),_xlfn.IFS('Options Assessment'!J$6=$C$130,$F$130, 'Options Assessment'!J$6=$C$131,$F$131, 'Options Assessment'!J$6=$C$132,$F$132,TRUE,1))","v":1},{"$f":"PRODUCT(_xlfn.IFS('Options Assessment'!K$7=$C$5,$H$5, 'Options Assessment'!K$7=$C$6,$H$6, TRUE,1), _xlfn.IFS('Options Assessment'!K$8=$C$9,$H$9, 'Options Assessment'!K$8=$C$10,$H$10, TRUE,1), IF('Options Assessment'!K$9=$C$13,$H$13,1), IF('Options Assessment'!K$10=$C$16,$H$16,1), _xlfn.IFS('Options Assessment'!K$11=$C$19,$H$19, 'Options Assessment'!K$11=$C$20,$H$20, 'Options Assessment'!K$11=$C$21,$H$21, TRUE,1), IF('Options Assessment'!K$12=$C$24,$H$24,1),IF('Options Assessment'!K$13=$C$35,$H$35,1),IF('Options Assessment'!K$14=$C$38,$H$38,1),IF('Options Assessment'!K$19=$C$41,$H$41,1),IF('Options Assessment'!K$20=$C$44,$H$44,1),IF('Options Assessment'!K$21=$C$47,$H$47,1),IF('Options Assessment'!K$22=$C$50,$H$50,1),_xlfn.IFS('Options Assessment'!K$23=$C$54,$H$54, 'Options Assessment'!K$23=$C$55,$H$55, 'Options Assessment'!K$23=$C$56,$H$56, TRUE,1),_xlfn.IFS('Options Assessment'!K$24=$C$59,$H$59, 'Options Assessment'!K$24=$C$60,$H$60, TRUE,1),IF('Options Assessment'!K$25=$C$63,$H$63,1),IF('Options Assessment'!K$26=$C$66,$H$66,1),IF('Options Assessment'!K$27=$C$69,$H$69,1),IF('Options Assessment'!K$28=$C$73,$H$73,1),IF('Options Assessment'!K$29=$C$76,$H$76,1),IF('Options Assessment'!K$30=$C$80,$H$80,1),IF('Options Assessment'!K$15=$C$88,$H$88,1),_xlfn.IFS('Options Assessment'!K$16=$C$91,$H$91, 'Options Assessment'!K$16=$C$92,$H$92, 'Options Assessment'!K$16=$C$93,$H$93, 'Options Assessment'!K$16=$C$94,$H$94, 'Options Assessment'!K$16=$C$95,$H$95, TRUE,1),_xlfn.IFS( 'Options Assessment'!K$32=$C$98,$H$98, 'Options Assessment'!K$32=$C$99,$H$99, 'Options Assessment'!K$32=$C$100,$H$100, TRUE,1),IF('Options Assessment'!K$33=$C$103,$H$103,1),IF('Options Assessment'!K$35=$C$106,$H$106,1),_xlfn.IFS('Options Assessment'!K$18=$C$109,$H$109, 'Options Assessment'!K$18=$C$110,$H$110, 'Options Assessment'!K$18=$C$111,$H$111, 'Options Assessment'!K$18=$C$112,$H$112, 'Options Assessment'!K$18=$C$113,$H$113, 'Options Assessment'!K$18=$C$114,$H$114, 'Options Assessment'!K$18=$C$115,$H$115, 'Options Assessment'!K$18=$C$116,$H$116, 'Options Assessment'!K$18=$C$117,$H$117, 'Options Assessment'!K$18=$C$118,$H$118, TRUE,1),IF('Options Assessment'!K$34=$C$121,$H$121,1),_xlfn.IFS('Options Assessment'!K$17=$C$127,$H$127, 'Options Assessment'!K$17=$C$128,$H$128, TRUE,1),_xlfn.IFS('Options Assessment'!K$6=$C$130,$F$130, 'Options Assessment'!K$6=$C$131,$F$131, 'Options Assessment'!K$6=$C$132,$F$132,TRUE,1))","v":1},{"$f":"PRODUCT(_xlfn.IFS('Options Assessment'!L$7=$C$5,$H$5, 'Options Assessment'!L$7=$C$6,$H$6, TRUE,1), _xlfn.IFS('Options Assessment'!L$8=$C$9,$H$9, 'Options Assessment'!L$8=$C$10,$H$10, TRUE,1), IF('Options Assessment'!L$9=$C$13,$H$13,1), IF('Options Assessment'!L$10=$C$16,$H$16,1), _xlfn.IFS('Options Assessment'!L$11=$C$19,$H$19, 'Options Assessment'!L$11=$C$20,$H$20, 'Options Assessment'!L$11=$C$21,$H$21, TRUE,1), IF('Options Assessment'!L$12=$C$24,$H$24,1),IF('Options Assessment'!L$13=$C$35,$H$35,1),IF('Options Assessment'!L$14=$C$38,$H$38,1),IF('Options Assessment'!L$19=$C$41,$H$41,1),IF('Options Assessment'!L$20=$C$44,$H$44,1),IF('Options Assessment'!L$21=$C$47,$H$47,1),IF('Options Assessment'!L$22=$C$50,$H$50,1),_xlfn.IFS('Options Assessment'!L$23=$C$54,$H$54, 'Options Assessment'!L$23=$C$55,$H$55, 'Options Assessment'!L$23=$C$56,$H$56, TRUE,1),_xlfn.IFS('Options Assessment'!L$24=$C$59,$H$59, 'Options Assessment'!L$24=$C$60,$H$60, TRUE,1),IF('Options Assessment'!L$25=$C$63,$H$63,1),IF('Options Assessment'!L$26=$C$66,$H$66,1),IF('Options Assessment'!L$27=$C$69,$H$69,1),IF('Options Assessment'!L$28=$C$73,$H$73,1),IF('Options Assessment'!L$29=$C$76,$H$76,1),IF('Options Assessment'!L$30=$C$80,$H$80,1),IF('Options Assessment'!L$15=$C$88,$H$88,1),_xlfn.IFS('Options Assessment'!L$16=$C$91,$H$91, 'Options Assessment'!L$16=$C$92,$H$92, 'Options Assessment'!L$16=$C$93,$H$93, 'Options Assessment'!L$16=$C$94,$H$94, 'Options Assessment'!L$16=$C$95,$H$95, TRUE,1),_xlfn.IFS( 'Options Assessment'!L$32=$C$98,$H$98, 'Options Assessment'!L$32=$C$99,$H$99, 'Options Assessment'!L$32=$C$100,$H$100, TRUE,1),IF('Options Assessment'!L$33=$C$103,$H$103,1),IF('Options Assessment'!L$35=$C$106,$H$106,1),_xlfn.IFS('Options Assessment'!L$18=$C$109,$H$109, 'Options Assessment'!L$18=$C$110,$H$110, 'Options Assessment'!L$18=$C$111,$H$111, 'Options Assessment'!L$18=$C$112,$H$112, 'Options Assessment'!L$18=$C$113,$H$113, 'Options Assessment'!L$18=$C$114,$H$114, 'Options Assessment'!L$18=$C$115,$H$115, 'Options Assessment'!L$18=$C$116,$H$116, 'Options Assessment'!L$18=$C$117,$H$117, 'Options Assessment'!L$18=$C$118,$H$118, TRUE,1),IF('Options Assessment'!L$34=$C$121,$H$121,1),_xlfn.IFS('Options Assessment'!L$17=$C$127,$H$127, 'Options Assessment'!L$17=$C$128,$H$128, TRUE,1),_xlfn.IFS('Options Assessment'!L$6=$C$130,$F$130, 'Options Assessment'!L$6=$C$131,$F$131, 'Options Assessment'!L$6=$C$132,$F$132,TRUE,1))","v":1}]
[null,null,null," - "]
[null,"Parking ban","None","Parking ban - None",1,1,1]
[null,"Parking ban","One side","Parking ban - One side",1.5,1.5,1.5]
[null,"Parking ban","Both sides","Parking ban - Both sides",0.8,0.8,0.8]
[null,null,null," - "]
[null,"Parking - convert angle to parallel","No","Parking - convert angle to parallel - No",null,1]
[null,"Parking - convert angle to parallel","Yes","Parking - convert angle to parallel - Yes",null,0.65]
[null,null,null," - "]
[null,"Road diet: Four to two lanes","No","Road diet: Four to two lanes - No",null,1,null,null,null,null,null,null,null,{"$f":"E80*E132","v":0.46199999999999997}]
[null,"Road diet: Four to two lanes","Yes","Road diet: Four to two lanes - Yes",null,0.65]
[null,null,null," - "]
[null,"New Route lighting","None","New Route lighting - None",null,1]
[null,"New Route lighting","Subcategory V4","New Route lighting - Subcategory V4",null,0.95]
[null,"New Route lighting","Subcategory V3","New Route lighting - Subcategory V3",null,0.91]
[null,"New Route lighting","Subcategory V2/V1","New Route lighting - Subcategory V2/V1",null,0.88]
[]
[null,"Traffic Calming","No","Traffic Calming - No",null,1]
[null,"Traffic Calming","Yes","Traffic Calming - Yes",null,0.8]
[]
[]
[]
[]
[]
[]
[]
[]
[]
[null,"Intermittent Surface Treatment","No","Intermittent Surface Treatment - No",null,1]
[null,"Intermittent Surface Treatment","Yes","Intermittent Surface Treatment - Yes",null,0.95]
[]
[null,"Gateway Treatment","No","Gateway Treatment - No",null,1,1]
[null,"Gateway Treatment","Yes","Gateway Treatment - Yes",null,0.8,0.8]
[]
["Intersection Crash Modification","Traffic signals","No","Traffic signals - No",1,null,1,1]
[null,"Traffic signals","Yes","Traffic signals - Yes",1,null,1,1]
[]
[null,"New Traffic Signals","No","New Traffic Signals - No",1,null,1]
[null,"New Traffic Signals","Yes","New Traffic Signals - Yes",0.5,null,0.5]
[]
[null,"Upgrade Traffic Signals","No","Upgrade Traffic Signals - No",1,null,1]
[null,"Upgrade Traffic Signals","Yes","Upgrade Traffic Signals - Yes",0.8,null,0.8]
[]
[null,"Linked / Coordinated signals","No","Linked / Coordinated signals - No",1,null,1]
[null,"Linked / Coordinated signals","Yes","Linked / Coordinated signals - Yes",0.85,null,0.85]
[]
[]
[null,"Signal Visibility","No change","Signal Visibility - No change",1]
[null,"Signal Visibility","Replace pedestal mount with a mast arm mount signal","Signal Visibility - Replace pedestal mount with a mast arm mount signal",0.65]
[null,"Signal Visibility","Increase lens size to twelve inches","Signal Visibility - Increase lens size to twelve inches",0.95]
[null,"Signal Visibility","Provide additonal signal head","Signal Visibility - Provide additonal signal head",0.8]
[]
[null,"Install right-turn lane","No","Install right-turn lane - No",1,null,1,1]
[null,"Install right-turn lane","Signalised","Install right-turn lane - Signalised",0.7]
[null,"Install right-turn lane","Unsignalised","Install right-turn lane - Unsignalised",null,null,0.65,0.65]
[]
[null,"Install left-turn lane","No","Install left-turn lane - No",1]
[null,"Install left-turn lane","Yes","Install left-turn lane - Yes",0.8,null,0.8,0.8]
[]
[null,"Install red ligh camera","No ","Install red ligh camera - No ",1]
[null,"Install red ligh camera","Yes","Install red ligh camera - Yes",0.95]
[]
[null,"Street Lighting intersection","No","Street Lighting intersection - No",1,null,1,1]
[null,"Street Lighting intersection","Yes",{"$f":"_xlfn.CONCAT(B69,\" - \",C69)","v":"Street Lighting intersection - Yes"},0.9,null,0.9,0.9]
[]
[]
[null,"Friction Surfacing","No","Friction Surfacing - No",1,null,1]
[null,"Friction Surfacing","Yes","Friction Surfacing - Yes",0.85,null,0.85]
[]
[null,"Banned Right Turn","No","Banned Right Turn - No",1,null,1]
[null,"Banned Right Turn","Yes","Banned Right Turn - Yes",0.35,null,0.35]
[]
[]
[null,"Raised Intersection","No","Raised Intersection - No",1,null,1]
[null,"Raised Intersection","Yes","Raised Intersection - Yes",0.6,null,0.6]
[]
[]
[null,"New mini-roundabout","No","New mini-roundabout - No",1,null,1]
[null,"New mini-roundabout","Pedestrian","New mini-roundabout - Pedestrian",1.2,null,1.2]
[null,"New mini-roundabout","Cyclist","New mini-roundabout - Cyclist",1.5,null,1.5]
[]
[]
[]
[]
["Cyclist Crash Modification"]
[]
[]
[]
[]
[]
[]
["Pedestrian Crash Modification"]
[]
[]
[]
[]
[]
[]
[]
[]
[]
[]
[]
[]
[]
[]
[]
[]
[]
[]
[]
[]
[]
[]
[]
[]
["Other Crash Modification"]
[]
[null,null,null,null,null,null,null,null,2]
[]
[null,"Number of lanes",2,{"$f":"_xlfn.CONCAT(B126,\" - \",C126)","v":"Number of lanes - 2"},null,1]
[null,"Number of lanes",3,"Number of lanes - 3",null,1.2]
[null,"Number of lanes",4,"Number of lanes - 4",null,1.4]
[null,"Speed Limit Change","No",null,1,1,1,1]
[null,"Speed Limit Change",10,"Speed limit change - 10km/h decrease",0.92,0.92,0.92,0.92]
[null,"Speed Limit Change",20,"Speed limit change - 20km/h decrease",0.84,0.84,0.84,0.84]
[null,"Speed Limit Change",30,"Speed limit change - 30km/h decrease",0.77,0.77,0.77,0.77]
[]
[null,"Notes: yellow cells are assumed values."]
[null,"Orange cells are the components included in current road layout."]
[]
[]
[]
[null,null,"Speed Change",null,"Signalised Intersection","Midblock","Priority Intersection","Roundabout"]
["Speed limit change","Speed Change",0]
[null,null,-2.5,null,2.5,{"$f":"1-EXP(0.034*-E141)","v":8.148771559854262E-2}]
[null,null,-5,null,5,0.1563351834036163]
[null,null,-7.5,null,7.5,0.22508350203891903]
[null,null,-10,null,10,0.28822967723739035]
[null,null,-12.5,null,12.5,0.34623021487015271]
[null,null,-15,null,15,0.3995044211877341]
[null,null,-20,null,20,0.49338300763441045]
["Road Stereotype (without congestion)","Laneway - narrow"]
[null,"Local - narrow"]
[null,"Local - medium"]
[null,"Local - wide"]
[null,"Collector - narrow"]
[null,"Collector - medium"]
[null,"Collector - wide"]
[null,"50 Arterial - medium"]
[null,"50 Arterial - wide"]
[null,"60 Arterial"]

{"sheet":"CMFs_ped","index":11,"n_rows":157,"n_cols":23,"rows_kept":157,"cut":false,"hidden":true,"merged":[[147,0,156,0],[3,0,38,0],[39,0,88,0],[89,0,95,0],[96,0,120,0],[121,0,127,0],[139,0,145,0]]}
[null,null,null,null,null,null,null,null,null,null,null,null,"Network","Segments"]
[null,"Facility",null,"Lookup Value","Signalised_Intersection","Midblock","Priority_Intersection","Roundabout",null,null,null,null,null,{"$f":"'Options Assessment'!C1","v":"Segment 1"},{"$f":"'Options Assessment'!D1","v":"Segment 2"},{"$f":"'Options Assessment'!E1","v":"Segment 3"},{"$f":"'Options Assessment'!F1","v":"Segment 4"},{"$f":"'Options Assessment'!G1","v":"Segment 5"},{"$f":"'Options Assessment'!H1","v":"Segment 6"},{"$f":"'Options Assessment'!I1","v":"Segment 7"},{"$f":"'Options Assessment'!J1","v":"Segment 8"},{"$f":"'Options Assessment'!K1","v":"Segment 9"},{"$f":"'Options Assessment'!L1","v":"Segment 10"}]
[null,null,null,"N/A",null,null,null,null,null,null,null,"Signalised_Intersection",{"$f":"PRODUCT(_xlfn.IFS('Options Assessment'!#REF!=$C$5,$E$5, 'Options Assessment'!#REF!=$C$6,$E$6, TRUE,1), _xlfn.IFS('Options Assessment'!#REF!=$C$9,$E$9, 'Options Assessment'!#REF!=$C$10,$E$10, TRUE,1), IF('Options Assessment'!#REF!=$C$13,$E$13,1), IF('Options Assessment'!#REF!=$C$16,$E$16,1), _xlfn.IFS('Options Assessment'!#REF!=$C$19,$E$19, 'Options Assessment'!#REF!=$C$20,$E$20, 'Options Assessment'!#REF!=$C$21,$E$21, TRUE,1), IF('Options Assessment'!#REF!=$C$24,$E$24,1), IF('Options Assessment'!#REF!=$C$27,$E$27,1),IF('Options Assessment'!#REF!=$C$31,$E$31,1),IF('Options Assessment'!#REF!=$C$35,$E$35,1),IF('Options Assessment'!#REF!=$C$38,$E$38,1),IF('Options Assessment'!#REF!=$C$41,$E$41,1),IF('Options Assessment'!#REF!=$C$44,$E$44,1),IF('Options Assessment'!#REF!=$C$47,$E$47,1),IF('Options Assessment'!#REF!=$C$50,$E$50,1),_xlfn.IFS('Options Assessment'!#REF!=$C$54,$E$54, 'Options Assessment'!#REF!=$C$55,$E$55, 'Options Assessment'!#REF!=$C$56,$E$56, TRUE,1),_xlfn.IFS('Options Assessment'!#REF!=$C$59,$E$59, 'Options Assessment'!#REF!=$C$60,$E$60, TRUE,1),IF('Options Assessment'!#REF!=$C$63,$E$63,1),IF('Options Assessment'!#REF!=$C$66,$E$66,1),IF('Options Assessment'!#REF!=$C$69,$E$69,1),IF('Options Assessment'!#REF!=$C$73,$E$73,1),IF('Options Assessment'!#REF!=$C$76,$E$76,1),IF('Options Assessment'!#REF!=$C$80,$E$80,1),IF('Options Assessment'!#REF!=$C$88,$E$88,1),_xlfn.IFS('Options Assessment'!#REF!=$C$91,$E$91, 'Options Assessment'!#REF!=$C$92,$E$92, 'Options Assessment'!#REF!=$C$93,$E$93, 'Options Assessment'!#REF!=$C$94,$E$94, 'Options Assessment'!#REF!=$C$95,$E$95, TRUE,1),_xlfn.IFS( 'Options Assessment'!#REF!=$C$98,$E$98, 'Options Assessment'!#REF!=$C$99,$E$99, 'Options Assessment'!#REF!=$C$100,$E$100, TRUE,1),IF('Options Assessment'!#REF!=$C$103,$E$103,1),IF('Options Assessment'!#REF!=$C$106,$E$106,1),_xlfn.IFS('Options Assessment'!#REF!=$C$109,$E$109, 'Options Assessment'!#REF!=$C$110,$E$110, 'Options Assessment'!#REF!=$C$111,$E$111, 'Options Assessment'!#REF!=$C$112,$E$112, 'Options Assessment'!#REF!=$C$113,$E$113, 'Options Assessment'!#REF!=$C$114,$E$114, 'Options Assessment'!#REF!=$C$115,$E$115, 'Options Assessment'!#REF!=$C$116,$E$116, 'Options Assessment'!#REF!=$C$117,$E$117, 'Options Assessment'!#REF!=$C$118,$E$118, TRUE,1),IF('Options Assessment'!#REF!=$C$121,$E$121,1),_xlfn.IFS('Options Assessment'!#REF!=$C$127,$E$127, 'Options Assessment'!#REF!=$C$128,$E$128, TRUE,1))","v":{"$error":"#REF!"}},{"$f":"PRODUCT(_xlfn.IFS('Options Assessment'!C$7=$C$5,$E$5, 'Options Assessment'!C$7=$C$6,$E$6, TRUE,1), _xlfn.IFS('Options Assessment'!C$8=$C$9,$E$9, 'Options Assessment'!C$8=$C$10,$E$10, TRUE,1), IF('Options Assessment'!C$9=$C$13,$E$13,1), IF('Options Assessment'!C$10=$C$16,$E$16,1), _xlfn.IFS('Options Assessment'!C$11=$C$19,$E$19, 'Options Assessment'!C$11=$C$20,$E$20, 'Options Assessment'!C$11=$C$21,$E$21, TRUE,1), IF('Options Assessment'!C$12=$C$24,$E$24,1), IF('Options Assessment'!C$13=$C$35,$E$35,1),IF('Options Assessment'!C$14=$C$38,$E$38,1),IF('Options Assessment'!C$19=$C$41,$E$41,1),IF('Options Assessment'!C$20=$C$44,$E$44,1),IF('Options Assessment'!C$21=$C$47,$E$47,1),IF('Options Assessment'!C$22=$C$50,$E$50,1),_xlfn.IFS('Options Assessment'!C$23=$C$54,$E$54, 'Options Assessment'!C$23=$C$55,$E$55, 'Options Assessment'!C$23=$C$56,$E$56, TRUE,1),_xlfn.IFS('Options Assessment'!C$24=$C$59,$E$59, 'Options Assessment'!C$24=$C$60,$E$60, TRUE,1),IF('Options Assessment'!C$25=$C$63,$E$63,1),IF('Options Assessment'!C$26=$C$66,$E$66,1),IF('Options Assessment'!C$27=$C$69,$E$69,1),IF('Options Assessment'!C$28=$C$73,$E$73,1),IF('Options Assessment'!C$29=$C$76,$E$76,1),IF('Options Assessment'!C$30=$C$80,$E$80,1),IF('Options Assessment'!C$15=$C$88,$E$88,1),_xlfn.IFS('Options Assessment'!C$16=$C$91,$E$91, 'Options Assessment'!C$16=$C$92,$E$92, 'Options Assessment'!C$16=$C$93,$E$93, 'Options Assessment'!C$16=$C$94,$E$94, 'Options Assessment'!C$16=$C$95,$E$95, TRUE,1),_xlfn.IFS( 'Options Assessment'!C$32=$C$98,$E$98, 'Options Assessment'!C$32=$C$99,$E$99, 'Options Assessment'!C$32=$C$100,$E$100, TRUE,1),IF('Options Assessment'!C$33=$C$103,$E$103,1),IF('Options Assessment'!C$35=$C$106,$E$106,1),_xlfn.IFS('Options Assessment'!C$18=$C$109,$E$109, 'Options Assessment'!C$18=$C$110,$E$110, 'Options Assessment'!C$18=$C$111,$E$111, 'Options Assessment'!C$18=$C$112,$E$112, 'Options Assessment'!C$18=$C$113,$E$113, 'Options Assessment'!C$18=$C$114,$E$114, 'Options Assessment'!C$18=$C$115,$E$115, 'Options Assessment'!C$18=$C$116,$E$116, 'Options Assessment'!C$18=$C$117,$E$117, 'Options Assessment'!C$18=$C$118,$E$118, TRUE,1),IF('Options Assessment'!C$34=$C$121,$E$121,1),_xlfn.IFS('Options Assessment'!C$17=$C$127,$E$127, 'Options Assessment'!C$17=$C$128,$E$128, TRUE,1),_xlfn.IFS('Options Assessment'!C$6=$C$130,$E$130, 'Options Assessment'!C$6=$C$131,$E$131, 'Options Assessment'!C$6=$C$132,$E$132,TRUE,1))","v":0.65},{"$f":"PRODUCT(_xlfn.IFS('Options Assessment'!D$7=$C$5,$E$5, 'Options Assessment'!D$7=$C$6,$E$6, TRUE,1), _xlfn.IFS('Options Assessment'!D$8=$C$9,$E$9, 'Options Assessment'!D$8=$C$10,$E$10, TRUE,1), IF('Options Assessment'!D$9=$C$13,$E$13,1), IF('Options Assessment'!D$10=$C$16,$E$16,1), _xlfn.IFS('Options Assessment'!D$11=$C$19,$E$19, 'Options Assessment'!D$11=$C$20,$E$20, 'Options Assessment'!D$11=$C$21,$E$21, TRUE,1), IF('Options Assessment'!D$12=$C$24,$E$24,1), IF('Options Assessment'!D$13=$C$35,$E$35,1),IF('Options Assessment'!D$14=$C$38,$E$38,1),IF('Options Assessment'!D$19=$C$41,$E$41,1),IF('Options Assessment'!D$20=$C$44,$E$44,1),IF('Options Assessment'!D$21=$C$47,$E$47,1),IF('Options Assessment'!D$22=$C$50,$E$50,1),_xlfn.IFS('Options Assessment'!D$23=$C$54,$E$54, 'Options Assessment'!D$23=$C$55,$E$55, 'Options Assessment'!D$23=$C$56,$E$56, TRUE,1),_xlfn.IFS('Options Assessment'!D$24=$C$59,$E$59, 'Options Assessment'!D$24=$C$60,$E$60, TRUE,1),IF('Options Assessment'!D$25=$C$63,$E$63,1),IF('Options Assessment'!D$26=$C$66,$E$66,1),IF('Options Assessment'!D$27=$C$69,$E$69,1),IF('Options Assessment'!D$28=$C$73,$E$73,1),IF('Options Assessment'!D$29=$C$76,$E$76,1),IF('Options Assessment'!D$30=$C$80,$E$80,1),IF('Options Assessment'!D$15=$C$88,$E$88,1),_xlfn.IFS('Options Assessment'!D$16=$C$91,$E$91, 'Options Assessment'!D$16=$C$92,$E$92, 'Options Assessment'!D$16=$C$93,$E$93, 'Options Assessment'!D$16=$C$94,$E$94, 'Options Assessment'!D$16=$C$95,$E$95, TRUE,1),_xlfn.IFS( 'Options Assessment'!D$32=$C$98,$E$98, 'Options Assessment'!D$32=$C$99,$E$99, 'Options Assessment'!D$32=$C$100,$E$100, TRUE,1),IF('Options Assessment'!D$33=$C$103,$E$103,1),IF('Options Assessment'!D$35=$C$106,$E$106,1),_xlfn.IFS('Options Assessment'!D$18=$C$109,$E$109, 'Options Assessment'!D$18=$C$110,$E$110, 'Options Assessment'!D$18=$C$111,$E$111, 'Options Assessment'!D$18=$C$112,$E$112, 'Options Assessment'!D$18=$C$113,$E$113, 'Options Assessment'!D$18=$C$114,$E$114, 'Options Assessment'!D$18=$C$115,$E$115, 'Options Assessment'!D$18=$C$116,$E$116, 'Options Assessment'!D$18=$C$117,$E$117, 'Options Assessment'!D$18=$C$118,$E$118, TRUE,1),IF('Options Assessment'!D$34=$C$121,$E$121,1),_xlfn.IFS('Options Assessment'!D$17=$C$127,$E$127, 'Options Assessment'!D$17=$C$128,$E$128, TRUE,1),_xlfn.IFS('Options Assessment'!D$6=$C$130,$E$130, 'Options Assessment'!D$6=$C$131,$E$131, 'Options Assessment'!D$6=$C$132,$E$132,TRUE,1))","v":1},{"$f":"PRODUCT(_xlfn.IFS('Options Assessment'!E$7=$C$5,$E$5, 'Options Assessment'!E$7=$C$6,$E$6, TRUE,1), _xlfn.IFS('Options Assessment'!E$8=$C$9,$E$9, 'Options Assessment'!E$8=$C$10,$E$10, TRUE,1), IF('Options Assessment'!E$9=$C$13,$E$13,1), IF('Options Assessment'!E$10=$C$16,$E$16,1), _xlfn.IFS('Options Assessment'!E$11=$C$19,$E$19, 'Options Assessment'!E$11=$C$20,$E$20, 'Options Assessment'!E$11=$C$21,$E$21, TRUE,1), IF('Options Assessment'!E$12=$C$24,$E$24,1), IF('Options Assessment'!E$13=$C$35,$E$35,1),IF('Options Assessment'!E$14=$C$38,$E$38,1),IF('Options Assessment'!E$19=$C$41,$E$41,1),IF('Options Assessment'!E$20=$C$44,$E$44,1),IF('Options Assessment'!E$21=$C$47,$E$47,1),IF('Options Assessment'!E$22=$C$50,$E$50,1),_xlfn.IFS('Options Assessment'!E$23=$C$54,$E$54, 'Options Assessment'!E$23=$C$55,$E$55, 'Options Assessment'!E$23=$C$56,$E$56, TRUE,1),_xlfn.IFS('Options Assessment'!E$24=$C$59,$E$59, 'Options Assessment'!E$24=$C$60,$E$60, TRUE,1),IF('Options Assessment'!E$25=$C$63,$E$63,1),IF('Options Assessment'!E$26=$C$66,$E$66,1),IF('Options Assessment'!E$27=$C$69,$E$69,1),IF('Options Assessment'!E$28=$C$73,$E$73,1),IF('Options Assessment'!E$29=$C$76,$E$76,1),IF('Options Assessment'!E$30=$C$80,$E$80,1),IF('Options Assessment'!E$15=$C$88,$E$88,1),_xlfn.IFS('Options Assessment'!E$16=$C$91,$E$91, 'Options Assessment'!E$16=$C$92,$E$92, 'Options Assessment'!E$16=$C$93,$E$93, 'Options Assessment'!E$16=$C$94,$E$94, 'Options Assessment'!E$16=$C$95,$E$95, TRUE,1),_xlfn.IFS( 'Options Assessment'!E$32=$C$98,$E$98, 'Options Assessment'!E$32=$C$99,$E$99, 'Options Assessment'!E$32=$C$100,$E$100, TRUE,1),IF('Options Assessment'!E$33=$C$103,$E$103,1),IF('Options Assessment'!E$35=$C$106,$E$106,1),_xlfn.IFS('Options Assessment'!E$18=$C$109,$E$109, 'Options Assessment'!E$18=$C$110,$E$110, 'Options Assessment'!E$18=$C$111,$E$111, 'Options Assessment'!E$18=$C$112,$E$112, 'Options Assessment'!E$18=$C$113,$E$113, 'Options Assessment'!E$18=$C$114,$E$114, 'Options Assessment'!E$18=$C$115,$E$115, 'Options Assessment'!E$18=$C$116,$E$116, 'Options Assessment'!E$18=$C$117,$E$117, 'Options Assessment'!E$18=$C$118,$E$118, TRUE,1),IF('Options Assessment'!E$34=$C$121,$E$121,1),_xlfn.IFS('Options Assessment'!E$17=$C$127,$E$127, 'Options Assessment'!E$17=$C$128,$E$128, TRUE,1),_xlfn.IFS('Options Assessment'!E$6=$C$130,$E$130, 'Options Assessment'!E$6=$C$131,$E$131, 'Options Assessment'!E$6=$C$132,$E$132,TRUE,1))","v":1},{"$f":"PRODUCT(_xlfn.IFS('Options Assessment'!F$7=$C$5,$E$5, 'Options Assessment'!F$7=$C$6,$E$6, TRUE,1), _xlfn.IFS('Options Assessment'!F$8=$C$9,$E$9, 'Options Assessment'!F$8=$C$10,$E$10, TRUE,1), IF('Options Assessment'!F$9=$C$13,$E$13,1), IF('Options Assessment'!F$10=$C$16,$E$16,1), _xlfn.IFS('Options Assessment'!F$11=$C$19,$E$19, 'Options Assessment'!F$11=$C$20,$E$20, 'Options Assessment'!F$11=$C$21,$E$21, TRUE,1), IF('Options Assessment'!F$12=$C$24,$E$24,1), IF('Options Assessment'!F$13=$C$35,$E$35,1),IF('Options Assessment'!F$14=$C$38,$E$38,1),IF('Options Assessment'!F$19=$C$41,$E$41,1),IF('Options Assessment'!F$20=$C$44,$E$44,1),IF('Options Assessment'!F$21=$C$47,$E$47,1),IF('Options Assessment'!F$22=$C$50,$E$50,1),_xlfn.IFS('Options Assessment'!F$23=$C$54,$E$54, 'Options Assessment'!F$23=$C$55,$E$55, 'Options Assessment'!F$23=$C$56,$E$56, TRUE,1),_xlfn.IFS('Options Assessment'!F$24=$C$59,$E$59, 'Options Assessment'!F$24=$C$60,$E$60, TRUE,1),IF('Options Assessment'!F$25=$C$63,$E$63,1),IF('Options Assessment'!F$26=$C$66,$E$66,1),IF('Options Assessment'!F$27=$C$69,$E$69,1),IF('Options Assessment'!F$28=$C$73,$E$73,1),IF('Options Assessment'!F$29=$C$76,$E$76,1),IF('Options Assessment'!F$30=$C$80,$E$80,1),IF('Options Assessment'!F$15=$C$88,$E$88,1),_xlfn.IFS('Options Assessment'!F$16=$C$91,$E$91, 'Options Assessment'!F$16=$C$92,$E$92, 'Options Assessment'!F$16=$C$93,$E$93, 'Options Assessment'!F$16=$C$94,$E$94, 'Options Assessment'!F$16=$C$95,$E$95, TRUE,1),_xlfn.IFS( 'Options Assessment'!F$32=$C$98,$E$98, 'Options Assessment'!F$32=$C$99,$E$99, 'Options Assessment'!F$32=$C$100,$E$100, TRUE,1),IF('Options Assessment'!F$33=$C$103,$E$103,1),IF('Options Assessment'!F$35=$C$106,$E$106,1),_xlfn.IFS('Options Assessment'!F$18=$C$109,$E$109, 'Options Assessment'!F$18=$C$110,$E$110, 'Options Assessment'!F$18=$C$111,$E$111, 'Options Assessment'!F$18=$C$112,$E$112, 'Options Assessment'!F$18=$C$113,$E$113, 'Options Assessment'!F$18=$C$114,$E$114, 'Options Assessment'!F$18=$C$115,$E$115, 'Options Assessment'!F$18=$C$116,$E$116, 'Options Assessment'!F$18=$C$117,$E$117, 'Options Assessment'!F$18=$C$118,$E$118, TRUE,1),IF('Options Assessment'!F$34=$C$121,$E$121,1),_xlfn.IFS('Options Assessment'!F$17=$C$127,$E$127, 'Options Assessment'!F$17=$C$128,$E$128, TRUE,1),_xlfn.IFS('Options Assessment'!F$6=$C$130,$E$130, 'Options Assessment'!F$6=$C$131,$E$131, 'Options Assessment'!F$6=$C$132,$E$132,TRUE,1))","v":1},{"$f":"PRODUCT(_xlfn.IFS('Options Assessment'!G$7=$C$5,$E$5, 'Options Assessment'!G$7=$C$6,$E$6, TRUE,1), _xlfn.IFS('Options Assessment'!G$8=$C$9,$E$9, 'Options Assessment'!G$8=$C$10,$E$10, TRUE,1), IF('Options Assessment'!G$9=$C$13,$E$13,1), IF('Options Assessment'!G$10=$C$16,$E$16,1), _xlfn.IFS('Options Assessment'!G$11=$C$19,$E$19, 'Options Assessment'!G$11=$C$20,$E$20, 'Options Assessment'!G$11=$C$21,$E$21, TRUE,1), IF('Options Assessment'!G$12=$C$24,$E$24,1), IF('Options Assessment'!G$13=$C$35,$E$35,1),IF('Options Assessment'!G$14=$C$38,$E$38,1),IF('Options Assessment'!G$19=$C$41,$E$41,1),IF('Options Assessment'!G$20=$C$44,$E$44,1),IF('Options Assessment'!G$21=$C$47,$E$47,1),IF('Options Assessment'!G$22=$C$50,$E$50,1),_xlfn.IFS('Options Assessment'!G$23=$C$54,$E$54, 'Options Assessment'!G$23=$C$55,$E$55, 'Options Assessment'!G$23=$C$56,$E$56, TRUE,1),_xlfn.IFS('Options Assessment'!G$24=$C$59,$E$59, 'Options Assessment'!G$24=$C$60,$E$60, TRUE,1),IF('Options Assessment'!G$25=$C$63,$E$63,1),IF('Options Assessment'!G$26=$C$66,$E$66,1),IF('Options Assessment'!G$27=$C$69,$E$69,1),IF('Options Assessment'!G$28=$C$73,$E$73,1),IF('Options Assessment'!G$29=$C$76,$E$76,1),IF('Options Assessment'!G$30=$C$80,$E$80,1),IF('Options Assessment'!G$15=$C$88,$E$88,1),_xlfn.IFS('Options Assessment'!G$16=$C$91,$E$91, 'Options Assessment'!G$16=$C$92,$E$92, 'Options Assessment'!G$16=$C$93,$E$93, 'Options Assessment'!G$16=$C$94,$E$94, 'Options Assessment'!G$16=$C$95,$E$95, TRUE,1),_xlfn.IFS( 'Options Assessment'!G$32=$C$98,$E$98, 'Options Assessment'!G$32=$C$99,$E$99, 'Options Assessment'!G$32=$C$100,$E$100, TRUE,1),IF('Options Assessment'!G$33=$C$103,$E$103,1),IF('Options Assessment'!G$35=$C$106,$E$106,1),_xlfn.IFS('Options Assessment'!G$18=$C$109,$E$109, 'Options Assessment'!G$18=$C$110,$E$110, 'Options Assessment'!G$18=$C$111,$E$111, 'Options Assessment'!G$18=$C$112,$E$112, 'Options Assessment'!G$18=$C$113,$E$113, 'Options Assessment'!G$18=$C$114,$E$114, 'Options Assessment'!G$18=$C$115,$E$115, 'Options Assessment'!G$18=$C$116,$E$116, 'Options Assessment'!G$18=$C$117,$E$117, 'Options Assessment'!G$18=$C$118,$E$118, TRUE,1),IF('Options Assessment'!G$34=$C$121,$E$121,1),_xlfn.IFS('Options Assessment'!G$17=$C$127,$E$127, 'Options Assessment'!G$17=$C$128,$E$128, TRUE,1),_xlfn.IFS('Options Assessment'!G$6=$C$130,$E$130, 'Options Assessment'!G$6=$C$131,$E$131, 'Options Assessment'!G$6=$C$132,$E$132,TRUE,1))","v":1},{"$f":"PRODUCT(_xlfn.IFS('Options Assessment'!H$7=$C$5,$E$5, 'Options Assessment'!H$7=$C$6,$E$6, TRUE,1), _xlfn.IFS('Options Assessment'!H$8=$C$9,$E$9, 'Options Assessment'!H$8=$C$10,$E$10, TRUE,1), IF('Options Assessment'!H$9=$C$13,$E$13,1), IF('Options Assessment'!H$10=$C$16,$E$16,1), _xlfn.IFS('Options Assessment'!H$11=$C$19,$E$19, 'Options Assessment'!H$11=$C$20,$E$20, 'Options Assessment'!H$11=$C$21,$E$21, TRUE,1), IF('Options Assessment'!H$12=$C$24,$E$24,1), IF('Options Assessment'!H$13=$C$35,$E$35,1),IF('Options Assessment'!H$14=$C$38,$E$38,1),IF('Options Assessment'!H$19=$C$41,$E$41,1),IF('Options Assessment'!H$20=$C$44,$E$44,1),IF('Options Assessment'!H$21=$C$47,$E$47,1),IF('Options Assessment'!H$22=$C$50,$E$50,1),_xlfn.IFS('Options Assessment'!H$23=$C$54,$E$54, 'Options Assessment'!H$23=$C$55,$E$55, 'Options Assessment'!H$23=$C$56,$E$56, TRUE,1),_xlfn.IFS('Options Assessment'!H$24=$C$59,$E$59, 'Options Assessment'!H$24=$C$60,$E$60, TRUE,1),IF('Options Assessment'!H$25=$C$63,$E$63,1),IF('Options Assessment'!H$26=$C$66,$E$66,1),IF('Options Assessment'!H$27=$C$69,$E$69,1),IF('Options Assessment'!H$28=$C$73,$E$73,1),IF('Options Assessment'!H$29=$C$76,$E$76,1),IF('Options Assessment'!H$30=$C$80,$E$80,1),IF('Options Assessment'!H$15=$C$88,$E$88,1),_xlfn.IFS('Options Assessment'!H$16=$C$91,$E$91, 'Options Assessment'!H$16=$C$92,$E$92, 'Options Assessment'!H$16=$C$93,$E$93, 'Options Assessment'!H$16=$C$94,$E$94, 'Options Assessment'!H$16=$C$95,$E$95, TRUE,1),_xlfn.IFS( 'Options Assessment'!H$32=$C$98,$E$98, 'Options Assessment'!H$32=$C$99,$E$99, 'Options Assessment'!H$32=$C$100,$E$100, TRUE,1),IF('Options Assessment'!H$33=$C$103,$E$103,1),IF('Options Assessment'!H$35=$C$106,$E$106,1),_xlfn.IFS('Options Assessment'!H$18=$C$109,$E$109, 'Options Assessment'!H$18=$C$110,$E$110, 'Options Assessment'!H$18=$C$111,$E$111, 'Options Assessment'!H$18=$C$112,$E$112, 'Options Assessment'!H$18=$C$113,$E$113, 'Options Assessment'!H$18=$C$114,$E$114, 'Options Assessment'!H$18=$C$115,$E$115, 'Options Assessment'!H$18=$C$116,$E$116, 'Options Assessment'!H$18=$C$117,$E$117, 'Options Assessment'!H$18=$C$118,$E$118, TRUE,1),IF('Options Assessment'!H$34=$C$121,$E$121,1),_xlfn.IFS('Options Assessment'!H$17=$C$127,$E$127, 'Options Assessment'!H$17=$C$128,$E$128, TRUE,1),_xlfn.IFS('Options Assessment'!H$6=$C$130,$E$130, 'Options Assessment'!H$6=$C$131,$E$131, 'Options Assessment'!H$6=$C$132,$E$132,TRUE,1))","v":1},{"$f":"PRODUCT(_xlfn.IFS('Options Assessment'!I$7=$C$5,$E$5, 'Options Assessment'!I$7=$C$6,$E$6, TRUE,1), _xlfn.IFS('Options Assessment'!I$8=$C$9,$E$9, 'Options Assessment'!I$8=$C$10,$E$10, TRUE,1), IF('Options Assessment'!I$9=$C$13,$E$13,1), IF('Options Assessment'!I$10=$C$16,$E$16,1), _xlfn.IFS('Options Assessment'!I$11=$C$19,$E$19, 'Options Assessment'!I$11=$C$20,$E$20, 'Options Assessment'!I$11=$C$21,$E$21, TRUE,1), IF('Options Assessment'!I$12=$C$24,$E$24,1), IF('Options Assessment'!I$13=$C$35,$E$35,1),IF('Options Assessment'!I$14=$C$38,$E$38,1),IF('Options Assessment'!I$19=$C$41,$E$41,1),IF('Options Assessment'!I$20=$C$44,$E$44,1),IF('Options Assessment'!I$21=$C$47,$E$47,1),IF('Options Assessment'!I$22=$C$50,$E$50,1),_xlfn.IFS('Options Assessment'!I$23=$C$54,$E$54, 'Options Assessment'!I$23=$C$55,$E$55, 'Options Assessment'!I$23=$C$56,$E$56, TRUE,1),_xlfn.IFS('Options Assessment'!I$24=$C$59,$E$59, 'Options Assessment'!I$24=$C$60,$E$60, TRUE,1),IF('Options Assessment'!I$25=$C$63,$E$63,1),IF('Options Assessment'!I$26=$C$66,$E$66,1),IF('Options Assessment'!I$27=$C$69,$E$69,1),IF('Options Assessment'!I$28=$C$73,$E$73,1),IF('Options Assessment'!I$29=$C$76,$E$76,1),IF('Options Assessment'!I$30=$C$80,$E$80,1),IF('Options Assessment'!I$15=$C$88,$E$88,1),_xlfn.IFS('Options Assessment'!I$16=$C$91,$E$91, 'Options Assessment'!I$16=$C$92,$E$92, 'Options Assessment'!I$16=$C$93,$E$93, 'Options Assessment'!I$16=$C$94,$E$94, 'Options Assessment'!I$16=$C$95,$E$95, TRUE,1),_xlfn.IFS( 'Options Assessment'!I$32=$C$98,$E$98, 'Options Assessment'!I$32=$C$99,$E$99, 'Options Assessment'!I$32=$C$100,$E$100, TRUE,1),IF('Options Assessment'!I$33=$C$103,$E$103,1),IF('Options Assessment'!I$35=$C$106,$E$106,1),_xlfn.IFS('Options Assessment'!I$18=$C$109,$E$109, 'Options Assessment'!I$18=$C$110,$E$110, 'Options Assessment'!I$18=$C$111,$E$111, 'Options Assessment'!I$18=$C$112,$E$112, 'Options Assessment'!I$18=$C$113,$E$113, 'Options Assessment'!I$18=$C$114,$E$114, 'Options Assessment'!I$18=$C$115,$E$115, 'Options Assessment'!I$18=$C$116,$E$116, 'Options Assessment'!I$18=$C$117,$E$117, 'Options Assessment'!I$18=$C$118,$E$118, TRUE,1),IF('Options Assessment'!I$34=$C$121,$E$121,1),_xlfn.IFS('Options Assessment'!I$17=$C$127,$E$127, 'Options Assessment'!I$17=$C$128,$E$128, TRUE,1),_xlfn.IFS('Options Assessment'!I$6=$C$130,$E$130, 'Options Assessment'!I$6=$C$131,$E$131, 'Options Assessment'!I$6=$C$132,$E$132,TRUE,1))","v":1},{"$f":"PRODUCT(_xlfn.IFS('Options Assessment'!J$7=$C$5,$E$5, 'Options Assessment'!J$7=$C$6,$E$6, TRUE,1), _xlfn.IFS('Options Assessment'!J$8=$C$9,$E$9, 'Options Assessment'!J$8=$C$10,$E$10, TRUE,1), IF('Options Assessment'!J$9=$C$13,$E$13,1), IF('Options Assessment'!J$10=$C$16,$E$16,1), _xlfn.IFS('Options Assessment'!J$11=$C$19,$E$19, 'Options Assessment'!J$11=$C$20,$E$20, 'Options Assessment'!J$11=$C$21,$E$21, TRUE,1), IF('Options Assessment'!J$12=$C$24,$E$24,1), IF('Options Assessment'!J$13=$C$35,$E$35,1),IF('Options Assessment'!J$14=$C$38,$E$38,1),IF('Options Assessment'!J$19=$C$41,$E$41,1),IF('Options Assessment'!J$20=$C$44,$E$44,1),IF('Options Assessment'!J$21=$C$47,$E$47,1),IF('Options Assessment'!J$22=$C$50,$E$50,1),_xlfn.IFS('Options Assessment'!J$23=$C$54,$E$54, 'Options Assessment'!J$23=$C$55,$E$55, 'Options Assessment'!J$23=$C$56,$E$56, TRUE,1),_xlfn.IFS('Options Assessment'!J$24=$C$59,$E$59, 'Options Assessment'!J$24=$C$60,$E$60, TRUE,1),IF('Options Assessment'!J$25=$C$63,$E$63,1),IF('Options Assessment'!J$26=$C$66,$E$66,1),IF('Options Assessment'!J$27=$C$69,$E$69,1),IF('Options Assessment'!J$28=$C$73,$E$73,1),IF('Options Assessment'!J$29=$C$76,$E$76,1),IF('Options Assessment'!J$30=$C$80,$E$80,1),IF('Options Assessment'!J$15=$C$88,$E$88,1),_xlfn.IFS('Options Assessment'!J$16=$C$91,$E$91, 'Options Assessment'!J$16=$C$92,$E$92, 'Options Assessment'!J$16=$C$93,$E$93, 'Options Assessment'!J$16=$C$94,$E$94, 'Options Assessment'!J$16=$C$95,$E$95, TRUE,1),_xlfn.IFS( 'Options Assessment'!J$32=$C$98,$E$98, 'Options Assessment'!J$32=$C$99,$E$99, 'Options Assessment'!J$32=$C$100,$E$100, TRUE,1),IF('Options Assessment'!J$33=$C$103,$E$103,1),IF('Options Assessment'!J$35=$C$106,$E$106,1),_xlfn.IFS('Options Assessment'!J$18=$C$109,$E$109, 'Options Assessment'!J$18=$C$110,$E$110, 'Options Assessment'!J$18=$C$111,$E$111, 'Options Assessment'!J$18=$C$112,$E$112, 'Options Assessment'!J$18=$C$113,$E$113, 'Options Assessment'!J$18=$C$114,$E$114, 'Options Assessment'!J$18=$C$115,$E$115, 'Options Assessment'!J$18=$C$116,$E$116, 'Options Assessment'!J$18=$C$117,$E$117, 'Options Assessment'!J$18=$C$118,$E$118, TRUE,1),IF('Options Assessment'!J$34=$C$121,$E$121,1),_xlfn.IFS('Options Assessment'!J$17=$C$127,$E$127, 'Options Assessment'!J$17=$C$128,$E$128, TRUE,1),_xlfn.IFS('Options Assessment'!J$6=$C$130,$E$130, 'Options Assessment'!J$6=$C$131,$E$131, 'Options Assessment'!J$6=$C$132,$E$132,TRUE,1))","v":1},{"$f":"PRODUCT(_xlfn.IFS('Options Assessment'!K$7=$C$5,$E$5, 'Options Assessment'!K$7=$C$6,$E$6, TRUE,1), _xlfn.IFS('Options Assessment'!K$8=$C$9,$E$9, 'Options Assessment'!K$8=$C$10,$E$10, TRUE,1), IF('Options Assessment'!K$9=$C$13,$E$13,1), IF('Options Assessment'!K$10=$C$16,$E$16,1), _xlfn.IFS('Options Assessment'!K$11=$C$19,$E$19, 'Options Assessment'!K$11=$C$20,$E$20, 'Options Assessment'!K$11=$C$21,$E$21, TRUE,1), IF('Options Assessment'!K$12=$C$24,$E$24,1), IF('Options Assessment'!K$13=$C$35,$E$35,1),IF('Options Assessment'!K$14=$C$38,$E$38,1),IF('Options Assessment'!K$19=$C$41,$E$41,1),IF('Options Assessment'!K$20=$C$44,$E$44,1),IF('Options Assessment'!K$21=$C$47,$E$47,1),IF('Options Assessment'!K$22=$C$50,$E$50,1),_xlfn.IFS('Options Assessment'!K$23=$C$54,$E$54, 'Options Assessment'!K$23=$C$55,$E$55, 'Options Assessment'!K$23=$C$56,$E$56, TRUE,1),_xlfn.IFS('Options Assessment'!K$24=$C$59,$E$59, 'Options Assessment'!K$24=$C$60,$E$60, TRUE,1),IF('Options Assessment'!K$25=$C$63,$E$63,1),IF('Options Assessment'!K$26=$C$66,$E$66,1),IF('Options Assessment'!K$27=$C$69,$E$69,1),IF('Options Assessment'!K$28=$C$73,$E$73,1),IF('Options Assessment'!K$29=$C$76,$E$76,1),IF('Options Assessment'!K$30=$C$80,$E$80,1),IF('Options Assessment'!K$15=$C$88,$E$88,1),_xlfn.IFS('Options Assessment'!K$16=$C$91,$E$91, 'Options Assessment'!K$16=$C$92,$E$92, 'Options Assessment'!K$16=$C$93,$E$93, 'Options Assessment'!K$16=$C$94,$E$94, 'Options Assessment'!K$16=$C$95,$E$95, TRUE,1),_xlfn.IFS( 'Options Assessment'!K$32=$C$98,$E$98, 'Options Assessment'!K$32=$C$99,$E$99, 'Options Assessment'!K$32=$C$100,$E$100, TRUE,1),IF('Options Assessment'!K$33=$C$103,$E$103,1),IF('Options Assessment'!K$35=$C$106,$E$106,1),_xlfn.IFS('Options Assessment'!K$18=$C$109,$E$109, 'Options Assessment'!K$18=$C$110,$E$110, 'Options Assessment'!K$18=$C$111,$E$111, 'Options Assessment'!K$18=$C$112,$E$112, 'Options Assessment'!K$18=$C$113,$E$113, 'Options Assessment'!K$18=$C$114,$E$114, 'Options Assessment'!K$18=$C$115,$E$115, 'Options Assessment'!K$18=$C$116,$E$116, 'Options Assessment'!K$18=$C$117,$E$117, 'Options Assessment'!K$18=$C$118,$E$118, TRUE,1),IF('Options Assessment'!K$34=$C$121,$E$121,1),_xlfn.IFS('Options Assessment'!K$17=$C$127,$E$127, 'Options Assessment'!K$17=$C$128,$E$128, TRUE,1),_xlfn.IFS('Options Assessment'!K$6=$C$130,$E$130, 'Options Assessment'!K$6=$C$131,$E$131, 'Options Assessment'!K$6=$C$132,$E$132,TRUE,1))","v":1},{"$f":"PRODUCT(_xlfn.IFS('Options Assessment'!L$7=$C$5,$E$5, 'Options Assessment'!L$7=$C$6,$E$6, TRUE,1), _xlfn.IFS('Options Assessment'!L$8=$C$9,$E$9, 'Options Assessment'!L$8=$C$10,$E$10, TRUE,1), IF('Options Assessment'!L$9=$C$13,$E$13,1), IF('Options Assessment'!L$10=$C$16,$E$16,1), _xlfn.IFS('Options Assessment'!L$11=$C$19,$E$19, 'Options Assessment'!L$11=$C$20,$E$20, 'Options Assessment'!L$11=$C$21,$E$21, TRUE,1), IF('Options Assessment'!L$12=$C$24,$E$24,1), IF('Options Assessment'!L$13=$C$35,$E$35,1),IF('Options Assessment'!L$14=$C$38,$E$38,1),IF('Options Assessment'!L$19=$C$41,$E$41,1),IF('Options Assessment'!L$20=$C$44,$E$44,1),IF('Options Assessment'!L$21=$C$47,$E$47,1),IF('Options Assessment'!L$22=$C$50,$E$50,1),_xlfn.IFS('Options Assessment'!L$23=$C$54,$E$54, 'Options Assessment'!L$23=$C$55,$E$55, 'Options Assessment'!L$23=$C$56,$E$56, TRUE,1),_xlfn.IFS('Options Assessment'!L$24=$C$59,$E$59, 'Options Assessment'!L$24=$C$60,$E$60, TRUE,1),IF('Options Assessment'!L$25=$C$63,$E$63,1),IF('Options Assessment'!L$26=$C$66,$E$66,1),IF('Options Assessment'!L$27=$C$69,$E$69,1),IF('Options Assessment'!L$28=$C$73,$E$73,1),IF('Options Assessment'!L$29=$C$76,$E$76,1),IF('Options Assessment'!L$30=$C$80,$E$80,1),IF('Options Assessment'!L$15=$C$88,$E$88,1),_xlfn.IFS('Options Assessment'!L$16=$C$91,$E$91, 'Options Assessment'!L$16=$C$92,$E$92, 'Options Assessment'!L$16=$C$93,$E$93, 'Options Assessment'!L$16=$C$94,$E$94, 'Options Assessment'!L$16=$C$95,$E$95, TRUE,1),_xlfn.IFS( 'Options Assessment'!L$32=$C$98,$E$98, 'Options Assessment'!L$32=$C$99,$E$99, 'Options Assessment'!L$32=$C$100,$E$100, TRUE,1),IF('Options Assessment'!L$33=$C$103,$E$103,1),IF('Options Assessment'!L$35=$C$106,$E$106,1),_xlfn.IFS('Options Assessment'!L$18=$C$109,$E$109, 'Options Assessment'!L$18=$C$110,$E$110, 'Options Assessment'!L$18=$C$111,$E$111, 'Options Assessment'!L$18=$C$112,$E$112, 'Options Assessment'!L$18=$C$113,$E$113, 'Options Assessment'!L$18=$C$114,$E$114, 'Options Assessment'!L$18=$C$115,$E$115, 'Options Assessment'!L$18=$C$116,$E$116, 'Options Assessment'!L$18=$C$117,$E$117, 'Options Assessment'!L$18=$C$118,$E$118, TRUE,1),IF('Options Assessment'!L$34=$C$121,$E$121,1),_xlfn.IFS('Options Assessment'!L$17=$C$127,$E$127, 'Options Assessment'!L$17=$C$128,$E$128, TRUE,1),_xlfn.IFS('Options Assessment'!L$6=$C$130,$E$130, 'Options Assessment'!L$6=$C$131,$E$131, 'Options Assessment'!L$6=$C$132,$E$132,TRUE,1))","v":1}]
["Midblock Crash Modification",null,null,null,null,null,null,null,null,null,null,"Midblock",{"$f":"PRODUCT(_xlfn.IFS('Options Assessment'!#REF!=$C$5,$F$5, 'Options Assessment'!#REF!=$C$6,$F$6, TRUE,1), _xlfn.IFS('Options Assessment'!#REF!=$C$9,$F$9, 'Options Assessment'!#REF!=$C$10,$F$10, TRUE,1), IF('Options Assessment'!#REF!=$C$13,$F$13,1), IF('Options Assessment'!#REF!=$C$16,$F$16,1), _xlfn.IFS('Options Assessment'!#REF!=$C$19,$F$19, 'Options Assessment'!#REF!=$C$20,$F$20, 'Options Assessment'!#REF!=$C$21,$F$21, TRUE,1), IF('Options Assessment'!#REF!=$C$24,$F$24,1), IF('Options Assessment'!#REF!=$C$27,$F$27,1),IF('Options Assessment'!#REF!=$C$31,$F$31,1),IF('Options Assessment'!#REF!=$C$35,$F$35,1),IF('Options Assessment'!#REF!=$C$38,$F$38,1),IF('Options Assessment'!#REF!=$C$41,$F$41,1),IF('Options Assessment'!#REF!=$C$44,$F$44,1),IF('Options Assessment'!#REF!=$C$47,$F$47,1),IF('Options Assessment'!#REF!=$C$50,$F$50,1),_xlfn.IFS('Options Assessment'!#REF!=$C$54,$F$54, 'Options Assessment'!#REF!=$C$55,$F$55, 'Options Assessment'!#REF!=$C$56,$F$56, TRUE,1),_xlfn.IFS('Options Assessment'!#REF!=$C$59,$F$59, 'Options Assessment'!#REF!=$C$60,$F$60, TRUE,1),IF('Options Assessment'!#REF!=$C$63,$F$63,1),IF('Options Assessment'!#REF!=$C$66,$F$66,1),IF('Options Assessment'!#REF!=$C$69,$F$69,1),IF('Options Assessment'!#REF!=$C$73,$F$73,1),IF('Options Assessment'!#REF!=$C$76,$F$76,1),IF('Options Assessment'!#REF!=$C$80,$F$80,1),IF('Options Assessment'!#REF!=$C$88,$F$88,1),_xlfn.IFS('Options Assessment'!#REF!=$C$91,$F$91, 'Options Assessment'!#REF!=$C$92,$F$92, 'Options Assessment'!#REF!=$C$93,$F$93, 'Options Assessment'!#REF!=$C$94,$F$94, 'Options Assessment'!#REF!=$C$95,$F$95, TRUE,1),_xlfn.IFS( 'Options Assessment'!#REF!=$C$98,$F$98, 'Options Assessment'!#REF!=$C$99,$F$99, 'Options Assessment'!#REF!=$C$100,$F$100, TRUE,1),IF('Options Assessment'!#REF!=$C$103,$F$103,1),IF('Options Assessment'!#REF!=$C$106,$F$106,1),_xlfn.IFS('Options Assessment'!#REF!=$C$109,$F$109, 'Options Assessment'!#REF!=$C$110,$F$110, 'Options Assessment'!#REF!=$C$111,$F$111, 'Options Assessment'!#REF!=$C$112,$F$112, 'Options Assessment'!#REF!=$C$113,$F$113, 'Options Assessment'!#REF!=$C$114,$F$114, 'Options Assessment'!#REF!=$C$115,$F$115, 'Options Assessment'!#REF!=$C$116,$F$116, 'Options Assessment'!#REF!=$C$117,$F$117, 'Options Assessment'!#REF!=$C$118,$F$118, TRUE,1),IF('Options Assessment'!#REF!=$C$121,$F$121,1),_xlfn.IFS('Options Assessment'!#REF!=$C$127,$F$127, 'Options Assessment'!#REF!=$C$128,$F$128, TRUE,1))","v":{"$error":"#REF!"}},{"$f":"PRODUCT(_xlfn.IFS('Options Assessment'!C$7=$C$5,$F$5, 'Options Assessment'!C$7=$C$6,$F$6, TRUE,1), _xlfn.IFS('Options Assessment'!C$8=$C$9,$F$9, 'Options Assessment'!C$8=$C$10,$F$10, TRUE,1), IF('Options Assessment'!C$9=$C$13,$F$13,1), IF('Options Assessment'!C$10=$C$16,$F$16,1), _xlfn.IFS('Options Assessment'!C$11=$C$19,$F$19, 'Options Assessment'!C$11=$C$20,$F$20, 'Options Assessment'!C$11=$C$21,$F$21, TRUE,1), IF('Options Assessment'!C$12=$C$24,$F$24,1), IF('Options Assessment'!C$13=$C$35,$F$35,1),IF('Options Assessment'!C$14=$C$38,$F$38,1),IF('Options Assessment'!C$19=$C$41,$F$41,1),IF('Options Assessment'!C$20=$C$44,$F$44,1),IF('Options Assessment'!C$21=$C$47,$F$47,1),IF('Options Assessment'!C$22=$C$50,$F$50,1),_xlfn.IFS('Options Assessment'!C$23=$C$54,$F$54, 'Options Assessment'!C$23=$C$55,$F$55, 'Options Assessment'!C$23=$C$56,$F$56, TRUE,1),_xlfn.IFS('Options Assessment'!C$24=$C$59,$F$59, 'Options Assessment'!C$24=$C$60,$F$60, TRUE,1),IF('Options Assessment'!C$25=$C$63,$F$63,1),IF('Options Assessment'!C$26=$C$66,$F$66,1),IF('Options Assessment'!C$27=$C$69,$F$69,1),IF('Options Assessment'!C$28=$C$73,$F$73,1),IF('Options Assessment'!C$29=$C$76,$F$76,1),IF('Options Assessment'!C$30=$C$80,$F$80,1),IF('Options Assessment'!C$15=$C$88,$F$88,1),_xlfn.IFS('Options Assessment'!C$16=$C$91,$F$91, 'Options Assessment'!C$16=$C$92,$F$92, 'Options Assessment'!C$16=$C$93,$F$93, 'Options Assessment'!C$16=$C$94,$F$94, 'Options Assessment'!C$16=$C$95,$F$95, TRUE,1),_xlfn.IFS( 'Options Assessment'!C$32=$C$98,$F$98, 'Options Assessment'!C$32=$C$99,$F$99, 'Options Assessment'!C$32=$C$100,$F$100, TRUE,1),IF('Options Assessment'!C$33=$C$103,$F$103,1),IF('Options Assessment'!C$35=$C$106,$F$106,1),_xlfn.IFS('Options Assessment'!C$18=$C$109,$F$109, 'Options Assessment'!C$18=$C$110,$F$110, 'Options Assessment'!C$18=$C$111,$F$111, 'Options Assessment'!C$18=$C$112,$F$112, 'Options Assessment'!C$18=$C$113,$F$113, 'Options Assessment'!C$18=$C$114,$F$114, 'Options Assessment'!C$18=$C$115,$F$115, 'Options Assessment'!C$18=$C$116,$F$116, 'Options Assessment'!C$18=$C$117,$F$117, 'Options Assessment'!C$18=$C$118,$F$118, TRUE,1),IF('Options Assessment'!C$34=$C$121,$F$121,1),_xlfn.IFS('Options Assessment'!C$17=$C$127,$F$127, 'Options Assessment'!C$17=$C$128,$F$128, TRUE,1),_xlfn.IFS('Options Assessment'!C$6=$C$130,$F$130, 'Options Assessment'!C$6=$C$131,$F$131, 'Options Assessment'!C$6=$C$132,$F$132,TRUE,1))","v":0.59150000000000003},{"$f":"PRODUCT(_xlfn.IFS('Options Assessment'!D$7=$C$5,$F$5, 'Options Assessment'!D$7=$C$6,$F$6, TRUE,1), _xlfn.IFS('Options Assessment'!D$8=$C$9,$F$9, 'Options Assessment'!D$8=$C$10,$F$10, TRUE,1), IF('Options Assessment'!D$9=$C$13,$F$13,1), IF('Options Assessment'!D$10=$C$16,$F$16,1), _xlfn.IFS('Options Assessment'!D$11=$C$19,$F$19, 'Options Assessment'!D$11=$C$20,$F$20, 'Options Assessment'!D$11=$C$21,$F$21, TRUE,1), IF('Options Assessment'!D$12=$C$24,$F$24,1), IF('Options Assessment'!D$13=$C$35,$F$35,1),IF('Options Assessment'!D$14=$C$38,$F$38,1),IF('Options Assessment'!D$19=$C$41,$F$41,1),IF('Options Assessment'!D$20=$C$44,$F$44,1),IF('Options Assessment'!D$21=$C$47,$F$47,1),IF('Options Assessment'!D$22=$C$50,$F$50,1),_xlfn.IFS('Options Assessment'!D$23=$C$54,$F$54, 'Options Assessment'!D$23=$C$55,$F$55, 'Options Assessment'!D$23=$C$56,$F$56, TRUE,1),_xlfn.IFS('Options Assessment'!D$24=$C$59,$F$59, 'Options Assessment'!D$24=$C$60,$F$60, TRUE,1),IF('Options Assessment'!D$25=$C$63,$F$63,1),IF('Options Assessment'!D$26=$C$66,$F$66,1),IF('Options Assessment'!D$27=$C$69,$F$69,1),IF('Options Assessment'!D$28=$C$73,$F$73,1),IF('Options Assessment'!D$29=$C$76,$F$76,1),IF('Options Assessment'!D$30=$C$80,$F$80,1),IF('Options Assessment'!D$15=$C$88,$F$88,1),_xlfn.IFS('Options Assessment'!D$16=$C$91,$F$91, 'Options Assessment'!D$16=$C$92,$F$92, 'Options Assessment'!D$16=$C$93,$F$93, 'Options Assessment'!D$16=$C$94,$F$94, 'Options Assessment'!D$16=$C$95,$F$95, TRUE,1),_xlfn.IFS( 'Options Assessment'!D$32=$C$98,$F$98, 'Options Assessment'!D$32=$C$99,$F$99, 'Options Assessment'!D$32=$C$100,$F$100, TRUE,1),IF('Options Assessment'!D$33=$C$103,$F$103,1),IF('Options Assessment'!D$35=$C$106,$F$106,1),_xlfn.IFS('Options Assessment'!D$18=$C$109,$F$109, 'Options Assessment'!D$18=$C$110,$F$110, 'Options Assessment'!D$18=$C$111,$F$111, 'Options Assessment'!D$18=$C$112,$F$112, 'Options Assessment'!D$18=$C$113,$F$113, 'Options Assessment'!D$18=$C$114,$F$114, 'Options Assessment'!D$18=$C$115,$F$115, 'Options Assessment'!D$18=$C$116,$F$116, 'Options Assessment'!D$18=$C$117,$F$117, 'Options Assessment'!D$18=$C$118,$F$118, TRUE,1),IF('Options Assessment'!D$34=$C$121,$F$121,1),_xlfn.IFS('Options Assessment'!D$17=$C$127,$F$127, 'Options Assessment'!D$17=$C$128,$F$128, TRUE,1),_xlfn.IFS('Options Assessment'!D$6=$C$130,$F$130, 'Options Assessment'!D$6=$C$131,$F$131, 'Options Assessment'!D$6=$C$132,$F$132,TRUE,1))","v":1},{"$f":"PRODUCT(_xlfn.IFS('Options Assessment'!E$7=$C$5,$F$5, 'Options Assessment'!E$7=$C$6,$F$6, TRUE,1), _xlfn.IFS('Options Assessment'!E$8=$C$9,$F$9, 'Options Assessment'!E$8=$C$10,$F$10, TRUE,1), IF('Options Assessment'!E$9=$C$13,$F$13,1), IF('Options Assessment'!E$10=$C$16,$F$16,1), _xlfn.IFS('Options Assessment'!E$11=$C$19,$F$19, 'Options Assessment'!E$11=$C$20,$F$20, 'Options Assessment'!E$11=$C$21,$F$21, TRUE,1), IF('Options Assessment'!E$12=$C$24,$F$24,1), IF('Options Assessment'!E$13=$C$35,$F$35,1),IF('Options Assessment'!E$14=$C$38,$F$38,1),IF('Options Assessment'!E$19=$C$41,$F$41,1),IF('Options Assessment'!E$20=$C$44,$F$44,1),IF('Options Assessment'!E$21=$C$47,$F$47,1),IF('Options Assessment'!E$22=$C$50,$F$50,1),_xlfn.IFS('Options Assessment'!E$23=$C$54,$F$54, 'Options Assessment'!E$23=$C$55,$F$55, 'Options Assessment'!E$23=$C$56,$F$56, TRUE,1),_xlfn.IFS('Options Assessment'!E$24=$C$59,$F$59, 'Options Assessment'!E$24=$C$60,$F$60, TRUE,1),IF('Options Assessment'!E$25=$C$63,$F$63,1),IF('Options Assessment'!E$26=$C$66,$F$66,1),IF('Options Assessment'!E$27=$C$69,$F$69,1),IF('Options Assessment'!E$28=$C$73,$F$73,1),IF('Options Assessment'!E$29=$C$76,$F$76,1),IF('Options Assessment'!E$30=$C$80,$F$80,1),IF('Options Assessment'!E$15=$C$88,$F$88,1),_xlfn.IFS('Options Assessment'!E$16=$C$91,$F$91, 'Options Assessment'!E$16=$C$92,$F$92, 'Options Assessment'!E$16=$C$93,$F$93, 'Options Assessment'!E$16=$C$94,$F$94, 'Options Assessment'!E$16=$C$95,$F$95, TRUE,1),_xlfn.IFS( 'Options Assessment'!E$32=$C$98,$F$98, 'Options Assessment'!E$32=$C$99,$F$99, 'Options Assessment'!E$32=$C$100,$F$100, TRUE,1),IF('Options Assessment'!E$33=$C$103,$F$103,1),IF('Options Assessment'!E$35=$C$106,$F$106,1),_xlfn.IFS('Options Assessment'!E$18=$C$109,$F$109, 'Options Assessment'!E$18=$C$110,$F$110, 'Options Assessment'!E$18=$C$111,$F$111, 'Options Assessment'!E$18=$C$112,$F$112, 'Options Assessment'!E$18=$C$113,$F$113, 'Options Assessment'!E$18=$C$114,$F$114, 'Options Assessment'!E$18=$C$115,$F$115, 'Options Assessment'!E$18=$C$116,$F$116, 'Options Assessment'!E$18=$C$117,$F$117, 'Options Assessment'!E$18=$C$118,$F$118, TRUE,1),IF('Options Assessment'!E$34=$C$121,$F$121,1),_xlfn.IFS('Options Assessment'!E$17=$C$127,$F$127, 'Options Assessment'!E$17=$C$128,$F$128, TRUE,1),_xlfn.IFS('Options Assessment'!E$6=$C$130,$F$130, 'Options Assessment'!E$6=$C$131,$F$131, 'Options Assessment'!E$6=$C$132,$F$132,TRUE,1))","v":1},{"$f":"PRODUCT(_xlfn.IFS('Options Assessment'!F$7=$C$5,$F$5, 'Options Assessment'!F$7=$C$6,$F$6, TRUE,1), _xlfn.IFS('Options Assessment'!F$8=$C$9,$F$9, 'Options Assessment'!F$8=$C$10,$F$10, TRUE,1), IF('Options Assessment'!F$9=$C$13,$F$13,1), IF('Options Assessment'!F$10=$C$16,$F$16,1), _xlfn.IFS('Options Assessment'!F$11=$C$19,$F$19, 'Options Assessment'!F$11=$C$20,$F$20, 'Options Assessment'!F$11=$C$21,$F$21, TRUE,1), IF('Options Assessment'!F$12=$C$24,$F$24,1), IF('Options Assessment'!F$13=$C$35,$F$35,1),IF('Options Assessment'!F$14=$C$38,$F$38,1),IF('Options Assessment'!F$19=$C$41,$F$41,1),IF('Options Assessment'!F$20=$C$44,$F$44,1),IF('Options Assessment'!F$21=$C$47,$F$47,1),IF('Options Assessment'!F$22=$C$50,$F$50,1),_xlfn.IFS('Options Assessment'!F$23=$C$54,$F$54, 'Options Assessment'!F$23=$C$55,$F$55, 'Options Assessment'!F$23=$C$56,$F$56, TRUE,1),_xlfn.IFS('Options Assessment'!F$24=$C$59,$F$59, 'Options Assessment'!F$24=$C$60,$F$60, TRUE,1),IF('Options Assessment'!F$25=$C$63,$F$63,1),IF('Options Assessment'!F$26=$C$66,$F$66,1),IF('Options Assessment'!F$27=$C$69,$F$69,1),IF('Options Assessment'!F$28=$C$73,$F$73,1),IF('Options Assessment'!F$29=$C$76,$F$76,1),IF('Options Assessment'!F$30=$C$80,$F$80,1),IF('Options Assessment'!F$15=$C$88,$F$88,1),_xlfn.IFS('Options Assessment'!F$16=$C$91,$F$91, 'Options Assessment'!F$16=$C$92,$F$92, 'Options Assessment'!F$16=$C$93,$F$93, 'Options Assessment'!F$16=$C$94,$F$94, 'Options Assessment'!F$16=$C$95,$F$95, TRUE,1),_xlfn.IFS( 'Options Assessment'!F$32=$C$98,$F$98, 'Options Assessment'!F$32=$C$99,$F$99, 'Options Assessment'!F$32=$C$100,$F$100, TRUE,1),IF('Options Assessment'!F$33=$C$103,$F$103,1),IF('Options Assessment'!F$35=$C$106,$F$106,1),_xlfn.IFS('Options Assessment'!F$18=$C$109,$F$109, 'Options Assessment'!F$18=$C$110,$F$110, 'Options Assessment'!F$18=$C$111,$F$111, 'Options Assessment'!F$18=$C$112,$F$112, 'Options Assessment'!F$18=$C$113,$F$113, 'Options Assessment'!F$18=$C$114,$F$114, 'Options Assessment'!F$18=$C$115,$F$115, 'Options Assessment'!F$18=$C$116,$F$116, 'Options Assessment'!F$18=$C$117,$F$117, 'Options Assessment'!F$18=$C$118,$F$118, TRUE,1),IF('Options Assessment'!F$34=$C$121,$F$121,1),_xlfn.IFS('Options Assessment'!F$17=$C$127,$F$127, 'Options Assessment'!F$17=$C$128,$F$128, TRUE,1),_xlfn.IFS('Options Assessment'!F$6=$C$130,$F$130, 'Options Assessment'!F$6=$C$131,$F$131, 'Options Assessment'!F$6=$C$132,$F$132,TRUE,1))","v":1},{"$f":"PRODUCT(_xlfn.IFS('Options Assessment'!G$7=$C$5,$F$5, 'Options Assessment'!G$7=$C$6,$F$6, TRUE,1), _xlfn.IFS('Options Assessment'!G$8=$C$9,$F$9, 'Options Assessment'!G$8=$C$10,$F$10, TRUE,1), IF('Options Assessment'!G$9=$C$13,$F$13,1), IF('Options Assessment'!G$10=$C$16,$F$16,1), _xlfn.IFS('Options Assessment'!G$11=$C$19,$F$19, 'Options Assessment'!G$11=$C$20,$F$20, 'Options Assessment'!G$11=$C$21,$F$21, TRUE,1), IF('Options Assessment'!G$12=$C$24,$F$24,1), IF('Options Assessment'!G$13=$C$35,$F$35,1),IF('Options Assessment'!G$14=$C$38,$F$38,1),IF('Options Assessment'!G$19=$C$41,$F$41,1),IF('Options Assessment'!G$20=$C$44,$F$44,1),IF('Options Assessment'!G$21=$C$47,$F$47,1),IF('Options Assessment'!G$22=$C$50,$F$50,1),_xlfn.IFS('Options Assessment'!G$23=$C$54,$F$54, 'Options Assessment'!G$23=$C$55,$F$55, 'Options Assessment'!G$23=$C$56,$F$56, TRUE,1),_xlfn.IFS('Options Assessment'!G$24=$C$59,$F$59, 'Options Assessment'!G$24=$C$60,$F$60, TRUE,1),IF('Options Assessment'!G$25=$C$63,$F$63,1),IF('Options Assessment'!G$26=$C$66,$F$66,1),IF('Options Assessment'!G$27=$C$69,$F$69,1),IF('Options Assessment'!G$28=$C$73,$F$73,1),IF('Options Assessment'!G$29=$C$76,$F$76,1),IF('Options Assessment'!G$30=$C$80,$F$80,1),IF('Options Assessment'!G$15=$C$88,$F$88,1),_xlfn.IFS('Options Assessment'!G$16=$C$91,$F$91, 'Options Assessment'!G$16=$C$92,$F$92, 'Options Assessment'!G$16=$C$93,$F$93, 'Options Assessment'!G$16=$C$94,$F$94, 'Options Assessment'!G$16=$C$95,$F$95, TRUE,1),_xlfn.IFS( 'Options Assessment'!G$32=$C$98,$F$98, 'Options Assessment'!G$32=$C$99,$F$99, 'Options Assessment'!G$32=$C$100,$F$100, TRUE,1),IF('Options Assessment'!G$33=$C$103,$F$103,1),IF('Options Assessment'!G$35=$C$106,$F$106,1),_xlfn.IFS('Options Assessment'!G$18=$C$109,$F$109, 'Options Assessment'!G$18=$C$110,$F$110, 'Options Assessment'!G$18=$C$111,$F$111, 'Options Assessment'!G$18=$C$112,$F$112, 'Options Assessment'!G$18=$C$113,$F$113, 'Options Assessment'!G$18=$C$114,$F$114, 'Options Assessment'!G$18=$C$115,$F$115, 'Options Assessment'!G$18=$C$116,$F$116, 'Options Assessment'!G$18=$C$117,$F$117, 'Options Assessment'!G$18=$C$118,$F$118, TRUE,1),IF('Options Assessment'!G$34=$C$121,$F$121,1),_xlfn.IFS('Options Assessment'!G$17=$C$127,$F$127, 'Options Assessment'!G$17=$C$128,$F$128, TRUE,1),_xlfn.IFS('Options Assessment'!G$6=$C$130,$F$130, 'Options Assessment'!G$6=$C$131,$F$131, 'Options Assessment'!G$6=$C$132,$F$132,TRUE,1))","v":1},{"$f":"PRODUCT(_xlfn.IFS('Options Assessment'!H$7=$C$5,$F$5, 'Options Assessment'!H$7=$C$6,$F$6, TRUE,1), _xlfn.IFS('Options Assessment'!H$8=$C$9,$F$9, 'Options Assessment'!H$8=$C$10,$F$10, TRUE,1), IF('Options Assessment'!H$9=$C$13,$F$13,1), IF('Options Assessment'!H$10=$C$16,$F$16,1), _xlfn.IFS('Options Assessment'!H$11=$C$19,$F$19, 'Options Assessment'!H$11=$C$20,$F$20, 'Options Assessment'!H$11=$C$21,$F$21, TRUE,1), IF('Options Assessment'!H$12=$C$24,$F$24,1), IF('Options Assessment'!H$13=$C$35,$F$35,1),IF('Options Assessment'!H$14=$C$38,$F$38,1),IF('Options Assessment'!H$19=$C$41,$F$41,1),IF('Options Assessment'!H$20=$C$44,$F$44,1),IF('Options Assessment'!H$21=$C$47,$F$47,1),IF('Options Assessment'!H$22=$C$50,$F$50,1),_xlfn.IFS('Options Assessment'!H$23=$C$54,$F$54, 'Options Assessment'!H$23=$C$55,$F$55, 'Options Assessment'!H$23=$C$56,$F$56, TRUE,1),_xlfn.IFS('Options Assessment'!H$24=$C$59,$F$59, 'Options Assessment'!H$24=$C$60,$F$60, TRUE,1),IF('Options Assessment'!H$25=$C$63,$F$63,1),IF('Options Assessment'!H$26=$C$66,$F$66,1),IF('Options Assessment'!H$27=$C$69,$F$69,1),IF('Options Assessment'!H$28=$C$73,$F$73,1),IF('Options Assessment'!H$29=$C$76,$F$76,1),IF('Options Assessment'!H$30=$C$80,$F$80,1),IF('Options Assessment'!H$15=$C$88,$F$88,1),_xlfn.IFS('Options Assessment'!H$16=$C$91,$F$91, 'Options Assessment'!H$16=$C$92,$F$92, 'Options Assessment'!H$16=$C$93,$F$93, 'Options Assessment'!H$16=$C$94,$F$94, 'Options Assessment'!H$16=$C$95,$F$95, TRUE,1),_xlfn.IFS( 'Options Assessment'!H$32=$C$98,$F$98, 'Options Assessment'!H$32=$C$99,$F$99, 'Options Assessment'!H$32=$C$100,$F$100, TRUE,1),IF('Options Assessment'!H$33=$C$103,$F$103,1),IF('Options Assessment'!H$35=$C$106,$F$106,1),_xlfn.IFS('Options Assessment'!H$18=$C$109,$F$109, 'Options Assessment'!H$18=$C$110,$F$110, 'Options Assessment'!H$18=$C$111,$F$111, 'Options Assessment'!H$18=$C$112,$F$112, 'Options Assessment'!H$18=$C$113,$F$113, 'Options Assessment'!H$18=$C$114,$F$114, 'Options Assessment'!H$18=$C$115,$F$115, 'Options Assessment'!H$18=$C$116,$F$116, 'Options Assessment'!H$18=$C$117,$F$117, 'Options Assessment'!H$18=$C$118,$F$118, TRUE,1),IF('Options Assessment'!H$34=$C$121,$F$121,1),_xlfn.IFS('Options Assessment'!H$17=$C$127,$F$127, 'Options Assessment'!H$17=$C$128,$F$128, TRUE,1),_xlfn.IFS('Options Assessment'!H$6=$C$130,$F$130, 'Options Assessment'!H$6=$C$131,$F$131, 'Options Assessment'!H$6=$C$132,$F$132,TRUE,1))","v":1},{"$f":"PRODUCT(_xlfn.IFS('Options Assessment'!I$7=$C$5,$F$5, 'Options Assessment'!I$7=$C$6,$F$6, TRUE,1), _xlfn.IFS('Options Assessment'!I$8=$C$9,$F$9, 'Options Assessment'!I$8=$C$10,$F$10, TRUE,1), IF('Options Assessment'!I$9=$C$13,$F$13,1), IF('Options Assessment'!I$10=$C$16,$F$16,1), _xlfn.IFS('Options Assessment'!I$11=$C$19,$F$19, 'Options Assessment'!I$11=$C$20,$F$20, 'Options Assessment'!I$11=$C$21,$F$21, TRUE,1), IF('Options Assessment'!I$12=$C$24,$F$24,1), IF('Options Assessment'!I$13=$C$35,$F$35,1),IF('Options Assessment'!I$14=$C$38,$F$38,1),IF('Options Assessment'!I$19=$C$41,$F$41,1),IF('Options Assessment'!I$20=$C$44,$F$44,1),IF('Options Assessment'!I$21=$C$47,$F$47,1),IF('Options Assessment'!I$22=$C$50,$F$50,1),_xlfn.IFS('Options Assessment'!I$23=$C$54,$F$54, 'Options Assessment'!I$23=$C$55,$F$55, 'Options Assessment'!I$23=$C$56,$F$56, TRUE,1),_xlfn.IFS('Options Assessment'!I$24=$C$59,$F$59, 'Options Assessment'!I$24=$C$60,$F$60, TRUE,1),IF('Options Assessment'!I$25=$C$63,$F$63,1),IF('Options Assessment'!I$26=$C$66,$F$66,1),IF('Options Assessment'!I$27=$C$69,$F$69,1),IF('Options Assessment'!I$28=$C$73,$F$73,1),IF('Options Assessment'!I$29=$C$76,$F$76,1),IF('Options Assessment'!I$30=$C$80,$F$80,1),IF('Options Assessment'!I$15=$C$88,$F$88,1),_xlfn.IFS('Options Assessment'!I$16=$C$91,$F$91, 'Options Assessment'!I$16=$C$92,$F$92, 'Options Assessment'!I$16=$C$93,$F$93, 'Options Assessment'!I$16=$C$94,$F$94, 'Options Assessment'!I$16=$C$95,$F$95, TRUE,1),_xlfn.IFS( 'Options Assessment'!I$32=$C$98,$F$98, 'Options Assessment'!I$32=$C$99,$F$99, 'Options Assessment'!I$32=$C$100,$F$100, TRUE,1),IF('Options Assessment'!I$33=$C$103,$F$103,1),IF('Options Assessment'!I$35=$C$106,$F$106,1),_xlfn.IFS('Options Assessment'!I$18=$C$109,$F$109, 'Options Assessment'!I$18=$C$110,$F$110, 'Options Assessment'!I$18=$C$111,$F$111, 'Options Assessment'!I$18=$C$112,$F$112, 'Options Assessment'!I$18=$C$113,$F$113, 'Options Assessment'!I$18=$C$114,$F$114, 'Options Assessment'!I$18=$C$115,$F$115, 'Options Assessment'!I$18=$C$116,$F$116, 'Options Assessment'!I$18=$C$117,$F$117, 'Options Assessment'!I$18=$C$118,$F$118, TRUE,1),IF('Options Assessment'!I$34=$C$121,$F$121,1),_xlfn.IFS('Options Assessment'!I$17=$C$127,$F$127, 'Options Assessment'!I$17=$C$128,$F$128, TRUE,1),_xlfn.IFS('Options Assessment'!I$6=$C$130,$F$130, 'Options Assessment'!I$6=$C$131,$F$131, 'Options Assessment'!I$6=$C$132,$F$132,TRUE,1))","v":1},{"$f":"PRODUCT(_xlfn.IFS('Options Assessment'!J$7=$C$5,$F$5, 'Options Assessment'!J$7=$C$6,$F$6, TRUE,1), _xlfn.IFS('Options Assessment'!J$8=$C$9,$F$9, 'Options Assessment'!J$8=$C$10,$F$10, TRUE,1), IF('Options Assessment'!J$9=$C$13,$F$13,1), IF('Options Assessment'!J$10=$C$16,$F$16,1), _xlfn.IFS('Options Assessment'!J$11=$C$19,$F$19, 'Options Assessment'!J$11=$C$20,$F$20, 'Options Assessment'!J$11=$C$21,$F$21, TRUE,1), IF('Options Assessment'!J$12=$C$24,$F$24,1), IF('Options Assessment'!J$13=$C$35,$F$35,1),IF('Options Assessment'!J$14=$C$38,$F$38,1),IF('Options Assessment'!J$19=$C$41,$F$41,1),IF('Options Assessment'!J$20=$C$44,$F$44,1),IF('Options Assessment'!J$21=$C$47,$F$47,1),IF('Options Assessment'!J$22=$C$50,$F$50,1),_xlfn.IFS('Options Assessment'!J$23=$C$54,$F$54, 'Options Assessment'!J$23=$C$55,$F$55, 'Options Assessment'!J$23=$C$56,$F$56, TRUE,1),_xlfn.IFS('Options Assessment'!J$24=$C$59,$F$59, 'Options Assessment'!J$24=$C$60,$F$60, TRUE,1),IF('Options Assessment'!J$25=$C$63,$F$63,1),IF('Options Assessment'!J$26=$C$66,$F$66,1),IF('Options Assessment'!J$27=$C$69,$F$69,1),IF('Options Assessment'!J$28=$C$73,$F$73,1),IF('Options Assessment'!J$29=$C$76,$F$76,1),IF('Options Assessment'!J$30=$C$80,$F$80,1),IF('Options Assessment'!J$15=$C$88,$F$88,1),_xlfn.IFS('Options Assessment'!J$16=$C$91,$F$91, 'Options Assessment'!J$16=$C$92,$F$92, 'Options Assessment'!J$16=$C$93,$F$93, 'Options Assessment'!J$16=$C$94,$F$94, 'Options Assessment'!J$16=$C$95,$F$95, TRUE,1),_xlfn.IFS( 'Options Assessment'!J$32=$C$98,$F$98, 'Options Assessment'!J$32=$C$99,$F$99, 'Options Assessment'!J$32=$C$100,$F$100, TRUE,1),IF('Options Assessment'!J$33=$C$103,$F$103,1),IF('Options Assessment'!J$35=$C$106,$F$106,1),_xlfn.IFS('Options Assessment'!J$18=$C$109,$F$109, 'Options Assessment'!J$18=$C$110,$F$110, 'Options Assessment'!J$18=$C$111,$F$111, 'Options Assessment'!J$18=$C$112,$F$112, 'Options Assessment'!J$18=$C$113,$F$113, 'Options Assessment'!J$18=$C$114,$F$114, 'Options Assessment'!J$18=$C$115,$F$115, 'Options Assessment'!J$18=$C$116,$F$116, 'Options Assessment'!J$18=$C$117,$F$117, 'Options Assessment'!J$18=$C$118,$F$118, TRUE,1),IF('Options Assessment'!J$34=$C$121,$F$121,1),_xlfn.IFS('Options Assessment'!J$17=$C$127,$F$127, 'Options Assessment'!J$17=$C$128,$F$128, TRUE,1),_xlfn.IFS('Options Assessment'!J$6=$C$130,$F$130, 'Options Assessment'!J$6=$C$131,$F$131, 'Options Assessment'!J$6=$C$132,$F$132,TRUE,1))","v":1},{"$f":"PRODUCT(_xlfn.IFS('Options Assessment'!K$7=$C$5,$F$5, 'Options Assessment'!K$7=$C$6,$F$6, TRUE,1), _xlfn.IFS('Options Assessment'!K$8=$C$9,$F$9, 'Options Assessment'!K$8=$C$10,$F$10, TRUE,1), IF('Options Assessment'!K$9=$C$13,$F$13,1), IF('Options Assessment'!K$10=$C$16,$F$16,1), _xlfn.IFS('Options Assessment'!K$11=$C$19,$F$19, 'Options Assessment'!K$11=$C$20,$F$20, 'Options Assessment'!K$11=$C$21,$F$21, TRUE,1), IF('Options Assessment'!K$12=$C$24,$F$24,1), IF('Options Assessment'!K$13=$C$35,$F$35,1),IF('Options Assessment'!K$14=$C$38,$F$38,1),IF('Options Assessment'!K$19=$C$41,$F$41,1),IF('Options Assessment'!K$20=$C$44,$F$44,1),IF('Options Assessment'!K$21=$C$47,$F$47,1),IF('Options Assessment'!K$22=$C$50,$F$50,1),_xlfn.IFS('Options Assessment'!K$23=$C$54,$F$54, 'Options Assessment'!K$23=$C$55,$F$55, 'Options Assessment'!K$23=$C$56,$F$56, TRUE,1),_xlfn.IFS('Options Assessment'!K$24=$C$59,$F$59, 'Options Assessment'!K$24=$C$60,$F$60, TRUE,1),IF('Options Assessment'!K$25=$C$63,$F$63,1),IF('Options Assessment'!K$26=$C$66,$F$66,1),IF('Options Assessment'!K$27=$C$69,$F$69,1),IF('Options Assessment'!K$28=$C$73,$F$73,1),IF('Options Assessment'!K$29=$C$76,$F$76,1),IF('Options Assessment'!K$30=$C$80,$F$80,1),IF('Options Assessment'!K$15=$C$88,$F$88,1),_xlfn.IFS('Options Assessment'!K$16=$C$91,$F$91, 'Options Assessment'!K$16=$C$92,$F$92, 'Options Assessment'!K$16=$C$93,$F$93, 'Options Assessment'!K$16=$C$94,$F$94, 'Options Assessment'!K$16=$C$95,$F$95, TRUE,1),_xlfn.IFS( 'Options Assessment'!K$32=$C$98,$F$98, 'Options Assessment'!K$32=$C$99,$F$99, 'Options Assessment'!K$32=$C$100,$F$100, TRUE,1),IF('Options Assessment'!K$33=$C$103,$F$103,1),IF('Options Assessment'!K$35=$C$106,$F$106,1),_xlfn.IFS('Options Assessment'!K$18=$C$109,$F$109, 'Options Assessment'!K$18=$C$110,$F$110, 'Options Assessment'!K$18=$C$111,$F$111, 'Options Assessment'!K$18=$C$112,$F$112, 'Options Assessment'!K$18=$C$113,$F$113, 'Options Assessment'!K$18=$C$114,$F$114, 'Options Assessment'!K$18=$C$115,$F$115, 'Options Assessment'!K$18=$C$116,$F$116, 'Options Assessment'!K$18=$C$117,$F$117, 'Options Assessment'!K$18=$C$118,$F$118, TRUE,1),IF('Options Assessment'!K$34=$C$121,$F$121,1),_xlfn.IFS('Options Assessment'!K$17=$C$127,$F$127, 'Options Assessment'!K$17=$C$128,$F$128, TRUE,1),_xlfn.IFS('Options Assessment'!K$6=$C$130,$F$130, 'Options Assessment'!K$6=$C$131,$F$131, 'Options Assessment'!K$6=$C$132,$F$132,TRUE,1))","v":1},{"$f":"PRODUCT(_xlfn.IFS('Options Assessment'!L$7=$C$5,$F$5, 'Options Assessment'!L$7=$C$6,$F$6, TRUE,1), _xlfn.IFS('Options Assessment'!L$8=$C$9,$F$9, 'Options Assessment'!L$8=$C$10,$F$10, TRUE,1), IF('Options Assessment'!L$9=$C$13,$F$13,1), IF('Options Assessment'!L$10=$C$16,$F$16,1), _xlfn.IFS('Options Assessment'!L$11=$C$19,$F$19, 'Options Assessment'!L$11=$C$20,$F$20, 'Options Assessment'!L$11=$C$21,$F$21, TRUE,1), IF('Options Assessment'!L$12=$C$24,$F$24,1), IF('Options Assessment'!L$13=$C$35,$F$35,1),IF('Options Assessment'!L$14=$C$38,$F$38,1),IF('Options Assessment'!L$19=$C$41,$F$41,1),IF('Options Assessment'!L$20=$C$44,$F$44,1),IF('Options Assessment'!L$21=$C$47,$F$47,1),IF('Options Assessment'!L$22=$C$50,$F$50,1),_xlfn.IFS('Options Assessment'!L$23=$C$54,$F$54, 'Options Assessment'!L$23=$C$55,$F$55, 'Options Assessment'!L$23=$C$56,$F$56, TRUE,1),_xlfn.IFS('Options Assessment'!L$24=$C$59,$F$59, 'Options Assessment'!L$24=$C$60,$F$60, TRUE,1),IF('Options Assessment'!L$25=$C$63,$F$63,1),IF('Options Assessment'!L$26=$C$66,$F$66,1),IF('Options Assessment'!L$27=$C$69,$F$69,1),IF('Options Assessment'!L$28=$C$73,$F$73,1),IF('Options Assessment'!L$29=$C$76,$F$76,1),IF('Options Assessment'!L$30=$C$80,$F$80,1),IF('Options Assessment'!L$15=$C$88,$F$88,1),_xlfn.IFS('Options Assessment'!L$16=$C$91,$F$91, 'Options Assessment'!L$16=$C$92,$F$92, 'Options Assessment'!L$16=$C$93,$F$93, 'Options Assessment'!L$16=$C$94,$F$94, 'Options Assessment'!L$16=$C$95,$F$95, TRUE,1),_xlfn.IFS( 'Options Assessment'!L$32=$C$98,$F$98, 'Options Assessment'!L$32=$C$99,$F$99, 'Options Assessment'!L$32=$C$100,$F$100, TRUE,1),IF('Options Assessment'!L$33=$C$103,$F$103,1),IF('Options Assessment'!L$35=$C$106,$F$106,1),_xlfn.IFS('Options Assessment'!L$18=$C$109,$F$109, 'Options Assessment'!L$18=$C$110,$F$110, 'Options Assessment'!L$18=$C$111,$F$111, 'Options Assessment'!L$18=$C$112,$F$112, 'Options Assessment'!L$18=$C$113,$F$113, 'Options Assessment'!L$18=$C$114,$F$114, 'Options Assessment'!L$18=$C$115,$F$115, 'Options Assessment'!L$18=$C$116,$F$116, 'Options Assessment'!L$18=$C$117,$F$117, 'Options Assessment'!L$18=$C$118,$F$118, TRUE,1),IF('Options Assessment'!L$34=$C$121,$F$121,1),_xlfn.IFS('Options Assessment'!L$17=$C$127,$F$127, 'Options Assessment'!L$17=$C$128,$F$128, TRUE,1),_xlfn.IFS('Options Assessment'!L$6=$C$130,$F$130, 'Options Assessment'!L$6=$C$131,$F$131, 'Options Assessment'!L$6=$C$132,$F$132,TRUE,1))","v":1}]
[null,null,null,null,null,null,null,null,null,null,null,"Priority_Intersection",{"$f":"PRODUCT(_xlfn.IFS('Options Assessment'!#REF!=$C$5,$G$5, 'Options Assessment'!#REF!=$C$6,$G$6, TRUE,1), _xlfn.IFS('Options Assessment'!#REF!=$C$9,$G$9, 'Options Assessment'!#REF!=$C$10,$G$10, TRUE,1), IF('Options Assessment'!#REF!=$C$13,$G$13,1), IF('Options Assessment'!#REF!=$C$16,$G$16,1), _xlfn.IFS('Options Assessment'!#REF!=$C$19,$G$19, 'Options Assessment'!#REF!=$C$20,$G$20, 'Options Assessment'!#REF!=$C$21,$G$21, TRUE,1), IF('Options Assessment'!#REF!=$C$24,$G$24,1), IF('Options Assessment'!#REF!=$C$27,$G$27,1),IF('Options Assessment'!#REF!=$C$31,$G$31,1),IF('Options Assessment'!#REF!=$C$35,$G$35,1),IF('Options Assessment'!#REF!=$C$38,$G$38,1),IF('Options Assessment'!#REF!=$C$41,$G$41,1),IF('Options Assessment'!#REF!=$C$44,$G$44,1),IF('Options Assessment'!#REF!=$C$47,$G$47,1),IF('Options Assessment'!#REF!=$C$50,$G$50,1),_xlfn.IFS('Options Assessment'!#REF!=$C$54,$G$54, 'Options Assessment'!#REF!=$C$55,$G$55, 'Options Assessment'!#REF!=$C$56,$G$56, TRUE,1),_xlfn.IFS('Options Assessment'!#REF!=$C$59,$G$59, 'Options Assessment'!#REF!=$C$60,$G$60, TRUE,1),IF('Options Assessment'!#REF!=$C$63,$G$63,1),IF('Options Assessment'!#REF!=$C$66,$G$66,1),IF('Options Assessment'!#REF!=$C$69,$G$69,1),IF('Options Assessment'!#REF!=$C$73,$G$73,1),IF('Options Assessment'!#REF!=$C$76,$G$76,1),IF('Options Assessment'!#REF!=$C$80,$G$80,1),IF('Options Assessment'!#REF!=$C$88,$G$88,1),_xlfn.IFS('Options Assessment'!#REF!=$C$91,$G$91, 'Options Assessment'!#REF!=$C$92,$G$92, 'Options Assessment'!#REF!=$C$93,$G$93, 'Options Assessment'!#REF!=$C$94,$G$94, 'Options Assessment'!#REF!=$C$95,$G$95, TRUE,1),_xlfn.IFS( 'Options Assessment'!#REF!=$C$98,$G$98, 'Options Assessment'!#REF!=$C$99,$G$99, 'Options Assessment'!#REF!=$C$100,$G$100, TRUE,1),IF('Options Assessment'!#REF!=$C$103,$G$103,1),IF('Options Assessment'!#REF!=$C$106,$G$106,1),_xlfn.IFS('Options Assessment'!#REF!=$C$109,$G$109, 'Options Assessment'!#REF!=$C$110,$G$110, 'Options Assessment'!#REF!=$C$111,$G$111, 'Options Assessment'!#REF!=$C$112,$G$112, 'Options Assessment'!#REF!=$C$113,$G$113, 'Options Assessment'!#REF!=$C$114,$G$114, 'Options Assessment'!#REF!=$C$115,$G$115, 'Options Assessment'!#REF!=$C$116,$G$116, 'Options Assessment'!#REF!=$C$117,$G$117, 'Options Assessment'!#REF!=$C$118,$G$118, TRUE,1),IF('Options Assessment'!#REF!=$C$121,$G$121,1),_xlfn.IFS('Options Assessment'!#REF!=$C$127,$G$127, 'Options Assessment'!#REF!=$C$128,$G$128, TRUE,1))","v":{"$error":"#REF!"}},{"$f":"PRODUCT(_xlfn.IFS('Options Assessment'!C$7=$C$5,$G$5, 'Options Assessment'!C$7=$C$6,$G$6, TRUE,1), _xlfn.IFS('Options Assessment'!C$8=$C$9,$G$9, 'Options Assessment'!C$8=$C$10,$G$10, TRUE,1), IF('Options Assessment'!C$9=$C$13,$G$13,1), IF('Options Assessment'!C$10=$C$16,$G$16,1), _xlfn.IFS('Options Assessment'!C$11=$C$19,$G$19, 'Options Assessment'!C$11=$C$20,$G$20, 'Options Assessment'!C$11=$C$21,$G$21, TRUE,1), IF('Options Assessment'!C$12=$C$24,$G$24,1), IF('Options Assessment'!C$13=$C$35,$G$35,1),IF('Options Assessment'!C$14=$C$38,$G$38,1),IF('Options Assessment'!C$19=$C$41,$G$41,1),IF('Options Assessment'!C$20=$C$44,$G$44,1),IF('Options Assessment'!C$21=$C$47,$G$47,1),IF('Options Assessment'!C$22=$C$50,$G$50,1),_xlfn.IFS('Options Assessment'!C$23=$C$54,$G$54, 'Options Assessment'!C$23=$C$55,$G$55, 'Options Assessment'!C$23=$C$56,$G$56, TRUE,1),_xlfn.IFS('Options Assessment'!C$24=$C$59,$G$59, 'Options Assessment'!C$24=$C$60,$G$60, TRUE,1),IF('Options Assessment'!C$25=$C$63,$G$63,1),IF('Options Assessment'!C$26=$C$66,$G$66,1),IF('Options Assessment'!C$27=$C$69,$G$69,1),IF('Options Assessment'!C$28=$C$73,$G$73,1),IF('Options Assessment'!C$29=$C$76,$G$76,1),IF('Options Assessment'!C$30=$C$80,$G$80,1),IF('Options Assessment'!C$15=$C$88,$G$88,1),_xlfn.IFS('Options Assessment'!C$16=$C$91,$G$91, 'Options Assessment'!C$16=$C$92,$G$92, 'Options Assessment'!C$16=$C$93,$G$93, 'Options Assessment'!C$16=$C$94,$G$94, 'Options Assessment'!C$16=$C$95,$G$95, TRUE,1),_xlfn.IFS( 'Options Assessment'!C$32=$C$98,$G$98, 'Options Assessment'!C$32=$C$99,$G$99, 'Options Assessment'!C$32=$C$100,$G$100, TRUE,1),IF('Options Assessment'!C$33=$C$103,$G$103,1),IF('Options Assessment'!C$35=$C$106,$G$106,1),_xlfn.IFS('Options Assessment'!C$18=$C$109,$G$109, 'Options Assessment'!C$18=$C$110,$G$110, 'Options Assessment'!C$18=$C$111,$G$111, 'Options Assessment'!C$18=$C$112,$G$112, 'Options Assessment'!C$18=$C$113,$G$113, 'Options Assessment'!C$18=$C$114,$G$114, 'Options Assessment'!C$18=$C$115,$G$115, 'Options Assessment'!C$18=$C$116,$G$116, 'Options Assessment'!C$18=$C$117,$G$117, 'Options Assessment'!C$18=$C$118,$G$118, TRUE,1),IF('Options Assessment'!C$34=$C$121,$G$121,1),_xlfn.IFS('Options Assessment'!C$17=$C$127,$G$127, 'Options Assessment'!C$17=$C$128,$G$128, TRUE,1),_xlfn.IFS('Options Assessment'!C$6=$C$130,$F$130, 'Options Assessment'!C$6=$C$131,$F$131, 'Options Assessment'!C$6=$C$132,$F$132,TRUE,1))","v":1},{"$f":"PRODUCT(_xlfn.IFS('Options Assessment'!D$7=$C$5,$G$5, 'Options Assessment'!D$7=$C$6,$G$6, TRUE,1), _xlfn.IFS('Options Assessment'!D$8=$C$9,$G$9, 'Options Assessment'!D$8=$C$10,$G$10, TRUE,1), IF('Options Assessment'!D$9=$C$13,$G$13,1), IF('Options Assessment'!D$10=$C$16,$G$16,1), _xlfn.IFS('Options Assessment'!D$11=$C$19,$G$19, 'Options Assessment'!D$11=$C$20,$G$20, 'Options Assessment'!D$11=$C$21,$G$21, TRUE,1), IF('Options Assessment'!D$12=$C$24,$G$24,1), IF('Options Assessment'!D$13=$C$35,$G$35,1),IF('Options Assessment'!D$14=$C$38,$G$38,1),IF('Options Assessment'!D$19=$C$41,$G$41,1),IF('Options Assessment'!D$20=$C$44,$G$44,1),IF('Options Assessment'!D$21=$C$47,$G$47,1),IF('Options Assessment'!D$22=$C$50,$G$50,1),_xlfn.IFS('Options Assessment'!D$23=$C$54,$G$54, 'Options Assessment'!D$23=$C$55,$G$55, 'Options Assessment'!D$23=$C$56,$G$56, TRUE,1),_xlfn.IFS('Options Assessment'!D$24=$C$59,$G$59, 'Options Assessment'!D$24=$C$60,$G$60, TRUE,1),IF('Options Assessment'!D$25=$C$63,$G$63,1),IF('Options Assessment'!D$26=$C$66,$G$66,1),IF('Options Assessment'!D$27=$C$69,$G$69,1),IF('Options Assessment'!D$28=$C$73,$G$73,1),IF('Options Assessment'!D$29=$C$76,$G$76,1),IF('Options Assessment'!D$30=$C$80,$G$80,1),IF('Options Assessment'!D$15=$C$88,$G$88,1),_xlfn.IFS('Options Assessment'!D$16=$C$91,$G$91, 'Options Assessment'!D$16=$C$92,$G$92, 'Options Assessment'!D$16=$C$93,$G$93, 'Options Assessment'!D$16=$C$94,$G$94, 'Options Assessment'!D$16=$C$95,$G$95, TRUE,1),_xlfn.IFS( 'Options Assessment'!D$32=$C$98,$G$98, 'Options Assessment'!D$32=$C$99,$G$99, 'Options Assessment'!D$32=$C$100,$G$100, TRUE,1),IF('Options Assessment'!D$33=$C$103,$G$103,1),IF('Options Assessment'!D$35=$C$106,$G$106,1),_xlfn.IFS('Options Assessment'!D$18=$C$109,$G$109, 'Options Assessment'!D$18=$C$110,$G$110, 'Options Assessment'!D$18=$C$111,$G$111, 'Options Assessment'!D$18=$C$112,$G$112, 'Options Assessment'!D$18=$C$113,$G$113, 'Options Assessment'!D$18=$C$114,$G$114, 'Options Assessment'!D$18=$C$115,$G$115, 'Options Assessment'!D$18=$C$116,$G$116, 'Options Assessment'!D$18=$C$117,$G$117, 'Options Assessment'!D$18=$C$118,$G$118, TRUE,1),IF('Options Assessment'!D$34=$C$121,$G$121,1),_xlfn.IFS('Options Assessment'!D$17=$C$127,$G$127, 'Options Assessment'!D$17=$C$128,$G$128, TRUE,1),_xlfn.IFS('Options Assessment'!D$6=$C$130,$F$130, 'Options Assessment'!D$6=$C$131,$F$131, 'Options Assessment'!D$6=$C$132,$F$132,TRUE,1))","v":1},{"$f":"PRODUCT(_xlfn.IFS('Options Assessment'!E$7=$C$5,$G$5, 'Options Assessment'!E$7=$C$6,$G$6, TRUE,1), _xlfn.IFS('Options Assessment'!E$8=$C$9,$G$9, 'Options Assessment'!E$8=$C$10,$G$10, TRUE,1), IF('Options Assessment'!E$9=$C$13,$G$13,1), IF('Options Assessment'!E$10=$C$16,$G$16,1), _xlfn.IFS('Options Assessment'!E$11=$C$19,$G$19, 'Options Assessment'!E$11=$C$20,$G$20, 'Options Assessment'!E$11=$C$21,$G$21, TRUE,1), IF('Options Assessment'!E$12=$C$24,$G$24,1), IF('Options Assessment'!E$13=$C$35,$G$35,1),IF('Options Assessment'!E$14=$C$38,$G$38,1),IF('Options Assessment'!E$19=$C$41,$G$41,1),IF('Options Assessment'!E$20=$C$44,$G$44,1),IF('Options Assessment'!E$21=$C$47,$G$47,1),IF('Options Assessment'!E$22=$C$50,$G$50,1),_xlfn.IFS('Options Assessment'!E$23=$C$54,$G$54, 'Options Assessment'!E$23=$C$55,$G$55, 'Options Assessment'!E$23=$C$56,$G$56, TRUE,1),_xlfn.IFS('Options Assessment'!E$24=$C$59,$G$59, 'Options Assessment'!E$24=$C$60,$G$60, TRUE,1),IF('Options Assessment'!E$25=$C$63,$G$63,1),IF('Options Assessment'!E$26=$C$66,$G$66,1),IF('Options Assessment'!E$27=$C$69,$G$69,1),IF('Options Assessment'!E$28=$C$73,$G$73,1),IF('Options Assessment'!E$29=$C$76,$G$76,1),IF('Options Assessment'!E$30=$C$80,$G$80,1),IF('Options Assessment'!E$15=$C$88,$G$88,1),_xlfn.IFS('Options Assessment'!E$16=$C$91,$G$91, 'Options Assessment'!E$16=$C$92,$G$92, 'Options Assessment'!E$16=$C$93,$G$93, 'Options Assessment'!E$16=$C$94,$G$94, 'Options Assessment'!E$16=$C$95,$G$95, TRUE,1),_xlfn.IFS( 'Options Assessment'!E$32=$C$98,$G$98, 'Options Assessment'!E$32=$C$99,$G$99, 'Options Assessment'!E$32=$C$100,$G$100, TRUE,1),IF('Options Assessment'!E$33=$C$103,$G$103,1),IF('Options Assessment'!E$35=$C$106,$G$106,1),_xlfn.IFS('Options Assessment'!E$18=$C$109,$G$109, 'Options Assessment'!E$18=$C$110,$G$110, 'Options Assessment'!E$18=$C$111,$G$111, 'Options Assessment'!E$18=$C$112,$G$112, 'Options Assessment'!E$18=$C$113,$G$113, 'Options Assessment'!E$18=$C$114,$G$114, 'Options Assessment'!E$18=$C$115,$G$115, 'Options Assessment'!E$18=$C$116,$G$116, 'Options Assessment'!E$18=$C$117,$G$117, 'Options Assessment'!E$18=$C$118,$G$118, TRUE,1),IF('Options Assessment'!E$34=$C$121,$G$121,1),_xlfn.IFS('Options Assessment'!E$17=$C$127,$G$127, 'Options Assessment'!E$17=$C$128,$G$128, TRUE,1),_xlfn.IFS('Options Assessment'!E$6=$C$130,$F$130, 'Options Assessment'!E$6=$C$131,$F$131, 'Options Assessment'!E$6=$C$132,$F$132,TRUE,1))","v":1},{"$f":"PRODUCT(_xlfn.IFS('Options Assessment'!F$7=$C$5,$G$5, 'Options Assessment'!F$7=$C$6,$G$6, TRUE,1), _xlfn.IFS('Options Assessment'!F$8=$C$9,$G$9, 'Options Assessment'!F$8=$C$10,$G$10, TRUE,1), IF('Options Assessment'!F$9=$C$13,$G$13,1), IF('Options Assessment'!F$10=$C$16,$G$16,1), _xlfn.IFS('Options Assessment'!F$11=$C$19,$G$19, 'Options Assessment'!F$11=$C$20,$G$20, 'Options Assessment'!F$11=$C$21,$G$21, TRUE,1), IF('Options Assessment'!F$12=$C$24,$G$24,1), IF('Options Assessment'!F$13=$C$35,$G$35,1),IF('Options Assessment'!F$14=$C$38,$G$38,1),IF('Options Assessment'!F$19=$C$41,$G$41,1),IF('Options Assessment'!F$20=$C$44,$G$44,1),IF('Options Assessment'!F$21=$C$47,$G$47,1),IF('Options Assessment'!F$22=$C$50,$G$50,1),_xlfn.IFS('Options Assessment'!F$23=$C$54,$G$54, 'Options Assessment'!F$23=$C$55,$G$55, 'Options Assessment'!F$23=$C$56,$G$56, TRUE,1),_xlfn.IFS('Options Assessment'!F$24=$C$59,$G$59, 'Options Assessment'!F$24=$C$60,$G$60, TRUE,1),IF('Options Assessment'!F$25=$C$63,$G$63,1),IF('Options Assessment'!F$26=$C$66,$G$66,1),IF('Options Assessment'!F$27=$C$69,$G$69,1),IF('Options Assessment'!F$28=$C$73,$G$73,1),IF('Options Assessment'!F$29=$C$76,$G$76,1),IF('Options Assessment'!F$30=$C$80,$G$80,1),IF('Options Assessment'!F$15=$C$88,$G$88,1),_xlfn.IFS('Options Assessment'!F$16=$C$91,$G$91, 'Options Assessment'!F$16=$C$92,$G$92, 'Options Assessment'!F$16=$C$93,$G$93, 'Options Assessment'!F$16=$C$94,$G$94, 'Options Assessment'!F$16=$C$95,$G$95, TRUE,1),_xlfn.IFS( 'Options Assessment'!F$32=$C$98,$G$98, 'Options Assessment'!F$32=$C$99,$G$99, 'Options Assessment'!F$32=$C$100,$G$100, TRUE,1),IF('Options Assessment'!F$33=$C$103,$G$103,1),IF('Options Assessment'!F$35=$C$106,$G$106,1),_xlfn.IFS('Options Assessment'!F$18=$C$109,$G$109, 'Options Assessment'!F$18=$C$110,$G$110, 'Options Assessment'!F$18=$C$111,$G$111, 'Options Assessment'!F$18=$C$112,$G$112, 'Options Assessment'!F$18=$C$113,$G$113, 'Options Assessment'!F$18=$C$114,$G$114, 'Options Assessment'!F$18=$C$115,$G$115, 'Options Assessment'!F$18=$C$116,$G$116, 'Options Assessment'!F$18=$C$117,$G$117, 'Options Assessment'!F$18=$C$118,$G$118, TRUE,1),IF('Options Assessment'!F$34=$C$121,$G$121,1),_xlfn.IFS('Options Assessment'!F$17=$C$127,$G$127, 'Options Assessment'!F$17=$C$128,$G$128, TRUE,1),_xlfn.IFS('Options Assessment'!F$6=$C$130,$F$130, 'Options Assessment'!F$6=$C$131,$F$131, 'Options Assessment'!F$6=$C$132,$F$132,TRUE,1))","v":1},{"$f":"PRODUCT(_xlfn.IFS('Options Assessment'!G$7=$C$5,$G$5, 'Options Assessment'!G$7=$C$6,$G$6, TRUE,1), _xlfn.IFS('Options Assessment'!G$8=$C$9,$G$9, 'Options Assessment'!G$8=$C$10,$G$10, TRUE,1), IF('Options Assessment'!G$9=$C$13,$G$13,1), IF('Options Assessment'!G$10=$C$16,$G$16,1), _xlfn.IFS('Options Assessment'!G$11=$C$19,$G$19, 'Options Assessment'!G$11=$C$20,$G$20, 'Options Assessment'!G$11=$C$21,$G$21, TRUE,1), IF('Options Assessment'!G$12=$C$24,$G$24,1), IF('Options Assessment'!G$13=$C$35,$G$35,1),IF('Options Assessment'!G$14=$C$38,$G$38,1),IF('Options Assessment'!G$19=$C$41,$G$41,1),IF('Options Assessment'!G$20=$C$44,$G$44,1),IF('Options Assessment'!G$21=$C$47,$G$47,1),IF('Options Assessment'!G$22=$C$50,$G$50,1),_xlfn.IFS('Options Assessment'!G$23=$C$54,$G$54, 'Options Assessment'!G$23=$C$55,$G$55, 'Options Assessment'!G$23=$C$56,$G$56, TRUE,1),_xlfn.IFS('Options Assessment'!G$24=$C$59,$G$59, 'Options Assessment'!G$24=$C$60,$G$60, TRUE,1),IF('Options Assessment'!G$25=$C$63,$G$63,1),IF('Options Assessment'!G$26=$C$66,$G$66,1),IF('Options Assessment'!G$27=$C$69,$G$69,1),IF('Options Assessment'!G$28=$C$73,$G$73,1),IF('Options Assessment'!G$29=$C$76,$G$76,1),IF('Options Assessment'!G$30=$C$80,$G$80,1),IF('Options Assessment'!G$15=$C$88,$G$88,1),_xlfn.IFS('Options Assessment'!G$16=$C$91,$G$91, 'Options Assessment'!G$16=$C$92,$G$92, 'Options Assessment'!G$16=$C$93,$G$93, 'Options Assessment'!G$16=$C$94,$G$94, 'Options Assessment'!G$16=$C$95,$G$95, TRUE,1),_xlfn.IFS( 'Options Assessment'!G$32=$C$98,$G$98, 'Options Assessment'!G$32=$C$99,$G$99, 'Options Assessment'!G$32=$C$100,$G$100, TRUE,1),IF('Options Assessment'!G$33=$C$103,$G$103,1),IF('Options Assessment'!G$35=$C$106,$G$106,1),_xlfn.IFS('Options Assessment'!G$18=$C$109,$G$109, 'Options Assessment'!G$18=$C$110,$G$110, 'Options Assessment'!G$18=$C$111,$G$111, 'Options Assessment'!G$18=$C$112,$G$112, 'Options Assessment'!G$18=$C$113,$G$113, 'Options Assessment'!G$18=$C$114,$G$114, 'Options Assessment'!G$18=$C$115,$G$115, 'Options Assessment'!G$18=$C$116,$G$116, 'Options Assessment'!G$18=$C$117,$G$117, 'Options Assessment'!G$18=$C$118,$G$118, TRUE,1),IF('Options Assessment'!G$34=$C$121,$G$121,1),_xlfn.IFS('Options Assessment'!G$17=$C$127,$G$127, 'Options Assessment'!G$17=$C$128,$G$128, TRUE,1),_xlfn.IFS('Options Assessment'!G$6=$C$130,$F$130, 'Options Assessment'!G$6=$C$131,$F$131, 'Options Assessment'!G$6=$C$132,$F$132,TRUE,1))","v":1},{"$f":"PRODUCT(_xlfn.IFS('Options Assessment'!H$7=$C$5,$G$5, 'Options Assessment'!H$7=$C$6,$G$6, TRUE,1), _xlfn.IFS('Options Assessment'!H$8=$C$9,$G$9, 'Options Assessment'!H$8=$C$10,$G$10, TRUE,1), IF('Options Assessment'!H$9=$C$13,$G$13,1), IF('Options Assessment'!H$10=$C$16,$G$16,1), _xlfn.IFS('Options Assessment'!H$11=$C$19,$G$19, 'Options Assessment'!H$11=$C$20,$G$20, 'Options Assessment'!H$11=$C$21,$G$21, TRUE,1), IF('Options Assessment'!H$12=$C$24,$G$24,1), IF('Options Assessment'!H$13=$C$35,$G$35,1),IF('Options Assessment'!H$14=$C$38,$G$38,1),IF('Options Assessment'!H$19=$C$41,$G$41,1),IF('Options Assessment'!H$20=$C$44,$G$44,1),IF('Options Assessment'!H$21=$C$47,$G$47,1),IF('Options Assessment'!H$22=$C$50,$G$50,1),_xlfn.IFS('Options Assessment'!H$23=$C$54,$G$54, 'Options Assessment'!H$23=$C$55,$G$55, 'Options Assessment'!H$23=$C$56,$G$56, TRUE,1),_xlfn.IFS('Options Assessment'!H$24=$C$59,$G$59, 'Options Assessment'!H$24=$C$60,$G$60, TRUE,1),IF('Options Assessment'!H$25=$C$63,$G$63,1),IF('Options Assessment'!H$26=$C$66,$G$66,1),IF('Options Assessment'!H$27=$C$69,$G$69,1),IF('Options Assessment'!H$28=$C$73,$G$73,1),IF('Options Assessment'!H$29=$C$76,$G$76,1),IF('Options Assessment'!H$30=$C$80,$G$80,1),IF('Options Assessment'!H$15=$C$88,$G$88,1),_xlfn.IFS('Options Assessment'!H$16=$C$91,$G$91, 'Options Assessment'!H$16=$C$92,$G$92, 'Options Assessment'!H$16=$C$93,$G$93, 'Options Assessment'!H$16=$C$94,$G$94, 'Options Assessment'!H$16=$C$95,$G$95, TRUE,1),_xlfn.IFS( 'Options Assessment'!H$32=$C$98,$G$98, 'Options Assessment'!H$32=$C$99,$G$99, 'Options Assessment'!H$32=$C$100,$G$100, TRUE,1),IF('Options Assessment'!H$33=$C$103,$G$103,1),IF('Options Assessment'!H$35=$C$106,$G$106,1),_xlfn.IFS('Options Assessment'!H$18=$C$109,$G$109, 'Options Assessment'!H$18=$C$110,$G$110, 'Options Assessment'!H$18=$C$111,$G$111, 'Options Assessment'!H$18=$C$112,$G$112, 'Options Assessment'!H$18=$C$113,$G$113, 'Options Assessment'!H$18=$C$114,$G$114, 'Options Assessment'!H$18=$C$115,$G$115, 'Options Assessment'!H$18=$C$116,$G$116, 'Options Assessment'!H$18=$C$117,$G$117, 'Options Assessment'!H$18=$C$118,$G$118, TRUE,1),IF('Options Assessment'!H$34=$C$121,$G$121,1),_xlfn.IFS('Options Assessment'!H$17=$C$127,$G$127, 'Options Assessment'!H$17=$C$128,$G$128, TRUE,1),_xlfn.IFS('Options Assessment'!H$6=$C$130,$F$130, 'Options Assessment'!H$6=$C$131,$F$131, 'Options Assessment'!H$6=$C$132,$F$132,TRUE,1))","v":1},{"$f":"PRODUCT(_xlfn.IFS('Options Assessment'!I$7=$C$5,$G$5, 'Options Assessment'!I$7=$C$6,$G$6, TRUE,1), _xlfn.IFS('Options Assessment'!I$8=$C$9,$G$9, 'Options Assessment'!I$8=$C$10,$G$10, TRUE,1), IF('Options Assessment'!I$9=$C$13,$G$13,1), IF('Options Assessment'!I$10=$C$16,$G$16,1), _xlfn.IFS('Options Assessment'!I$11=$C$19,$G$19, 'Options Assessment'!I$11=$C$20,$G$20, 'Options Assessment'!I$11=$C$21,$G$21, TRUE,1), IF('Options Assessment'!I$12=$C$24,$G$24,1), IF('Options Assessment'!I$13=$C$35,$G$35,1),IF('Options Assessment'!I$14=$C$38,$G$38,1),IF('Options Assessment'!I$19=$C$41,$G$41,1),IF('Options Assessment'!I$20=$C$44,$G$44,1),IF('Options Assessment'!I$21=$C$47,$G$47,1),IF('Options Assessment'!I$22=$C$50,$G$50,1),_xlfn.IFS('Options Assessment'!I$23=$C$54,$G$54, 'Options Assessment'!I$23=$C$55,$G$55, 'Options Assessment'!I$23=$C$56,$G$56, TRUE,1),_xlfn.IFS('Options Assessment'!I$24=$C$59,$G$59, 'Options Assessment'!I$24=$C$60,$G$60, TRUE,1),IF('Options Assessment'!I$25=$C$63,$G$63,1),IF('Options Assessment'!I$26=$C$66,$G$66,1),IF('Options Assessment'!I$27=$C$69,$G$69,1),IF('Options Assessment'!I$28=$C$73,$G$73,1),IF('Options Assessment'!I$29=$C$76,$G$76,1),IF('Options Assessment'!I$30=$C$80,$G$80,1),IF('Options Assessment'!I$15=$C$88,$G$88,1),_xlfn.IFS('Options Assessment'!I$16=$C$91,$G$91, 'Options Assessment'!I$16=$C$92,$G$92, 'Options Assessment'!I$16=$C$93,$G$93, 'Options Assessment'!I$16=$C$94,$G$94, 'Options Assessment'!I$16=$C$95,$G$95, TRUE,1),_xlfn.IFS( 'Options Assessment'!I$32=$C$98,$G$98, 'Options Assessment'!I$32=$C$99,$G$99, 'Options Assessment'!I$32=$C$100,$G$100, TRUE,1),IF('Options Assessment'!I$33=$C$103,$G$103,1),IF('Options Assessment'!I$35=$C$106,$G$106,1),_xlfn.IFS('Options Assessment'!I$18=$C$109,$G$109, 'Options Assessment'!I$18=$C$110,$G$110, 'Options Assessment'!I$18=$C$111,$G$111, 'Options Assessment'!I$18=$C$112,$G$112, 'Options Assessment'!I$18=$C$113,$G$113, 'Options Assessment'!I$18=$C$114,$G$114, 'Options Assessment'!I$18=$C$115,$G$115, 'Options Assessment'!I$18=$C$116,$G$116, 'Options Assessment'!I$18=$C$117,$G$117, 'Options Assessment'!I$18=$C$118,$G$118, TRUE,1),IF('Options Assessment'!I$34=$C$121,$G$121,1),_xlfn.IFS('Options Assessment'!I$17=$C$127,$G$127, 'Options Assessment'!I$17=$C$128,$G$128, TRUE,1),_xlfn.IFS('Options Assessment'!I$6=$C$130,$F$130, 'Options Assessment'!I$6=$C$131,$F$131, 'Options Assessment'!I$6=$C$132,$F$132,TRUE,1))","v":1},{"$f":"PRODUCT(_xlfn.IFS('Options Assessment'!J$7=$C$5,$G$5, 'Options Assessment'!J$7=$C$6,$G$6, TRUE,1), _xlfn.IFS('Options Assessment'!J$8=$C$9,$G$9, 'Options Assessment'!J$8=$C$10,$G$10, TRUE,1), IF('Options Assessment'!J$9=$C$13,$G$13,1), IF('Options Assessment'!J$10=$C$16,$G$16,1), _xlfn.IFS('Options Assessment'!J$11=$C$19,$G$19, 'Options Assessment'!J$11=$C$20,$G$20, 'Options Assessment'!J$11=$C$21,$G$21, TRUE,1), IF('Options Assessment'!J$12=$C$24,$G$24,1), IF('Options Assessment'!J$13=$C$35,$G$35,1),IF('Options Assessment'!J$14=$C$38,$G$38,1),IF('Options Assessment'!J$19=$C$41,$G$41,1),IF('Options Assessment'!J$20=$C$44,$G$44,1),IF('Options Assessment'!J$21=$C$47,$G$47,1),IF('Options Assessment'!J$22=$C$50,$G$50,1),_xlfn.IFS('Options Assessment'!J$23=$C$54,$G$54, 'Options Assessment'!J$23=$C$55,$G$55, 'Options Assessment'!J$23=$C$56,$G$56, TRUE,1),_xlfn.IFS('Options Assessment'!J$24=$C$59,$G$59, 'Options Assessment'!J$24=$C$60,$G$60, TRUE,1),IF('Options Assessment'!J$25=$C$63,$G$63,1),IF('Options Assessment'!J$26=$C$66,$G$66,1),IF('Options Assessment'!J$27=$C$69,$G$69,1),IF('Options Assessment'!J$28=$C$73,$G$73,1),IF('Options Assessment'!J$29=$C$76,$G$76,1),IF('Options Assessment'!J$30=$C$80,$G$80,1),IF('Options Assessment'!J$15=$C$88,$G$88,1),_xlfn.IFS('Options Assessment'!J$16=$C$91,$G$91, 'Options Assessment'!J$16=$C$92,$G$92, 'Options Assessment'!J$16=$C$93,$G$93, 'Options Assessment'!J$16=$C$94,$G$94, 'Options Assessment'!J$16=$C$95,$G$95, TRUE,1),_xlfn.IFS( 'Options Assessment'!J$32=$C$98,$G$98, 'Options Assessment'!J$32=$C$99,$G$99, 'Options Assessment'!J$32=$C$100,$G$100, TRUE,1),IF('Options Assessment'!J$33=$C$103,$G$103,1),IF('Options Assessment'!J$35=$C$106,$G$106,1),_xlfn.IFS('Options Assessment'!J$18=$C$109,$G$109, 'Options Assessment'!J$18=$C$110,$G$110, 'Options Assessment'!J$18=$C$111,$G$111, 'Options Assessment'!J$18=$C$112,$G$112, 'Options Assessment'!J$18=$C$113,$G$113, 'Options Assessment'!J$18=$C$114,$G$114, 'Options Assessment'!J$18=$C$115,$G$115, 'Options Assessment'!J$18=$C$116,$G$116, 'Options Assessment'!J$18=$C$117,$G$117, 'Options Assessment'!J$18=$C$118,$G$118, TRUE,1),IF('Options Assessment'!J$34=$C$121,$G$121,1),_xlfn.IFS('Options Assessment'!J$17=$C$127,$G$127, 'Options Assessment'!J$17=$C$128,$G$128, TRUE,1),_xlfn.IFS('Options Assessment'!J$6=$C$130,$F$130, 'Options Assessment'!J$6=$C$131,$F$131, 'Options Assessment'!J$6=$C$132,$F$132,TRUE,1))","v":1},{"$f":"PRODUCT(_xlfn.IFS('Options Assessment'!K$7=$C$5,$G$5, 'Options Assessment'!K$7=$C$6,$G$6, TRUE,1), _xlfn.IFS('Options Assessment'!K$8=$C$9,$G$9, 'Options Assessment'!K$8=$C$10,$G$10, TRUE,1), IF('Options Assessment'!K$9=$C$13,$G$13,1), IF('Options Assessment'!K$10=$C$16,$G$16,1), _xlfn.IFS('Options Assessment'!K$11=$C$19,$G$19, 'Options Assessment'!K$11=$C$20,$G$20, 'Options Assessment'!K$11=$C$21,$G$21, TRUE,1), IF('Options Assessment'!K$12=$C$24,$G$24,1), IF('Options Assessment'!K$13=$C$35,$G$35,1),IF('Options Assessment'!K$14=$C$38,$G$38,1),IF('Options Assessment'!K$19=$C$41,$G$41,1),IF('Options Assessment'!K$20=$C$44,$G$44,1),IF('Options Assessment'!K$21=$C$47,$G$47,1),IF('Options Assessment'!K$22=$C$50,$G$50,1),_xlfn.IFS('Options Assessment'!K$23=$C$54,$G$54, 'Options Assessment'!K$23=$C$55,$G$55, 'Options Assessment'!K$23=$C$56,$G$56, TRUE,1),_xlfn.IFS('Options Assessment'!K$24=$C$59,$G$59, 'Options Assessment'!K$24=$C$60,$G$60, TRUE,1),IF('Options Assessment'!K$25=$C$63,$G$63,1),IF('Options Assessment'!K$26=$C$66,$G$66,1),IF('Options Assessment'!K$27=$C$69,$G$69,1),IF('Options Assessment'!K$28=$C$73,$G$73,1),IF('Options Assessment'!K$29=$C$76,$G$76,1),IF('Options Assessment'!K$30=$C$80,$G$80,1),IF('Options Assessment'!K$15=$C$88,$G$88,1),_xlfn.IFS('Options Assessment'!K$16=$C$91,$G$91, 'Options Assessment'!K$16=$C$92,$G$92, 'Options Assessment'!K$16=$C$93,$G$93, 'Options Assessment'!K$16=$C$94,$G$94, 'Options Assessment'!K$16=$C$95,$G$95, TRUE,1),_xlfn.IFS( 'Options Assessment'!K$32=$C$98,$G$98, 'Options Assessment'!K$32=$C$99,$G$99, 'Options Assessment'!K$32=$C$100,$G$100, TRUE,1),IF('Options Assessment'!K$33=$C$103,$G$103,1),IF('Options Assessment'!K$35=$C$106,$G$106,1),_xlfn.IFS('Options Assessment'!K$18=$C$109,$G$109, 'Options Assessment'!K$18=$C$110,$G$110, 'Options Assessment'!K$18=$C$111,$G$111, 'Options Assessment'!K$18=$C$112,$G$112, 'Options Assessment'!K$18=$C$113,$G$113, 'Options Assessment'!K$18=$C$114,$G$114, 'Options Assessment'!K$18=$C$115,$G$115, 'Options Assessment'!K$18=$C$116,$G$116, 'Options Assessment'!K$18=$C$117,$G$117, 'Options Assessment'!K$18=$C$118,$G$118, TRUE,1),IF('Options Assessment'!K$34=$C$121,$G$121,1),_xlfn.IFS('Options Assessment'!K$17=$C$127,$G$127, 'Options Assessment'!K$17=$C$128,$G$128, TRUE,1),_xlfn.IFS('Options Assessment'!K$6=$C$130,$F$130, 'Options Assessment'!K$6=$C$131,$F$131, 'Options Assessment'!K$6=$C$132,$F$132,TRUE,1))","v":1},{"$f":"PRODUCT(_xlfn.IFS('Options Assessment'!L$7=$C$5,$G$5, 'Options Assessment'!L$7=$C$6,$G$6, TRUE,1), _xlfn.IFS('Options Assessment'!L$8=$C$9,$G$9, 'Options Assessment'!L$8=$C$10,$G$10, TRUE,1), IF('Options Assessment'!L$9=$C$13,$G$13,1), IF('Options Assessment'!L$10=$C$16,$G$16,1), _xlfn.IFS('Options Assessment'!L$11=$C$19,$G$19, 'Options Assessment'!L$11=$C$20,$G$20, 'Options Assessment'!L$11=$C$21,$G$21, TRUE,1), IF('Options Assessment'!L$12=$C$24,$G$24,1), IF('Options Assessment'!L$13=$C$35,$G$35,1),IF('Options Assessment'!L$14=$C$38,$G$38,1),IF('Options Assessment'!L$19=$C$41,$G$41,1),IF('Options Assessment'!L$20=$C$44,$G$44,1),IF('Options Assessment'!L$21=$C$47,$G$47,1),IF('Options Assessment'!L$22=$C$50,$G$50,1),_xlfn.IFS('Options Assessment'!L$23=$C$54,$G$54, 'Options Assessment'!L$23=$C$55,$G$55, 'Options Assessment'!L$23=$C$56,$G$56, TRUE,1),_xlfn.IFS('Options Assessment'!L$24=$C$59,$G$59, 'Options Assessment'!L$24=$C$60,$G$60, TRUE,1),IF('Options Assessment'!L$25=$C$63,$G$63,1),IF('Options Assessment'!L$26=$C$66,$G$66,1),IF('Options Assessment'!L$27=$C$69,$G$69,1),IF('Options Assessment'!L$28=$C$73,$G$73,1),IF('Options Assessment'!L$29=$C$76,$G$76,1),IF('Options Assessment'!L$30=$C$80,$G$80,1),IF('Options Assessment'!L$15=$C$88,$G$88,1),_xlfn.IFS('Options Assessment'!L$16=$C$91,$G$91, 'Options Assessment'!L$16=$C$92,$G$92, 'Options Assessment'!L$16=$C$93,$G$93, 'Options Assessment'!L$16=$C$94,$G$94, 'Options Assessment'!L$16=$C$95,$G$95, TRUE,1),_xlfn.IFS( 'Options Assessment'!L$32=$C$98,$G$98, 'Options Assessment'!L$32=$C$99,$G$99, 'Options Assessment'!L$32=$C$100,$G$100, TRUE,1),IF('Options Assessment'!L$33=$C$103,$G$103,1),IF('Options Assessment'!L$35=$C$106,$G$106,1),_xlfn.IFS('Options Assessment'!L$18=$C$109,$G$109, 'Options Assessment'!L$18=$C$110,$G$110, 'Options Assessment'!L$18=$C$111,$G$111, 'Options Assessment'!L$18=$C$112,$G$112, 'Options Assessment'!L$18=$C$113,$G$113, 'Options Assessment'!L$18=$C$114,$G$114, 'Options Assessment'!L$18=$C$115,$G$115, 'Options Assessment'!L$18=$C$116,$G$116, 'Options Assessment'!L$18=$C$117,$G$117, 'Options Assessment'!L$18=$C$118,$G$118, TRUE,1),IF('Options Assessment'!L$34=$C$121,$G$121,1),_xlfn.IFS('Options Assessment'!L$17=$C$127,$G$127, 'Options Assessment'!L$17=$C$128,$G$128, TRUE,1),_xlfn.IFS('Options Assessment'!L$6=$C$130,$F$130, 'Options Assessment'!L$6=$C$131,$F$131, 'Options Assessment'!L$6=$C$132,$F$132,TRUE,1))","v":1}]
[null,null,null,null,null,null,null,null,null,null,null,"Roundabout",{"$f":"PRODUCT(_xlfn.IFS('Options Assessment'!#REF!=$C$5,$H$5, 'Options Assessment'!#REF!=$C$6,$H$6, TRUE,1), _xlfn.IFS('Options Assessment'!#REF!=$C$9,$H$9, 'Options Assessment'!#REF!=$C$10,$H$10, TRUE,1), IF('Options Assessment'!#REF!=$C$13,$H$13,1), IF('Options Assessment'!#REF!=$C$16,$H$16,1), _xlfn.IFS('Options Assessment'!#REF!=$C$19,$H$19, 'Options Assessment'!#REF!=$C$20,$H$20, 'Options Assessment'!#REF!=$C$21,$H$21, TRUE,1), IF('Options Assessment'!#REF!=$C$24,$H$24,1), IF('Options Assessment'!#REF!=$C$27,$H$27,1),IF('Options Assessment'!#REF!=$C$31,$H$31,1),IF('Options Assessment'!#REF!=$C$35,$H$35,1),IF('Options Assessment'!#REF!=$C$38,$H$38,1),IF('Options Assessment'!#REF!=$C$41,$H$41,1),IF('Options Assessment'!#REF!=$C$44,$H$44,1),IF('Options Assessment'!#REF!=$C$47,$H$47,1),IF('Options Assessment'!#REF!=$C$50,$H$50,1),_xlfn.IFS('Options Assessment'!#REF!=$C$54,$H$54, 'Options Assessment'!#REF!=$C$55,$H$55, 'Options Assessment'!#REF!=$C$56,$H$56, TRUE,1),_xlfn.IFS('Options Assessment'!#REF!=$C$59,$H$59, 'Options Assessment'!#REF!=$C$60,$H$60, TRUE,1),IF('Options Assessment'!#REF!=$C$63,$H$63,1),IF('Options Assessment'!#REF!=$C$66,$H$66,1),IF('Options Assessment'!#REF!=$C$69,$H$69,1),IF('Options Assessment'!#REF!=$C$73,$H$73,1),IF('Options Assessment'!#REF!=$C$76,$H$76,1),IF('Options Assessment'!#REF!=$C$80,$H$80,1),IF('Options Assessment'!#REF!=$C$88,$H$88,1),_xlfn.IFS('Options Assessment'!#REF!=$C$91,$H$91, 'Options Assessment'!#REF!=$C$92,$H$92, 'Options Assessment'!#REF!=$C$93,$H$93, 'Options Assessment'!#REF!=$C$94,$H$94, 'Options Assessment'!#REF!=$C$95,$H$95, TRUE,1),_xlfn.IFS( 'Options Assessment'!#REF!=$C$98,$H$98, 'Options Assessment'!#REF!=$C$99,$H$99, 'Options Assessment'!#REF!=$C$100,$H$100, TRUE,1),IF('Options Assessment'!#REF!=$C$103,$H$103,1),IF('Options Assessment'!#REF!=$C$106,$H$106,1),_xlfn.IFS('Options Assessment'!#REF!=$C$109,$H$109, 'Options Assessment'!#REF!=$C$110,$H$110, 'Options Assessment'!#REF!=$C$111,$H$111, 'Options Assessment'!#REF!=$C$112,$H$112, 'Options Assessment'!#REF!=$C$113,$H$113, 'Options Assessment'!#REF!=$C$114,$H$114, 'Options Assessment'!#REF!=$C$115,$H$115, 'Options Assessment'!#REF!=$C$116,$H$116, 'Options Assessment'!#REF!=$C$117,$H$117, 'Options Assessment'!#REF!=$C$118,$H$118, TRUE,1),IF('Options Assessment'!#REF!=$C$121,$H$121,1),_xlfn.IFS('Options Assessment'!#REF!=$C$127,$H$127, 'Options Assessment'!#REF!=$C$128,$H$128, TRUE,1))","v":{"$error":"#REF!"}},{"$f":"PRODUCT(_xlfn.IFS('Options Assessment'!C$7=$C$5,$H$5, 'Options Assessment'!C$7=$C$6,$H$6, TRUE,1), _xlfn.IFS('Options Assessment'!C$8=$C$9,$H$9, 'Options Assessment'!C$8=$C$10,$H$10, TRUE,1), IF('Options Assessment'!C$9=$C$13,$H$13,1), IF('Options Assessment'!C$10=$C$16,$H$16,1), _xlfn.IFS('Options Assessment'!C$11=$C$19,$H$19, 'Options Assessment'!C$11=$C$20,$H$20, 'Options Assessment'!C$11=$C$21,$H$21, TRUE,1), IF('Options Assessment'!C$12=$C$24,$H$24,1),IF('Options Assessment'!C$13=$C$35,$H$35,1),IF('Options Assessment'!C$14=$C$38,$H$38,1),IF('Options Assessment'!C$19=$C$41,$H$41,1),IF('Options Assessment'!C$20=$C$44,$H$44,1),IF('Options Assessment'!C$21=$C$47,$H$47,1),IF('Options Assessment'!C$22=$C$50,$H$50,1),_xlfn.IFS('Options Assessment'!C$23=$C$54,$H$54, 'Options Assessment'!C$23=$C$55,$H$55, 'Options Assessment'!C$23=$C$56,$H$56, TRUE,1),_xlfn.IFS('Options Assessment'!C$24=$C$59,$H$59, 'Options Assessment'!C$24=$C$60,$H$60, TRUE,1),IF('Options Assessment'!C$25=$C$63,$H$63,1),IF('Options Assessment'!C$26=$C$66,$H$66,1),IF('Options Assessment'!C$27=$C$69,$H$69,1),IF('Options Assessment'!C$28=$C$73,$H$73,1),IF('Options Assessment'!C$29=$C$76,$H$76,1),IF('Options Assessment'!C$30=$C$80,$H$80,1),IF('Options Assessment'!C$15=$C$88,$H$88,1),_xlfn.IFS('Options Assessment'!C$16=$C$91,$H$91, 'Options Assessment'!C$16=$C$92,$H$92, 'Options Assessment'!C$16=$C$93,$H$93, 'Options Assessment'!C$16=$C$94,$H$94, 'Options Assessment'!C$16=$C$95,$H$95, TRUE,1),_xlfn.IFS( 'Options Assessment'!C$32=$C$98,$H$98, 'Options Assessment'!C$32=$C$99,$H$99, 'Options Assessment'!C$32=$C$100,$H$100, TRUE,1),IF('Options Assessment'!C$33=$C$103,$H$103,1),IF('Options Assessment'!C$35=$C$106,$H$106,1),_xlfn.IFS('Options Assessment'!C$18=$C$109,$H$109, 'Options Assessment'!C$18=$C$110,$H$110, 'Options Assessment'!C$18=$C$111,$H$111, 'Options Assessment'!C$18=$C$112,$H$112, 'Options Assessment'!C$18=$C$113,$H$113, 'Options Assessment'!C$18=$C$114,$H$114, 'Options Assessment'!C$18=$C$115,$H$115, 'Options Assessment'!C$18=$C$116,$H$116, 'Options Assessment'!C$18=$C$117,$H$117, 'Options Assessment'!C$18=$C$118,$H$118, TRUE,1),IF('Options Assessment'!C$34=$C$121,$H$121,1),_xlfn.IFS('Options Assessment'!C$17=$C$127,$H$127, 'Options Assessment'!C$17=$C$128,$H$128, TRUE,1),_xlfn.IFS('Options Assessment'!C$6=$C$130,$F$130, 'Options Assessment'!C$6=$C$131,$F$131, 'Options Assessment'!C$6=$C$132,$F$132,TRUE,1))","v":1},{"$f":"PRODUCT(_xlfn.IFS('Options Assessment'!D$7=$C$5,$H$5, 'Options Assessment'!D$7=$C$6,$H$6, TRUE,1), _xlfn.IFS('Options Assessment'!D$8=$C$9,$H$9, 'Options Assessment'!D$8=$C$10,$H$10, TRUE,1), IF('Options Assessment'!D$9=$C$13,$H$13,1), IF('Options Assessment'!D$10=$C$16,$H$16,1), _xlfn.IFS('Options Assessment'!D$11=$C$19,$H$19, 'Options Assessment'!D$11=$C$20,$H$20, 'Options Assessment'!D$11=$C$21,$H$21, TRUE,1), IF('Options Assessment'!D$12=$C$24,$H$24,1),IF('Options Assessment'!D$13=$C$35,$H$35,1),IF('Options Assessment'!D$14=$C$38,$H$38,1),IF('Options Assessment'!D$19=$C$41,$H$41,1),IF('Options Assessment'!D$20=$C$44,$H$44,1),IF('Options Assessment'!D$21=$C$47,$H$47,1),IF('Options Assessment'!D$22=$C$50,$H$50,1),_xlfn.IFS('Options Assessment'!D$23=$C$54,$H$54, 'Options Assessment'!D$23=$C$55,$H$55, 'Options Assessment'!D$23=$C$56,$H$56, TRUE,1),_xlfn.IFS('Options Assessment'!D$24=$C$59,$H$59, 'Options Assessment'!D$24=$C$60,$H$60, TRUE,1),IF('Options Assessment'!D$25=$C$63,$H$63,1),IF('Options Assessment'!D$26=$C$66,$H$66,1),IF('Options Assessment'!D$27=$C$69,$H$69,1),IF('Options Assessment'!D$28=$C$73,$H$73,1),IF('Options Assessment'!D$29=$C$76,$H$76,1),IF('Options Assessment'!D$30=$C$80,$H$80,1),IF('Options Assessment'!D$15=$C$88,$H$88,1),_xlfn.IFS('Options Assessment'!D$16=$C$91,$H$91, 'Options Assessment'!D$16=$C$92,$H$92, 'Options Assessment'!D$16=$C$93,$H$93, 'Options Assessment'!D$16=$C$94,$H$94, 'Options Assessment'!D$16=$C$95,$H$95, TRUE,1),_xlfn.IFS( 'Options Assessment'!D$32=$C$98,$H$98, 'Options Assessment'!D$32=$C$99,$H$99, 'Options Assessment'!D$32=$C$100,$H$100, TRUE,1),IF('Options Assessment'!D$33=$C$103,$H$103,1),IF('Options Assessment'!D$35=$C$106,$H$106,1),_xlfn.IFS('Options Assessment'!D$18=$C$109,$H$109, 'Options Assessment'!D$18=$C$110,$H$110, 'Options Assessment'!D$18=$C$111,$H$111, 'Options Assessment'!D$18=$C$112,$H$112, 'Options Assessment'!D$18=$C$113,$H$113, 'Options Assessment'!D$18=$C$114,$H$114, 'Options Assessment'!D$18=$C$115,$H$115, 'Options Assessment'!D$18=$C$116,$H$116, 'Options Assessment'!D$18=$C$117,$H$117, 'Options Assessment'!D$18=$C$118,$H$118, TRUE,1),IF('Options Assessment'!D$34=$C$121,$H$121,1),_xlfn.IFS('Options Assessment'!D$17=$C$127,$H$127, 'Options Assessment'!D$17=$C$128,$H$128, TRUE,1),_xlfn.IFS('Options Assessment'!D$6=$C$130,$F$130, 'Options Assessment'!D$6=$C$131,$F$131, 'Options Assessment'!D$6=$C$132,$F$132,TRUE,1))","v":1},{"$f":"PRODUCT(_xlfn.IFS('Options Assessment'!E$7=$C$5,$H$5, 'Options Assessment'!E$7=$C$6,$H$6, TRUE,1), _xlfn.IFS('Options Assessment'!E$8=$C$9,$H$9, 'Options Assessment'!E$8=$C$10,$H$10, TRUE,1), IF('Options Assessment'!E$9=$C$13,$H$13,1), IF('Options Assessment'!E$10=$C$16,$H$16,1), _xlfn.IFS('Options Assessment'!E$11=$C$19,$H$19, 'Options Assessment'!E$11=$C$20,$H$20, 'Options Assessment'!E$11=$C$21,$H$21, TRUE,1), IF('Options Assessment'!E$12=$C$24,$H$24,1),IF('Options Assessment'!E$13=$C$35,$H$35,1),IF('Options Assessment'!E$14=$C$38,$H$38,1),IF('Options Assessment'!E$19=$C$41,$H$41,1),IF('Options Assessment'!E$20=$C$44,$H$44,1),IF('Options Assessment'!E$21=$C$47,$H$47,1),IF('Options Assessment'!E$22=$C$50,$H$50,1),_xlfn.IFS('Options Assessment'!E$23=$C$54,$H$54, 'Options Assessment'!E$23=$C$55,$H$55, 'Options Assessment'!E$23=$C$56,$H$56, TRUE,1),_xlfn.IFS('Options Assessment'!E$24=$C$59,$H$59, 'Options Assessment'!E$24=$C$60,$H$60, TRUE,1),IF('Options Assessment'!E$25=$C$63,$H$63,1),IF('Options Assessment'!E$26=$C$66,$H$66,1),IF('Options Assessment'!E$27=$C$69,$H$69,1),IF('Options Assessment'!E$28=$C$73,$H$73,1),IF('Options Assessment'!E$29=$C$76,$H$76,1),IF('Options Assessment'!E$30=$C$80,$H$80,1),IF('Options Assessment'!E$15=$C$88,$H$88,1),_xlfn.IFS('Options Assessment'!E$16=$C$91,$H$91, 'Options Assessment'!E$16=$C$92,$H$92, 'Options Assessment'!E$16=$C$93,$H$93, 'Options Assessment'!E$16=$C$94,$H$94, 'Options Assessment'!E$16=$C$95,$H$95, TRUE,1),_xlfn.IFS( 'Options Assessment'!E$32=$C$98,$H$98, 'Options Assessment'!E$32=$C$99,$H$99, 'Options Assessment'!E$32=$C$100,$H$100, TRUE,1),IF('Options Assessment'!E$33=$C$103,$H$103,1),IF('Options Assessment'!E$35=$C$106,$H$106,1),_xlfn.IFS('Options Assessment'!E$18=$C$109,$H$109, 'Options Assessment'!E$18=$C$110,$H$110, 'Options Assessment'!E$18=$C$111,$H$111, 'Options Assessment'!E$18=$C$112,$H$112, 'Options Assessment'!E$18=$C$113,$H$113, 'Options Assessment'!E$18=$C$114,$H$114, 'Options Assessment'!E$18=$C$115,$H$115, 'Options Assessment'!E$18=$C$116,$H$116, 'Options Assessment'!E$18=$C$117,$H$117, 'Options Assessment'!E$18=$C$118,$H$118, TRUE,1),IF('Options Assessment'!E$34=$C$121,$H$121,1),_xlfn.IFS('Options Assessment'!E$17=$C$127,$H$127, 'Options Assessment'!E$17=$C$128,$H$128, TRUE,1),_xlfn.IFS('Options Assessment'!E$6=$C$130,$F$130, 'Options Assessment'!E$6=$C$131,$F$131, 'Options Assessment'!E$6=$C$132,$F$132,TRUE,1))","v":1},{"$f":"PRODUCT(_xlfn.IFS('Options Assessment'!F$7=$C$5,$H$5, 'Options Assessment'!F$7=$C$6,$H$6, TRUE,1), _xlfn.IFS('Options Assessment'!F$8=$C$9,$H$9, 'Options Assessment'!F$8=$C$10,$H$10, TRUE,1), IF('Options Assessment'!F$9=$C$13,$H$13,1), IF('Options Assessment'!F$10=$C$16,$H$16,1), _xlfn.IFS('Options Assessment'!F$11=$C$19,$H$19, 'Options Assessment'!F$11=$C$20,$H$20, 'Options Assessment'!F$11=$C$21,$H$21, TRUE,1), IF('Options Assessment'!F$12=$C$24,$H$24,1),IF('Options Assessment'!F$13=$C$35,$H$35,1),IF('Options Assessment'!F$14=$C$38,$H$38,1),IF('Options Assessment'!F$19=$C$41,$H$41,1),IF('Options Assessment'!F$20=$C$44,$H$44,1),IF('Options Assessment'!F$21=$C$47,$H$47,1),IF('Options Assessment'!F$22=$C$50,$H$50,1),_xlfn.IFS('Options Assessment'!F$23=$C$54,$H$54, 'Options Assessment'!F$23=$C$55,$H$55, 'Options Assessment'!F$23=$C$56,$H$56, TRUE,1),_xlfn.IFS('Options Assessment'!F$24=$C$59,$H$59, 'Options Assessment'!F$24=$C$60,$H$60, TRUE,1),IF('Options Assessment'!F$25=$C$63,$H$63,1),IF('Options Assessment'!F$26=$C$66,$H$66,1),IF('Options Assessment'!F$27=$C$69,$H$69,1),IF('Options Assessment'!F$28=$C$73,$H$73,1),IF('Options Assessment'!F$29=$C$76,$H$76,1),IF('Options Assessment'!F$30=$C$80,$H$80,1),IF('Options Assessment'!F$15=$C$88,$H$88,1),_xlfn.IFS('Options Assessment'!F$16=$C$91,$H$91, 'Options Assessment'!F$16=$C$92,$H$92, 'Options Assessment'!F$16=$C$93,$H$93, 'Options Assessment'!F$16=$C$94,$H$94, 'Options Assessment'!F$16=$C$95,$H$95, TRUE,1),_xlfn.IFS( 'Options Assessment'!F$32=$C$98,$H$98, 'Options Assessment'!F$32=$C$99,$H$99, 'Options Assessment'!F$32=$C$100,$H$100, TRUE,1),IF('Options Assessment'!F$33=$C$103,$H$103,1),IF('Options Assessment'!F$35=$C$106,$H$106,1),_xlfn.IFS('Options Assessment'!F$18=$C$109,$H$109, 'Options Assessment'!F$18=$C$110,$H$110, 'Options Assessment'!F$18=$C$111,$H$111, 'Options Assessment'!F$18=$C$112,$H$112, 'Options Assessment'!F$18=$C$113,$H$113, 'Options Assessment'!F$18=$C$114,$H$114, 'Options Assessment'!F$18=$C$115,$H$115, 'Options Assessment'!F$18=$C$116,$H$116, 'Options Assessment'!F$18=$C$117,$H$117, 'Options Assessment'!F$18=$C$118,$H$118, TRUE,1),IF('Options Assessment'!F$34=$C$121,$H$121,1),_xlfn.IFS('Options Assessment'!F$17=$C$127,$H$127, 'Options Assessment'!F$17=$C$128,$H$128, TRUE,1),_xlfn.IFS('Options Assessment'!F$6=$C$130,$F$130, 'Options Assessment'!F$6=$C$131,$F$131, 'Options Assessment'!F$6=$C$132,$F$132,TRUE,1))","v":1},{"$f":"PRODUCT(_xlfn.IFS('Options Assessment'!G$7=$C$5,$H$5, 'Options Assessment'!G$7=$C$6,$H$6, TRUE,1), _xlfn.IFS('Options Assessment'!G$8=$C$9,$H$9, 'Options Assessment'!G$8=$C$10,$H$10, TRUE,1), IF('Options Assessment'!G$9=$C$13,$H$13,1), IF('Options Assessment'!G$10=$C$16,$H$16,1), _xlfn.IFS('Options Assessment'!G$11=$C$19,$H$19, 'Options Assessment'!G$11=$C$20,$H$20, 'Options Assessment'!G$11=$C$21,$H$21, TRUE,1), IF('Options Assessment'!G$12=$C$24,$H$24,1),IF('Options Assessment'!G$13=$C$35,$H$35,1),IF('Options Assessment'!G$14=$C$38,$H$38,1),IF('Options Assessment'!G$19=$C$41,$H$41,1),IF('Options Assessment'!G$20=$C$44,$H$44,1),IF('Options Assessment'!G$21=$C$47,$H$47,1),IF('Options Assessment'!G$22=$C$50,$H$50,1),_xlfn.IFS('Options Assessment'!G$23=$C$54,$H$54, 'Options Assessment'!G$23=$C$55,$H$55, 'Options Assessment'!G$23=$C$56,$H$56, TRUE,1),_xlfn.IFS('Options Assessment'!G$24=$C$59,$H$59, 'Options Assessment'!G$24=$C$60,$H$60, TRUE,1),IF('Options Assessment'!G$25=$C$63,$H$63,1),IF('Options Assessment'!G$26=$C$66,$H$66,1),IF('Options Assessment'!G$27=$C$69,$H$69,1),IF('Options Assessment'!G$28=$C$73,$H$73,1),IF('Options Assessment'!G$29=$C$76,$H$76,1),IF('Options Assessment'!G$30=$C$80,$H$80,1),IF('Options Assessment'!G$15=$C$88,$H$88,1),_xlfn.IFS('Options Assessment'!G$16=$C$91,$H$91, 'Options Assessment'!G$16=$C$92,$H$92, 'Options Assessment'!G$16=$C$93,$H$93, 'Options Assessment'!G$16=$C$94,$H$94, 'Options Assessment'!G$16=$C$95,$H$95, TRUE,1),_xlfn.IFS( 'Options Assessment'!G$32=$C$98,$H$98, 'Options Assessment'!G$32=$C$99,$H$99, 'Options Assessment'!G$32=$C$100,$H$100, TRUE,1),IF('Options Assessment'!G$33=$C$103,$H$103,1),IF('Options Assessment'!G$35=$C$106,$H$106,1),_xlfn.IFS('Options Assessment'!G$18=$C$109,$H$109, 'Options Assessment'!G$18=$C$110,$H$110, 'Options Assessment'!G$18=$C$111,$H$111, 'Options Assessment'!G$18=$C$112,$H$112, 'Options Assessment'!G$18=$C$113,$H$113, 'Options Assessment'!G$18=$C$114,$H$114, 'Options Assessment'!G$18=$C$115,$H$115, 'Options Assessment'!G$18=$C$116,$H$116, 'Options Assessment'!G$18=$C$117,$H$117, 'Options Assessment'!G$18=$C$118,$H$118, TRUE,1),IF('Options Assessment'!G$34=$C$121,$H$121,1),_xlfn.IFS('Options Assessment'!G$17=$C$127,$H$127, 'Options Assessment'!G$17=$C$128,$H$128, TRUE,1),_xlfn.IFS('Options Assessment'!G$6=$C$130,$F$130, 'Options Assessment'!G$6=$C$131,$F$131, 'Options Assessment'!G$6=$C$132,$F$132,TRUE,1))","v":1},{"$f":"PRODUCT(_xlfn.IFS('Options Assessment'!H$7=$C$5,$H$5, 'Options Assessment'!H$7=$C$6,$H$6, TRUE,1), _xlfn.IFS('Options Assessment'!H$8=$C$9,$H$9, 'Options Assessment'!H$8=$C$10,$H$10, TRUE,1), IF('Options Assessment'!H$9=$C$13,$H$13,1), IF('Options Assessment'!H$10=$C$16,$H$16,1), _xlfn.IFS('Options Assessment'!H$11=$C$19,$H$19, 'Options Assessment'!H$11=$C$20,$H$20, 'Options Assessment'!H$11=$C$21,$H$21, TRUE,1), IF('Options Assessment'!H$12=$C$24,$H$24,1),IF('Options Assessment'!H$13=$C$35,$H$35,1),IF('Options Assessment'!H$14=$C$38,$H$38,1),IF('Options Assessment'!H$19=$C$41,$H$41,1),IF('Options Assessment'!H$20=$C$44,$H$44,1),IF('Options Assessment'!H$21=$C$47,$H$47,1),IF('Options Assessment'!H$22=$C$50,$H$50,1),_xlfn.IFS('Options Assessment'!H$23=$C$54,$H$54, 'Options Assessment'!H$23=$C$55,$H$55, 'Options Assessment'!H$23=$C$56,$H$56, TRUE,1),_xlfn.IFS('Options Assessment'!H$24=$C$59,$H$59, 'Options Assessment'!H$24=$C$60,$H$60, TRUE,1),IF('Options Assessment'!H$25=$C$63,$H$63,1),IF('Options Assessment'!H$26=$C$66,$H$66,1),IF('Options Assessment'!H$27=$C$69,$H$69,1),IF('Options Assessment'!H$28=$C$73,$H$73,1),IF('Options Assessment'!H$29=$C$76,$H$76,1),IF('Options Assessment'!H$30=$C$80,$H$80,1),IF('Options Assessment'!H$15=$C$88,$H$88,1),_xlfn.IFS('Options Assessment'!H$16=$C$91,$H$91, 'Options Assessment'!H$16=$C$92,$H$92, 'Options Assessment'!H$16=$C$93,$H$93, 'Options Assessment'!H$16=$C$94,$H$94, 'Options Assessment'!H$16=$C$95,$H$95, TRUE,1),_xlfn.IFS( 'Options Assessment'!H$32=$C$98,$H$98, 'Options Assessment'!H$32=$C$99,$H$99, 'Options Assessment'!H$32=$C$100,$H$100, TRUE,1),IF('Options Assessment'!H$33=$C$103,$H$103,1),IF('Options Assessment'!H$35=$C$106,$H$106,1),_xlfn.IFS('Options Assessment'!H$18=$C$109,$H$109, 'Options Assessment'!H$18=$C$110,$H$110, 'Options Assessment'!H$18=$C$111,$H$111, 'Options Assessment'!H$18=$C$112,$H$112, 'Options Assessment'!H$18=$C$113,$H$113, 'Options Assessment'!H$18=$C$114,$H$114, 'Options Assessment'!H$18=$C$115,$H$115, 'Options Assessment'!H$18=$C$116,$H$116, 'Options Assessment'!H$18=$C$117,$H$117, 'Options Assessment'!H$18=$C$118,$H$118, TRUE,1),IF('Options Assessment'!H$34=$C$121,$H$121,1),_xlfn.IFS('Options Assessment'!H$17=$C$127,$H$127, 'Options Assessment'!H$17=$C$128,$H$128, TRUE,1),_xlfn.IFS('Options Assessment'!H$6=$C$130,$F$130, 'Options Assessment'!H$6=$C$131,$F$131, 'Options Assessment'!H$6=$C$132,$F$132,TRUE,1))","v":1},{"$f":"PRODUCT(_xlfn.IFS('Options Assessment'!I$7=$C$5,$H$5, 'Options Assessment'!I$7=$C$6,$H$6, TRUE,1), _xlfn.IFS('Options Assessment'!I$8=$C$9,$H$9, 'Options Assessment'!I$8=$C$10,$H$10, TRUE,1), IF('Options Assessment'!I$9=$C$13,$H$13,1), IF('Options Assessment'!I$10=$C$16,$H$16,1), _xlfn.IFS('Options Assessment'!I$11=$C$19,$H$19, 'Options Assessment'!I$11=$C$20,$H$20, 'Options Assessment'!I$11=$C$21,$H$21, TRUE,1), IF('Options Assessment'!I$12=$C$24,$H$24,1),IF('Options Assessment'!I$13=$C$35,$H$35,1),IF('Options Assessment'!I$14=$C$38,$H$38,1),IF('Options Assessment'!I$19=$C$41,$H$41,1),IF('Options Assessment'!I$20=$C$44,$H$44,1),IF('Options Assessment'!I$21=$C$47,$H$47,1),IF('Options Assessment'!I$22=$C$50,$H$50,1),_xlfn.IFS('Options Assessment'!I$23=$C$54,$H$54, 'Options Assessment'!I$23=$C$55,$H$55, 'Options Assessment'!I$23=$C$56,$H$56, TRUE,1),_xlfn.IFS('Options Assessment'!I$24=$C$59,$H$59, 'Options Assessment'!I$24=$C$60,$H$60, TRUE,1),IF('Options Assessment'!I$25=$C$63,$H$63,1),IF('Options Assessment'!I$26=$C$66,$H$66,1),IF('Options Assessment'!I$27=$C$69,$H$69,1),IF('Options Assessment'!I$28=$C$73,$H$73,1),IF('Options Assessment'!I$29=$C$76,$H$76,1),IF('Options Assessment'!I$30=$C$80,$H$80,1),IF('Options Assessment'!I$15=$C$88,$H$88,1),_xlfn.IFS('Options Assessment'!I$16=$C$91,$H$91, 'Options Assessment'!I$16=$C$92,$H$92, 'Options Assessment'!I$16=$C$93,$H$93, 'Options Assessment'!I$16=$C$94,$H$94, 'Options Assessment'!I$16=$C$95,$H$95, TRUE,1),_xlfn.IFS( 'Options Assessment'!I$32=$C$98,$H$98, 'Options Assessment'!I$32=$C$99,$H$99, 'Options Assessment'!I$32=$C$100,$H$100, TRUE,1),IF('Options Assessment'!I$33=$C$103,$H$103,1),IF('Options Assessment'!I$35=$C$106,$H$106,1),_xlfn.IFS('Options Assessment'!I$18=$C$109,$H$109, 'Options Assessment'!I$18=$C$110,$H$110, 'Options Assessment'!I$18=$C$111,$H$111, 'Options Assessment'!I$18=$C$112,$H$112, 'Options Assessment'!I$18=$C$113,$H$113, 'Options Assessment'!I$18=$C$114,$H$114, 'Options Assessment'!I$18=$C$115,$H$115, 'Options Assessment'!I$18=$C$116,$H$116, 'Options Assessment'!I$18=$C$117,$H$117, 'Options Assessment'!I$18=$C$118,$H$118, TRUE,1),IF('Options Assessment'!I$34=$C$121,$H$121,1),_xlfn.IFS('Options Assessment'!I$17=$C$127,$H$127, 'Options Assessment'!I$17=$C$128,$H$128, TRUE,1),_xlfn.IFS('Options Assessment'!I$6=$C$130,$F$130, 'Options Assessment'!I$6=$C$131,$F$131, 'Options Assessment'!I$6=$C$132,$F$132,TRUE,1))","v":1},{"$f":"PRODUCT(_xlfn.IFS('Options Assessment'!J$7=$C$5,$H$5, 'Options Assessment'!J$7=$C$6,$H$6, TRUE,1), _xlfn.IFS('Options Assessment'!J$8=$C$9,$H$9, 'Options Assessment'!J$8=$C$10,$H$10, TRUE,1), IF('Options Assessment'!J$9=$C$13,$H$13,1), IF('Options Assessment'!J$10=$C$16,$H$16,1), _xlfn.IFS('Options Assessment'!J$11=$C$19,$H$19, 'Options Assessment'!J$11=$C$20,$H$20, 'Options Assessment'!J$11=$C$21,$H$21, TRUE,1), IF('Options Assessment'!J$12=$C$24,$H$24,1),IF('Options Assessment'!J$13=$C$35,$H$35,1),IF('Options Assessment'!J$14=$C$38,$H$38,1),IF('Options Assessment'!J$19=$C$41,$H$41,1),IF('Options Assessment'!J$20=$C$44,$H$44,1),IF('Options Assessment'!J$21=$C$47,$H$47,1),IF('Options Assessment'!J$22=$C$50,$H$50,1),_xlfn.IFS('Options Assessment'!J$23=$C$54,$H$54, 'Options Assessment'!J$23=$C$55,$H$55, 'Options Assessment'!J$23=$C$56,$H$56, TRUE,1),_xlfn.IFS('Options Assessment'!J$24=$C$59,$H$59, 'Options Assessment'!J$24=$C$60,$H$60, TRUE,1),IF('Options Assessment'!J$25=$C$63,$H$63,1),IF('Options Assessment'!J$26=$C$66,$H$66,1),IF('Options Assessment'!J$27=$C$69,$H$69,1),IF('Options Assessment'!J$28=$C$73,$H$73,1),IF('Options Assessment'!J$29=$C$76,$H$76,1),IF('Options Assessment'!J$30=$C$80,$H$80,1),IF('Options Assessment'!J$15=$C$88,$H$88,1),_xlfn.IFS('Options Assessment'!J$16=$C$91,$H$91, 'Options Assessment'!J$16=$C$92,$H$92, 'Options Assessment'!J$16=$C$93,$H$93, 'Options Assessment'!J$16=$C$94,$H$94, 'Options Assessment'!J$16=$C$95,$H$95, TRUE,1),_xlfn.IFS( 'Options Assessment'!J$32=$C$98,$H$98, 'Options Assessment'!J$32=$C$99,$H$99, 'Options Assessment'!J$32=$C$100,$H$100, TRUE,1),IF('Options Assessment'!J$33=$C$103,$H$103,1),IF('Options Assessment'!J$35=$C$106,$H$106,1),_xlfn.IFS('Options Assessment'!J$18=$C$109,$H$109, 'Options Assessment'!J$18=$C$110,$H$110, 'Options Assessment'!J$18=$C$111,$H$111, 'Options Assessment'!J$18=$C$112,$H$112, 'Options Assessment'!J$18=$C$113,$H$113, 'Options Assessment'!J$18=$C$114,$H$114, 'Options Assessment'!J$18=$C$115,$H$115, 'Options Assessment'!J$18=$C$116,$H$116, 'Options Assessment'!J$18=$C$117,$H$117, 'Options Assessment'!J$18=$C$118,$H$118, TRUE,1),IF('Options Assessment'!J$34=$C$121,$H$121,1),_xlfn.IFS('Options Assessment'!J$17=$C$127,$H$127, 'Options Assessment'!J$17=$C$128,$H$128, TRUE,1),_xlfn.IFS('Options Assessment'!J$6=$C$130,$F$130, 'Options Assessment'!J$6=$C$131,$F$131, 'Options Assessment'!J$6=$C$132,$F$132,TRUE,1))","v":1},{"$f":"PRODUCT(_xlfn.IFS('Options Assessment'!K$7=$C$5,$H$5, 'Options Assessment'!K$7=$C$6,$H$6, TRUE,1), _xlfn.IFS('Options Assessment'!K$8=$C$9,$H$9, 'Options Assessment'!K$8=$C$10,$H$10, TRUE,1), IF('Options Assessment'!K$9=$C$13,$H$13,1), IF('Options Assessment'!K$10=$C$16,$H$16,1), _xlfn.IFS('Options Assessment'!K$11=$C$19,$H$19, 'Options Assessment'!K$11=$C$20,$H$20, 'Options Assessment'!K$11=$C$21,$H$21, TRUE,1), IF('Options Assessment'!K$12=$C$24,$H$24,1),IF('Options Assessment'!K$13=$C$35,$H$35,1),IF('Options Assessment'!K$14=$C$38,$H$38,1),IF('Options Assessment'!K$19=$C$41,$H$41,1),IF('Options Assessment'!K$20=$C$44,$H$44,1),IF('Options Assessment'!K$21=$C$47,$H$47,1),IF('Options Assessment'!K$22=$C$50,$H$50,1),_xlfn.IFS('Options Assessment'!K$23=$C$54,$H$54, 'Options Assessment'!K$23=$C$55,$H$55, 'Options Assessment'!K$23=$C$56,$H$56, TRUE,1),_xlfn.IFS('Options Assessment'!K$24=$C$59,$H$59, 'Options Assessment'!K$24=$C$60,$H$60, TRUE,1),IF('Options Assessment'!K$25=$C$63,$H$63,1),IF('Options Assessment'!K$26=$C$66,$H$66,1),IF('Options Assessment'!K$27=$C$69,$H$69,1),IF('Options Assessment'!K$28=$C$73,$H$73,1),IF('Options Assessment'!K$29=$C$76,$H$76,1),IF('Options Assessment'!K$30=$C$80,$H$80,1),IF('Options Assessment'!K$15=$C$88,$H$88,1),_xlfn.IFS('Options Assessment'!K$16=$C$91,$H$91, 'Options Assessment'!K$16=$C$92,$H$92, 'Options Assessment'!K$16=$C$93,$H$93, 'Options Assessment'!K$16=$C$94,$H$94, 'Options Assessment'!K$16=$C$95,$H$95, TRUE,1),_xlfn.IFS( 'Options Assessment'!K$32=$C$98,$H$98, 'Options Assessment'!K$32=$C$99,$H$99, 'Options Assessment'!K$32=$C$100,$H$100, TRUE,1),IF('Options Assessment'!K$33=$C$103,$H$103,1),IF('Options Assessment'!K$35=$C$106,$H$106,1),_xlfn.IFS('Options Assessment'!K$18=$C$109,$H$109, 'Options Assessment'!K$18=$C$110,$H$110, 'Options Assessment'!K$18=$C$111,$H$111, 'Options Assessment'!K$18=$C$112,$H$112, 'Options Assessment'!K$18=$C$113,$H$113, 'Options Assessment'!K$18=$C$114,$H$114, 'Options Assessment'!K$18=$C$115,$H$115, 'Options Assessment'!K$18=$C$116,$H$116, 'Options Assessment'!K$18=$C$117,$H$117, 'Options Assessment'!K$18=$C$118,$H$118, TRUE,1),IF('Options Assessment'!K$34=$C$121,$H$121,1),_xlfn.IFS('Options Assessment'!K$17=$C$127,$H$127, 'Options Assessment'!K$17=$C$128,$H$128, TRUE,1),_xlfn.IFS('Options Assessment'!K$6=$C$130,$F$130, 'Options Assessment'!K$6=$C$131,$F$131, 'Options Assessment'!K$6=$C$132,$F$132,TRUE,1))","v":1},{"$f":"PRODUCT(_xlfn.IFS('Options Assessment'!L$7=$C$5,$H$5, 'Options Assessment'!L$7=$C$6,$H$6, TRUE,1), _xlfn.IFS('Options Assessment'!L$8=$C$9,$H$9, 'Options Assessment'!L$8=$C$10,$H$10, TRUE,1), IF('Options Assessment'!L$9=$C$13,$H$13,1), IF('Options Assessment'!L$10=$C$16,$H$16,1), _xlfn.IFS('Options Assessment'!L$11=$C$19,$H$19, 'Options Assessment'!L$11=$C$20,$H$20, 'Options Assessment'!L$11=$C$21,$H$21, TRUE,1), IF('Options Assessment'!L$12=$C$24,$H$24,1),IF('Options Assessment'!L$13=$C$35,$H$35,1),IF('Options Assessment'!L$14=$C$38,$H$38,1),IF('Options Assessment'!L$19=$C$41,$H$41,1),IF('Options Assessment'!L$20=$C$44,$H$44,1),IF('Options Assessment'!L$21=$C$47,$H$47,1),IF('Options Assessment'!L$22=$C$50,$H$50,1),_xlfn.IFS('Options Assessment'!L$23=$C$54,$H$54, 'Options Assessment'!L$23=$C$55,$H$55, 'Options Assessment'!L$23=$C$56,$H$56, TRUE,1),_xlfn.IFS('Options Assessment'!L$24=$C$59,$H$59, 'Options Assessment'!L$24=$C$60,$H$60, TRUE,1),IF('Options Assessment'!L$25=$C$63,$H$63,1),IF('Options Assessment'!L$26=$C$66,$H$66,1),IF('Options Assessment'!L$27=$C$69,$H$69,1),IF('Options Assessment'!L$28=$C$73,$H$73,1),IF('Options Assessment'!L$29=$C$76,$H$76,1),IF('Options Assessment'!L$30=$C$80,$H$80,1),IF('Options Assessment'!L$15=$C$88,$H$88,1),_xlfn.IFS('Options Assessment'!L$16=$C$91,$H$91, 'Options Assessment'!L$16=$C$92,$H$92, 'Options Assessment'!L$16=$C$93,$H$93, 'Options Assessment'!L$16=$C$94,$H$94, 'Options Assessment'!L$16=$C$95,$H$95, TRUE,1),_xlfn.IFS( 'Options Assessment'!L$32=$C$98,$H$98, 'Options Assessment'!L$32=$C$99,$H$99, 'Options Assessment'!L$32=$C$100,$H$100, TRUE,1),IF('Options Assessment'!L$33=$C$103,$H$103,1),IF('Options Assessment'!L$35=$C$106,$H$106,1),_xlfn.IFS('Options Assessment'!L$18=$C$109,$H$109, 'Options Assessment'!L$18=$C$110,$H$110, 'Options Assessment'!L$18=$C$111,$H$111, 'Options Assessment'!L$18=$C$112,$H$112, 'Options Assessment'!L$18=$C$113,$H$113, 'Options Assessment'!L$18=$C$114,$H$114, 'Options Assessment'!L$18=$C$115,$H$115, 'Options Assessment'!L$18=$C$116,$H$116, 'Options Assessment'!L$18=$C$117,$H$117, 'Options Assessment'!L$18=$C$118,$H$118, TRUE,1),IF('Options Assessment'!L$34=$C$121,$H$121,1),_xlfn.IFS('Options Assessment'!L$17=$C$127,$H$127, 'Options Assessment'!L$17=$C$128,$H$128, TRUE,1),_xlfn.IFS('Options Assessment'!L$6=$C$130,$F$130, 'Options Assessment'!L$6=$C$131,$F$131, 'Options Assessment'!L$6=$C$132,$F$132,TRUE,1))","v":1}]
[]
[]
[]
[]
[]
[]
[]
[]
[null,null,null,null,null,null,null,null,null,null,null,null,null,{"$f":"E80*E132","v":0}]
[]
[]
[]
[]
[]
[]
[]
[]
[]
[]
[]
[]
[]
[]
[]
[]
[]
[]
[]
[]
[]
[]
[]
[]
["Intersection Crash Modification"]
[]
[]
[]
[]
[]
[]
[]
[]
[]
[]
[]
[]
[]
[]
[]
[]
[]
[]
[]
[]
[]
[]
[]
[]
[]
[]
[]
[]
[]
[]
[]
[]
[]
[]
[]
[]
[]
[]
[]
[]
[]
[]
[]
[]
[]
[]
[]
[]
[]
["Cyclist Crash Modification"]
[]
[]
[]
[]
[]
[]
["Pedestrian Crash Modification","Improved lighting","None",{"$f":"_xlfn.CONCAT(B97,\" - \",C97)","v":"Improved lighting - None"},null,1]
[null,"Improved lighting","Subcategory V4","Improved lighting - Subcategory V4",null,0.95]
[null,"Improved lighting","Subcategory V3","Improved lighting - Subcategory V3",null,0.91]
[null,"Improved lighting","Subcategory V2/V1","Improved lighting - Subcategory V2/V1",null,0.88]
[]
[null,"Barnes dance","No","Barnes dance - No",1]
[null,"Barnes dance","Yes","Barnes dance - Yes",0.45]
[]
[null,"Improve signal timing to reduce pedestrian delays","No","Improve signal timing to reduce pedestrian delays - No",1]
[null,"Improve signal timing to reduce pedestrian delays","Yes","Improve signal timing to reduce pedestrian delays - Yes",0.65]
[]
[null,"Pedestrian facility","None","Pedestrian facility - None",1,1,1]
[null,"Pedestrian facility","Pedestrian overpass","Pedestrian facility - Pedestrian overpass",null,0.15]
[null,"Pedestrian facility","Raised platform","Pedestrian facility - Raised platform",0.8,null,0.8]
[null,"Pedestrian facility","Pedestrian refuge - kerbside parking","Pedestrian facility - Pedestrian refuge - kerbside parking",null,0.85]
[null,"Pedestrian facility","Pedestrian refuge - no kerbside parking","Pedestrian facility - Pedestrian refuge - no kerbside parking",null,0.55000000000000004]
[null,"Pedestrian facility","Kerb extension","Pedestrian facility - Kerb extension",null,0.65]
[null,"Pedestrian facility","Pedestrian refuge and kerb extensions","Pedestrian facility - Pedestrian refuge and kerb extensions",null,0.55000000000000004]
[null,"Pedestrian facility","Zebra crossing - two lane road","Pedestrian facility - Zebra crossing - two lane road",null,1]
[null,"Pedestrian facility","Zebra crossing - multi lane road","Pedestrian facility - Zebra crossing - multi lane road",null,1.9]
[null,"Pedestrian facility","Mid-block traffic signals","Pedestrian facility - Mid-block traffic signals",null,0.55000000000000004,0.55000000000000004]
[null,"Pedestrian facility","Fencing and barriers","Pedestrian facility - Fencing and barriers",null,0.8]
[]
[null,"Traffic signals rest on red","No","Traffic signals rest on red - No",1,null,1]
[null,"Traffic signals rest on red","Yes","Traffic signals rest on red - Yes",0.5,null,0.5]
["Other Crash Modification"]
[]
[null,null,null,null,null,null,null,null,2]
[]
[]
[]
[]
[]
[]
[]
[]
[]
[null,"Notes: yellow cells are assumed values."]
[null,"Orange cells are the components included in current road layout."]
[]
[]
[]
[null,null,"Speed Change",null,"Signalised Intersection","Midblock","Priority Intersection","Roundabout"]
["Speed limit change","Speed Change",0]
[null,null,-2.5,null,2.5,{"$f":"1-EXP(0.034*-E141)","v":8.148771559854262E-2}]
[null,null,-5,null,5,0.1563351834036163]
[null,null,-7.5,null,7.5,0.22508350203891903]
[null,null,-10,null,10,0.28822967723739035]
[null,null,-12.5,null,12.5,0.34623021487015271]
[null,null,-15,null,15,0.3995044211877341]
[null,null,-20,null,20,0.49338300763441045]
["Road Stereotype (without congestion)","Laneway - narrow"]
[null,"Local - narrow"]
[null,"Local - medium"]
[null,"Local - wide"]
[null,"Collector - narrow"]
[null,"Collector - medium"]
[null,"Collector - wide"]
[null,"50 Arterial - medium"]
[null,"50 Arterial - wide"]
[null,"60 Arterial"]

{"sheet":"CMFs_cyc","index":12,"n_rows":157,"n_cols":23,"rows_kept":157,"cut":false,"hidden":true,"merged":[[147,0,156,0],[3,0,38,0],[39,0,88,0],[89,0,95,0],[96,0,120,0],[121,0,127,0],[139,0,145,0]]}
[null,null,null,null,null,null,null,null,null,null,null,null,"Network","Segments"]
[null,"Facility",null,"Lookup Value","Signalised_Intersection","Midblock","Priority_Intersection","Roundabout",null,null,null,null,null,{"$f":"'Options Assessment'!C1","v":"Segment 1"},{"$f":"'Options Assessment'!D1","v":"Segment 2"},{"$f":"'Options Assessment'!E1","v":"Segment 3"},{"$f":"'Options Assessment'!F1","v":"Segment 4"},{"$f":"'Options Assessment'!G1","v":"Segment 5"},{"$f":"'Options Assessment'!H1","v":"Segment 6"},{"$f":"'Options Assessment'!I1","v":"Segment 7"},{"$f":"'Options Assessment'!J1","v":"Segment 8"},{"$f":"'Options Assessment'!K1","v":"Segment 9"},{"$f":"'Options Assessment'!L1","v":"Segment 10"}]
[null,null,null,"N/A",null,null,null,null,null,null,null,"Signalised_Intersection",{"$f":"PRODUCT(_xlfn.IFS('Options Assessment'!#REF!=$C$5,$E$5, 'Options Assessment'!#REF!=$C$6,$E$6, TRUE,1), _xlfn.IFS('Options Assessment'!#REF!=$C$9,$E$9, 'Options Assessment'!#REF!=$C$10,$E$10, TRUE,1), IF('Options Assessment'!#REF!=$C$13,$E$13,1), IF('Options Assessment'!#REF!=$C$16,$E$16,1), _xlfn.IFS('Options Assessment'!#REF!=$C$19,$E$19, 'Options Assessment'!#REF!=$C$20,$E$20, 'Options Assessment'!#REF!=$C$21,$E$21, TRUE,1), IF('Options Assessment'!#REF!=$C$24,$E$24,1), IF('Options Assessment'!#REF!=$C$27,$E$27,1),IF('Options Assessment'!#REF!=$C$31,$E$31,1),IF('Options Assessment'!#REF!=$C$35,$E$35,1),IF('Options Assessment'!#REF!=$C$38,$E$38,1),IF('Options Assessment'!#REF!=$C$41,$E$41,1),IF('Options Assessment'!#REF!=$C$44,$E$44,1),IF('Options Assessment'!#REF!=$C$47,$E$47,1),IF('Options Assessment'!#REF!=$C$50,$E$50,1),_xlfn.IFS('Options Assessment'!#REF!=$C$54,$E$54, 'Options Assessment'!#REF!=$C$55,$E$55, 'Options Assessment'!#REF!=$C$56,$E$56, TRUE,1),_xlfn.IFS('Options Assessment'!#REF!=$C$59,$E$59, 'Options Assessment'!#REF!=$C$60,$E$60, TRUE,1),IF('Options Assessment'!#REF!=$C$63,$E$63,1),IF('Options Assessment'!#REF!=$C$66,$E$66,1),IF('Options Assessment'!#REF!=$C$69,$E$69,1),IF('Options Assessment'!#REF!=$C$73,$E$73,1),IF('Options Assessment'!#REF!=$C$76,$E$76,1),IF('Options Assessment'!#REF!=$C$80,$E$80,1),IF('Options Assessment'!#REF!=$C$88,$E$88,1),_xlfn.IFS('Options Assessment'!#REF!=$C$91,$E$91, 'Options Assessment'!#REF!=$C$92,$E$92, 'Options Assessment'!#REF!=$C$93,$E$93, 'Options Assessment'!#REF!=$C$94,$E$94, 'Options Assessment'!#REF!=$C$95,$E$95, TRUE,1),_xlfn.IFS( 'Options Assessment'!#REF!=$C$98,$E$98, 'Options Assessment'!#REF!=$C$99,$E$99, 'Options Assessment'!#REF!=$C$100,$E$100, TRUE,1),IF('Options Assessment'!#REF!=$C$103,$E$103,1),IF('Options Assessment'!#REF!=$C$106,$E$106,1),_xlfn.IFS('Options Assessment'!#REF!=$C$109,$E$109, 'Options Assessment'!#REF!=$C$110,$E$110, 'Options Assessment'!#REF!=$C$111,$E$111, 'Options Assessment'!#REF!=$C$112,$E$112, 'Options Assessment'!#REF!=$C$113,$E$113, 'Options Assessment'!#REF!=$C$114,$E$114, 'Options Assessment'!#REF!=$C$115,$E$115, 'Options Assessment'!#REF!=$C$116,$E$116, 'Options Assessment'!#REF!=$C$117,$E$117, 'Options Assessment'!#REF!=$C$118,$E$118, TRUE,1),IF('Options Assessment'!#REF!=$C$121,$E$121,1),_xlfn.IFS('Options Assessment'!#REF!=$C$127,$E$127, 'Options Assessment'!#REF!=$C$128,$E$128, TRUE,1))","v":{"$error":"#REF!"}},{"$f":"PRODUCT(_xlfn.IFS('Options Assessment'!C$7=$C$5,$E$5, 'Options Assessment'!C$7=$C$6,$E$6, TRUE,1), _xlfn.IFS('Options Assessment'!C$8=$C$9,$E$9, 'Options Assessment'!C$8=$C$10,$E$10, TRUE,1), IF('Options Assessment'!C$9=$C$13,$E$13,1), IF('Options Assessment'!C$10=$C$16,$E$16,1), _xlfn.IFS('Options Assessment'!C$11=$C$19,$E$19, 'Options Assessment'!C$11=$C$20,$E$20, 'Options Assessment'!C$11=$C$21,$E$21, TRUE,1), IF('Options Assessment'!C$12=$C$24,$E$24,1), IF('Options Assessment'!C$13=$C$35,$E$35,1),IF('Options Assessment'!C$14=$C$38,$E$38,1),IF('Options Assessment'!C$19=$C$41,$E$41,1),IF('Options Assessment'!C$20=$C$44,$E$44,1),IF('Options Assessment'!C$21=$C$47,$E$47,1),IF('Options Assessment'!C$22=$C$50,$E$50,1),_xlfn.IFS('Options Assessment'!C$23=$C$54,$E$54, 'Options Assessment'!C$23=$C$55,$E$55, 'Options Assessment'!C$23=$C$56,$E$56, TRUE,1),_xlfn.IFS('Options Assessment'!C$24=$C$59,$E$59, 'Options Assessment'!C$24=$C$60,$E$60, TRUE,1),IF('Options Assessment'!C$25=$C$63,$E$63,1),IF('Options Assessment'!C$26=$C$66,$E$66,1),IF('Options Assessment'!C$27=$C$69,$E$69,1),IF('Options Assessment'!C$28=$C$73,$E$73,1),IF('Options Assessment'!C$29=$C$76,$E$76,1),IF('Options Assessment'!C$30=$C$80,$E$80,1),IF('Options Assessment'!C$15=$C$88,$E$88,1),_xlfn.IFS('Options Assessment'!C$16=$C$91,$E$91, 'Options Assessment'!C$16=$C$92,$E$92, 'Options Assessment'!C$16=$C$93,$E$93, 'Options Assessment'!C$16=$C$94,$E$94, 'Options Assessment'!C$16=$C$95,$E$95, TRUE,1),_xlfn.IFS( 'Options Assessment'!C$32=$C$98,$E$98, 'Options Assessment'!C$32=$C$99,$E$99, 'Options Assessment'!C$32=$C$100,$E$100, TRUE,1),IF('Options Assessment'!C$33=$C$103,$E$103,1),IF('Options Assessment'!C$35=$C$106,$E$106,1),_xlfn.IFS('Options Assessment'!C$18=$C$109,$E$109, 'Options Assessment'!C$18=$C$110,$E$110, 'Options Assessment'!C$18=$C$111,$E$111, 'Options Assessment'!C$18=$C$112,$E$112, 'Options Assessment'!C$18=$C$113,$E$113, 'Options Assessment'!C$18=$C$114,$E$114, 'Options Assessment'!C$18=$C$115,$E$115, 'Options Assessment'!C$18=$C$116,$E$116, 'Options Assessment'!C$18=$C$117,$E$117, 'Options Assessment'!C$18=$C$118,$E$118, TRUE,1),IF('Options Assessment'!C$34=$C$121,$E$121,1),_xlfn.IFS('Options Assessment'!C$17=$C$127,$E$127, 'Options Assessment'!C$17=$C$128,$E$128, TRUE,1),_xlfn.IFS('Options Assessment'!C$6=$C$130,$E$130, 'Options Assessment'!C$6=$C$131,$E$131, 'Options Assessment'!C$6=$C$132,$E$132,TRUE,1))","v":1},{"$f":"PRODUCT(_xlfn.IFS('Options Assessment'!D$7=$C$5,$E$5, 'Options Assessment'!D$7=$C$6,$E$6, TRUE,1), _xlfn.IFS('Options Assessment'!D$8=$C$9,$E$9, 'Options Assessment'!D$8=$C$10,$E$10, TRUE,1), IF('Options Assessment'!D$9=$C$13,$E$13,1), IF('Options Assessment'!D$10=$C$16,$E$16,1), _xlfn.IFS('Options Assessment'!D$11=$C$19,$E$19, 'Options Assessment'!D$11=$C$20,$E$20, 'Options Assessment'!D$11=$C$21,$E$21, TRUE,1), IF('Options Assessment'!D$12=$C$24,$E$24,1), IF('Options Assessment'!D$13=$C$35,$E$35,1),IF('Options Assessment'!D$14=$C$38,$E$38,1),IF('Options Assessment'!D$19=$C$41,$E$41,1),IF('Options Assessment'!D$20=$C$44,$E$44,1),IF('Options Assessment'!D$21=$C$47,$E$47,1),IF('Options Assessment'!D$22=$C$50,$E$50,1),_xlfn.IFS('Options Assessment'!D$23=$C$54,$E$54, 'Options Assessment'!D$23=$C$55,$E$55, 'Options Assessment'!D$23=$C$56,$E$56, TRUE,1),_xlfn.IFS('Options Assessment'!D$24=$C$59,$E$59, 'Options Assessment'!D$24=$C$60,$E$60, TRUE,1),IF('Options Assessment'!D$25=$C$63,$E$63,1),IF('Options Assessment'!D$26=$C$66,$E$66,1),IF('Options Assessment'!D$27=$C$69,$E$69,1),IF('Options Assessment'!D$28=$C$73,$E$73,1),IF('Options Assessment'!D$29=$C$76,$E$76,1),IF('Options Assessment'!D$30=$C$80,$E$80,1),IF('Options Assessment'!D$15=$C$88,$E$88,1),_xlfn.IFS('Options Assessment'!D$16=$C$91,$E$91, 'Options Assessment'!D$16=$C$92,$E$92, 'Options Assessment'!D$16=$C$93,$E$93, 'Options Assessment'!D$16=$C$94,$E$94, 'Options Assessment'!D$16=$C$95,$E$95, TRUE,1),_xlfn.IFS( 'Options Assessment'!D$32=$C$98,$E$98, 'Options Assessment'!D$32=$C$99,$E$99, 'Options Assessment'!D$32=$C$100,$E$100, TRUE,1),IF('Options Assessment'!D$33=$C$103,$E$103,1),IF('Options Assessment'!D$35=$C$106,$E$106,1),_xlfn.IFS('Options Assessment'!D$18=$C$109,$E$109, 'Options Assessment'!D$18=$C$110,$E$110, 'Options Assessment'!D$18=$C$111,$E$111, 'Options Assessment'!D$18=$C$112,$E$112, 'Options Assessment'!D$18=$C$113,$E$113, 'Options Assessment'!D$18=$C$114,$E$114, 'Options Assessment'!D$18=$C$115,$E$115, 'Options Assessment'!D$18=$C$116,$E$116, 'Options Assessment'!D$18=$C$117,$E$117, 'Options Assessment'!D$18=$C$118,$E$118, TRUE,1),IF('Options Assessment'!D$34=$C$121,$E$121,1),_xlfn.IFS('Options Assessment'!D$17=$C$127,$E$127, 'Options Assessment'!D$17=$C$128,$E$128, TRUE,1),_xlfn.IFS('Options Assessment'!D$6=$C$130,$E$130, 'Options Assessment'!D$6=$C$131,$E$131, 'Options Assessment'!D$6=$C$132,$E$132,TRUE,1))","v":1},{"$f":"PRODUCT(_xlfn.IFS('Options Assessment'!E$7=$C$5,$E$5, 'Options Assessment'!E$7=$C$6,$E$6, TRUE,1), _xlfn.IFS('Options Assessment'!E$8=$C$9,$E$9, 'Options Assessment'!E$8=$C$10,$E$10, TRUE,1), IF('Options Assessment'!E$9=$C$13,$E$13,1), IF('Options Assessment'!E$10=$C$16,$E$16,1), _xlfn.IFS('Options Assessment'!E$11=$C$19,$E$19, 'Options Assessment'!E$11=$C$20,$E$20, 'Options Assessment'!E$11=$C$21,$E$21, TRUE,1), IF('Options Assessment'!E$12=$C$24,$E$24,1), IF('Options Assessment'!E$13=$C$35,$E$35,1),IF('Options Assessment'!E$14=$C$38,$E$38,1),IF('Options Assessment'!E$19=$C$41,$E$41,1),IF('Options Assessment'!E$20=$C$44,$E$44,1),IF('Options Assessment'!E$21=$C$47,$E$47,1),IF('Options Assessment'!E$22=$C$50,$E$50,1),_xlfn.IFS('Options Assessment'!E$23=$C$54,$E$54, 'Options Assessment'!E$23=$C$55,$E$55, 'Options Assessment'!E$23=$C$56,$E$56, TRUE,1),_xlfn.IFS('Options Assessment'!E$24=$C$59,$E$59, 'Options Assessment'!E$24=$C$60,$E$60, TRUE,1),IF('Options Assessment'!E$25=$C$63,$E$63,1),IF('Options Assessment'!E$26=$C$66,$E$66,1),IF('Options Assessment'!E$27=$C$69,$E$69,1),IF('Options Assessment'!E$28=$C$73,$E$73,1),IF('Options Assessment'!E$29=$C$76,$E$76,1),IF('Options Assessment'!E$30=$C$80,$E$80,1),IF('Options Assessment'!E$15=$C$88,$E$88,1),_xlfn.IFS('Options Assessment'!E$16=$C$91,$E$91, 'Options Assessment'!E$16=$C$92,$E$92, 'Options Assessment'!E$16=$C$93,$E$93, 'Options Assessment'!E$16=$C$94,$E$94, 'Options Assessment'!E$16=$C$95,$E$95, TRUE,1),_xlfn.IFS( 'Options Assessment'!E$32=$C$98,$E$98, 'Options Assessment'!E$32=$C$99,$E$99, 'Options Assessment'!E$32=$C$100,$E$100, TRUE,1),IF('Options Assessment'!E$33=$C$103,$E$103,1),IF('Options Assessment'!E$35=$C$106,$E$106,1),_xlfn.IFS('Options Assessment'!E$18=$C$109,$E$109, 'Options Assessment'!E$18=$C$110,$E$110, 'Options Assessment'!E$18=$C$111,$E$111, 'Options Assessment'!E$18=$C$112,$E$112, 'Options Assessment'!E$18=$C$113,$E$113, 'Options Assessment'!E$18=$C$114,$E$114, 'Options Assessment'!E$18=$C$115,$E$115, 'Options Assessment'!E$18=$C$116,$E$116, 'Options Assessment'!E$18=$C$117,$E$117, 'Options Assessment'!E$18=$C$118,$E$118, TRUE,1),IF('Options Assessment'!E$34=$C$121,$E$121,1),_xlfn.IFS('Options Assessment'!E$17=$C$127,$E$127, 'Options Assessment'!E$17=$C$128,$E$128, TRUE,1),_xlfn.IFS('Options Assessment'!E$6=$C$130,$E$130, 'Options Assessment'!E$6=$C$131,$E$131, 'Options Assessment'!E$6=$C$132,$E$132,TRUE,1))","v":1},{"$f":"PRODUCT(_xlfn.IFS('Options Assessment'!F$7=$C$5,$E$5, 'Options Assessment'!F$7=$C$6,$E$6, TRUE,1), _xlfn.IFS('Options Assessment'!F$8=$C$9,$E$9, 'Options Assessment'!F$8=$C$10,$E$10, TRUE,1), IF('Options Assessment'!F$9=$C$13,$E$13,1), IF('Options Assessment'!F$10=$C$16,$E$16,1), _xlfn.IFS('Options Assessment'!F$11=$C$19,$E$19, 'Options Assessment'!F$11=$C$20,$E$20, 'Options Assessment'!F$11=$C$21,$E$21, TRUE,1), IF('Options Assessment'!F$12=$C$24,$E$24,1), IF('Options Assessment'!F$13=$C$35,$E$35,1),IF('Options Assessment'!F$14=$C$38,$E$38,1),IF('Options Assessment'!F$19=$C$41,$E$41,1),IF('Options Assessment'!F$20=$C$44,$E$44,1),IF('Options Assessment'!F$21=$C$47,$E$47,1),IF('Options Assessment'!F$22=$C$50,$E$50,1),_xlfn.IFS('Options Assessment'!F$23=$C$54,$E$54, 'Options Assessment'!F$23=$C$55,$E$55, 'Options Assessment'!F$23=$C$56,$E$56, TRUE,1),_xlfn.IFS('Options Assessment'!F$24=$C$59,$E$59, 'Options Assessment'!F$24=$C$60,$E$60, TRUE,1),IF('Options Assessment'!F$25=$C$63,$E$63,1),IF('Options Assessment'!F$26=$C$66,$E$66,1),IF('Options Assessment'!F$27=$C$69,$E$69,1),IF('Options Assessment'!F$28=$C$73,$E$73,1),IF('Options Assessment'!F$29=$C$76,$E$76,1),IF('Options Assessment'!F$30=$C$80,$E$80,1),IF('Options Assessment'!F$15=$C$88,$E$88,1),_xlfn.IFS('Options Assessment'!F$16=$C$91,$E$91, 'Options Assessment'!F$16=$C$92,$E$92, 'Options Assessment'!F$16=$C$93,$E$93, 'Options Assessment'!F$16=$C$94,$E$94, 'Options Assessment'!F$16=$C$95,$E$95, TRUE,1),_xlfn.IFS( 'Options Assessment'!F$32=$C$98,$E$98, 'Options Assessment'!F$32=$C$99,$E$99, 'Options Assessment'!F$32=$C$100,$E$100, TRUE,1),IF('Options Assessment'!F$33=$C$103,$E$103,1),IF('Options Assessment'!F$35=$C$106,$E$106,1),_xlfn.IFS('Options Assessment'!F$18=$C$109,$E$109, 'Options Assessment'!F$18=$C$110,$E$110, 'Options Assessment'!F$18=$C$111,$E$111, 'Options Assessment'!F$18=$C$112,$E$112, 'Options Assessment'!F$18=$C$113,$E$113, 'Options Assessment'!F$18=$C$114,$E$114, 'Options Assessment'!F$18=$C$115,$E$115, 'Options Assessment'!F$18=$C$116,$E$116, 'Options Assessment'!F$18=$C$117,$E$117, 'Options Assessment'!F$18=$C$118,$E$118, TRUE,1),IF('Options Assessment'!F$34=$C$121,$E$121,1),_xlfn.IFS('Options Assessment'!F$17=$C$127,$E$127, 'Options Assessment'!F$17=$C$128,$E$128, TRUE,1),_xlfn.IFS('Options Assessment'!F$6=$C$130,$E$130, 'Options Assessment'!F$6=$C$131,$E$131, 'Options Assessment'!F$6=$C$132,$E$132,TRUE,1))","v":1},{"$f":"PRODUCT(_xlfn.IFS('Options Assessment'!G$7=$C$5,$E$5, 'Options Assessment'!G$7=$C$6,$E$6, TRUE,1), _xlfn.IFS('Options Assessment'!G$8=$C$9,$E$9, 'Options Assessment'!G$8=$C$10,$E$10, TRUE,1), IF('Options Assessment'!G$9=$C$13,$E$13,1), IF('Options Assessment'!G$10=$C$16,$E$16,1), _xlfn.IFS('Options Assessment'!G$11=$C$19,$E$19, 'Options Assessment'!G$11=$C$20,$E$20, 'Options Assessment'!G$11=$C$21,$E$21, TRUE,1), IF('Options Assessment'!G$12=$C$24,$E$24,1), IF('Options Assessment'!G$13=$C$35,$E$35,1),IF('Options Assessment'!G$14=$C$38,$E$38,1),IF('Options Assessment'!G$19=$C$41,$E$41,1),IF('Options Assessment'!G$20=$C$44,$E$44,1),IF('Options Assessment'!G$21=$C$47,$E$47,1),IF('Options Assessment'!G$22=$C$50,$E$50,1),_xlfn.IFS('Options Assessment'!G$23=$C$54,$E$54, 'Options Assessment'!G$23=$C$55,$E$55, 'Options Assessment'!G$23=$C$56,$E$56, TRUE,1),_xlfn.IFS('Options Assessment'!G$24=$C$59,$E$59, 'Options Assessment'!G$24=$C$60,$E$60, TRUE,1),IF('Options Assessment'!G$25=$C$63,$E$63,1),IF('Options Assessment'!G$26=$C$66,$E$66,1),IF('Options Assessment'!G$27=$C$69,$E$69,1),IF('Options Assessment'!G$28=$C$73,$E$73,1),IF('Options Assessment'!G$29=$C$76,$E$76,1),IF('Options Assessment'!G$30=$C$80,$E$80,1),IF('Options Assessment'!G$15=$C$88,$E$88,1),_xlfn.IFS('Options Assessment'!G$16=$C$91,$E$91, 'Options Assessment'!G$16=$C$92,$E$92, 'Options Assessment'!G$16=$C$93,$E$93, 'Options Assessment'!G$16=$C$94,$E$94, 'Options Assessment'!G$16=$C$95,$E$95, TRUE,1),_xlfn.IFS( 'Options Assessment'!G$32=$C$98,$E$98, 'Options Assessment'!G$32=$C$99,$E$99, 'Options Assessment'!G$32=$C$100,$E$100, TRUE,1),IF('Options Assessment'!G$33=$C$103,$E$103,1),IF('Options Assessment'!G$35=$C$106,$E$106,1),_xlfn.IFS('Options Assessment'!G$18=$C$109,$E$109, 'Options Assessment'!G$18=$C$110,$E$110, 'Options Assessment'!G$18=$C$111,$E$111, 'Options Assessment'!G$18=$C$112,$E$112, 'Options Assessment'!G$18=$C$113,$E$113, 'Options Assessment'!G$18=$C$114,$E$114, 'Options Assessment'!G$18=$C$115,$E$115, 'Options Assessment'!G$18=$C$116,$E$116, 'Options Assessment'!G$18=$C$117,$E$117, 'Options Assessment'!G$18=$C$118,$E$118, TRUE,1),IF('Options Assessment'!G$34=$C$121,$E$121,1),_xlfn.IFS('Options Assessment'!G$17=$C$127,$E$127, 'Options Assessment'!G$17=$C$128,$E$128, TRUE,1),_xlfn.IFS('Options Assessment'!G$6=$C$130,$E$130, 'Options Assessment'!G$6=$C$131,$E$131, 'Options Assessment'!G$6=$C$132,$E$132,TRUE,1))","v":1},{"$f":"PRODUCT(_xlfn.IFS('Options Assessment'!H$7=$C$5,$E$5, 'Options Assessment'!H$7=$C$6,$E$6, TRUE,1), _xlfn.IFS('Options Assessment'!H$8=$C$9,$E$9, 'Options Assessment'!H$8=$C$10,$E$10, TRUE,1), IF('Options Assessment'!H$9=$C$13,$E$13,1), IF('Options Assessment'!H$10=$C$16,$E$16,1), _xlfn.IFS('Options Assessment'!H$11=$C$19,$E$19, 'Options Assessment'!H$11=$C$20,$E$20, 'Options Assessment'!H$11=$C$21,$E$21, TRUE,1), IF('Options Assessment'!H$12=$C$24,$E$24,1), IF('Options Assessment'!H$13=$C$35,$E$35,1),IF('Options Assessment'!H$14=$C$38,$E$38,1),IF('Options Assessment'!H$19=$C$41,$E$41,1),IF('Options Assessment'!H$20=$C$44,$E$44,1),IF('Options Assessment'!H$21=$C$47,$E$47,1),IF('Options Assessment'!H$22=$C$50,$E$50,1),_xlfn.IFS('Options Assessment'!H$23=$C$54,$E$54, 'Options Assessment'!H$23=$C$55,$E$55, 'Options Assessment'!H$23=$C$56,$E$56, TRUE,1),_xlfn.IFS('Options Assessment'!H$24=$C$59,$E$59, 'Options Assessment'!H$24=$C$60,$E$60, TRUE,1),IF('Options Assessment'!H$25=$C$63,$E$63,1),IF('Options Assessment'!H$26=$C$66,$E$66,1),IF('Options Assessment'!H$27=$C$69,$E$69,1),IF('Options Assessment'!H$28=$C$73,$E$73,1),IF('Options Assessment'!H$29=$C$76,$E$76,1),IF('Options Assessment'!H$30=$C$80,$E$80,1),IF('Options Assessment'!H$15=$C$88,$E$88,1),_xlfn.IFS('Options Assessment'!H$16=$C$91,$E$91, 'Options Assessment'!H$16=$C$92,$E$92, 'Options Assessment'!H$16=$C$93,$E$93, 'Options Assessment'!H$16=$C$94,$E$94, 'Options Assessment'!H$16=$C$95,$E$95, TRUE,1),_xlfn.IFS( 'Options Assessment'!H$32=$C$98,$E$98, 'Options Assessment'!H$32=$C$99,$E$99, 'Options Assessment'!H$32=$C$100,$E$100, TRUE,1),IF('Options Assessment'!H$33=$C$103,$E$103,1),IF('Options Assessment'!H$35=$C$106,$E$106,1),_xlfn.IFS('Options Assessment'!H$18=$C$109,$E$109, 'Options Assessment'!H$18=$C$110,$E$110, 'Options Assessment'!H$18=$C$111,$E$111, 'Options Assessment'!H$18=$C$112,$E$112, 'Options Assessment'!H$18=$C$113,$E$113, 'Options Assessment'!H$18=$C$114,$E$114, 'Options Assessment'!H$18=$C$115,$E$115, 'Options Assessment'!H$18=$C$116,$E$116, 'Options Assessment'!H$18=$C$117,$E$117, 'Options Assessment'!H$18=$C$118,$E$118, TRUE,1),IF('Options Assessment'!H$34=$C$121,$E$121,1),_xlfn.IFS('Options Assessment'!H$17=$C$127,$E$127, 'Options Assessment'!H$17=$C$128,$E$128, TRUE,1),_xlfn.IFS('Options Assessment'!H$6=$C$130,$E$130, 'Options Assessment'!H$6=$C$131,$E$131, 'Options Assessment'!H$6=$C$132,$E$132,TRUE,1))","v":1},{"$f":"PRODUCT(_xlfn.IFS('Options Assessment'!I$7=$C$5,$E$5, 'Options Assessment'!I$7=$C$6,$E$6, TRUE,1), _xlfn.IFS('Options Assessment'!I$8=$C$9,$E$9, 'Options Assessment'!I$8=$C$10,$E$10, TRUE,1), IF('Options Assessment'!I$9=$C$13,$E$13,1), IF('Options Assessment'!I$10=$C$16,$E$16,1), _xlfn.IFS('Options Assessment'!I$11=$C$19,$E$19, 'Options Assessment'!I$11=$C$20,$E$20, 'Options Assessment'!I$11=$C$21,$E$21, TRUE,1), IF('Options Assessment'!I$12=$C$24,$E$24,1), IF('Options Assessment'!I$13=$C$35,$E$35,1),IF('Options Assessment'!I$14=$C$38,$E$38,1),IF('Options Assessment'!I$19=$C$41,$E$41,1),IF('Options Assessment'!I$20=$C$44,$E$44,1),IF('Options Assessment'!I$21=$C$47,$E$47,1),IF('Options Assessment'!I$22=$C$50,$E$50,1),_xlfn.IFS('Options Assessment'!I$23=$C$54,$E$54, 'Options Assessment'!I$23=$C$55,$E$55, 'Options Assessment'!I$23=$C$56,$E$56, TRUE,1),_xlfn.IFS('Options Assessment'!I$24=$C$59,$E$59, 'Options Assessment'!I$24=$C$60,$E$60, TRUE,1),IF('Options Assessment'!I$25=$C$63,$E$63,1),IF('Options Assessment'!I$26=$C$66,$E$66,1),IF('Options Assessment'!I$27=$C$69,$E$69,1),IF('Options Assessment'!I$28=$C$73,$E$73,1),IF('Options Assessment'!I$29=$C$76,$E$76,1),IF('Options Assessment'!I$30=$C$80,$E$80,1),IF('Options Assessment'!I$15=$C$88,$E$88,1),_xlfn.IFS('Options Assessment'!I$16=$C$91,$E$91, 'Options Assessment'!I$16=$C$92,$E$92, 'Options Assessment'!I$16=$C$93,$E$93, 'Options Assessment'!I$16=$C$94,$E$94, 'Options Assessment'!I$16=$C$95,$E$95, TRUE,1),_xlfn.IFS( 'Options Assessment'!I$32=$C$98,$E$98, 'Options Assessment'!I$32=$C$99,$E$99, 'Options Assessment'!I$32=$C$100,$E$100, TRUE,1),IF('Options Assessment'!I$33=$C$103,$E$103,1),IF('Options Assessment'!I$35=$C$106,$E$106,1),_xlfn.IFS('Options Assessment'!I$18=$C$109,$E$109, 'Options Assessment'!I$18=$C$110,$E$110, 'Options Assessment'!I$18=$C$111,$E$111, 'Options Assessment'!I$18=$C$112,$E$112, 'Options Assessment'!I$18=$C$113,$E$113, 'Options Assessment'!I$18=$C$114,$E$114, 'Options Assessment'!I$18=$C$115,$E$115, 'Options Assessment'!I$18=$C$116,$E$116, 'Options Assessment'!I$18=$C$117,$E$117, 'Options Assessment'!I$18=$C$118,$E$118, TRUE,1),IF('Options Assessment'!I$34=$C$121,$E$121,1),_xlfn.IFS('Options Assessment'!I$17=$C$127,$E$127, 'Options Assessment'!I$17=$C$128,$E$128, TRUE,1),_xlfn.IFS('Options Assessment'!I$6=$C$130,$E$130, 'Options Assessment'!I$6=$C$131,$E$131, 'Options Assessment'!I$6=$C$132,$E$132,TRUE,1))","v":1},{"$f":"PRODUCT(_xlfn.IFS('Options Assessment'!J$7=$C$5,$E$5, 'Options Assessment'!J$7=$C$6,$E$6, TRUE,1), _xlfn.IFS('Options Assessment'!J$8=$C$9,$E$9, 'Options Assessment'!J$8=$C$10,$E$10, TRUE,1), IF('Options Assessment'!J$9=$C$13,$E$13,1), IF('Options Assessment'!J$10=$C$16,$E$16,1), _xlfn.IFS('Options Assessment'!J$11=$C$19,$E$19, 'Options Assessment'!J$11=$C$20,$E$20, 'Options Assessment'!J$11=$C$21,$E$21, TRUE,1), IF('Options Assessment'!J$12=$C$24,$E$24,1), IF('Options Assessment'!J$13=$C$35,$E$35,1),IF('Options Assessment'!J$14=$C$38,$E$38,1),IF('Options Assessment'!J$19=$C$41,$E$41,1),IF('Options Assessment'!J$20=$C$44,$E$44,1),IF('Options Assessment'!J$21=$C$47,$E$47,1),IF('Options Assessment'!J$22=$C$50,$E$50,1),_xlfn.IFS('Options Assessment'!J$23=$C$54,$E$54, 'Options Assessment'!J$23=$C$55,$E$55, 'Options Assessment'!J$23=$C$56,$E$56, TRUE,1),_xlfn.IFS('Options Assessment'!J$24=$C$59,$E$59, 'Options Assessment'!J$24=$C$60,$E$60, TRUE,1),IF('Options Assessment'!J$25=$C$63,$E$63,1),IF('Options Assessment'!J$26=$C$66,$E$66,1),IF('Options Assessment'!J$27=$C$69,$E$69,1),IF('Options Assessment'!J$28=$C$73,$E$73,1),IF('Options Assessment'!J$29=$C$76,$E$76,1),IF('Options Assessment'!J$30=$C$80,$E$80,1),IF('Options Assessment'!J$15=$C$88,$E$88,1),_xlfn.IFS('Options Assessment'!J$16=$C$91,$E$91, 'Options Assessment'!J$16=$C$92,$E$92, 'Options Assessment'!J$16=$C$93,$E$93, 'Options Assessment'!J$16=$C$94,$E$94, 'Options Assessment'!J$16=$C$95,$E$95, TRUE,1),_xlfn.IFS( 'Options Assessment'!J$32=$C$98,$E$98, 'Options Assessment'!J$32=$C$99,$E$99, 'Options Assessment'!J$32=$C$100,$E$100, TRUE,1),IF('Options Assessment'!J$33=$C$103,$E$103,1),IF('Options Assessment'!J$35=$C$106,$E$106,1),_xlfn.IFS('Options Assessment'!J$18=$C$109,$E$109, 'Options Assessment'!J$18=$C$110,$E$110, 'Options Assessment'!J$18=$C$111,$E$111, 'Options Assessment'!J$18=$C$112,$E$112, 'Options Assessment'!J$18=$C$113,$E$113, 'Options Assessment'!J$18=$C$114,$E$114, 'Options Assessment'!J$18=$C$115,$E$115, 'Options Assessment'!J$18=$C$116,$E$116, 'Options Assessment'!J$18=$C$117,$E$117, 'Options Assessment'!J$18=$C$118,$E$118, TRUE,1),IF('Options Assessment'!J$34=$C$121,$E$121,1),_xlfn.IFS('Options Assessment'!J$17=$C$127,$E$127, 'Options Assessment'!J$17=$C$128,$E$128, TRUE,1),_xlfn.IFS('Options Assessment'!J$6=$C$130,$E$130, 'Options Assessment'!J$6=$C$131,$E$131, 'Options Assessment'!J$6=$C$132,$E$132,TRUE,1))","v":1},{"$f":"PRODUCT(_xlfn.IFS('Options Assessment'!K$7=$C$5,$E$5, 'Options Assessment'!K$7=$C$6,$E$6, TRUE,1), _xlfn.IFS('Options Assessment'!K$8=$C$9,$E$9, 'Options Assessment'!K$8=$C$10,$E$10, TRUE,1), IF('Options Assessment'!K$9=$C$13,$E$13,1), IF('Options Assessment'!K$10=$C$16,$E$16,1), _xlfn.IFS('Options Assessment'!K$11=$C$19,$E$19, 'Options Assessment'!K$11=$C$20,$E$20, 'Options Assessment'!K$11=$C$21,$E$21, TRUE,1), IF('Options Assessment'!K$12=$C$24,$E$24,1), IF('Options Assessment'!K$13=$C$35,$E$35,1),IF('Options Assessment'!K$14=$C$38,$E$38,1),IF('Options Assessment'!K$19=$C$41,$E$41,1),IF('Options Assessment'!K$20=$C$44,$E$44,1),IF('Options Assessment'!K$21=$C$47,$E$47,1),IF('Options Assessment'!K$22=$C$50,$E$50,1),_xlfn.IFS('Options Assessment'!K$23=$C$54,$E$54, 'Options Assessment'!K$23=$C$55,$E$55, 'Options Assessment'!K$23=$C$56,$E$56, TRUE,1),_xlfn.IFS('Options Assessment'!K$24=$C$59,$E$59, 'Options Assessment'!K$24=$C$60,$E$60, TRUE,1),IF('Options Assessment'!K$25=$C$63,$E$63,1),IF('Options Assessment'!K$26=$C$66,$E$66,1),IF('Options Assessment'!K$27=$C$69,$E$69,1),IF('Options Assessment'!K$28=$C$73,$E$73,1),IF('Options Assessment'!K$29=$C$76,$E$76,1),IF('Options Assessment'!K$30=$C$80,$E$80,1),IF('Options Assessment'!K$15=$C$88,$E$88,1),_xlfn.IFS('Options Assessment'!K$16=$C$91,$E$91, 'Options Assessment'!K$16=$C$92,$E$92, 'Options Assessment'!K$16=$C$93,$E$93, 'Options Assessment'!K$16=$C$94,$E$94, 'Options Assessment'!K$16=$C$95,$E$95, TRUE,1),_xlfn.IFS( 'Options Assessment'!K$32=$C$98,$E$98, 'Options Assessment'!K$32=$C$99,$E$99, 'Options Assessment'!K$32=$C$100,$E$100, TRUE,1),IF('Options Assessment'!K$33=$C$103,$E$103,1),IF('Options Assessment'!K$35=$C$106,$E$106,1),_xlfn.IFS('Options Assessment'!K$18=$C$109,$E$109, 'Options Assessment'!K$18=$C$110,$E$110, 'Options Assessment'!K$18=$C$111,$E$111, 'Options Assessment'!K$18=$C$112,$E$112, 'Options Assessment'!K$18=$C$113,$E$113, 'Options Assessment'!K$18=$C$114,$E$114, 'Options Assessment'!K$18=$C$115,$E$115, 'Options Assessment'!K$18=$C$116,$E$116, 'Options Assessment'!K$18=$C$117,$E$117, 'Options Assessment'!K$18=$C$118,$E$118, TRUE,1),IF('Options Assessment'!K$34=$C$121,$E$121,1),_xlfn.IFS('Options Assessment'!K$17=$C$127,$E$127, 'Options Assessment'!K$17=$C$128,$E$128, TRUE,1),_xlfn.IFS('Options Assessment'!K$6=$C$130,$E$130, 'Options Assessment'!K$6=$C$131,$E$131, 'Options Assessment'!K$6=$C$132,$E$132,TRUE,1))","v":1},{"$f":"PRODUCT(_xlfn.IFS('Options Assessment'!L$7=$C$5,$E$5, 'Options Assessment'!L$7=$C$6,$E$6, TRUE,1), _xlfn.IFS('Options Assessment'!L$8=$C$9,$E$9, 'Options Assessment'!L$8=$C$10,$E$10, TRUE,1), IF('Options Assessment'!L$9=$C$13,$E$13,1), IF('Options Assessment'!L$10=$C$16,$E$16,1), _xlfn.IFS('Options Assessment'!L$11=$C$19,$E$19, 'Options Assessment'!L$11=$C$20,$E$20, 'Options Assessment'!L$11=$C$21,$E$21, TRUE,1), IF('Options Assessment'!L$12=$C$24,$E$24,1), IF('Options Assessment'!L$13=$C$35,$E$35,1),IF('Options Assessment'!L$14=$C$38,$E$38,1),IF('Options Assessment'!L$19=$C$41,$E$41,1),IF('Options Assessment'!L$20=$C$44,$E$44,1),IF('Options Assessment'!L$21=$C$47,$E$47,1),IF('Options Assessment'!L$22=$C$50,$E$50,1),_xlfn.IFS('Options Assessment'!L$23=$C$54,$E$54, 'Options Assessment'!L$23=$C$55,$E$55, 'Options Assessment'!L$23=$C$56,$E$56, TRUE,1),_xlfn.IFS('Options Assessment'!L$24=$C$59,$E$59, 'Options Assessment'!L$24=$C$60,$E$60, TRUE,1),IF('Options Assessment'!L$25=$C$63,$E$63,1),IF('Options Assessment'!L$26=$C$66,$E$66,1),IF('Options Assessment'!L$27=$C$69,$E$69,1),IF('Options Assessment'!L$28=$C$73,$E$73,1),IF('Options Assessment'!L$29=$C$76,$E$76,1),IF('Options Assessment'!L$30=$C$80,$E$80,1),IF('Options Assessment'!L$15=$C$88,$E$88,1),_xlfn.IFS('Options Assessment'!L$16=$C$91,$E$91, 'Options Assessment'!L$16=$C$92,$E$92, 'Options Assessment'!L$16=$C$93,$E$93, 'Options Assessment'!L$16=$C$94,$E$94, 'Options Assessment'!L$16=$C$95,$E$95, TRUE,1),_xlfn.IFS( 'Options Assessment'!L$32=$C$98,$E$98, 'Options Assessment'!L$32=$C$99,$E$99, 'Options Assessment'!L$32=$C$100,$E$100, TRUE,1),IF('Options Assessment'!L$33=$C$103,$E$103,1),IF('Options Assessment'!L$35=$C$106,$E$106,1),_xlfn.IFS('Options Assessment'!L$18=$C$109,$E$109, 'Options Assessment'!L$18=$C$110,$E$110, 'Options Assessment'!L$18=$C$111,$E$111, 'Options Assessment'!L$18=$C$112,$E$112, 'Options Assessment'!L$18=$C$113,$E$113, 'Options Assessment'!L$18=$C$114,$E$114, 'Options Assessment'!L$18=$C$115,$E$115, 'Options Assessment'!L$18=$C$116,$E$116, 'Options Assessment'!L$18=$C$117,$E$117, 'Options Assessment'!L$18=$C$118,$E$118, TRUE,1),IF('Options Assessment'!L$34=$C$121,$E$121,1),_xlfn.IFS('Options Assessment'!L$17=$C$127,$E$127, 'Options Assessment'!L$17=$C$128,$E$128, TRUE,1),_xlfn.IFS('Options Assessment'!L$6=$C$130,$E$130, 'Options Assessment'!L$6=$C$131,$E$131, 'Options Assessment'!L$6=$C$132,$E$132,TRUE,1))","v":1}]
["Midblock Crash Modification",null,null,null,null,null,null,null,null,null,null,"Midblock",{"$f":"PRODUCT(_xlfn.IFS('Options Assessment'!#REF!=$C$5,$F$5, 'Options Assessment'!#REF!=$C$6,$F$6, TRUE,1), _xlfn.IFS('Options Assessment'!#REF!=$C$9,$F$9, 'Options Assessment'!#REF!=$C$10,$F$10, TRUE,1), IF('Options Assessment'!#REF!=$C$13,$F$13,1), IF('Options Assessment'!#REF!=$C$16,$F$16,1), _xlfn.IFS('Options Assessment'!#REF!=$C$19,$F$19, 'Options Assessment'!#REF!=$C$20,$F$20, 'Options Assessment'!#REF!=$C$21,$F$21, TRUE,1), IF('Options Assessment'!#REF!=$C$24,$F$24,1), IF('Options Assessment'!#REF!=$C$27,$F$27,1),IF('Options Assessment'!#REF!=$C$31,$F$31,1),IF('Options Assessment'!#REF!=$C$35,$F$35,1),IF('Options Assessment'!#REF!=$C$38,$F$38,1),IF('Options Assessment'!#REF!=$C$41,$F$41,1),IF('Options Assessment'!#REF!=$C$44,$F$44,1),IF('Options Assessment'!#REF!=$C$47,$F$47,1),IF('Options Assessment'!#REF!=$C$50,$F$50,1),_xlfn.IFS('Options Assessment'!#REF!=$C$54,$F$54, 'Options Assessment'!#REF!=$C$55,$F$55, 'Options Assessment'!#REF!=$C$56,$F$56, TRUE,1),_xlfn.IFS('Options Assessment'!#REF!=$C$59,$F$59, 'Options Assessment'!#REF!=$C$60,$F$60, TRUE,1),IF('Options Assessment'!#REF!=$C$63,$F$63,1),IF('Options Assessment'!#REF!=$C$66,$F$66,1),IF('Options Assessment'!#REF!=$C$69,$F$69,1),IF('Options Assessment'!#REF!=$C$73,$F$73,1),IF('Options Assessment'!#REF!=$C$76,$F$76,1),IF('Options Assessment'!#REF!=$C$80,$F$80,1),IF('Options Assessment'!#REF!=$C$88,$F$88,1),_xlfn.IFS('Options Assessment'!#REF!=$C$91,$F$91, 'Options Assessment'!#REF!=$C$92,$F$92, 'Options Assessment'!#REF!=$C$93,$F$93, 'Options Assessment'!#REF!=$C$94,$F$94, 'Options Assessment'!#REF!=$C$95,$F$95, TRUE,1),_xlfn.IFS( 'Options Assessment'!#REF!=$C$98,$F$98, 'Options Assessment'!#REF!=$C$99,$F$99, 'Options Assessment'!#REF!=$C$100,$F$100, TRUE,1),IF('Options Assessment'!#REF!=$C$103,$F$103,1),IF('Options Assessment'!#REF!=$C$106,$F$106,1),_xlfn.IFS('Options Assessment'!#REF!=$C$109,$F$109, 'Options Assessment'!#REF!=$C$110,$F$110, 'Options Assessment'!#REF!=$C$111,$F$111, 'Options Assessment'!#REF!=$C$112,$F$112, 'Options Assessment'!#REF!=$C$113,$F$113, 'Options Assessment'!#REF!=$C$114,$F$114, 'Options Assessment'!#REF!=$C$115,$F$115, 'Options Assessment'!#REF!=$C$116,$F$116, 'Options Assessment'!#REF!=$C$117,$F$117, 'Options Assessment'!#REF!=$C$118,$F$118, TRUE,1),IF('Options Assessment'!#REF!=$C$121,$F$121,1),_xlfn.IFS('Options Assessment'!#REF!=$C$127,$F$127, 'Options Assessment'!#REF!=$C$128,$F$128, TRUE,1))","v":{"$error":"#REF!"}},{"$f":"PRODUCT(_xlfn.IFS('Options Assessment'!C$7=$C$5,$F$5, 'Options Assessment'!C$7=$C$6,$F$6, TRUE,1), _xlfn.IFS('Options Assessment'!C$8=$C$9,$F$9, 'Options Assessment'!C$8=$C$10,$F$10, TRUE,1), IF('Options Assessment'!C$9=$C$13,$F$13,1), IF('Options Assessment'!C$10=$C$16,$F$16,1), _xlfn.IFS('Options Assessment'!C$11=$C$19,$F$19, 'Options Assessment'!C$11=$C$20,$F$20, 'Options Assessment'!C$11=$C$21,$F$21, TRUE,1), IF('Options Assessment'!C$12=$C$24,$F$24,1), IF('Options Assessment'!C$13=$C$35,$F$35,1),IF('Options Assessment'!C$14=$C$38,$F$38,1),IF('Options Assessment'!C$19=$C$41,$F$41,1),IF('Options Assessment'!C$20=$C$44,$F$44,1),IF('Options Assessment'!C$21=$C$47,$F$47,1),IF('Options Assessment'!C$22=$C$50,$F$50,1),_xlfn.IFS('Options Assessment'!C$23=$C$54,$F$54, 'Options Assessment'!C$23=$C$55,$F$55, 'Options Assessment'!C$23=$C$56,$F$56, TRUE,1),_xlfn.IFS('Options Assessment'!C$24=$C$59,$F$59, 'Options Assessment'!C$24=$C$60,$F$60, TRUE,1),IF('Options Assessment'!C$25=$C$63,$F$63,1),IF('Options Assessment'!C$26=$C$66,$F$66,1),IF('Options Assessment'!C$27=$C$69,$F$69,1),IF('Options Assessment'!C$28=$C$73,$F$73,1),IF('Options Assessment'!C$29=$C$76,$F$76,1),IF('Options Assessment'!C$30=$C$80,$F$80,1),IF('Options Assessment'!C$15=$C$88,$F$88,1),_xlfn.IFS('Options Assessment'!C$16=$C$91,$F$91, 'Options Assessment'!C$16=$C$92,$F$92, 'Options Assessment'!C$16=$C$93,$F$93, 'Options Assessment'!C$16=$C$94,$F$94, 'Options Assessment'!C$16=$C$95,$F$95, TRUE,1),_xlfn.IFS( 'Options Assessment'!C$32=$C$98,$F$98, 'Options Assessment'!C$32=$C$99,$F$99, 'Options Assessment'!C$32=$C$100,$F$100, TRUE,1),IF('Options Assessment'!C$33=$C$103,$F$103,1),IF('Options Assessment'!C$35=$C$106,$F$106,1),_xlfn.IFS('Options Assessment'!C$18=$C$109,$F$109, 'Options Assessment'!C$18=$C$110,$F$110, 'Options Assessment'!C$18=$C$111,$F$111, 'Options Assessment'!C$18=$C$112,$F$112, 'Options Assessment'!C$18=$C$113,$F$113, 'Options Assessment'!C$18=$C$114,$F$114, 'Options Assessment'!C$18=$C$115,$F$115, 'Options Assessment'!C$18=$C$116,$F$116, 'Options Assessment'!C$18=$C$117,$F$117, 'Options Assessment'!C$18=$C$118,$F$118, TRUE,1),IF('Options Assessment'!C$34=$C$121,$F$121,1),_xlfn.IFS('Options Assessment'!C$17=$C$127,$F$127, 'Options Assessment'!C$17=$C$128,$F$128, TRUE,1),_xlfn.IFS('Options Assessment'!C$6=$C$130,$F$130, 'Options Assessment'!C$6=$C$131,$F$131, 'Options Assessment'!C$6=$C$132,$F$132,TRUE,1))","v":1},{"$f":"PRODUCT(_xlfn.IFS('Options Assessment'!D$7=$C$5,$F$5, 'Options Assessment'!D$7=$C$6,$F$6, TRUE,1), _xlfn.IFS('Options Assessment'!D$8=$C$9,$F$9, 'Options Assessment'!D$8=$C$10,$F$10, TRUE,1), IF('Options Assessment'!D$9=$C$13,$F$13,1), IF('Options Assessment'!D$10=$C$16,$F$16,1), _xlfn.IFS('Options Assessment'!D$11=$C$19,$F$19, 'Options Assessment'!D$11=$C$20,$F$20, 'Options Assessment'!D$11=$C$21,$F$21, TRUE,1), IF('Options Assessment'!D$12=$C$24,$F$24,1), IF('Options Assessment'!D$13=$C$35,$F$35,1),IF('Options Assessment'!D$14=$C$38,$F$38,1),IF('Options Assessment'!D$19=$C$41,$F$41,1),IF('Options Assessment'!D$20=$C$44,$F$44,1),IF('Options Assessment'!D$21=$C$47,$F$47,1),IF('Options Assessment'!D$22=$C$50,$F$50,1),_xlfn.IFS('Options Assessment'!D$23=$C$54,$F$54, 'Options Assessment'!D$23=$C$55,$F$55, 'Options Assessment'!D$23=$C$56,$F$56, TRUE,1),_xlfn.IFS('Options Assessment'!D$24=$C$59,$F$59, 'Options Assessment'!D$24=$C$60,$F$60, TRUE,1),IF('Options Assessment'!D$25=$C$63,$F$63,1),IF('Options Assessment'!D$26=$C$66,$F$66,1),IF('Options Assessment'!D$27=$C$69,$F$69,1),IF('Options Assessment'!D$28=$C$73,$F$73,1),IF('Options Assessment'!D$29=$C$76,$F$76,1),IF('Options Assessment'!D$30=$C$80,$F$80,1),IF('Options Assessment'!D$15=$C$88,$F$88,1),_xlfn.IFS('Options Assessment'!D$16=$C$91,$F$91, 'Options Assessment'!D$16=$C$92,$F$92, 'Options Assessment'!D$16=$C$93,$F$93, 'Options Assessment'!D$16=$C$94,$F$94, 'Options Assessment'!D$16=$C$95,$F$95, TRUE,1),_xlfn.IFS( 'Options Assessment'!D$32=$C$98,$F$98, 'Options Assessment'!D$32=$C$99,$F$99, 'Options Assessment'!D$32=$C$100,$F$100, TRUE,1),IF('Options Assessment'!D$33=$C$103,$F$103,1),IF('Options Assessment'!D$35=$C$106,$F$106,1),_xlfn.IFS('Options Assessment'!D$18=$C$109,$F$109, 'Options Assessment'!D$18=$C$110,$F$110, 'Options Assessment'!D$18=$C$111,$F$111, 'Options Assessment'!D$18=$C$112,$F$112, 'Options Assessment'!D$18=$C$113,$F$113, 'Options Assessment'!D$18=$C$114,$F$114, 'Options Assessment'!D$18=$C$115,$F$115, 'Options Assessment'!D$18=$C$116,$F$116, 'Options Assessment'!D$18=$C$117,$F$117, 'Options Assessment'!D$18=$C$118,$F$118, TRUE,1),IF('Options Assessment'!D$34=$C$121,$F$121,1),_xlfn.IFS('Options Assessment'!D$17=$C$127,$F$127, 'Options Assessment'!D$17=$C$128,$F$128, TRUE,1),_xlfn.IFS('Options Assessment'!D$6=$C$130,$F$130, 'Options Assessment'!D$6=$C$131,$F$131, 'Options Assessment'!D$6=$C$132,$F$132,TRUE,1))","v":1},{"$f":"PRODUCT(_xlfn.IFS('Options Assessment'!E$7=$C$5,$F$5, 'Options Assessment'!E$7=$C$6,$F$6, TRUE,1), _xlfn.IFS('Options Assessment'!E$8=$C$9,$F$9, 'Options Assessment'!E$8=$C$10,$F$10, TRUE,1), IF('Options Assessment'!E$9=$C$13,$F$13,1), IF('Options Assessment'!E$10=$C$16,$F$16,1), _xlfn.IFS('Options Assessment'!E$11=$C$19,$F$19, 'Options Assessment'!E$11=$C$20,$F$20, 'Options Assessment'!E$11=$C$21,$F$21, TRUE,1), IF('Options Assessment'!E$12=$C$24,$F$24,1), IF('Options Assessment'!E$13=$C$35,$F$35,1),IF('Options Assessment'!E$14=$C$38,$F$38,1),IF('Options Assessment'!E$19=$C$41,$F$41,1),IF('Options Assessment'!E$20=$C$44,$F$44,1),IF('Options Assessment'!E$21=$C$47,$F$47,1),IF('Options Assessment'!E$22=$C$50,$F$50,1),_xlfn.IFS('Options Assessment'!E$23=$C$54,$F$54, 'Options Assessment'!E$23=$C$55,$F$55, 'Options Assessment'!E$23=$C$56,$F$56, TRUE,1),_xlfn.IFS('Options Assessment'!E$24=$C$59,$F$59, 'Options Assessment'!E$24=$C$60,$F$60, TRUE,1),IF('Options Assessment'!E$25=$C$63,$F$63,1),IF('Options Assessment'!E$26=$C$66,$F$66,1),IF('Options Assessment'!E$27=$C$69,$F$69,1),IF('Options Assessment'!E$28=$C$73,$F$73,1),IF('Options Assessment'!E$29=$C$76,$F$76,1),IF('Options Assessment'!E$30=$C$80,$F$80,1),IF('Options Assessment'!E$15=$C$88,$F$88,1),_xlfn.IFS('Options Assessment'!E$16=$C$91,$F$91, 'Options Assessment'!E$16=$C$92,$F$92, 'Options Assessment'!E$16=$C$93,$F$93, 'Options Assessment'!E$16=$C$94,$F$94, 'Options Assessment'!E$16=$C$95,$F$95, TRUE,1),_xlfn.IFS( 'Options Assessment'!E$32=$C$98,$F$98, 'Options Assessment'!E$32=$C$99,$F$99, 'Options Assessment'!E$32=$C$100,$F$100, TRUE,1),IF('Options Assessment'!E$33=$C$103,$F$103,1),IF('Options Assessment'!E$35=$C$106,$F$106,1),_xlfn.IFS('Options Assessment'!E$18=$C$109,$F$109, 'Options Assessment'!E$18=$C$110,$F$110, 'Options Assessment'!E$18=$C$111,$F$111, 'Options Assessment'!E$18=$C$112,$F$112, 'Options Assessment'!E$18=$C$113,$F$113, 'Options Assessment'!E$18=$C$114,$F$114, 'Options Assessment'!E$18=$C$115,$F$115, 'Options Assessment'!E$18=$C$116,$F$116, 'Options Assessment'!E$18=$C$117,$F$117, 'Options Assessment'!E$18=$C$118,$F$118, TRUE,1),IF('Options Assessment'!E$34=$C$121,$F$121,1),_xlfn.IFS('Options Assessment'!E$17=$C$127,$F$127, 'Options Assessment'!E$17=$C$128,$F$128, TRUE,1),_xlfn.IFS('Options Assessment'!E$6=$C$130,$F$130, 'Options Assessment'!E$6=$C$131,$F$131, 'Options Assessment'!E$6=$C$132,$F$132,TRUE,1))","v":1},{"$f":"PRODUCT(_xlfn.IFS('Options Assessment'!F$7=$C$5,$F$5, 'Options Assessment'!F$7=$C$6,$F$6, TRUE,1), _xlfn.IFS('Options Assessment'!F$8=$C$9,$F$9, 'Options Assessment'!F$8=$C$10,$F$10, TRUE,1), IF('Options Assessment'!F$9=$C$13,$F$13,1), IF('Options Assessment'!F$10=$C$16,$F$16,1), _xlfn.IFS('Options Assessment'!F$11=$C$19,$F$19, 'Options Assessment'!F$11=$C$20,$F$20, 'Options Assessment'!F$11=$C$21,$F$21, TRUE,1), IF('Options Assessment'!F$12=$C$24,$F$24,1), IF('Options Assessment'!F$13=$C$35,$F$35,1),IF('Options Assessment'!F$14=$C$38,$F$38,1),IF('Options Assessment'!F$19=$C$41,$F$41,1),IF('Options Assessment'!F$20=$C$44,$F$44,1),IF('Options Assessment'!F$21=$C$47,$F$47,1),IF('Options Assessment'!F$22=$C$50,$F$50,1),_xlfn.IFS('Options Assessment'!F$23=$C$54,$F$54, 'Options Assessment'!F$23=$C$55,$F$55, 'Options Assessment'!F$23=$C$56,$F$56, TRUE,1),_xlfn.IFS('Options Assessment'!F$24=$C$59,$F$59, 'Options Assessment'!F$24=$C$60,$F$60, TRUE,1),IF('Options Assessment'!F$25=$C$63,$F$63,1),IF('Options Assessment'!F$26=$C$66,$F$66,1),IF('Options Assessment'!F$27=$C$69,$F$69,1),IF('Options Assessment'!F$28=$C$73,$F$73,1),IF('Options Assessment'!F$29=$C$76,$F$76,1),IF('Options Assessment'!F$30=$C$80,$F$80,1),IF('Options Assessment'!F$15=$C$88,$F$88,1),_xlfn.IFS('Options Assessment'!F$16=$C$91,$F$91, 'Options Assessment'!F$16=$C$92,$F$92, 'Options Assessment'!F$16=$C$93,$F$93, 'Options Assessment'!F$16=$C$94,$F$94, 'Options Assessment'!F$16=$C$95,$F$95, TRUE,1),_xlfn.IFS( 'Options Assessment'!F$32=$C$98,$F$98, 'Options Assessment'!F$32=$C$99,$F$99, 'Options Assessment'!F$32=$C$100,$F$100, TRUE,1),IF('Options Assessment'!F$33=$C$103,$F$103,1),IF('Options Assessment'!F$35=$C$106,$F$106,1),_xlfn.IFS('Options Assessment'!F$18=$C$109,$F$109, 'Options Assessment'!F$18=$C$110,$F$110, 'Options Assessment'!F$18=$C$111,$F$111, 'Options Assessment'!F$18=$C$112,$F$112, 'Options Assessment'!F$18=$C$113,$F$113, 'Options Assessment'!F$18=$C$114,$F$114, 'Options Assessment'!F$18=$C$115,$F$115, 'Options Assessment'!F$18=$C$116,$F$116, 'Options Assessment'!F$18=$C$117,$F$117, 'Options Assessment'!F$18=$C$118,$F$118, TRUE,1),IF('Options Assessment'!F$34=$C$121,$F$121,1),_xlfn.IFS('Options Assessment'!F$17=$C$127,$F$127, 'Options Assessment'!F$17=$C$128,$F$128, TRUE,1),_xlfn.IFS('Options Assessment'!F$6=$C$130,$F$130, 'Options Assessment'!F$6=$C$131,$F$131, 'Options Assessment'!F$6=$C$132,$F$132,TRUE,1))","v":1},{"$f":"PRODUCT(_xlfn.IFS('Options Assessment'!G$7=$C$5,$F$5, 'Options Assessment'!G$7=$C$6,$F$6, TRUE,1), _xlfn.IFS('Options Assessment'!G$8=$C$9,$F$9, 'Options Assessment'!G$8=$C$10,$F$10, TRUE,1), IF('Options Assessment'!G$9=$C$13,$F$13,1), IF('Options Assessment'!G$10=$C$16,$F$16,1), _xlfn.IFS('Options Assessment'!G$11=$C$19,$F$19, 'Options Assessment'!G$11=$C$20,$F$20, 'Options Assessment'!G$11=$C$21,$F$21, TRUE,1), IF('Options Assessment'!G$12=$C$24,$F$24,1), IF('Options Assessment'!G$13=$C$35,$F$35,1),IF('Options Assessment'!G$14=$C$38,$F$38,1),IF('Options Assessment'!G$19=$C$41,$F$41,1),IF('Options Assessment'!G$20=$C$44,$F$44,1),IF('Options Assessment'!G$21=$C$47,$F$47,1),IF('Options Assessment'!G$22=$C$50,$F$50,1),_xlfn.IFS('Options Assessment'!G$23=$C$54,$F$54, 'Options Assessment'!G$23=$C$55,$F$55, 'Options Assessment'!G$23=$C$56,$F$56, TRUE,1),_xlfn.IFS('Options Assessment'!G$24=$C$59,$F$59, 'Options Assessment'!G$24=$C$60,$F$60, TRUE,1),IF('Options Assessment'!G$25=$C$63,$F$63,1),IF('Options Assessment'!G$26=$C$66,$F$66,1),IF('Options Assessment'!G$27=$C$69,$F$69,1),IF('Options Assessment'!G$28=$C$73,$F$73,1),IF('Options Assessment'!G$29=$C$76,$F$76,1),IF('Options Assessment'!G$30=$C$80,$F$80,1),IF('Options Assessment'!G$15=$C$88,$F$88,1),_xlfn.IFS('Options Assessment'!G$16=$C$91,$F$91, 'Options Assessment'!G$16=$C$92,$F$92, 'Options Assessment'!G$16=$C$93,$F$93, 'Options Assessment'!G$16=$C$94,$F$94, 'Options Assessment'!G$16=$C$95,$F$95, TRUE,1),_xlfn.IFS( 'Options Assessment'!G$32=$C$98,$F$98, 'Options Assessment'!G$32=$C$99,$F$99, 'Options Assessment'!G$32=$C$100,$F$100, TRUE,1),IF('Options Assessment'!G$33=$C$103,$F$103,1),IF('Options Assessment'!G$35=$C$106,$F$106,1),_xlfn.IFS('Options Assessment'!G$18=$C$109,$F$109, 'Options Assessment'!G$18=$C$110,$F$110, 'Options Assessment'!G$18=$C$111,$F$111, 'Options Assessment'!G$18=$C$112,$F$112, 'Options Assessment'!G$18=$C$113,$F$113, 'Options Assessment'!G$18=$C$114,$F$114, 'Options Assessment'!G$18=$C$115,$F$115, 'Options Assessment'!G$18=$C$116,$F$116, 'Options Assessment'!G$18=$C$117,$F$117, 'Options Assessment'!G$18=$C$118,$F$118, TRUE,1),IF('Options Assessment'!G$34=$C$121,$F$121,1),_xlfn.IFS('Options Assessment'!G$17=$C$127,$F$127, 'Options Assessment'!G$17=$C$128,$F$128, TRUE,1),_xlfn.IFS('Options Assessment'!G$6=$C$130,$F$130, 'Options Assessment'!G$6=$C$131,$F$131, 'Options Assessment'!G$6=$C$132,$F$132,TRUE,1))","v":1},{"$f":"PRODUCT(_xlfn.IFS('Options Assessment'!H$7=$C$5,$F$5, 'Options Assessment'!H$7=$C$6,$F$6, TRUE,1), _xlfn.IFS('Options Assessment'!H$8=$C$9,$F$9, 'Options Assessment'!H$8=$C$10,$F$10, TRUE,1), IF('Options Assessment'!H$9=$C$13,$F$13,1), IF('Options Assessment'!H$10=$C$16,$F$16,1), _xlfn.IFS('Options Assessment'!H$11=$C$19,$F$19, 'Options Assessment'!H$11=$C$20,$F$20, 'Options Assessment'!H$11=$C$21,$F$21, TRUE,1), IF('Options Assessment'!H$12=$C$24,$F$24,1), IF('Options Assessment'!H$13=$C$35,$F$35,1),IF('Options Assessment'!H$14=$C$38,$F$38,1),IF('Options Assessment'!H$19=$C$41,$F$41,1),IF('Options Assessment'!H$20=$C$44,$F$44,1),IF('Options Assessment'!H$21=$C$47,$F$47,1),IF('Options Assessment'!H$22=$C$50,$F$50,1),_xlfn.IFS('Options Assessment'!H$23=$C$54,$F$54, 'Options Assessment'!H$23=$C$55,$F$55, 'Options Assessment'!H$23=$C$56,$F$56, TRUE,1),_xlfn.IFS('Options Assessment'!H$24=$C$59,$F$59, 'Options Assessment'!H$24=$C$60,$F$60, TRUE,1),IF('Options Assessment'!H$25=$C$63,$F$63,1),IF('Options Assessment'!H$26=$C$66,$F$66,1),IF('Options Assessment'!H$27=$C$69,$F$69,1),IF('Options Assessment'!H$28=$C$73,$F$73,1),IF('Options Assessment'!H$29=$C$76,$F$76,1),IF('Options Assessment'!H$30=$C$80,$F$80,1),IF('Options Assessment'!H$15=$C$88,$F$88,1),_xlfn.IFS('Options Assessment'!H$16=$C$91,$F$91, 'Options Assessment'!H$16=$C$92,$F$92, 'Options Assessment'!H$16=$C$93,$F$93, 'Options Assessment'!H$16=$C$94,$F$94, 'Options Assessment'!H$16=$C$95,$F$95, TRUE,1),_xlfn.IFS( 'Options Assessment'!H$32=$C$98,$F$98, 'Options Assessment'!H$32=$C$99,$F$99, 'Options Assessment'!H$32=$C$100,$F$100, TRUE,1),IF('Options Assessment'!H$33=$C$103,$F$103,1),IF('Options Assessment'!H$35=$C$106,$F$106,1),_xlfn.IFS('Options Assessment'!H$18=$C$109,$F$109, 'Options Assessment'!H$18=$C$110,$F$110, 'Options Assessment'!H$18=$C$111,$F$111, 'Options Assessment'!H$18=$C$112,$F$112, 'Options Assessment'!H$18=$C$113,$F$113, 'Options Assessment'!H$18=$C$114,$F$114, 'Options Assessment'!H$18=$C$115,$F$115, 'Options Assessment'!H$18=$C$116,$F$116, 'Options Assessment'!H$18=$C$117,$F$117, 'Options Assessment'!H$18=$C$118,$F$118, TRUE,1),IF('Options Assessment'!H$34=$C$121,$F$121,1),_xlfn.IFS('Options Assessment'!H$17=$C$127,$F$127, 'Options Assessment'!H$17=$C$128,$F$128, TRUE,1),_xlfn.IFS('Options Assessment'!H$6=$C$130,$F$130, 'Options Assessment'!H$6=$C$131,$F$131, 'Options Assessment'!H$6=$C$132,$F$132,TRUE,1))","v":1},{"$f":"PRODUCT(_xlfn.IFS('Options Assessment'!I$7=$C$5,$F$5, 'Options Assessment'!I$7=$C$6,$F$6, TRUE,1), _xlfn.IFS('Options Assessment'!I$8=$C$9,$F$9, 'Options Assessment'!I$8=$C$10,$F$10, TRUE,1), IF('Options Assessment'!I$9=$C$13,$F$13,1), IF('Options Assessment'!I$10=$C$16,$F$16,1), _xlfn.IFS('Options Assessment'!I$11=$C$19,$F$19, 'Options Assessment'!I$11=$C$20,$F$20, 'Options Assessment'!I$11=$C$21,$F$21, TRUE,1), IF('Options Assessment'!I$12=$C$24,$F$24,1), IF('Options Assessment'!I$13=$C$35,$F$35,1),IF('Options Assessment'!I$14=$C$38,$F$38,1),IF('Options Assessment'!I$19=$C$41,$F$41,1),IF('Options Assessment'!I$20=$C$44,$F$44,1),IF('Options Assessment'!I$21=$C$47,$F$47,1),IF('Options Assessment'!I$22=$C$50,$F$50,1),_xlfn.IFS('Options Assessment'!I$23=$C$54,$F$54, 'Options Assessment'!I$23=$C$55,$F$55, 'Options Assessment'!I$23=$C$56,$F$56, TRUE,1),_xlfn.IFS('Options Assessment'!I$24=$C$59,$F$59, 'Options Assessment'!I$24=$C$60,$F$60, TRUE,1),IF('Options Assessment'!I$25=$C$63,$F$63,1),IF('Options Assessment'!I$26=$C$66,$F$66,1),IF('Options Assessment'!I$27=$C$69,$F$69,1),IF('Options Assessment'!I$28=$C$73,$F$73,1),IF('Options Assessment'!I$29=$C$76,$F$76,1),IF('Options Assessment'!I$30=$C$80,$F$80,1),IF('Options Assessment'!I$15=$C$88,$F$88,1),_xlfn.IFS('Options Assessment'!I$16=$C$91,$F$91, 'Options Assessment'!I$16=$C$92,$F$92, 'Options Assessment'!I$16=$C$93,$F$93, 'Options Assessment'!I$16=$C$94,$F$94, 'Options Assessment'!I$16=$C$95,$F$95, TRUE,1),_xlfn.IFS( 'Options Assessment'!I$32=$C$98,$F$98, 'Options Assessment'!I$32=$C$99,$F$99, 'Options Assessment'!I$32=$C$100,$F$100, TRUE,1),IF('Options Assessment'!I$33=$C$103,$F$103,1),IF('Options Assessment'!I$35=$C$106,$F$106,1),_xlfn.IFS('Options Assessment'!I$18=$C$109,$F$109, 'Options Assessment'!I$18=$C$110,$F$110, 'Options Assessment'!I$18=$C$111,$F$111, 'Options Assessment'!I$18=$C$112,$F$112, 'Options Assessment'!I$18=$C$113,$F$113, 'Options Assessment'!I$18=$C$114,$F$114, 'Options Assessment'!I$18=$C$115,$F$115, 'Options Assessment'!I$18=$C$116,$F$116, 'Options Assessment'!I$18=$C$117,$F$117, 'Options Assessment'!I$18=$C$118,$F$118, TRUE,1),IF('Options Assessment'!I$34=$C$121,$F$121,1),_xlfn.IFS('Options Assessment'!I$17=$C$127,$F$127, 'Options Assessment'!I$17=$C$128,$F$128, TRUE,1),_xlfn.IFS('Options Assessment'!I$6=$C$130,$F$130, 'Options Assessment'!I$6=$C$131,$F$131, 'Options Assessment'!I$6=$C$132,$F$132,TRUE,1))","v":1},{"$f":"PRODUCT(_xlfn.IFS('Options Assessment'!J$7=$C$5,$F$5, 'Options Assessment'!J$7=$C$6,$F$6, TRUE,1), _xlfn.IFS('Options Assessment'!J$8=$C$9,$F$9, 'Options Assessment'!J$8=$C$10,$F$10, TRUE,1), IF('Options Assessment'!J$9=$C$13,$F$13,1), IF('Options Assessment'!J$10=$C$16,$F$16,1), _xlfn.IFS('Options Assessment'!J$11=$C$19,$F$19, 'Options Assessment'!J$11=$C$20,$F$20, 'Options Assessment'!J$11=$C$21,$F$21, TRUE,1), IF('Options Assessment'!J$12=$C$24,$F$24,1), IF('Options Assessment'!J$13=$C$35,$F$35,1),IF('Options Assessment'!J$14=$C$38,$F$38,1),IF('Options Assessment'!J$19=$C$41,$F$41,1),IF('Options Assessment'!J$20=$C$44,$F$44,1),IF('Options Assessment'!J$21=$C$47,$F$47,1),IF('Options Assessment'!J$22=$C$50,$F$50,1),_xlfn.IFS('Options Assessment'!J$23=$C$54,$F$54, 'Options Assessment'!J$23=$C$55,$F$55, 'Options Assessment'!J$23=$C$56,$F$56, TRUE,1),_xlfn.IFS('Options Assessment'!J$24=$C$59,$F$59, 'Options Assessment'!J$24=$C$60,$F$60, TRUE,1),IF('Options Assessment'!J$25=$C$63,$F$63,1),IF('Options Assessment'!J$26=$C$66,$F$66,1),IF('Options Assessment'!J$27=$C$69,$F$69,1),IF('Options Assessment'!J$28=$C$73,$F$73,1),IF('Options Assessment'!J$29=$C$76,$F$76,1),IF('Options Assessment'!J$30=$C$80,$F$80,1),IF('Options Assessment'!J$15=$C$88,$F$88,1),_xlfn.IFS('Options Assessment'!J$16=$C$91,$F$91, 'Options Assessment'!J$16=$C$92,$F$92, 'Options Assessment'!J$16=$C$93,$F$93, 'Options Assessment'!J$16=$C$94,$F$94, 'Options Assessment'!J$16=$C$95,$F$95, TRUE,1),_xlfn.IFS( 'Options Assessment'!J$32=$C$98,$F$98, 'Options Assessment'!J$32=$C$99,$F$99, 'Options Assessment'!J$32=$C$100,$F$100, TRUE,1),IF('Options Assessment'!J$33=$C$103,$F$103,1),IF('Options Assessment'!J$35=$C$106,$F$106,1),_xlfn.IFS('Options Assessment'!J$18=$C$109,$F$109, 'Options Assessment'!J$18=$C$110,$F$110, 'Options Assessment'!J$18=$C$111,$F$111, 'Options Assessment'!J$18=$C$112,$F$112, 'Options Assessment'!J$18=$C$113,$F$113, 'Options Assessment'!J$18=$C$114,$F$114, 'Options Assessment'!J$18=$C$115,$F$115, 'Options Assessment'!J$18=$C$116,$F$116, 'Options Assessment'!J$18=$C$117,$F$117, 'Options Assessment'!J$18=$C$118,$F$118, TRUE,1),IF('Options Assessment'!J$34=$C$121,$F$121,1),_xlfn.IFS('Options Assessment'!J$17=$C$127,$F$127, 'Options Assessment'!J$17=$C$128,$F$128, TRUE,1),_xlfn.IFS('Options Assessment'!J$6=$C$130,$F$130, 'Options Assessment'!J$6=$C$131,$F$131, 'Options Assessment'!J$6=$C$132,$F$132,TRUE,1))","v":1},{"$f":"PRODUCT(_xlfn.IFS('Options Assessment'!K$7=$C$5,$F$5, 'Options Assessment'!K$7=$C$6,$F$6, TRUE,1), _xlfn.IFS('Options Assessment'!K$8=$C$9,$F$9, 'Options Assessment'!K$8=$C$10,$F$10, TRUE,1), IF('Options Assessment'!K$9=$C$13,$F$13,1), IF('Options Assessment'!K$10=$C$16,$F$16,1), _xlfn.IFS('Options Assessment'!K$11=$C$19,$F$19, 'Options Assessment'!K$11=$C$20,$F$20, 'Options Assessment'!K$11=$C$21,$F$21, TRUE,1), IF('Options Assessment'!K$12=$C$24,$F$24,1), IF('Options Assessment'!K$13=$C$35,$F$35,1),IF('Options Assessment'!K$14=$C$38,$F$38,1),IF('Options Assessment'!K$19=$C$41,$F$41,1),IF('Options Assessment'!K$20=$C$44,$F$44,1),IF('Options Assessment'!K$21=$C$47,$F$47,1),IF('Options Assessment'!K$22=$C$50,$F$50,1),_xlfn.IFS('Options Assessment'!K$23=$C$54,$F$54, 'Options Assessment'!K$23=$C$55,$F$55, 'Options Assessment'!K$23=$C$56,$F$56, TRUE,1),_xlfn.IFS('Options Assessment'!K$24=$C$59,$F$59, 'Options Assessment'!K$24=$C$60,$F$60, TRUE,1),IF('Options Assessment'!K$25=$C$63,$F$63,1),IF('Options Assessment'!K$26=$C$66,$F$66,1),IF('Options Assessment'!K$27=$C$69,$F$69,1),IF('Options Assessment'!K$28=$C$73,$F$73,1),IF('Options Assessment'!K$29=$C$76,$F$76,1),IF('Options Assessment'!K$30=$C$80,$F$80,1),IF('Options Assessment'!K$15=$C$88,$F$88,1),_xlfn.IFS('Options Assessment'!K$16=$C$91,$F$91, 'Options Assessment'!K$16=$C$92,$F$92, 'Options Assessment'!K$16=$C$93,$F$93, 'Options Assessment'!K$16=$C$94,$F$94, 'Options Assessment'!K$16=$C$95,$F$95, TRUE,1),_xlfn.IFS( 'Options Assessment'!K$32=$C$98,$F$98, 'Options Assessment'!K$32=$C$99,$F$99, 'Options Assessment'!K$32=$C$100,$F$100, TRUE,1),IF('Options Assessment'!K$33=$C$103,$F$103,1),IF('Options Assessment'!K$35=$C$106,$F$106,1),_xlfn.IFS('Options Assessment'!K$18=$C$109,$F$109, 'Options Assessment'!K$18=$C$110,$F$110, 'Options Assessment'!K$18=$C$111,$F$111, 'Options Assessment'!K$18=$C$112,$F$112, 'Options Assessment'!K$18=$C$113,$F$113, 'Options Assessment'!K$18=$C$114,$F$114, 'Options Assessment'!K$18=$C$115,$F$115, 'Options Assessment'!K$18=$C$116,$F$116, 'Options Assessment'!K$18=$C$117,$F$117, 'Options Assessment'!K$18=$C$118,$F$118, TRUE,1),IF('Options Assessment'!K$34=$C$121,$F$121,1),_xlfn.IFS('Options Assessment'!K$17=$C$127,$F$127, 'Options Assessment'!K$17=$C$128,$F$128, TRUE,1),_xlfn.IFS('Options Assessment'!K$6=$C$130,$F$130, 'Options Assessment'!K$6=$C$131,$F$131, 'Options Assessment'!K$6=$C$132,$F$132,TRUE,1))","v":1},{"$f":"PRODUCT(_xlfn.IFS('Options Assessment'!L$7=$C$5,$F$5, 'Options Assessment'!L$7=$C$6,$F$6, TRUE,1), _xlfn.IFS('Options Assessment'!L$8=$C$9,$F$9, 'Options Assessment'!L$8=$C$10,$F$10, TRUE,1), IF('Options Assessment'!L$9=$C$13,$F$13,1), IF('Options Assessment'!L$10=$C$16,$F$16,1), _xlfn.IFS('Options Assessment'!L$11=$C$19,$F$19, 'Options Assessment'!L$11=$C$20,$F$20, 'Options Assessment'!L$11=$C$21,$F$21, TRUE,1), IF('Options Assessment'!L$12=$C$24,$F$24,1), IF('Options Assessment'!L$13=$C$35,$F$35,1),IF('Options Assessment'!L$14=$C$38,$F$38,1),IF('Options Assessment'!L$19=$C$41,$F$41,1),IF('Options Assessment'!L$20=$C$44,$F$44,1),IF('Options Assessment'!L$21=$C$47,$F$47,1),IF('Options Assessment'!L$22=$C$50,$F$50,1),_xlfn.IFS('Options Assessment'!L$23=$C$54,$F$54, 'Options Assessment'!L$23=$C$55,$F$55, 'Options Assessment'!L$23=$C$56,$F$56, TRUE,1),_xlfn.IFS('Options Assessment'!L$24=$C$59,$F$59, 'Options Assessment'!L$24=$C$60,$F$60, TRUE,1),IF('Options Assessment'!L$25=$C$63,$F$63,1),IF('Options Assessment'!L$26=$C$66,$F$66,1),IF('Options Assessment'!L$27=$C$69,$F$69,1),IF('Options Assessment'!L$28=$C$73,$F$73,1),IF('Options Assessment'!L$29=$C$76,$F$76,1),IF('Options Assessment'!L$30=$C$80,$F$80,1),IF('Options Assessment'!L$15=$C$88,$F$88,1),_xlfn.IFS('Options Assessment'!L$16=$C$91,$F$91, 'Options Assessment'!L$16=$C$92,$F$92, 'Options Assessment'!L$16=$C$93,$F$93, 'Options Assessment'!L$16=$C$94,$F$94, 'Options Assessment'!L$16=$C$95,$F$95, TRUE,1),_xlfn.IFS( 'Options Assessment'!L$32=$C$98,$F$98, 'Options Assessment'!L$32=$C$99,$F$99, 'Options Assessment'!L$32=$C$100,$F$100, TRUE,1),IF('Options Assessment'!L$33=$C$103,$F$103,1),IF('Options Assessment'!L$35=$C$106,$F$106,1),_xlfn.IFS('Options Assessment'!L$18=$C$109,$F$109, 'Options Assessment'!L$18=$C$110,$F$110, 'Options Assessment'!L$18=$C$111,$F$111, 'Options Assessment'!L$18=$C$112,$F$112, 'Options Assessment'!L$18=$C$113,$F$113, 'Options Assessment'!L$18=$C$114,$F$114, 'Options Assessment'!L$18=$C$115,$F$115, 'Options Assessment'!L$18=$C$116,$F$116, 'Options Assessment'!L$18=$C$117,$F$117, 'Options Assessment'!L$18=$C$118,$F$118, TRUE,1),IF('Options Assessment'!L$34=$C$121,$F$121,1),_xlfn.IFS('Options Assessment'!L$17=$C$127,$F$127, 'Options Assessment'!L$17=$C$128,$F$128, TRUE,1),_xlfn.IFS('Options Assessment'!L$6=$C$130,$F$130, 'Options Assessment'!L$6=$C$131,$F$131, 'Options Assessment'!L$6=$C$132,$F$132,TRUE,1))","v":1}]
[null,null,null,null,null,null,null,null,null,null,null,"Priority_Intersection",{"$f":"PRODUCT(_xlfn.IFS('Options Assessment'!#REF!=$C$5,$G$5, 'Options Assessment'!#REF!=$C$6,$G$6, TRUE,1), _xlfn.IFS('Options Assessment'!#REF!=$C$9,$G$9, 'Options Assessment'!#REF!=$C$10,$G$10, TRUE,1), IF('Options Assessment'!#REF!=$C$13,$G$13,1), IF('Options Assessment'!#REF!=$C$16,$G$16,1), _xlfn.IFS('Options Assessment'!#REF!=$C$19,$G$19, 'Options Assessment'!#REF!=$C$20,$G$20, 'Options Assessment'!#REF!=$C$21,$G$21, TRUE,1), IF('Options Assessment'!#REF!=$C$24,$G$24,1), IF('Options Assessment'!#REF!=$C$27,$G$27,1),IF('Options Assessment'!#REF!=$C$31,$G$31,1),IF('Options Assessment'!#REF!=$C$35,$G$35,1),IF('Options Assessment'!#REF!=$C$38,$G$38,1),IF('Options Assessment'!#REF!=$C$41,$G$41,1),IF('Options Assessment'!#REF!=$C$44,$G$44,1),IF('Options Assessment'!#REF!=$C$47,$G$47,1),IF('Options Assessment'!#REF!=$C$50,$G$50,1),_xlfn.IFS('Options Assessment'!#REF!=$C$54,$G$54, 'Options Assessment'!#REF!=$C$55,$G$55, 'Options Assessment'!#REF!=$C$56,$G$56, TRUE,1),_xlfn.IFS('Options Assessment'!#REF!=$C$59,$G$59, 'Options Assessment'!#REF!=$C$60,$G$60, TRUE,1),IF('Options Assessment'!#REF!=$C$63,$G$63,1),IF('Options Assessment'!#REF!=$C$66,$G$66,1),IF('Options Assessment'!#REF!=$C$69,$G$69,1),IF('Options Assessment'!#REF!=$C$73,$G$73,1),IF('Options Assessment'!#REF!=$C$76,$G$76,1),IF('Options Assessment'!#REF!=$C$80,$G$80,1),IF('Options Assessment'!#REF!=$C$88,$G$88,1),_xlfn.IFS('Options Assessment'!#REF!=$C$91,$G$91, 'Options Assessment'!#REF!=$C$92,$G$92, 'Options Assessment'!#REF!=$C$93,$G$93, 'Options Assessment'!#REF!=$C$94,$G$94, 'Options Assessment'!#REF!=$C$95,$G$95, TRUE,1),_xlfn.IFS( 'Options Assessment'!#REF!=$C$98,$G$98, 'Options Assessment'!#REF!=$C$99,$G$99, 'Options Assessment'!#REF!=$C$100,$G$100, TRUE,1),IF('Options Assessment'!#REF!=$C$103,$G$103,1),IF('Options Assessment'!#REF!=$C$106,$G$106,1),_xlfn.IFS('Options Assessment'!#REF!=$C$109,$G$109, 'Options Assessment'!#REF!=$C$110,$G$110, 'Options Assessment'!#REF!=$C$111,$G$111, 'Options Assessment'!#REF!=$C$112,$G$112, 'Options Assessment'!#REF!=$C$113,$G$113, 'Options Assessment'!#REF!=$C$114,$G$114, 'Options Assessment'!#REF!=$C$115,$G$115, 'Options Assessment'!#REF!=$C$116,$G$116, 'Options Assessment'!#REF!=$C$117,$G$117, 'Options Assessment'!#REF!=$C$118,$G$118, TRUE,1),IF('Options Assessment'!#REF!=$C$121,$G$121,1),_xlfn.IFS('Options Assessment'!#REF!=$C$127,$G$127, 'Options Assessment'!#REF!=$C$128,$G$128, TRUE,1))","v":{"$error":"#REF!"}},{"$f":"PRODUCT(_xlfn.IFS('Options Assessment'!C$7=$C$5,$G$5, 'Options Assessment'!C$7=$C$6,$G$6, TRUE,1), _xlfn.IFS('Options Assessment'!C$8=$C$9,$G$9, 'Options Assessment'!C$8=$C$10,$G$10, TRUE,1), IF('Options Assessment'!C$9=$C$13,$G$13,1), IF('Options Assessment'!C$10=$C$16,$G$16,1), _xlfn.IFS('Options Assessment'!C$11=$C$19,$G$19, 'Options Assessment'!C$11=$C$20,$G$20, 'Options Assessment'!C$11=$C$21,$G$21, TRUE,1), IF('Options Assessment'!C$12=$C$24,$G$24,1), IF('Options Assessment'!C$13=$C$35,$G$35,1),IF('Options Assessment'!C$14=$C$38,$G$38,1),IF('Options Assessment'!C$19=$C$41,$G$41,1),IF('Options Assessment'!C$20=$C$44,$G$44,1),IF('Options Assessment'!C$21=$C$47,$G$47,1),IF('Options Assessment'!C$22=$C$50,$G$50,1),_xlfn.IFS('Options Assessment'!C$23=$C$54,$G$54, 'Options Assessment'!C$23=$C$55,$G$55, 'Options Assessment'!C$23=$C$56,$G$56, TRUE,1),_xlfn.IFS('Options Assessment'!C$24=$C$59,$G$59, 'Options Assessment'!C$24=$C$60,$G$60, TRUE,1),IF('Options Assessment'!C$25=$C$63,$G$63,1),IF('Options Assessment'!C$26=$C$66,$G$66,1),IF('Options Assessment'!C$27=$C$69,$G$69,1),IF('Options Assessment'!C$28=$C$73,$G$73,1),IF('Options Assessment'!C$29=$C$76,$G$76,1),IF('Options Assessment'!C$30=$C$80,$G$80,1),IF('Options Assessment'!C$15=$C$88,$G$88,1),_xlfn.IFS('Options Assessment'!C$16=$C$91,$G$91, 'Options Assessment'!C$16=$C$92,$G$92, 'Options Assessment'!C$16=$C$93,$G$93, 'Options Assessment'!C$16=$C$94,$G$94, 'Options Assessment'!C$16=$C$95,$G$95, TRUE,1),_xlfn.IFS( 'Options Assessment'!C$32=$C$98,$G$98, 'Options Assessment'!C$32=$C$99,$G$99, 'Options Assessment'!C$32=$C$100,$G$100, TRUE,1),IF('Options Assessment'!C$33=$C$103,$G$103,1),IF('Options Assessment'!C$35=$C$106,$G$106,1),_xlfn.IFS('Options Assessment'!C$18=$C$109,$G$109, 'Options Assessment'!C$18=$C$110,$G$110, 'Options Assessment'!C$18=$C$111,$G$111, 'Options Assessment'!C$18=$C$112,$G$112, 'Options Assessment'!C$18=$C$113,$G$113, 'Options Assessment'!C$18=$C$114,$G$114, 'Options Assessment'!C$18=$C$115,$G$115, 'Options Assessment'!C$18=$C$116,$G$116, 'Options Assessment'!C$18=$C$117,$G$117, 'Options Assessment'!C$18=$C$118,$G$118, TRUE,1),IF('Options Assessment'!C$34=$C$121,$G$121,1),_xlfn.IFS('Options Assessment'!C$17=$C$127,$G$127, 'Options Assessment'!C$17=$C$128,$G$128, TRUE,1),_xlfn.IFS('Options Assessment'!C$6=$C$130,$F$130, 'Options Assessment'!C$6=$C$131,$F$131, 'Options Assessment'!C$6=$C$132,$F$132,TRUE,1))","v":1},{"$f":"PRODUCT(_xlfn.IFS('Options Assessment'!D$7=$C$5,$G$5, 'Options Assessment'!D$7=$C$6,$G$6, TRUE,1), _xlfn.IFS('Options Assessment'!D$8=$C$9,$G$9, 'Options Assessment'!D$8=$C$10,$G$10, TRUE,1), IF('Options Assessment'!D$9=$C$13,$G$13,1), IF('Options Assessment'!D$10=$C$16,$G$16,1), _xlfn.IFS('Options Assessment'!D$11=$C$19,$G$19, 'Options Assessment'!D$11=$C$20,$G$20, 'Options Assessment'!D$11=$C$21,$G$21, TRUE,1), IF('Options Assessment'!D$12=$C$24,$G$24,1), IF('Options Assessment'!D$13=$C$35,$G$35,1),IF('Options Assessment'!D$14=$C$38,$G$38,1),IF('Options Assessment'!D$19=$C$41,$G$41,1),IF('Options Assessment'!D$20=$C$44,$G$44,1),IF('Options Assessment'!D$21=$C$47,$G$47,1),IF('Options Assessment'!D$22=$C$50,$G$50,1),_xlfn.IFS('Options Assessment'!D$23=$C$54,$G$54, 'Options Assessment'!D$23=$C$55,$G$55, 'Options Assessment'!D$23=$C$56,$G$56, TRUE,1),_xlfn.IFS('Options Assessment'!D$24=$C$59,$G$59, 'Options Assessment'!D$24=$C$60,$G$60, TRUE,1),IF('Options Assessment'!D$25=$C$63,$G$63,1),IF('Options Assessment'!D$26=$C$66,$G$66,1),IF('Options Assessment'!D$27=$C$69,$G$69,1),IF('Options Assessment'!D$28=$C$73,$G$73,1),IF('Options Assessment'!D$29=$C$76,$G$76,1),IF('Options Assessment'!D$30=$C$80,$G$80,1),IF('Options Assessment'!D$15=$C$88,$G$88,1),_xlfn.IFS('Options Assessment'!D$16=$C$91,$G$91, 'Options Assessment'!D$16=$C$92,$G$92, 'Options Assessment'!D$16=$C$93,$G$93, 'Options Assessment'!D$16=$C$94,$G$94, 'Options Assessment'!D$16=$C$95,$G$95, TRUE,1),_xlfn.IFS( 'Options Assessment'!D$32=$C$98,$G$98, 'Options Assessment'!D$32=$C$99,$G$99, 'Options Assessment'!D$32=$C$100,$G$100, TRUE,1),IF('Options Assessment'!D$33=$C$103,$G$103,1),IF('Options Assessment'!D$35=$C$106,$G$106,1),_xlfn.IFS('Options Assessment'!D$18=$C$109,$G$109, 'Options Assessment'!D$18=$C$110,$G$110, 'Options Assessment'!D$18=$C$111,$G$111, 'Options Assessment'!D$18=$C$112,$G$112, 'Options Assessment'!D$18=$C$113,$G$113, 'Options Assessment'!D$18=$C$114,$G$114, 'Options Assessment'!D$18=$C$115,$G$115, 'Options Assessment'!D$18=$C$116,$G$116, 'Options Assessment'!D$18=$C$117,$G$117, 'Options Assessment'!D$18=$C$118,$G$118, TRUE,1),IF('Options Assessment'!D$34=$C$121,$G$121,1),_xlfn.IFS('Options Assessment'!D$17=$C$127,$G$127, 'Options Assessment'!D$17=$C$128,$G$128, TRUE,1),_xlfn.IFS('Options Assessment'!D$6=$C$130,$F$130, 'Options Assessment'!D$6=$C$131,$F$131, 'Options Assessment'!D$6=$C$132,$F$132,TRUE,1))","v":1},{"$f":"PRODUCT(_xlfn.IFS('Options Assessment'!E$7=$C$5,$G$5, 'Options Assessment'!E$7=$C$6,$G$6, TRUE,1), _xlfn.IFS('Options Assessment'!E$8=$C$9,$G$9, 'Options Assessment'!E$8=$C$10,$G$10, TRUE,1), IF('Options Assessment'!E$9=$C$13,$G$13,1), IF('Options Assessment'!E$10=$C$16,$G$16,1), _xlfn.IFS('Options Assessment'!E$11=$C$19,$G$19, 'Options Assessment'!E$11=$C$20,$G$20, 'Options Assessment'!E$11=$C$21,$G$21, TRUE,1), IF('Options Assessment'!E$12=$C$24,$G$24,1), IF('Options Assessment'!E$13=$C$35,$G$35,1),IF('Options Assessment'!E$14=$C$38,$G$38,1),IF('Options Assessment'!E$19=$C$41,$G$41,1),IF('Options Assessment'!E$20=$C$44,$G$44,1),IF('Options Assessment'!E$21=$C$47,$G$47,1),IF('Options Assessment'!E$22=$C$50,$G$50,1),_xlfn.IFS('Options Assessment'!E$23=$C$54,$G$54, 'Options Assessment'!E$23=$C$55,$G$55, 'Options Assessment'!E$23=$C$56,$G$56, TRUE,1),_xlfn.IFS('Options Assessment'!E$24=$C$59,$G$59, 'Options Assessment'!E$24=$C$60,$G$60, TRUE,1),IF('Options Assessment'!E$25=$C$63,$G$63,1),IF('Options Assessment'!E$26=$C$66,$G$66,1),IF('Options Assessment'!E$27=$C$69,$G$69,1),IF('Options Assessment'!E$28=$C$73,$G$73,1),IF('Options Assessment'!E$29=$C$76,$G$76,1),IF('Options Assessment'!E$30=$C$80,$G$80,1),IF('Options Assessment'!E$15=$C$88,$G$88,1),_xlfn.IFS('Options Assessment'!E$16=$C$91,$G$91, 'Options Assessment'!E$16=$C$92,$G$92, 'Options Assessment'!E$16=$C$93,$G$93, 'Options Assessment'!E$16=$C$94,$G$94, 'Options Assessment'!E$16=$C$95,$G$95, TRUE,1),_xlfn.IFS( 'Options Assessment'!E$32=$C$98,$G$98, 'Options Assessment'!E$32=$C$99,$G$99, 'Options Assessment'!E$32=$C$100,$G$100, TRUE,1),IF('Options Assessment'!E$33=$C$103,$G$103,1),IF('Options Assessment'!E$35=$C$106,$G$106,1),_xlfn.IFS('Options Assessment'!E$18=$C$109,$G$109, 'Options Assessment'!E$18=$C$110,$G$110, 'Options Assessment'!E$18=$C$111,$G$111, 'Options Assessment'!E$18=$C$112,$G$112, 'Options Assessment'!E$18=$C$113,$G$113, 'Options Assessment'!E$18=$C$114,$G$114, 'Options Assessment'!E$18=$C$115,$G$115, 'Options Assessment'!E$18=$C$116,$G$116, 'Options Assessment'!E$18=$C$117,$G$117, 'Options Assessment'!E$18=$C$118,$G$118, TRUE,1),IF('Options Assessment'!E$34=$C$121,$G$121,1),_xlfn.IFS('Options Assessment'!E$17=$C$127,$G$127, 'Options Assessment'!E$17=$C$128,$G$128, TRUE,1),_xlfn.IFS('Options Assessment'!E$6=$C$130,$F$130, 'Options Assessment'!E$6=$C$131,$F$131, 'Options Assessment'!E$6=$C$132,$F$132,TRUE,1))","v":1},{"$f":"PRODUCT(_xlfn.IFS('Options Assessment'!F$7=$C$5,$G$5, 'Options Assessment'!F$7=$C$6,$G$6, TRUE,1), _xlfn.IFS('Options Assessment'!F$8=$C$9,$G$9, 'Options Assessment'!F$8=$C$10,$G$10, TRUE,1), IF('Options Assessment'!F$9=$C$13,$G$13,1), IF('Options Assessment'!F$10=$C$16,$G$16,1), _xlfn.IFS('Options Assessment'!F$11=$C$19,$G$19, 'Options Assessment'!F$11=$C$20,$G$20, 'Options Assessment'!F$11=$C$21,$G$21, TRUE,1), IF('Options Assessment'!F$12=$C$24,$G$24,1), IF('Options Assessment'!F$13=$C$35,$G$35,1),IF('Options Assessment'!F$14=$C$38,$G$38,1),IF('Options Assessment'!F$19=$C$41,$G$41,1),IF('Options Assessment'!F$20=$C$44,$G$44,1),IF('Options Assessment'!F$21=$C$47,$G$47,1),IF('Options Assessment'!F$22=$C$50,$G$50,1),_xlfn.IFS('Options Assessment'!F$23=$C$54,$G$54, 'Options Assessment'!F$23=$C$55,$G$55, 'Options Assessment'!F$23=$C$56,$G$56, TRUE,1),_xlfn.IFS('Options Assessment'!F$24=$C$59,$G$59, 'Options Assessment'!F$24=$C$60,$G$60, TRUE,1),IF('Options Assessment'!F$25=$C$63,$G$63,1),IF('Options Assessment'!F$26=$C$66,$G$66,1),IF('Options Assessment'!F$27=$C$69,$G$69,1),IF('Options Assessment'!F$28=$C$73,$G$73,1),IF('Options Assessment'!F$29=$C$76,$G$76,1),IF('Options Assessment'!F$30=$C$80,$G$80,1),IF('Options Assessment'!F$15=$C$88,$G$88,1),_xlfn.IFS('Options Assessment'!F$16=$C$91,$G$91, 'Options Assessment'!F$16=$C$92,$G$92, 'Options Assessment'!F$16=$C$93,$G$93, 'Options Assessment'!F$16=$C$94,$G$94, 'Options Assessment'!F$16=$C$95,$G$95, TRUE,1),_xlfn.IFS( 'Options Assessment'!F$32=$C$98,$G$98, 'Options Assessment'!F$32=$C$99,$G$99, 'Options Assessment'!F$32=$C$100,$G$100, TRUE,1),IF('Options Assessment'!F$33=$C$103,$G$103,1),IF('Options Assessment'!F$35=$C$106,$G$106,1),_xlfn.IFS('Options Assessment'!F$18=$C$109,$G$109, 'Options Assessment'!F$18=$C$110,$G$110, 'Options Assessment'!F$18=$C$111,$G$111, 'Options Assessment'!F$18=$C$112,$G$112, 'Options Assessment'!F$18=$C$113,$G$113, 'Options Assessment'!F$18=$C$114,$G$114, 'Options Assessment'!F$18=$C$115,$G$115, 'Options Assessment'!F$18=$C$116,$G$116, 'Options Assessment'!F$18=$C$117,$G$117, 'Options Assessment'!F$18=$C$118,$G$118, TRUE,1),IF('Options Assessment'!F$34=$C$121,$G$121,1),_xlfn.IFS('Options Assessment'!F$17=$C$127,$G$127, 'Options Assessment'!F$17=$C$128,$G$128, TRUE,1),_xlfn.IFS('Options Assessment'!F$6=$C$130,$F$130, 'Options Assessment'!F$6=$C$131,$F$131, 'Options Assessment'!F$6=$C$132,$F$132,TRUE,1))","v":1},{"$f":"PRODUCT(_xlfn.IFS('Options Assessment'!G$7=$C$5,$G$5, 'Options Assessment'!G$7=$C$6,$G$6, TRUE,1), _xlfn.IFS('Options Assessment'!G$8=$C$9,$G$9, 'Options Assessment'!G$8=$C$10,$G$10, TRUE,1), IF('Options Assessment'!G$9=$C$13,$G$13,1), IF('Options Assessment'!G$10=$C$16,$G$16,1), _xlfn.IFS('Options Assessment'!G$11=$C$19,$G$19, 'Options Assessment'!G$11=$C$20,$G$20, 'Options Assessment'!G$11=$C$21,$G$21, TRUE,1), IF('Options Assessment'!G$12=$C$24,$G$24,1), IF('Options Assessment'!G$13=$C$35,$G$35,1),IF('Options Assessment'!G$14=$C$38,$G$38,1),IF('Options Assessment'!G$19=$C$41,$G$41,1),IF('Options Assessment'!G$20=$C$44,$G$44,1),IF('Options Assessment'!G$21=$C$47,$G$47,1),IF('Options Assessment'!G$22=$C$50,$G$50,1),_xlfn.IFS('Options Assessment'!G$23=$C$54,$G$54, 'Options Assessment'!G$23=$C$55,$G$55, 'Options Assessment'!G$23=$C$56,$G$56, TRUE,1),_xlfn.IFS('Options Assessment'!G$24=$C$59,$G$59, 'Options Assessment'!G$24=$C$60,$G$60, TRUE,1),IF('Options Assessment'!G$25=$C$63,$G$63,1),IF('Options Assessment'!G$26=$C$66,$G$66,1),IF('Options Assessment'!G$27=$C$69,$G$69,1),IF('Options Assessment'!G$28=$C$73,$G$73,1),IF('Options Assessment'!G$29=$C$76,$G$76,1),IF('Options Assessment'!G$30=$C$80,$G$80,1),IF('Options Assessment'!G$15=$C$88,$G$88,1),_xlfn.IFS('Options Assessment'!G$16=$C$91,$G$91, 'Options Assessment'!G$16=$C$92,$G$92, 'Options Assessment'!G$16=$C$93,$G$93, 'Options Assessment'!G$16=$C$94,$G$94, 'Options Assessment'!G$16=$C$95,$G$95, TRUE,1),_xlfn.IFS( 'Options Assessment'!G$32=$C$98,$G$98, 'Options Assessment'!G$32=$C$99,$G$99, 'Options Assessment'!G$32=$C$100,$G$100, TRUE,1),IF('Options Assessment'!G$33=$C$103,$G$103,1),IF('Options Assessment'!G$35=$C$106,$G$106,1),_xlfn.IFS('Options Assessment'!G$18=$C$109,$G$109, 'Options Assessment'!G$18=$C$110,$G$110, 'Options Assessment'!G$18=$C$111,$G$111, 'Options Assessment'!G$18=$C$112,$G$112, 'Options Assessment'!G$18=$C$113,$G$113, 'Options Assessment'!G$18=$C$114,$G$114, 'Options Assessment'!G$18=$C$115,$G$115, 'Options Assessment'!G$18=$C$116,$G$116, 'Options Assessment'!G$18=$C$117,$G$117, 'Options Assessment'!G$18=$C$118,$G$118, TRUE,1),IF('Options Assessment'!G$34=$C$121,$G$121,1),_xlfn.IFS('Options Assessment'!G$17=$C$127,$G$127, 'Options Assessment'!G$17=$C$128,$G$128, TRUE,1),_xlfn.IFS('Options Assessment'!G$6=$C$130,$F$130, 'Options Assessment'!G$6=$C$131,$F$131, 'Options Assessment'!G$6=$C$132,$F$132,TRUE,1))","v":1},{"$f":"PRODUCT(_xlfn.IFS('Options Assessment'!H$7=$C$5,$G$5, 'Options Assessment'!H$7=$C$6,$G$6, TRUE,1), _xlfn.IFS('Options Assessment'!H$8=$C$9,$G$9, 'Options Assessment'!H$8=$C$10,$G$10, TRUE,1), IF('Options Assessment'!H$9=$C$13,$G$13,1), IF('Options Assessment'!H$10=$C$16,$G$16,1), _xlfn.IFS('Options Assessment'!H$11=$C$19,$G$19, 'Options Assessment'!H$11=$C$20,$G$20, 'Options Assessment'!H$11=$C$21,$G$21, TRUE,1), IF('Options Assessment'!H$12=$C$24,$G$24,1), IF('Options Assessment'!H$13=$C$35,$G$35,1),IF('Options Assessment'!H$14=$C$38,$G$38,1),IF('Options Assessment'!H$19=$C$41,$G$41,1),IF('Options Assessment'!H$20=$C$44,$G$44,1),IF('Options Assessment'!H$21=$C$47,$G$47,1),IF('Options Assessment'!H$22=$C$50,$G$50,1),_xlfn.IFS('Options Assessment'!H$23=$C$54,$G$54, 'Options Assessment'!H$23=$C$55,$G$55, 'Options Assessment'!H$23=$C$56,$G$56, TRUE,1),_xlfn.IFS('Options Assessment'!H$24=$C$59,$G$59, 'Options Assessment'!H$24=$C$60,$G$60, TRUE,1),IF('Options Assessment'!H$25=$C$63,$G$63,1),IF('Options Assessment'!H$26=$C$66,$G$66,1),IF('Options Assessment'!H$27=$C$69,$G$69,1),IF('Options Assessment'!H$28=$C$73,$G$73,1),IF('Options Assessment'!H$29=$C$76,$G$76,1),IF('Options Assessment'!H$30=$C$80,$G$80,1),IF('Options Assessment'!H$15=$C$88,$G$88,1),_xlfn.IFS('Options Assessment'!H$16=$C$91,$G$91, 'Options Assessment'!H$16=$C$92,$G$92, 'Options Assessment'!H$16=$C$93,$G$93, 'Options Assessment'!H$16=$C$94,$G$94, 'Options Assessment'!H$16=$C$95,$G$95, TRUE,1),_xlfn.IFS( 'Options Assessment'!H$32=$C$98,$G$98, 'Options Assessment'!H$32=$C$99,$G$99, 'Options Assessment'!H$32=$C$100,$G$100, TRUE,1),IF('Options Assessment'!H$33=$C$103,$G$103,1),IF('Options Assessment'!H$35=$C$106,$G$106,1),_xlfn.IFS('Options Assessment'!H$18=$C$109,$G$109, 'Options Assessment'!H$18=$C$110,$G$110, 'Options Assessment'!H$18=$C$111,$G$111, 'Options Assessment'!H$18=$C$112,$G$112, 'Options Assessment'!H$18=$C$113,$G$113, 'Options Assessment'!H$18=$C$114,$G$114, 'Options Assessment'!H$18=$C$115,$G$115, 'Options Assessment'!H$18=$C$116,$G$116, 'Options Assessment'!H$18=$C$117,$G$117, 'Options Assessment'!H$18=$C$118,$G$118, TRUE,1),IF('Options Assessment'!H$34=$C$121,$G$121,1),_xlfn.IFS('Options Assessment'!H$17=$C$127,$G$127, 'Options Assessment'!H$17=$C$128,$G$128, TRUE,1),_xlfn.IFS('Options Assessment'!H$6=$C$130,$F$130, 'Options Assessment'!H$6=$C$131,$F$131, 'Options Assessment'!H$6=$C$132,$F$132,TRUE,1))","v":1},{"$f":"PRODUCT(_xlfn.IFS('Options Assessment'!I$7=$C$5,$G$5, 'Options Assessment'!I$7=$C$6,$G$6, TRUE,1), _xlfn.IFS('Options Assessment'!I$8=$C$9,$G$9, 'Options Assessment'!I$8=$C$10,$G$10, TRUE,1), IF('Options Assessment'!I$9=$C$13,$G$13,1), IF('Options Assessment'!I$10=$C$16,$G$16,1), _xlfn.IFS('Options Assessment'!I$11=$C$19,$G$19, 'Options Assessment'!I$11=$C$20,$G$20, 'Options Assessment'!I$11=$C$21,$G$21, TRUE,1), IF('Options Assessment'!I$12=$C$24,$G$24,1), IF('Options Assessment'!I$13=$C$35,$G$35,1),IF('Options Assessment'!I$14=$C$38,$G$38,1),IF('Options Assessment'!I$19=$C$41,$G$41,1),IF('Options Assessment'!I$20=$C$44,$G$44,1),IF('Options Assessment'!I$21=$C$47,$G$47,1),IF('Options Assessment'!I$22=$C$50,$G$50,1),_xlfn.IFS('Options Assessment'!I$23=$C$54,$G$54, 'Options Assessment'!I$23=$C$55,$G$55, 'Options Assessment'!I$23=$C$56,$G$56, TRUE,1),_xlfn.IFS('Options Assessment'!I$24=$C$59,$G$59, 'Options Assessment'!I$24=$C$60,$G$60, TRUE,1),IF('Options Assessment'!I$25=$C$63,$G$63,1),IF('Options Assessment'!I$26=$C$66,$G$66,1),IF('Options Assessment'!I$27=$C$69,$G$69,1),IF('Options Assessment'!I$28=$C$73,$G$73,1),IF('Options Assessment'!I$29=$C$76,$G$76,1),IF('Options Assessment'!I$30=$C$80,$G$80,1),IF('Options Assessment'!I$15=$C$88,$G$88,1),_xlfn.IFS('Options Assessment'!I$16=$C$91,$G$91, 'Options Assessment'!I$16=$C$92,$G$92, 'Options Assessment'!I$16=$C$93,$G$93, 'Options Assessment'!I$16=$C$94,$G$94, 'Options Assessment'!I$16=$C$95,$G$95, TRUE,1),_xlfn.IFS( 'Options Assessment'!I$32=$C$98,$G$98, 'Options Assessment'!I$32=$C$99,$G$99, 'Options Assessment'!I$32=$C$100,$G$100, TRUE,1),IF('Options Assessment'!I$33=$C$103,$G$103,1),IF('Options Assessment'!I$35=$C$106,$G$106,1),_xlfn.IFS('Options Assessment'!I$18=$C$109,$G$109, 'Options Assessment'!I$18=$C$110,$G$110, 'Options Assessment'!I$18=$C$111,$G$111, 'Options Assessment'!I$18=$C$112,$G$112, 'Options Assessment'!I$18=$C$113,$G$113, 'Options Assessment'!I$18=$C$114,$G$114, 'Options Assessment'!I$18=$C$115,$G$115, 'Options Assessment'!I$18=$C$116,$G$116, 'Options Assessment'!I$18=$C$117,$G$117, 'Options Assessment'!I$18=$C$118,$G$118, TRUE,1),IF('Options Assessment'!I$34=$C$121,$G$121,1),_xlfn.IFS('Options Assessment'!I$17=$C$127,$G$127, 'Options Assessment'!I$17=$C$128,$G$128, TRUE,1),_xlfn.IFS('Options Assessment'!I$6=$C$130,$F$130, 'Options Assessment'!I$6=$C$131,$F$131, 'Options Assessment'!I$6=$C$132,$F$132,TRUE,1))","v":1},{"$f":"PRODUCT(_xlfn.IFS('Options Assessment'!J$7=$C$5,$G$5, 'Options Assessment'!J$7=$C$6,$G$6, TRUE,1), _xlfn.IFS('Options Assessment'!J$8=$C$9,$G$9, 'Options Assessment'!J$8=$C$10,$G$10, TRUE,1), IF('Options Assessment'!J$9=$C$13,$G$13,1), IF('Options Assessment'!J$10=$C$16,$G$16,1), _xlfn.IFS('Options Assessment'!J$11=$C$19,$G$19, 'Options Assessment'!J$11=$C$20,$G$20, 'Options Assessment'!J$11=$C$21,$G$21, TRUE,1), IF('Options Assessment'!J$12=$C$24,$G$24,1), IF('Options Assessment'!J$13=$C$35,$G$35,1),IF('Options Assessment'!J$14=$C$38,$G$38,1),IF('Options Assessment'!J$19=$C$41,$G$41,1),IF('Options Assessment'!J$20=$C$44,$G$44,1),IF('Options Assessment'!J$21=$C$47,$G$47,1),IF('Options Assessment'!J$22=$C$50,$G$50,1),_xlfn.IFS('Options Assessment'!J$23=$C$54,$G$54, 'Options Assessment'!J$23=$C$55,$G$55, 'Options Assessment'!J$23=$C$56,$G$56, TRUE,1),_xlfn.IFS('Options Assessment'!J$24=$C$59,$G$59, 'Options Assessment'!J$24=$C$60,$G$60, TRUE,1),IF('Options Assessment'!J$25=$C$63,$G$63,1),IF('Options Assessment'!J$26=$C$66,$G$66,1),IF('Options Assessment'!J$27=$C$69,$G$69,1),IF('Options Assessment'!J$28=$C$73,$G$73,1),IF('Options Assessment'!J$29=$C$76,$G$76,1),IF('Options Assessment'!J$30=$C$80,$G$80,1),IF('Options Assessment'!J$15=$C$88,$G$88,1),_xlfn.IFS('Options Assessment'!J$16=$C$91,$G$91, 'Options Assessment'!J$16=$C$92,$G$92, 'Options Assessment'!J$16=$C$93,$G$93, 'Options Assessment'!J$16=$C$94,$G$94, 'Options Assessment'!J$16=$C$95,$G$95, TRUE,1),_xlfn.IFS( 'Options Assessment'!J$32=$C$98,$G$98, 'Options Assessment'!J$32=$C$99,$G$99, 'Options Assessment'!J$32=$C$100,$G$100, TRUE,1),IF('Options Assessment'!J$33=$C$103,$G$103,1),IF('Options Assessment'!J$35=$C$106,$G$106,1),_xlfn.IFS('Options Assessment'!J$18=$C$109,$G$109, 'Options Assessment'!J$18=$C$110,$G$110, 'Options Assessment'!J$18=$C$111,$G$111, 'Options Assessment'!J$18=$C$112,$G$112, 'Options Assessment'!J$18=$C$113,$G$113, 'Options Assessment'!J$18=$C$114,$G$114, 'Options Assessment'!J$18=$C$115,$G$115, 'Options Assessment'!J$18=$C$116,$G$116, 'Options Assessment'!J$18=$C$117,$G$117, 'Options Assessment'!J$18=$C$118,$G$118, TRUE,1),IF('Options Assessment'!J$34=$C$121,$G$121,1),_xlfn.IFS('Options Assessment'!J$17=$C$127,$G$127, 'Options Assessment'!J$17=$C$128,$G$128, TRUE,1),_xlfn.IFS('Options Assessment'!J$6=$C$130,$F$130, 'Options Assessment'!J$6=$C$131,$F$131, 'Options Assessment'!J$6=$C$132,$F$132,TRUE,1))","v":1},{"$f":"PRODUCT(_xlfn.IFS('Options Assessment'!K$7=$C$5,$G$5, 'Options Assessment'!K$7=$C$6,$G$6, TRUE,1), _xlfn.IFS('Options Assessment'!K$8=$C$9,$G$9, 'Options Assessment'!K$8=$C$10,$G$10, TRUE,1), IF('Options Assessment'!K$9=$C$13,$G$13,1), IF('Options Assessment'!K$10=$C$16,$G$16,1), _xlfn.IFS('Options Assessment'!K$11=$C$19,$G$19, 'Options Assessment'!K$11=$C$20,$G$20, 'Options Assessment'!K$11=$C$21,$G$21, TRUE,1), IF('Options Assessment'!K$12=$C$24,$G$24,1), IF('Options Assessment'!K$13=$C$35,$G$35,1),IF('Options Assessment'!K$14=$C$38,$G$38,1),IF('Options Assessment'!K$19=$C$41,$G$41,1),IF('Options Assessment'!K$20=$C$44,$G$44,1),IF('Options Assessment'!K$21=$C$47,$G$47,1),IF('Options Assessment'!K$22=$C$50,$G$50,1),_xlfn.IFS('Options Assessment'!K$23=$C$54,$G$54, 'Options Assessment'!K$23=$C$55,$G$55, 'Options Assessment'!K$23=$C$56,$G$56, TRUE,1),_xlfn.IFS('Options Assessment'!K$24=$C$59,$G$59, 'Options Assessment'!K$24=$C$60,$G$60, TRUE,1),IF('Options Assessment'!K$25=$C$63,$G$63,1),IF('Options Assessment'!K$26=$C$66,$G$66,1),IF('Options Assessment'!K$27=$C$69,$G$69,1),IF('Options Assessment'!K$28=$C$73,$G$73,1),IF('Options Assessment'!K$29=$C$76,$G$76,1),IF('Options Assessment'!K$30=$C$80,$G$80,1),IF('Options Assessment'!K$15=$C$88,$G$88,1),_xlfn.IFS('Options Assessment'!K$16=$C$91,$G$91, 'Options Assessment'!K$16=$C$92,$G$92, 'Options Assessment'!K$16=$C$93,$G$93, 'Options Assessment'!K$16=$C$94,$G$94, 'Options Assessment'!K$16=$C$95,$G$95, TRUE,1),_xlfn.IFS( 'Options Assessment'!K$32=$C$98,$G$98, 'Options Assessment'!K$32=$C$99,$G$99, 'Options Assessment'!K$32=$C$100,$G$100, TRUE,1),IF('Options Assessment'!K$33=$C$103,$G$103,1),IF('Options Assessment'!K$35=$C$106,$G$106,1),_xlfn.IFS('Options Assessment'!K$18=$C$109,$G$109, 'Options Assessment'!K$18=$C$110,$G$110, 'Options Assessment'!K$18=$C$111,$G$111, 'Options Assessment'!K$18=$C$112,$G$112, 'Options Assessment'!K$18=$C$113,$G$113, 'Options Assessment'!K$18=$C$114,$G$114, 'Options Assessment'!K$18=$C$115,$G$115, 'Options Assessment'!K$18=$C$116,$G$116, 'Options Assessment'!K$18=$C$117,$G$117, 'Options Assessment'!K$18=$C$118,$G$118, TRUE,1),IF('Options Assessment'!K$34=$C$121,$G$121,1),_xlfn.IFS('Options Assessment'!K$17=$C$127,$G$127, 'Options Assessment'!K$17=$C$128,$G$128, TRUE,1),_xlfn.IFS('Options Assessment'!K$6=$C$130,$F$130, 'Options Assessment'!K$6=$C$131,$F$131, 'Options Assessment'!K$6=$C$132,$F$132,TRUE,1))","v":1},{"$f":"PRODUCT(_xlfn.IFS('Options Assessment'!L$7=$C$5,$G$5, 'Options Assessment'!L$7=$C$6,$G$6, TRUE,1), _xlfn.IFS('Options Assessment'!L$8=$C$9,$G$9, 'Options Assessment'!L$8=$C$10,$G$10, TRUE,1), IF('Options Assessment'!L$9=$C$13,$G$13,1), IF('Options Assessment'!L$10=$C$16,$G$16,1), _xlfn.IFS('Options Assessment'!L$11=$C$19,$G$19, 'Options Assessment'!L$11=$C$20,$G$20, 'Options Assessment'!L$11=$C$21,$G$21, TRUE,1), IF('Options Assessment'!L$12=$C$24,$G$24,1), IF('Options Assessment'!L$13=$C$35,$G$35,1),IF('Options Assessment'!L$14=$C$38,$G$38,1),IF('Options Assessment'!L$19=$C$41,$G$41,1),IF('Options Assessment'!L$20=$C$44,$G$44,1),IF('Options Assessment'!L$21=$C$47,$G$47,1),IF('Options Assessment'!L$22=$C$50,$G$50,1),_xlfn.IFS('Options Assessment'!L$23=$C$54,$G$54, 'Options Assessment'!L$23=$C$55,$G$55, 'Options Assessment'!L$23=$C$56,$G$56, TRUE,1),_xlfn.IFS('Options Assessment'!L$24=$C$59,$G$59, 'Options Assessment'!L$24=$C$60,$G$60, TRUE,1),IF('Options Assessment'!L$25=$C$63,$G$63,1),IF('Options Assessment'!L$26=$C$66,$G$66,1),IF('Options Assessment'!L$27=$C$69,$G$69,1),IF('Options Assessment'!L$28=$C$73,$G$73,1),IF('Options Assessment'!L$29=$C$76,$G$76,1),IF('Options Assessment'!L$30=$C$80,$G$80,1),IF('Options Assessment'!L$15=$C$88,$G$88,1),_xlfn.IFS('Options Assessment'!L$16=$C$91,$G$91, 'Options Assessment'!L$16=$C$92,$G$92, 'Options Assessment'!L$16=$C$93,$G$93, 'Options Assessment'!L$16=$C$94,$G$94, 'Options Assessment'!L$16=$C$95,$G$95, TRUE,1),_xlfn.IFS( 'Options Assessment'!L$32=$C$98,$G$98, 'Options Assessment'!L$32=$C$99,$G$99, 'Options Assessment'!L$32=$C$100,$G$100, TRUE,1),IF('Options Assessment'!L$33=$C$103,$G$103,1),IF('Options Assessment'!L$35=$C$106,$G$106,1),_xlfn.IFS('Options Assessment'!L$18=$C$109,$G$109, 'Options Assessment'!L$18=$C$110,$G$110, 'Options Assessment'!L$18=$C$111,$G$111, 'Options Assessment'!L$18=$C$112,$G$112, 'Options Assessment'!L$18=$C$113,$G$113, 'Options Assessment'!L$18=$C$114,$G$114, 'Options Assessment'!L$18=$C$115,$G$115, 'Options Assessment'!L$18=$C$116,$G$116, 'Options Assessment'!L$18=$C$117,$G$117, 'Options Assessment'!L$18=$C$118,$G$118, TRUE,1),IF('Options Assessment'!L$34=$C$121,$G$121,1),_xlfn.IFS('Options Assessment'!L$17=$C$127,$G$127, 'Options Assessment'!L$17=$C$128,$G$128, TRUE,1),_xlfn.IFS('Options Assessment'!L$6=$C$130,$F$130, 'Options Assessment'!L$6=$C$131,$F$131, 'Options Assessment'!L$6=$C$132,$F$132,TRUE,1))","v":1}]
[null,null,null,null,null,null,null,null,null,null,null,"Roundabout",{"$f":"PRODUCT(_xlfn.IFS('Options Assessment'!#REF!=$C$5,$H$5, 'Options Assessment'!#REF!=$C$6,$H$6, TRUE,1), _xlfn.IFS('Options Assessment'!#REF!=$C$9,$H$9, 'Options Assessment'!#REF!=$C$10,$H$10, TRUE,1), IF('Options Assessment'!#REF!=$C$13,$H$13,1), IF('Options Assessment'!#REF!=$C$16,$H$16,1), _xlfn.IFS('Options Assessment'!#REF!=$C$19,$H$19, 'Options Assessment'!#REF!=$C$20,$H$20, 'Options Assessment'!#REF!=$C$21,$H$21, TRUE,1), IF('Options Assessment'!#REF!=$C$24,$H$24,1), IF('Options Assessment'!#REF!=$C$27,$H$27,1),IF('Options Assessment'!#REF!=$C$31,$H$31,1),IF('Options Assessment'!#REF!=$C$35,$H$35,1),IF('Options Assessment'!#REF!=$C$38,$H$38,1),IF('Options Assessment'!#REF!=$C$41,$H$41,1),IF('Options Assessment'!#REF!=$C$44,$H$44,1),IF('Options Assessment'!#REF!=$C$47,$H$47,1),IF('Options Assessment'!#REF!=$C$50,$H$50,1),_xlfn.IFS('Options Assessment'!#REF!=$C$54,$H$54, 'Options Assessment'!#REF!=$C$55,$H$55, 'Options Assessment'!#REF!=$C$56,$H$56, TRUE,1),_xlfn.IFS('Options Assessment'!#REF!=$C$59,$H$59, 'Options Assessment'!#REF!=$C$60,$H$60, TRUE,1),IF('Options Assessment'!#REF!=$C$63,$H$63,1),IF('Options Assessment'!#REF!=$C$66,$H$66,1),IF('Options Assessment'!#REF!=$C$69,$H$69,1),IF('Options Assessment'!#REF!=$C$73,$H$73,1),IF('Options Assessment'!#REF!=$C$76,$H$76,1),IF('Options Assessment'!#REF!=$C$80,$H$80,1),IF('Options Assessment'!#REF!=$C$88,$H$88,1),_xlfn.IFS('Options Assessment'!#REF!=$C$91,$H$91, 'Options Assessment'!#REF!=$C$92,$H$92, 'Options Assessment'!#REF!=$C$93,$H$93, 'Options Assessment'!#REF!=$C$94,$H$94, 'Options Assessment'!#REF!=$C$95,$H$95, TRUE,1),_xlfn.IFS( 'Options Assessment'!#REF!=$C$98,$H$98, 'Options Assessment'!#REF!=$C$99,$H$99, 'Options Assessment'!#REF!=$C$100,$H$100, TRUE,1),IF('Options Assessment'!#REF!=$C$103,$H$103,1),IF('Options Assessment'!#REF!=$C$106,$H$106,1),_xlfn.IFS('Options Assessment'!#REF!=$C$109,$H$109, 'Options Assessment'!#REF!=$C$110,$H$110, 'Options Assessment'!#REF!=$C$111,$H$111, 'Options Assessment'!#REF!=$C$112,$H$112, 'Options Assessment'!#REF!=$C$113,$H$113, 'Options Assessment'!#REF!=$C$114,$H$114, 'Options Assessment'!#REF!=$C$115,$H$115, 'Options Assessment'!#REF!=$C$116,$H$116, 'Options Assessment'!#REF!=$C$117,$H$117, 'Options Assessment'!#REF!=$C$118,$H$118, TRUE,1),IF('Options Assessment'!#REF!=$C$121,$H$121,1),_xlfn.IFS('Options Assessment'!#REF!=$C$127,$H$127, 'Options Assessment'!#REF!=$C$128,$H$128, TRUE,1))","v":{"$error":"#REF!"}},{"$f":"PRODUCT(_xlfn.IFS('Options Assessment'!C$7=$C$5,$H$5, 'Options Assessment'!C$7=$C$6,$H$6, TRUE,1), _xlfn.IFS('Options Assessment'!C$8=$C$9,$H$9, 'Options Assessment'!C$8=$C$10,$H$10, TRUE,1), IF('Options Assessment'!C$9=$C$13,$H$13,1), IF('Options Assessment'!C$10=$C$16,$H$16,1), _xlfn.IFS('Options Assessment'!C$11=$C$19,$H$19, 'Options Assessment'!C$11=$C$20,$H$20, 'Options Assessment'!C$11=$C$21,$H$21, TRUE,1), IF('Options Assessment'!C$12=$C$24,$H$24,1),IF('Options Assessment'!C$13=$C$35,$H$35,1),IF('Options Assessment'!C$14=$C$38,$H$38,1),IF('Options Assessment'!C$19=$C$41,$H$41,1),IF('Options Assessment'!C$20=$C$44,$H$44,1),IF('Options Assessment'!C$21=$C$47,$H$47,1),IF('Options Assessment'!C$22=$C$50,$H$50,1),_xlfn.IFS('Options Assessment'!C$23=$C$54,$H$54, 'Options Assessment'!C$23=$C$55,$H$55, 'Options Assessment'!C$23=$C$56,$H$56, TRUE,1),_xlfn.IFS('Options Assessment'!C$24=$C$59,$H$59, 'Options Assessment'!C$24=$C$60,$H$60, TRUE,1),IF('Options Assessment'!C$25=$C$63,$H$63,1),IF('Options Assessment'!C$26=$C$66,$H$66,1),IF('Options Assessment'!C$27=$C$69,$H$69,1),IF('Options Assessment'!C$28=$C$73,$H$73,1),IF('Options Assessment'!C$29=$C$76,$H$76,1),IF('Options Assessment'!C$30=$C$80,$H$80,1),IF('Options Assessment'!C$15=$C$88,$H$88,1),_xlfn.IFS('Options Assessment'!C$16=$C$91,$H$91, 'Options Assessment'!C$16=$C$92,$H$92, 'Options Assessment'!C$16=$C$93,$H$93, 'Options Assessment'!C$16=$C$94,$H$94, 'Options Assessment'!C$16=$C$95,$H$95, TRUE,1),_xlfn.IFS( 'Options Assessment'!C$32=$C$98,$H$98, 'Options Assessment'!C$32=$C$99,$H$99, 'Options Assessment'!C$32=$C$100,$H$100, TRUE,1),IF('Options Assessment'!C$33=$C$103,$H$103,1),IF('Options Assessment'!C$35=$C$106,$H$106,1),_xlfn.IFS('Options Assessment'!C$18=$C$109,$H$109, 'Options Assessment'!C$18=$C$110,$H$110, 'Options Assessment'!C$18=$C$111,$H$111, 'Options Assessment'!C$18=$C$112,$H$112, 'Options Assessment'!C$18=$C$113,$H$113, 'Options Assessment'!C$18=$C$114,$H$114, 'Options Assessment'!C$18=$C$115,$H$115, 'Options Assessment'!C$18=$C$116,$H$116, 'Options Assessment'!C$18=$C$117,$H$117, 'Options Assessment'!C$18=$C$118,$H$118, TRUE,1),IF('Options Assessment'!C$34=$C$121,$H$121,1),_xlfn.IFS('Options Assessment'!C$17=$C$127,$H$127, 'Options Assessment'!C$17=$C$128,$H$128, TRUE,1),_xlfn.IFS('Options Assessment'!C$6=$C$130,$F$130, 'Options Assessment'!C$6=$C$131,$F$131, 'Options Assessment'!C$6=$C$132,$F$132,TRUE,1))","v":1},{"$f":"PRODUCT(_xlfn.IFS('Options Assessment'!D$7=$C$5,$H$5, 'Options Assessment'!D$7=$C$6,$H$6, TRUE,1), _xlfn.IFS('Options Assessment'!D$8=$C$9,$H$9, 'Options Assessment'!D$8=$C$10,$H$10, TRUE,1), IF('Options Assessment'!D$9=$C$13,$H$13,1), IF('Options Assessment'!D$10=$C$16,$H$16,1), _xlfn.IFS('Options Assessment'!D$11=$C$19,$H$19, 'Options Assessment'!D$11=$C$20,$H$20, 'Options Assessment'!D$11=$C$21,$H$21, TRUE,1), IF('Options Assessment'!D$12=$C$24,$H$24,1),IF('Options Assessment'!D$13=$C$35,$H$35,1),IF('Options Assessment'!D$14=$C$38,$H$38,1),IF('Options Assessment'!D$19=$C$41,$H$41,1),IF('Options Assessment'!D$20=$C$44,$H$44,1),IF('Options Assessment'!D$21=$C$47,$H$47,1),IF('Options Assessment'!D$22=$C$50,$H$50,1),_xlfn.IFS('Options Assessment'!D$23=$C$54,$H$54, 'Options Assessment'!D$23=$C$55,$H$55, 'Options Assessment'!D$23=$C$56,$H$56, TRUE,1),_xlfn.IFS('Options Assessment'!D$24=$C$59,$H$59, 'Options Assessment'!D$24=$C$60,$H$60, TRUE,1),IF('Options Assessment'!D$25=$C$63,$H$63,1),IF('Options Assessment'!D$26=$C$66,$H$66,1),IF('Options Assessment'!D$27=$C$69,$H$69,1),IF('Options Assessment'!D$28=$C$73,$H$73,1),IF('Options Assessment'!D$29=$C$76,$H$76,1),IF('Options Assessment'!D$30=$C$80,$H$80,1),IF('Options Assessment'!D$15=$C$88,$H$88,1),_xlfn.IFS('Options Assessment'!D$16=$C$91,$H$91, 'Options Assessment'!D$16=$C$92,$H$92, 'Options Assessment'!D$16=$C$93,$H$93, 'Options Assessment'!D$16=$C$94,$H$94, 'Options Assessment'!D$16=$C$95,$H$95, TRUE,1),_xlfn.IFS( 'Options Assessment'!D$32=$C$98,$H$98, 'Options Assessment'!D$32=$C$99,$H$99, 'Options Assessment'!D$32=$C$100,$H$100, TRUE,1),IF('Options Assessment'!D$33=$C$103,$H$103,1),IF('Options Assessment'!D$35=$C$106,$H$106,1),_xlfn.IFS('Options Assessment'!D$18=$C$109,$H$109, 'Options Assessment'!D$18=$C$110,$H$110, 'Options Assessment'!D$18=$C$111,$H$111, 'Options Assessment'!D$18=$C$112,$H$112, 'Options Assessment'!D$18=$C$113,$H$113, 'Options Assessment'!D$18=$C$114,$H$114, 'Options Assessment'!D$18=$C$115,$H$115, 'Options Assessment'!D$18=$C$116,$H$116, 'Options Assessment'!D$18=$C$117,$H$117, 'Options Assessment'!D$18=$C$118,$H$118, TRUE,1),IF('Options Assessment'!D$34=$C$121,$H$121,1),_xlfn.IFS('Options Assessment'!D$17=$C$127,$H$127, 'Options Assessment'!D$17=$C$128,$H$128, TRUE,1),_xlfn.IFS('Options Assessment'!D$6=$C$130,$F$130, 'Options Assessment'!D$6=$C$131,$F$131, 'Options Assessment'!D$6=$C$132,$F$132,TRUE,1))","v":1},{"$f":"PRODUCT(_xlfn.IFS('Options Assessment'!E$7=$C$5,$H$5, 'Options Assessment'!E$7=$C$6,$H$6, TRUE,1), _xlfn.IFS('Options Assessment'!E$8=$C$9,$H$9, 'Options Assessment'!E$8=$C$10,$H$10, TRUE,1), IF('Options Assessment'!E$9=$C$13,$H$13,1), IF('Options Assessment'!E$10=$C$16,$H$16,1), _xlfn.IFS('Options Assessment'!E$11=$C$19,$H$19, 'Options Assessment'!E$11=$C$20,$H$20, 'Options Assessment'!E$11=$C$21,$H$21, TRUE,1), IF('Options Assessment'!E$12=$C$24,$H$24,1),IF('Options Assessment'!E$13=$C$35,$H$35,1),IF('Options Assessment'!E$14=$C$38,$H$38,1),IF('Options Assessment'!E$19=$C$41,$H$41,1),IF('Options Assessment'!E$20=$C$44,$H$44,1),IF('Options Assessment'!E$21=$C$47,$H$47,1),IF('Options Assessment'!E$22=$C$50,$H$50,1),_xlfn.IFS('Options Assessment'!E$23=$C$54,$H$54, 'Options Assessment'!E$23=$C$55,$H$55, 'Options Assessment'!E$23=$C$56,$H$56, TRUE,1),_xlfn.IFS('Options Assessment'!E$24=$C$59,$H$59, 'Options Assessment'!E$24=$C$60,$H$60, TRUE,1),IF('Options Assessment'!E$25=$C$63,$H$63,1),IF('Options Assessment'!E$26=$C$66,$H$66,1),IF('Options Assessment'!E$27=$C$69,$H$69,1),IF('Options Assessment'!E$28=$C$73,$H$73,1),IF('Options Assessment'!E$29=$C$76,$H$76,1),IF('Options Assessment'!E$30=$C$80,$H$80,1),IF('Options Assessment'!E$15=$C$88,$H$88,1),_xlfn.IFS('Options Assessment'!E$16=$C$91,$H$91, 'Options Assessment'!E$16=$C$92,$H$92, 'Options Assessment'!E$16=$C$93,$H$93, 'Options Assessment'!E$16=$C$94,$H$94, 'Options Assessment'!E$16=$C$95,$H$95, TRUE,1),_xlfn.IFS( 'Options Assessment'!E$32=$C$98,$H$98, 'Options Assessment'!E$32=$C$99,$H$99, 'Options Assessment'!E$32=$C$100,$H$100, TRUE,1),IF('Options Assessment'!E$33=$C$103,$H$103,1),IF('Options Assessment'!E$35=$C$106,$H$106,1),_xlfn.IFS('Options Assessment'!E$18=$C$109,$H$109, 'Options Assessment'!E$18=$C$110,$H$110, 'Options Assessment'!E$18=$C$111,$H$111, 'Options Assessment'!E$18=$C$112,$H$112, 'Options Assessment'!E$18=$C$113,$H$113, 'Options Assessment'!E$18=$C$114,$H$114, 'Options Assessment'!E$18=$C$115,$H$115, 'Options Assessment'!E$18=$C$116,$H$116, 'Options Assessment'!E$18=$C$117,$H$117, 'Options Assessment'!E$18=$C$118,$H$118, TRUE,1),IF('Options Assessment'!E$34=$C$121,$H$121,1),_xlfn.IFS('Options Assessment'!E$17=$C$127,$H$127, 'Options Assessment'!E$17=$C$128,$H$128, TRUE,1),_xlfn.IFS('Options Assessment'!E$6=$C$130,$F$130, 'Options Assessment'!E$6=$C$131,$F$131, 'Options Assessment'!E$6=$C$132,$F$132,TRUE,1))","v":1},{"$f":"PRODUCT(_xlfn.IFS('Options Assessment'!F$7=$C$5,$H$5, 'Options Assessment'!F$7=$C$6,$H$6, TRUE,1), _xlfn.IFS('Options Assessment'!F$8=$C$9,$H$9, 'Options Assessment'!F$8=$C$10,$H$10, TRUE,1), IF('Options Assessment'!F$9=$C$13,$H$13,1), IF('Options Assessment'!F$10=$C$16,$H$16,1), _xlfn.IFS('Options Assessment'!F$11=$C$19,$H$19, 'Options Assessment'!F$11=$C$20,$H$20, 'Options Assessment'!F$11=$C$21,$H$21, TRUE,1), IF('Options Assessment'!F$12=$C$24,$H$24,1),IF('Options Assessment'!F$13=$C$35,$H$35,1),IF('Options Assessment'!F$14=$C$38,$H$38,1),IF('Options Assessment'!F$19=$C$41,$H$41,1),IF('Options Assessment'!F$20=$C$44,$H$44,1),IF('Options Assessment'!F$21=$C$47,$H$47,1),IF('Options Assessment'!F$22=$C$50,$H$50,1),_xlfn.IFS('Options Assessment'!F$23=$C$54,$H$54, 'Options Assessment'!F$23=$C$55,$H$55, 'Options Assessment'!F$23=$C$56,$H$56, TRUE,1),_xlfn.IFS('Options Assessment'!F$24=$C$59,$H$59, 'Options Assessment'!F$24=$C$60,$H$60, TRUE,1),IF('Options Assessment'!F$25=$C$63,$H$63,1),IF('Options Assessment'!F$26=$C$66,$H$66,1),IF('Options Assessment'!F$27=$C$69,$H$69,1),IF('Options Assessment'!F$28=$C$73,$H$73,1),IF('Options Assessment'!F$29=$C$76,$H$76,1),IF('Options Assessment'!F$30=$C$80,$H$80,1),IF('Options Assessment'!F$15=$C$88,$H$88,1),_xlfn.IFS('Options Assessment'!F$16=$C$91,$H$91, 'Options Assessment'!F$16=$C$92,$H$92, 'Options Assessment'!F$16=$C$93,$H$93, 'Options Assessment'!F$16=$C$94,$H$94, 'Options Assessment'!F$16=$C$95,$H$95, TRUE,1),_xlfn.IFS( 'Options Assessment'!F$32=$C$98,$H$98, 'Options Assessment'!F$32=$C$99,$H$99, 'Options Assessment'!F$32=$C$100,$H$100, TRUE,1),IF('Options Assessment'!F$33=$C$103,$H$103,1),IF('Options Assessment'!F$35=$C$106,$H$106,1),_xlfn.IFS('Options Assessment'!F$18=$C$109,$H$109, 'Options Assessment'!F$18=$C$110,$H$110, 'Options Assessment'!F$18=$C$111,$H$111, 'Options Assessment'!F$18=$C$112,$H$112, 'Options Assessment'!F$18=$C$113,$H$113, 'Options Assessment'!F$18=$C$114,$H$114, 'Options Assessment'!F$18=$C$115,$H$115, 'Options Assessment'!F$18=$C$116,$H$116, 'Options Assessment'!F$18=$C$117,$H$117, 'Options Assessment'!F$18=$C$118,$H$118, TRUE,1),IF('Options Assessment'!F$34=$C$121,$H$121,1),_xlfn.IFS('Options Assessment'!F$17=$C$127,$H$127, 'Options Assessment'!F$17=$C$128,$H$128, TRUE,1),_xlfn.IFS('Options Assessment'!F$6=$C$130,$F$130, 'Options Assessment'!F$6=$C$131,$F$131, 'Options Assessment'!F$6=$C$132,$F$132,TRUE,1))","v":1},{"$f":"PRODUCT(_xlfn.IFS('Options Assessment'!G$7=$C$5,$H$5, 'Options Assessment'!G$7=$C$6,$H$6, TRUE,1), _xlfn.IFS('Options Assessment'!G$8=$C$9,$H$9, 'Options Assessment'!G$8=$C$10,$H$10, TRUE,1), IF('Options Assessment'!G$9=$C$13,$H$13,1), IF('Options Assessment'!G$10=$C$16,$H$16,1), _xlfn.IFS('Options Assessment'!G$11=$C$19,$H$19, 'Options Assessment'!G$11=$C$20,$H$20, 'Options Assessment'!G$11=$C$21,$H$21, TRUE,1), IF('Options Assessment'!G$12=$C$24,$H$24,1),IF('Options Assessment'!G$13=$C$35,$H$35,1),IF('Options Assessment'!G$14=$C$38,$H$38,1),IF('Options Assessment'!G$19=$C$41,$H$41,1),IF('Options Assessment'!G$20=$C$44,$H$44,1),IF('Options Assessment'!G$21=$C$47,$H$47,1),IF('Options Assessment'!G$22=$C$50,$H$50,1),_xlfn.IFS('Options Assessment'!G$23=$C$54,$H$54, 'Options Assessment'!G$23=$C$55,$H$55, 'Options Assessment'!G$23=$C$56,$H$56, TRUE,1),_xlfn.IFS('Options Assessment'!G$24=$C$59,$H$59, 'Options Assessment'!G$24=$C$60,$H$60, TRUE,1),IF('Options Assessment'!G$25=$C$63,$H$63,1),IF('Options Assessment'!G$26=$C$66,$H$66,1),IF('Options Assessment'!G$27=$C$69,$H$69,1),IF('Options Assessment'!G$28=$C$73,$H$73,1),IF('Options Assessment'!G$29=$C$76,$H$76,1),IF('Options Assessment'!G$30=$C$80,$H$80,1),IF('Options Assessment'!G$15=$C$88,$H$88,1),_xlfn.IFS('Options Assessment'!G$16=$C$91,$H$91, 'Options Assessment'!G$16=$C$92,$H$92, 'Options Assessment'!G$16=$C$93,$H$93, 'Options Assessment'!G$16=$C$94,$H$94, 'Options Assessment'!G$16=$C$95,$H$95, TRUE,1),_xlfn.IFS( 'Options Assessment'!G$32=$C$98,$H$98, 'Options Assessment'!G$32=$C$99,$H$99, 'Options Assessment'!G$32=$C$100,$H$100, TRUE,1),IF('Options Assessment'!G$33=$C$103,$H$103,1),IF('Options Assessment'!G$35=$C$106,$H$106,1),_xlfn.IFS('Options Assessment'!G$18=$C$109,$H$109, 'Options Assessment'!G$18=$C$110,$H$110, 'Options Assessment'!G$18=$C$111,$H$111, 'Options Assessment'!G$18=$C$112,$H$112, 'Options Assessment'!G$18=$C$113,$H$113, 'Options Assessment'!G$18=$C$114,$H$114, 'Options Assessment'!G$18=$C$115,$H$115, 'Options Assessment'!G$18=$C$116,$H$116, 'Options Assessment'!G$18=$C$117,$H$117, 'Options Assessment'!G$18=$C$118,$H$118, TRUE,1),IF('Options Assessment'!G$34=$C$121,$H$121,1),_xlfn.IFS('Options Assessment'!G$17=$C$127,$H$127, 'Options Assessment'!G$17=$C$128,$H$128, TRUE,1),_xlfn.IFS('Options Assessment'!G$6=$C$130,$F$130, 'Options Assessment'!G$6=$C$131,$F$131, 'Options Assessment'!G$6=$C$132,$F$132,TRUE,1))","v":1},{"$f":"PRODUCT(_xlfn.IFS('Options Assessment'!H$7=$C$5,$H$5, 'Options Assessment'!H$7=$C$6,$H$6, TRUE,1), _xlfn.IFS('Options Assessment'!H$8=$C$9,$H$9, 'Options Assessment'!H$8=$C$10,$H$10, TRUE,1), IF('Options Assessment'!H$9=$C$13,$H$13,1), IF('Options Assessment'!H$10=$C$16,$H$16,1), _xlfn.IFS('Options Assessment'!H$11=$C$19,$H$19, 'Options Assessment'!H$11=$C$20,$H$20, 'Options Assessment'!H$11=$C$21,$H$21, TRUE,1), IF('Options Assessment'!H$12=$C$24,$H$24,1),IF('Options Assessment'!H$13=$C$35,$H$35,1),IF('Options Assessment'!H$14=$C$38,$H$38,1),IF('Options Assessment'!H$19=$C$41,$H$41,1),IF('Options Assessment'!H$20=$C$44,$H$44,1),IF('Options Assessment'!H$21=$C$47,$H$47,1),IF('Options Assessment'!H$22=$C$50,$H$50,1),_xlfn.IFS('Options Assessment'!H$23=$C$54,$H$54, 'Options Assessment'!H$23=$C$55,$H$55, 'Options Assessment'!H$23=$C$56,$H$56, TRUE,1),_xlfn.IFS('Options Assessment'!H$24=$C$59,$H$59, 'Options Assessment'!H$24=$C$60,$H$60, TRUE,1),IF('Options Assessment'!H$25=$C$63,$H$63,1),IF('Options Assessment'!H$26=$C$66,$H$66,1),IF('Options Assessment'!H$27=$C$69,$H$69,1),IF('Options Assessment'!H$28=$C$73,$H$73,1),IF('Options Assessment'!H$29=$C$76,$H$76,1),IF('Options Assessment'!H$30=$C$80,$H$80,1),IF('Options Assessment'!H$15=$C$88,$H$88,1),_xlfn.IFS('Options Assessment'!H$16=$C$91,$H$91, 'Options Assessment'!H$16=$C$92,$H$92, 'Options Assessment'!H$16=$C$93,$H$93, 'Options Assessment'!H$16=$C$94,$H$94, 'Options Assessment'!H$16=$C$95,$H$95, TRUE,1),_xlfn.IFS( 'Options Assessment'!H$32=$C$98,$H$98, 'Options Assessment'!H$32=$C$99,$H$99, 'Options Assessment'!H$32=$C$100,$H$100, TRUE,1),IF('Options Assessment'!H$33=$C$103,$H$103,1),IF('Options Assessment'!H$35=$C$106,$H$106,1),_xlfn.IFS('Options Assessment'!H$18=$C$109,$H$109, 'Options Assessment'!H$18=$C$110,$H$110, 'Options Assessment'!H$18=$C$111,$H$111, 'Options Assessment'!H$18=$C$112,$H$112, 'Options Assessment'!H$18=$C$113,$H$113, 'Options Assessment'!H$18=$C$114,$H$114, 'Options Assessment'!H$18=$C$115,$H$115, 'Options Assessment'!H$18=$C$116,$H$116, 'Options Assessment'!H$18=$C$117,$H$117, 'Options Assessment'!H$18=$C$118,$H$118, TRUE,1),IF('Options Assessment'!H$34=$C$121,$H$121,1),_xlfn.IFS('Options Assessment'!H$17=$C$127,$H$127, 'Options Assessment'!H$17=$C$128,$H$128, TRUE,1),_xlfn.IFS('Options Assessment'!H$6=$C$130,$F$130, 'Options Assessment'!H$6=$C$131,$F$131, 'Options Assessment'!H$6=$C$132,$F$132,TRUE,1))","v":1},{"$f":"PRODUCT(_xlfn.IFS('Options Assessment'!I$7=$C$5,$H$5, 'Options Assessment'!I$7=$C$6,$H$6, TRUE,1), _xlfn.IFS('Options Assessment'!I$8=$C$9,$H$9, 'Options Assessment'!I$8=$C$10,$H$10, TRUE,1), IF('Options Assessment'!I$9=$C$13,$H$13,1), IF('Options Assessment'!I$10=$C$16,$H$16,1), _xlfn.IFS('Options Assessment'!I$11=$C$19,$H$19, 'Options Assessment'!I$11=$C$20,$H$20, 'Options Assessment'!I$11=$C$21,$H$21, TRUE,1), IF('Options Assessment'!I$12=$C$24,$H$24,1),IF('Options Assessment'!I$13=$C$35,$H$35,1),IF('Options Assessment'!I$14=$C$38,$H$38,1),IF('Options Assessment'!I$19=$C$41,$H$41,1),IF('Options Assessment'!I$20=$C$44,$H$44,1),IF('Options Assessment'!I$21=$C$47,$H$47,1),IF('Options Assessment'!I$22=$C$50,$H$50,1),_xlfn.IFS('Options Assessment'!I$23=$C$54,$H$54, 'Options Assessment'!I$23=$C$55,$H$55, 'Options Assessment'!I$23=$C$56,$H$56, TRUE,1),_xlfn.IFS('Options Assessment'!I$24=$C$59,$H$59, 'Options Assessment'!I$24=$C$60,$H$60, TRUE,1),IF('Options Assessment'!I$25=$C$63,$H$63,1),IF('Options Assessment'!I$26=$C$66,$H$66,1),IF('Options Assessment'!I$27=$C$69,$H$69,1),IF('Options Assessment'!I$28=$C$73,$H$73,1),IF('Options Assessment'!I$29=$C$76,$H$76,1),IF('Options Assessment'!I$30=$C$80,$H$80,1),IF('Options Assessment'!I$15=$C$88,$H$88,1),_xlfn.IFS('Options Assessment'!I$16=$C$91,$H$91, 'Options Assessment'!I$16=$C$92,$H$92, 'Options Assessment'!I$16=$C$93,$H$93, 'Options Assessment'!I$16=$C$94,$H$94, 'Options Assessment'!I$16=$C$95,$H$95, TRUE,1),_xlfn.IFS( 'Options Assessment'!I$32=$C$98,$H$98, 'Options Assessment'!I$32=$C$99,$H$99, 'Options Assessment'!I$32=$C$100,$H$100, TRUE,1),IF('Options Assessment'!I$33=$C$103,$H$103,1),IF('Options Assessment'!I$35=$C$106,$H$106,1),_xlfn.IFS('Options Assessment'!I$18=$C$109,$H$109, 'Options Assessment'!I$18=$C$110,$H$110, 'Options Assessment'!I$18=$C$111,$H$111, 'Options Assessment'!I$18=$C$112,$H$112, 'Options Assessment'!I$18=$C$113,$H$113, 'Options Assessment'!I$18=$C$114,$H$114, 'Options Assessment'!I$18=$C$115,$H$115, 'Options Assessment'!I$18=$C$116,$H$116, 'Options Assessment'!I$18=$C$117,$H$117, 'Options Assessment'!I$18=$C$118,$H$118, TRUE,1),IF('Options Assessment'!I$34=$C$121,$H$121,1),_xlfn.IFS('Options Assessment'!I$17=$C$127,$H$127, 'Options Assessment'!I$17=$C$128,$H$128, TRUE,1),_xlfn.IFS('Options Assessment'!I$6=$C$130,$F$130, 'Options Assessment'!I$6=$C$131,$F$131, 'Options Assessment'!I$6=$C$132,$F$132,TRUE,1))","v":1},{"$f":"PRODUCT(_xlfn.IFS('Options Assessment'!J$7=$C$5,$H$5, 'Options Assessment'!J$7=$C$6,$H$6, TRUE,1), _xlfn.IFS('Options Assessment'!J$8=$C$9,$H$9, 'Options Assessment'!J$8=$C$10,$H$10, TRUE,1), IF('Options Assessment'!J$9=$C$13,$H$13,1), IF('Options Assessment'!J$10=$C$16,$H$16,1), _xlfn.IFS('Options Assessment'!J$11=$C$19,$H$19, 'Options Assessment'!J$11=$C$20,$H$20, 'Options Assessment'!J$11=$C$21,$H$21, TRUE,1), IF('Options Assessment'!J$12=$C$24,$H$24,1),IF('Options Assessment'!J$13=$C$35,$H$35,1),IF('Options Assessment'!J$14=$C$38,$H$38,1),IF('Options Assessment'!J$19=$C$41,$H$41,1),IF('Options Assessment'!J$20=$C$44,$H$44,1),IF('Options Assessment'!J$21=$C$47,$H$47,1),IF('Options Assessment'!J$22=$C$50,$H$50,1),_xlfn.IFS('Options Assessment'!J$23=$C$54,$H$54, 'Options Assessment'!J$23=$C$55,$H$55, 'Options Assessment'!J$23=$C$56,$H$56, TRUE,1),_xlfn.IFS('Options Assessment'!J$24=$C$59,$H$59, 'Options Assessment'!J$24=$C$60,$H$60, TRUE,1),IF('Options Assessment'!J$25=$C$63,$H$63,1),IF('Options Assessment'!J$26=$C$66,$H$66,1),IF('Options Assessment'!J$27=$C$69,$H$69,1),IF('Options Assessment'!J$28=$C$73,$H$73,1),IF('Options Assessment'!J$29=$C$76,$H$76,1),IF('Options Assessment'!J$30=$C$80,$H$80,1),IF('Options Assessment'!J$15=$C$88,$H$88,1),_xlfn.IFS('Options Assessment'!J$16=$C$91,$H$91, 'Options Assessment'!J$16=$C$92,$H$92, 'Options Assessment'!J$16=$C$93,$H$93, 'Options Assessment'!J$16=$C$94,$H$94, 'Options Assessment'!J$16=$C$95,$H$95, TRUE,1),_xlfn.IFS( 'Options Assessment'!J$32=$C$98,$H$98, 'Options Assessment'!J$32=$C$99,$H$99, 'Options Assessment'!J$32=$C$100,$H$100, TRUE,1),IF('Options Assessment'!J$33=$C$103,$H$103,1),IF('Options Assessment'!J$35=$C$106,$H$106,1),_xlfn.IFS('Options Assessment'!J$18=$C$109,$H$109, 'Options Assessment'!J$18=$C$110,$H$110, 'Options Assessment'!J$18=$C$111,$H$111, 'Options Assessment'!J$18=$C$112,$H$112, 'Options Assessment'!J$18=$C$113,$H$113, 'Options Assessment'!J$18=$C$114,$H$114, 'Options Assessment'!J$18=$C$115,$H$115, 'Options Assessment'!J$18=$C$116,$H$116, 'Options Assessment'!J$18=$C$117,$H$117, 'Options Assessment'!J$18=$C$118,$H$118, TRUE,1),IF('Options Assessment'!J$34=$C$121,$H$121,1),_xlfn.IFS('Options Assessment'!J$17=$C$127,$H$127, 'Options Assessment'!J$17=$C$128,$H$128, TRUE,1),_xlfn.IFS('Options Assessment'!J$6=$C$130,$F$130, 'Options Assessment'!J$6=$C$131,$F$131, 'Options Assessment'!J$6=$C$132,$F$132,TRUE,1))","v":1},{"$f":"PRODUCT(_xlfn.IFS('Options Assessment'!K$7=$C$5,$H$5, 'Options Assessment'!K$7=$C$6,$H$6, TRUE,1), _xlfn.IFS('Options Assessment'!K$8=$C$9,$H$9, 'Options Assessment'!K$8=$C$10,$H$10, TRUE,1), IF('Options Assessment'!K$9=$C$13,$H$13,1), IF('Options Assessment'!K$10=$C$16,$H$16,1), _xlfn.IFS('Options Assessment'!K$11=$C$19,$H$19, 'Options Assessment'!K$11=$C$20,$H$20, 'Options Assessment'!K$11=$C$21,$H$21, TRUE,1), IF('Options Assessment'!K$12=$C$24,$H$24,1),IF('Options Assessment'!K$13=$C$35,$H$35,1),IF('Options Assessment'!K$14=$C$38,$H$38,1),IF('Options Assessment'!K$19=$C$41,$H$41,1),IF('Options Assessment'!K$20=$C$44,$H$44,1),IF('Options Assessment'!K$21=$C$47,$H$47,1),IF('Options Assessment'!K$22=$C$50,$H$50,1),_xlfn.IFS('Options Assessment'!K$23=$C$54,$H$54, 'Options Assessment'!K$23=$C$55,$H$55, 'Options Assessment'!K$23=$C$56,$H$56, TRUE,1),_xlfn.IFS('Options Assessment'!K$24=$C$59,$H$59, 'Options Assessment'!K$24=$C$60,$H$60, TRUE,1),IF('Options Assessment'!K$25=$C$63,$H$63,1),IF('Options Assessment'!K$26=$C$66,$H$66,1),IF('Options Assessment'!K$27=$C$69,$H$69,1),IF('Options Assessment'!K$28=$C$73,$H$73,1),IF('Options Assessment'!K$29=$C$76,$H$76,1),IF('Options Assessment'!K$30=$C$80,$H$80,1),IF('Options Assessment'!K$15=$C$88,$H$88,1),_xlfn.IFS('Options Assessment'!K$16=$C$91,$H$91, 'Options Assessment'!K$16=$C$92,$H$92, 'Options Assessment'!K$16=$C$93,$H$93, 'Options Assessment'!K$16=$C$94,$H$94, 'Options Assessment'!K$16=$C$95,$H$95, TRUE,1),_xlfn.IFS( 'Options Assessment'!K$32=$C$98,$H$98, 'Options Assessment'!K$32=$C$99,$H$99, 'Options Assessment'!K$32=$C$100,$H$100, TRUE,1),IF('Options Assessment'!K$33=$C$103,$H$103,1),IF('Options Assessment'!K$35=$C$106,$H$106,1),_xlfn.IFS('Options Assessment'!K$18=$C$109,$H$109, 'Options Assessment'!K$18=$C$110,$H$110, 'Options Assessment'!K$18=$C$111,$H$111, 'Options Assessment'!K$18=$C$112,$H$112, 'Options Assessment'!K$18=$C$113,$H$113, 'Options Assessment'!K$18=$C$114,$H$114, 'Options Assessment'!K$18=$C$115,$H$115, 'Options Assessment'!K$18=$C$116,$H$116, 'Options Assessment'!K$18=$C$117,$H$117, 'Options Assessment'!K$18=$C$118,$H$118, TRUE,1),IF('Options Assessment'!K$34=$C$121,$H$121,1),_xlfn.IFS('Options Assessment'!K$17=$C$127,$H$127, 'Options Assessment'!K$17=$C$128,$H$128, TRUE,1),_xlfn.IFS('Options Assessment'!K$6=$C$130,$F$130, 'Options Assessment'!K$6=$C$131,$F$131, 'Options Assessment'!K$6=$C$132,$F$132,TRUE,1))","v":1},{"$f":"PRODUCT(_xlfn.IFS('Options Assessment'!L$7=$C$5,$H$5, 'Options Assessment'!L$7=$C$6,$H$6, TRUE,1), _xlfn.IFS('Options Assessment'!L$8=$C$9,$H$9, 'Options Assessment'!L$8=$C$10,$H$10, TRUE,1), IF('Options Assessment'!L$9=$C$13,$H$13,1), IF('Options Assessment'!L$10=$C$16,$H$16,1), _xlfn.IFS('Options Assessment'!L$11=$C$19,$H$19, 'Options Assessment'!L$11=$C$20,$H$20, 'Options Assessment'!L$11=$C$21,$H$21, TRUE,1), IF('Options Assessment'!L$12=$C$24,$H$24,1),IF('Options Assessment'!L$13=$C$35,$H$35,1),IF('Options Assessment'!L$14=$C$38,$H$38,1),IF('Options Assessment'!L$19=$C$41,$H$41,1),IF('Options Assessment'!L$20=$C$44,$H$44,1),IF('Options Assessment'!L$21=$C$47,$H$47,1),IF('Options Assessment'!L$22=$C$50,$H$50,1),_xlfn.IFS('Options Assessment'!L$23=$C$54,$H$54, 'Options Assessment'!L$23=$C$55,$H$55, 'Options Assessment'!L$23=$C$56,$H$56, TRUE,1),_xlfn.IFS('Options Assessment'!L$24=$C$59,$H$59, 'Options Assessment'!L$24=$C$60,$H$60, TRUE,1),IF('Options Assessment'!L$25=$C$63,$H$63,1),IF('Options Assessment'!L$26=$C$66,$H$66,1),IF('Options Assessment'!L$27=$C$69,$H$69,1),IF('Options Assessment'!L$28=$C$73,$H$73,1),IF('Options Assessment'!L$29=$C$76,$H$76,1),IF('Options Assessment'!L$30=$C$80,$H$80,1),IF('Options Assessment'!L$15=$C$88,$H$88,1),_xlfn.IFS('Options Assessment'!L$16=$C$91,$H$91, 'Options Assessment'!L$16=$C$92,$H$92, 'Options Assessment'!L$16=$C$93,$H$93, 'Options Assessment'!L$16=$C$94,$H$94, 'Options Assessment'!L$16=$C$95,$H$95, TRUE,1),_xlfn.IFS( 'Options Assessment'!L$32=$C$98,$H$98, 'Options Assessment'!L$32=$C$99,$H$99, 'Options Assessment'!L$32=$C$100,$H$100, TRUE,1),IF('Options Assessment'!L$33=$C$103,$H$103,1),IF('Options Assessment'!L$35=$C$106,$H$106,1),_xlfn.IFS('Options Assessment'!L$18=$C$109,$H$109, 'Options Assessment'!L$18=$C$110,$H$110, 'Options Assessment'!L$18=$C$111,$H$111, 'Options Assessment'!L$18=$C$112,$H$112, 'Options Assessment'!L$18=$C$113,$H$113, 'Options Assessment'!L$18=$C$114,$H$114, 'Options Assessment'!L$18=$C$115,$H$115, 'Options Assessment'!L$18=$C$116,$H$116, 'Options Assessment'!L$18=$C$117,$H$117, 'Options Assessment'!L$18=$C$118,$H$118, TRUE,1),IF('Options Assessment'!L$34=$C$121,$H$121,1),_xlfn.IFS('Options Assessment'!L$17=$C$127,$H$127, 'Options Assessment'!L$17=$C$128,$H$128, TRUE,1),_xlfn.IFS('Options Assessment'!L$6=$C$130,$F$130, 'Options Assessment'!L$6=$C$131,$F$131, 'Options Assessment'!L$6=$C$132,$F$132,TRUE,1))","v":1}]
[]
[]
[]
[]
[]
[]
[]
[]
[null,null,null,null,null,null,null,null,null,null,null,null,null,{"$f":"E80*E132","v":0}]
[]
[]
[]
[]
[]
[]
[]
[]
[]
[]
[]
[]
[]
[]
[]
[]
[]
[]
[]
[]
[]
[]
[]
[]
["Intersection Crash Modification"]
[]
[]
[]
[]
[]
[]
[]
[]
[]
[]
[]
[]
[]
[]
[]
[]
[]
[]
[]
[]
[]
[]
[]
[]
[]
[]
[]
[]
[]
[]
[]
[]
[]
[]
[]
[]
[]
[]
[]
[]
[]
[]
[]
[]
[]
[]
[null,"Intersection Cycle facility","No",{"$f":"_xlfn.CONCAT(B87,\" - \",C87)","v":"Intersection Cycle facility - No"},1,1,1,1]
[null,"Intersection Cycle facility","Yes","Intersection Cycle facility - Yes",0.65]
[]
["Cyclist Crash Modification","Cycle facility","None","Cycle facility - None",0.65,1,1]
[null,"Cycle facility","Standard on-road cycle lane","Cycle facility - Standard on-road cycle lane",0.9,0.9,0.9]
[null,"Cycle facility","Wide on-road cycle lane","Cycle facility - Wide on-road cycle lane",0.8,0.8,0.8]
[null,"Cycle facility","Advanced Cycle stop boxes","Cycle facility - Advanced Cycle stop boxes",0.65]
[null,"Cycle facility","Separated cycle paths","Cycle facility - Separated cycle paths",1,1,1]
[null,"Cycle facility","Shared path","Cycle facility - Shared path",1,1,1]
[]
["Pedestrian Crash Modification"]
[]
[]
[]
[]
[]
[]
[]
[]
[]
[]
[]
[]
[]
[]
[]
[]
[]
[]
[]
[]
[]
[]
[]
[]
["Other Crash Modification"]
[]
[null,null,null,null,null,null,null,null,2]
[]
[]
[]
[]
[]
[]
[]
[]
[]
[null,"Notes: yellow cells are assumed values."]
[null,"Orange cells are the components included in current road layout."]
[]
[]
[]
[null,null,"Speed Change",null,"Signalised Intersection","Midblock","Priority Intersection","Roundabout"]
["Speed limit change","Speed Change",0]
[null,null,-2.5,null,2.5,{"$f":"1-EXP(0.034*-E141)","v":8.148771559854262E-2}]
[null,null,-5,null,5,0.1563351834036163]
[null,null,-7.5,null,7.5,0.22508350203891903]
[null,null,-10,null,10,0.28822967723739035]
[null,null,-12.5,null,12.5,0.34623021487015271]
[null,null,-15,null,15,0.3995044211877341]
[null,null,-20,null,20,0.49338300763441045]
["Road Stereotype (without congestion)","Laneway - narrow"]
[null,"Local - narrow"]
[null,"Local - medium"]
[null,"Local - wide"]
[null,"Collector - narrow"]
[null,"Collector - medium"]
[null,"Collector - wide"]
[null,"50 Arterial - medium"]
[null,"50 Arterial - wide"]
[null,"60 Arterial"]

{"sheet":"Models","index":13,"n_rows":61,"n_cols":54,"rows_kept":61,"cut":false,"hidden":true,"merged":[[41,43,44,43],[41,42,48,42],[2,42,2,43],[3,42,9,43],[33,42,40,42],[33,43,36,43],[37,43,40,43],[30,42,32,43],[10,42,15,43],[16,42,22,43],[23,42,25,43],[26,42,29,43]]}
["Road Type","Control","Type","Lookup Value","Network Assessment","Segment 1","Segment 2","Segment 3","Segment 4","Segment 5","Segment 6","Segment 7","Segment 8","Segment 9","Segment 10"]
[null,null,null,"N/A"]
["Intersection","Uncontrolled T","All Movements",{"$f":"_xlfn.CONCAT(A3,\" \",B3,\" \",C3)","v":"Intersection Uncontrolled T All Movements"},{"$f":"$AT4*'Do Minimum Assessment'!#REF!^Models!$AU4*'Do Minimum Assessment'!#REF!^Models!$AV4","v":{"$error":"#REF!"}},{"$f":"$AT4*'Do Minimum Assessment'!C34^Models!$AU4*'Do Minimum Assessment'!C35^Models!$AV4","v":0.41007265016025551},{"$f":"$AT4*'Do Minimum Assessment'!D34^Models!$AU4*'Do Minimum Assessment'!D35^Models!$AV4","v":0},{"$f":"$AT4*'Do Minimum Assessment'!E34^Models!$AU4*'Do Minimum Assessment'!E35^Models!$AV4","v":0},{"$f":"$AT4*'Do Minimum Assessment'!F34^Models!$AU4*'Do Minimum Assessment'!F35^Models!$AV4","v":0},{"$f":"$AT4*'Do Minimum Assessment'!G34^Models!$AU4*'Do Minimum Assessment'!G35^Models!$AV4","v":0},{"$f":"$AT4*'Do Minimum Assessment'!H34^Models!$AU4*'Do Minimum Assessment'!H35^Models!$AV4","v":0},{"$f":"$AT4*'Do Minimum Assessment'!I34^Models!$AU4*'Do Minimum Assessment'!I35^Models!$AV4","v":0},{"$f":"$AT4*'Do Minimum Assessment'!J34^Models!$AU4*'Do Minimum Assessment'!J35^Models!$AV4","v":0},{"$f":"$AT4*'Do Minimum Assessment'!K34^Models!$AU4*'Do Minimum Assessment'!K35^Models!$AV4","v":0},{"$f":"$AT4*'Do Minimum Assessment'!L34^Models!$AU4*'Do Minimum Assessment'!L35^Models!$AV4","v":0},null,null,null,null,null,null,null,null,null,null,null,null,null,null,null,null,null,null,null,null,null,null,null,null,null,null,null,"Vehicle",null,"Type","b0","b1","b2","^b3","^b4","^b5"]
["Intersection","Priorty X","All Movements",{"$f":"_xlfn.CONCAT(A4,\" \",B4,\" \",C4)","v":"Intersection Priorty X All Movements"},{"$f":"$AT5*'Do Minimum Assessment'!#REF!^Models!$AU5*'Do Minimum Assessment'!#REF!^Models!$AV5","v":{"$error":"#REF!"}},{"$f":"$AT5*'Do Minimum Assessment'!C34^Models!$AU5*'Do Minimum Assessment'!C35^Models!$AV5","v":0.55840726367250226},{"$f":"$AT5*'Do Minimum Assessment'!D34^Models!$AU5*'Do Minimum Assessment'!D35^Models!$AV5","v":0},{"$f":"$AT5*'Do Minimum Assessment'!E34^Models!$AU5*'Do Minimum Assessment'!E35^Models!$AV5","v":0},{"$f":"$AT5*'Do Minimum Assessment'!F34^Models!$AU5*'Do Minimum Assessment'!F35^Models!$AV5","v":0},{"$f":"$AT5*'Do Minimum Assessment'!G34^Models!$AU5*'Do Minimum Assessment'!G35^Models!$AV5","v":0},{"$f":"$AT5*'Do Minimum Assessment'!H34^Models!$AU5*'Do Minimum Assessment'!H35^Models!$AV5","v":0},{"$f":"$AT5*'Do Minimum Assessment'!I34^Models!$AU5*'Do Minimum Assessment'!I35^Models!$AV5","v":0},{"$f":"$AT5*'Do Minimum Assessment'!J34^Models!$AU5*'Do Minimum Assessment'!J35^Models!$AV5","v":0},{"$f":"$AT5*'Do Minimum Assessment'!K34^Models!$AU5*'Do Minimum Assessment'!K35^Models!$AV5","v":0},{"$f":"$AT5*'Do Minimum Assessment'!L34^Models!$AU5*'Do Minimum Assessment'!L35^Models!$AV5","v":0},null,null,null,null,null,null,null,null,null,null,null,"National and Regional Stretegic and Arterial ( 2/4 lane)",null,null,null,null,null,null,null,null,null,null,null,null,null,null,null,"X, T, R  Urban Intersections                                                        The ‘general’ model is suitable for most urban cross roads (four leg) and T-junctions (three leg) types and uses two-way link volumes where the posted speed limit is 50–70km/h. Where a breakdown by crash type and road user type is required, or where the proportion of turning vehicles is high compared with through vehicles, then the appropriate conflicting flow models (in Section 7) should be used. ",null,"Uncontrolled T",{"$f":"2.19*10^-3","v":2.1900000000000001E-3},0.36,0.19,null,null,null,"CEC","Table 13: General cross-road and T-junction urban intersections (50-70km/h) coefficients (reference 21)"]
["Intersection","Priority T","All Movements","Intersection Priority T All Movements",{"$f":"$AT6*'Do Minimum Assessment'!#REF!^Models!$AU6*'Do Minimum Assessment'!#REF!^Models!$AV6","v":{"$error":"#REF!"}},{"$f":"$AT6*'Do Minimum Assessment'!C34^Models!$AU6*'Do Minimum Assessment'!C35^Models!$AV6","v":0.61283740320070457},{"$f":"$AT6*'Do Minimum Assessment'!D34^Models!$AU6*'Do Minimum Assessment'!D35^Models!$AV6","v":0},{"$f":"$AT6*'Do Minimum Assessment'!E34^Models!$AU6*'Do Minimum Assessment'!E35^Models!$AV6","v":0},{"$f":"$AT6*'Do Minimum Assessment'!F34^Models!$AU6*'Do Minimum Assessment'!F35^Models!$AV6","v":0},{"$f":"$AT6*'Do Minimum Assessment'!G34^Models!$AU6*'Do Minimum Assessment'!G35^Models!$AV6","v":0},{"$f":"$AT6*'Do Minimum Assessment'!H34^Models!$AU6*'Do Minimum Assessment'!H35^Models!$AV6","v":0},{"$f":"$AT6*'Do Minimum Assessment'!I34^Models!$AU6*'Do Minimum Assessment'!I35^Models!$AV6","v":0},{"$f":"$AT6*'Do Minimum Assessment'!J34^Models!$AU6*'Do Minimum Assessment'!J35^Models!$AV6","v":0},{"$f":"$AT6*'Do Minimum Assessment'!K34^Models!$AU6*'Do Minimum Assessment'!K35^Models!$AV6","v":0},{"$f":"$AT6*'Do Minimum Assessment'!L34^Models!$AU6*'Do Minimum Assessment'!L35^Models!$AV6","v":0},null,null,null,null,null,null,null,null,null,null,null,"Loss of control","Other",null,null,null,null,null,null,null,null,null,null,null,null,null,null,null,null,"Priorty X",{"$f":"1.08*10^-3","v":1.08E-3},0.21,0.51,null,null,null,"CEC","Table 13: General cross-road and T-junction urban intersections (50-70km/h) coefficients (reference 21)"]
["Intersection","Traffic Signals - X","All Movements","Intersection Traffic Signals - X All Movements",{"$f":"$AT7*'Do Minimum Assessment'!#REF!^Models!$AU7*'Do Minimum Assessment'!#REF!^Models!$AV7","v":{"$error":"#REF!"}},{"$f":"$AT7*'Do Minimum Assessment'!C34^Models!$AU7*'Do Minimum Assessment'!C35^Models!$AV7","v":0.98850546059029709},{"$f":"$AT7*'Do Minimum Assessment'!D34^Models!$AU7*'Do Minimum Assessment'!D35^Models!$AV7","v":0},{"$f":"$AT7*'Do Minimum Assessment'!E34^Models!$AU7*'Do Minimum Assessment'!E35^Models!$AV7","v":0},{"$f":"$AT7*'Do Minimum Assessment'!F34^Models!$AU7*'Do Minimum Assessment'!F35^Models!$AV7","v":0},{"$f":"$AT7*'Do Minimum Assessment'!G34^Models!$AU7*'Do Minimum Assessment'!G35^Models!$AV7","v":0},{"$f":"$AT7*'Do Minimum Assessment'!H34^Models!$AU7*'Do Minimum Assessment'!H35^Models!$AV7","v":0},{"$f":"$AT7*'Do Minimum Assessment'!I34^Models!$AU7*'Do Minimum Assessment'!I35^Models!$AV7","v":0},{"$f":"$AT7*'Do Minimum Assessment'!J34^Models!$AU7*'Do Minimum Assessment'!J35^Models!$AV7","v":0},{"$f":"$AT7*'Do Minimum Assessment'!K34^Models!$AU7*'Do Minimum Assessment'!K35^Models!$AV7","v":0},{"$f":"$AT7*'Do Minimum Assessment'!L34^Models!$AU7*'Do Minimum Assessment'!L35^Models!$AV7","v":0},null,null,null,null,null,null,null,null,null,null,null,null,null,null,null,null,null,null,null,null,null,null,null,null,null,null,null,null,null,"Priority T",{"$f":"4.89*10^-5","v":4.8900000000000003E-5},0.76,0.2,null,null,null,"CEC","Table 13: General cross-road and T-junction urban intersections (50-70km/h) coefficients (reference 21)"]
["Intersection","Traffic Signals - T","All Movements","Intersection Traffic Signals - T All Movements",{"$f":"$AT8*'Do Minimum Assessment'!#REF!^Models!$AU8*'Do Minimum Assessment'!#REF!^Models!$AV8","v":{"$error":"#REF!"}},{"$f":"$AT8*'Do Minimum Assessment'!C34^Models!$AU8*'Do Minimum Assessment'!C35^Models!$AV8","v":0.5171430546813558},{"$f":"$AT8*'Do Minimum Assessment'!D34^Models!$AU8*'Do Minimum Assessment'!D35^Models!$AV8","v":0},{"$f":"$AT8*'Do Minimum Assessment'!E34^Models!$AU8*'Do Minimum Assessment'!E35^Models!$AV8","v":0},{"$f":"$AT8*'Do Minimum Assessment'!F34^Models!$AU8*'Do Minimum Assessment'!F35^Models!$AV8","v":0},{"$f":"$AT8*'Do Minimum Assessment'!G34^Models!$AU8*'Do Minimum Assessment'!G35^Models!$AV8","v":0},{"$f":"$AT8*'Do Minimum Assessment'!H34^Models!$AU8*'Do Minimum Assessment'!H35^Models!$AV8","v":0},{"$f":"$AT8*'Do Minimum Assessment'!I34^Models!$AU8*'Do Minimum Assessment'!I35^Models!$AV8","v":0},{"$f":"$AT8*'Do Minimum Assessment'!J34^Models!$AU8*'Do Minimum Assessment'!J35^Models!$AV8","v":0},{"$f":"$AT8*'Do Minimum Assessment'!K34^Models!$AU8*'Do Minimum Assessment'!K35^Models!$AV8","v":0},{"$f":"$AT8*'Do Minimum Assessment'!L34^Models!$AU8*'Do Minimum Assessment'!L35^Models!$AV8","v":0},null,null,null,null,null,null,null,null,null,null,null,null,null,null,null,null,null,null,null,null,null,null,null,null,null,null,null,null,null,"Traffic Signals - X",{"$f":"2.81*10^-3","v":2.81E-3},0.46,0.14000000000000001,null,null,null,"CEC","Table 13: General cross-road and T-junction urban intersections (50-70km/h) coefficients (reference 21)"]
["Intersection","Roundabout (Single)","All Movements","Intersection Roundabout (Single) All Movements",{"$f":"$AT9*'Do Minimum Assessment'!#REF!^Models!$AU9","v":{"$error":"#REF!"}},{"$f":"$AT9*'Do Minimum Assessment'!C34^Models!$AU9","v":0.19005329527930181},{"$f":"$AT9*'Do Minimum Assessment'!D34^Models!$AU9","v":0},{"$f":"$AT9*'Do Minimum Assessment'!E34^Models!$AU9","v":0},{"$f":"$AT9*'Do Minimum Assessment'!F34^Models!$AU9","v":0},{"$f":"$AT9*'Do Minimum Assessment'!G34^Models!$AU9","v":0},{"$f":"$AT9*'Do Minimum Assessment'!H34^Models!$AU9","v":0},{"$f":"$AT9*'Do Minimum Assessment'!I34^Models!$AU9","v":0},{"$f":"$AT9*'Do Minimum Assessment'!J34^Models!$AU9","v":0},{"$f":"$AT9*'Do Minimum Assessment'!K34^Models!$AU9","v":0},{"$f":"$AT9*'Do Minimum Assessment'!L34^Models!$AU9","v":0},null,null,null,null,null,null,null,null,null,null,null,null,null,null,null,null,null,null,null,null,null,null,null,null,null,null,null,null,null,"Traffic Signals - T",{"$f":"1.31*10^-1","v":0.13100000000000001},0.04,0.12,null,null,null,"CEC","Table 13: General cross-road and T-junction urban intersections (50-70km/h) coefficients (reference 21)"]
["Intersection","Roundabout (Multiple)","All Movements","Intersection Roundabout (Multiple) All Movements",{"$f":"$AT10*'Do Minimum Assessment'!#REF!^Models!$AU10","v":{"$error":"#REF!"}},{"$f":"$AT10*'Do Minimum Assessment'!C34^Models!$AU10","v":0.31412135082545728},{"$f":"$AT10*'Do Minimum Assessment'!D34^Models!$AU10","v":0},{"$f":"$AT10*'Do Minimum Assessment'!E34^Models!$AU10","v":0},{"$f":"$AT10*'Do Minimum Assessment'!F34^Models!$AU10","v":0},{"$f":"$AT10*'Do Minimum Assessment'!G34^Models!$AU10","v":0},{"$f":"$AT10*'Do Minimum Assessment'!H34^Models!$AU10","v":0},{"$f":"$AT10*'Do Minimum Assessment'!I34^Models!$AU10","v":0},{"$f":"$AT10*'Do Minimum Assessment'!J34^Models!$AU10","v":0},{"$f":"$AT10*'Do Minimum Assessment'!K34^Models!$AU10","v":0},{"$f":"$AT10*'Do Minimum Assessment'!L34^Models!$AU10","v":0},null,null,null,null,null,null,null,null,null,null,null,null,null,null,null,null,null,null,null,null,null,null,null,null,null,null,null,null,null,"Roundabout (Single)",{"$f":"4.81*10^-4","v":4.8099999999999998E-4},0.57999999999999996,null,null,null,null,"CEC","Table 15: General urban roundabouts 50-70km/h coefficients (reference 5)"]
["Intersection","Traffic Signals - X","Crossing (no turns, motor vehicle only) ","Intersection Traffic Signals - X Crossing (no turns, motor vehicle only) ",{"$f":"$AT11*'Do Minimum Assessment'!#REF!^Models!$AU11*'Do Minimum Assessment'!#REF!^Models!$AV11","v":{"$error":"#REF!"}},{"$f":"$AT11*'Do Minimum Assessment'!C35^Models!$AU11*'Do Minimum Assessment'!C34^Models!$AV11","v":8.2307434329844442E-2},{"$f":"$AT11*'Do Minimum Assessment'!D35^Models!$AU11*'Do Minimum Assessment'!D34^Models!$AV11","v":0},{"$f":"$AT11*'Do Minimum Assessment'!E35^Models!$AU11*'Do Minimum Assessment'!E34^Models!$AV11","v":0},{"$f":"$AT11*'Do Minimum Assessment'!F35^Models!$AU11*'Do Minimum Assessment'!F34^Models!$AV11","v":0},{"$f":"$AT11*'Do Minimum Assessment'!G35^Models!$AU11*'Do Minimum Assessment'!G34^Models!$AV11","v":0},{"$f":"$AT11*'Do Minimum Assessment'!H35^Models!$AU11*'Do Minimum Assessment'!H34^Models!$AV11","v":0},{"$f":"$AT11*'Do Minimum Assessment'!I35^Models!$AU11*'Do Minimum Assessment'!I34^Models!$AV11","v":0},{"$f":"$AT11*'Do Minimum Assessment'!J35^Models!$AU11*'Do Minimum Assessment'!J34^Models!$AV11","v":0},{"$f":"$AT11*'Do Minimum Assessment'!K35^Models!$AU11*'Do Minimum Assessment'!K34^Models!$AV11","v":0},{"$f":"$AT11*'Do Minimum Assessment'!L35^Models!$AU11*'Do Minimum Assessment'!L34^Models!$AV11","v":0},null,null,null,null,null,null,null,null,null,null,null,null,null,null,null,null,null,null,null,null,null,null,null,null,null,null,null,null,null,"Roundabout (Multiple)",{"$f":"7.95*10^-4","v":7.9500000000000003E-4},0.57999999999999996,null,null,null,null,"CEC","Table 15: General urban roundabouts 50-70km/h coefficients (reference 5)"]
["Intersection","Traffic Signals - X","Right turn against (motor-vehicle only) ","Intersection Traffic Signals - X Right turn against (motor-vehicle only) ",{"$f":"$AT12*'Do Minimum Assessment'!#REF!^Models!$AU12*'Do Minimum Assessment'!#REF!^Models!$AV12","v":{"$error":"#REF!"}},{"$f":"$AT12*'Do Minimum Assessment'!C35^Models!$AU12*'Do Minimum Assessment'!#REF!^Models!$AV12","v":{"$error":"#REF!"}},{"$f":"$AT12*'Do Minimum Assessment'!D35^Models!$AU12*'Do Minimum Assessment'!#REF!^Models!$AV12","v":{"$error":"#REF!"}},{"$f":"$AT12*'Do Minimum Assessment'!E35^Models!$AU12*'Do Minimum Assessment'!#REF!^Models!$AV12","v":{"$error":"#REF!"}},{"$f":"$AT12*'Do Minimum Assessment'!F35^Models!$AU12*'Do Minimum Assessment'!#REF!^Models!$AV12","v":{"$error":"#REF!"}},{"$f":"$AT12*'Do Minimum Assessment'!G35^Models!$AU12*'Do Minimum Assessment'!#REF!^Models!$AV12","v":{"$error":"#REF!"}},{"$f":"$AT12*'Do Minimum Assessment'!H35^Models!$AU12*'Do Minimum Assessment'!#REF!^Models!$AV12","v":{"$error":"#REF!"}},{"$f":"$AT12*'Do Minimum Assessment'!I35^Models!$AU12*'Do Minimum Assessment'!#REF!^Models!$AV12","v":{"$error":"#REF!"}},{"$f":"$AT12*'Do Minimum Assessment'!J35^Models!$AU12*'Do Minimum Assessment'!#REF!^Models!$AV12","v":{"$error":"#REF!"}},{"$f":"$AT12*'Do Minimum Assessment'!K35^Models!$AU12*'Do Minimum Assessment'!#REF!^Models!$AV12","v":{"$error":"#REF!"}},{"$f":"$AT12*'Do Minimum Assessment'!L35^Models!$AU12*'Do Minimum Assessment'!#REF!^Models!$AV12","v":{"$error":"#REF!"}},null,null,null,null,null,null,null,null,null,null,null,null,null,null,null,null,null,null,null,null,null,null,null,null,null,null,null,"Urban Signalised X Intersections",null,"Crossing (no turns, motor vehicle only) ",{"$f":"9.17*10^-5","v":9.1700000000000006E-5},0.36,0.38,null,null,null,"CEC","Table 23: Urban signalised cross roads (<80km/h) variables and CAS movement categories "]
["Intersection","Traffic Signals - X","Others (motor-vehicle only) ","Intersection Traffic Signals - X Others (motor-vehicle only) ",{"$f":"$AT13*'Do Minimum Assessment'!#REF!^Models!$AU13","v":{"$error":"#REF!"}},{"$f":"$AT13*'Do Minimum Assessment'!C34^Models!$AU13","v":9.2861864914798989E-2},{"$f":"$AT13*'Do Minimum Assessment'!D34^Models!$AU13","v":0},{"$f":"$AT13*'Do Minimum Assessment'!E34^Models!$AU13","v":0},{"$f":"$AT13*'Do Minimum Assessment'!F34^Models!$AU13","v":0},{"$f":"$AT13*'Do Minimum Assessment'!G34^Models!$AU13","v":0},{"$f":"$AT13*'Do Minimum Assessment'!H34^Models!$AU13","v":0},{"$f":"$AT13*'Do Minimum Assessment'!I34^Models!$AU13","v":0},{"$f":"$AT13*'Do Minimum Assessment'!J34^Models!$AU13","v":0},{"$f":"$AT13*'Do Minimum Assessment'!K34^Models!$AU13","v":0},{"$f":"$AT13*'Do Minimum Assessment'!L34^Models!$AU13","v":0},null,null,null,null,null,null,null,null,null,null,null,null,null,null,null,null,null,null,null,null,null,null,null,null,null,null,null,null,null,"Right turn against (motor-vehicle only) ",{"$f":"5.61*10^-5","v":5.6100000000000008E-5},0.49,0.42,null,null,null,"CEC","Table 23: Urban signalised cross roads (<80km/h) variables and CAS movement categories "]
["Intersection","Traffic Signals - X","Pedestrian versus motor vehicle ","Intersection Traffic Signals - X Pedestrian versus motor vehicle ",{"$f":"$AT14*'Do Minimum Assessment'!#REF!^Models!$AU14*'Do Minimum Assessment'!#REF!^Models!$AV14","v":{"$error":"#REF!"}},{"$f":"$AT14*'Do Minimum Assessment'!C35^Models!$AU14*'Do Minimum Assessment'!C36^Models!$AV14","v":2.2527720055786619E-2},{"$f":"$AT14*'Do Minimum Assessment'!D35^Models!$AU14*'Do Minimum Assessment'!D36^Models!$AV14","v":{"$error":"#DIV/0!"}},{"$f":"$AT14*'Do Minimum Assessment'!E35^Models!$AU14*'Do Minimum Assessment'!E36^Models!$AV14","v":{"$error":"#DIV/0!"}},{"$f":"$AT14*'Do Minimum Assessment'!F35^Models!$AU14*'Do Minimum Assessment'!F36^Models!$AV14","v":{"$error":"#DIV/0!"}},{"$f":"$AT14*'Do Minimum Assessment'!G35^Models!$AU14*'Do Minimum Assessment'!G36^Models!$AV14","v":{"$error":"#DIV/0!"}},{"$f":"$AT14*'Do Minimum Assessment'!H35^Models!$AU14*'Do Minimum Assessment'!H36^Models!$AV14","v":{"$error":"#DIV/0!"}},{"$f":"$AT14*'Do Minimum Assessment'!I35^Models!$AU14*'Do Minimum Assessment'!I36^Models!$AV14","v":{"$error":"#DIV/0!"}},{"$f":"$AT14*'Do Minimum Assessment'!J35^Models!$AU14*'Do Minimum Assessment'!J36^Models!$AV14","v":{"$error":"#DIV/0!"}},{"$f":"$AT14*'Do Minimum Assessment'!K35^Models!$AU14*'Do Minimum Assessment'!K36^Models!$AV14","v":{"$error":"#DIV/0!"}},{"$f":"$AT14*'Do Minimum Assessment'!L35^Models!$AU14*'Do Minimum Assessment'!L36^Models!$AV14","v":{"$error":"#DIV/0!"}},null,null,null,null,null,null,null,null,null,null,null,null,null,null,null,null,null,null,null,null,null,null,null,null,null,null,null,null,null,"Others (motor-vehicle only) ",{"$f":"2.12*10^-4","v":2.1200000000000003E-4},0.59,null,null,null,null,"CEC","Table 23: Urban signalised cross roads (<80km/h) variables and CAS movement categories "]
["Intersection","Traffic Signals - X","Right turn against (cyclist travelling through)","Intersection Traffic Signals - X Right turn against (cyclist travelling through)",{"$f":"$AT15*'Do Minimum Assessment'!#REF!^Models!$AU15*'Do Minimum Assessment'!#REF!^Models!$AV15","v":{"$error":"#REF!"}},{"$f":"$AT15*'Do Minimum Assessment'!#REF!^Models!$AU15*'Do Minimum Assessment'!#REF!^Models!$AV15","v":{"$error":"#REF!"}},{"$f":"$AT15*'Do Minimum Assessment'!#REF!^Models!$AU15*'Do Minimum Assessment'!#REF!^Models!$AV15","v":{"$error":"#REF!"}},{"$f":"$AT15*'Do Minimum Assessment'!#REF!^Models!$AU15*'Do Minimum Assessment'!#REF!^Models!$AV15","v":{"$error":"#REF!"}},{"$f":"$AT15*'Do Minimum Assessment'!#REF!^Models!$AU15*'Do Minimum Assessment'!#REF!^Models!$AV15","v":{"$error":"#REF!"}},{"$f":"$AT15*'Do Minimum Assessment'!#REF!^Models!$AU15*'Do Minimum Assessment'!#REF!^Models!$AV15","v":{"$error":"#REF!"}},{"$f":"$AT15*'Do Minimum Assessment'!#REF!^Models!$AU15*'Do Minimum Assessment'!#REF!^Models!$AV15","v":{"$error":"#REF!"}},{"$f":"$AT15*'Do Minimum Assessment'!#REF!^Models!$AU15*'Do Minimum Assessment'!#REF!^Models!$AV15","v":{"$error":"#REF!"}},{"$f":"$AT15*'Do Minimum Assessment'!#REF!^Models!$AU15*'Do Minimum Assessment'!#REF!^Models!$AV15","v":{"$error":"#REF!"}},{"$f":"$AT15*'Do Minimum Assessment'!#REF!^Models!$AU15*'Do Minimum Assessment'!#REF!^Models!$AV15","v":{"$error":"#REF!"}},{"$f":"$AT15*'Do Minimum Assessment'!#REF!^Models!$AU15*'Do Minimum Assessment'!#REF!^Models!$AV15","v":{"$error":"#REF!"}},null,null,null,null,null,null,null,null,null,null,null,null,null,null,null,null,null,null,null,null,null,null,null,null,null,null,null,null,null,"Pedestrian versus motor vehicle ",{"$f":"2.79*10^-2","v":2.7900000000000001E-2},-0.05,0.03,null,null,null,"CEC","Table 23: Urban signalised cross roads (<80km/h) variables and CAS movement categories "]
["Intersection","Traffic Signals - X","Others (cyclist versus motor vehicle)","Intersection Traffic Signals - X Others (cyclist versus motor vehicle)",{"$f":"$AT16*'Do Minimum Assessment'!#REF!^Models!$AU16*'Do Minimum Assessment'!#REF!^Models!$AV16","v":{"$error":"#REF!"}},{"$f":"$AT16*'Do Minimum Assessment'!C34^Models!$AU16*'Do Minimum Assessment'!#REF!^Models!$AV16","v":{"$error":"#REF!"}},{"$f":"$AT16*'Do Minimum Assessment'!D34^Models!$AU16*'Do Minimum Assessment'!#REF!^Models!$AV16","v":{"$error":"#REF!"}},{"$f":"$AT16*'Do Minimum Assessment'!E34^Models!$AU16*'Do Minimum Assessment'!#REF!^Models!$AV16","v":{"$error":"#REF!"}},{"$f":"$AT16*'Do Minimum Assessment'!F34^Models!$AU16*'Do Minimum Assessment'!#REF!^Models!$AV16","v":{"$error":"#REF!"}},{"$f":"$AT16*'Do Minimum Assessment'!G34^Models!$AU16*'Do Minimum Assessment'!#REF!^Models!$AV16","v":{"$error":"#REF!"}},{"$f":"$AT16*'Do Minimum Assessment'!H34^Models!$AU16*'Do Minimum Assessment'!#REF!^Models!$AV16","v":{"$error":"#REF!"}},{"$f":"$AT16*'Do Minimum Assessment'!I34^Models!$AU16*'Do Minimum Assessment'!#REF!^Models!$AV16","v":{"$error":"#REF!"}},{"$f":"$AT16*'Do Minimum Assessment'!J34^Models!$AU16*'Do Minimum Assessment'!#REF!^Models!$AV16","v":{"$error":"#REF!"}},{"$f":"$AT16*'Do Minimum Assessment'!K34^Models!$AU16*'Do Minimum Assessment'!#REF!^Models!$AV16","v":{"$error":"#REF!"}},{"$f":"$AT16*'Do Minimum Assessment'!L34^Models!$AU16*'Do Minimum Assessment'!#REF!^Models!$AV16","v":{"$error":"#REF!"}},null,null,null,null,null,null,null,null,null,null,null,null,null,null,null,null,null,null,null,null,null,null,null,null,null,null,null,null,null,"Right turn against (cyclist travelling through)",{"$f":"3.01*10^-4","v":3.01E-4},0.34,0.2,null,null,null,"CEC","Table 23: Urban signalised cross roads (<80km/h) variables and CAS movement categories "]
["Intersection","Roundabouts","Entering-vs-circulating (motor-vehicle only)","Intersection Roundabouts Entering-vs-circulating (motor-vehicle only)",{"$f":"$AT17*'Do Minimum Assessment'!#REF!^Models!$AU$17*'Do Minimum Assessment'!#REF!^Models!AV$17*'Do Minimum Assessment'!#REF!^Models!$AW$17","v":{"$error":"#REF!"}},{"$f":"$AT17*'Do Minimum Assessment'!C34^Models!$AU$17*'Do Minimum Assessment'!C35^Models!AW$17*'Do Minimum Assessment'!#REF!^Models!$AW$17","v":{"$error":"#REF!"}},{"$f":"$AT17*'Do Minimum Assessment'!D34^Models!$AU$17*'Do Minimum Assessment'!D35^Models!AX$17*'Do Minimum Assessment'!#REF!^Models!$AW$17","v":{"$error":"#NUM!"}},{"$f":"$AT17*'Do Minimum Assessment'!E34^Models!$AU$17*'Do Minimum Assessment'!E35^Models!AZ$17*'Do Minimum Assessment'!#REF!^Models!$AW$17","v":{"$error":"#VALUE!"}},{"$f":"$AT17*'Do Minimum Assessment'!F34^Models!$AU$17*'Do Minimum Assessment'!F35^Models!BA$17*'Do Minimum Assessment'!#REF!^Models!$AW$17","v":{"$error":"#VALUE!"}},{"$f":"$AT17*'Do Minimum Assessment'!G34^Models!$AU$17*'Do Minimum Assessment'!G35^Models!#REF!*'Do Minimum Assessment'!#REF!^Models!$AW$17","v":{"$error":"#REF!"}},{"$f":"$AT17*'Do Minimum Assessment'!H34^Models!$AU$17*'Do Minimum Assessment'!H35^Models!BB$17*'Do Minimum Assessment'!#REF!^Models!$AW$17","v":{"$error":"#NUM!"}},{"$f":"$AT17*'Do Minimum Assessment'!I34^Models!$AU$17*'Do Minimum Assessment'!I35^Models!BC$17*'Do Minimum Assessment'!#REF!^Models!$AW$17","v":{"$error":"#NUM!"}},{"$f":"$AT17*'Do Minimum Assessment'!J34^Models!$AU$17*'Do Minimum Assessment'!J35^Models!BD$17*'Do Minimum Assessment'!#REF!^Models!$AW$17","v":{"$error":"#NUM!"}},{"$f":"$AT17*'Do Minimum Assessment'!K34^Models!$AU$17*'Do Minimum Assessment'!K35^Models!BE$17*'Do Minimum Assessment'!#REF!^Models!$AW$17","v":{"$error":"#NUM!"}},{"$f":"$AT17*'Do Minimum Assessment'!L34^Models!$AU$17*'Do Minimum Assessment'!L35^Models!BF$17*'Do Minimum Assessment'!#REF!^Models!$AW$17","v":{"$error":"#NUM!"}},null,null,null,null,null,null,null,null,null,null,null,null,null,null,null,null,null,null,null,null,null,null,null,null,null,null,null,null,null,"Others (cyclist versus motor vehicle)",{"$f":"1.23*10^-3","v":1.23E-3},0.28000000000000003,0.03,null,null,null,"CEC","Table 23: Urban signalised cross roads (<80km/h) variables and CAS movement categories "]
["Intersection","Roundabouts","Rear-end (motor-vehicle only)","Intersection Roundabouts Rear-end (motor-vehicle only)",{"$f":"$AT$18*'Do Minimum Assessment'!#REF!^Models!$AU$18*EXP(0.00024*'Do Minimum Assessment'!#REF!)","v":{"$error":"#REF!"}},{"$f":"$AT$18*'Do Minimum Assessment'!C34^Models!$AU$18*EXP(0.00024*'Do Minimum Assessment'!C34)","v":2.5659044505687079},{"$f":"$AT$18*'Do Minimum Assessment'!D34^Models!$AU$18*EXP(0.00024*'Do Minimum Assessment'!D34)","v":{"$error":"#DIV/0!"}},{"$f":"$AT$18*'Do Minimum Assessment'!E34^Models!$AU$18*EXP(0.00024*'Do Minimum Assessment'!E34)","v":{"$error":"#DIV/0!"}},{"$f":"$AT$18*'Do Minimum Assessment'!F34^Models!$AU$18*EXP(0.00024*'Do Minimum Assessment'!F34)","v":{"$error":"#DIV/0!"}},{"$f":"$AT$18*'Do Minimum Assessment'!G34^Models!$AU$18*EXP(0.00024*'Do Minimum Assessment'!G34)","v":{"$error":"#DIV/0!"}},{"$f":"$AT$18*'Do Minimum Assessment'!H34^Models!$AU$18*EXP(0.00024*'Do Minimum Assessment'!H34)","v":{"$error":"#DIV/0!"}},{"$f":"$AT$18*'Do Minimum Assessment'!I34^Models!$AU$18*EXP(0.00024*'Do Minimum Assessment'!I34)","v":{"$error":"#DIV/0!"}},{"$f":"$AT$18*'Do Minimum Assessment'!J34^Models!$AU$18*EXP(0.00024*'Do Minimum Assessment'!J34)","v":{"$error":"#DIV/0!"}},{"$f":"$AT$18*'Do Minimum Assessment'!K34^Models!$AU$18*EXP(0.00024*'Do Minimum Assessment'!K34)","v":{"$error":"#DIV/0!"}},{"$f":"$AT$18*'Do Minimum Assessment'!L34^Models!$AU$18*EXP(0.00024*'Do Minimum Assessment'!L34)","v":{"$error":"#DIV/0!"}},null,null,null,null,null,null,null,null,null,null,null,null,null,null,null,null,null,null,null,null,null,null,null,null,null,null,null,"Urban Roundabouts",null,"Entering-vs-circulating (motor-vehicle only)",{"$f":"6.12*10^-8","v":6.1200000000000005E-8},0.47,0.26,2.13,null,null,"CEC","Table 23: Urban signalised cross roads (<80km/h) variables and CAS movement categories "]
["Intersection","Roundabouts","Loss-of-control (motor-vehicle only)","Intersection Roundabouts Loss-of-control (motor-vehicle only)",{"$f":"$AT$19*'Do Minimum Assessment'!#REF!^Models!$AU$19*'Do Minimum Assessment'!#REF!^Models!$AV$19","v":{"$error":"#REF!"}},{"$f":"$AT$19*'Do Minimum Assessment'!C34^Models!$AU$19*'Do Minimum Assessment'!#REF!^Models!$AV$19","v":{"$error":"#REF!"}},{"$f":"$AT$19*'Do Minimum Assessment'!D34^Models!$AU$19*'Do Minimum Assessment'!#REF!^Models!$AV$19","v":{"$error":"#REF!"}},{"$f":"$AT$19*'Do Minimum Assessment'!E34^Models!$AU$19*'Do Minimum Assessment'!#REF!^Models!$AV$19","v":{"$error":"#REF!"}},{"$f":"$AT$19*'Do Minimum Assessment'!F34^Models!$AU$19*'Do Minimum Assessment'!#REF!^Models!$AV$19","v":{"$error":"#REF!"}},{"$f":"$AT$19*'Do Minimum Assessment'!G34^Models!$AU$19*'Do Minimum Assessment'!#REF!^Models!$AV$19","v":{"$error":"#REF!"}},{"$f":"$AT$19*'Do Minimum Assessment'!H34^Models!$AU$19*'Do Minimum Assessment'!#REF!^Models!$AV$19","v":{"$error":"#REF!"}},{"$f":"$AT$19*'Do Minimum Assessment'!I34^Models!$AU$19*'Do Minimum Assessment'!#REF!^Models!$AV$19","v":{"$error":"#REF!"}},{"$f":"$AT$19*'Do Minimum Assessment'!J34^Models!$AU$19*'Do Minimum Assessment'!#REF!^Models!$AV$19","v":{"$error":"#REF!"}},{"$f":"$AT$19*'Do Minimum Assessment'!K34^Models!$AU$19*'Do Minimum Assessment'!#REF!^Models!$AV$19","v":{"$error":"#REF!"}},{"$f":"$AT$19*'Do Minimum Assessment'!L34^Models!$AU$19*'Do Minimum Assessment'!#REF!^Models!$AV$19","v":{"$error":"#REF!"}},null,null,null,null,null,null,null,null,null,null,null,null,null,null,null,null,null,null,null,null,null,null,null,null,null,null,null,null,null,"Rear-end (motor-vehicle only)",{"$f":"9.63*10^-2","v":9.6300000000000011E-2},-0.38,2.4000000000000001E-4,null,null,null,"CEC","Table 25: Urban roundabouts (<80km/h) variables and CAS movement categories "]
["Intersection","Roundabouts","Other (motor-vehicle only)","Intersection Roundabouts Other (motor-vehicle only)",{"$f":"$AT$20*'Do Minimum Assessment'!#REF!*Models!$AU$20*IF('Do Minimum Assessment'!#REF!>2,2.66,1)","v":{"$error":"#REF!"}},{"$f":"$AT$20*'Do Minimum Assessment'!C34*Models!$AU$20*IF('Do Minimum Assessment'!C32>2,2.66,1)","v":0.75921720000000026},{"$f":"$AT$20*'Do Minimum Assessment'!D34*Models!$AU$20*IF('Do Minimum Assessment'!D32>2,2.66,1)","v":0},{"$f":"$AT$20*'Do Minimum Assessment'!E34*Models!$AU$20*IF('Do Minimum Assessment'!E32>2,2.66,1)","v":0},{"$f":"$AT$20*'Do Minimum Assessment'!F34*Models!$AU$20*IF('Do Minimum Assessment'!F32>2,2.66,1)","v":0},{"$f":"$AT$20*'Do Minimum Assessment'!G34*Models!$AU$20*IF('Do Minimum Assessment'!G32>2,2.66,1)","v":0},{"$f":"$AT$20*'Do Minimum Assessment'!H34*Models!$AU$20*IF('Do Minimum Assessment'!H32>2,2.66,1)","v":0},{"$f":"$AT$20*'Do Minimum Assessment'!I34*Models!$AU$20*IF('Do Minimum Assessment'!I32>2,2.66,1)","v":0},{"$f":"$AT$20*'Do Minimum Assessment'!J34*Models!$AU$20*IF('Do Minimum Assessment'!J32>2,2.66,1)","v":0},{"$f":"$AT$20*'Do Minimum Assessment'!K34*Models!$AU$20*IF('Do Minimum Assessment'!K32>2,2.66,1)","v":0},{"$f":"$AT$20*'Do Minimum Assessment'!L34*Models!$AU$20*IF('Do Minimum Assessment'!L32>2,2.66,1)","v":0},null,null,null,null,null,null,null,null,null,null,null,null,null,null,null,null,null,null,null,null,null,null,null,null,null,null,null,null,null,"Loss-of-control (motor-vehicle only)",{"$f":"6.36*10^-6","v":6.3600000000000001E-6},0.59,0.68,null,null,null,"CEC","Table 25: Urban roundabouts (<80km/h) variables and CAS movement categories "]
["Intersection","Roundabouts","Pedestrian","Intersection Roundabouts Pedestrian",{"$f":"$AT$21*'Do Minimum Assessment'!#REF!^Models!$AU$21*EXP(0.000067*'Do Minimum Assessment'!#REF!)","v":{"$error":"#REF!"}},{"$f":"$AT$21*'Do Minimum Assessment'!C36^Models!$AU$21*EXP(0.000067*'Do Minimum Assessment'!C34)","v":9.7553658087287567E-2},{"$f":"$AT$21*'Do Minimum Assessment'!D36^Models!$AU$21*EXP(0.000067*'Do Minimum Assessment'!D34)","v":0},{"$f":"$AT$21*'Do Minimum Assessment'!E36^Models!$AU$21*EXP(0.000067*'Do Minimum Assessment'!E34)","v":0},{"$f":"$AT$21*'Do Minimum Assessment'!F36^Models!$AU$21*EXP(0.000067*'Do Minimum Assessment'!F34)","v":0},{"$f":"$AT$21*'Do Minimum Assessment'!G36^Models!$AU$21*EXP(0.000067*'Do Minimum Assessment'!G34)","v":0},{"$f":"$AT$21*'Do Minimum Assessment'!H36^Models!$AU$21*EXP(0.000067*'Do Minimum Assessment'!H34)","v":0},{"$f":"$AT$21*'Do Minimum Assessment'!I36^Models!$AU$21*EXP(0.000067*'Do Minimum Assessment'!I34)","v":0},{"$f":"$AT$21*'Do Minimum Assessment'!J36^Models!$AU$21*EXP(0.000067*'Do Minimum Assessment'!J34)","v":0},{"$f":"$AT$21*'Do Minimum Assessment'!K36^Models!$AU$21*EXP(0.000067*'Do Minimum Assessment'!K34)","v":0},{"$f":"$AT$21*'Do Minimum Assessment'!L36^Models!$AU$21*EXP(0.000067*'Do Minimum Assessment'!L34)","v":0},null,null,null,null,null,null,null,null,null,null,null,null,null,null,null,null,null,null,null,null,null,null,null,null,null,null,null,null,null,"Other (motor-vehicle only)",{"$f":"1.34*10^-5","v":1.3400000000000002E-5},0.71,null,null,null,null,"CEC","Table 25: Urban roundabouts (<80km/h) variables and CAS movement categories "]
["Intersection","Roundabouts","Entering-vs-circulating (cyclist circulating)","Intersection Roundabouts Entering-vs-circulating (cyclist circulating)",{"$f":"$AT$22*'Do Minimum Assessment'!#REF!^Models!$AU$22*'Do Minimum Assessment'!#REF!^Models!$AV$22*'Do Minimum Assessment'!#REF!^Models!$AW$22","v":{"$error":"#REF!"}},{"$f":"$AT$22*'Do Minimum Assessment'!C34^Models!$AU$22*'Do Minimum Assessment'!C37^Models!$AV$22*'Do Minimum Assessment'!#REF!^Models!$AW$22","v":{"$error":"#REF!"}},{"$f":"$AT$22*'Do Minimum Assessment'!D34^Models!$AU$22*'Do Minimum Assessment'!D37^Models!$AV$22*'Do Minimum Assessment'!#REF!^Models!$AW$22","v":{"$error":"#REF!"}},{"$f":"$AT$22*'Do Minimum Assessment'!E34^Models!$AU$22*'Do Minimum Assessment'!E37^Models!$AV$22*'Do Minimum Assessment'!#REF!^Models!$AW$22","v":{"$error":"#REF!"}},{"$f":"$AT$22*'Do Minimum Assessment'!F34^Models!$AU$22*'Do Minimum Assessment'!F37^Models!$AV$22*'Do Minimum Assessment'!#REF!^Models!$AW$22","v":{"$error":"#REF!"}},{"$f":"$AT$22*'Do Minimum Assessment'!G34^Models!$AU$22*'Do Minimum Assessment'!G37^Models!$AV$22*'Do Minimum Assessment'!#REF!^Models!$AW$22","v":{"$error":"#REF!"}},{"$f":"$AT$22*'Do Minimum Assessment'!H34^Models!$AU$22*'Do Minimum Assessment'!H37^Models!$AV$22*'Do Minimum Assessment'!#REF!^Models!$AW$22","v":{"$error":"#REF!"}},{"$f":"$AT$22*'Do Minimum Assessment'!I34^Models!$AU$22*'Do Minimum Assessment'!I37^Models!$AV$22*'Do Minimum Assessment'!#REF!^Models!$AW$22","v":{"$error":"#REF!"}},{"$f":"$AT$22*'Do Minimum Assessment'!J34^Models!$AU$22*'Do Minimum Assessment'!J37^Models!$AV$22*'Do Minimum Assessment'!#REF!^Models!$AW$22","v":{"$error":"#REF!"}},{"$f":"$AT$22*'Do Minimum Assessment'!K34^Models!$AU$22*'Do Minimum Assessment'!K37^Models!$AV$22*'Do Minimum Assessment'!#REF!^Models!$AW$22","v":{"$error":"#REF!"}},{"$f":"$AT$22*'Do Minimum Assessment'!L34^Models!$AU$22*'Do Minimum Assessment'!L37^Models!$AV$22*'Do Minimum Assessment'!#REF!^Models!$AW$22","v":{"$error":"#REF!"}},null,null,null,null,null,null,null,null,null,null,null,null,null,null,null,null,null,null,null,null,null,null,null,null,null,null,null,null,null,"Pedestrian",{"$f":"3.14*10^-4","v":3.1400000000000004E-4},0.6,6.7000000000000002E-5,null,null,null,"CEC","Table 25: Urban roundabouts (<80km/h) variables and CAS movement categories "]
["Intersection","Roundabouts","Other (cyclist)","Intersection Roundabouts Other (cyclist)",{"$f":"$AT23*'Do Minimum Assessment'!#REF!^Models!$AU23*'Do Minimum Assessment'!#REF!^Models!$AV23","v":{"$error":"#REF!"}},{"$f":"$AT23*'Do Minimum Assessment'!C34^Models!$AU23*'Do Minimum Assessment'!#REF!^Models!$AV23","v":{"$error":"#REF!"}},{"$f":"$AT23*'Do Minimum Assessment'!D34^Models!$AU23*'Do Minimum Assessment'!#REF!^Models!$AV23","v":{"$error":"#REF!"}},{"$f":"$AT23*'Do Minimum Assessment'!E34^Models!$AU23*'Do Minimum Assessment'!#REF!^Models!$AV23","v":{"$error":"#REF!"}},{"$f":"$AT23*'Do Minimum Assessment'!F34^Models!$AU23*'Do Minimum Assessment'!#REF!^Models!$AV23","v":{"$error":"#REF!"}},{"$f":"$AT23*'Do Minimum Assessment'!G34^Models!$AU23*'Do Minimum Assessment'!#REF!^Models!$AV23","v":{"$error":"#REF!"}},{"$f":"$AT23*'Do Minimum Assessment'!H34^Models!$AU23*'Do Minimum Assessment'!#REF!^Models!$AV23","v":{"$error":"#REF!"}},{"$f":"$AT23*'Do Minimum Assessment'!I34^Models!$AU23*'Do Minimum Assessment'!#REF!^Models!$AV23","v":{"$error":"#REF!"}},{"$f":"$AT23*'Do Minimum Assessment'!J34^Models!$AU23*'Do Minimum Assessment'!#REF!^Models!$AV23","v":{"$error":"#REF!"}},{"$f":"$AT23*'Do Minimum Assessment'!K34^Models!$AU23*'Do Minimum Assessment'!#REF!^Models!$AV23","v":{"$error":"#REF!"}},{"$f":"$AT23*'Do Minimum Assessment'!L34^Models!$AU23*'Do Minimum Assessment'!#REF!^Models!$AV23","v":{"$error":"#REF!"}},null,null,null,null,null,null,null,null,null,null,null,null,null,null,null,null,null,null,null,null,null,null,null,null,null,null,null,null,null,"Entering-vs-circulating (cyclist circulating)",{"$f":"3.88*10^-5","v":3.8800000000000001E-5},0.43,0.38,0.49,null,null,"CEC","Table 25: Urban roundabouts (<80km/h) variables and CAS movement categories "]
["Midblock","Commercial","Access","Midblock Commercial Access",{"$f":"$AT$27*'Do Minimum Assessment'!#REF!^Models!$AU$27*'Do Minimum Assessment'!#REF!","v":{"$error":"#REF!"}},{"$f":"$AT$27*'Do Minimum Assessment'!C34^Models!$AU$27*'Do Minimum Assessment'!C29","v":26.72963010124284},{"$f":"$AT$27*'Do Minimum Assessment'!D34^Models!$AU$27*'Do Minimum Assessment'!D29","v":0},{"$f":"$AT$27*'Do Minimum Assessment'!E34^Models!$AU$27*'Do Minimum Assessment'!E29","v":0},{"$f":"$AT$27*'Do Minimum Assessment'!F34^Models!$AU$27*'Do Minimum Assessment'!F29","v":0},{"$f":"$AT$27*'Do Minimum Assessment'!G34^Models!$AU$27*'Do Minimum Assessment'!G29","v":0},{"$f":"$AT$27*'Do Minimum Assessment'!H34^Models!$AU$27*'Do Minimum Assessment'!H29","v":0},{"$f":"$AT$27*'Do Minimum Assessment'!I34^Models!$AU$27*'Do Minimum Assessment'!I29","v":0},{"$f":"$AT$27*'Do Minimum Assessment'!J34^Models!$AU$27*'Do Minimum Assessment'!J29","v":0},{"$f":"$AT$27*'Do Minimum Assessment'!K34^Models!$AU$27*'Do Minimum Assessment'!K29","v":0},{"$f":"$AT$27*'Do Minimum Assessment'!L34^Models!$AU$27*'Do Minimum Assessment'!L29","v":0},null,null,null,null,null,null,null,null,null,null,null,null,null,null,null,null,null,null,null,null,null,null,null,null,null,null,null,null,null,"Other (cyclist)",{"$f":"2.07*10^-7","v":2.0699999999999999E-7},1.04,0.23,null,null,null,"CEC","Table 25: Urban roundabouts (<80km/h) variables and CAS movement categories "]
["Midblock","Commercial","Secondary Collector","Midblock Commercial Secondary Collector",{"$f":"$AT$28*'Do Minimum Assessment'!#REF!^Models!$AU$28*'Do Minimum Assessment'!#REF!","v":{"$error":"#REF!"}},{"$f":"$AT$28*'Do Minimum Assessment'!C34^Models!$AU$28*'Do Minimum Assessment'!C29","v":10.231331300137512},{"$f":"$AT$28*'Do Minimum Assessment'!D34^Models!$AU$28*'Do Minimum Assessment'!D29","v":0},{"$f":"$AT$28*'Do Minimum Assessment'!E34^Models!$AU$28*'Do Minimum Assessment'!E29","v":0},{"$f":"$AT$28*'Do Minimum Assessment'!F34^Models!$AU$28*'Do Minimum Assessment'!F29","v":0},{"$f":"$AT$28*'Do Minimum Assessment'!G34^Models!$AU$28*'Do Minimum Assessment'!G29","v":0},{"$f":"$AT$28*'Do Minimum Assessment'!H34^Models!$AU$28*'Do Minimum Assessment'!H29","v":0},{"$f":"$AT$28*'Do Minimum Assessment'!I34^Models!$AU$28*'Do Minimum Assessment'!I29","v":0},{"$f":"$AT$28*'Do Minimum Assessment'!J34^Models!$AU$28*'Do Minimum Assessment'!J29","v":0},{"$f":"$AT$28*'Do Minimum Assessment'!K34^Models!$AU$28*'Do Minimum Assessment'!K29","v":0},{"$f":"$AT$28*'Do Minimum Assessment'!L34^Models!$AU$28*'Do Minimum Assessment'!L29","v":0},null,null,null,null,null,null,null,null,null,null,null,null,null,null,null,null,null,null,null,null,null,null,null,null,null,null,null,null,null,null,null,null,null,null,null,null,"CEC","Table 27: Urban priority T-junctions (<80km/h on main road) variables","DI = (0.88*RTBTL+6.49*(6-MRMW)+17.86*NSNTL + 1.50*(19-4*DFSUF)+30.30*(7- 2*SRNL)+1.41*(4*SRMW+1)+7.69*(2*GMRRS1)+18.52*(6-UMIT)+1.53*(19-4*WAL)+2.15*(19- 4*CP))/10"]
["Midblock","Commercial","Primary Collector",{"$f":"_xlfn.CONCAT(A25,\" \",B25,\" \",C25)","v":"Midblock Commercial Primary Collector"},{"$f":"$AT$28*'Do Minimum Assessment'!#REF!^Models!$AU$28*'Do Minimum Assessment'!#REF!","v":{"$error":"#REF!"}},{"$f":"$AT$28*'Do Minimum Assessment'!C34^Models!$AU$28*'Do Minimum Assessment'!C29","v":10.231331300137512},{"$f":"$AT$28*'Do Minimum Assessment'!D34^Models!$AU$28*'Do Minimum Assessment'!D29","v":0},{"$f":"$AT$28*'Do Minimum Assessment'!E34^Models!$AU$28*'Do Minimum Assessment'!E29","v":0},{"$f":"$AT$28*'Do Minimum Assessment'!F34^Models!$AU$28*'Do Minimum Assessment'!F29","v":0},{"$f":"$AT$28*'Do Minimum Assessment'!G34^Models!$AU$28*'Do Minimum Assessment'!G29","v":0},{"$f":"$AT$28*'Do Minimum Assessment'!H34^Models!$AU$28*'Do Minimum Assessment'!H29","v":0},{"$f":"$AT$28*'Do Minimum Assessment'!I34^Models!$AU$28*'Do Minimum Assessment'!I29","v":0},{"$f":"$AT$28*'Do Minimum Assessment'!J34^Models!$AU$28*'Do Minimum Assessment'!J29","v":0},{"$f":"$AT$28*'Do Minimum Assessment'!K34^Models!$AU$28*'Do Minimum Assessment'!K29","v":0},{"$f":"$AT$28*'Do Minimum Assessment'!L34^Models!$AU$28*'Do Minimum Assessment'!L29","v":0},null,null,null,null,null,null,null,null,null,null,null,null,null,null,null,null,null,null,null,null,null,null,null,null,null,null,null,null,null,null,null,null,null,null,null,null,"CEC","Table 27: Urban priority T-junctions (<80km/h on main road) variables","DI = (0.88*RTBTL+6.49*(6-MRMW)+17.86*NSNTL + 1.50*(19-4*DFSUF)+30.30*(7- 2*SRNL)+1.41*(4*SRMW+1)+7.69*(2*GMRRS1)+18.52*(6-UMIT)+1.53*(19-4*WAL)+2.15*(19- 4*CP))/10"]
["Midblock","Commercial","Arterial or higher","Midblock Commercial Arterial or higher",{"$f":"$AT$30*'Do Minimum Assessment'!#REF!^Models!$AU$30*'Do Minimum Assessment'!#REF!","v":{"$error":"#REF!"}},{"$f":"$AT$30*'Do Minimum Assessment'!C34^Models!$AU$30*'Do Minimum Assessment'!C29","v":7.8168006862584152},{"$f":"$AT$30*'Do Minimum Assessment'!D34^Models!$AU$30*'Do Minimum Assessment'!D29","v":0},{"$f":"$AT$30*'Do Minimum Assessment'!E34^Models!$AU$30*'Do Minimum Assessment'!E29","v":0},{"$f":"$AT$30*'Do Minimum Assessment'!F34^Models!$AU$30*'Do Minimum Assessment'!F29","v":0},{"$f":"$AT$30*'Do Minimum Assessment'!G34^Models!$AU$30*'Do Minimum Assessment'!G29","v":0},{"$f":"$AT$30*'Do Minimum Assessment'!H34^Models!$AU$30*'Do Minimum Assessment'!H29","v":0},{"$f":"$AT$30*'Do Minimum Assessment'!I34^Models!$AU$30*'Do Minimum Assessment'!I29","v":0},{"$f":"$AT$30*'Do Minimum Assessment'!J34^Models!$AU$30*'Do Minimum Assessment'!J29","v":0},{"$f":"$AT$30*'Do Minimum Assessment'!K34^Models!$AU$30*'Do Minimum Assessment'!K29","v":0},{"$f":"$AT$30*'Do Minimum Assessment'!L34^Models!$AU$30*'Do Minimum Assessment'!L29","v":0},null,null,null,null,null,null,null,null,null,null,null,null,null,null,null,null,null,null,null,null,null,null,null,null,null,null,null,null,null,null,null,null,null,null,null,null,"CEC","Table 27: Urban priority T-junctions (<80km/h on main road) variables","DI = (2.11*(4*DNSUF-1)+11.98*(3- SRMI)+15.87*SRMW+2.14*(4*SL1)+24.69*TTCB+9.00*(4*UMIW1)+8.55*WDL+0.88*TMRW)/8"]
["Midblock","Residential","Access","Midblock Residential Access",{"$f":"$AT$31*'Do Minimum Assessment'!#REF!^Models!$AU$31*'Do Minimum Assessment'!#REF!","v":{"$error":"#REF!"}},{"$f":"$AT$31*'Do Minimum Assessment'!C34^Models!$AU$31*'Do Minimum Assessment'!C29","v":26.72963010124284},{"$f":"$AT$31*'Do Minimum Assessment'!D34^Models!$AU$31*'Do Minimum Assessment'!D29","v":0},{"$f":"$AT$31*'Do Minimum Assessment'!E34^Models!$AU$31*'Do Minimum Assessment'!E29","v":0},{"$f":"$AT$31*'Do Minimum Assessment'!F34^Models!$AU$31*'Do Minimum Assessment'!F29","v":0},{"$f":"$AT$31*'Do Minimum Assessment'!G34^Models!$AU$31*'Do Minimum Assessment'!G29","v":0},{"$f":"$AT$31*'Do Minimum Assessment'!H34^Models!$AU$31*'Do Minimum Assessment'!H29","v":0},{"$f":"$AT$31*'Do Minimum Assessment'!I34^Models!$AU$31*'Do Minimum Assessment'!I29","v":0},{"$f":"$AT$31*'Do Minimum Assessment'!J34^Models!$AU$31*'Do Minimum Assessment'!J29","v":0},{"$f":"$AT$31*'Do Minimum Assessment'!K34^Models!$AU$31*'Do Minimum Assessment'!K29","v":0},{"$f":"$AT$31*'Do Minimum Assessment'!L34^Models!$AU$31*'Do Minimum Assessment'!L29","v":0},null,null,null,null,null,null,null,null,null,null,null,null,null,null,null,null,null,null,null,null,null,null,null,null,null,null,null,"Mid-Block Commercial",null,"Access",{"$f":"2.19*10^-4","v":2.1900000000000001E-4},0.98,null,null,null,null,"CEC","Table 7: Urban mid-block land-use coefficients"]
["Midblock","Residential","Secondary Collector","Midblock Residential Secondary Collector",{"$f":"$AT$32*'Do Minimum Assessment'!#REF!^Models!$AU$32*'Do Minimum Assessment'!#REF!","v":{"$error":"#REF!"}},{"$f":"$AT$32*'Do Minimum Assessment'!C34^Models!$AU$32*'Do Minimum Assessment'!C29","v":10.231331300137512},{"$f":"$AT$32*'Do Minimum Assessment'!D34^Models!$AU$32*'Do Minimum Assessment'!D29","v":0},{"$f":"$AT$32*'Do Minimum Assessment'!E34^Models!$AU$32*'Do Minimum Assessment'!E29","v":0},{"$f":"$AT$32*'Do Minimum Assessment'!F34^Models!$AU$32*'Do Minimum Assessment'!F29","v":0},{"$f":"$AT$32*'Do Minimum Assessment'!G34^Models!$AU$32*'Do Minimum Assessment'!G29","v":0},{"$f":"$AT$32*'Do Minimum Assessment'!H34^Models!$AU$32*'Do Minimum Assessment'!H29","v":0},{"$f":"$AT$32*'Do Minimum Assessment'!I34^Models!$AU$32*'Do Minimum Assessment'!I29","v":0},{"$f":"$AT$32*'Do Minimum Assessment'!J34^Models!$AU$32*'Do Minimum Assessment'!J29","v":0},{"$f":"$AT$32*'Do Minimum Assessment'!K34^Models!$AU$32*'Do Minimum Assessment'!K29","v":0},{"$f":"$AT$32*'Do Minimum Assessment'!L34^Models!$AU$32*'Do Minimum Assessment'!L29","v":0},null,null,null,null,null,null,null,null,null,null,null,null,null,null,null,null,null,null,null,null,null,null,null,null,null,null,null,null,null,"Collector",{"$f":"2.99*10^-5","v":2.9900000000000005E-5},1.08,null,null,null,null,"CEC","Table 7: Urban mid-block land-use coefficients"]
["Midblock","Residential","Primary Collector",{"$f":"_xlfn.CONCAT(A29,\" \",B29,\" \",C29)","v":"Midblock Residential Primary Collector"},{"$f":"$AT$32*'Do Minimum Assessment'!#REF!^Models!$AU$32*'Do Minimum Assessment'!#REF!","v":{"$error":"#REF!"}},{"$f":"$AT$32*'Do Minimum Assessment'!C34^Models!$AU$32*'Do Minimum Assessment'!C29","v":10.231331300137512},{"$f":"$AT$32*'Do Minimum Assessment'!D34^Models!$AU$32*'Do Minimum Assessment'!D29","v":0},{"$f":"$AT$32*'Do Minimum Assessment'!E34^Models!$AU$32*'Do Minimum Assessment'!E29","v":0},{"$f":"$AT$32*'Do Minimum Assessment'!F34^Models!$AU$32*'Do Minimum Assessment'!F29","v":0},{"$f":"$AT$32*'Do Minimum Assessment'!G34^Models!$AU$32*'Do Minimum Assessment'!G29","v":0},{"$f":"$AT$32*'Do Minimum Assessment'!H34^Models!$AU$32*'Do Minimum Assessment'!H29","v":0},{"$f":"$AT$32*'Do Minimum Assessment'!I34^Models!$AU$32*'Do Minimum Assessment'!I29","v":0},{"$f":"$AT$32*'Do Minimum Assessment'!J34^Models!$AU$32*'Do Minimum Assessment'!J29","v":0},{"$f":"$AT$32*'Do Minimum Assessment'!K34^Models!$AU$32*'Do Minimum Assessment'!K29","v":0},{"$f":"$AT$32*'Do Minimum Assessment'!L34^Models!$AU$32*'Do Minimum Assessment'!L29","v":0},null,null,null,null,null,null,null,null,null,null,null,null,null,null,null,null,null,null,null,null,null,null,null,null,null,null,null,null,null,"Collector",{"$f":"2.99*10^-5","v":2.9900000000000005E-5},1.08,null,null,null,null,"CEC","Table 7: Urban mid-block land-use coefficients"]
["Midblock","Residential","Arterial or higher","Midblock Residential Arterial or higher",{"$f":"$AT$33*'Do Minimum Assessment'!#REF!^Models!$AU$33*'Do Minimum Assessment'!#REF!","v":{"$error":"#REF!"}},{"$f":"$AT$33*'Do Minimum Assessment'!C34^Models!$AU$33*'Do Minimum Assessment'!C29","v":5.0500386006098177},{"$f":"$AT$33*'Do Minimum Assessment'!D34^Models!$AU$33*'Do Minimum Assessment'!D29","v":0},{"$f":"$AT$33*'Do Minimum Assessment'!E34^Models!$AU$33*'Do Minimum Assessment'!E29","v":0},{"$f":"$AT$33*'Do Minimum Assessment'!F34^Models!$AU$33*'Do Minimum Assessment'!F29","v":0},{"$f":"$AT$33*'Do Minimum Assessment'!G34^Models!$AU$33*'Do Minimum Assessment'!G29","v":0},{"$f":"$AT$33*'Do Minimum Assessment'!H34^Models!$AU$33*'Do Minimum Assessment'!H29","v":0},{"$f":"$AT$33*'Do Minimum Assessment'!I34^Models!$AU$33*'Do Minimum Assessment'!I29","v":0},{"$f":"$AT$33*'Do Minimum Assessment'!J34^Models!$AU$33*'Do Minimum Assessment'!J29","v":0},{"$f":"$AT$33*'Do Minimum Assessment'!K34^Models!$AU$33*'Do Minimum Assessment'!K29","v":0},{"$f":"$AT$33*'Do Minimum Assessment'!L34^Models!$AU$33*'Do Minimum Assessment'!L29","v":0},null,null,null,null,null,null,null,null,null,null,null,null,null,null,null,null,null,null,null,null,null,null,null,null,null,null,null,null,null,"Arterial",{"$f":"6.63*10^-6","v":6.6299999999999992E-6},1.2,null,null,null,null,"CEC","Table 7: Urban mid-block land-use coefficients"]
["Pedestrians","Crossing","Mid-block","Pedestrians Crossing Mid-block",{"$f":"$AT$34*'Do Minimum Assessment'!#REF!^Models!$AW$34*'Do Minimum Assessment'!#REF!^Models!$AX$34*'Do Minimum Assessment'!#REF!","v":{"$error":"#REF!"}},{"$f":"$AT$34*'Do Minimum Assessment'!C34^Models!$AW$34*'Do Minimum Assessment'!C36^Models!$AX$34*'Do Minimum Assessment'!C29","v":3.9239150096688169},{"$f":"$AT$34*'Do Minimum Assessment'!D34^Models!$AW$34*'Do Minimum Assessment'!D36^Models!$AX$34*'Do Minimum Assessment'!D29","v":0},{"$f":"$AT$34*'Do Minimum Assessment'!E34^Models!$AW$34*'Do Minimum Assessment'!E36^Models!$AX$34*'Do Minimum Assessment'!E29","v":0},{"$f":"$AT$34*'Do Minimum Assessment'!F34^Models!$AW$34*'Do Minimum Assessment'!F36^Models!$AX$34*'Do Minimum Assessment'!F29","v":0},{"$f":"$AT$34*'Do Minimum Assessment'!G34^Models!$AW$34*'Do Minimum Assessment'!G36^Models!$AX$34*'Do Minimum Assessment'!G29","v":0},{"$f":"$AT$34*'Do Minimum Assessment'!H34^Models!$AW$34*'Do Minimum Assessment'!H36^Models!$AX$34*'Do Minimum Assessment'!H29","v":0},{"$f":"$AT$34*'Do Minimum Assessment'!I34^Models!$AW$34*'Do Minimum Assessment'!I36^Models!$AX$34*'Do Minimum Assessment'!I29","v":0},{"$f":"$AT$34*'Do Minimum Assessment'!J34^Models!$AW$34*'Do Minimum Assessment'!J36^Models!$AX$34*'Do Minimum Assessment'!J29","v":0},{"$f":"$AT$34*'Do Minimum Assessment'!K34^Models!$AW$34*'Do Minimum Assessment'!K36^Models!$AX$34*'Do Minimum Assessment'!K29","v":0},{"$f":"$AT$34*'Do Minimum Assessment'!L34^Models!$AW$34*'Do Minimum Assessment'!L36^Models!$AX$34*'Do Minimum Assessment'!L29","v":0},null,null,null,null,null,null,null,null,null,null,null,null,null,null,null,null,null,null,null,null,null,null,null,null,null,null,null,"Mid-Block Other",null,"Access",{"$f":"2.19*10^-4","v":2.1900000000000001E-4},0.98,null,null,null,null,"CEC","Table 7: Urban mid-block land-use coefficients"]
["Pedestrians","Crossing","Signalised intersection","Pedestrians Crossing Signalised intersection",{"$f":"$AT$35*('Do Minimum Assessment'!#REF!^$AW$35)*('Do Minimum Assessment'!#REF!^$AX$35)","v":{"$error":"#REF!"}},{"$f":"$AT$35*('Do Minimum Assessment'!C34^$AW$35)*('Do Minimum Assessment'!C36^$AX$35)","v":0.13860718412638542},{"$f":"$AT$35*('Do Minimum Assessment'!D34^$AW$35)*('Do Minimum Assessment'!D36^$AX$35)","v":0},{"$f":"$AT$35*('Do Minimum Assessment'!E34^$AW$35)*('Do Minimum Assessment'!E36^$AX$35)","v":0},{"$f":"$AT$35*('Do Minimum Assessment'!F34^$AW$35)*('Do Minimum Assessment'!F36^$AX$35)","v":0},{"$f":"$AT$35*('Do Minimum Assessment'!G34^$AW$35)*('Do Minimum Assessment'!G36^$AX$35)","v":0},{"$f":"$AT$35*('Do Minimum Assessment'!H34^$AW$35)*('Do Minimum Assessment'!H36^$AX$35)","v":0},{"$f":"$AT$35*('Do Minimum Assessment'!I34^$AW$35)*('Do Minimum Assessment'!I36^$AX$35)","v":0},{"$f":"$AT$35*('Do Minimum Assessment'!J34^$AW$35)*('Do Minimum Assessment'!J36^$AX$35)","v":0},{"$f":"$AT$35*('Do Minimum Assessment'!K34^$AW$35)*('Do Minimum Assessment'!K36^$AX$35)","v":0},{"$f":"$AT$35*('Do Minimum Assessment'!L34^$AW$35)*('Do Minimum Assessment'!L36^$AX$35)","v":0},null,null,null,null,null,null,null,null,null,null,null,null,null,null,null,null,null,null,null,null,null,null,null,null,null,null,null,null,null,"Collector",{"$f":"2.99*10^-5","v":2.9900000000000005E-5},1.08,null,null,null,null,"CEC","Table 7: Urban mid-block land-use coefficients"]
["Pedestrians","Crossing","Priority intersection","Pedestrians Crossing Priority intersection",{"$f":"$AT$36*'Do Minimum Assessment'!#REF!^Models!$AW$36*'Do Minimum Assessment'!#REF!^Models!$AX$36","v":{"$error":"#REF!"}},{"$f":"$AT$36*'Do Minimum Assessment'!C34^Models!$AW$36*'Do Minimum Assessment'!C36^Models!$AX$36","v":0.13860718412638542},{"$f":"$AT$36*'Do Minimum Assessment'!D34^Models!$AW$36*'Do Minimum Assessment'!D36^Models!$AX$36","v":0},{"$f":"$AT$36*'Do Minimum Assessment'!E34^Models!$AW$36*'Do Minimum Assessment'!E36^Models!$AX$36","v":0},{"$f":"$AT$36*'Do Minimum Assessment'!F34^Models!$AW$36*'Do Minimum Assessment'!F36^Models!$AX$36","v":0},{"$f":"$AT$36*'Do Minimum Assessment'!G34^Models!$AW$36*'Do Minimum Assessment'!G36^Models!$AX$36","v":0},{"$f":"$AT$36*'Do Minimum Assessment'!H34^Models!$AW$36*'Do Minimum Assessment'!H36^Models!$AX$36","v":0},{"$f":"$AT$36*'Do Minimum Assessment'!I34^Models!$AW$36*'Do Minimum Assessment'!I36^Models!$AX$36","v":0},{"$f":"$AT$36*'Do Minimum Assessment'!J34^Models!$AW$36*'Do Minimum Assessment'!J36^Models!$AX$36","v":0},{"$f":"$AT$36*'Do Minimum Assessment'!K34^Models!$AW$36*'Do Minimum Assessment'!K36^Models!$AX$36","v":0},{"$f":"$AT$36*'Do Minimum Assessment'!L34^Models!$AW$36*'Do Minimum Assessment'!L36^Models!$AX$36","v":0},null,null,null,null,null,null,null,null,null,null,null,null,null,null,null,null,null,null,null,null,null,null,null,null,null,null,null,null,null,"Arterial",{"$f":"1.16*10^-4","v":1.16E-4},0.88,null,null,null,null,"CEC","Table 7: Urban mid-block land-use coefficients"]
["Pedestrians","Crossing","Roundabout","Pedestrians Crossing Roundabout",{"$f":"$AT$37*('Do Minimum Assessment'!#REF!^(Models!$AW$37))*'Do Minimum Assessment'!#REF!^(Models!$AX$37)","v":{"$error":"#REF!"}},{"$f":"$AT$37*('Do Minimum Assessment'!C34^(Models!$AW$37))*'Do Minimum Assessment'!C36^(Models!$AX$37)","v":2.6545607748387819E-2},{"$f":"$AT$37*('Do Minimum Assessment'!D34^(Models!$AW$37))*'Do Minimum Assessment'!D36^(Models!$AX$37)","v":{"$error":"#DIV/0!"}},{"$f":"$AT$37*('Do Minimum Assessment'!E34^(Models!$AW$37))*'Do Minimum Assessment'!E36^(Models!$AX$37)","v":{"$error":"#DIV/0!"}},{"$f":"$AT$37*('Do Minimum Assessment'!F34^(Models!$AW$37))*'Do Minimum Assessment'!F36^(Models!$AX$37)","v":{"$error":"#DIV/0!"}},{"$f":"$AT$37*('Do Minimum Assessment'!G34^(Models!$AW$37))*'Do Minimum Assessment'!G36^(Models!$AX$37)","v":{"$error":"#DIV/0!"}},{"$f":"$AT$37*('Do Minimum Assessment'!H34^(Models!$AW$37))*'Do Minimum Assessment'!H36^(Models!$AX$37)","v":{"$error":"#DIV/0!"}},{"$f":"$AT$37*('Do Minimum Assessment'!I34^(Models!$AW$37))*'Do Minimum Assessment'!I36^(Models!$AX$37)","v":{"$error":"#DIV/0!"}},{"$f":"$AT$37*('Do Minimum Assessment'!J34^(Models!$AW$37))*'Do Minimum Assessment'!J36^(Models!$AX$37)","v":{"$error":"#DIV/0!"}},{"$f":"$AT$37*('Do Minimum Assessment'!K34^(Models!$AW$37))*'Do Minimum Assessment'!K36^(Models!$AX$37)","v":{"$error":"#DIV/0!"}},{"$f":"$AT$37*('Do Minimum Assessment'!L34^(Models!$AW$37))*'Do Minimum Assessment'!L36^(Models!$AX$37)","v":{"$error":"#DIV/0!"}},null,{"$f":"$AT$37*(20000^(Models!$AW$37))*50^(Models!$AX$37)","v":6.5360182646172077E-3},{"$f":"20000^AW37","v":0.42965724696404661},null,null,null,null,null,null,null,null,null,null,null,null,null,null,null,null,null,null,null,null,null,null,null,null,"Pedestrians","Crossing","Mid-block",{"$f":"1.27*10^-4","v":1.27E-4},null,null,0.69,0.26,null,"CEC","Table 10: Urban mid-block – pedestrian and cyclist facilities models (model references 6 and 16)."]
["Pedestrians","Along","Mid-block",{"$f":"_xlfn.CONCAT(A35,\" \",B35,\" \",C35)","v":"Pedestrians Along Mid-block"},{"$f":"$AT$38*'Do Minimum Assessment'!#REF!^Models!$AW$38*'Do Minimum Assessment'!#REF!^Models!$AX$38*'Do Minimum Assessment'!#REF!","v":{"$error":"#REF!"}},{"$f":"$AT$38*'Do Minimum Assessment'!C34^Models!$AW$38*'Do Minimum Assessment'!#REF!^Models!$AX$38*'Do Minimum Assessment'!C29","v":{"$error":"#REF!"}},{"$f":"$AT$38*'Do Minimum Assessment'!D34^Models!$AW$38*'Do Minimum Assessment'!#REF!^Models!$AX$38*'Do Minimum Assessment'!D29","v":{"$error":"#REF!"}},{"$f":"$AT$38*'Do Minimum Assessment'!E34^Models!$AW$38*'Do Minimum Assessment'!#REF!^Models!$AX$38*'Do Minimum Assessment'!E29","v":{"$error":"#REF!"}},{"$f":"$AT$38*'Do Minimum Assessment'!F34^Models!$AW$38*'Do Minimum Assessment'!#REF!^Models!$AX$38*'Do Minimum Assessment'!F29","v":{"$error":"#REF!"}},{"$f":"$AT$38*'Do Minimum Assessment'!G34^Models!$AW$38*'Do Minimum Assessment'!#REF!^Models!$AX$38*'Do Minimum Assessment'!G29","v":{"$error":"#REF!"}},{"$f":"$AT$38*'Do Minimum Assessment'!H34^Models!$AW$38*'Do Minimum Assessment'!#REF!^Models!$AX$38*'Do Minimum Assessment'!H29","v":{"$error":"#REF!"}},{"$f":"$AT$38*'Do Minimum Assessment'!I34^Models!$AW$38*'Do Minimum Assessment'!#REF!^Models!$AX$38*'Do Minimum Assessment'!I29","v":{"$error":"#REF!"}},{"$f":"$AT$38*'Do Minimum Assessment'!J34^Models!$AW$38*'Do Minimum Assessment'!#REF!^Models!$AX$38*'Do Minimum Assessment'!J29","v":{"$error":"#REF!"}},{"$f":"$AT$38*'Do Minimum Assessment'!K34^Models!$AW$38*'Do Minimum Assessment'!#REF!^Models!$AX$38*'Do Minimum Assessment'!K29","v":{"$error":"#REF!"}},{"$f":"$AT$38*'Do Minimum Assessment'!L34^Models!$AW$38*'Do Minimum Assessment'!#REF!^Models!$AX$38*'Do Minimum Assessment'!L29","v":{"$error":"#REF!"}},null,null,null,null,null,null,null,null,null,null,null,null,null,null,null,null,null,null,null,null,null,null,null,null,null,null,null,null,null,"Signalised intersection",{"$f":"1.391*10^-12","v":1.391E-12},null,null,2.0545,0.66700000000000004]
["Pedestrians","Along","Signalised intersection","Pedestrians Along Signalised intersection",{"$f":"$AT$39*'Do Minimum Assessment'!#REF!^Models!$AW$39*'Do Minimum Assessment'!#REF!^Models!$AX$39*'Do Minimum Assessment'!#REF!","v":{"$error":"#REF!"}},{"$f":"$AT$39*'Do Minimum Assessment'!C34^Models!$AW$39*'Do Minimum Assessment'!C36^Models!$AX$39*'Do Minimum Assessment'!C29","v":0.69303592063192709},{"$f":"$AT$39*'Do Minimum Assessment'!D34^Models!$AW$39*'Do Minimum Assessment'!D36^Models!$AX$39*'Do Minimum Assessment'!D29","v":0},{"$f":"$AT$39*'Do Minimum Assessment'!E34^Models!$AW$39*'Do Minimum Assessment'!E36^Models!$AX$39*'Do Minimum Assessment'!E29","v":0},{"$f":"$AT$39*'Do Minimum Assessment'!F34^Models!$AW$39*'Do Minimum Assessment'!F36^Models!$AX$39*'Do Minimum Assessment'!F29","v":0},{"$f":"$AT$39*'Do Minimum Assessment'!G34^Models!$AW$39*'Do Minimum Assessment'!G36^Models!$AX$39*'Do Minimum Assessment'!G29","v":0},{"$f":"$AT$39*'Do Minimum Assessment'!H34^Models!$AW$39*'Do Minimum Assessment'!H36^Models!$AX$39*'Do Minimum Assessment'!H29","v":0},{"$f":"$AT$39*'Do Minimum Assessment'!I34^Models!$AW$39*'Do Minimum Assessment'!I36^Models!$AX$39*'Do Minimum Assessment'!I29","v":0},{"$f":"$AT$39*'Do Minimum Assessment'!J34^Models!$AW$39*'Do Minimum Assessment'!J36^Models!$AX$39*'Do Minimum Assessment'!J29","v":0},{"$f":"$AT$39*'Do Minimum Assessment'!K34^Models!$AW$39*'Do Minimum Assessment'!K36^Models!$AX$39*'Do Minimum Assessment'!K29","v":0},{"$f":"$AT$39*'Do Minimum Assessment'!L34^Models!$AW$39*'Do Minimum Assessment'!L36^Models!$AX$39*'Do Minimum Assessment'!L29","v":0},null,null,null,null,null,null,null,null,null,null,null,null,null,null,null,null,null,null,null,null,null,null,null,null,null,null,null,null,null,"Priority intersection",{"$f":"1.391*10^-12","v":1.391E-12},null,null,2.0545,0.66700000000000004]
["Pedestrians","Along","Priority intersection","Pedestrians Along Priority intersection",{"$f":"$AT$40*'Do Minimum Assessment'!#REF!^Models!$AW$40*'Do Minimum Assessment'!#REF!^Models!$AX$40*'Do Minimum Assessment'!#REF!","v":{"$error":"#REF!"}},{"$f":"$AT$40*'Do Minimum Assessment'!C34^Models!$AW$40*'Do Minimum Assessment'!C36^Models!$AX$40*'Do Minimum Assessment'!C29","v":0.69303592063192709},{"$f":"$AT$40*'Do Minimum Assessment'!D34^Models!$AW$40*'Do Minimum Assessment'!D36^Models!$AX$40*'Do Minimum Assessment'!D29","v":0},{"$f":"$AT$40*'Do Minimum Assessment'!E34^Models!$AW$40*'Do Minimum Assessment'!E36^Models!$AX$40*'Do Minimum Assessment'!E29","v":0},{"$f":"$AT$40*'Do Minimum Assessment'!F34^Models!$AW$40*'Do Minimum Assessment'!F36^Models!$AX$40*'Do Minimum Assessment'!F29","v":0},{"$f":"$AT$40*'Do Minimum Assessment'!G34^Models!$AW$40*'Do Minimum Assessment'!G36^Models!$AX$40*'Do Minimum Assessment'!G29","v":0},{"$f":"$AT$40*'Do Minimum Assessment'!H34^Models!$AW$40*'Do Minimum Assessment'!H36^Models!$AX$40*'Do Minimum Assessment'!H29","v":0},{"$f":"$AT$40*'Do Minimum Assessment'!I34^Models!$AW$40*'Do Minimum Assessment'!I36^Models!$AX$40*'Do Minimum Assessment'!I29","v":0},{"$f":"$AT$40*'Do Minimum Assessment'!J34^Models!$AW$40*'Do Minimum Assessment'!J36^Models!$AX$40*'Do Minimum Assessment'!J29","v":0},{"$f":"$AT$40*'Do Minimum Assessment'!K34^Models!$AW$40*'Do Minimum Assessment'!K36^Models!$AX$40*'Do Minimum Assessment'!K29","v":0},{"$f":"$AT$40*'Do Minimum Assessment'!L34^Models!$AW$40*'Do Minimum Assessment'!L36^Models!$AX$40*'Do Minimum Assessment'!L29","v":0},null,null,null,null,null,null,null,null,null,null,null,null,null,null,null,null,null,null,null,null,null,null,null,null,null,null,null,null,null,"Roundabout",{"$f":"1.326*10^-3","v":1.3260000000000001E-3},null,null,-8.5300000000000001E-2,0.62370000000000003]
["Pedestrians","Along","Roundabout","Pedestrians Along Roundabout",{"$f":"AT41*('Do Minimum Assessment'!#REF!^AW41)*('Do Minimum Assessment'!#REF!^AX41)","v":{"$error":"#REF!"}},{"$f":"AU41*('Do Minimum Assessment'!C34^AX41)*('Do Minimum Assessment'!C36^AY41)","v":0},{"$f":"AV41*('Do Minimum Assessment'!D34^AY41)*('Do Minimum Assessment'!D36^AZ41)","v":{"$error":"#NUM!"}},{"$f":"AW41*('Do Minimum Assessment'!E34^AZ41)*('Do Minimum Assessment'!E36^BA41)","v":{"$error":"#NUM!"}},{"$f":"AX41*('Do Minimum Assessment'!F34^BA41)*('Do Minimum Assessment'!F36^BB41)","v":{"$error":"#NUM!"}},{"$f":"AY41*('Do Minimum Assessment'!G34^BB41)*('Do Minimum Assessment'!G36^BC41)","v":{"$error":"#NUM!"}},{"$f":"AZ41*('Do Minimum Assessment'!H34^BC41)*('Do Minimum Assessment'!H36^BD41)","v":{"$error":"#NUM!"}},{"$f":"BA41*('Do Minimum Assessment'!I34^BD41)*('Do Minimum Assessment'!I36^BE41)","v":{"$error":"#NUM!"}},{"$f":"BB41*('Do Minimum Assessment'!J34^BE41)*('Do Minimum Assessment'!J36^BF41)","v":{"$error":"#NUM!"}},{"$f":"BC41*('Do Minimum Assessment'!K34^BF41)*('Do Minimum Assessment'!K36^BG41)","v":{"$error":"#NUM!"}},{"$f":"BD41*('Do Minimum Assessment'!L34^BG41)*('Do Minimum Assessment'!L36^BH41)","v":{"$error":"#NUM!"}},null,null,null,null,null,null,null,null,null,null,null,null,null,null,null,null,null,null,null,null,null,null,null,null,null,null,null,null,"Along","Mid-block",{"$f":"1.27*10^-4","v":1.27E-4},null,null,0.69,0.26]
["Cyclists","Crossing/ Turning","Mid-block","Cyclists Crossing/ Turning Mid-block",{"$f":"$AT$42*'Do Minimum Assessment'!#REF!^Models!$AW$42*'Do Minimum Assessment'!#REF!^Models!$AX$42*(IF('Do Minimum Assessment'!#REF!=\"None\",0.25,1))","v":{"$error":"#REF!"}},{"$f":"$AT$42*'Do Minimum Assessment'!C34^Models!$AW$42*'Do Minimum Assessment'!C29^Models!$AX$42*(IF('Do Minimum Assessment'!C31=\"None\",0.25,1))","v":0.5173750367208737},{"$f":"$AT$42*'Do Minimum Assessment'!D34^Models!$AW$42*'Do Minimum Assessment'!D29^Models!$AX$42*(IF('Do Minimum Assessment'!D31=\"None\",0.25,1))","v":0},{"$f":"$AT$42*'Do Minimum Assessment'!E34^Models!$AW$42*'Do Minimum Assessment'!E29^Models!$AX$42*(IF('Do Minimum Assessment'!E31=\"None\",0.25,1))","v":0},{"$f":"$AT$42*'Do Minimum Assessment'!F34^Models!$AW$42*'Do Minimum Assessment'!F29^Models!$AX$42*(IF('Do Minimum Assessment'!F31=\"None\",0.25,1))","v":0},{"$f":"$AT$42*'Do Minimum Assessment'!G34^Models!$AW$42*'Do Minimum Assessment'!G29^Models!$AX$42*(IF('Do Minimum Assessment'!G31=\"None\",0.25,1))","v":0},{"$f":"$AT$42*'Do Minimum Assessment'!H34^Models!$AW$42*'Do Minimum Assessment'!H29^Models!$AX$42*(IF('Do Minimum Assessment'!H31=\"None\",0.25,1))","v":0},{"$f":"$AT$42*'Do Minimum Assessment'!I34^Models!$AW$42*'Do Minimum Assessment'!I29^Models!$AX$42*(IF('Do Minimum Assessment'!I31=\"None\",0.25,1))","v":0},{"$f":"$AT$42*'Do Minimum Assessment'!J34^Models!$AW$42*'Do Minimum Assessment'!J29^Models!$AX$42*(IF('Do Minimum Assessment'!J31=\"None\",0.25,1))","v":0},{"$f":"$AT$42*'Do Minimum Assessment'!K34^Models!$AW$42*'Do Minimum Assessment'!K29^Models!$AX$42*(IF('Do Minimum Assessment'!K31=\"None\",0.25,1))","v":0},{"$f":"$AT$42*'Do Minimum Assessment'!L34^Models!$AW$42*'Do Minimum Assessment'!L29^Models!$AX$42*(IF('Do Minimum Assessment'!L31=\"None\",0.25,1))","v":0},null,null,null,null,null,null,null,null,null,null,null,null,null,null,null,null,null,null,null,null,null,null,null,null,null,null,null,null,null,"Signalised intersection",{"$f":"1.391*10^-12","v":1.391E-12},null,null,2.0545,0.66700000000000004]
["Cyclists","Crossing/ Turning","Signalised intersection","Cyclists Crossing/ Turning Signalised intersection",{"$f":"$AT$43*('Do Minimum Assessment'!#REF!^$AW$43)*('Do Minimum Assessment'!#REF!^$AX$43)","v":{"$error":"#REF!"}},{"$f":"$AT$43*('Do Minimum Assessment'!C34^$AW$43)*('Do Minimum Assessment'!C37^$AX$43)","v":4.7048268049660696E-2},{"$f":"$AT$43*('Do Minimum Assessment'!D34^$AW$43)*('Do Minimum Assessment'!D37^$AX$43)","v":{"$error":"#DIV/0!"}},{"$f":"$AT$43*('Do Minimum Assessment'!E34^$AW$43)*('Do Minimum Assessment'!E37^$AX$43)","v":{"$error":"#DIV/0!"}},{"$f":"$AT$43*('Do Minimum Assessment'!F34^$AW$43)*('Do Minimum Assessment'!F37^$AX$43)","v":{"$error":"#DIV/0!"}},{"$f":"$AT$43*('Do Minimum Assessment'!G34^$AW$43)*('Do Minimum Assessment'!G37^$AX$43)","v":{"$error":"#DIV/0!"}},{"$f":"$AT$43*('Do Minimum Assessment'!H34^$AW$43)*('Do Minimum Assessment'!H37^$AX$43)","v":{"$error":"#DIV/0!"}},{"$f":"$AT$43*('Do Minimum Assessment'!I34^$AW$43)*('Do Minimum Assessment'!I37^$AX$43)","v":{"$error":"#DIV/0!"}},{"$f":"$AT$43*('Do Minimum Assessment'!J34^$AW$43)*('Do Minimum Assessment'!J37^$AX$43)","v":{"$error":"#DIV/0!"}},{"$f":"$AT$43*('Do Minimum Assessment'!K34^$AW$43)*('Do Minimum Assessment'!K37^$AX$43)","v":{"$error":"#DIV/0!"}},{"$f":"$AT$43*('Do Minimum Assessment'!L34^$AW$43)*('Do Minimum Assessment'!L37^$AX$43)","v":{"$error":"#DIV/0!"}},null,null,null,null,null,null,null,null,null,null,null,null,null,null,null,null,null,null,null,null,null,null,null,null,null,null,null,null,null,"Priority intersection",{"$f":"1.391*10^-12","v":1.391E-12},null,null,2.0545,0.66700000000000004]
["Cyclists","Crossing/ Turning","Priority intersection","Cyclists Crossing/ Turning Priority intersection",{"$f":"$AT$44*('Do Minimum Assessment'!#REF!^$AW$44)*('Do Minimum Assessment'!#REF!^$AX$44)","v":{"$error":"#REF!"}},{"$f":"$AT$44*('Do Minimum Assessment'!C34^$AW$44)*('Do Minimum Assessment'!C37^$AX$44)","v":4.7048268049660696E-2},{"$f":"$AT$44*('Do Minimum Assessment'!D34^$AW$44)*('Do Minimum Assessment'!D37^$AX$44)","v":{"$error":"#DIV/0!"}},{"$f":"$AT$44*('Do Minimum Assessment'!E34^$AW$44)*('Do Minimum Assessment'!E37^$AX$44)","v":{"$error":"#DIV/0!"}},{"$f":"$AT$44*('Do Minimum Assessment'!F34^$AW$44)*('Do Minimum Assessment'!F37^$AX$44)","v":{"$error":"#DIV/0!"}},{"$f":"$AT$44*('Do Minimum Assessment'!G34^$AW$44)*('Do Minimum Assessment'!G37^$AX$44)","v":{"$error":"#DIV/0!"}},{"$f":"$AT$44*('Do Minimum Assessment'!H34^$AW$44)*('Do Minimum Assessment'!H37^$AX$44)","v":{"$error":"#DIV/0!"}},{"$f":"$AT$44*('Do Minimum Assessment'!I34^$AW$44)*('Do Minimum Assessment'!I37^$AX$44)","v":{"$error":"#DIV/0!"}},{"$f":"$AT$44*('Do Minimum Assessment'!J34^$AW$44)*('Do Minimum Assessment'!J37^$AX$44)","v":{"$error":"#DIV/0!"}},{"$f":"$AT$44*('Do Minimum Assessment'!K34^$AW$44)*('Do Minimum Assessment'!K37^$AX$44)","v":{"$error":"#DIV/0!"}},{"$f":"$AT$44*('Do Minimum Assessment'!L34^$AW$44)*('Do Minimum Assessment'!L37^$AX$44)","v":{"$error":"#DIV/0!"}},null,null,null,null,null,null,null,null,null,null,null,null,null,null,null,null,null,null,null,null,null,null,null,null,null,null,null,null,null,"Roundabout",{"$f":"1.326*10^-3","v":1.3260000000000001E-3},null,null,-8.5300000000000001E-2,0.62370000000000003]
["Cyclists","Crossing/ Turning","Roundabout","Cyclists Crossing/ Turning Roundabout",{"$f":"$AT$45*'Do Minimum Assessment'!#REF!^Models!$AW$45*'Do Minimum Assessment'!#REF!^Models!$AX$45","v":{"$error":"#REF!"}},{"$f":"$AT$45*'Do Minimum Assessment'!C34^Models!$AW$45*'Do Minimum Assessment'!C37^Models!$AX$45","v":0.45028405639920854},{"$f":"$AT$45*'Do Minimum Assessment'!D34^Models!$AW$45*'Do Minimum Assessment'!D37^Models!$AX$45","v":0},{"$f":"$AT$45*'Do Minimum Assessment'!E34^Models!$AW$45*'Do Minimum Assessment'!E37^Models!$AX$45","v":0},{"$f":"$AT$45*'Do Minimum Assessment'!F34^Models!$AW$45*'Do Minimum Assessment'!F37^Models!$AX$45","v":0},{"$f":"$AT$45*'Do Minimum Assessment'!G34^Models!$AW$45*'Do Minimum Assessment'!G37^Models!$AX$45","v":0},{"$f":"$AT$45*'Do Minimum Assessment'!H34^Models!$AW$45*'Do Minimum Assessment'!H37^Models!$AX$45","v":0},{"$f":"$AT$45*'Do Minimum Assessment'!I34^Models!$AW$45*'Do Minimum Assessment'!I37^Models!$AX$45","v":0},{"$f":"$AT$45*'Do Minimum Assessment'!J34^Models!$AW$45*'Do Minimum Assessment'!J37^Models!$AX$45","v":0},{"$f":"$AT$45*'Do Minimum Assessment'!K34^Models!$AW$45*'Do Minimum Assessment'!K37^Models!$AX$45","v":0},{"$f":"$AT$45*'Do Minimum Assessment'!L34^Models!$AW$45*'Do Minimum Assessment'!L37^Models!$AX$45","v":0},null,null,null,null,null,null,null,null,null,null,null,null,null,null,null,null,null,null,null,null,null,null,null,null,null,null,null,"Cyclists","Crossing/ Turning","Mid-block",{"$f":"1.37*10^-3","v":1.3700000000000001E-3},null,null,0.56000000000000005,0.1]
["Cyclists","Along","Mid-block","Cyclists Along Mid-block",{"$f":"$AT$46*'Do Minimum Assessment'!#REF!^Models!$AW$46*'Do Minimum Assessment'!#REF!^Models!$AX$46*'Do Minimum Assessment'!#REF!^Models!$AY$46","v":{"$error":"#REF!"}},{"$f":"$AT$46*'Do Minimum Assessment'!C34^Models!$AW$46*'Do Minimum Assessment'!#REF!^Models!$AX$46*'Do Minimum Assessment'!C29^Models!$AY$46*(IF('Do Minimum Assessment'!C33=\"Yes\",0.63,1))","v":{"$error":"#REF!"}},{"$f":"$AT$46*'Do Minimum Assessment'!D34^Models!$AW$46*'Do Minimum Assessment'!#REF!^Models!$AX$46*'Do Minimum Assessment'!D29^Models!$AY$46*(IF('Do Minimum Assessment'!D33=\"Yes\",0.63,1))","v":{"$error":"#REF!"}},{"$f":"$AT$46*'Do Minimum Assessment'!E34^Models!$AW$46*'Do Minimum Assessment'!#REF!^Models!$AX$46*'Do Minimum Assessment'!E29^Models!$AY$46*(IF('Do Minimum Assessment'!E33=\"Yes\",0.63,1))","v":{"$error":"#REF!"}},{"$f":"$AT$46*'Do Minimum Assessment'!F34^Models!$AW$46*'Do Minimum Assessment'!#REF!^Models!$AX$46*'Do Minimum Assessment'!F29^Models!$AY$46*(IF('Do Minimum Assessment'!F33=\"Yes\",0.63,1))","v":{"$error":"#REF!"}},{"$f":"$AT$46*'Do Minimum Assessment'!G34^Models!$AW$46*'Do Minimum Assessment'!#REF!^Models!$AX$46*'Do Minimum Assessment'!G29^Models!$AY$46*(IF('Do Minimum Assessment'!G33=\"Yes\",0.63,1))","v":{"$error":"#REF!"}},{"$f":"$AT$46*'Do Minimum Assessment'!H34^Models!$AW$46*'Do Minimum Assessment'!#REF!^Models!$AX$46*'Do Minimum Assessment'!H29^Models!$AY$46*(IF('Do Minimum Assessment'!H33=\"Yes\",0.63,1))","v":{"$error":"#REF!"}},{"$f":"$AT$46*'Do Minimum Assessment'!I34^Models!$AW$46*'Do Minimum Assessment'!#REF!^Models!$AX$46*'Do Minimum Assessment'!I29^Models!$AY$46*(IF('Do Minimum Assessment'!I33=\"Yes\",0.63,1))","v":{"$error":"#REF!"}},{"$f":"$AT$46*'Do Minimum Assessment'!J34^Models!$AW$46*'Do Minimum Assessment'!#REF!^Models!$AX$46*'Do Minimum Assessment'!J29^Models!$AY$46*(IF('Do Minimum Assessment'!J33=\"Yes\",0.63,1))","v":{"$error":"#REF!"}},{"$f":"$AT$46*'Do Minimum Assessment'!K34^Models!$AW$46*'Do Minimum Assessment'!#REF!^Models!$AX$46*'Do Minimum Assessment'!K29^Models!$AY$46*(IF('Do Minimum Assessment'!K33=\"Yes\",0.63,1))","v":{"$error":"#REF!"}},{"$f":"$AT$46*'Do Minimum Assessment'!L34^Models!$AW$46*'Do Minimum Assessment'!#REF!^Models!$AX$46*'Do Minimum Assessment'!L29^Models!$AY$46*(IF('Do Minimum Assessment'!L33=\"Yes\",0.63,1))","v":{"$error":"#REF!"}},null,null,null,null,null,null,null,null,null,null,null,null,null,null,null,null,null,null,null,null,null,null,null,null,null,null,null,null,null,"Signalised intersection",3.1220000000000002E-3,null,null,-0.12939999999999999,0.7329,null,"Research 289 ","6.12.3 APM Type: UCTT2 (right-turn-against)","Cycle going thru"]
["Cyclists","Along","Signalised intersection","Cyclists Along Signalised intersection",{"$f":"$AT$47*('Do Minimum Assessment'!#REF!^Models!$AW$47)*('Do Minimum Assessment'!#REF!^Models!$AX$47)","v":{"$error":"#REF!"}},{"$f":"$AT$47*('Do Minimum Assessment'!C34^Models!$AW$47)*('Do Minimum Assessment'!#REF!^Models!$AX$47)","v":{"$error":"#REF!"}},{"$f":"$AT$47*('Do Minimum Assessment'!D34^Models!$AW$47)*('Do Minimum Assessment'!#REF!^Models!$AX$47)","v":{"$error":"#DIV/0!"}},{"$f":"$AT$47*('Do Minimum Assessment'!E34^Models!$AW$47)*('Do Minimum Assessment'!#REF!^Models!$AX$47)","v":{"$error":"#DIV/0!"}},{"$f":"$AT$47*('Do Minimum Assessment'!F34^Models!$AW$47)*('Do Minimum Assessment'!#REF!^Models!$AX$47)","v":{"$error":"#DIV/0!"}},{"$f":"$AT$47*('Do Minimum Assessment'!G34^Models!$AW$47)*('Do Minimum Assessment'!#REF!^Models!$AX$47)","v":{"$error":"#DIV/0!"}},{"$f":"$AT$47*('Do Minimum Assessment'!H34^Models!$AW$47)*('Do Minimum Assessment'!#REF!^Models!$AX$47)","v":{"$error":"#DIV/0!"}},{"$f":"$AT$47*('Do Minimum Assessment'!I34^Models!$AW$47)*('Do Minimum Assessment'!#REF!^Models!$AX$47)","v":{"$error":"#DIV/0!"}},{"$f":"$AT$47*('Do Minimum Assessment'!J34^Models!$AW$47)*('Do Minimum Assessment'!#REF!^Models!$AX$47)","v":{"$error":"#DIV/0!"}},{"$f":"$AT$47*('Do Minimum Assessment'!K34^Models!$AW$47)*('Do Minimum Assessment'!#REF!^Models!$AX$47)","v":{"$error":"#DIV/0!"}},{"$f":"$AT$47*('Do Minimum Assessment'!L34^Models!$AW$47)*('Do Minimum Assessment'!#REF!^Models!$AX$47)","v":{"$error":"#DIV/0!"}},null,null,null,null,null,null,null,null,null,null,null,null,null,null,null,null,null,null,null,null,null,null,null,null,null,null,null,null,null,"Priority intersection",3.1220000000000002E-3,null,null,-0.12939999999999999,0.7329,null,"Research 289 ","6.12.3 APM Type: UCTT2 (right-turn-against)","Cycle going thru"]
["Cyclists","Along","Priority intersection","Cyclists Along Priority intersection",{"$f":"$AT$48*('Do Minimum Assessment'!#REF!^Models!$AW$48)*('Do Minimum Assessment'!#REF!^Models!$AX$48)","v":{"$error":"#REF!"}},{"$f":"$AT$48*('Do Minimum Assessment'!C34^Models!$AW$48)*('Do Minimum Assessment'!#REF!^Models!$AX$48)","v":{"$error":"#REF!"}},{"$f":"$AT$48*('Do Minimum Assessment'!D34^Models!$AW$48)*('Do Minimum Assessment'!#REF!^Models!$AX$48)","v":{"$error":"#DIV/0!"}},{"$f":"$AT$48*('Do Minimum Assessment'!E34^Models!$AW$48)*('Do Minimum Assessment'!#REF!^Models!$AX$48)","v":{"$error":"#DIV/0!"}},{"$f":"$AT$48*('Do Minimum Assessment'!F34^Models!$AW$48)*('Do Minimum Assessment'!#REF!^Models!$AX$48)","v":{"$error":"#DIV/0!"}},{"$f":"$AT$48*('Do Minimum Assessment'!G34^Models!$AW$48)*('Do Minimum Assessment'!#REF!^Models!$AX$48)","v":{"$error":"#DIV/0!"}},{"$f":"$AT$48*('Do Minimum Assessment'!H34^Models!$AW$48)*('Do Minimum Assessment'!#REF!^Models!$AX$48)","v":{"$error":"#DIV/0!"}},{"$f":"$AT$48*('Do Minimum Assessment'!I34^Models!$AW$48)*('Do Minimum Assessment'!#REF!^Models!$AX$48)","v":{"$error":"#DIV/0!"}},{"$f":"$AT$48*('Do Minimum Assessment'!J34^Models!$AW$48)*('Do Minimum Assessment'!#REF!^Models!$AX$48)","v":{"$error":"#DIV/0!"}},{"$f":"$AT$48*('Do Minimum Assessment'!K34^Models!$AW$48)*('Do Minimum Assessment'!#REF!^Models!$AX$48)","v":{"$error":"#DIV/0!"}},{"$f":"$AT$48*('Do Minimum Assessment'!L34^Models!$AW$48)*('Do Minimum Assessment'!#REF!^Models!$AX$48)","v":{"$error":"#DIV/0!"}},null,null,null,null,null,null,null,null,null,null,null,null,null,null,null,null,null,null,null,null,null,null,null,null,null,null,null,null,null,"Roundabout",2.3989999999999999E-5,null,null,0.78510000000000002,0.31630000000000003,null,"Research 289 ","6.8.2 APM type: UCXR1 (Intersecting)"]
["Cyclists","Along","Roundabout","Cyclists Along Roundabout",{"$f":"$AT$49*'Do Minimum Assessment'!#REF!^Models!$AW$49*'Do Minimum Assessment'!#REF!^Models!$AX$49","v":{"$error":"#REF!"}},{"$f":"$AT$49*'Do Minimum Assessment'!C34^Models!$AW$49*'Do Minimum Assessment'!#REF!^Models!$AX$49","v":{"$error":"#REF!"}},{"$f":"$AT$49*'Do Minimum Assessment'!D34^Models!$AW$49*'Do Minimum Assessment'!#REF!^Models!$AX$49","v":{"$error":"#REF!"}},{"$f":"$AT$49*'Do Minimum Assessment'!E34^Models!$AW$49*'Do Minimum Assessment'!#REF!^Models!$AX$49","v":{"$error":"#REF!"}},{"$f":"$AT$49*'Do Minimum Assessment'!F34^Models!$AW$49*'Do Minimum Assessment'!#REF!^Models!$AX$49","v":{"$error":"#REF!"}},{"$f":"$AT$49*'Do Minimum Assessment'!G34^Models!$AW$49*'Do Minimum Assessment'!#REF!^Models!$AX$49","v":{"$error":"#REF!"}},{"$f":"$AT$49*'Do Minimum Assessment'!H34^Models!$AW$49*'Do Minimum Assessment'!#REF!^Models!$AX$49","v":{"$error":"#REF!"}},{"$f":"$AT$49*'Do Minimum Assessment'!I34^Models!$AW$49*'Do Minimum Assessment'!#REF!^Models!$AX$49","v":{"$error":"#REF!"}},{"$f":"$AT$49*'Do Minimum Assessment'!J34^Models!$AW$49*'Do Minimum Assessment'!#REF!^Models!$AX$49","v":{"$error":"#REF!"}},{"$f":"$AT$49*'Do Minimum Assessment'!K34^Models!$AW$49*'Do Minimum Assessment'!#REF!^Models!$AX$49","v":{"$error":"#REF!"}},{"$f":"$AT$49*'Do Minimum Assessment'!L34^Models!$AW$49*'Do Minimum Assessment'!#REF!^Models!$AX$49","v":{"$error":"#REF!"}},null,null,null,null,null,null,null,null,null,null,null,null,null,null,null,null,null,null,null,null,null,null,null,null,null,null,null,null,"Along","Mid-block",{"$f":"1.05*10^-2","v":1.0500000000000001E-2},null,null,0.25,0.16,0.45,"Research 389 ","Table XS1 Crash prediction models"]
[null,null,null,null,null,null,null,null,null,null,null,null,null,null,null,null,null,null,null,null,null,null,null,null,null,null,null,null,null,null,null,null,null,null,null,null,null,null,null,null,null,null,null,null,"Signalised intersection",0.1425921,null,null,-0.18179999999999999,-6.2399999999999997E-2,null,"Research 289 ","Table 6.46 Annual flow-only APM for UCTT1 accidents.","same direction"]
[null,null,null,null,null,null,null,null,null,null,null,null,null,null,null,null,null,null,null,null,null,null,null,null,null,null,null,null,null,null,null,null,null,null,null,null,null,null,null,null,null,null,null,"same direction","Priority intersection",3.1220000000000002E-3,null,null,-0.12939999999999999,0.7329,null,"Research 289 ","6.12.3 APM Type: UCTT2 (right-turn-against)","Cycle going thru"]
[null,null,null,null,null,null,null,null,null,null,null,null,null,null,null,null,null,null,null,null,null,null,null,null,null,null,null,null,null,null,null,null,null,null,null,null,null,null,null,null,null,null,null,"entering versus same direction","Roundabout",{"$f":"3.062*10^-10","v":3.0619999999999999E-10},null,null,1.7581,0.50170000000000003,null,"Research 289 ","6.8.3 APM Type: UCXR2 (entering versus same direction)"]
[null,null,null,null,null,null,null,null,null,null,null,null,null,null,null,null,null,null,null,null,null,null,null,null,null,null,null,null,null,null,null,null,null,null,null,null,null,null,null,null,null,null,"Pedestrians","Pedestrian crossing X Intersection (Main Approach)","Signalised X Intersection",{"$f":"7.279*10^-6","v":7.2789999999999993E-6},null,null,0.63400000000000001,0.39589999999999997,null,"Research 289 ","Table 6.17 Annual fow only APM for UPXT1 accidents"]
[null,null,null,null,null,null,null,null,null,null,null,null,null,null,null,null,null,null,null,null,null,null,null,null,null,null,null,null,null,null,null,null,null,null,null,null,null,null,null,null,null,null,"Pedestrians","Pedestrian crossing T Intersection (Main Approach)","Signalised T Intersection",{"$f":"1.391*10^-12","v":1.391E-12},null,null,2.0545,0.66700000000000004,null,"Research 289 "]
[null,null,null,null,null,null,null,null,null,null,null,null,null,null,null,null,null,null,null,null,null,null,null,null,null,null,null,null,null,null,null,null,null,null,null,null,null,null,null,null,null,null,"Pedestrians","Pedestrian crossing X Intersection (Minor Approach)","Signalised X Intersection",{"$f":"5.066*10^-5","v":5.0659999999999999E-5},null,null,0.49819999999999998,-5.0999999999999997E-2,0.57299999999999995]
[null,null,null,null,null,null,null,null,null,null,null,null,null,null,null,null,null,null,null,null,null,null,null,null,null,null,null,null,null,null,null,null,null,null,null,null,null,null,null,null,null,null,"Pedestrians","Pedestrian crossing T Intersection (Main Approach)","Priority T Intersection",{"$f":"1.391*10^-12","v":1.391E-12},null,null,2.0545,0.66700000000000004]
[null,null,null,null,null,null,null,null,null,null,null,null,null,null,null,null,null,null,null,null,null,null,null,null,null,null,null,null,null,null,null,null,null,null,null,null,null,null,null,null,null,null,"Pedestrians","Pedestrian crossing X Intersection (Minor Approach)","Prority X Intersection",{"$f":"5.066*10^-5","v":5.0659999999999999E-5},null,null,0.49819999999999998,-5.0999999999999997E-2,0.57299999999999995]
[null,null,null,null,null,null,null,null,null,null,null,null,null,null,null,null,null,null,null,null,null,null,null,null,null,null,null,null,null,null,null,null,null,null,null,null,null,null,null,null,null,null,"Pedestrians","All mid-block pedestrian crossing crashes","Mid-block",{"$f":"1.27*10^-4","v":1.27E-4},null,null,0.69,0.26]
[]
[null,null,null,null,null,null,null,null,null,null,null,null,null,null,null,null,null,null,null,null,null,null,null,null,null,null,null,null,null,null,null,null,null,null,null,null,null,null,null,null,null,null,"Pedestrians","Vehicle hit pedestrians crossing at right angles ","Roundabout",{"$f":"1.326*10^-3","v":1.3260000000000001E-3},null,null,"−0.0853",0.62370000000000003,null,null,"Research 289 ","Table 6.34"]
[null,null,null,null,null,null,null,null,null,null,null,null,null,null,null,null,null,null,null,null,null,null,null,null,null,null,null,null,null,null,null,null,null,null,null,null,null,null,null,null,null,null,"Cyclists","Cyclist mid-block non-turning crashes","Mid-block",2.2800000000000001E-4,null,null,0.31,0.5,0.27,null,"Research 389 ","Table 5.1 Crash prediction models"]
[null,null,null,null,null,null,null,null,null,null,null,null,null,null,null,null,null,null,null,null,null,null,null,null,null,null,null,null,null,null,null,null,null,null,null,null,null,null,null,null,null,null,"Cyclists","Cyclist mid-block turning crashes","Mid-block",{"$f":"3.5*10^-2","v":3.5000000000000003E-2},null,null,0.19,0.54,null,0.48,"Research 389 ","Table 5.1 Crash prediction models"]
[null,null,null,null,null,null,null,null,null,null,null,null,null,null,null,null,null,null,null,null,null,null,null,null,null,null,null,null,null,null,null,null,null,null,null,null,null,null,null,null,null,null,"Cyclists","Same direction","Signalised intersection",{"$f":"6.16*10^-3","v":6.1600000000000005E-3},null,null,0.17,0.03,null,1.41,"Research 389 ","Table 5.1 Crash prediction models"]
[null,null,null,null,null,null,null,null,null,null,null,null,null,null,null,null,null,null,null,null,null,null,null,null,null,null,null,null,null,null,null,null,null,null,null,null,null,null,null,null,null,null,"Cyclists"]

{"sheet":"Reference","index":14,"n_rows":102,"n_cols":17,"rows_kept":102,"cut":false,"hidden":true,"merged":[]}
["Road_Type","Type of Facility",null,null,null,null,null,null,null,"Edgeware Road ",14,null,null,"Intersection","Midblock","Pedestrians","Cyclists"]
["Laneway","Signalised_Intersection",null,null,null,null,null,null,null,"Caledonian Road",13]
["Local Road","Midblock",null,null,null,null,null,null,null,"Abberley Crescent",10]
["Collector","Priority_Intersection",null,null,null,null,null,null,null,"Ranfurly Street",14]
["Arterial","Roundabout",null,null,null,null,null,null,null,"Holly Street",7]
["Strategic",null,null,null,null,null,null,null,null,"Berry Street",7]
[]
["Road Width","Number of lanes"]
["Less than 7",2,null,null,null,null,null,"Ops_Before","Ops_After","Speed Change","Injury_Reduction"]
["less than 9",3,null,null,null,null,"Option 1",{"$f":"'Options Assessment'!#REF!","v":{"$error":"#REF!"}},{"$f":"IF(#REF!=0,'Options Assessment'!#REF!,IF(#REF!=-10,(('Options Assessment'!#REF!*0.9)+3),IF(#REF!=-20,(('Options Assessment'!#REF!*0.8)+6),IF(#REF!=-30,(('Options Assessment'!#REF!*0.7)+9),IF(#REF!=-40,(('Options Assessment'!#REF!*0.6)+12),IF(#REF!=-50,(('Options Assessment'!#REF!*0.5)+15),IF(#REF!=-60,(('Options Assessment'!#REF!*0.4)+18),IF(#REF!=-70,(('Options Assessment'!#REF!*0.3)+21),IF(#REF!=10,(('Options Assessment'!#REF!*1.1)-3),IF(#REF!=20,(('Options Assessment'!#REF!*1.2)-6),IF(#REF!=30,(('Options Assessment'!#REF!*1.3)-9),(('Options Assessment'!#REF!*1.4)-12))))))))))))","v":{"$error":"#REF!"}},{"$f":"H10-I10","v":{"$error":"#REF!"}},{"$f":"1-EXP(0.034*-J10)","v":{"$error":"#REF!"}}]
["less than 12",4,null,null,null,null,"Option 2",{"$f":"H10","v":{"$error":"#REF!"}},{"$f":"IF((#REF!)=-10,(('Options Assessment'!#REF!*0.9)+3),IF((#REF!)=-20,(('Options Assessment'!#REF!*0.8)+6),IF((#REF!)=-30,(('Options Assessment'!#REF!*0.7)+9),IF((#REF!)=-40,(('Options Assessment'!#REF!*0.6)+12),IF((#REF!)=-50,(('Options Assessment'!#REF!*0.5)+15),IF((#REF!)=-60,(('Options Assessment'!#REF!*0.4)+18),IF((#REF!)=-70,(('Options Assessment'!#REF!*0.3)+21),IF((#REF!)=10,(('Options Assessment'!#REF!*1.1)-3),IF((#REF!)=20,(('Options Assessment'!#REF!*1.2)-6),IF(AG8=30,(('Options Assessment'!#REF!*1.3)-9),(('Options Assessment'!#REF!*1.4)-12)))))))))))","v":{"$error":"#REF!"}},{"$f":"H11-I11","v":{"$error":"#REF!"}},{"$f":"1-EXP(0.034*-J11)","v":{"$error":"#REF!"}},null,null,"Signalised Intersection","Midblock","Priority Intersection","Roundabout"]
["gretaer than 12",null,null,null,null,null,null,null,null,null,null,null,null,"Intersection Traffic Signals - X All Movements","Midblock Commercial Arterial or Higher","Intersection Uncontrolled T All Movements","Intersection Roundabout (Single) All Movements"]
[null,null,null,null,null,null,null,null,null,null,null,null,null,"Intersection Traffic Signals - T All Movements","Midblock Residential Arterial or Higher","Intersection Priorty X All Movements","Intersection Roundabout (Multiple) All Movements"]
["Parking","Land Use",null,null,null,null,null,null,null,null,null,null,null,"Pedestrians Crossing Signalised intersection","Pedestrians Crossing Mid-block","Intersection Priority T All Movements","Pedestrians Crossing Priority intersection"]
["Both Sides","Residential",null,null,null,null,null,null,null,null,null,null,null,"Cyclists Crossing/ Turning Signalised intersection","Cyclists Crossing/ Turning Mid-block","Pedestrians Crossing Priority intersection","Cyclists Crossing/ Turning Priority intersection"]
["One Side","Commercial",null,null,null,null,null,null,null,null,null,null,null,null,null,"Cyclists Crossing/ Turning Priority intersection"]
["None"]
[]
["Speed Limit","New Speed Limit"]
[30,30]
[40,40,null,null,null,null,null,null,null,null,null,null,null,"Signalised_Intersection","Midblock","Priority_Intersection","Roundabout"]
[50,50,null,null,null,null,null,null,null,null,null,null,"Pedestrians","Pedestrians Crossing Signalised intersection","Pedestrians Crossing Mid-block","Pedestrians Crossing Priority intersection","Pedestrians Crossing Roundabout"]
[60,60,null,null,null,null,null,null,null,null,null,null,"Cyclists","Cyclists Crossing/ Turning Signalised intersection","Cyclists Crossing/ Turning Mid-block","Cyclists Crossing/ Turning Priority intersection","Cyclists Crossing/ Turning Roundabout"]
[70,70]
[null,null,null,null,null,null,null,null,null,null,null,null,null,"Roundabout"]
["Operating Speed","Cycle facility"]
[20,"None"]
[25,"Standard on-road cycle lane"]
[30,"Wide on-road cycle lane"]
[35,"Advanced Cycle stop boxes"]
[40,"Separated cycle paths"]
[45,"Shared path"]
[50]
[]
["Medians","Cycle facility"]
["Flush Median","None"]
["Solid Median","Standard on-road cycle lane"]
["None","Wide on-road cycle lane"]
[]
["Midblock new lighting/ Improved lighting","Separated cycle paths"]
["None","Shared path"]
["Subcategory V4"]
["Subcategory V3","Pedestrian facility"]
["Subcategory V2/V1","None"]
[null,"Pedestrian overpass"]
["Signal visibility","Raised platform"]
["No change","Pedestrian refuge - kerbside parking"]
["Replace pedestal mount with a mast arm mount signal","Pedestrian refuge - no kerbside parking"]
["Increase lens size to twelve inches","Kerb extension"]
["Provide additonal signal head","Pedestrian refuge and kerb extensions"]
[null,"Zebra crossing - two lane road"]
[null,"Zebra crossing - multi lane road"]
[null,"Mid-block traffic signals"]
[null,"Fencing and barriers"]
[]
["Parking angle to parallel","Install right-turn lane"]
["Four to two lanes","Install left-turn lane"]
["Traffic calming","Install red light camera"]
["Bus Lane","Street Lighting Intersection"]
["High Occupancy lane","Friction Surfacing"]
["Intermittent Surface Treatment","Banned Right Turn"]
["Gateway Treatment","Raised Intersection"]
["Traffic Signals","New mini-roundabout"]
["Install traffic signals - intersection","Barnes dance"]
["Upgrade Traffic Signals","Pedestrian improved signal timing"]
["Linked/Coordinated signals","Traffic signals rest on red"]
["Yes"]
["No"]
[]
[]
[]
["Road Users"]
["All Road Users"]
["Pedestrians"]
["Cyclists"]
[]
["Network"]
["Corridor"]
[]
["N/A"]
["Intersection Uncontrolled T All Movements"]
["Intersection Priorty X All Movements"]
["Intersection Priority T All Movements"]
["Intersection Traffic Signals - X All Movements"]
["Intersection Traffic Signals - T All Movements"]
["Intersection Roundabout (Single) All Movements"]
["Intersection Roundabout (Multiple) All Movements"]
["Intersection Signalised Crossing (no turns, motor vehicle only) "]
["Intersection Signalised Right turn against (motor-vehicle only) "]
["Intersection Signalised Others (motor-vehicle only) "]
["Intersection Signalised Pedestrian versus motor vehicle "]
["Intersection Signalised Right turn against (cyclist travelling through)"]
["Intersection Signalised Others (cyclist versus motor vehicle)"]
["Intersection Roundabouts Entering-vs-circulating (motor-vehicle only)"]
["Intersection Roundabouts Rear-end (motor-vehicle only)"]
["Intersection Roundabouts Loss-of-control (motor-vehicle only)"]
["Intersection Roundabouts Other (motor-vehicle only)"]
["Intersection Roundabouts Pedestrian"]
["Intersection Roundabouts Entering-vs-circulating (cyclist circulating)"]
["Intersection Roundabouts Other (cyclist)"]
["Intersection Priority T Crossing – Vehicle turning (major road approach to right of side road)"]
["Intersection Priority T Right Turn Against"]