{"text_format":"1","workbook":"xlsx","n_sheets":10,"sheets":["Instructions for use","Key Questions & Results Summary","Benefit Inputs","Safety","Access - Active Modes","Access - Congestion","Access - Public Transport","Access - Resilience","Lookups","Total dwellings SA2"],"not_rendered":{"charts":0,"images":1,"macros":1,"external_links":0,"defined_names":24,"comments":0,"pivot_tables":0},"unopened":[],"bounds":{"document_bytes":16777216,"sheet_cells":100000,"rows_first":2000,"rows_last":500,"rows_between":2000,"halvings":0,"cell_chars":16384,"cell_head_chars":4096},"cells_cut":0,"cells_raw":0,"read":"whole","date_system":"1900"}

{"sheet":"Instructions for use","index":0,"n_rows":0,"n_cols":0,"rows_kept":0,"cut":false,"hidden":false,"merged":[]}

{"sheet":"Key Questions & Results Summary","index":1,"n_rows":51,"n_cols":14,"rows_kept":51,"cut":false,"hidden":false,"merged":[[36,1,36,2],[38,1,38,2],[7,2,7,4],[8,2,8,4],[10,2,10,4],[12,1,12,2]]}
[]
[null,null,"Questions",null,"Inputs"]
[]
[null,"Q1","What type of problem / benefits do you anticipate?",null,null,null,{"$f":"IF(E4=\"Other\",\"Please use alternative method to estimate the high level BCR.\",\"\")","v":""}]
[]
[null,"Q1a","What is the secondary type of problem / benefits (if any - leave blank if no secondary problem/benefit needed to be included?",null,null,null,{"$f":"IF(E4=\"Other\",\"No furher inputs required\",\"\")","v":""}]
[]
[null,"Q2","What are the characteristics of the transport system being assessed ?"]
[null,null,{"$f":"IF(OR(ISBLANK(E4),E4=\"Other\"),\"\",\"Please input fields for \"&E4&IF(ISBLANK(E6),\"in the Benefit Inputs worksheet\",\" and \"&E6&\" in the Benefit Inputs worksheet\"))","v":""}]
[]
[null,"Q3","What is the expected level of investment needed to address the identified problem/s?"]
[]
[null,"Cost Input "]
[]
[null,"Additional Service Provide Costs (per year) - O&M",null,null,null,null,{"$f":"IF(OR(E4=\"Access - Public Transport\",E6=\"Access - Public Transport\"),\"\",\"No inputs required\")","v":"No inputs required"}]
[]
[null,null,null,null,null,null,null,null,null,null,"Results"]
[null,null,null,null,null,null,null,null,null,null,"Benefit"]
[null,"Discount Rate",0.04,null,null,null,null,null,null,null,"Safety",{"$f":"Safety!D36","v":{"$error":"#N/A"}}]
[null,null,null,null,null,null,null,null,null,null,"Access - Active Modes",{"$f":"'Access - Active Modes'!D60+'Access - Active Modes'!E60","v":{"$error":"#N/A"}}]
[null,"Indicative Efficiency Rating Tool Results",null,null,null,null,null,null,null,null,"Access - Congestion",{"$f":"'Access - Congestion'!D35","v":{"$error":"#N/A"}}]
[null,null,null,null,null,null,null,null,null,null,"Access - Resilience",{"$f":"'Access - Resilience'!D27","v":{"$error":"#N/A"}}]
[null,{"$f":"K42","v":"Benefits"},null,null,null,null,null,null,null,null,"Access - Public Transport",{"$f":"'Access - Public Transport'!D35","v":0}]
[null,{"$f":"K43","v":0},{"$f":"L43","v":{"$error":"#N/A"}}]
[null,{"$f":"K44","v":0},{"$f":"L44","v":0}]
[null,"Total",{"$f":"L45","v":{"$error":"#N/A"}},null,null,null,null,null,null,null,"BCR",{"$f":"C26/C30","v":{"$error":"#N/A"}}]
[null,null,null,null,null,null,null,null,null,null,"Mean",{"$f":"L26*0.8","v":{"$error":"#N/A"}}]
[null,"Costs",{"$f":"L46","v":0},null,null,null,null,null,null,null,"Stdev",{"$f":"L26*0.3","v":{"$error":"#N/A"}}]
[null,null,null,null,null,null,null,null,null,null,1,{"$f":"_xlfn.NORM.DIST($K$29,$L$27,$L$28,TRUE)","v":{"$error":"#N/A"}},"Very low","Less than 1"]
[null,"Total",{"$f":"L46","v":0},null,null,null,null,null,null,null,2.9,{"$f":"_xlfn.NORM.DIST($K30,$L$27,$L$28,TRUE)-L29","v":{"$error":"#N/A"}},"Low","1-2.4"]
[null,null,null,null,null,null,null,null,null,null,5.9,{"$f":"_xlfn.NORM.DIST($K31,$L$27,$L$28,TRUE)-SUM($L$29:L30)","v":{"$error":"#N/A"}},"Medium","2.5-3.9"]
[null,"IER",{"$f":"C26/C30*0.5","v":{"$error":"#N/A"}},null,{"$f":"C26/C30*1.1","v":{"$error":"#N/A"}},null,null,null,null,null,9.9,{"$f":"_xlfn.NORM.DIST($K32,$L$27,$L$28,TRUE)-SUM($L$29:L31)","v":{"$error":"#N/A"}},"High","4.0-7.0"]
[null,null,null,null,null,null,null,null,null,null,">10",{"$f":"1-SUM(L29:L32)","v":{"$error":"#N/A"}},"Very High","Greater than 7"]
[]
[null,null,null,null,"Outputs"]
[]
[null,"Suggested Efficiency Rating",null,null,{"$f":"VLOOKUP(MAX(L29:L33),L29:M33,2,FALSE)","v":{"$error":"#N/A"}}]
[]
[null,"IER range",null,null,{"$f":"VLOOKUP(E37,M29:N33,2,FALSE)","v":{"$error":"#N/A"}}]
[]
[]
[null,null,null,null,null,null,null,null,null,null,"Benefits"]
[null,null,null,null,null,null,null,null,null,null,{"$f":"E4","v":0},{"$f":"VLOOKUP(K43,$K$16:$M$25,2,FALSE)","v":{"$error":"#N/A"}}]
[null,null,null,null,null,null,null,null,null,null,{"$f":"E6","v":0},{"$f":"IF(ISBLANK(E6),0,VLOOKUP(K44,$K$16:$M$25,2,FALSE))","v":0}]
[null,null,null,null,null,null,null,null,null,null,null,{"$f":"L43+L44","v":{"$error":"#N/A"}}]
[null,null,null,null,null,null,null,null,null,null,"Costs",{"$f":"E13/(1+discountrate)+E15*Lookups!E142","v":0}]
[]
[]
[]
[]
[null,null,null,null,null,null,null,null,null,null,"eBCR",{"$f":"L45/L46","v":{"$error":"#N/A"}}]

{"sheet":"Benefit Inputs","index":2,"n_rows":63,"n_cols":5,"rows_kept":63,"cut":false,"hidden":false,"merged":[]}
[]
[null,"Safety"]
[null,"Total number of DSI over the past 5 years",null,"* Crash data can be obtained from CAS"]
[]
[null,"Speed Environment"]
[]
[]
[]
[]
[null,"SSI Intervention?",null,{"$f":"IF(C10=\"Yes\",\"Please use SSI Intervention Tool to estimate the SSI benefits\",\"\")","v":""}]
[]
[null,{"$f":"IF(C10=\"No\",\"Non-SSI Intervention Type\",\"\")","v":""},null,{"$f":"IF(C10=\"No\",\"describe type of proposed/likely non-DSI intervetion\",\"No input required\")","v":"No input required"}]
[]
[null,{"$f":"IF(C10=\"No\",\"Non-SSI DSI Reduction, %\",\"\")","v":""},null,{"$f":"IF(C10=\"No\",\"for manual inputs. Refer to EEM Crash Compendium (or others) for suggested reduction %\",\"No input required\")","v":"No input required"}]
[]
[]
[null,"Access - Active Modes","* Demand can be estimated from the regional active mode models (if available)"]
[]
[null,"Region"]
[]
[null,"Statistical Area 2 (SA2)",null,"*If the project spans multiple areas, use the area where most of the trips will be generated"]
[]
[null,"Locality Characteristics"]
[]
[null,"Walking Facility Length (km)",null,"* Leave blank if no walking facility"]
[]
[null,"Cycling Facility Length (km)",null,"* Leave blank if no cycling facility"]
[]
[]
[null,"Access - Congestion"]
[]
[]
[null,"Road Category",null,null,"*definitions of this can be found in the MBCM"]
[]
[null,"Traffic Volume (veh/day)",null,null,"* Or alternatively only include total peak hour traffic volume"]
[]
[null,"Existing travel time (min)"]
[]
[null,"Target percentage improvements in travel time",null,null,{"$f":"IF(ISBLANK(D37),\"\",\"Equivalent to \"&ROUND(D37*D39,1)&\" minutes reduction for all traffic\")","v":""}]
[]
[]
[null,"Access - Public Transport"]
[null,"Current PT Patronage (pax/day)"]
[]
[null,"Target total PT Patronage (pax/day)",null,{"$f":"IF(ISBLANK(C45),\"\",\"Equivalent to additional of \"&ROUND((C45-C43)*250,0)&\" passengers per year\")","v":""}]
[]
[null,"Existing travel time (min)"]
[]
[null,"Target percentage improvements in travel time",null,{"$f":"IF(ISBLANK(C49),\"\",\"Equivalent to \"&ROUND(C47*C49,1)&\" minutes reduction\")","v":""}]
[]
[]
[null,"Access - Resilience"]
[null,"What is the impacted traffic volume per day"]
[]
[null,"Road Category",null,null,"*definitions of this can be found in the MBCM"]
[]
[null,"Estimated Number of Closure per Year"]
[]
[null,"Average Period of Closure (or loss of service), in hours"]
[]
[null,"Disruption / detour time during closure, in hours per vehicle"]
[]
[null,"Estimated % of resilience problems removed by proposed activity"]

{"sheet":"Safety","index":3,"n_rows":36,"n_cols":5,"rows_kept":36,"cut":false,"hidden":true,"merged":[[13,1,22,1]]}
["Q1",null,"Characteristic of Activity","Safety as Primary/Secondary Benefit Type"]
[null,null,"Total number of DSI over the past 5 years",{"$f":"'Benefit Inputs'!C3","v":0},"* Crash data can be obtained from CAS"]
[]
[null,null,"Speed Environment",{"$f":"'Benefit Inputs'!C5","v":0}]
[]
[]
[]
[]
[null,null,"SSI Intervention?",{"$f":"'Benefit Inputs'!C10","v":0},{"$f":"IF(D9=\"Yes\",\"Please use SSI Intervention Tool to estimate the SSI benefits\",\"\")","v":""}]
[]
[]
[]
[]
[null,"FOR NON SSI ACTIVITIES",{"$f":"IF(D9=\"No\",\"Non-SSI Intervention Type\",\"\")","v":""},{"$f":"'Benefit Inputs'!C12","v":0},{"$f":"IF(D9=\"No\",\"input type of proposed/likely non-DSI intervetion\",\"No input required\")","v":"No input required"}]
[]
[null,null,{"$f":"IF(D9=\"No\",\"Non-SSI DSI Reduction, %\",\"\")","v":""},{"$f":"'Benefit Inputs'!C14","v":0},{"$f":"IF(D9=\"No\",\"for manual inputs. Refer to EEM Crash Compendium (or others) for suggested reduction %\",\"No input required\")","v":"No input required"}]
[]
[]
["Q2"]
[]
[]
[]
[]
[]
[]
[]
[]
[null,null,"Benefit Calculation"]
[null,null,"DSI/year",{"$f":"D2/5","v":0}]
[null,null,"$ per DSI",{"$f":"VLOOKUP($D$4,DSIvalues,3,FALSE)*crashcostupdatefactor","v":{"$error":"#N/A"}}]
[]
[null,null,"Benefit per year",{"$f":"D29*D16*D30","v":{"$error":"#N/A"}}]
[]
[]
[]
[null,null,"40 year benefit range",{"$f":"D32*Lookups!$E$142","v":{"$error":"#N/A"}}]

{"sheet":"Access - Active Modes","index":4,"n_rows":60,"n_cols":5,"rows_kept":60,"cut":false,"hidden":true,"merged":[]}
["Q3",null,"Characteristic of Activity","Walking and/or Cycling as Primary/Secondary Benefit Type","* Demand can be estimated from the regional active mode models (if available)"]
[]
[null,null,"Region",{"$f":"'Benefit Inputs'!C19","v":0}]
[]
[null,null,"Statistical Area 2 (SA2)",{"$f":"'Benefit Inputs'!C21","v":0},"* Sequencing following Census SA2 ID number"]
[]
[null,null,"Locality Characteristics",{"$f":"'Benefit Inputs'!C23","v":0}]
[]
[]
[]
[]
[]
[]
[]
["Q4",null,"Walking Facility Length (km)",{"$f":"'Benefit Inputs'!C25","v":0},"* Leave blank if no walking facility"]
[]
[]
[]
[]
[null,null,"Cycling Facility Length (km)",{"$f":"'Benefit Inputs'!C27","v":0},"* Leave blank if no cycling facility"]
[]
[]
[]
[]
[]
[]
[]
[]
[]
[]
[null,null,"Population Density",{"$f":"VLOOKUP(D5,SA2popdensity,2,FALSE)","v":{"$error":"#N/A"}}]
[null,null,"Trip Generation (per person)",{"$f":"10/2.7","v":3.7037037037037033},"*assumed 10 trips per household and 2.7 occupants per household (census 2013)"]
[]
[null,null,"Population in each buffer","Walking","Cycling"]
[null,null,1,{"$f":"0.4*$D$15*2*$D$31/4","v":{"$error":"#N/A"}},{"$f":"0.4*$D$20*2*$D$31","v":{"$error":"#N/A"}}]
[null,null,2,{"$f":"0.4*$D$15*2*$D$31/4","v":{"$error":"#N/A"}},{"$f":"0.4*$D$20*2*$D$31","v":{"$error":"#N/A"}}]
[null,null,3,{"$f":"0.8*$D$15*2*$D$31/4","v":{"$error":"#N/A"}},{"$f":"0.8*$D$20*2*$D$31","v":{"$error":"#N/A"}}]
[]
[null,null,null,"Walking","Cycling"]
[null,null,"Mode share",{"$f":"VLOOKUP($D$3,Lookups!$B$145:$D$161,3,FALSE)","v":{"$error":"#N/A"}},{"$f":"VLOOKUP($D$3,Lookups!$B$145:$D$161,2,FALSE)","v":{"$error":"#N/A"}}]
[]
[null,null,"Trips in each buffer","Walking","Cycling"]
[null,null,1,{"$f":"D35*$D$40*$D$32","v":{"$error":"#N/A"}},{"$f":"E35*$E$40*$D$32","v":{"$error":"#N/A"}}]
[null,null,2,{"$f":"D36*$D$40*$D$32","v":{"$error":"#N/A"}},{"$f":"E36*$E$40*$D$32","v":{"$error":"#N/A"}}]
[null,null,3,{"$error":"#N/A"},{"$error":"#N/A"}]
[]
[]
[]
[null,null,"Estimated Trips",{"$f":"SUM(D43:D45)","v":{"$error":"#N/A"}},{"$f":"SUM(E43:E45)","v":{"$error":"#N/A"}}]
[]
[null,null,"Trip Length",{"$f":"D15","v":0},{"$f":"D20","v":0}]
[]
[null,null,"Total Person-km per year (assumed weekdays only)",{"$f":"D49*D51*250","v":{"$error":"#N/A"}},{"$f":"E49*E51*250","v":{"$error":"#N/A"}}]
[]
[null,null,"Walking Benefit",{"$f":"walkingbenefit","v":3.2240000000000002},{"$f":"cyclingbenefit","v":1.736}]
[]
[null,null,"Total Benefit per year",{"$f":"D53*D55","v":{"$error":"#N/A"}},{"$f":"E53*E55","v":{"$error":"#N/A"}}]
[]
[]
[null,null,"40 year benefit range",{"$f":"D57*Lookups!$E$142","v":{"$error":"#N/A"}},{"$f":"E57*Lookups!$E$142","v":{"$error":"#N/A"}}]

{"sheet":"Access - Congestion","index":5,"n_rows":35,"n_cols":6,"rows_kept":35,"cut":false,"hidden":true,"merged":[]}
["Q1",null,"Access - Congestion"]
[]
[]
[]
[null,null,"Road Category",{"$f":"'Benefit Inputs'!D33","v":0}]
[]
[null,null,"Traffic Volume (veh/day)",{"$f":"'Benefit Inputs'!D35","v":0}]
[]
[null,null,"Existing travel time (min)",{"$f":"'Benefit Inputs'!D37","v":0}]
[]
[null,null,"Target percentage improvements in travel time",{"$f":"'Benefit Inputs'!D39","v":0},{"$f":"\"Equivalent to \"&ROUND(D9*D11,1)&\" minutes reduction\"","v":"Equivalent to 0 minutes reduction"}]
[]
[null,null,null,null,null,{"$f":"IF($D$5=\"Corridor\",\"Typical Cost\",\"\")","v":""}]
[]
[]
[]
[]
[]
[]
[]
[]
[]
[]
[null,null,"Travel time value",{"$f":"HLOOKUP(D5,Lookups!$C$60:$F$63,4,FALSE)","v":{"$error":"#N/A"}}]
[]
[]
[]
[]
[]
[null,null,"Travel Time Benefits"]
[null,null,"Veh Hours DM",{"$f":"D9/60*D7","v":0}]
[null,null,"Veh Hours Opt",{"$f":"D9/60*(1-$D$11)*D7","v":0}]
[null,null,"Benefits per year",{"$f":"(D31-D32)*250*D24","v":{"$error":"#N/A"}}]
[]
[null,null,"40 year benefit",{"$f":"D33*Lookups!$E$142","v":{"$error":"#N/A"}}]

{"sheet":"Access - Public Transport","index":6,"n_rows":35,"n_cols":6,"rows_kept":35,"cut":false,"hidden":true,"merged":[]}
["Q1",null,"Characteristic of Activity","Public Transport as Primary/Secondary Benefit Type "]
[]
[]
[]
[null,null,"Current PT Patronage (pax/day)",{"$f":"'Benefit Inputs'!C43","v":0}]
[]
[null,null,"Target total PT Patronage (pax/day)",{"$f":"'Benefit Inputs'!C45","v":0}]
[]
[null,null,"Existing travel time (min)",{"$f":"'Benefit Inputs'!C47","v":0}]
[]
[null,null,"Target percentage improvements in travel time",{"$f":"'Benefit Inputs'!C49","v":0}]
[]
[null,null,null,null,null,{"$f":"IF($D$5=\"Corridor\",\"Typical Cost\",\"\")","v":""}]
[]
[]
[]
[null,null,null,null,"Manual Input Required"]
[]
[]
[]
[]
[]
[]
[null,null,"Road traffic reduction benefits",{"$f":"((0.7*(D7-D5)*2.06+0.3*(D7-D5)*1)*250)*tbhcupdatefactor","v":0}]
[null,null,"PT user benefit",{"$f":"((0.7*(D7-D5)*11+0.3*(D7-D5)*7.33)*250)*ptuserbenefitsupdatefactor","v":0}]
[null,null,null,0.15,0.7,0.15]
[null,null,"Travel Time Value",21.7,4.7,3.05]
[null,null,null,{"$f":"SUMPRODUCT(D26:F26,D27:F27)*Lookups!F25","v":10.783849999999999}]
[]
[null,null,"Travel Time Benefits"]
[null,null,"Total Hours DM",{"$f":"D9/60","v":0}]
[null,null,"Total Hours Opt",{"$f":"D9/60*(1-$D$11)","v":0}]
[null,null,"Benefits per year",{"$f":"((D31*D5-D32*D7)+0.5*(D32+D31)*(D7-D5))*250","v":0}]
[]
[null,null,"40 year benefit",{"$f":"(D24+D33+D25)*Lookups!$E$142","v":0}]

{"sheet":"Access - Resilience","index":7,"n_rows":27,"n_cols":4,"rows_kept":27,"cut":false,"hidden":true,"merged":[]}
["Q1",null,"Characteristic of Activity","Resilience as Primary/Secondary Benefit Type"]
[]
[null,null,"What is the impacted traffic volume per day",{"$f":"'Benefit Inputs'!D53","v":0}]
[]
[null,null,"Road Category",{"$f":"'Benefit Inputs'!D55","v":0}]
[]
[null,null,"Estimated Number of Closure per Year",{"$f":"'Benefit Inputs'!D57","v":0}]
[]
[null,null,"Average Period of Closure (or loss of service), in hours",{"$f":"'Benefit Inputs'!D59","v":0}]
[]
[null,null,"Disruption / detour time during closure, in hours per vehicle",{"$f":"'Benefit Inputs'!D61","v":0}]
[]
[null,null,"Estimated % of resilience problems removed by proposed activity",{"$f":"'Benefit Inputs'!D63","v":0}]
[]
[]
[]
[]
[]
[null,null,"Benefit Calculation"]
[null,null,"Total Veh risk hours per year",{"$f":"D7*D9*D3/24*D11","v":0}]
[]
[null,null,"Travel Time Value",{"$f":"HLOOKUP($D$5,traveltimevalue,4,FALSE)","v":{"$error":"#N/A"}}]
[]
[null,null,"Total TT $ savings per year",{"$f":"D20*D22*D13","v":{"$error":"#N/A"}}]
[]
[]
[null,null,"40 year benefit",{"$f":"$D$24*Lookups!$E$142","v":{"$error":"#N/A"}}]

{"sheet":"Lookups","index":8,"n_rows":161,"n_cols":9,"rows_kept":161,"cut":false,"hidden":true,"merged":[]}
[null,null,null,null,"Regions"]
[null,"Primary Benefit Category",null,null,"Northland Region"]
[null,"Safety",null,null,"Auckland Region"]
[null,"Access - Active Modes",null,null,"Waikato Region"]
[null,"Access - Congestion",null,null,"Bay of Plenty Region"]
[null,"Access - Resilience",null,null,"Gisborne Region"]
[null,"Access - Public Transport",null,null,"Hawke's Bay Region"]
[null,null,null,null,"Taranaki Region"]
[null,null,null,null,"Manawatu-Wanganui Region"]
[null,null,null,null,"Wellington Region"]
[null,null,null,null,"Tasman Region"]
[null,null,null,null,"Nelson Region"]
[null,"Benefit Range","SSI Cost Range",null,"Marlborough Region"]
[null,"Low","Low",null,"West Coast Region"]
[null,"Medium","Medium",null,"Canterbury Region"]
[null,"High","High",null,"Otago Region"]
[null,null,null,null,"Southland Region"]
[null,"Benefit Assessment Approach"]
[null,"User input"]
[null,"Predefined range"]
[]
[null,"Project Type",null,null,"Crash Cost Uodate Factor",1.0900000000000001]
[null,"Road renewals",null,null,"PT user benefits Update Factor",1.24]
[null,"Bridge renewals",null,null,"TBhC benefits update factor",1.24]
[null,"Road improvements",null,null,"Travel Time Update Factor",1.54]
[null,"Seal extensions",null,null,"Walking and Cycling Update Factor",1.24]
[null,"Intersections"]
[null,"High productivity motor vehicles"]
[null,"Freight services"]
[null,"Public transport new services"]
[null,"Public transport existing services"]
[null,"Walking and cycling"]
[null,"Travel behaviour"]
[null,"Safety promotion"]
[null,"Other"]
[]
[null,"SSI Intervention Type",null,null,"Speed Environment",null,"DSI Values"]
[null,"Continuous 3 barriers (75%)",null,null,"< 80km/h","urban",1100000]
[null,"Median barrier (65%)",null,null,">= 80km/h","rural",1400000]
[null,"Wide centreline (35%)"]
[null,"Roadside barrier at high-risk locations (30%)"]
[null,"Audio tactile pavement (ATP) marking (20%)"]
[null,"Shoulder widening at high-risk locations (10%)"]
[null,"Rural roundabout (60%)"]
[null,"Urban roundabout (60%)"]
[null,"Raised safety platforms (40%)"]
[null,"Upgrade of signalised intersection (eg right turn filter bans) (25%)"]
[null,"Rural Intersection Activated Warning Signs (RIAWS) (35%)"]
[null,"Signalised intersection (from uncontrolled) (25%)"]
[null,"Skid resistance at high-risk locations (20%)"]
[null,"Mid-block raised pedestrian crossing (priority and signalised) (40%)"]
[null,"Signs and markings delineation upgrade (5%)"]
[]
[null,"Road Category"]
[null,"Urban Arterial"]
[null,"Urban Other"]
[null,"Rural Strategic"]
[null,"Rural Other"]
[]
[null,"Travel Time Value",{"$f":"B55","v":"Urban Arterial"},{"$f":"B56","v":"Urban Other"},{"$f":"B57","v":"Rural Strategic"},{"$f":"B58","v":"Rural Other"}]
[null,"Travel Time Value (2002$)",16.27,16.23,23.25,22.72,"/hour"]
[null,"Travel Time Update Factor",{"$f":"F25","v":1.54}]
[null,"Travel Time Value",{"$f":"C61*$C$62","v":25.055800000000001},{"$f":"D61*$C$62","v":24.994200000000003},{"$f":"E61*$C$62","v":35.805},{"$f":"F61*$C$62","v":34.988799999999998}]
[]
[]
[null,"Cycling Benefits (2008$)",1.4,"/km",null,null,"Typical Walking Activities","Typical cost (per km)"]
[null,"Walking Benefits (2008$)",2.6,"/km",null,null,"Segregated pathway – at grade (2.5 to 3m wide)",100000,150000]
[null,"Walking and Cycling Update Factor",{"$f":"F26","v":1.24},null,null,null,"Segregated pathway - raised",250000,1000000]
[null,"Cycling Benefits",{"$f":"C66*$C$68","v":1.736},"/km",null,null,"Other"]
[null,"Walking Benefits",{"$f":"C67*$C$68","v":3.2240000000000002},"/km",null,null,"Typical Cycling Activities","Typical cost (per km)"]
[null,null,null,null,null,null,"Cycling Boulevard",100000,200000]
[null,null,null,null,null,null,"Segregated cycle path – at grade (3 to 4m wide)",200000,300000]
[null,"Assumed Trip Mode Share","Walking","Cycling",null,null,"Segregated cycle path – raised",500000,1000000]
[null,"Rural",5.0000000000000001E-3,2.5000000000000001E-3,null,null,"Shared path",500000,1000000]
[null,"Suburban",1.2500000000000001E-2,5.0000000000000001E-3,null,null,"Segregated cycle path – at grade & widening needed",500000,1000000]
[null,"Urban",3.5000000000000003E-2,1.4999999999999999E-2]
[null,"Town Centre",0.15,0.05]
[]
[null,null,"Cycle"]
[null,"Assumed Trip Mode Share",null,"Rural","Suburban","Urban","Town Centre"]
[null,"<400m",1.04,{"$f":"VLOOKUP(D$80,$B$73:$D$77,3,FALSE)*$C81","v":2.6000000000000003E-3},{"$f":"VLOOKUP(E$80,$B$73:$D$77,3,FALSE)*$C81","v":5.2000000000000006E-3},1.5599999999999999E-2,5.2000000000000005E-2]
[null,"400m-800m",0.54,{"$f":"VLOOKUP(D$80,$B$73:$D$77,3,FALSE)*$C82","v":1.3500000000000001E-3},2.7000000000000001E-3,8.0999999999999996E-3,2.7000000000000003E-2]
[null,"800-1600m",0.21,5.2499999999999997E-4,1.0499999999999999E-3,3.1499999999999996E-3,1.0500000000000001E-2]
[]
[null,null,"Walk","Rural","Suburban","Urban","Town Centre"]
[null,"<100m",1.04,{"$f":"VLOOKUP(D$80,$B$73:$D$77,2,FALSE)*$C86","v":5.2000000000000006E-3},{"$f":"VLOOKUP(E$80,$B$73:$D$77,2,FALSE)*$C86","v":1.3000000000000001E-2},3.6400000000000002E-2,0.156]
[null,"100-200m",0.54,{"$f":"VLOOKUP(D$80,$B$73:$D$77,2,FALSE)*$C87","v":2.7000000000000001E-3},6.7500000000000008E-3,1.8900000000000004E-2,8.1000000000000003E-2]
[null,"200m-400m",0.21,1.0499999999999999E-3,2.6250000000000002E-3,7.3500000000000006E-3,3.15E-2]
[]
[]
[]
[]
[]
[]
[]
[]
[]
[]
[null,"Link Parameters","Free Speed","Lane Capacity","Ja Factor"]
[null,"CBD/Shopping - lower capacity",40,600,1.8,"Urban Other"]
[null,"CBD/Shopping - higher capacity",45,800,1.6,"Urban Other"]
[null,"Local",45,1000,1.2,"Urban Other"]
[null,"Collector - lower capacity",48,1100,1.2,"Urban Other"]
[null,"Collector - higher capacity",48,1200,1,"Urban Other"]
[null,"Urban arterial - low speed",50,1300,1,"Urban Arterial"]
[null,"Urban arterial - high speed",50,1400,0.8,"Urban Arterial"]
[null,"Expressway",95,1800,0.8,"Urban Arterial"]
[null,"Motorway",100,2000,0.2,"Urban Arterial"]
[null,"On-ramp",7,1800,0.2,"Urban Arterial"]
[null,"Off-ramp",70,1800,0.2,"Urban Arterial"]
[null,"Rural - level",100,1400,1.6,"Rural Strategic"]
[null,"Rural - rolling",85,1300,1.6,"Rural Strategic"]
[null,"Rural - mountainous",75,1000,1.6,"Rural Strategic"]
[null,"Rural highway - townships",70,1400,1.6,"Rural Strategic"]
[null,"Rural highway - townships",60,1000,1.6,"Rural Strategic"]
[null,"Rural other",50,850,1.6,"Rural Other"]
[]
[]
[null,"Intersection Improvement Type"]
[null,"Capacity Improvement - Adding Lane(s)"]
[null,"Capacity Improvement - Traffic Signals Optimisation"]
[null,"Change Intersection Type"]
[]
[]
[]
[]
[null,"Corridor Improvement Type",null,"Road improvements","Typical cost (per km)"]
[null,"Adding Lane(s)",null,"Passing lanes","$1M"]
[null,"Upgrade Corridor Type (i.e. expressway to motorway)",null,"2-lane highway","$10M to $20M"]
[null,null,null,"4- lane highway","$40M"]
[null,null,null,"Adding lanes",10000000,"per lane km"]
[]
[]
[]
[]
[null,"Discounting"]
[null,"Growth",0.02]
[null,"Discount Rate",{"$f":"'Key Questions & Results Summary'!$C$19","v":0.04}]
[]
[null,"USPWF",{"$f":"(1-(1+$C$138)^-(40))/LN(1+$C$138)","v":20.186041805076712},{"$f":"(1-(1+$C$138)^-(1))/LN(1+$C$138)","v":0.98064352657801512},{"$f":"C140-D140","v":19.205398278498699}]
[null,"AGPWF",{"$f":"(LN(1+$C$138)^(-2)-40*(1+$C$138)^(-40)*(LN(1+$C$138))^(-1)-(1+$C$138)^(-40)*(LN(1+$C$138))^(-2))","v":302.25049636985727},{"$f":"(LN(1+$C$138)^(-2)-1*(1+$C$138)^(-1)*(LN(1+$C$138))^(-1)-(1+$C$138)^(-1)*(LN(1+$C$138))^(-2))","v":0.48711671725311589},{"$f":"C141-D141","v":301.76337965260416}]
[null,null,{"$f":"C140+$C$137*C141","v":26.231051732473858},null,{"$f":"E140+$C$137*E141","v":25.240665871550782}]
[]
[]
[null,null,"Cyclist","Pedestrian"]
[null,"Southland Region",9.1000000000000004E-3,0.1106]
[null,"Otago Region",1.5599999999999999E-2,0.1988]
[null,"Canterbury Region",0.03,0.1658]
[null,"West Coast Region",1.8599999999999998E-2,0.13370000000000001]
[null,"Nelson Region",1.5699999999999999E-2,0.18440000000000001]
[null,"Marlborough Region",1.5699999999999999E-2,0.18440000000000001]
[null,"Tasman Region",1.5699999999999999E-2,0.18440000000000001]
[null,"Wellington Region",1.0200000000000001E-2,0.2293]
[null,"Manawatu-Wanganui Region",1.49E-2,0.12570000000000001]
[null,"Taranaki Region",1.3100000000000001E-2,0.1411]
[null,"Hawke's Bay Region",1.55E-2,0.129]
[null,"Gisborne Region",1.7899999999999999E-2,0.2019]
[null,"Bay of Plenty Region",1.54E-2,0.1293]
[null,"Waikato Region",1.11E-2,0.1295]
[null,"Auckland Region",3.7000000000000002E-3,0.17219999999999999]
[null,"Northland Region",4.0000000000000001E-3,0.14230000000000001]

{"sheet":"Total dwellings SA2","index":9,"n_rows":4612,"n_cols":17,"rows_kept":4612,"cut":false,"hidden":true,"merged":[]}
[null,{"$f":"DotStatQuery(#REF!)","v":{"$error":"#NAME?"}}]
["Region","Total - New Zealand by Regional Council/SA2","..","..","Total","SA2","LAND_AREA_SQ_KM","Population Density","Calc 1","Calc 2","Calc 3",null,{"$f":"'Benefit Inputs'!C19","v":0},null,null,"SA2","Population Density"]
["",null,"..","..",198291,{"$f":"TRIM(B3)","v":""},{"$error":"#N/A"},{"$f":"E3/G3","v":{"$error":"#N/A"}},{"$f":"ROWS($A$3:A3)","v":1},{"$f":"IF(A3=$M$2,I4,\"\")","v":""},{"$f":"IFERROR(SMALL($J$3:$J$4612,I3)-1,\"\")","v":""},null,null,null,null,{"$f":"IFERROR(INDEX($F$3:$H$4612,$K3,COLUMNS($P$3:P3)),\"\")","v":""},{"$f":"IFERROR(VLOOKUP(P3,$F:$H,3,FALSE),\"\")","v":""}]
["",null,"..","..",127812,"",{"$error":"#N/A"},{"$error":"#N/A"},{"$f":"ROWS($A$3:A4)","v":2},"",{"$f":"IFERROR(SMALL($J$3:$J$4612,I4)-1,\"\")","v":""},null,null,null,null,{"$f":"IFERROR(INDEX($F$3:$H$4612,$K4,COLUMNS($P$3:P4)),\"\")","v":""},{"$f":"IFERROR(VLOOKUP(P4,$F:$H,3,FALSE),\"\")","v":""}]
["",null,"..","..",18684,"",{"$error":"#N/A"},{"$error":"#N/A"},{"$f":"ROWS($A$3:A5)","v":3},"","",null,null,null,null,{"$f":"IFERROR(INDEX($F$3:$H$4612,$K5,COLUMNS($P$3:P5)),\"\")","v":""},""]
["",null,"..","..",66990,"",{"$error":"#N/A"},{"$error":"#N/A"},{"$f":"ROWS($A$3:A6)","v":4},"","",null,null,null,null,{"$f":"IFERROR(INDEX($F$3:$H$4612,$K6,COLUMNS($P$3:P6)),\"\")","v":""},""]
["",null,"..","..",50004,"",{"$error":"#N/A"},{"$error":"#N/A"},{"$f":"ROWS($A$3:A7)","v":5},"","",null,null,null,null,{"$f":"IFERROR(INDEX($F$3:$H$4612,$K7,COLUMNS($P$3:P7)),\"\")","v":""},""]
["",null,"..","..",103317,"",{"$error":"#N/A"},{"$error":"#N/A"},{"$f":"ROWS($A$3:A8)","v":6},"","",null,null,null,null,{"$f":"IFERROR(INDEX($F$3:$H$4612,$K8,COLUMNS($P$3:P8)),\"\")","v":""},""]
["",null,"..","..",203019,"",{"$error":"#N/A"},{"$error":"#N/A"},{"$f":"ROWS($A$3:A9)","v":7},"","",null,null,null,null,{"$f":"IFERROR(INDEX($F$3:$H$4612,$K9,COLUMNS($P$3:P9)),\"\")","v":""},""]
["",null,"..","..",23733,"",{"$error":"#N/A"},{"$error":"#N/A"},{"$f":"ROWS($A$3:A10)","v":8},"","",null,null,null,null,{"$f":"IFERROR(INDEX($F$3:$H$4612,$K10,COLUMNS($P$3:P10)),\"\")","v":""},""]
["",null,"..","..",21534,"",{"$error":"#N/A"},{"$error":"#N/A"},{"$f":"ROWS($A$3:A11)","v":9},"","",null,null,null,null,{"$f":"IFERROR(INDEX($F$3:$H$4612,$K11,COLUMNS($P$3:P11)),\"\")","v":""},""]
["",null,"..","..",22719,"",{"$error":"#N/A"},{"$error":"#N/A"},{"$f":"ROWS($A$3:A12)","v":10},"","",null,null,null,null,{"$f":"IFERROR(INDEX($F$3:$H$4612,$K12,COLUMNS($P$3:P12)),\"\")","v":""},""]
["",null,"..","..",17547,"",{"$error":"#N/A"},{"$error":"#N/A"},{"$f":"ROWS($A$3:A13)","v":11},"","",null,null,null,null,{"$f":"IFERROR(INDEX($F$3:$H$4612,$K13,COLUMNS($P$3:P13)),\"\")","v":""},""]
["",null,"..","..",256158,"",{"$error":"#N/A"},{"$error":"#N/A"},{"$f":"ROWS($A$3:A14)","v":12},"","",null,null,null,null,{"$f":"IFERROR(INDEX($F$3:$H$4612,$K14,COLUMNS($P$3:P14)),\"\")","v":""},""]
["",null,"..","..",103614,"",{"$error":"#N/A"},{"$error":"#N/A"},{"$f":"ROWS($A$3:A15)","v":13},"","",null,null,null,null,{"$f":"IFERROR(INDEX($F$3:$H$4612,$K15,COLUMNS($P$3:P15)),\"\")","v":""},""]
["",null,"..","..",44691,"",{"$error":"#N/A"},{"$error":"#N/A"},{"$f":"ROWS($A$3:A16)","v":14},"","",null,null,null,null,{"$f":"IFERROR(INDEX($F$3:$H$4612,$K16,COLUMNS($P$3:P16)),\"\")","v":""},""]
["Area Outside Region","    Abbey Caves-Glenbervie","..","..",501,"Abbey Caves-Glenbervie",32.118650170000002,15.598413923009517,{"$f":"ROWS($A$3:A17)","v":15},"","",null,null,null,null,{"$f":"IFERROR(INDEX($F$3:$H$4612,$K17,COLUMNS($P$3:P17)),\"\")","v":""},""]
["Area Outside Region","    Abbotsford","..","..",1128,"Abbotsford",2.3645374000000001,477.04891451494905,{"$f":"ROWS($A$3:A18)","v":16},"","",null,null,null,null,{"$f":"IFERROR(INDEX($F$3:$H$4612,$K18,COLUMNS($P$3:P18)),\"\")","v":""},""]
["Area Outside Region","    Acacia Bay","..","..",1008,"Acacia Bay",7.1500501099999996,140.9780329497579,{"$f":"ROWS($A$3:A19)","v":17},"","",null,null,null,null,{"$f":"IFERROR(INDEX($F$3:$H$4612,$K19,COLUMNS($P$3:P19)),\"\")","v":""},""]
["Area Outside Region","    Addington East","..","..",1326,"Addington East",0.56822362999999998,2333.5882740392194,{"$f":"ROWS($A$3:A20)","v":18},"","",null,null,null,null,{"$f":"IFERROR(INDEX($F$3:$H$4612,$K20,COLUMNS($P$3:P20)),\"\")","v":""},""]
["Area Outside Region","    Addington North","..","..",3,"Addington North",0.43431407999999999,6.9074435717119744,{"$f":"ROWS($A$3:A21)","v":19},"","",null,null,null,null,{"$f":"IFERROR(INDEX($F$3:$H$4612,$K21,COLUMNS($P$3:P21)),\"\")","v":""},""]
["Area Outside Region","    Addington West","..","..",861,"Addington West",0.55789683999999995,1543.2960688574613,{"$f":"ROWS($A$3:A22)","v":20},"","",null,null,null,null,{"$f":"IFERROR(INDEX($F$3:$H$4612,$K22,COLUMNS($P$3:P22)),\"\")","v":""},""]
["Area Outside Region","    Ahipara","..","..",570,"Ahipara",4.5292775000000001,125.8478863350722,{"$f":"ROWS($A$3:A23)","v":21},"","",null,null,null,null,{"$f":"IFERROR(INDEX($F$3:$H$4612,$K23,COLUMNS($P$3:P23)),\"\")","v":""},""]
["Area Outside Region","    Ahuriri","..","..",615,"Ahuriri",0.97855329999999996,628.47879619842888,{"$f":"ROWS($A$3:A24)","v":22},"","",null,null,null,null,{"$f":"IFERROR(INDEX($F$3:$H$4612,$K24,COLUMNS($P$3:P24)),\"\")","v":""},""]
["Area Outside Region","    Aidanfield","..","..",1314,"Aidanfield",1.68401322,780.27891016199976,{"$f":"ROWS($A$3:A25)","v":23},"","",null,null,null,null,{"$f":"IFERROR(INDEX($F$3:$H$4612,$K25,COLUMNS($P$3:P25)),\"\")","v":""},""]
["Area Outside Region","    Aka Aka","..","..",1122,"Aka Aka",186.86632842,6.0042919957104166,{"$f":"ROWS($A$3:A26)","v":24},"","",null,null,null,null,{"$f":"IFERROR(INDEX($F$3:$H$4612,$K26,COLUMNS($P$3:P26)),\"\")","v":""},""]
["Area Outside Region","    Akaroa","..","..",978,"Akaroa",2.0319711100000002,481.30605557674482,{"$f":"ROWS($A$3:A27)","v":25},"","",null,null,null,null,{"$f":"IFERROR(INDEX($F$3:$H$4612,$K27,COLUMNS($P$3:P27)),\"\")","v":""},""]
["Area Outside Region","    Akaroa Harbour","..","..",933,"Akaroa Harbour",162.22686612000001,5.7512052246010557,{"$f":"ROWS($A$3:A28)","v":26},"","",null,null,null,null,{"$f":"IFERROR(INDEX($F$3:$H$4612,$K28,COLUMNS($P$3:P28)),\"\")","v":""},""]
["Area Outside Region","    Akatarawa","..","..",270,"Akatarawa",334.14446322999902,0.80803373903027398,{"$f":"ROWS($A$3:A29)","v":27},"","",null,null,null,null,{"$f":"IFERROR(INDEX($F$3:$H$4612,$K29,COLUMNS($P$3:P29)),\"\")","v":""},""]
["Area Outside Region","    Akina Park","..","..",972,"Akina Park",1.02516338,948.14155378823625,{"$f":"ROWS($A$3:A30)","v":28},"","",null,null,null,null,{"$f":"IFERROR(INDEX($F$3:$H$4612,$K30,COLUMNS($P$3:P30)),\"\")","v":""},""]
["Area Outside Region","    Akoranga","..","..",480,"Akoranga",1.1629108100000001,412.75736356771847,{"$f":"ROWS($A$3:A31)","v":29},"","",null,null,null,null,{"$f":"IFERROR(INDEX($F$3:$H$4612,$K31,COLUMNS($P$3:P31)),\"\")","v":""},""]
["Area Outside Region","    Albany Central","..","..",270,"Albany Central",3.2100539700000001,84.110735371841741,{"$f":"ROWS($A$3:A32)","v":30},"","",null,null,null,null,{"$f":"IFERROR(INDEX($F$3:$H$4612,$K32,COLUMNS($P$3:P32)),\"\")","v":""},""]
["Area Outside Region","    Albany Heights","..","..",1224,"Albany Heights",3.1040104899999998,394.32856426976832,{"$f":"ROWS($A$3:A33)","v":31},"","",null,null,null,null,{"$f":"IFERROR(INDEX($F$3:$H$4612,$K33,COLUMNS($P$3:P33)),\"\")","v":""},""]
["Area Outside Region","    Albany South","..","..",1191,"Albany South",1.48565737,801.66532610409354,{"$f":"ROWS($A$3:A34)","v":32},"","",null,null,null,null,{"$f":"IFERROR(INDEX($F$3:$H$4612,$K34,COLUMNS($P$3:P34)),\"\")","v":""},""]
["Area Outside Region","    Albany West","..","..",972,"Albany West",2.05684939,472.56741535168987,{"$f":"ROWS($A$3:A35)","v":33},"","",null,null,null,null,{"$f":"IFERROR(INDEX($F$3:$H$4612,$K35,COLUMNS($P$3:P35)),\"\")","v":""},""]
["Area Outside Region","    Albert Town","..","..",933,"Albert Town",4.9595547800000004,188.12172491015411,{"$f":"ROWS($A$3:A36)","v":34},"","",null,null,null,null,{"$f":"IFERROR(INDEX($F$3:$H$4612,$K36,COLUMNS($P$3:P36)),\"\")","v":""},""]
["Area Outside Region","    Aldinga","..","..",1290,"Aldinga",1.11110705,1161.0042434705099,{"$f":"ROWS($A$3:A37)","v":35},"","",null,null,null,null,{"$f":"IFERROR(INDEX($F$3:$H$4612,$K37,COLUMNS($P$3:P37)),\"\")","v":""},""]
["Area Outside Region","    Alexandra North","..","..",1341,"Alexandra North",4.6031982600000001,291.31919249552374,{"$f":"ROWS($A$3:A38)","v":36},"","",null,null,null,null,{"$f":"IFERROR(INDEX($F$3:$H$4612,$K38,COLUMNS($P$3:P38)),\"\")","v":""},""]
["Area Outside Region","    Alexandra South","..","..",1290,"Alexandra South",5.1569710300000002,250.14683861817232,{"$f":"ROWS($A$3:A39)","v":37},"","",null,null,null,null,{"$f":"IFERROR(INDEX($F$3:$H$4612,$K39,COLUMNS($P$3:P39)),\"\")","v":""},""]
["Area Outside Region","    Alfriston","..","..",1128,"Alfriston",1.9541219599999999,577.24135089296067,{"$f":"ROWS($A$3:A40)","v":38},"","",null,null,null,null,{"$f":"IFERROR(INDEX($F$3:$H$4612,$K40,COLUMNS($P$3:P40)),\"\")","v":""},""]
["Area Outside Region","    Algies Bay-Scotts Landing","..","..",786,"Algies Bay-Scotts Landing",15.36828354,51.144293242262762,{"$f":"ROWS($A$3:A41)","v":39},"","",null,null,null,null,{"$f":"IFERROR(INDEX($F$3:$H$4612,$K41,COLUMNS($P$3:P41)),\"\")","v":""},""]
["Area Outside Region","    Alicetown-Melling","..","..",1158,"Alicetown-Melling",1.2554185899999999,922.40150753224077,{"$f":"ROWS($A$3:A42)","v":40},"","",null,null,null,null,{"$f":"IFERROR(INDEX($F$3:$H$4612,$K42,COLUMNS($P$3:P42)),\"\")","v":""},""]
["Area Outside Region","    Allandale","..","..",1122,"Allandale",1.5255509199999999,735.4720090234681,{"$f":"ROWS($A$3:A43)","v":41},"","",null,null,null,null,{"$f":"IFERROR(INDEX($F$3:$H$4612,$K43,COLUMNS($P$3:P43)),\"\")","v":""},""]
["Area Outside Region","    Allenton East","..","..",906,"Allenton East",1.2358351299999999,733.10749792328693,{"$f":"ROWS($A$3:A44)","v":42},"","",null,null,null,null,{"$f":"IFERROR(INDEX($F$3:$H$4612,$K44,COLUMNS($P$3:P44)),\"\")","v":""},""]
["Area Outside Region","    Allenton North","..","..",1092,"Allenton North",2.0964645399999999,520.87692358488448,{"$f":"ROWS($A$3:A45)","v":43},"","",null,null,null,null,{"$f":"IFERROR(INDEX($F$3:$H$4612,$K45,COLUMNS($P$3:P45)),\"\")","v":""},""]
["Area Outside Region","    Allenton South","..","..",876,"Allenton South",2.9267429300000001,299.3088292862127,{"$f":"ROWS($A$3:A46)","v":44},"","",null,null,null,null,{"$f":"IFERROR(INDEX($F$3:$H$4612,$K46,COLUMNS($P$3:P46)),\"\")","v":""},""]
["Area Outside Region","    Amberley","..","..",915,"Amberley",3.6283928799999998,252.17776306517283,{"$f":"ROWS($A$3:A47)","v":45},"","",null,null,null,null,{"$f":"IFERROR(INDEX($F$3:$H$4612,$K47,COLUMNS($P$3:P47)),\"\")","v":""},""]
["Area Outside Region","    Amuri","..","..",1152,"Amuri",1835.5659783799899,0.62759934187531485,{"$f":"ROWS($A$3:A48)","v":46},"","",null,null,null,null,{"$f":"IFERROR(INDEX($F$3:$H$4612,$K48,COLUMNS($P$3:P48)),\"\")","v":""},""]
["Area Outside Region","    Andersons Bay","..","..",939,"Andersons Bay",1.25594294,747.64543045243761,{"$f":"ROWS($A$3:A49)","v":47},"","",null,null,null,null,{"$f":"IFERROR(INDEX($F$3:$H$4612,$K49,COLUMNS($P$3:P49)),\"\")","v":""},""]
["Area Outside Region","    Aniseed Valley","..","..",153,"Aniseed Valley",57.247605319999899,2.6726008737792259,{"$f":"ROWS($A$3:A50)","v":48},"","",null,null,null,null,{"$f":"IFERROR(INDEX($F$3:$H$4612,$K50,COLUMNS($P$3:P50)),\"\")","v":""},""]
["Area Outside Region","    Anselmi Ridge","..","..",930,"Anselmi Ridge",7.5329759699999999,123.4571839474486,{"$f":"ROWS($A$3:A51)","v":49},"","",null,null,null,null,{"$f":"IFERROR(INDEX($F$3:$H$4612,$K51,COLUMNS($P$3:P51)),\"\")","v":""},""]
["Area Outside Region","    Antipodes Islands","..","..",3,"Antipodes Islands",0,{"$error":"#DIV/0!"},{"$f":"ROWS($A$3:A52)","v":50},"","",null,null,null,null,{"$f":"IFERROR(INDEX($F$3:$H$4612,$K52,COLUMNS($P$3:P52)),\"\")","v":""},""]
["Area Outside Region","    Antipodes Islands","..","..",3,"Antipodes Islands",0,{"$error":"#DIV/0!"},{"$f":"ROWS($A$3:A53)","v":51},"","",null,null,null,null,{"$f":"IFERROR(INDEX($F$3:$H$4612,$K53,COLUMNS($P$3:P53)),\"\")","v":""},""]
["Area Outside Region","    Anzac Avenue","..","..",1701,"Anzac Avenue",0.10247702,16598.843330924337,{"$f":"ROWS($A$3:A54)","v":52},"","",null,null,null,null,{"$f":"IFERROR(INDEX($F$3:$H$4612,$K54,COLUMNS($P$3:P54)),\"\")","v":""},""]
["Area Outside Region","    Aokautere","..","..",249,"Aokautere",7.14236352,34.862409243488074,{"$f":"ROWS($A$3:A55)","v":53},"","",null,null,null,null,{"$f":"IFERROR(INDEX($F$3:$H$4612,$K55,COLUMNS($P$3:P55)),\"\")","v":""},""]
["Area Outside Region","    Aokautere Rural","..","..",264,"Aokautere Rural",83.313023049999899,3.1687723039597508,{"$f":"ROWS($A$3:A56)","v":54},"","",null,null,null,null,{"$f":"IFERROR(INDEX($F$3:$H$4612,$K56,COLUMNS($P$3:P56)),\"\")","v":""},""]
["Area Outside Region","    Aongatete","..","..",1428,"Aongatete",164.80295751,8.6648930430350504,{"$f":"ROWS($A$3:A57)","v":55},"","",null,null,null,null,{"$f":"IFERROR(INDEX($F$3:$H$4612,$K57,COLUMNS($P$3:P57)),\"\")","v":""},""]
["Area Outside Region","    Aorangi Forest","..","..",1143,"Aorangi Forest",1579.0798058400001,0.72383928650900264,{"$f":"ROWS($A$3:A58)","v":56},"","",null,null,null,null,{"$f":"IFERROR(INDEX($F$3:$H$4612,$K58,COLUMNS($P$3:P58)),\"\")","v":""},""]
["Area Outside Region","    Aorere Central","..","..",474,"Aorere Central",0.62009557999999998,764.39828840579708,{"$f":"ROWS($A$3:A59)","v":57},"","",null,null,null,null,{"$f":"IFERROR(INDEX($F$3:$H$4612,$K59,COLUMNS($P$3:P59)),\"\")","v":""},""]
["Area Outside Region","    Aorere North","..","..",375,"Aorere North",0.33000404999999999,1136.3496902538016,{"$f":"ROWS($A$3:A60)","v":58},"","",null,null,null,null,{"$f":"IFERROR(INDEX($F$3:$H$4612,$K60,COLUMNS($P$3:P60)),\"\")","v":""},""]
["Area Outside Region","    Aorere South","..","..",1215,"Aorere South",1.2394649900000001,980.26165305403254,{"$f":"ROWS($A$3:A61)","v":59},"","",null,null,null,null,{"$f":"IFERROR(INDEX($F$3:$H$4612,$K61,COLUMNS($P$3:P61)),\"\")","v":""},""]
["Area Outside Region","    Aotea","..","..",1143,"Aotea",2.6787768500000002,426.68727706826343,{"$f":"ROWS($A$3:A62)","v":60},"","",null,null,null,null,{"$f":"IFERROR(INDEX($F$3:$H$4612,$K62,COLUMNS($P$3:P62)),\"\")","v":""},""]
["Area Outside Region","    Appleby","..","..",282,"Appleby",20.065187609999899,14.054192040519945,{"$f":"ROWS($A$3:A63)","v":61},"","",null,null,null,null,{"$f":"IFERROR(INDEX($F$3:$H$4612,$K63,COLUMNS($P$3:P63)),\"\")","v":""},""]
["Area Outside Region","    Arahiwi","..","..",63,"Arahiwi",62.856006829999899,1.0022908418345686,{"$f":"ROWS($A$3:A64)","v":62},"","",null,null,null,null,{"$f":"IFERROR(INDEX($F$3:$H$4612,$K64,COLUMNS($P$3:P64)),\"\")","v":""},""]
["Area Outside Region","    Arahura-Kumara","..","..",675,"Arahura-Kumara",262.26880034999903,2.5736953808428953,{"$f":"ROWS($A$3:A65)","v":63},"","",null,null,null,null,{"$f":"IFERROR(INDEX($F$3:$H$4612,$K65,COLUMNS($P$3:P65)),\"\")","v":""},""]
["Area Outside Region","    Arakura","..","..",951,"Arakura",1.9607985999999999,485.00646624288697,{"$f":"ROWS($A$3:A66)","v":64},"","",null,null,null,null,{"$f":"IFERROR(INDEX($F$3:$H$4612,$K66,COLUMNS($P$3:P66)),\"\")","v":""},""]
["Area Outside Region","    Aranui","..","..",1503,{"$f":"TRIM(B67)","v":"Aranui"},1.4164158899999999,{"$f":"E67/G67","v":1061.1290162806633},{"$f":"ROWS($A$3:A67)","v":65},{"$f":"IF(A67=$M$2,I68,\"\")","v":""},"",null,null,null,null,{"$f":"IFERROR(INDEX($F$3:$H$4612,$K67,COLUMNS($P$3:P67)),\"\")","v":""},""]
["Area Outside Region","    Ararimu","..","..",732,"Ararimu",91.308240940000005,8.0168010298326529,{"$f":"ROWS($A$3:A68)","v":66},"",{"$f":"IFERROR(SMALL($J$3:$J$4612,I68)-1,\"\")","v":""},null,null,null,null,{"$f":"IFERROR(INDEX($F$3:$H$4612,$K68,COLUMNS($P$3:P68)),\"\")","v":""},{"$f":"IFERROR(VLOOKUP(P68,$F:$H,3,FALSE),\"\")","v":""}]
["Area Outside Region","    Arataki North","..","..",1380,"Arataki North",2.1608090899999999,638.64966432550511,{"$f":"ROWS($A$3:A69)","v":67},"","",null,null,null,null,{"$f":"IFERROR(INDEX($F$3:$H$4612,$K69,COLUMNS($P$3:P69)),\"\")","v":""},""]
["Area Outside Region","    Arataki South","..","..",1146,"Arataki South",0.98787024999999995,1160.0713757702492,{"$f":"ROWS($A$3:A70)","v":68},"","",null,null,null,null,{"$f":"IFERROR(INDEX($F$3:$H$4612,$K70,COLUMNS($P$3:P70)),\"\")","v":""},""]
["Area Outside Region","    Ardmore","..","..",474,"Ardmore",44.268534840000001,10.707379444862603,{"$f":"ROWS($A$3:A71)","v":69},"","",null,null,null,null,{"$f":"IFERROR(INDEX($F$3:$H$4612,$K71,COLUMNS($P$3:P71)),\"\")","v":""},""]
["Area Outside Region","    Aria","..","..",561,"Aria",531.78682735999905,1.0549339907214828,{"$f":"ROWS($A$3:A72)","v":70},"","",null,null,null,null,{"$f":"IFERROR(INDEX($F$3:$H$4612,$K72,COLUMNS($P$3:P72)),\"\")","v":""},""]
["Area Outside Region","    Army Bay","..","..",609,"Army Bay",6.2156044699999997,97.979207483258662,{"$f":"ROWS($A$3:A73)","v":71},"","",null,null,null,null,{"$f":"IFERROR(INDEX($F$3:$H$4612,$K73,COLUMNS($P$3:P73)),\"\")","v":""},""]
["Area Outside Region","    Aro Valley","..","..",1584,"Aro Valley",1.2464355199999999,1270.823860988814,{"$f":"ROWS($A$3:A74)","v":72},"","",null,null,null,null,{"$f":"IFERROR(INDEX($F$3:$H$4612,$K74,COLUMNS($P$3:P74)),\"\")","v":""},""]
["Area Outside Region","    Arrowtown","..","..",1422,"Arrowtown",2.3616220000000001,602.12853708171758,{"$f":"ROWS($A$3:A75)","v":73},"","",null,null,null,null,{"$f":"IFERROR(INDEX($F$3:$H$4612,$K75,COLUMNS($P$3:P75)),\"\")","v":""},""]
["Area Outside Region","    Arthur Street","..","..",669,"Arthur Street",0.71722273999999997,932.76462483607258,{"$f":"ROWS($A$3:A76)","v":74},"","",null,null,null,null,{"$f":"IFERROR(INDEX($F$3:$H$4612,$K76,COLUMNS($P$3:P76)),\"\")","v":""},""]
["Area Outside Region","    Arthurs Point","..","..",456,"Arthurs Point",5.5212546700000003,82.5899233516066,{"$f":"ROWS($A$3:A77)","v":75},"","",null,null,null,null,{"$f":"IFERROR(INDEX($F$3:$H$4612,$K77,COLUMNS($P$3:P77)),\"\")","v":""},""]
["Area Outside Region","    Arundel","..","..",609,"Arundel",629.02155184000003,0.9681703245597334,{"$f":"ROWS($A$3:A78)","v":76},"","",null,null,null,null,{"$f":"IFERROR(INDEX($F$3:$H$4612,$K78,COLUMNS($P$3:P78)),\"\")","v":""},""]
["Area Outside Region","    Ascot Park","..","..",831,"Ascot Park",1.119596,742.23201940700039,{"$f":"ROWS($A$3:A79)","v":77},"","",null,null,null,null,{"$f":"IFERROR(INDEX($F$3:$H$4612,$K79,COLUMNS($P$3:P79)),\"\")","v":""},""]
["Area Outside Region","    Ashburton Central","..","..",78,"Ashburton Central",2.5629496500000002,30.433684095198668,{"$f":"ROWS($A$3:A80)","v":78},"","",null,null,null,null,{"$f":"IFERROR(INDEX($F$3:$H$4612,$K80,COLUMNS($P$3:P80)),\"\")","v":""},""]
["Area Outside Region","    Ashburton East","..","..",822,"Ashburton East",0.77867240999999998,1055.6428986613255,{"$f":"ROWS($A$3:A81)","v":79},"","",null,null,null,null,{"$f":"IFERROR(INDEX($F$3:$H$4612,$K81,COLUMNS($P$3:P81)),\"\")","v":""},""]
["Area Outside Region","    Ashburton Forks","..","..",1017,"Ashburton Forks",858.45044299999904,1.1846927312960815,{"$f":"ROWS($A$3:A82)","v":80},"","",null,null,null,null,{"$f":"IFERROR(INDEX($F$3:$H$4612,$K82,COLUMNS($P$3:P82)),\"\")","v":""},""]
["Area Outside Region","    Ashburton Lakes","..","..",261,"Ashburton Lakes",2995.11403346,8.7141924175250504E-2,{"$f":"ROWS($A$3:A83)","v":81},"","",null,null,null,null,{"$f":"IFERROR(INDEX($F$3:$H$4612,$K83,COLUMNS($P$3:P83)),\"\")","v":""},""]
["Area Outside Region","    Ashburton North","..","..",417,"Ashburton North",20.64835871,20.19530975108675,{"$f":"ROWS($A$3:A84)","v":82},"","",null,null,null,null,{"$f":"IFERROR(INDEX($F$3:$H$4612,$K84,COLUMNS($P$3:P84)),\"\")","v":""},""]
["Area Outside Region","    Ashburton West","..","..",480,"Ashburton West",0.45251256000000001,1060.7440376903571,{"$f":"ROWS($A$3:A85)","v":83},"","",null,null,null,null,{"$f":"IFERROR(INDEX($F$3:$H$4612,$K85,COLUMNS($P$3:P85)),\"\")","v":""},""]
["Area Outside Region","    Ashgrove","..","..",609,"Ashgrove",0.66739413999999997,912.50426621965846,{"$f":"ROWS($A$3:A86)","v":84},"","",null,null,null,null,{"$f":"IFERROR(INDEX($F$3:$H$4612,$K86,COLUMNS($P$3:P86)),\"\")","v":""},""]
["Area Outside Region","    Ashhurst","..","..",1113,"Ashhurst",4.2333377199999997,262.91311339082108,{"$f":"ROWS($A$3:A87)","v":85},"","",null,null,null,null,{"$f":"IFERROR(INDEX($F$3:$H$4612,$K87,COLUMNS($P$3:P87)),\"\")","v":""},""]
["Area Outside Region","    Ashley Forest","..","..",273,"Ashley Forest",340.57387640000002,0.80158819838361506,{"$f":"ROWS($A$3:A88)","v":86},"","",null,null,null,null,{"$f":"IFERROR(INDEX($F$3:$H$4612,$K88,COLUMNS($P$3:P88)),\"\")","v":""},""]
["Area Outside Region","    Ashley Gorge","..","..",495,"Ashley Gorge",336.70591887,1.4701256267226961,{"$f":"ROWS($A$3:A89)","v":87},"","",null,null,null,null,{"$f":"IFERROR(INDEX($F$3:$H$4612,$K89,COLUMNS($P$3:P89)),\"\")","v":""},""]
["Area Outside Region","    Ashley-Sefton","..","..",828,"Ashley-Sefton",86.906225149999898,9.5275108149142866,{"$f":"ROWS($A$3:A90)","v":88},"","",null,null,null,null,{"$f":"IFERROR(INDEX($F$3:$H$4612,$K90,COLUMNS($P$3:P90)),\"\")","v":""},""]
["Area Outside Region","    Atawhai","..","..",1215,"Atawhai",4.5322572599999997,268.07833940123692,{"$f":"ROWS($A$3:A91)","v":89},"","",null,null,null,null,{"$f":"IFERROR(INDEX($F$3:$H$4612,$K91,COLUMNS($P$3:P91)),\"\")","v":""},""]
["Area Outside Region","    Athenree","..","..",426,"Athenree",1.26291361,337.31523409586185,{"$f":"ROWS($A$3:A92)","v":90},"","",null,null,null,null,{"$f":"IFERROR(INDEX($F$3:$H$4612,$K92,COLUMNS($P$3:P92)),\"\")","v":""},""]
["Area Outside Region","    Auckland Airport","..","..",183,"Auckland Airport",23.078164489999899,7.9295734320334068,{"$f":"ROWS($A$3:A93)","v":91},"","",null,null,null,null,{"$f":"IFERROR(INDEX($F$3:$H$4612,$K93,COLUMNS($P$3:P93)),\"\")","v":""},""]
["Area Outside Region","    Auckland Islands","..","..",6,"Auckland Islands",0,{"$error":"#DIV/0!"},{"$f":"ROWS($A$3:A94)","v":92},"","",null,null,null,null,{"$f":"IFERROR(INDEX($F$3:$H$4612,$K94,COLUMNS($P$3:P94)),\"\")","v":""},""]
["Area Outside Region","    Auckland Islands","..","..",6,"Auckland Islands",0,{"$error":"#DIV/0!"},{"$f":"ROWS($A$3:A95)","v":93},"","",null,null,null,null,{"$f":"IFERROR(INDEX($F$3:$H$4612,$K95,COLUMNS($P$3:P95)),\"\")","v":""},""]
["Area Outside Region","    Auckland-University","..","..",75,"Auckland-University",0.34902817000000003,214.88236895033427,{"$f":"ROWS($A$3:A96)","v":94},"","",null,null,null,null,{"$f":"IFERROR(INDEX($F$3:$H$4612,$K96,COLUMNS($P$3:P96)),\"\")","v":""},""]
["Area Outside Region","    Aurora","..","..",528,"Aurora",0.65289648,808.70400771650657,{"$f":"ROWS($A$3:A97)","v":95},"","",null,null,null,null,{"$f":"IFERROR(INDEX($F$3:$H$4612,$K97,COLUMNS($P$3:P97)),\"\")","v":""},""]
["Area Outside Region","    Avalon East","..","..",999,"Avalon East",0.81383753000000003,1227.5177331770383,{"$f":"ROWS($A$3:A98)","v":96},"","",null,null,null,null,{"$f":"IFERROR(INDEX($F$3:$H$4612,$K98,COLUMNS($P$3:P98)),\"\")","v":""},""]
["Area Outside Region","    Avalon West","..","..",1083,"Avalon West",1.2108603899999999,894.40534098237379,{"$f":"ROWS($A$3:A99)","v":97},"","",null,null,null,null,{"$f":"IFERROR(INDEX($F$3:$H$4612,$K99,COLUMNS($P$3:P99)),\"\")","v":""},""]
["Area Outside Region","    Avenal","..","..",600,"Avenal",1.42781023,420.22391168888038,{"$f":"ROWS($A$3:A100)","v":98},"","",null,null,null,null,{"$f":"IFERROR(INDEX($F$3:$H$4612,$K100,COLUMNS($P$3:P100)),\"\")","v":""},""]
["Area Outside Region","    Aviemore","..","..",1089,"Aviemore",3483.8756186999899,0.31258291603600963,{"$f":"ROWS($A$3:A101)","v":99},"","",null,null,null,null,{"$f":"IFERROR(INDEX($F$3:$H$4612,$K101,COLUMNS($P$3:P101)),\"\")","v":""},""]
["Area Outside Region","    Avondale (Christchurch City)","..","..",966,"Avondale (Christchurch City)",1.26092385,766.10494757474851,{"$f":"ROWS($A$3:A102)","v":100},"","",null,null,null,null,{"$f":"IFERROR(INDEX($F$3:$H$4612,$K102,COLUMNS($P$3:P102)),\"\")","v":""},""]
["Area Outside Region","    Avondale Central (Auckland)","..","..",1104,"Avondale Central (Auckland)",1.11535228,989.82179872353879,{"$f":"ROWS($A$3:A103)","v":101},"","",null,null,null,null,{"$f":"IFERROR(INDEX($F$3:$H$4612,$K103,COLUMNS($P$3:P103)),\"\")","v":""},""]
["Area Outside Region","    Avondale North (Auckland)","..","..",1533,"Avondale North (Auckland)",1.23589539,1240.3962442161062,{"$f":"ROWS($A$3:A104)","v":102},"","",null,null,null,null,{"$f":"IFERROR(INDEX($F$3:$H$4612,$K104,COLUMNS($P$3:P104)),\"\")","v":""},""]
["Area Outside Region","    Avondale Rosebank","..","..",1305,"Avondale Rosebank",1.0274321200000001,1270.156903406913,{"$f":"ROWS($A$3:A105)","v":103},"","",null,null,null,null,{"$f":"IFERROR(INDEX($F$3:$H$4612,$K105,COLUMNS($P$3:P105)),\"\")","v":""},""]
["Area Outside Region","    Avondale South (Auckland)","..","..",1353,"Avondale South (Auckland)",1.17736514,1149.1762020404308,{"$f":"ROWS($A$3:A106)","v":104},"","",null,null,null,null,{"$f":"IFERROR(INDEX($F$3:$H$4612,$K106,COLUMNS($P$3:P106)),\"\")","v":""},""]
["Area Outside Region","    Avondale West (Auckland)","..","..",1170,"Avondale West (Auckland)",0.73982009999999998,1581.4655481785369,{"$f":"ROWS($A$3:A107)","v":105},"","",null,null,null,null,{"$f":"IFERROR(INDEX($F$3:$H$4612,$K107,COLUMNS($P$3:P107)),\"\")","v":""},""]
["Area Outside Region","    Avonhead East","..","..",993,"Avonhead East",0.83519180000000004,1188.9484547142345,{"$f":"ROWS($A$3:A108)","v":106},"","",null,null,null,null,{"$f":"IFERROR(INDEX($F$3:$H$4612,$K108,COLUMNS($P$3:P108)),\"\")","v":""},""]
["Area Outside Region","    Avonhead North","..","..",570,"Avonhead North",0.63463917000000003,898.14815558894668,{"$f":"ROWS($A$3:A109)","v":107},"","",null,null,null,null,{"$f":"IFERROR(INDEX($F$3:$H$4612,$K109,COLUMNS($P$3:P109)),\"\")","v":""},""]
["Area Outside Region","    Avonhead South","..","..",1257,"Avonhead South",1.0252513999999999,1226.0407544920204,{"$f":"ROWS($A$3:A110)","v":108},"","",null,null,null,null,{"$f":"IFERROR(INDEX($F$3:$H$4612,$K110,COLUMNS($P$3:P110)),\"\")","v":""},""]
["Area Outside Region","    Avonhead West","..","..",699,"Avonhead West",0.61397696000000002,1138.479202867808,{"$f":"ROWS($A$3:A111)","v":109},"","",null,null,null,null,{"$f":"IFERROR(INDEX($F$3:$H$4612,$K111,COLUMNS($P$3:P111)),\"\")","v":""},""]
["Area Outside Region","    Avonside","..","..",774,"Avonside",0.81030652000000003,955.19409124339757,{"$f":"ROWS($A$3:A112)","v":110},"","",null,null,null,null,{"$f":"IFERROR(INDEX($F$3:$H$4612,$K112,COLUMNS($P$3:P112)),\"\")","v":""},""]
["Area Outside Region","    Awahuri","..","..",819,"Awahuri",126.35606184,6.481683490872558,{"$f":"ROWS($A$3:A113)","v":111},"","",null,null,null,null,{"$f":"IFERROR(INDEX($F$3:$H$4612,$K113,COLUMNS($P$3:P113)),\"\")","v":""},""]
["Area Outside Region","    Awapuni North","..","..",1332,"Awapuni North",1.2335031299999999,1079.8513336565268,{"$f":"ROWS($A$3:A114)","v":112},"","",null,null,null,null,{"$f":"IFERROR(INDEX($F$3:$H$4612,$K114,COLUMNS($P$3:P114)),\"\")","v":""},""]
["Area Outside Region","    Awapuni South","..","..",1275,"Awapuni South",1.70556788,747.5516014056268,{"$f":"ROWS($A$3:A115)","v":113},"","",null,null,null,null,{"$f":"IFERROR(INDEX($F$3:$H$4612,$K115,COLUMNS($P$3:P115)),\"\")","v":""},""]
["Area Outside Region","    Awarua Plains","..","..",408,"Awarua Plains",409.0300853,0.99748163928028788,{"$f":"ROWS($A$3:A116)","v":114},"","",null,null,null,null,{"$f":"IFERROR(INDEX($F$3:$H$4612,$K116,COLUMNS($P$3:P116)),\"\")","v":""},""]
["Area Outside Region","    Awaruku","..","..",1503,"Awaruku",1.5219412299999999,987.55455885770311,{"$f":"ROWS($A$3:A117)","v":115},"","",null,null,null,null,{"$f":"IFERROR(INDEX($F$3:$H$4612,$K117,COLUMNS($P$3:P117)),\"\")","v":""},""]
["Area Outside Region","    Awatea North","..","..",810,"Awatea North",1.0258586199999999,789.58248652236318,{"$f":"ROWS($A$3:A118)","v":116},"","",null,null,null,null,{"$f":"IFERROR(INDEX($F$3:$H$4612,$K118,COLUMNS($P$3:P118)),\"\")","v":""},""]
["Area Outside Region","    Awatea South","..","..",546,"Awatea South",1.51060273,361.44512991843993,{"$f":"ROWS($A$3:A119)","v":117},"","",null,null,null,null,{"$f":"IFERROR(INDEX($F$3:$H$4612,$K119,COLUMNS($P$3:P119)),\"\")","v":""},""]
["Area Outside Region","    Awatere","..","..",768,"Awatere",3273.5225864099898,0.23460965358490196,{"$f":"ROWS($A$3:A120)","v":118},"","",null,null,null,null,{"$f":"IFERROR(INDEX($F$3:$H$4612,$K120,COLUMNS($P$3:P120)),\"\")","v":""},""]
["Area Outside Region","    Awhitu","..","..",1575,"Awhitu",221.55844737000001,7.1087336939573715,{"$f":"ROWS($A$3:A121)","v":119},"","",null,null,null,null,{"$f":"IFERROR(INDEX($F$3:$H$4612,$K121,COLUMNS($P$3:P121)),\"\")","v":""},""]
["Area Outside Region","    Bader","..","..",843,"Bader",1.09710993,768.38243547754598,{"$f":"ROWS($A$3:A122)","v":120},"","",null,null,null,null,{"$f":"IFERROR(INDEX($F$3:$H$4612,$K122,COLUMNS($P$3:P122)),\"\")","v":""},""]
["Area Outside Region","    Balcairn","..","..",1071,"Balcairn",130.575129559999,8.2021745152309258,{"$f":"ROWS($A$3:A123)","v":121},"","",null,null,null,null,{"$f":"IFERROR(INDEX($F$3:$H$4612,$K123,COLUMNS($P$3:P123)),\"\")","v":""},""]
["Area Outside Region","    Balclutha North","..","..",705,"Balclutha North",3.0685770099999998,229.74818546268131,{"$f":"ROWS($A$3:A124)","v":122},"","",null,null,null,null,{"$f":"IFERROR(INDEX($F$3:$H$4612,$K124,COLUMNS($P$3:P124)),\"\")","v":""},""]
["Area Outside Region","    Balclutha South","..","..",1188,"Balclutha South",4.5173349900000002,262.98691654036486,{"$f":"ROWS($A$3:A125)","v":123},"","",null,null,null,null,{"$f":"IFERROR(INDEX($F$3:$H$4612,$K125,COLUMNS($P$3:P125)),\"\")","v":""},""]
["Area Outside Region","    Balgownie","..","..",69,"Balgownie",2.8144437,24.516390219495243,{"$f":"ROWS($A$3:A126)","v":124},"","",null,null,null,null,{"$f":"IFERROR(INDEX($F$3:$H$4612,$K126,COLUMNS($P$3:P126)),\"\")","v":""},""]
["Area Outside Region","    Balmoral","..","..",1137,"Balmoral",0.78483197000000005,1448.7177427290583,{"$f":"ROWS($A$3:A127)","v":125},"","",null,null,null,null,{"$f":"IFERROR(INDEX($F$3:$H$4612,$K127,COLUMNS($P$3:P127)),\"\")","v":""},""]
["Area Outside Region","    Banks Peninsula South","..","..",648,"Banks Peninsula South",371.91122492,1.7423512832649461,{"$f":"ROWS($A$3:A128)","v":126},"","",null,null,null,null,{"$f":"IFERROR(INDEX($F$3:$H$4612,$K128,COLUMNS($P$3:P128)),\"\")","v":""},""]
["Area Outside Region","    Bankside","..","..",696,"Bankside",359.56266705000002,1.9356848298803382,{"$f":"ROWS($A$3:A129)","v":127},"","",null,null,null,null,{"$f":"IFERROR(INDEX($F$3:$H$4612,$K129,COLUMNS($P$3:P129)),\"\")","v":""},""]
["Area Outside Region","    Bare Island","..","..",0,"Bare Island",0.13162932999999999,0,{"$f":"ROWS($A$3:A130)","v":128},"","",null,null,null,null,{"$f":"IFERROR(INDEX($F$3:$H$4612,$K130,COLUMNS($P$3:P130)),\"\")","v":""},""]
["Area Outside Region","    Barrier Islands","..","..",1158,{"$f":"TRIM(B131)","v":"Barrier Islands"},320.41410080000003,{"$f":"E131/G131","v":3.6140731544234206},{"$f":"ROWS($A$3:A131)","v":129},{"$f":"IF(A131=$M$2,I132,\"\")","v":""},"",null,null,null,null,{"$f":"IFERROR(INDEX($F$3:$H$4612,$K131,COLUMNS($P$3:P131)),\"\")","v":""},""]
["Area Outside Region","    Barrytown","..","..",567,"Barrytown",731.22054796999896,0.77541584625062165,{"$f":"ROWS($A$3:A132)","v":130},"",{"$f":"IFERROR(SMALL($J$3:$J$4612,I132)-1,\"\")","v":""},null,null,null,null,{"$f":"IFERROR(INDEX($F$3:$H$4612,$K132,COLUMNS($P$3:P132)),\"\")","v":""},{"$f":"IFERROR(VLOOKUP(P132,$F:$H,3,FALSE),\"\")","v":""}]
["Area Outside Region","    Bastia-Durie Hill","..","..",996,"Bastia-Durie Hill",2.5703119499999998,387.50160267511501,{"$f":"ROWS($A$3:A133)","v":131},"","",null,null,null,null,{"$f":"IFERROR(INDEX($F$3:$H$4612,$K133,COLUMNS($P$3:P133)),\"\")","v":""},""]
["Area Outside Region","    Bathgate Park","..","..",1368,"Bathgate Park",0.53137555000000003,2574.4504051795379,{"$f":"ROWS($A$3:A134)","v":132},"","",null,null,null,null,{"$f":"IFERROR(INDEX($F$3:$H$4612,$K134,COLUMNS($P$3:P134)),\"\")","v":""},""]
["Area Outside Region","    Baverstock","..","..",1059,"Baverstock",1.0906098200000001,971.01638054203465,{"$f":"ROWS($A$3:A135)","v":133},"","",null,null,null,null,{"$f":"IFERROR(INDEX($F$3:$H$4612,$K135,COLUMNS($P$3:P135)),\"\")","v":""},""]
["Area Outside Region","    Bay View","..","..",837,"Bay View",29.16654342,28.697264120302123,{"$f":"ROWS($A$3:A136)","v":134},"","",null,null,null,null,{"$f":"IFERROR(INDEX($F$3:$H$4612,$K136,COLUMNS($P$3:P136)),\"\")","v":""},""]
["Area Outside Region","    Baypark-Kairua","..","..",189,"Baypark-Kairua",12.9558388299999,14.588017223737065,{"$f":"ROWS($A$3:A137)","v":135},"","",null,null,null,null,{"$f":"IFERROR(INDEX($F$3:$H$4612,$K137,COLUMNS($P$3:P137)),\"\")","v":""},""]
["Area Outside Region","    Bays Waiheke Island","..","..",0,"Bays Waiheke Island",0,{"$error":"#DIV/0!"},{"$f":"ROWS($A$3:A138)","v":136},"","",null,null,null,null,{"$f":"IFERROR(INDEX($F$3:$H$4612,$K138,COLUMNS($P$3:P138)),\"\")","v":""},""]
["Area Outside Region","    Bayswater","..","..",1140,"Bayswater",1.0969483799999999,1039.2467145992778,{"$f":"ROWS($A$3:A139)","v":137},"","",null,null,null,null,{"$f":"IFERROR(INDEX($F$3:$H$4612,$K139,COLUMNS($P$3:P139)),\"\")","v":""},""]
["Area Outside Region","    Bayview East","..","..",1194,"Bayview East",1.3746752,868.5688081082717,{"$f":"ROWS($A$3:A140)","v":138},"","",null,null,null,null,{"$f":"IFERROR(INDEX($F$3:$H$4612,$K140,COLUMNS($P$3:P140)),\"\")","v":""},""]
["Area Outside Region","    Bayview South","..","..",1005,"Bayview South",0.93345761000000005,1076.6423555109268,{"$f":"ROWS($A$3:A141)","v":139},"","",null,null,null,null,{"$f":"IFERROR(INDEX($F$3:$H$4612,$K141,COLUMNS($P$3:P141)),\"\")","v":""},""]
["Area Outside Region","    Bayview West","..","..",783,"Bayview West",0.73414884000000002,1066.541220714862,{"$f":"ROWS($A$3:A142)","v":140},"","",null,null,null,null,{"$f":"IFERROR(INDEX($F$3:$H$4612,$K142,COLUMNS($P$3:P142)),\"\")","v":""},""]
["Area Outside Region","    Beach Haven East","..","..",1302,"Beach Haven East",1.1210377499999999,1161.4238681971237,{"$f":"ROWS($A$3:A143)","v":141},"","",null,null,null,null,{"$f":"IFERROR(INDEX($F$3:$H$4612,$K143,COLUMNS($P$3:P143)),\"\")","v":""},""]
["Area Outside Region","    Beach Haven South","..","..",1161,"Beach Haven South",1.3403973300000001,866.16108075953866,{"$f":"ROWS($A$3:A144)","v":142},"","",null,null,null,null,{"$f":"IFERROR(INDEX($F$3:$H$4612,$K144,COLUMNS($P$3:P144)),\"\")","v":""},""]
["Area Outside Region","    Beach Haven West","..","..",1284,"Beach Haven West",1.2074620899999999,1063.3874227885697,{"$f":"ROWS($A$3:A145)","v":143},"","",null,null,null,null,{"$f":"IFERROR(INDEX($F$3:$H$4612,$K145,COLUMNS($P$3:P145)),\"\")","v":""},""]
["Area Outside Region","    Beckenham","..","..",951,"Beckenham",0.87656893000000002,1084.9118277555194,{"$f":"ROWS($A$3:A146)","v":144},"","",null,null,null,null,{"$f":"IFERROR(INDEX($F$3:$H$4612,$K146,COLUMNS($P$3:P146)),\"\")","v":""},""]
["Area Outside Region","    Beerescourt","..","..",885,"Beerescourt",1.02007447,867.58371670648717,{"$f":"ROWS($A$3:A147)","v":145},"","",null,null,null,null,{"$f":"IFERROR(INDEX($F$3:$H$4612,$K147,COLUMNS($P$3:P147)),\"\")","v":""},""]
["Area Outside Region","    Belfast East","..","..",975,"Belfast East",2.88148063,338.36770924259173,{"$f":"ROWS($A$3:A148)","v":146},"","",null,null,null,null,{"$f":"IFERROR(INDEX($F$3:$H$4612,$K148,COLUMNS($P$3:P148)),\"\")","v":""},""]
["Area Outside Region","    Belfast West","..","..",765,"Belfast West",3.0976486599999999,246.96151305939262,{"$f":"ROWS($A$3:A149)","v":147},"","",null,null,null,null,{"$f":"IFERROR(INDEX($F$3:$H$4612,$K149,COLUMNS($P$3:P149)),\"\")","v":""},""]
["Area Outside Region","    Bell Block East","..","..",1059,"Bell Block East",7.6715886099999997,138.04181295899807,{"$f":"ROWS($A$3:A150)","v":148},"","",null,null,null,null,{"$f":"IFERROR(INDEX($F$3:$H$4612,$K150,COLUMNS($P$3:P150)),\"\")","v":""},""]
["Area Outside Region","    Bell Block West","..","..",1542,"Bell Block West",4.1911775100000002,367.91569823059103,{"$f":"ROWS($A$3:A151)","v":149},"","",null,null,null,null,{"$f":"IFERROR(INDEX($F$3:$H$4612,$K151,COLUMNS($P$3:P151)),\"\")","v":""},""]
["Area Outside Region","    Belleknowes","..","..",927,"Belleknowes",1.1269501500000001,822.57409522506384,{"$f":"ROWS($A$3:A152)","v":150},"","",null,null,null,null,{"$f":"IFERROR(INDEX($F$3:$H$4612,$K152,COLUMNS($P$3:P152)),\"\")","v":""},""]
["Area Outside Region","    Bellevue","..","..",1344,"Bellevue",1.7152726199999999,783.54891480748995,{"$f":"ROWS($A$3:A153)","v":151},"","",null,null,null,null,{"$f":"IFERROR(INDEX($F$3:$H$4612,$K153,COLUMNS($P$3:P153)),\"\")","v":""},""]
["Area Outside Region","    Belmont (Auckland)","..","..",1182,"Belmont (Auckland)",1.1532871899999999,1024.8964960757087,{"$f":"ROWS($A$3:A154)","v":152},"","",null,null,null,null,{"$f":"IFERROR(INDEX($F$3:$H$4612,$K154,COLUMNS($P$3:P154)),\"\")","v":""},""]
["Area Outside Region","    Belmont (Lower Hutt City)","..","..",981,"Belmont (Lower Hutt City)",2.36254907,415.22947076819867,{"$f":"ROWS($A$3:A155)","v":153},"","",null,null,null,null,{"$f":"IFERROR(INDEX($F$3:$H$4612,$K155,COLUMNS($P$3:P155)),\"\")","v":""},""]
["Area Outside Region","    Belmont Park","..","..",123,"Belmont Park",29.471689820000002,4.1734966929697412,{"$f":"ROWS($A$3:A156)","v":154},"","",null,null,null,null,{"$f":"IFERROR(INDEX($F$3:$H$4612,$K156,COLUMNS($P$3:P156)),\"\")","v":""},""]
["Area Outside Region","    Ben Cooper Park","..","..",996,"Ben Cooper Park",0.91549517999999996,1087.9358206997879,{"$f":"ROWS($A$3:A157)","v":155},"","",null,null,null,null,{"$f":"IFERROR(INDEX($F$3:$H$4612,$K157,COLUMNS($P$3:P157)),\"\")","v":""},""]
["Area Outside Region","    Ben McLeod","..","..",153,"Ben McLeod",842.33844673999897,0.18163720365862138,{"$f":"ROWS($A$3:A158)","v":156},"","",null,null,null,null,{"$f":"IFERROR(INDEX($F$3:$H$4612,$K158,COLUMNS($P$3:P158)),\"\")","v":""},""]
["Area Outside Region","    Benhar-Stirling","..","..",204,"Benhar-Stirling",9.4814775699999903,21.515633876039452,{"$f":"ROWS($A$3:A159)","v":157},"","",null,null,null,null,{"$f":"IFERROR(INDEX($F$3:$H$4612,$K159,COLUMNS($P$3:P159)),\"\")","v":""},""]
["Area Outside Region","    Berhampore","..","..",1674,"Berhampore",1.3970749899999999,1198.2177134242452,{"$f":"ROWS($A$3:A160)","v":158},"","",null,null,null,null,{"$f":"IFERROR(INDEX($F$3:$H$4612,$K160,COLUMNS($P$3:P160)),\"\")","v":""},""]
["Area Outside Region","    Bethlehem Central","..","..",1620,"Bethlehem Central",4.2657313600000002,379.77075049564303,{"$f":"ROWS($A$3:A161)","v":159},"","",null,null,null,null,{"$f":"IFERROR(INDEX($F$3:$H$4612,$K161,COLUMNS($P$3:P161)),\"\")","v":""},""]
["Area Outside Region","    Bethlehem North","..","..",1461,"Bethlehem North",5.1231794700000002,285.17447193783357,{"$f":"ROWS($A$3:A162)","v":160},"","",null,null,null,null,{"$f":"IFERROR(INDEX($F$3:$H$4612,$K162,COLUMNS($P$3:P162)),\"\")","v":""},""]
["Area Outside Region","    Bethlehem South","..","..",369,"Bethlehem South",4.4816838299999997,82.335125367377827,{"$f":"ROWS($A$3:A163)","v":161},"","",null,null,null,null,{"$f":"IFERROR(INDEX($F$3:$H$4612,$K163,COLUMNS($P$3:P163)),\"\")","v":""},""]
["Area Outside Region","    Bexley","..","..",975,"Bexley",0.89880764999999996,1084.77047341553,{"$f":"ROWS($A$3:A164)","v":162},"","",null,null,null,null,{"$f":"IFERROR(INDEX($F$3:$H$4612,$K164,COLUMNS($P$3:P164)),\"\")","v":""},""]
["Area Outside Region","    Birchville-Brown Owl","..","..",1362,"Birchville-Brown Owl",8.8928953699999997,153.15596814448972,{"$f":"ROWS($A$3:A165)","v":163},"","",null,null,null,null,{"$f":"IFERROR(INDEX($F$3:$H$4612,$K165,COLUMNS($P$3:P165)),\"\")","v":""},""]
["Area Outside Region","    Bird Area","..","..",1176,"Bird Area",1.17912862,997.34666774520326,{"$f":"ROWS($A$3:A166)","v":164},"","",null,null,null,null,{"$f":"IFERROR(INDEX($F$3:$H$4612,$K166,COLUMNS($P$3:P166)),\"\")","v":""},""]
["Area Outside Region","    Birdwood West","..","..",222,"Birdwood West",5.93628175,37.397146791423772,{"$f":"ROWS($A$3:A167)","v":165},"","",null,null,null,null,{"$f":"IFERROR(INDEX($F$3:$H$4612,$K167,COLUMNS($P$3:P167)),\"\")","v":""},""]
["Area Outside Region","    Birkdale North","..","..",1374,"Birkdale North",1.3857380100000001,991.52941615565555,{"$f":"ROWS($A$3:A168)","v":166},"","",null,null,null,null,{"$f":"IFERROR(INDEX($F$3:$H$4612,$K168,COLUMNS($P$3:P168)),\"\")","v":""},""]
["Area Outside Region","    Birkdale South","..","..",1620,"Birkdale South",1.40729671,1151.1431729276194,{"$f":"ROWS($A$3:A169)","v":167},"","",null,null,null,null,{"$f":"IFERROR(INDEX($F$3:$H$4612,$K169,COLUMNS($P$3:P169)),\"\")","v":""},""]
["Area Outside Region","    Birkenhead North","..","..",1116,"Birkenhead North",1.0119325699999999,1102.8402811464009,{"$f":"ROWS($A$3:A170)","v":168},"","",null,null,null,null,{"$f":"IFERROR(INDEX($F$3:$H$4612,$K170,COLUMNS($P$3:P170)),\"\")","v":""},""]
["Area Outside Region","    Birkenhead South","..","..",1221,"Birkenhead South",1.3616869300000001,896.68188267034327,{"$f":"ROWS($A$3:A171)","v":169},"","",null,null,null,null,{"$f":"IFERROR(INDEX($F$3:$H$4612,$K171,COLUMNS($P$3:P171)),\"\")","v":""},""]
["Area Outside Region","    Birkenhead West","..","..",1803,"Birkenhead West",2.2626867599999998,796.84030148300337,{"$f":"ROWS($A$3:A172)","v":170},"","",null,null,null,null,{"$f":"IFERROR(INDEX($F$3:$H$4612,$K172,COLUMNS($P$3:P172)),\"\")","v":""},""]
["Area Outside Region","    Bishopdale North","..","..",1701,"Bishopdale North",1.3684224,1243.0372376248738,{"$f":"ROWS($A$3:A173)","v":171},"","",null,null,null,null,{"$f":"IFERROR(INDEX($F$3:$H$4612,$K173,COLUMNS($P$3:P173)),\"\")","v":""},""]
["Area Outside Region","    Bishopdale South","..","..",849,"Bishopdale South",0.70451596999999999,1205.0826896088672,{"$f":"ROWS($A$3:A174)","v":172},"","",null,null,null,null,{"$f":"IFERROR(INDEX($F$3:$H$4612,$K174,COLUMNS($P$3:P174)),\"\")","v":""},""]
["Area Outside Region","    Bishopdale West","..","..",1146,"Bishopdale West",1.1306061599999999,1013.6155635309824,{"$f":"ROWS($A$3:A175)","v":173},"","",null,null,null,null,{"$f":"IFERROR(INDEX($F$3:$H$4612,$K175,COLUMNS($P$3:P175)),\"\")","v":""},""]
["Area Outside Region","    Blagdon-Lynmouth","..","..",1032,"Blagdon-Lynmouth",1.1585697699999999,890.75343300214024,{"$f":"ROWS($A$3:A176)","v":174},"","",null,null,null,null,{"$f":"IFERROR(INDEX($F$3:$H$4612,$K176,COLUMNS($P$3:P176)),\"\")","v":""},""]
["Area Outside Region","    Blaketown","..","..",411,"Blaketown",0.74298173000000001,553.1764556310153,{"$f":"ROWS($A$3:A177)","v":175},"","",null,null,null,null,{"$f":"IFERROR(INDEX($F$3:$H$4612,$K177,COLUMNS($P$3:P177)),\"\")","v":""},""]
["Area Outside Region","    Bledisloe Park","..","..",975,"Bledisloe Park",0.88271679999999997,1104.5445152964121,{"$f":"ROWS($A$3:A178)","v":176},"","",null,null,null,null,{"$f":"IFERROR(INDEX($F$3:$H$4612,$K178,COLUMNS($P$3:P178)),\"\")","v":""},""]
["Area Outside Region","    Blenheim Central","..","..",510,"Blenheim Central",1.5515344,328.7068594805246,{"$f":"ROWS($A$3:A179)","v":177},"","",null,null,null,null,{"$f":"IFERROR(INDEX($F$3:$H$4612,$K179,COLUMNS($P$3:P179)),\"\")","v":""},""]
["Area Outside Region","    Blockhouse Bay East","..","..",864,"Blockhouse Bay East",0.77910259000000004,1108.9682040461448,{"$f":"ROWS($A$3:A180)","v":178},"","",null,null,null,null,{"$f":"IFERROR(INDEX($F$3:$H$4612,$K180,COLUMNS($P$3:P180)),\"\")","v":""},""]
["Area Outside Region","    Blockhouse Bay North","..","..",1230,"Blockhouse Bay North",0.92504226000000001,1329.6689818257601,{"$f":"ROWS($A$3:A181)","v":179},"","",null,null,null,null,{"$f":"IFERROR(INDEX($F$3:$H$4612,$K181,COLUMNS($P$3:P181)),\"\")","v":""},""]
["Area Outside Region","    Blockhouse Bay North East","..","..",684,"Blockhouse Bay North East",0.52948070999999997,1291.8317647492768,{"$f":"ROWS($A$3:A182)","v":180},"","",null,null,null,null,{"$f":"IFERROR(INDEX($F$3:$H$4612,$K182,COLUMNS($P$3:P182)),\"\")","v":""},""]
["Area Outside Region","    Blockhouse Bay South","..","..",1434,"Blockhouse Bay South",1.6708664200000001,858.23736884962943,{"$f":"ROWS($A$3:A183)","v":181},"","",null,null,null,null,{"$f":"IFERROR(INDEX($F$3:$H$4612,$K183,COLUMNS($P$3:P183)),\"\")","v":""},""]
["Area Outside Region","    Bluff","..","..",912,"Bluff",10.0993463899999,90.302873550612915,{"$f":"ROWS($A$3:A184)","v":182},"","",null,null,null,null,{"$f":"IFERROR(INDEX($F$3:$H$4612,$K184,COLUMNS($P$3:P184)),\"\")","v":""},""]
["Area Outside Region","    Bluff Hill","..","..",1254,"Bluff Hill",1.89023838,663.40838979261446,{"$f":"ROWS($A$3:A185)","v":183},"","",null,null,null,null,{"$f":"IFERROR(INDEX($F$3:$H$4612,$K185,COLUMNS($P$3:P185)),\"\")","v":""},""]
["Area Outside Region","    Bombay Hills","..","..",738,"Bombay Hills",31.682019669999899,23.293969503428514,{"$f":"ROWS($A$3:A186)","v":184},"","",null,null,null,null,{"$f":"IFERROR(INDEX($F$3:$H$4612,$K186,COLUMNS($P$3:P186)),\"\")","v":""},""]
["Area Outside Region","    Botany Central","..","..",3,"Botany Central",0.46967107000000002,6.3874489863725259,{"$f":"ROWS($A$3:A187)","v":185},"","",null,null,null,null,{"$f":"IFERROR(INDEX($F$3:$H$4612,$K187,COLUMNS($P$3:P187)),\"\")","v":""},""]
["Area Outside Region","    Botany Downs East","..","..",807,"Botany Downs East",0.67735204000000004,1191.404103544148,{"$f":"ROWS($A$3:A188)","v":186},"","",null,null,null,null,{"$f":"IFERROR(INDEX($F$3:$H$4612,$K188,COLUMNS($P$3:P188)),\"\")","v":""},""]
["Area Outside Region","    Botany Downs West","..","..",921,"Botany Downs West",0.81388433999999998,1131.6104202226081,{"$f":"ROWS($A$3:A189)","v":187},"","",null,null,null,null,{"$f":"IFERROR(INDEX($F$3:$H$4612,$K189,COLUMNS($P$3:P189)),\"\")","v":""},""]
["Area Outside Region","    Botany East","..","..",606,"Botany East",0.78144968999999997,775.48178437437218,{"$f":"ROWS($A$3:A190)","v":188},"","",null,null,null,null,{"$f":"IFERROR(INDEX($F$3:$H$4612,$K190,COLUMNS($P$3:P190)),\"\")","v":""},""]
["Area Outside Region","    Botany Junction","..","..",78,"Botany Junction",2.48251702,31.419724163663538,{"$f":"ROWS($A$3:A191)","v":189},"","",null,null,null,null,{"$f":"IFERROR(INDEX($F$3:$H$4612,$K191,COLUMNS($P$3:P191)),\"\")","v":""},""]
["Area Outside Region","    Botany North","..","..",825,"Botany North",0.92492593000000001,891.96331645713508,{"$f":"ROWS($A$3:A192)","v":190},"","",null,null,null,null,{"$f":"IFERROR(INDEX($F$3:$H$4612,$K192,COLUMNS($P$3:P192)),\"\")","v":""},""]
["Area Outside Region","    Botany South","..","..",975,"Botany South",0.74938028000000001,1301.0750696562231,{"$f":"ROWS($A$3:A193)","v":191},"","",null,null,null,null,{"$f":"IFERROR(INDEX($F$3:$H$4612,$K193,COLUMNS($P$3:P193)),\"\")","v":""},""]
["Area Outside Region","    Boulcott","..","..",990,"Boulcott",1.58246938,625.60452196553717,{"$f":"ROWS($A$3:A194)","v":192},"","",null,null,null,null,{"$f":"IFERROR(INDEX($F$3:$H$4612,$K194,COLUMNS($P$3:P194)),\"\")","v":""},""]
["Area Outside Region","    Bounty Islands","..","..",0,{"$f":"TRIM(B195)","v":"Bounty Islands"},0,{"$f":"E195/G195","v":{"$error":"#DIV/0!"}},{"$f":"ROWS($A$3:A195)","v":193},{"$f":"IF(A195=$M$2,I196,\"\")","v":""},"",null,null,null,null,{"$f":"IFERROR(INDEX($F$3:$H$4612,$K195,COLUMNS($P$3:P195)),\"\")","v":""},""]
["Area Outside Region","    Bounty Islands","..","..",0,"Bounty Islands",0,{"$error":"#DIV/0!"},{"$f":"ROWS($A$3:A196)","v":194},"",{"$f":"IFERROR(SMALL($J$3:$J$4612,I196)-1,\"\")","v":""},null,null,null,null,{"$f":"IFERROR(INDEX($F$3:$H$4612,$K196,COLUMNS($P$3:P196)),\"\")","v":""},{"$f":"IFERROR(VLOOKUP(P196,$F:$H,3,FALSE),\"\")","v":""}]
["Area Outside Region","    Bream Bay","..","..",834,"Bream Bay",235.31798384000001,3.5441405131494856,{"$f":"ROWS($A$3:A197)","v":195},"","",null,null,null,null,{"$f":"IFERROR(INDEX($F$3:$H$4612,$K197,COLUMNS($P$3:P197)),\"\")","v":""},""]
["Area Outside Region","    Bream Head","..","..",837,"Bream Head",52.180041920000001,16.040615706734179,{"$f":"ROWS($A$3:A198)","v":196},"","",null,null,null,null,{"$f":"IFERROR(INDEX($F$3:$H$4612,$K198,COLUMNS($P$3:P198)),\"\")","v":""},""]
["Area Outside Region","    Brentwood (Taupo District)","..","..",894,"Brentwood (Taupo District)",3.5554319799999998,251.44623917119631,{"$f":"ROWS($A$3:A199)","v":197},"","",null,null,null,null,{"$f":"IFERROR(INDEX($F$3:$H$4612,$K199,COLUMNS($P$3:P199)),\"\")","v":""},""]
["Area Outside Region","    Brentwood (Upper Hutt City)","..","..",831,"Brentwood (Upper Hutt City)",0.98266197,845.662115121846,{"$f":"ROWS($A$3:A200)","v":198},"","",null,null,null,null,{"$f":"IFERROR(INDEX($F$3:$H$4612,$K200,COLUMNS($P$3:P200)),\"\")","v":""},""]
["Area Outside Region","    Bridge Pa","..","..",258,"Bridge Pa",23.242511100000002,11.100349651978869,{"$f":"ROWS($A$3:A201)","v":199},"","",null,null,null,null,{"$f":"IFERROR(INDEX($F$3:$H$4612,$K201,COLUMNS($P$3:P201)),\"\")","v":""},""]
["Area Outside Region","    Brighton","..","..",705,"Brighton",3.39318287,207.76952702227925,{"$f":"ROWS($A$3:A202)","v":200},"","",null,null,null,null,{"$f":"IFERROR(INDEX($F$3:$H$4612,$K202,COLUMNS($P$3:P202)),\"\")","v":""},""]
["Area Outside Region","    Brightwater","..","..",768,"Brightwater",4.8379245099999997,158.74575934629456,{"$f":"ROWS($A$3:A203)","v":201},"","",null,null,null,null,{"$f":"IFERROR(INDEX($F$3:$H$4612,$K203,COLUMNS($P$3:P203)),\"\")","v":""},""]
["Area Outside Region","    Britannia","..","..",870,"Britannia",0.84053385999999997,1035.0564580467942,{"$f":"ROWS($A$3:A204)","v":202},"","",null,null,null,null,{"$f":"IFERROR(INDEX($F$3:$H$4612,$K204,COLUMNS($P$3:P204)),\"\")","v":""},""]
["Area Outside Region","    Broad Bay-Portobello","..","..",546,"Broad Bay-Portobello",3.59697698,151.79413241616018,{"$f":"ROWS($A$3:A205)","v":203},"","",null,null,null,null,{"$f":"IFERROR(INDEX($F$3:$H$4612,$K205,COLUMNS($P$3:P205)),\"\")","v":""},""]
["Area Outside Region","    Broadgreen-Monaco","..","..",1002,"Broadgreen-Monaco",1.1353873000000001,882.51823849007292,{"$f":"ROWS($A$3:A206)","v":204},"","",null,null,null,null,{"$f":"IFERROR(INDEX($F$3:$H$4612,$K206,COLUMNS($P$3:P206)),\"\")","v":""},""]
["Area Outside Region","    Broadmeadows","..","..",621,"Broadmeadows",0.64028777000000003,969.87640416745739,{"$f":"ROWS($A$3:A207)","v":205},"","",null,null,null,null,{"$f":"IFERROR(INDEX($F$3:$H$4612,$K207,COLUMNS($P$3:P207)),\"\")","v":""},""]
["Area Outside Region","    Brockville","..","..",927,"Brockville",1.47132967,630.04234802116105,{"$f":"ROWS($A$3:A208)","v":206},"","",null,null,null,null,{"$f":"IFERROR(INDEX($F$3:$H$4612,$K208,COLUMNS($P$3:P208)),\"\")","v":""},""]
["Area Outside Region","    Broken Run","..","..",204,"Broken Run",0.42222058000000001,483.15977397406823,{"$f":"ROWS($A$3:A209)","v":207},"","",null,null,null,null,{"$f":"IFERROR(INDEX($F$3:$H$4612,$K209,COLUMNS($P$3:P209)),\"\")","v":""},""]
["Area Outside Region","    Bromley North","..","..",30,"Bromley North",6.2287928299999997,4.8163425592692253,{"$f":"ROWS($A$3:A210)","v":208},"","",null,null,null,null,{"$f":"IFERROR(INDEX($F$3:$H$4612,$K210,COLUMNS($P$3:P210)),\"\")","v":""},""]
["Area Outside Region","    Bromley South","..","..",1140,"Bromley South",1.24298994,917.14338412103325,{"$f":"ROWS($A$3:A211)","v":209},"","",null,null,null,null,{"$f":"IFERROR(INDEX($F$3:$H$4612,$K211,COLUMNS($P$3:P211)),\"\")","v":""},""]
["Area Outside Region","    Brookfield East","..","..",1071,"Brookfield East",1.3220185099999999,810.12481436436167,{"$f":"ROWS($A$3:A212)","v":210},"","",null,null,null,null,{"$f":"IFERROR(INDEX($F$3:$H$4612,$K212,COLUMNS($P$3:P212)),\"\")","v":""},""]
["Area Outside Region","    Brookfield West","..","..",1140,"Brookfield West",1.05161726,1084.0445886177258,{"$f":"ROWS($A$3:A213)","v":211},"","",null,null,null,null,{"$f":"IFERROR(INDEX($F$3:$H$4612,$K213,COLUMNS($P$3:P213)),\"\")","v":""},""]
["Area Outside Region","    Brookhaven-Ferrymead","..","..",438,"Brookhaven-Ferrymead",2.6735075899999998,163.82972004205158,{"$f":"ROWS($A$3:A214)","v":212},"","",null,null,null,null,{"$f":"IFERROR(INDEX($F$3:$H$4612,$K214,COLUMNS($P$3:P214)),\"\")","v":""},""]
["Area Outside Region","    Brooklands-Spencerville","..","..",270,"Brooklands-Spencerville",7.2472458399999997,37.255532096038294,{"$f":"ROWS($A$3:A215)","v":213},"","",null,null,null,null,{"$f":"IFERROR(INDEX($F$3:$H$4612,$K215,COLUMNS($P$3:P215)),\"\")","v":""},""]
["Area Outside Region","    Brooklyn East","..","..",1206,"Brooklyn East",0.90513951999999998,1332.3912759880377,{"$f":"ROWS($A$3:A216)","v":214},"","",null,null,null,null,{"$f":"IFERROR(INDEX($F$3:$H$4612,$K216,COLUMNS($P$3:P216)),\"\")","v":""},""]
["Area Outside Region","    Brooklyn North","..","..",855,"Brooklyn North",1.2435323199999999,687.55752162517183,{"$f":"ROWS($A$3:A217)","v":215},"","",null,null,null,null,{"$f":"IFERROR(INDEX($F$3:$H$4612,$K217,COLUMNS($P$3:P217)),\"\")","v":""},""]
["Area Outside Region","    Brooklyn South","..","..",690,"Brooklyn South",1.82876796,377.30319815970529,{"$f":"ROWS($A$3:A218)","v":216},"","",null,null,null,null,{"$f":"IFERROR(INDEX($F$3:$H$4612,$K218,COLUMNS($P$3:P218)),\"\")","v":""},""]
["Area Outside Region","    Brookvale","..","..",1005,"Brookvale",1.7392140599999999,577.84721450561415,{"$f":"ROWS($A$3:A219)","v":217},"","",null,null,null,null,{"$f":"IFERROR(INDEX($F$3:$H$4612,$K219,COLUMNS($P$3:P219)),\"\")","v":""},""]
["Area Outside Region","    Broomfield","..","..",1011,"Broomfield",1.00144447,1009.5417472323752,{"$f":"ROWS($A$3:A220)","v":218},"","",null,null,null,null,{"$f":"IFERROR(INDEX($F$3:$H$4612,$K220,COLUMNS($P$3:P220)),\"\")","v":""},""]
["Area Outside Region","    Browns Bay Central","..","..",1260,"Browns Bay Central",1.1836156900000001,1064.5347224148404,{"$f":"ROWS($A$3:A221)","v":219},"","",null,null,null,null,{"$f":"IFERROR(INDEX($F$3:$H$4612,$K221,COLUMNS($P$3:P221)),\"\")","v":""},""]
["Area Outside Region","    Browns Bay South East","..","..",993,"Browns Bay South East",0.85629308000000004,1159.6496844281398,{"$f":"ROWS($A$3:A222)","v":220},"","",null,null,null,null,{"$f":"IFERROR(INDEX($F$3:$H$4612,$K222,COLUMNS($P$3:P222)),\"\")","v":""},""]
["Area Outside Region","    Browns Bay South West","..","..",1407,"Browns Bay South West",1.1503355500000001,1223.1213753239217,{"$f":"ROWS($A$3:A223)","v":221},"","",null,null,null,null,{"$f":"IFERROR(INDEX($F$3:$H$4612,$K223,COLUMNS($P$3:P223)),\"\")","v":""},""]
["Area Outside Region","    Bruce","..","..",1113,"Bruce",879.67792953000003,1.2652357898698912,{"$f":"ROWS($A$3:A224)","v":222},"","",null,null,null,null,{"$f":"IFERROR(INDEX($F$3:$H$4612,$K224,COLUMNS($P$3:P224)),\"\")","v":""},""]
["Area Outside Region","    Brunswick-Papaiti","..","..",582,"Brunswick-Papaiti",51.532334669999898,11.293879924652774,{"$f":"ROWS($A$3:A225)","v":223},"","",null,null,null,null,{"$f":"IFERROR(INDEX($F$3:$H$4612,$K225,COLUMNS($P$3:P225)),\"\")","v":""},""]
["Area Outside Region","    Bryndwr North","..","..",1248,"Bryndwr North",1.0907013699999999,1144.2178714784231,{"$f":"ROWS($A$3:A226)","v":224},"","",null,null,null,null,{"$f":"IFERROR(INDEX($F$3:$H$4612,$K226,COLUMNS($P$3:P226)),\"\")","v":""},""]
["Area Outside Region","    Bryndwr South","..","..",1170,"Bryndwr South",0.90574677000000003,1291.7517773759214,{"$f":"ROWS($A$3:A227)","v":225},"","",null,null,null,null,{"$f":"IFERROR(INDEX($F$3:$H$4612,$K227,COLUMNS($P$3:P227)),\"\")","v":""},""]
["Area Outside Region","    Buckland","..","..",411,"Buckland",8.6244611100000004,47.655151406903379,{"$f":"ROWS($A$3:A228)","v":226},"","",null,null,null,null,{"$f":"IFERROR(INDEX($F$3:$H$4612,$K228,COLUMNS($P$3:P228)),\"\")","v":""},""]
["Area Outside Region","    Bucklands Beach Central","..","..",669,"Bucklands Beach Central",0.57859095999999999,1156.257263335051,{"$f":"ROWS($A$3:A229)","v":227},"","",null,null,null,null,{"$f":"IFERROR(INDEX($F$3:$H$4612,$K229,COLUMNS($P$3:P229)),\"\")","v":""},""]
["Area Outside Region","    Bucklands Beach North","..","..",1113,"Bucklands Beach North",1.3835808300000001,804.43438927959119,{"$f":"ROWS($A$3:A230)","v":228},"","",null,null,null,null,{"$f":"IFERROR(INDEX($F$3:$H$4612,$K230,COLUMNS($P$3:P230)),\"\")","v":""},""]
["Area Outside Region","    Bucklands Beach South","..","..",1365,"Bucklands Beach South",1.1204517599999999,1218.2586066891449,{"$f":"ROWS($A$3:A231)","v":229},"","",null,null,null,null,{"$f":"IFERROR(INDEX($F$3:$H$4612,$K231,COLUMNS($P$3:P231)),\"\")","v":""},""]
["Area Outside Region","    Bucklands Crossing","..","..",975,"Bucklands Crossing",421.95737689999902,2.3106599229596316,{"$f":"ROWS($A$3:A232)","v":230},"","",null,null,null,null,{"$f":"IFERROR(INDEX($F$3:$H$4612,$K232,COLUMNS($P$3:P232)),\"\")","v":""},""]
["Area Outside Region","    Buller Coalfields","..","..",624,"Buller Coalfields",498.57495985000003,1.2515670666407614,{"$f":"ROWS($A$3:A233)","v":231},"","",null,null,null,null,{"$f":"IFERROR(INDEX($F$3:$H$4612,$K233,COLUMNS($P$3:P233)),\"\")","v":""},""]
["Area Outside Region","    Bulls","..","..",807,"Bulls",6.6956767299999997,120.52553200249858,{"$f":"ROWS($A$3:A234)","v":232},"","",null,null,null,null,{"$f":"IFERROR(INDEX($F$3:$H$4612,$K234,COLUMNS($P$3:P234)),\"\")","v":""},""]
["Area Outside Region","    Burbank","..","..",807,"Burbank",0.64850806999999999,1244.3946919581124,{"$f":"ROWS($A$3:A235)","v":233},"","",null,null,null,null,{"$f":"IFERROR(INDEX($F$3:$H$4612,$K235,COLUMNS($P$3:P235)),\"\")","v":""},""]
["Area Outside Region","    Burnham Camp","..","..",312,"Burnham Camp",1.4939420800000001,208.84343789285325,{"$f":"ROWS($A$3:A236)","v":234},"","",null,null,null,null,{"$f":"IFERROR(INDEX($F$3:$H$4612,$K236,COLUMNS($P$3:P236)),\"\")","v":""},""]
["Area Outside Region","    Burnside","..","..",1284,"Burnside",1.3619678900000001,942.75350353524118,{"$f":"ROWS($A$3:A237)","v":235},"","",null,null,null,null,{"$f":"IFERROR(INDEX($F$3:$H$4612,$K237,COLUMNS($P$3:P237)),\"\")","v":""},""]
["Area Outside Region","    Burnside Park","..","..",1167,"Burnside Park",1.33883255,871.65493548838504,{"$f":"ROWS($A$3:A238)","v":236},"","",null,null,null,null,{"$f":"IFERROR(INDEX($F$3:$H$4612,$K238,COLUMNS($P$3:P238)),\"\")","v":""},""]
["Area Outside Region","    Burswood","..","..",567,"Burswood",0.52549252000000002,1078.9877656108215,{"$f":"ROWS($A$3:A239)","v":237},"","",null,null,null,null,{"$f":"IFERROR(INDEX($F$3:$H$4612,$K239,COLUMNS($P$3:P239)),\"\")","v":""},""]
["Area Outside Region","    Burwood","..","..",1314,"Burwood",1.2097650499999999,1086.1613170259795,{"$f":"ROWS($A$3:A240)","v":238},"","",null,null,null,null,{"$f":"IFERROR(INDEX($F$3:$H$4612,$K240,COLUMNS($P$3:P240)),\"\")","v":""},""]
["Area Outside Region","    Bush Inn","..","..",1062,"Bush Inn",0.83923848999999995,1265.4329045370644,{"$f":"ROWS($A$3:A241)","v":239},"","",null,null,null,null,{"$f":"IFERROR(INDEX($F$3:$H$4612,$K241,COLUMNS($P$3:P241)),\"\")","v":""},""]
["Area Outside Region","    Bush Road","..","..",1074,"Bush Road",0.87644248000000002,1225.4084261182775,{"$f":"ROWS($A$3:A242)","v":240},"","",null,null,null,null,{"$f":"IFERROR(INDEX($F$3:$H$4612,$K242,COLUMNS($P$3:P242)),\"\")","v":""},""]
["Area Outside Region","    Cairnbrae","..","..",648,"Cairnbrae",542.75534356000003,1.1939080981675596,{"$f":"ROWS($A$3:A243)","v":241},"","",null,null,null,null,{"$f":"IFERROR(INDEX($F$3:$H$4612,$K243,COLUMNS($P$3:P243)),\"\")","v":""},""]
["Area Outside Region","    Calton Hill","..","..",612,"Calton Hill",0.66409249000000004,921.55838112248489,{"$f":"ROWS($A$3:A244)","v":242},"","",null,null,null,null,{"$f":"IFERROR(INDEX($F$3:$H$4612,$K244,COLUMNS($P$3:P244)),\"\")","v":""},""]
["Area Outside Region","    Camberley","..","..",699,"Camberley",0.93079073999999995,750.97438120194454,{"$f":"ROWS($A$3:A245)","v":243},"","",null,null,null,null,{"$f":"IFERROR(INDEX($F$3:$H$4612,$K245,COLUMNS($P$3:P245)),\"\")","v":""},""]
["Area Outside Region","    Camborne","..","..",753,"Camborne",0.83508937000000005,901.69989829950771,{"$f":"ROWS($A$3:A246)","v":244},"","",null,null,null,null,{"$f":"IFERROR(INDEX($F$3:$H$4612,$K246,COLUMNS($P$3:P246)),\"\")","v":""},""]
["Area Outside Region","    Cambridge Central","..","..",495,"Cambridge Central",2.8115556000000002,176.05911830447172,{"$f":"ROWS($A$3:A247)","v":245},"","",null,null,null,null,{"$f":"IFERROR(INDEX($F$3:$H$4612,$K247,COLUMNS($P$3:P247)),\"\")","v":""},""]
["Area Outside Region","    Cambridge East","..","..",1131,"Cambridge East",1.5848586200000001,713.62832351569625,{"$f":"ROWS($A$3:A248)","v":246},"","",null,null,null,null,{"$f":"IFERROR(INDEX($F$3:$H$4612,$K248,COLUMNS($P$3:P248)),\"\")","v":""},""]
["Area Outside Region","    Cambridge North","..","..",600,"Cambridge North",1.79761003,333.77650880152243,{"$f":"ROWS($A$3:A249)","v":247},"","",null,null,null,null,{"$f":"IFERROR(INDEX($F$3:$H$4612,$K249,COLUMNS($P$3:P249)),\"\")","v":""},""]
["Area Outside Region","    Cambridge Park-River Garden","..","..",480,"Cambridge Park-River Garden",3.0145377500000001,159.22839247907908,{"$f":"ROWS($A$3:A250)","v":248},"","",null,null,null,null,{"$f":"IFERROR(INDEX($F$3:$H$4612,$K250,COLUMNS($P$3:P250)),\"\")","v":""},""]
["Area Outside Region","    Cambridge West","..","..",1092,"Cambridge West",2.2324196399999998,489.15534536329386,{"$f":"ROWS($A$3:A251)","v":249},"","",null,null,null,null,{"$f":"IFERROR(INDEX($F$3:$H$4612,$K251,COLUMNS($P$3:P251)),\"\")","v":""},""]
["Area Outside Region","    Cameron and Soldiers Park","..","..",969,"Cameron and Soldiers Park",1.4863701,651.92377053332814,{"$f":"ROWS($A$3:A252)","v":250},"","",null,null,null,null,{"$f":"IFERROR(INDEX($F$3:$H$4612,$K252,COLUMNS($P$3:P252)),\"\")","v":""},""]
["Area Outside Region","    Campbell Island","..","..",6,"Campbell Island",0,{"$error":"#DIV/0!"},{"$f":"ROWS($A$3:A253)","v":251},"","",null,null,null,null,{"$f":"IFERROR(INDEX($F$3:$H$4612,$K253,COLUMNS($P$3:P253)),\"\")","v":""},""]
["Area Outside Region","    Campbell Island","..","..",6,"Campbell Island",0,{"$error":"#DIV/0!"},{"$f":"ROWS($A$3:A254)","v":252},"","",null,null,null,null,{"$f":"IFERROR(INDEX($F$3:$H$4612,$K254,COLUMNS($P$3:P254)),\"\")","v":""},""]
["Area Outside Region","    Campbells Bay","..","..",1008,"Campbells Bay",1.74294503,578.33149218710582,{"$f":"ROWS($A$3:A255)","v":253},"","",null,null,null,null,{"$f":"IFERROR(INDEX($F$3:$H$4612,$K255,COLUMNS($P$3:P255)),\"\")","v":""},""]
["Area Outside Region","    Campus North","..","..",390,"Campus North",0.60673268000000002,642.78719913356235,{"$f":"ROWS($A$3:A256)","v":254},"","",null,null,null,null,{"$f":"IFERROR(INDEX($F$3:$H$4612,$K256,COLUMNS($P$3:P256)),\"\")","v":""},""]
["Area Outside Region","    Campus South","..","..",450,"Campus South",0.47018425000000003,957.0716160739114,{"$f":"ROWS($A$3:A257)","v":255},"","",null,null,null,null,{"$f":"IFERROR(INDEX($F$3:$H$4612,$K257,COLUMNS($P$3:P257)),\"\")","v":""},""]
["Area Outside Region","    Campus West","..","..",495,"Campus West",0.32160378000000001,1539.1610135925641,{"$f":"ROWS($A$3:A258)","v":256},"","",null,null,null,null,{"$f":"IFERROR(INDEX($F$3:$H$4612,$K258,COLUMNS($P$3:P258)),\"\")","v":""},""]
["Area Outside Region","    Cannons Creek East","..","..",990,{"$f":"TRIM(B259)","v":"Cannons Creek East"},1.4560480899999999,{"$f":"E259/G259","v":679.92259788617287},{"$f":"ROWS($A$3:A259)","v":257},{"$f":"IF(A259=$M$2,I260,\"\")","v":""},"",null,null,null,null,{"$f":"IFERROR(INDEX($F$3:$H$4612,$K259,COLUMNS($P$3:P259)),\"\")","v":""},""]
["Area Outside Region","    Cannons Creek North","..","..",969,"Cannons Creek North",1.05691822,916.81644015939094,{"$f":"ROWS($A$3:A260)","v":258},"",{"$f":"IFERROR(SMALL($J$3:$J$4612,I260)-1,\"\")","v":""},null,null,null,null,{"$f":"IFERROR(INDEX($F$3:$H$4612,$K260,COLUMNS($P$3:P260)),\"\")","v":""},{"$f":"IFERROR(VLOOKUP(P260,$F:$H,3,FALSE),\"\")","v":""}]
["Area Outside Region","    Cannons Creek South","..","..",447,"Cannons Creek South",1.40795973,317.48067112686527,{"$f":"ROWS($A$3:A261)","v":259},"","",null,null,null,null,{"$f":"IFERROR(INDEX($F$3:$H$4612,$K261,COLUMNS($P$3:P261)),\"\")","v":""},""]
["Area Outside Region","    Cape Egmont","..","..",933,"Cape Egmont",434.17712626000002,2.1488925684244542,{"$f":"ROWS($A$3:A262)","v":260},"","",null,null,null,null,{"$f":"IFERROR(INDEX($F$3:$H$4612,$K262,COLUMNS($P$3:P262)),\"\")","v":""},""]
["Area Outside Region","    Cape Hill","..","..",501,"Cape Hill",0.71737512999999997,698.37938206751051,{"$f":"ROWS($A$3:A263)","v":261},"","",null,null,null,null,{"$f":"IFERROR(INDEX($F$3:$H$4612,$K263,COLUMNS($P$3:P263)),\"\")","v":""},""]
["Area Outside Region","    Cape Rodney","..","..",1854,"Cape Rodney",370.64774254000002,5.002053937506223,{"$f":"ROWS($A$3:A264)","v":262},"","",null,null,null,null,{"$f":"IFERROR(INDEX($F$3:$H$4612,$K264,COLUMNS($P$3:P264)),\"\")","v":""},""]
["Area Outside Region","    Cape Runaway","..","..",1047,"Cape Runaway",1568.5976366,0.66747518647893389,{"$f":"ROWS($A$3:A265)","v":263},"","",null,null,null,null,{"$f":"IFERROR(INDEX($F$3:$H$4612,$K265,COLUMNS($P$3:P265)),\"\")","v":""},""]
["Area Outside Region","    Cardrona","..","..",441,"Cardrona",858.12453848999905,0.51391141986920308,{"$f":"ROWS($A$3:A266)","v":264},"","",null,null,null,null,{"$f":"IFERROR(INDEX($F$3:$H$4612,$K266,COLUMNS($P$3:P266)),\"\")","v":""},""]
["Area Outside Region","    Carterton North","..","..",1206,"Carterton North",2.36091272,510.81939191720733,{"$f":"ROWS($A$3:A267)","v":265},"","",null,null,null,null,{"$f":"IFERROR(INDEX($F$3:$H$4612,$K267,COLUMNS($P$3:P267)),\"\")","v":""},""]
["Area Outside Region","    Carterton South","..","..",1236,"Carterton South",2.9366451100000002,420.88844708920237,{"$f":"ROWS($A$3:A268)","v":266},"","",null,null,null,null,{"$f":"IFERROR(INDEX($F$3:$H$4612,$K268,COLUMNS($P$3:P268)),\"\")","v":""},""]
["Area Outside Region","    Casebrook","..","..",1635,"Casebrook",1.83250102,892.22324143644948,{"$f":"ROWS($A$3:A269)","v":267},"","",null,null,null,null,{"$f":"IFERROR(INDEX($F$3:$H$4612,$K269,COLUMNS($P$3:P269)),\"\")","v":""},""]
["Area Outside Region","    Cashmere East","..","..",1398,"Cashmere East",2.3270730400000001,600.75467162818404,{"$f":"ROWS($A$3:A270)","v":268},"","",null,null,null,null,{"$f":"IFERROR(INDEX($F$3:$H$4612,$K270,COLUMNS($P$3:P270)),\"\")","v":""},""]
["Area Outside Region","    Cashmere West","..","..",1248,"Cashmere West",2.3861146199999999,523.02600618573808,{"$f":"ROWS($A$3:A271)","v":269},"","",null,null,null,null,{"$f":"IFERROR(INDEX($F$3:$H$4612,$K271,COLUMNS($P$3:P271)),\"\")","v":""},""]
["Area Outside Region","    Castlecliff East","..","..",714,"Castlecliff East",2.62583221,271.91379452230882,{"$f":"ROWS($A$3:A272)","v":270},"","",null,null,null,null,{"$f":"IFERROR(INDEX($F$3:$H$4612,$K272,COLUMNS($P$3:P272)),\"\")","v":""},""]
["Area Outside Region","    Castlecliff West","..","..",708,"Castlecliff West",3.0233920900000002,234.17405977271045,{"$f":"ROWS($A$3:A273)","v":271},"","",null,null,null,null,{"$f":"IFERROR(INDEX($F$3:$H$4612,$K273,COLUMNS($P$3:P273)),\"\")","v":""},""]
["Area Outside Region","    Castor Bay","..","..",1725,"Castor Bay",1.4437705599999999,1194.78818019395,{"$f":"ROWS($A$3:A274)","v":272},"","",null,null,null,null,{"$f":"IFERROR(INDEX($F$3:$H$4612,$K274,COLUMNS($P$3:P274)),\"\")","v":""},""]
["Area Outside Region","    Catlins","..","..",1137,"Catlins",1072.95864598,1.0596866936670304,{"$f":"ROWS($A$3:A275)","v":273},"","",null,null,null,null,{"$f":"IFERROR(INDEX($F$3:$H$4612,$K275,COLUMNS($P$3:P275)),\"\")","v":""},""]
["Area Outside Region","    Caversham","..","..",1113,"Caversham",0.70323849000000005,1582.6778764626492,{"$f":"ROWS($A$3:A276)","v":274},"","",null,null,null,null,{"$f":"IFERROR(INDEX($F$3:$H$4612,$K276,COLUMNS($P$3:P276)),\"\")","v":""},""]
["Area Outside Region","    Centennial Crescent","..","..",576,"Centennial Crescent",0.81897584000000001,703.31745073212414,{"$f":"ROWS($A$3:A277)","v":275},"","",null,null,null,null,{"$f":"IFERROR(INDEX($F$3:$H$4612,$K277,COLUMNS($P$3:P277)),\"\")","v":""},""]
["Area Outside Region","    Chapel Downs","..","..",882,"Chapel Downs",0.76033315000000001,1160.0178158745282,{"$f":"ROWS($A$3:A278)","v":276},"","",null,null,null,null,{"$f":"IFERROR(INDEX($F$3:$H$4612,$K278,COLUMNS($P$3:P278)),\"\")","v":""},""]
["Area Outside Region","    Charing Cross","..","..",357,"Charing Cross",168.67829573,2.116454867266639,{"$f":"ROWS($A$3:A279)","v":277},"","",null,null,null,null,{"$f":"IFERROR(INDEX($F$3:$H$4612,$K279,COLUMNS($P$3:P279)),\"\")","v":""},""]
["Area Outside Region","    Charleston (Buller District)","..","..",414,"Charleston (Buller District)",1016.79179164,0.4071630036787105,{"$f":"ROWS($A$3:A280)","v":278},"","",null,null,null,null,{"$f":"IFERROR(INDEX($F$3:$H$4612,$K280,COLUMNS($P$3:P280)),\"\")","v":""},""]
["Area Outside Region","    Charleston (Christchurch City)","..","..",690,"Charleston (Christchurch City)",0.36094657000000002,1911.6402740715889,{"$f":"ROWS($A$3:A281)","v":279},"","",null,null,null,null,{"$f":"IFERROR(INDEX($F$3:$H$4612,$K281,COLUMNS($P$3:P281)),\"\")","v":""},""]
["Area Outside Region","    Chartwell","..","..",873,"Chartwell",0.89675000999999999,973.515461683686,{"$f":"ROWS($A$3:A282)","v":280},"","",null,null,null,null,{"$f":"IFERROR(INDEX($F$3:$H$4612,$K282,COLUMNS($P$3:P282)),\"\")","v":""},""]
["Area Outside Region","    Chatham Islands","..","..",360,"Chatham Islands",793.94721961000005,0.45343064514645942,{"$f":"ROWS($A$3:A283)","v":281},"","",null,null,null,null,{"$f":"IFERROR(INDEX($F$3:$H$4612,$K283,COLUMNS($P$3:P283)),\"\")","v":""},""]
["Area Outside Region","    Chatham Islands","..","..",360,"Chatham Islands",793.94721961000005,0.45343064514645942,{"$f":"ROWS($A$3:A284)","v":282},"","",null,null,null,null,{"$f":"IFERROR(INDEX($F$3:$H$4612,$K284,COLUMNS($P$3:P284)),\"\")","v":""},""]
["Area Outside Region","    Chatswood","..","..",1182,"Chatswood",3.0659165499999999,385.52908427987057,{"$f":"ROWS($A$3:A285)","v":283},"","",null,null,null,null,{"$f":"IFERROR(INDEX($F$3:$H$4612,$K285,COLUMNS($P$3:P285)),\"\")","v":""},""]
["Area Outside Region","    Chedworth","..","..",666,"Chedworth",0.87746908000000001,759.00110349187457,{"$f":"ROWS($A$3:A286)","v":284},"","",null,null,null,null,{"$f":"IFERROR(INDEX($F$3:$H$4612,$K286,COLUMNS($P$3:P286)),\"\")","v":""},""]
["Area Outside Region","    Cheltenham","..","..",870,"Cheltenham",0.81532064999999998,1067.0648412989417,{"$f":"ROWS($A$3:A287)","v":285},"","",null,null,null,null,{"$f":"IFERROR(INDEX($F$3:$H$4612,$K287,COLUMNS($P$3:P287)),\"\")","v":""},""]
["Area Outside Region","    Chertsey","..","..",756,"Chertsey",572.51144680000004,1.3204976148958982,{"$f":"ROWS($A$3:A288)","v":286},"","",null,null,null,null,{"$f":"IFERROR(INDEX($F$3:$H$4612,$K288,COLUMNS($P$3:P288)),\"\")","v":""},""]
["Area Outside Region","    Christchurch Airport","..","..",93,"Christchurch Airport",11.46321637,8.1129062732678747,{"$f":"ROWS($A$3:A289)","v":287},"","",null,null,null,null,{"$f":"IFERROR(INDEX($F$3:$H$4612,$K289,COLUMNS($P$3:P289)),\"\")","v":""},""]
["Area Outside Region","    Christchurch Central","..","..",153,"Christchurch Central",0.71393735000000003,214.30451845669651,{"$f":"ROWS($A$3:A290)","v":288},"","",null,null,null,null,{"$f":"IFERROR(INDEX($F$3:$H$4612,$K290,COLUMNS($P$3:P290)),\"\")","v":""},""]
["Area Outside Region","    Christchurch Central-East","..","..",1137,"Christchurch Central-East",0.71344675999999996,1593.6718249305668,{"$f":"ROWS($A$3:A291)","v":289},"","",null,null,null,null,{"$f":"IFERROR(INDEX($F$3:$H$4612,$K291,COLUMNS($P$3:P291)),\"\")","v":""},""]
["Area Outside Region","    Christchurch Central-North","..","..",1530,"Christchurch Central-North",0.77753402000000005,1967.7595586106959,{"$f":"ROWS($A$3:A292)","v":290},"","",null,null,null,null,{"$f":"IFERROR(INDEX($F$3:$H$4612,$K292,COLUMNS($P$3:P292)),\"\")","v":""},""]
["Area Outside Region","    Christchurch Central-South","..","..",222,"Christchurch Central-South",1.2504789999999999,177.53196974919211,{"$f":"ROWS($A$3:A293)","v":291},"","",null,null,null,null,{"$f":"IFERROR(INDEX($F$3:$H$4612,$K293,COLUMNS($P$3:P293)),\"\")","v":""},""]
["Area Outside Region","    Christchurch Central-West","..","..",768,"Christchurch Central-West",0.69698550999999997,1101.8880435548797,{"$f":"ROWS($A$3:A294)","v":292},"","",null,null,null,null,{"$f":"IFERROR(INDEX($F$3:$H$4612,$K294,COLUMNS($P$3:P294)),\"\")","v":""},""]
["Area Outside Region","    Churton Park North","..","..",1314,"Churton Park North",4.7104913499999999,278.9517913030453,{"$f":"ROWS($A$3:A295)","v":293},"","",null,null,null,null,{"$f":"IFERROR(INDEX($F$3:$H$4612,$K295,COLUMNS($P$3:P295)),\"\")","v":""},""]
["Area Outside Region","    Churton Park South","..","..",1236,"Churton Park South",1.25145963,987.64672097333255,{"$f":"ROWS($A$3:A296)","v":294},"","",null,null,null,null,{"$f":"IFERROR(INDEX($F$3:$H$4612,$K296,COLUMNS($P$3:P296)),\"\")","v":""},""]
["Area Outside Region","    Clarks Beach","..","..",615,"Clarks Beach",2.6730217399999998,230.07669215589695,{"$f":"ROWS($A$3:A297)","v":295},"","",null,null,null,null,{"$f":"IFERROR(INDEX($F$3:$H$4612,$K297,COLUMNS($P$3:P297)),\"\")","v":""},""]
["Area Outside Region","    Clarkville","..","..",504,"Clarkville",30.17125424,16.704641974472985,{"$f":"ROWS($A$3:A298)","v":296},"","",null,null,null,null,{"$f":"IFERROR(INDEX($F$3:$H$4612,$K298,COLUMNS($P$3:P298)),\"\")","v":""},""]
["Area Outside Region","    Claudelands","..","..",1329,"Claudelands",1.3837409300000001,960.43989968555741,{"$f":"ROWS($A$3:A299)","v":297},"","",null,null,null,null,{"$f":"IFERROR(INDEX($F$3:$H$4612,$K299,COLUMNS($P$3:P299)),\"\")","v":""},""]
["Area Outside Region","    Clearwater","..","..",354,"Clearwater",5.7133209100000002,61.960461450781693,{"$f":"ROWS($A$3:A300)","v":298},"","",null,null,null,null,{"$f":"IFERROR(INDEX($F$3:$H$4612,$K300,COLUMNS($P$3:P300)),\"\")","v":""},""]
["Area Outside Region","    Clendon Park East","..","..",552,"Clendon Park East",0.46283705000000003,1192.6443658734752,{"$f":"ROWS($A$3:A301)","v":299},"","",null,null,null,null,{"$f":"IFERROR(INDEX($F$3:$H$4612,$K301,COLUMNS($P$3:P301)),\"\")","v":""},""]
["Area Outside Region","    Clendon Park North","..","..",777,"Clendon Park North",0.74920255999999996,1037.1027029058737,{"$f":"ROWS($A$3:A302)","v":300},"","",null,null,null,null,{"$f":"IFERROR(INDEX($F$3:$H$4612,$K302,COLUMNS($P$3:P302)),\"\")","v":""},""]
["Area Outside Region","    Clendon Park West","..","..",756,"Clendon Park West",0.59408603999999998,1272.5429468095228,{"$f":"ROWS($A$3:A303)","v":301},"","",null,null,null,null,{"$f":"IFERROR(INDEX($F$3:$H$4612,$K303,COLUMNS($P$3:P303)),\"\")","v":""},""]
["Area Outside Region","    Clevedon","..","..",552,"Clevedon",49.9726314199999,11.046046292032566,{"$f":"ROWS($A$3:A304)","v":302},"","",null,null,null,null,{"$f":"IFERROR(INDEX($F$3:$H$4612,$K304,COLUMNS($P$3:P304)),\"\")","v":""},""]
["Area Outside Region","    Clifton","..","..",603,"Clifton",2.86310529,210.61048718889413,{"$f":"ROWS($A$3:A305)","v":303},"","",null,null,null,null,{"$f":"IFERROR(INDEX($F$3:$H$4612,$K305,COLUMNS($P$3:P305)),\"\")","v":""},""]
["Area Outside Region","    Clifton Hill","..","..",750,"Clifton Hill",2.5610454300000001,292.84915886868902,{"$f":"ROWS($A$3:A306)","v":304},"","",null,null,null,null,{"$f":"IFERROR(INDEX($F$3:$H$4612,$K306,COLUMNS($P$3:P306)),\"\")","v":""},""]
["Area Outside Region","    Clinton","..","..",537,"Clinton",839.69551044000002,0.63951753144257284,{"$f":"ROWS($A$3:A307)","v":305},"","",null,null,null,null,{"$f":"IFERROR(INDEX($F$3:$H$4612,$K307,COLUMNS($P$3:P307)),\"\")","v":""},""]
["Area Outside Region","    Clive","..","..",834,"Clive",14.866612460000001,56.098859255526726,{"$f":"ROWS($A$3:A308)","v":306},"","",null,null,null,null,{"$f":"IFERROR(INDEX($F$3:$H$4612,$K308,COLUMNS($P$3:P308)),\"\")","v":""},""]
["Area Outside Region","    Clouston Park","..","..",918,"Clouston Park",1.15083213,797.68367259610659,{"$f":"ROWS($A$3:A309)","v":307},"","",null,null,null,null,{"$f":"IFERROR(INDEX($F$3:$H$4612,$K309,COLUMNS($P$3:P309)),\"\")","v":""},""]
["Area Outside Region","    Clover Park North","..","..",972,"Clover Park North",0.92445239000000001,1051.433270673896,{"$f":"ROWS($A$3:A310)","v":308},"","",null,null,null,null,{"$f":"IFERROR(INDEX($F$3:$H$4612,$K310,COLUMNS($P$3:P310)),\"\")","v":""},""]
["Area Outside Region","    Clover Park South","..","..",1062,"Clover Park South",1.18316226,897.59455309198245,{"$f":"ROWS($A$3:A311)","v":309},"","",null,null,null,null,{"$f":"IFERROR(INDEX($F$3:$H$4612,$K311,COLUMNS($P$3:P311)),\"\")","v":""},""]
["Area Outside Region","    Cloverlea (Auckland)","..","..",927,"Cloverlea (Auckland)",2.3778181699999998,389.85319049858219,{"$f":"ROWS($A$3:A312)","v":310},"","",null,null,null,null,{"$f":"IFERROR(INDEX($F$3:$H$4612,$K312,COLUMNS($P$3:P312)),\"\")","v":""},""]
["Area Outside Region","    Cloverlea (Palmerston North City)","..","..",759,"Cloverlea (Palmerston North City)",0.67606911000000003,1122.6662907287689,{"$f":"ROWS($A$3:A313)","v":311},"","",null,null,null,null,{"$f":"IFERROR(INDEX($F$3:$H$4612,$K313,COLUMNS($P$3:P313)),\"\")","v":""},""]
["Area Outside Region","    Clutha Valley","..","..",663,"Clutha Valley",747.32722419000004,0.88716157867606238,{"$f":"ROWS($A$3:A314)","v":312},"","",null,null,null,null,{"$f":"IFERROR(INDEX($F$3:$H$4612,$K314,COLUMNS($P$3:P314)),\"\")","v":""},""]
["Area Outside Region","    Clyde","..","..",786,"Clyde",2.0846754500000002,377.03710666329374,{"$f":"ROWS($A$3:A315)","v":313},"","",null,null,null,null,{"$f":"IFERROR(INDEX($F$3:$H$4612,$K315,COLUMNS($P$3:P315)),\"\")","v":""},""]
["Area Outside Region","    Coastlands","..","..",630,"Coastlands",15.6626973599999,40.222956845793519,{"$f":"ROWS($A$3:A316)","v":314},"","",null,null,null,null,{"$f":"IFERROR(INDEX($F$3:$H$4612,$K316,COLUMNS($P$3:P316)),\"\")","v":""},""]
["Area Outside Region","    Coatesville","..","..",837,"Coatesville",24.366377180000001,34.350613298681601,{"$f":"ROWS($A$3:A317)","v":315},"","",null,null,null,null,{"$f":"IFERROR(INDEX($F$3:$H$4612,$K317,COLUMNS($P$3:P317)),\"\")","v":""},""]
["Area Outside Region","    Cobden","..","..",759,"Cobden",3.6756464900000001,206.49428666900988,{"$f":"ROWS($A$3:A318)","v":316},"","",null,null,null,null,{"$f":"IFERROR(INDEX($F$3:$H$4612,$K318,COLUMNS($P$3:P318)),\"\")","v":""},""]
["Area Outside Region","    Cockle Bay","..","..",1545,"Cockle Bay",1.7284271600000001,893.87625683919475,{"$f":"ROWS($A$3:A319)","v":317},"","",null,null,null,null,{"$f":"IFERROR(INDEX($F$3:$H$4612,$K319,COLUMNS($P$3:P319)),\"\")","v":""},""]
["Area Outside Region","    College Estate","..","..",513,"College Estate",1.35036588,379.89703946014987,{"$f":"ROWS($A$3:A320)","v":318},"","",null,null,null,null,{"$f":"IFERROR(INDEX($F$3:$H$4612,$K320,COLUMNS($P$3:P320)),\"\")","v":""},""]
["Area Outside Region","    Colville","..","..",1350,"Colville",542.61700960999895,2.4879426484811087,{"$f":"ROWS($A$3:A321)","v":319},"","",null,null,null,null,{"$f":"IFERROR(INDEX($F$3:$H$4612,$K321,COLUMNS($P$3:P321)),\"\")","v":""},""]
["Area Outside Region","    Concord","..","..",579,"Concord",1.16384066,497.49078194260716,{"$f":"ROWS($A$3:A322)","v":320},"","",null,null,null,null,{"$f":"IFERROR(INDEX($F$3:$H$4612,$K322,COLUMNS($P$3:P322)),\"\")","v":""},""]
["Area Outside Region","    Conifer Grove East","..","..",786,{"$f":"TRIM(B323)","v":"Conifer Grove East"},0.64940366999999999,{"$f":"E323/G323","v":1210.3411734645724},{"$f":"ROWS($A$3:A323)","v":321},{"$f":"IF(A323=$M$2,I324,\"\")","v":""},"",null,null,null,null,{"$f":"IFERROR(INDEX($F$3:$H$4612,$K323,COLUMNS($P$3:P323)),\"\")","v":""},""]
["Area Outside Region","    Conifer Grove West","..","..",822,"Conifer Grove West",1.5852456699999999,518.53161661687432,{"$f":"ROWS($A$3:A324)","v":322},"",{"$f":"IFERROR(SMALL($J$3:$J$4612,I324)-1,\"\")","v":""},null,null,null,null,{"$f":"IFERROR(INDEX($F$3:$H$4612,$K324,COLUMNS($P$3:P324)),\"\")","v":""},{"$f":"IFERROR(VLOOKUP(P324,$F:$H,3,FALSE),\"\")","v":""}]
["Area Outside Region","    Cooks Beach-Ferry Landing","..","..",1038,"Cooks Beach-Ferry Landing",2.6968010699999998,384.90047024491878,{"$f":"ROWS($A$3:A325)","v":323},"","",null,null,null,null,{"$f":"IFERROR(INDEX($F$3:$H$4612,$K325,COLUMNS($P$3:P325)),\"\")","v":""},""]
["Area Outside Region","    Cornmarket","..","..",810,"Cornmarket",0.62888431,1287.9952435130715,{"$f":"ROWS($A$3:A326)","v":324},"","",null,null,null,null,{"$f":"IFERROR(INDEX($F$3:$H$4612,$K326,COLUMNS($P$3:P326)),\"\")","v":""},""]
["Area Outside Region","    Cornwall Park","..","..",1218,"Cornwall Park",1.08344478,1124.1920423484803,{"$f":"ROWS($A$3:A327)","v":325},"","",null,null,null,null,{"$f":"IFERROR(INDEX($F$3:$H$4612,$K327,COLUMNS($P$3:P327)),\"\")","v":""},""]
["Area Outside Region","    Coromandel","..","..",1116,"Coromandel",10.86995774,102.66829243441015,{"$f":"ROWS($A$3:A328)","v":326},"","",null,null,null,null,{"$f":"IFERROR(INDEX($F$3:$H$4612,$K328,COLUMNS($P$3:P328)),\"\")","v":""},""]
["Area Outside Region","    Corstorphine","..","..",828,"Corstorphine",0.87071560000000003,950.94196084232317,{"$f":"ROWS($A$3:A329)","v":327},"","",null,null,null,null,{"$f":"IFERROR(INDEX($F$3:$H$4612,$K329,COLUMNS($P$3:P329)),\"\")","v":""},""]
["Area Outside Region","    Courtenay","..","..",966,"Courtenay",0.32440939000000002,2977.7189864941947,{"$f":"ROWS($A$3:A330)","v":328},"","",null,null,null,null,{"$f":"IFERROR(INDEX($F$3:$H$4612,$K330,COLUMNS($P$3:P330)),\"\")","v":""},""]
["Area Outside Region","    Craigieburn","..","..",531,"Craigieburn",3444.1023846100002,0.15417660124529917,{"$f":"ROWS($A$3:A331)","v":329},"","",null,null,null,null,{"$f":"IFERROR(INDEX($F$3:$H$4612,$K331,COLUMNS($P$3:P331)),\"\")","v":""},""]
["Area Outside Region","    Crawshaw","..","..",1023,"Crawshaw",0.86398333999999999,1184.0506091240138,{"$f":"ROWS($A$3:A332)","v":330},"","",null,null,null,null,{"$f":"IFERROR(INDEX($F$3:$H$4612,$K332,COLUMNS($P$3:P332)),\"\")","v":""},""]
["Area Outside Region","    Crinan","..","..",825,"Crinan",0.82389206000000004,1001.344763536136,{"$f":"ROWS($A$3:A333)","v":331},"","",null,null,null,null,{"$f":"IFERROR(INDEX($F$3:$H$4612,$K333,COLUMNS($P$3:P333)),\"\")","v":""},""]
["Area Outside Region","    Crofton Downs","..","..",660,"Crofton Downs",1.3105306299999999,503.61279995416822,{"$f":"ROWS($A$3:A334)","v":332},"","",null,null,null,null,{"$f":"IFERROR(INDEX($F$3:$H$4612,$K334,COLUMNS($P$3:P334)),\"\")","v":""},""]
["Area Outside Region","    Cromwell East","..","..",1305,"Cromwell East",3.5948951500000002,363.01475997151124,{"$f":"ROWS($A$3:A335)","v":333},"","",null,null,null,null,{"$f":"IFERROR(INDEX($F$3:$H$4612,$K335,COLUMNS($P$3:P335)),\"\")","v":""},""]
["Area Outside Region","    Cromwell West","..","..",1431,"Cromwell West",12.03499822,118.90321658892609,{"$f":"ROWS($A$3:A336)","v":334},"","",null,null,null,null,{"$f":"IFERROR(INDEX($F$3:$H$4612,$K336,COLUMNS($P$3:P336)),\"\")","v":""},""]
["Area Outside Region","    Daelyn","..","..",333,"Daelyn",1.47284031,226.09375757783272,{"$f":"ROWS($A$3:A337)","v":335},"","",null,null,null,null,{"$f":"IFERROR(INDEX($F$3:$H$4612,$K337,COLUMNS($P$3:P337)),\"\")","v":""},""]
["Area Outside Region","    Dairy Flat North","..","..",624,"Dairy Flat North",22.968999669999899,27.167051633293994,{"$f":"ROWS($A$3:A338)","v":336},"","",null,null,null,null,{"$f":"IFERROR(INDEX($F$3:$H$4612,$K338,COLUMNS($P$3:P338)),\"\")","v":""},""]
["Area Outside Region","    Dairy Flat South","..","..",585,"Dairy Flat South",15.21709972,38.443593770442874,{"$f":"ROWS($A$3:A339)","v":337},"","",null,null,null,null,{"$f":"IFERROR(INDEX($F$3:$H$4612,$K339,COLUMNS($P$3:P339)),\"\")","v":""},""]
["Area Outside Region","    Dairy Flat West","..","..",534,"Dairy Flat West",30.979788589999899,17.237044676682274,{"$f":"ROWS($A$3:A340)","v":338},"","",null,null,null,null,{"$f":"IFERROR(INDEX($F$3:$H$4612,$K340,COLUMNS($P$3:P340)),\"\")","v":""},""]
["Area Outside Region","    Dallington","..","..",984,"Dallington",0.84120136000000001,1169.7555981126802,{"$f":"ROWS($A$3:A341)","v":339},"","",null,null,null,null,{"$f":"IFERROR(INDEX($F$3:$H$4612,$K341,COLUMNS($P$3:P341)),\"\")","v":""},""]
["Area Outside Region","    Dannemora North","..","..",684,"Dannemora North",0.54899463000000004,1245.9138261516327,{"$f":"ROWS($A$3:A342)","v":340},"","",null,null,null,null,{"$f":"IFERROR(INDEX($F$3:$H$4612,$K342,COLUMNS($P$3:P342)),\"\")","v":""},""]
["Area Outside Region","    Dannemora South","..","..",711,"Dannemora South",0.63838550999999999,1113.7470836391635,{"$f":"ROWS($A$3:A343)","v":341},"","",null,null,null,null,{"$f":"IFERROR(INDEX($F$3:$H$4612,$K343,COLUMNS($P$3:P343)),\"\")","v":""},""]
["Area Outside Region","    Dannevirke East","..","..",1431,"Dannevirke East",4.73903491,301.96021493329744,{"$f":"ROWS($A$3:A344)","v":342},"","",null,null,null,null,{"$f":"IFERROR(INDEX($F$3:$H$4612,$K344,COLUMNS($P$3:P344)),\"\")","v":""},""]
["Area Outside Region","    Dannevirke West","..","..",951,"Dannevirke West",2.0739380500000002,458.5479301081341,{"$f":"ROWS($A$3:A345)","v":343},"","",null,null,null,null,{"$f":"IFERROR(INDEX($F$3:$H$4612,$K345,COLUMNS($P$3:P345)),\"\")","v":""},""]
["Area Outside Region","    Danseys Pass","..","..",570,"Danseys Pass",711.49240440000005,0.80113293757602333,{"$f":"ROWS($A$3:A346)","v":344},"","",null,null,null,null,{"$f":"IFERROR(INDEX($F$3:$H$4612,$K346,COLUMNS($P$3:P346)),\"\")","v":""},""]
["Area Outside Region","    Darfield","..","..",1137,"Darfield",15.14334504,75.082486530994345,{"$f":"ROWS($A$3:A347)","v":345},"","",null,null,null,null,{"$f":"IFERROR(INDEX($F$3:$H$4612,$K347,COLUMNS($P$3:P347)),\"\")","v":""},""]
["Area Outside Region","    Dargaville","..","..",2040,"Dargaville",12.55839585,162.44112897587951,{"$f":"ROWS($A$3:A348)","v":346},"","",null,null,null,null,{"$f":"IFERROR(INDEX($F$3:$H$4612,$K348,COLUMNS($P$3:P348)),\"\")","v":""},""]
["Area Outside Region","    Deans Bush","..","..",1029,"Deans Bush",1.25176702,822.03795399562455,{"$f":"ROWS($A$3:A349)","v":347},"","",null,null,null,null,{"$f":"IFERROR(INDEX($F$3:$H$4612,$K349,COLUMNS($P$3:P349)),\"\")","v":""},""]
["Area Outside Region","    Deanwell","..","..",696,"Deanwell",0.67020491999999998,1038.4883477131143,{"$f":"ROWS($A$3:A350)","v":348},"","",null,null,null,null,{"$f":"IFERROR(INDEX($F$3:$H$4612,$K350,COLUMNS($P$3:P350)),\"\")","v":""},""]
["Area Outside Region","    Delaney","..","..",909,"Delaney",2.0684293,439.4638965905192,{"$f":"ROWS($A$3:A351)","v":349},"","",null,null,null,null,{"$f":"IFERROR(INDEX($F$3:$H$4612,$K351,COLUMNS($P$3:P351)),\"\")","v":""},""]
["Area Outside Region","    Devonport","..","..",1410,"Devonport",1.0789483799999999,1306.8280430617081,{"$f":"ROWS($A$3:A352)","v":350},"","",null,null,null,null,{"$f":"IFERROR(INDEX($F$3:$H$4612,$K352,COLUMNS($P$3:P352)),\"\")","v":""},""]
["Area Outside Region","    Diamond Harbour","..","..",948,"Diamond Harbour",4.0645197800000004,233.2378857312388,{"$f":"ROWS($A$3:A353)","v":351},"","",null,null,null,null,{"$f":"IFERROR(INDEX($F$3:$H$4612,$K353,COLUMNS($P$3:P353)),\"\")","v":""},""]
["Area Outside Region","    Dingwall","..","..",960,"Dingwall",0.82717379999999996,1160.5783452038738,{"$f":"ROWS($A$3:A354)","v":352},"","",null,null,null,null,{"$f":"IFERROR(INDEX($F$3:$H$4612,$K354,COLUMNS($P$3:P354)),\"\")","v":""},""]
["Area Outside Region","    Dinsdale North","..","..",1578,"Dinsdale North",1.52121058,1037.3317282607909,{"$f":"ROWS($A$3:A355)","v":353},"","",null,null,null,null,{"$f":"IFERROR(INDEX($F$3:$H$4612,$K355,COLUMNS($P$3:P355)),\"\")","v":""},""]
["Area Outside Region","    Dinsdale South","..","..",1494,"Dinsdale South",1.56104917,957.04864953100741,{"$f":"ROWS($A$3:A356)","v":354},"","",null,null,null,null,{"$f":"IFERROR(INDEX($F$3:$H$4612,$K356,COLUMNS($P$3:P356)),\"\")","v":""},""]
["Area Outside Region","    Dixon Street","..","..",1827,"Dixon Street",0.30273105,6035.0598328119959,{"$f":"ROWS($A$3:A357)","v":355},"","",null,null,null,null,{"$f":"IFERROR(INDEX($F$3:$H$4612,$K357,COLUMNS($P$3:P357)),\"\")","v":""},""]
["Area Outside Region","    Dobson","..","..",393,"Dobson",169.89479682000001,2.3131962093952487,{"$f":"ROWS($A$3:A358)","v":356},"","",null,null,null,null,{"$f":"IFERROR(INDEX($F$3:$H$4612,$K358,COLUMNS($P$3:P358)),\"\")","v":""},""]
["Area Outside Region","    Dome Valley-Matakana","..","..",651,"Dome Valley-Matakana",84.749965799999899,7.6814190289620248,{"$f":"ROWS($A$3:A359)","v":357},"","",null,null,null,null,{"$f":"IFERROR(INDEX($F$3:$H$4612,$K359,COLUMNS($P$3:P359)),\"\")","v":""},""]
["Area Outside Region","    Doncaster","..","..",1155,"Doncaster",2.3357964,494.4780289925954,{"$f":"ROWS($A$3:A360)","v":358},"","",null,null,null,null,{"$f":"IFERROR(INDEX($F$3:$H$4612,$K360,COLUMNS($P$3:P360)),\"\")","v":""},""]
["Area Outside Region","    Donegal Park","..","..",888,"Donegal Park",0.90762779999999998,978.37461567395803,{"$f":"ROWS($A$3:A361)","v":359},"","",null,null,null,null,{"$f":"IFERROR(INDEX($F$3:$H$4612,$K361,COLUMNS($P$3:P361)),\"\")","v":""},""]
["Area Outside Region","    Donnelly Park","..","..",486,"Donnelly Park",1.90373975,255.28699497922446,{"$f":"ROWS($A$3:A362)","v":360},"","",null,null,null,null,{"$f":"IFERROR(INDEX($F$3:$H$4612,$K362,COLUMNS($P$3:P362)),\"\")","v":""},""]
["Area Outside Region","    Donovan Park","..","..",1053,"Donovan Park",2.9310116800000001,359.26161850027154,{"$f":"ROWS($A$3:A363)","v":361},"","",null,null,null,null,{"$f":"IFERROR(INDEX($F$3:$H$4612,$K363,COLUMNS($P$3:P363)),\"\")","v":""},""]
["Area Outside Region","    Douglas","..","..",300,"Douglas",1010.45329582,0.29689645354320399,{"$f":"ROWS($A$3:A364)","v":362},"","",null,null,null,null,{"$f":"IFERROR(INDEX($F$3:$H$4612,$K364,COLUMNS($P$3:P364)),\"\")","v":""},""]
["Area Outside Region","    Douglas Park","..","..",876,"Douglas Park",1.20827639,724.99968322645122,{"$f":"ROWS($A$3:A365)","v":363},"","",null,null,null,null,{"$f":"IFERROR(INDEX($F$3:$H$4612,$K365,COLUMNS($P$3:P365)),\"\")","v":""},""]
["Area Outside Region","    Drury","..","..",411,"Drury",10.3915445,39.55138718791995,{"$f":"ROWS($A$3:A366)","v":364},"","",null,null,null,null,{"$f":"IFERROR(INDEX($F$3:$H$4612,$K366,COLUMNS($P$3:P366)),\"\")","v":""},""]
["Area Outside Region","    Drury Rural","..","..",1020,"Drury Rural",36.009072179999897,28.326194990564815,{"$f":"ROWS($A$3:A367)","v":365},"","",null,null,null,null,{"$f":"IFERROR(INDEX($F$3:$H$4612,$K367,COLUMNS($P$3:P367)),\"\")","v":""},""]
["Area Outside Region","    Dunedin Central","..","..",867,"Dunedin Central",1.3070742,663.3135287958404,{"$f":"ROWS($A$3:A368)","v":366},"","",null,null,null,null,{"$f":"IFERROR(INDEX($F$3:$H$4612,$K368,COLUMNS($P$3:P368)),\"\")","v":""},""]
["Area Outside Region","    Dunstan-Galloway","..","..",702,"Dunstan-Galloway",444.83920098999897,1.5780983295484847,{"$f":"ROWS($A$3:A369)","v":367},"","",null,null,null,null,{"$f":"IFERROR(INDEX($F$3:$H$4612,$K369,COLUMNS($P$3:P369)),\"\")","v":""},""]
["Area Outside Region","    Ealing-Lowcliffe","..","..",714,"Ealing-Lowcliffe",413.21879131999901,1.7278981861380895,{"$f":"ROWS($A$3:A370)","v":368},"","",null,null,null,null,{"$f":"IFERROR(INDEX($F$3:$H$4612,$K370,COLUMNS($P$3:P370)),\"\")","v":""},""]
["Area Outside Region","    Earnscleugh","..","..",324,"Earnscleugh",391.85139420000002,0.82684406587725745,{"$f":"ROWS($A$3:A371)","v":369},"","",null,null,null,null,{"$f":"IFERROR(INDEX($F$3:$H$4612,$K371,COLUMNS($P$3:P371)),\"\")","v":""},""]
["Area Outside Region","    Easby Park","..","..",1053,"Easby Park",1.1287975400000001,932.85107619919154,{"$f":"ROWS($A$3:A372)","v":370},"","",null,null,null,null,{"$f":"IFERROR(INDEX($F$3:$H$4612,$K372,COLUMNS($P$3:P372)),\"\")","v":""},""]
["Area Outside Region","    East Cape","..","..",678,"East Cape",991.27175774,0.68396985458939319,{"$f":"ROWS($A$3:A373)","v":371},"","",null,null,null,null,{"$f":"IFERROR(INDEX($F$3:$H$4612,$K373,COLUMNS($P$3:P373)),\"\")","v":""},""]
["Area Outside Region","    East Gore","..","..",645,"East Gore",3.69861291,174.38970113798689,{"$f":"ROWS($A$3:A374)","v":372},"","",null,null,null,null,{"$f":"IFERROR(INDEX($F$3:$H$4612,$K374,COLUMNS($P$3:P374)),\"\")","v":""},""]
["Area Outside Region","    East Taieri","..","..",843,"East Taieri",3.1199621099999999,270.19558900989347,{"$f":"ROWS($A$3:A375)","v":373},"","",null,null,null,null,{"$f":"IFERROR(INDEX($F$3:$H$4612,$K375,COLUMNS($P$3:P375)),\"\")","v":""},""]
["Area Outside Region","    East Tamaki","..","..",150,"East Tamaki",7.7748782199999997,19.292906686839398,{"$f":"ROWS($A$3:A376)","v":374},"","",null,null,null,null,{"$f":"IFERROR(INDEX($F$3:$H$4612,$K376,COLUMNS($P$3:P376)),\"\")","v":""},""]
["Area Outside Region","    East Tamaki Heights","..","..",867,"East Tamaki Heights",1.2313811299999999,704.08745016256671,{"$f":"ROWS($A$3:A377)","v":375},"","",null,null,null,null,{"$f":"IFERROR(INDEX($F$3:$H$4612,$K377,COLUMNS($P$3:P377)),\"\")","v":""},""]
["Area Outside Region","    Eastbourne","..","..",1188,"Eastbourne",1.9275011399999999,616.34204792221294,{"$f":"ROWS($A$3:A378)","v":376},"","",null,null,null,null,{"$f":"IFERROR(INDEX($F$3:$H$4612,$K378,COLUMNS($P$3:P378)),\"\")","v":""},""]
["Area Outside Region","    Eastern Bays","..","..",888,"Eastern Bays",1.92632015,460.98256304903418,{"$f":"ROWS($A$3:A379)","v":377},"","",null,null,null,null,{"$f":"IFERROR(INDEX($F$3:$H$4612,$K379,COLUMNS($P$3:P379)),\"\")","v":""},""]
["Area Outside Region","    Eastern Bays-Banks Peninsula","..","..",624,"Eastern Bays-Banks Peninsula",368.25130116000003,1.6944950310681475,{"$f":"ROWS($A$3:A380)","v":378},"","",null,null,null,null,{"$f":"IFERROR(INDEX($F$3:$H$4612,$K380,COLUMNS($P$3:P380)),\"\")","v":""},""]
["Area Outside Region","    Eastern Beach","..","..",834,"Eastern Beach",1.1808903799999999,706.24675594359576,{"$f":"ROWS($A$3:A381)","v":379},"","",null,null,null,null,{"$f":"IFERROR(INDEX($F$3:$H$4612,$K381,COLUMNS($P$3:P381)),\"\")","v":""},""]
["Area Outside Region","    Ebdentown","..","..",1113,"Ebdentown",0.91106542000000001,1221.6466299423371,{"$f":"ROWS($A$3:A382)","v":380},"","",null,null,null,null,{"$f":"IFERROR(INDEX($F$3:$H$4612,$K382,COLUMNS($P$3:P382)),\"\")","v":""},""]
["Area Outside Region","    Eden Park","..","..",621,"Eden Park",0.50617462000000002,1226.8493430192134,{"$f":"ROWS($A$3:A383)","v":381},"","",null,null,null,null,{"$f":"IFERROR(INDEX($F$3:$H$4612,$K383,COLUMNS($P$3:P383)),\"\")","v":""},""]
["Area Outside Region","    Eden Terrace","..","..",2502,"Eden Terrace",0.84042413999999999,2977.0682217671665,{"$f":"ROWS($A$3:A384)","v":382},"","",null,null,null,null,{"$f":"IFERROR(INDEX($F$3:$H$4612,$K384,COLUMNS($P$3:P384)),\"\")","v":""},""]
["Area Outside Region","    Eden Valley","..","..",837,"Eden Valley",0.58402708000000003,1433.152722986749,{"$f":"ROWS($A$3:A385)","v":383},"","",null,null,null,null,{"$f":"IFERROR(INDEX($F$3:$H$4612,$K385,COLUMNS($P$3:P385)),\"\")","v":""},""]
["Area Outside Region","    Edendale-Woodlands","..","..",969,"Edendale-Woodlands",385.08923743999901,2.5162998749114105,{"$f":"ROWS($A$3:A386)","v":384},"","",null,null,null,null,{"$f":"IFERROR(INDEX($F$3:$H$4612,$K386,COLUMNS($P$3:P386)),\"\")","v":""},""]
["Area Outside Region","    Edgecumbe","..","..",642,{"$f":"TRIM(B387)","v":"Edgecumbe"},2.0080643899999999,{"$f":"E387/G387","v":319.71086345493137},{"$f":"ROWS($A$3:A387)","v":385},{"$f":"IF(A387=$M$2,I388,\"\")","v":""},"",null,null,null,null,{"$f":"IFERROR(INDEX($F$3:$H$4612,$K387,COLUMNS($P$3:P387)),\"\")","v":""},""]
["Area Outside Region","    Edgeware","..","..",2091,"Edgeware",1.01462724,2060.8553738415303,{"$f":"ROWS($A$3:A388)","v":386},"",{"$f":"IFERROR(SMALL($J$3:$J$4612,I388)-1,\"\")","v":""},null,null,null,null,{"$f":"IFERROR(INDEX($F$3:$H$4612,$K388,COLUMNS($P$3:P388)),\"\")","v":""},{"$f":"IFERROR(VLOOKUP(P388,$F:$H,3,FALSE),\"\")","v":""}]
["Area Outside Region","    Egmont Showgrounds","..","..",699,"Egmont Showgrounds",4.4012289899999999,158.81927561328729,{"$f":"ROWS($A$3:A389)","v":387},"","",null,null,null,null,{"$f":"IFERROR(INDEX($F$3:$H$4612,$K389,COLUMNS($P$3:P389)),\"\")","v":""},""]
["Area Outside Region","    Eiffelton","..","..",981,"Eiffelton",434.14812511000002,2.2595974582441056,{"$f":"ROWS($A$3:A390)","v":388},"","",null,null,null,null,{"$f":"IFERROR(INDEX($F$3:$H$4612,$K390,COLUMNS($P$3:P390)),\"\")","v":""},""]
["Area Outside Region","    Elderslea","..","..",1296,"Elderslea",1.39533858,928.80682765899007,{"$f":"ROWS($A$3:A391)","v":389},"","",null,null,null,null,{"$f":"IFERROR(INDEX($F$3:$H$4612,$K391,COLUMNS($P$3:P391)),\"\")","v":""},""]
["Area Outside Region","    Elgin","..","..",903,"Elgin",1.0445589399999999,864.47970087738668,{"$f":"ROWS($A$3:A392)","v":390},"","",null,null,null,null,{"$f":"IFERROR(INDEX($F$3:$H$4612,$K392,COLUMNS($P$3:P392)),\"\")","v":""},""]
["Area Outside Region","    Elizabeth Park","..","..",483,"Elizabeth Park",1.0304344400000001,468.73433306441115,{"$f":"ROWS($A$3:A393)","v":391},"","",null,null,null,null,{"$f":"IFERROR(INDEX($F$3:$H$4612,$K393,COLUMNS($P$3:P393)),\"\")","v":""},""]
["Area Outside Region","    Ellerslie Central","..","..",1206,"Ellerslie Central",1.49407522,807.18827529982059,{"$f":"ROWS($A$3:A394)","v":392},"","",null,null,null,null,{"$f":"IFERROR(INDEX($F$3:$H$4612,$K394,COLUMNS($P$3:P394)),\"\")","v":""},""]
["Area Outside Region","    Ellerslie East","..","..",1224,"Ellerslie East",0.75498158999999998,1621.2315852628938,{"$f":"ROWS($A$3:A395)","v":393},"","",null,null,null,null,{"$f":"IFERROR(INDEX($F$3:$H$4612,$K395,COLUMNS($P$3:P395)),\"\")","v":""},""]
["Area Outside Region","    Ellerslie South","..","..",1002,"Ellerslie South",0.82740694999999997,1211.0123077888095,{"$f":"ROWS($A$3:A396)","v":394},"","",null,null,null,null,{"$f":"IFERROR(INDEX($F$3:$H$4612,$K396,COLUMNS($P$3:P396)),\"\")","v":""},""]
["Area Outside Region","    Ellerslie West","..","..",63,"Ellerslie West",0.39993535000000002,157.52546005248098,{"$f":"ROWS($A$3:A397)","v":395},"","",null,null,null,null,{"$f":"IFERROR(INDEX($F$3:$H$4612,$K397,COLUMNS($P$3:P397)),\"\")","v":""},""]
["Area Outside Region","    Elsdon-Takapuwahia","..","..",750,"Elsdon-Takapuwahia",10.29954961,72.818718138103137,{"$f":"ROWS($A$3:A398)","v":396},"","",null,null,null,null,{"$f":"IFERROR(INDEX($F$3:$H$4612,$K398,COLUMNS($P$3:P398)),\"\")","v":""},""]
["Area Outside Region","    Eltham","..","..",867,"Eltham",3.4120219000000001,254.10153434243784,{"$f":"ROWS($A$3:A399)","v":397},"","",null,null,null,null,{"$f":"IFERROR(INDEX($F$3:$H$4612,$K399,COLUMNS($P$3:P399)),\"\")","v":""},""]
["Area Outside Region","    Endeavour","..","..",1563,"Endeavour",3.1225652899999998,500.54998209501014,{"$f":"ROWS($A$3:A400)","v":398},"","",null,null,null,null,{"$f":"IFERROR(INDEX($F$3:$H$4612,$K400,COLUMNS($P$3:P400)),\"\")","v":""},""]
["Area Outside Region","    Enderley North","..","..",735,"Enderley North",0.69456728999999995,1058.2128046945604,{"$f":"ROWS($A$3:A401)","v":399},"","",null,null,null,null,{"$f":"IFERROR(INDEX($F$3:$H$4612,$K401,COLUMNS($P$3:P401)),\"\")","v":""},""]
["Area Outside Region","    Enderley South","..","..",1011,"Enderley South",0.76575360000000003,1320.2680339994483,{"$f":"ROWS($A$3:A402)","v":400},"","",null,null,null,null,{"$f":"IFERROR(INDEX($F$3:$H$4612,$K402,COLUMNS($P$3:P402)),\"\")","v":""},""]
["Area Outside Region","    Enner Glynn","..","..",1167,"Enner Glynn",7.0559301899999998,165.3927928104969,{"$f":"ROWS($A$3:A403)","v":401},"","",null,null,null,null,{"$f":"IFERROR(INDEX($F$3:$H$4612,$K403,COLUMNS($P$3:P403)),\"\")","v":""},""]
["Area Outside Region","    Ensors","..","..",996,"Ensors",0.87364461000000004,1140.0516738722854,{"$f":"ROWS($A$3:A404)","v":402},"","",null,null,null,null,{"$f":"IFERROR(INDEX($F$3:$H$4612,$K404,COLUMNS($P$3:P404)),\"\")","v":""},""]
["Area Outside Region","    Epsom Central-North","..","..",1290,"Epsom Central-North",1.10588807,1166.4833313555864,{"$f":"ROWS($A$3:A405)","v":403},"","",null,null,null,null,{"$f":"IFERROR(INDEX($F$3:$H$4612,$K405,COLUMNS($P$3:P405)),\"\")","v":""},""]
["Area Outside Region","    Epsom Central-South","..","..",1281,"Epsom Central-South",0.98346491999999996,1302.5375628039687,{"$f":"ROWS($A$3:A406)","v":404},"","",null,null,null,null,{"$f":"IFERROR(INDEX($F$3:$H$4612,$K406,COLUMNS($P$3:P406)),\"\")","v":""},""]
["Area Outside Region","    Epsom East","..","..",828,"Epsom East",1.2682103899999999,652.88851639198447,{"$f":"ROWS($A$3:A407)","v":405},"","",null,null,null,null,{"$f":"IFERROR(INDEX($F$3:$H$4612,$K407,COLUMNS($P$3:P407)),\"\")","v":""},""]
["Area Outside Region","    Epsom North","..","..",1269,"Epsom North",1.0762293000000001,1179.11675513759,{"$f":"ROWS($A$3:A408)","v":406},"","",null,null,null,null,{"$f":"IFERROR(INDEX($F$3:$H$4612,$K408,COLUMNS($P$3:P408)),\"\")","v":""},""]
["Area Outside Region","    Epsom South","..","..",828,"Epsom South",0.59629984999999996,1388.5631532525122,{"$f":"ROWS($A$3:A409)","v":407},"","",null,null,null,null,{"$f":"IFERROR(INDEX($F$3:$H$4612,$K409,COLUMNS($P$3:P409)),\"\")","v":""},""]
["Area Outside Region","    Epuni East","..","..",1167,"Epuni East",1.00387735,1162.4926092814028,{"$f":"ROWS($A$3:A410)","v":408},"","",null,null,null,null,{"$f":"IFERROR(INDEX($F$3:$H$4612,$K410,COLUMNS($P$3:P410)),\"\")","v":""},""]
["Area Outside Region","    Epuni West","..","..",1248,"Epuni West",0.98698622999999996,1264.4553308509685,{"$f":"ROWS($A$3:A411)","v":409},"","",null,null,null,null,{"$f":"IFERROR(INDEX($F$3:$H$4612,$K411,COLUMNS($P$3:P411)),\"\")","v":""},""]
["Area Outside Region","    Esplanade","..","..",852,"Esplanade",1.3057584799999999,652.49432651588063,{"$f":"ROWS($A$3:A412)","v":410},"","",null,null,null,null,{"$f":"IFERROR(INDEX($F$3:$H$4612,$K412,COLUMNS($P$3:P412)),\"\")","v":""},""]
["Area Outside Region","    Eureka-Tauwhare","..","..",744,"Eureka-Tauwhare",135.54653096000001,5.4888900123866362,{"$f":"ROWS($A$3:A413)","v":411},"","",null,null,null,null,{"$f":"IFERROR(INDEX($F$3:$H$4612,$K413,COLUMNS($P$3:P413)),\"\")","v":""},""]
["Area Outside Region","    Evans Bay","..","..",468,"Evans Bay",0.35073762000000003,1334.330774098313,{"$f":"ROWS($A$3:A414)","v":412},"","",null,null,null,null,{"$f":"IFERROR(INDEX($F$3:$H$4612,$K414,COLUMNS($P$3:P414)),\"\")","v":""},""]
["Area Outside Region","    Everett Park","..","..",810,"Everett Park",236.51532649999899,3.4247252048589902,{"$f":"ROWS($A$3:A415)","v":413},"","",null,null,null,null,{"$f":"IFERROR(INDEX($F$3:$H$4612,$K415,COLUMNS($P$3:P415)),\"\")","v":""},""]
["Area Outside Region","    Eyrewell","..","..",690,"Eyrewell",272.10910639000002,2.5357475505103397,{"$f":"ROWS($A$3:A416)","v":414},"","",null,null,null,null,{"$f":"IFERROR(INDEX($F$3:$H$4612,$K416,COLUMNS($P$3:P416)),\"\")","v":""},""]
["Area Outside Region","    Fairfield (Dunedin City)","..","..",969,"Fairfield (Dunedin City)",3.9557389000000001,244.96055591535628,{"$f":"ROWS($A$3:A417)","v":415},"","",null,null,null,null,{"$f":"IFERROR(INDEX($F$3:$H$4612,$K417,COLUMNS($P$3:P417)),\"\")","v":""},""]
["Area Outside Region","    Fairfield (Hamilton City)","..","..",1524,"Fairfield (Hamilton City)",1.3991068900000001,1089.2663104532348,{"$f":"ROWS($A$3:A418)","v":416},"","",null,null,null,null,{"$f":"IFERROR(INDEX($F$3:$H$4612,$K418,COLUMNS($P$3:P418)),\"\")","v":""},""]
["Area Outside Region","    Fairfield (Horowhenua District)","..","..",603,"Fairfield (Horowhenua District)",1.7385480099999999,346.84115510850921,{"$f":"ROWS($A$3:A419)","v":417},"","",null,null,null,null,{"$f":"IFERROR(INDEX($F$3:$H$4612,$K419,COLUMNS($P$3:P419)),\"\")","v":""},""]
["Area Outside Region","    Fairlie","..","..",492,"Fairlie",4.9541258800000003,99.311162436591133,{"$f":"ROWS($A$3:A420)","v":418},"","",null,null,null,null,{"$f":"IFERROR(INDEX($F$3:$H$4612,$K420,COLUMNS($P$3:P420)),\"\")","v":""},""]
["Area Outside Region","    Fairose","..","..",723,"Fairose",1.4210516799999999,508.77811847068085,{"$f":"ROWS($A$3:A421)","v":419},"","",null,null,null,null,{"$f":"IFERROR(INDEX($F$3:$H$4612,$K421,COLUMNS($P$3:P421)),\"\")","v":""},""]
["Area Outside Region","    Fairview","..","..",666,"Fairview",98.367994460000006,6.7704948510546261,{"$f":"ROWS($A$3:A422)","v":420},"","",null,null,null,null,{"$f":"IFERROR(INDEX($F$3:$H$4612,$K422,COLUMNS($P$3:P422)),\"\")","v":""},""]
["Area Outside Region","    Fairview Downs","..","..",1071,"Fairview Downs",1.12334837,953.39970093159968,{"$f":"ROWS($A$3:A423)","v":421},"","",null,null,null,null,{"$f":"IFERROR(INDEX($F$3:$H$4612,$K423,COLUMNS($P$3:P423)),\"\")","v":""},""]
["Area Outside Region","    Fairview Heights","..","..",1188,"Fairview Heights",1.60195262,741.59496677248796,{"$f":"ROWS($A$3:A424)","v":422},"","",null,null,null,null,{"$f":"IFERROR(INDEX($F$3:$H$4612,$K424,COLUMNS($P$3:P424)),\"\")","v":""},""]
["Area Outside Region","    Fairy Springs","..","..",651,"Fairy Springs",0.73745494,882.76579990094035,{"$f":"ROWS($A$3:A425)","v":423},"","",null,null,null,null,{"$f":"IFERROR(INDEX($F$3:$H$4612,$K425,COLUMNS($P$3:P425)),\"\")","v":""},""]
["Area Outside Region","    Farm Cove","..","..",882,"Farm Cove",0.97579917000000005,903.87451344112128,{"$f":"ROWS($A$3:A426)","v":424},"","",null,null,null,null,{"$f":"IFERROR(INDEX($F$3:$H$4612,$K426,COLUMNS($P$3:P426)),\"\")","v":""},""]
["Area Outside Region","    Favona East","..","..",729,"Favona East",0.63568422999999996,1146.7957919925118,{"$f":"ROWS($A$3:A427)","v":425},"","",null,null,null,null,{"$f":"IFERROR(INDEX($F$3:$H$4612,$K427,COLUMNS($P$3:P427)),\"\")","v":""},""]
["Area Outside Region","    Favona North","..","..",669,"Favona North",1.10911439,603.1839511161694,{"$f":"ROWS($A$3:A428)","v":426},"","",null,null,null,null,{"$f":"IFERROR(INDEX($F$3:$H$4612,$K428,COLUMNS($P$3:P428)),\"\")","v":""},""]
["Area Outside Region","    Favona West","..","..",666,"Favona West",0.85944156999999999,774.92179020384128,{"$f":"ROWS($A$3:A429)","v":427},"","",null,null,null,null,{"$f":"IFERROR(INDEX($F$3:$H$4612,$K429,COLUMNS($P$3:P429)),\"\")","v":""},""]
["Area Outside Region","    Featherston","..","..",1176,"Featherston",3.1817131500000002,369.61220089875167,{"$f":"ROWS($A$3:A430)","v":428},"","",null,null,null,null,{"$f":"IFERROR(INDEX($F$3:$H$4612,$K430,COLUMNS($P$3:P430)),\"\")","v":""},""]
["Area Outside Region","    Feilding Central","..","..",390,"Feilding Central",4.9185397200000001,79.291826883935386,{"$f":"ROWS($A$3:A431)","v":429},"","",null,null,null,null,{"$f":"IFERROR(INDEX($F$3:$H$4612,$K431,COLUMNS($P$3:P431)),\"\")","v":""},""]
["Area Outside Region","    Fencourt","..","..",261,"Fencourt",25.209913669999899,10.353069963527608,{"$f":"ROWS($A$3:A432)","v":430},"","",null,null,null,null,{"$f":"IFERROR(INDEX($F$3:$H$4612,$K432,COLUMNS($P$3:P432)),\"\")","v":""},""]
["Area Outside Region","    Fendalton","..","..",861,"Fendalton",0.92187576999999998,933.96532159642288,{"$f":"ROWS($A$3:A433)","v":431},"","",null,null,null,null,{"$f":"IFERROR(INDEX($F$3:$H$4612,$K433,COLUMNS($P$3:P433)),\"\")","v":""},""]
["Area Outside Region","    Fenton Park","..","..",774,"Fenton Park",1.0054445299999999,769.80875314921661,{"$f":"ROWS($A$3:A434)","v":432},"","",null,null,null,null,{"$f":"IFERROR(INDEX($F$3:$H$4612,$K434,COLUMNS($P$3:P434)),\"\")","v":""},""]
["Area Outside Region","    Ferguson","..","..",891,"Ferguson",0.98687784999999995,902.8472976670821,{"$f":"ROWS($A$3:A435)","v":433},"","",null,null,null,null,{"$f":"IFERROR(INDEX($F$3:$H$4612,$K435,COLUMNS($P$3:P435)),\"\")","v":""},""]
["Area Outside Region","    Ferndale","..","..",285,"Ferndale",1.7914278100000001,159.09097671091752,{"$f":"ROWS($A$3:A436)","v":434},"","",null,null,null,null,{"$f":"IFERROR(INDEX($F$3:$H$4612,$K436,COLUMNS($P$3:P436)),\"\")","v":""},""]
["Area Outside Region","    Fernhill","..","..",798,"Fernhill",0.79443960999999996,1004.4816370623817,{"$f":"ROWS($A$3:A437)","v":435},"","",null,null,null,null,{"$f":"IFERROR(INDEX($F$3:$H$4612,$K437,COLUMNS($P$3:P437)),\"\")","v":""},""]
["Area Outside Region","    Fernside","..","..",495,"Fernside",41.47828011,11.933956728371204,{"$f":"ROWS($A$3:A438)","v":436},"","",null,null,null,null,{"$f":"IFERROR(INDEX($F$3:$H$4612,$K438,COLUMNS($P$3:P438)),\"\")","v":""},""]
["Area Outside Region","    Fiordland","..","..",189,"Fiordland",12042.358235399901,1.5694600368589991E-2,{"$f":"ROWS($A$3:A439)","v":437},"","",null,null,null,null,{"$f":"IFERROR(INDEX($F$3:$H$4612,$K439,COLUMNS($P$3:P439)),\"\")","v":""},""]
["Area Outside Region","    Fitzroy","..","..",1131,"Fitzroy",1.4894601700000001,759.33551146923242,{"$f":"ROWS($A$3:A440)","v":438},"","",null,null,null,null,{"$f":"IFERROR(INDEX($F$3:$H$4612,$K440,COLUMNS($P$3:P440)),\"\")","v":""},""]
["Area Outside Region","    Fitzroy-Glen Avon","..","..",1500,"Fitzroy-Glen Avon",16.9809194199999,88.334439549446301,{"$f":"ROWS($A$3:A441)","v":439},"","",null,null,null,null,{"$f":"IFERROR(INDEX($F$3:$H$4612,$K441,COLUMNS($P$3:P441)),\"\")","v":""},""]
["Area Outside Region","    Flagstaff East","..","..",1503,"Flagstaff East",1.8059793900000001,832.23541105859465,{"$f":"ROWS($A$3:A442)","v":440},"","",null,null,null,null,{"$f":"IFERROR(INDEX($F$3:$H$4612,$K442,COLUMNS($P$3:P442)),\"\")","v":""},""]
["Area Outside Region","    Flagstaff North","..","..",1053,"Flagstaff North",1.7641358,596.89282423722705,{"$f":"ROWS($A$3:A443)","v":441},"","",null,null,null,null,{"$f":"IFERROR(INDEX($F$3:$H$4612,$K443,COLUMNS($P$3:P443)),\"\")","v":""},""]
["Area Outside Region","    Flagstaff South","..","..",903,"Flagstaff South",1.6387605999999999,551.02618405641442,{"$f":"ROWS($A$3:A444)","v":442},"","",null,null,null,null,{"$f":"IFERROR(INDEX($F$3:$H$4612,$K444,COLUMNS($P$3:P444)),\"\")","v":""},""]
["Area Outside Region","    Flaxmere Park","..","..",741,"Flaxmere Park",1.35063391,548.63127196325172,{"$f":"ROWS($A$3:A445)","v":443},"","",null,null,null,null,{"$f":"IFERROR(INDEX($F$3:$H$4612,$K445,COLUMNS($P$3:P445)),\"\")","v":""},""]
["Area Outside Region","    Flaxmere South","..","..",783,"Flaxmere South",0.72258966000000002,1083.6025525192265,{"$f":"ROWS($A$3:A446)","v":444},"","",null,null,null,null,{"$f":"IFERROR(INDEX($F$3:$H$4612,$K446,COLUMNS($P$3:P446)),\"\")","v":""},""]
["Area Outside Region","    Flaxmere West","..","..",690,"Flaxmere West",0.91727910000000001,752.22470456374731,{"$f":"ROWS($A$3:A447)","v":445},"","",null,null,null,null,{"$f":"IFERROR(INDEX($F$3:$H$4612,$K447,COLUMNS($P$3:P447)),\"\")","v":""},""]
["Area Outside Region","    Forbury","..","..",588,"Forbury",0.55507377999999996,1059.3186368846318,{"$f":"ROWS($A$3:A448)","v":446},"","",null,null,null,null,{"$f":"IFERROR(INDEX($F$3:$H$4612,$K448,COLUMNS($P$3:P448)),\"\")","v":""},""]
["Area Outside Region","    Fordlands","..","..",780,"Fordlands",0.98801209999999995,789.46401567349233,{"$f":"ROWS($A$3:A449)","v":447},"","",null,null,null,null,{"$f":"IFERROR(INDEX($F$3:$H$4612,$K449,COLUMNS($P$3:P449)),\"\")","v":""},""]
["Area Outside Region","    Forest Lake (Hamilton City)","..","..",1056,"Forest Lake (Hamilton City)",1.22811347,859.85540082057719,{"$f":"ROWS($A$3:A450)","v":448},"","",null,null,null,null,{"$f":"IFERROR(INDEX($F$3:$H$4612,$K450,COLUMNS($P$3:P450)),\"\")","v":""},""]
["Area Outside Region","    Forest Lakes (Kapiti Coast District)","..","..",294,{"$f":"TRIM(B451)","v":"Forest Lakes (Kapiti Coast District)"},38.094854490000003,{"$f":"E451/G451","v":7.7175777132099492},{"$f":"ROWS($A$3:A451)","v":449},{"$f":"IF(A451=$M$2,I452,\"\")","v":""},"",null,null,null,null,{"$f":"IFERROR(INDEX($F$3:$H$4612,$K451,COLUMNS($P$3:P451)),\"\")","v":""},""]
["Area Outside Region","    Forrest Hill East","..","..",1218,"Forrest Hill East",0.92449513000000005,1317.4758421929166,{"$f":"ROWS($A$3:A452)","v":450},"",{"$f":"IFERROR(SMALL($J$3:$J$4612,I452)-1,\"\")","v":""},null,null,null,null,{"$f":"IFERROR(INDEX($F$3:$H$4612,$K452,COLUMNS($P$3:P452)),\"\")","v":""},{"$f":"IFERROR(VLOOKUP(P452,$F:$H,3,FALSE),\"\")","v":""}]
["Area Outside Region","    Forrest Hill North","..","..",795,"Forrest Hill North",0.73717907000000005,1078.4353929093509,{"$f":"ROWS($A$3:A453)","v":451},"","",null,null,null,null,{"$f":"IFERROR(INDEX($F$3:$H$4612,$K453,COLUMNS($P$3:P453)),\"\")","v":""},""]
["Area Outside Region","    Forrest Hill West","..","..",1308,"Forrest Hill West",1.2352351500000001,1058.9076905721149,{"$f":"ROWS($A$3:A454)","v":452},"","",null,null,null,null,{"$f":"IFERROR(INDEX($F$3:$H$4612,$K454,COLUMNS($P$3:P454)),\"\")","v":""},""]
["Area Outside Region","    Foxton Beach","..","..",1506,"Foxton Beach",2.63736367,571.02477642000736,{"$f":"ROWS($A$3:A455)","v":453},"","",null,null,null,null,{"$f":"IFERROR(INDEX($F$3:$H$4612,$K455,COLUMNS($P$3:P455)),\"\")","v":""},""]
["Area Outside Region","    Foxton North","..","..",585,"Foxton North",4.5332566700000001,129.04629995283281,{"$f":"ROWS($A$3:A456)","v":454},"","",null,null,null,null,{"$f":"IFERROR(INDEX($F$3:$H$4612,$K456,COLUMNS($P$3:P456)),\"\")","v":""},""]
["Area Outside Region","    Foxton South","..","..",786,"Foxton South",7.0378347899999998,111.6820760153138,{"$f":"ROWS($A$3:A457)","v":455},"","",null,null,null,null,{"$f":"IFERROR(INDEX($F$3:$H$4612,$K457,COLUMNS($P$3:P457)),\"\")","v":""},""]
["Area Outside Region","    Frankleigh Park","..","..",1206,"Frankleigh Park",2.1068125100000001,572.42872551577921,{"$f":"ROWS($A$3:A458)","v":456},"","",null,null,null,null,{"$f":"IFERROR(INDEX($F$3:$H$4612,$K458,COLUMNS($P$3:P458)),\"\")","v":""},""]
["Area Outside Region","    Frankton","..","..",1413,"Frankton",7.6160228300000004,185.52990603364563,{"$f":"ROWS($A$3:A459)","v":457},"","",null,null,null,null,{"$f":"IFERROR(INDEX($F$3:$H$4612,$K459,COLUMNS($P$3:P459)),\"\")","v":""},""]
["Area Outside Region","    Frankton Arm","..","..",1080,"Frankton Arm",1.20173481,898.70077076322684,{"$f":"ROWS($A$3:A460)","v":458},"","",null,null,null,null,{"$f":"IFERROR(INDEX($F$3:$H$4612,$K460,COLUMNS($P$3:P460)),\"\")","v":""},""]
["Area Outside Region","    Frankton Junction","..","..",276,"Frankton Junction",3.3409704699999998,82.610727175927423,{"$f":"ROWS($A$3:A461)","v":459},"","",null,null,null,null,{"$f":"IFERROR(INDEX($F$3:$H$4612,$K461,COLUMNS($P$3:P461)),\"\")","v":""},""]
["Area Outside Region","    Fraser Park","..","..",1251,"Fraser Park",1.2155749499999999,1029.1426291731334,{"$f":"ROWS($A$3:A462)","v":460},"","",null,null,null,null,{"$f":"IFERROR(INDEX($F$3:$H$4612,$K462,COLUMNS($P$3:P462)),\"\")","v":""},""]
["Area Outside Region","    Fraser Street","..","..",612,"Fraser Street",1.13512075,539.14968958148279,{"$f":"ROWS($A$3:A463)","v":461},"","",null,null,null,null,{"$f":"IFERROR(INDEX($F$3:$H$4612,$K463,COLUMNS($P$3:P463)),\"\")","v":""},""]
["Area Outside Region","    Frasertown-Ruakituri","..","..",435,"Frasertown-Ruakituri",1332.98513581,0.32633522183701508,{"$f":"ROWS($A$3:A464)","v":462},"","",null,null,null,null,{"$f":"IFERROR(INDEX($F$3:$H$4612,$K464,COLUMNS($P$3:P464)),\"\")","v":""},""]
["Area Outside Region","    Freemans Bay","..","..",2145,"Freemans Bay",1.0357781699999999,2070.9067463740812,{"$f":"ROWS($A$3:A465)","v":463},"","",null,null,null,null,{"$f":"IFERROR(INDEX($F$3:$H$4612,$K465,COLUMNS($P$3:P465)),\"\")","v":""},""]
["Area Outside Region","    Frimley","..","..",1044,"Frimley",2.0250906500000001,515.5324775214383,{"$f":"ROWS($A$3:A466)","v":464},"","",null,null,null,null,{"$f":"IFERROR(INDEX($F$3:$H$4612,$K466,COLUMNS($P$3:P466)),\"\")","v":""},""]
["Area Outside Region","    Fruitvale","..","..",1068,"Fruitvale",0.85234856000000003,1253.0085109781849,{"$f":"ROWS($A$3:A467)","v":465},"","",null,null,null,null,{"$f":"IFERROR(INDEX($F$3:$H$4612,$K467,COLUMNS($P$3:P467)),\"\")","v":""},""]
["Area Outside Region","    Galatea","..","..",660,"Galatea",2199.7470227200001,0.3000345008690618,{"$f":"ROWS($A$3:A468)","v":466},"","",null,null,null,null,{"$f":"IFERROR(INDEX($F$3:$H$4612,$K468,COLUMNS($P$3:P468)),\"\")","v":""},""]
["Area Outside Region","    Gardens (Dunedin City)","..","..",927,"Gardens (Dunedin City)",1.51173629,613.20218753232416,{"$f":"ROWS($A$3:A469)","v":467},"","",null,null,null,null,{"$f":"IFERROR(INDEX($F$3:$H$4612,$K469,COLUMNS($P$3:P469)),\"\")","v":""},""]
["Area Outside Region","    Gate Pa","..","..",1446,"Gate Pa",2.07862379,695.65257886324878,{"$f":"ROWS($A$3:A470)","v":468},"","",null,null,null,null,{"$f":"IFERROR(INDEX($F$3:$H$4612,$K470,COLUMNS($P$3:P470)),\"\")","v":""},""]
["Area Outside Region","    Georgetown","..","..",888,"Georgetown",1.1234850000000001,790.39773561729794,{"$f":"ROWS($A$3:A471)","v":469},"","",null,null,null,null,{"$f":"IFERROR(INDEX($F$3:$H$4612,$K471,COLUMNS($P$3:P471)),\"\")","v":""},""]
["Area Outside Region","    Geraldine","..","..",1299,"Geraldine",3.12428733,415.77481927694532,{"$f":"ROWS($A$3:A472)","v":470},"","",null,null,null,null,{"$f":"IFERROR(INDEX($F$3:$H$4612,$K472,COLUMNS($P$3:P472)),\"\")","v":""},""]
["Area Outside Region","    Gisborne Central","..","..",216,"Gisborne Central",1.58832832,135.99203469469083,{"$f":"ROWS($A$3:A473)","v":471},"","",null,null,null,null,{"$f":"IFERROR(INDEX($F$3:$H$4612,$K473,COLUMNS($P$3:P473)),\"\")","v":""},""]
["Area Outside Region","    Gladstone (Carterton District)","..","..",447,"Gladstone (Carterton District)",621.33296292,0.71942102974754563,{"$f":"ROWS($A$3:A474)","v":472},"","",null,null,null,null,{"$f":"IFERROR(INDEX($F$3:$H$4612,$K474,COLUMNS($P$3:P474)),\"\")","v":""},""]
["Area Outside Region","    Gladstone (Invercargill City)","..","..",1008,"Gladstone (Invercargill City)",1.26997527,793.71624299424354,{"$f":"ROWS($A$3:A475)","v":473},"","",null,null,null,null,{"$f":"IFERROR(INDEX($F$3:$H$4612,$K475,COLUMNS($P$3:P475)),\"\")","v":""},""]
["Area Outside Region","    Glamorgan","..","..",1140,"Glamorgan",0.95916760999999995,1188.530542644158,{"$f":"ROWS($A$3:A476)","v":474},"","",null,null,null,null,{"$f":"IFERROR(INDEX($F$3:$H$4612,$K476,COLUMNS($P$3:P476)),\"\")","v":""},""]
["Area Outside Region","    Glen Eden Central","..","..",1329,"Glen Eden Central",1.2468507900000001,1065.8853574612563,{"$f":"ROWS($A$3:A477)","v":475},"","",null,null,null,null,{"$f":"IFERROR(INDEX($F$3:$H$4612,$K477,COLUMNS($P$3:P477)),\"\")","v":""},""]
["Area Outside Region","    Glen Eden North","..","..",903,"Glen Eden North",0.73469348000000001,1229.0839984043414,{"$f":"ROWS($A$3:A478)","v":476},"","",null,null,null,null,{"$f":"IFERROR(INDEX($F$3:$H$4612,$K478,COLUMNS($P$3:P478)),\"\")","v":""},""]
["Area Outside Region","    Glen Eden Rosier","..","..",1143,"Glen Eden Rosier",1.2449007000000001,918.14551955830689,{"$f":"ROWS($A$3:A479)","v":477},"","",null,null,null,null,{"$f":"IFERROR(INDEX($F$3:$H$4612,$K479,COLUMNS($P$3:P479)),\"\")","v":""},""]
["Area Outside Region","    Glen Eden West","..","..",1194,"Glen Eden West",1.1545238200000001,1034.1926076501393,{"$f":"ROWS($A$3:A480)","v":478},"","",null,null,null,null,{"$f":"IFERROR(INDEX($F$3:$H$4612,$K480,COLUMNS($P$3:P480)),\"\")","v":""},""]
["Area Outside Region","    Glen Eden Woodglen","..","..",1470,"Glen Eden Woodglen",1.30115519,1129.7653126219325,{"$f":"ROWS($A$3:A481)","v":479},"","",null,null,null,null,{"$f":"IFERROR(INDEX($F$3:$H$4612,$K481,COLUMNS($P$3:P481)),\"\")","v":""},""]
["Area Outside Region","    Glen Innes East-Wai O Taiki Bay","..","..",1071,"Glen Innes East-Wai O Taiki Bay",1.39731695,766.46891029268625,{"$f":"ROWS($A$3:A482)","v":480},"","",null,null,null,null,{"$f":"IFERROR(INDEX($F$3:$H$4612,$K482,COLUMNS($P$3:P482)),\"\")","v":""},""]
["Area Outside Region","    Glen Innes West","..","..",1305,"Glen Innes West",1.3674620500000001,954.32264463938861,{"$f":"ROWS($A$3:A483)","v":481},"","",null,null,null,null,{"$f":"IFERROR(INDEX($F$3:$H$4612,$K483,COLUMNS($P$3:P483)),\"\")","v":""},""]
["Area Outside Region","    Glen Warren","..","..",792,"Glen Warren",1.80084311,439.79400293232652,{"$f":"ROWS($A$3:A484)","v":482},"","",null,null,null,null,{"$f":"IFERROR(INDEX($F$3:$H$4612,$K484,COLUMNS($P$3:P484)),\"\")","v":""},""]
["Area Outside Region","    Glenavon","..","..",816,"Glenavon",0.63982835000000005,1275.3420507234478,{"$f":"ROWS($A$3:A485)","v":483},"","",null,null,null,null,{"$f":"IFERROR(INDEX($F$3:$H$4612,$K485,COLUMNS($P$3:P485)),\"\")","v":""},""]
["Area Outside Region","    Glenbrook","..","..",819,"Glenbrook",53.15868013,15.406703063302711,{"$f":"ROWS($A$3:A486)","v":484},"","",null,null,null,null,{"$f":"IFERROR(INDEX($F$3:$H$4612,$K486,COLUMNS($P$3:P486)),\"\")","v":""},""]
["Area Outside Region","    Glendale","..","..",1308,"Glendale",3.20897933,407.60624033062874,{"$f":"ROWS($A$3:A487)","v":485},"","",null,null,null,null,{"$f":"IFERROR(INDEX($F$3:$H$4612,$K487,COLUMNS($P$3:P487)),\"\")","v":""},""]
["Area Outside Region","    Glendene North","..","..",1479,"Glendene North",1.4068362400000001,1051.2950675765928,{"$f":"ROWS($A$3:A488)","v":486},"","",null,null,null,null,{"$f":"IFERROR(INDEX($F$3:$H$4612,$K488,COLUMNS($P$3:P488)),\"\")","v":""},""]
["Area Outside Region","    Glendene South","..","..",888,"Glendene South",1.0985806899999999,808.31568230095149,{"$f":"ROWS($A$3:A489)","v":487},"","",null,null,null,null,{"$f":"IFERROR(INDEX($F$3:$H$4612,$K489,COLUMNS($P$3:P489)),\"\")","v":""},""]
["Area Outside Region","    Glendowie North","..","..",1488,"Glendowie North",2.0409319799999999,729.07868296522065,{"$f":"ROWS($A$3:A490)","v":488},"","",null,null,null,null,{"$f":"IFERROR(INDEX($F$3:$H$4612,$K490,COLUMNS($P$3:P490)),\"\")","v":""},""]
["Area Outside Region","    Glendowie South","..","..",1560,"Glendowie South",2.0134295899999999,774.79739433053635,{"$f":"ROWS($A$3:A491)","v":489},"","",null,null,null,null,{"$f":"IFERROR(INDEX($F$3:$H$4612,$K491,COLUMNS($P$3:P491)),\"\")","v":""},""]
["Area Outside Region","    Glenfield Central","..","..",1392,"Glenfield Central",1.1278601699999999,1234.195547485288,{"$f":"ROWS($A$3:A492)","v":490},"","",null,null,null,null,{"$f":"IFERROR(INDEX($F$3:$H$4612,$K492,COLUMNS($P$3:P492)),\"\")","v":""},""]
["Area Outside Region","    Glenfield East","..","..",744,"Glenfield East",0.61847920999999995,1202.9507022556184,{"$f":"ROWS($A$3:A493)","v":491},"","",null,null,null,null,{"$f":"IFERROR(INDEX($F$3:$H$4612,$K493,COLUMNS($P$3:P493)),\"\")","v":""},""]
["Area Outside Region","    Glenfield North","..","..",1095,"Glenfield North",0.80678426000000003,1357.2401623204696,{"$f":"ROWS($A$3:A494)","v":492},"","",null,null,null,null,{"$f":"IFERROR(INDEX($F$3:$H$4612,$K494,COLUMNS($P$3:P494)),\"\")","v":""},""]
["Area Outside Region","    Glenfield South West","..","..",1290,"Glenfield South West",1.1910428200000001,1083.0844855771013,{"$f":"ROWS($A$3:A495)","v":493},"","",null,null,null,null,{"$f":"IFERROR(INDEX($F$3:$H$4612,$K495,COLUMNS($P$3:P495)),\"\")","v":""},""]
["Area Outside Region","    Glenfield West","..","..",1080,"Glenfield West",0.97015189999999996,1113.2277326880462,{"$f":"ROWS($A$3:A496)","v":494},"","",null,null,null,null,{"$f":"IFERROR(INDEX($F$3:$H$4612,$K496,COLUMNS($P$3:P496)),\"\")","v":""},""]
["Area Outside Region","    Glengarry","..","..",1137,"Glengarry",2.0529597399999999,553.83453355008317,{"$f":"ROWS($A$3:A497)","v":495},"","",null,null,null,null,{"$f":"IFERROR(INDEX($F$3:$H$4612,$K497,COLUMNS($P$3:P497)),\"\")","v":""},""]
["Area Outside Region","    Glenholme North","..","..",1221,"Glenholme North",0.84348075,1447.5730477547947,{"$f":"ROWS($A$3:A498)","v":496},"","",null,null,null,null,{"$f":"IFERROR(INDEX($F$3:$H$4612,$K498,COLUMNS($P$3:P498)),\"\")","v":""},""]
["Area Outside Region","    Glenholme South","..","..",912,"Glenholme South",0.87693772999999997,1039.9826222552883,{"$f":"ROWS($A$3:A499)","v":497},"","",null,null,null,null,{"$f":"IFERROR(INDEX($F$3:$H$4612,$K499,COLUMNS($P$3:P499)),\"\")","v":""},""]
["Area Outside Region","    Gleniti North","..","..",633,"Gleniti North",5.45840411,115.96796192504699,{"$f":"ROWS($A$3:A500)","v":498},"","",null,null,null,null,{"$f":"IFERROR(INDEX($F$3:$H$4612,$K500,COLUMNS($P$3:P500)),\"\")","v":""},""]
["Area Outside Region","    Gleniti South","..","..",1005,"Gleniti South",1.73695036,578.6003003563095,{"$f":"ROWS($A$3:A501)","v":499},"","",null,null,null,null,{"$f":"IFERROR(INDEX($F$3:$H$4612,$K501,COLUMNS($P$3:P501)),\"\")","v":""},""]
["Area Outside Region","    Glenleith","..","..",486,"Glenleith",2.1234607699999999,228.87166406187012,{"$f":"ROWS($A$3:A502)","v":500},"","",null,null,null,null,{"$f":"IFERROR(INDEX($F$3:$H$4612,$K502,COLUMNS($P$3:P502)),\"\")","v":""},""]
["Area Outside Region","    Glenorchy","..","..",333,"Glenorchy",1464.37040501,0.22740148179771905,{"$f":"ROWS($A$3:A503)","v":501},"","",null,null,null,null,{"$f":"IFERROR(INDEX($F$3:$H$4612,$K503,COLUMNS($P$3:P503)),\"\")","v":""},""]
["Area Outside Region","    Glenroy-Hororata","..","..",522,"Glenroy-Hororata",644.35234021999895,0.81011578202971279,{"$f":"ROWS($A$3:A504)","v":502},"","",null,null,null,null,{"$f":"IFERROR(INDEX($F$3:$H$4612,$K504,COLUMNS($P$3:P504)),\"\")","v":""},""]
["Area Outside Region","    Glentunnel","..","..",591,"Glentunnel",159.682948659999,3.7010839601814483,{"$f":"ROWS($A$3:A505)","v":503},"","",null,null,null,null,{"$f":"IFERROR(INDEX($F$3:$H$4612,$K505,COLUMNS($P$3:P505)),\"\")","v":""},""]
["Area Outside Region","    Glenview","..","..",816,"Glenview",0.8946037,912.13573116230123,{"$f":"ROWS($A$3:A506)","v":504},"","",null,null,null,null,{"$f":"IFERROR(INDEX($F$3:$H$4612,$K506,COLUMNS($P$3:P506)),\"\")","v":""},""]
["Area Outside Region","    Glenwood","..","..",765,"Glenwood",1.04957951,728.86331403325505,{"$f":"ROWS($A$3:A507)","v":505},"","",null,null,null,null,{"$f":"IFERROR(INDEX($F$3:$H$4612,$K507,COLUMNS($P$3:P507)),\"\")","v":""},""]
["Area Outside Region","    Golden Bay/Mohua","..","..",1590,"Golden Bay/Mohua",2249.8347332200001,0.70671857649044567,{"$f":"ROWS($A$3:A508)","v":506},"","",null,null,null,null,{"$f":"IFERROR(INDEX($F$3:$H$4612,$K508,COLUMNS($P$3:P508)),\"\")","v":""},""]
["Area Outside Region","    Golden Downs","..","..",798,"Golden Downs",1819.6272276100001,0.43855136254920613,{"$f":"ROWS($A$3:A509)","v":507},"","",null,null,null,null,{"$f":"IFERROR(INDEX($F$3:$H$4612,$K509,COLUMNS($P$3:P509)),\"\")","v":""},""]
["Area Outside Region","    Golden Springs","..","..",720,"Golden Springs",498.76703172999902,1.4435597266776898,{"$f":"ROWS($A$3:A510)","v":508},"","",null,null,null,null,{"$f":"IFERROR(INDEX($F$3:$H$4612,$K510,COLUMNS($P$3:P510)),\"\")","v":""},""]
["Area Outside Region","    Golflands","..","..",909,"Golflands",1.4076923100000001,645.73770385944636,{"$f":"ROWS($A$3:A511)","v":509},"","",null,null,null,null,{"$f":"IFERROR(INDEX($F$3:$H$4612,$K511,COLUMNS($P$3:P511)),\"\")","v":""},""]
["Area Outside Region","    Gonville North","..","..",1116,"Gonville North",1.34068527,832.41013008220784,{"$f":"ROWS($A$3:A512)","v":510},"","",null,null,null,null,{"$f":"IFERROR(INDEX($F$3:$H$4612,$K512,COLUMNS($P$3:P512)),\"\")","v":""},""]
["Area Outside Region","    Gonville South","..","..",846,"Gonville South",1.53981291,549.41739642902462,{"$f":"ROWS($A$3:A513)","v":511},"","",null,null,null,null,{"$f":"IFERROR(INDEX($F$3:$H$4612,$K513,COLUMNS($P$3:P513)),\"\")","v":""},""]
["Area Outside Region","    Gonville West","..","..",699,"Gonville West",0.73842215,946.61299095646029,{"$f":"ROWS($A$3:A514)","v":512},"","",null,null,null,null,{"$f":"IFERROR(INDEX($F$3:$H$4612,$K514,COLUMNS($P$3:P514)),\"\")","v":""},""]
["Area Outside Region","    Goodfellow Park","..","..",774,{"$f":"TRIM(B515)","v":"Goodfellow Park"},0.94961806999999998,{"$f":"E515/G515","v":815.06452378270353},{"$f":"ROWS($A$3:A515)","v":513},{"$f":"IF(A515=$M$2,I516,\"\")","v":""},"",null,null,null,null,{"$f":"IFERROR(INDEX($F$3:$H$4612,$K515,COLUMNS($P$3:P515)),\"\")","v":""},""]
["Area Outside Region","    Goodwood Heights","..","..",1188,"Goodwood Heights",1.2815726199999999,926.98609619172419,{"$f":"ROWS($A$3:A516)","v":514},"",{"$f":"IFERROR(SMALL($J$3:$J$4612,I516)-1,\"\")","v":""},null,null,null,null,{"$f":"IFERROR(INDEX($F$3:$H$4612,$K516,COLUMNS($P$3:P516)),\"\")","v":""},{"$f":"IFERROR(VLOOKUP(P516,$F:$H,3,FALSE),\"\")","v":""}]
["Area Outside Region","    Gore Central","..","..",132,"Gore Central",1.02927419,128.245710698332,{"$f":"ROWS($A$3:A517)","v":515},"","",null,null,null,null,{"$f":"IFERROR(INDEX($F$3:$H$4612,$K517,COLUMNS($P$3:P517)),\"\")","v":""},""]
["Area Outside Region","    Gore Main","..","..",654,"Gore Main",0.60819228000000003,1075.3178254745358,{"$f":"ROWS($A$3:A518)","v":516},"","",null,null,null,null,{"$f":"IFERROR(INDEX($F$3:$H$4612,$K518,COLUMNS($P$3:P518)),\"\")","v":""},""]
["Area Outside Region","    Gore North","..","..",759,"Gore North",1.7287032200000001,439.05743404585081,{"$f":"ROWS($A$3:A519)","v":517},"","",null,null,null,null,{"$f":"IFERROR(INDEX($F$3:$H$4612,$K519,COLUMNS($P$3:P519)),\"\")","v":""},""]
["Area Outside Region","    Gore South","..","..",264,"Gore South",3.5439106699999998,74.493977016638524,{"$f":"ROWS($A$3:A520)","v":518},"","",null,null,null,null,{"$f":"IFERROR(INDEX($F$3:$H$4612,$K520,COLUMNS($P$3:P520)),\"\")","v":""},""]
["Area Outside Region","    Gore West","..","..",1212,"Gore West",3.1580431,383.78196928344647,{"$f":"ROWS($A$3:A521)","v":519},"","",null,null,null,null,{"$f":"IFERROR(INDEX($F$3:$H$4612,$K521,COLUMNS($P$3:P521)),\"\")","v":""},""]
["Area Outside Region","    Governors Bay","..","..",393,"Governors Bay",3.2207768099999998,122.02025262346571,{"$f":"ROWS($A$3:A522)","v":520},"","",null,null,null,null,{"$f":"IFERROR(INDEX($F$3:$H$4612,$K522,COLUMNS($P$3:P522)),\"\")","v":""},""]
["Area Outside Region","    Gracefield","..","..",99,"Gracefield",3.74696103,26.42141170067093,{"$f":"ROWS($A$3:A523)","v":521},"","",null,null,null,null,{"$f":"IFERROR(INDEX($F$3:$H$4612,$K523,COLUMNS($P$3:P523)),\"\")","v":""},""]
["Area Outside Region","    Grafton","..","..",654,"Grafton",0.64384001000000002,1015.7803023145455,{"$f":"ROWS($A$3:A524)","v":522},"","",null,null,null,null,{"$f":"IFERROR(INDEX($F$3:$H$4612,$K524,COLUMNS($P$3:P524)),\"\")","v":""},""]
["Area Outside Region","    Grampians","..","..",933,"Grampians",2.95265223,315.98709476191851,{"$f":"ROWS($A$3:A525)","v":523},"","",null,null,null,null,{"$f":"IFERROR(INDEX($F$3:$H$4612,$K525,COLUMNS($P$3:P525)),\"\")","v":""},""]
["Area Outside Region","    Granfield Reserve","..","..",1230,"Granfield Reserve",1.6609090399999999,740.55831498153566,{"$f":"ROWS($A$3:A526)","v":524},"","",null,null,null,null,{"$f":"IFERROR(INDEX($F$3:$H$4612,$K526,COLUMNS($P$3:P526)),\"\")","v":""},""]
["Area Outside Region","    Grange","..","..",492,"Grange",1.43178144,343.62786543733938,{"$f":"ROWS($A$3:A527)","v":525},"","",null,null,null,null,{"$f":"IFERROR(INDEX($F$3:$H$4612,$K527,COLUMNS($P$3:P527)),\"\")","v":""},""]
["Area Outside Region","    Green Bay North","..","..",687,"Green Bay North",1.03578148,663.26731387396501,{"$f":"ROWS($A$3:A528)","v":526},"","",null,null,null,null,{"$f":"IFERROR(INDEX($F$3:$H$4612,$K528,COLUMNS($P$3:P528)),\"\")","v":""},""]
["Area Outside Region","    Green Bay South","..","..",1257,"Green Bay South",1.25786551,999.3119216695909,{"$f":"ROWS($A$3:A529)","v":527},"","",null,null,null,null,{"$f":"IFERROR(INDEX($F$3:$H$4612,$K529,COLUMNS($P$3:P529)),\"\")","v":""},""]
["Area Outside Region","    Green Island","..","..",1005,"Green Island",3.6451043400000001,275.7122722034344,{"$f":"ROWS($A$3:A530)","v":528},"","",null,null,null,null,{"$f":"IFERROR(INDEX($F$3:$H$4612,$K530,COLUMNS($P$3:P530)),\"\")","v":""},""]
["Area Outside Region","    Greenhithe East","..","..",954,"Greenhithe East",1.4377181999999999,663.5514525725556,{"$f":"ROWS($A$3:A531)","v":529},"","",null,null,null,null,{"$f":"IFERROR(INDEX($F$3:$H$4612,$K531,COLUMNS($P$3:P531)),\"\")","v":""},""]
["Area Outside Region","    Greenhithe South","..","..",654,"Greenhithe South",3.6445228599999999,179.4473584396724,{"$f":"ROWS($A$3:A532)","v":530},"","",null,null,null,null,{"$f":"IFERROR(INDEX($F$3:$H$4612,$K532,COLUMNS($P$3:P532)),\"\")","v":""},""]
["Area Outside Region","    Greenhithe West","..","..",1152,"Greenhithe West",2.72201146,423.21644009536976,{"$f":"ROWS($A$3:A533)","v":531},"","",null,null,null,null,{"$f":"IFERROR(INDEX($F$3:$H$4612,$K533,COLUMNS($P$3:P533)),\"\")","v":""},""]
["Area Outside Region","    Greenlane North","..","..",1497,"Greenlane North",1.1432441900000001,1309.4315397308076,{"$f":"ROWS($A$3:A534)","v":532},"","",null,null,null,null,{"$f":"IFERROR(INDEX($F$3:$H$4612,$K534,COLUMNS($P$3:P534)),\"\")","v":""},""]
["Area Outside Region","    Greenlane South","..","..",1272,"Greenlane South",0.85269355999999996,1491.7434113141421,{"$f":"ROWS($A$3:A535)","v":533},"","",null,null,null,null,{"$f":"IFERROR(INDEX($F$3:$H$4612,$K535,COLUMNS($P$3:P535)),\"\")","v":""},""]
["Area Outside Region","    Greenmeadows Central","..","..",651,"Greenmeadows Central",0.95261311999999998,683.38340752644683,{"$f":"ROWS($A$3:A536)","v":534},"","",null,null,null,null,{"$f":"IFERROR(INDEX($F$3:$H$4612,$K536,COLUMNS($P$3:P536)),\"\")","v":""},""]
["Area Outside Region","    Greenmeadows South","..","..",882,"Greenmeadows South",0.85126478999999999,1036.1053462577725,{"$f":"ROWS($A$3:A537)","v":535},"","",null,null,null,null,{"$f":"IFERROR(INDEX($F$3:$H$4612,$K537,COLUMNS($P$3:P537)),\"\")","v":""},""]
["Area Outside Region","    Greenmeadows West","..","..",909,"Greenmeadows West",1.1042947999999999,823.14976037195868,{"$f":"ROWS($A$3:A538)","v":536},"","",null,null,null,null,{"$f":"IFERROR(INDEX($F$3:$H$4612,$K538,COLUMNS($P$3:P538)),\"\")","v":""},""]
["Area Outside Region","    Greensboro","..","..",1401,"Greensboro",0.46632127000000001,3004.3664960854135,{"$f":"ROWS($A$3:A539)","v":537},"","",null,null,null,null,{"$f":"IFERROR(INDEX($F$3:$H$4612,$K539,COLUMNS($P$3:P539)),\"\")","v":""},""]
["Area Outside Region","    Greerton North","..","..",1533,"Greerton North",1.39556306,1098.4813541854569,{"$f":"ROWS($A$3:A540)","v":538},"","",null,null,null,null,{"$f":"IFERROR(INDEX($F$3:$H$4612,$K540,COLUMNS($P$3:P540)),\"\")","v":""},""]
["Area Outside Region","    Greerton South","..","..",279,"Greerton South",2.80628447,99.419714210227582,{"$f":"ROWS($A$3:A541)","v":539},"","",null,null,null,null,{"$f":"IFERROR(INDEX($F$3:$H$4612,$K541,COLUMNS($P$3:P541)),\"\")","v":""},""]
["Area Outside Region","    Grenada North","..","..",768,"Grenada North",5.7895455199999999,132.65289949736848,{"$f":"ROWS($A$3:A542)","v":540},"","",null,null,null,null,{"$f":"IFERROR(INDEX($F$3:$H$4612,$K542,COLUMNS($P$3:P542)),\"\")","v":""},""]
["Area Outside Region","    Grenada Village","..","..",606,"Grenada Village",1.4520184,417.35008316699015,{"$f":"ROWS($A$3:A543)","v":541},"","",null,null,null,null,{"$f":"IFERROR(INDEX($F$3:$H$4612,$K543,COLUMNS($P$3:P543)),\"\")","v":""},""]
["Area Outside Region","    Grey Lynn Central","..","..",1359,"Grey Lynn Central",0.71192692000000002,1908.903795912086,{"$f":"ROWS($A$3:A544)","v":542},"","",null,null,null,null,{"$f":"IFERROR(INDEX($F$3:$H$4612,$K544,COLUMNS($P$3:P544)),\"\")","v":""},""]
["Area Outside Region","    Grey Lynn East","..","..",837,"Grey Lynn East",0.57979349999999996,1443.6174258593794,{"$f":"ROWS($A$3:A545)","v":543},"","",null,null,null,null,{"$f":"IFERROR(INDEX($F$3:$H$4612,$K545,COLUMNS($P$3:P545)),\"\")","v":""},""]
["Area Outside Region","    Grey Lynn North","..","..",1137,"Grey Lynn North",0.72505839999999999,1568.1495449194163,{"$f":"ROWS($A$3:A546)","v":544},"","",null,null,null,null,{"$f":"IFERROR(INDEX($F$3:$H$4612,$K546,COLUMNS($P$3:P546)),\"\")","v":""},""]
["Area Outside Region","    Grey Lynn West","..","..",1173,"Grey Lynn West",0.80088071000000005,1464.637598775478,{"$f":"ROWS($A$3:A547)","v":545},"","",null,null,null,null,{"$f":"IFERROR(INDEX($F$3:$H$4612,$K547,COLUMNS($P$3:P547)),\"\")","v":""},""]
["Area Outside Region","    Greymouth Central","..","..",486,"Greymouth Central",2.7287419700000002,178.10405136986989,{"$f":"ROWS($A$3:A548)","v":546},"","",null,null,null,null,{"$f":"IFERROR(INDEX($F$3:$H$4612,$K548,COLUMNS($P$3:P548)),\"\")","v":""},""]
["Area Outside Region","    Greymouth Rural","..","..",348,"Greymouth Rural",340.00174279999902,1.023524165300252,{"$f":"ROWS($A$3:A549)","v":547},"","",null,null,null,null,{"$f":"IFERROR(INDEX($F$3:$H$4612,$K549,COLUMNS($P$3:P549)),\"\")","v":""},""]
["Area Outside Region","    Greytown","..","..",1263,"Greytown",5.0701537099999996,249.10487378498038,{"$f":"ROWS($A$3:A550)","v":548},"","",null,null,null,null,{"$f":"IFERROR(INDEX($F$3:$H$4612,$K550,COLUMNS($P$3:P550)),\"\")","v":""},""]
["Area Outside Region","    Grove Bush","..","..",429,"Grove Bush",145.5658938,2.9471189218913039,{"$f":"ROWS($A$3:A551)","v":549},"","",null,null,null,null,{"$f":"IFERROR(INDEX($F$3:$H$4612,$K551,COLUMNS($P$3:P551)),\"\")","v":""},""]
["Area Outside Region","    Gulf Harbour North","..","..",1026,"Gulf Harbour North",1.7570958800000001,583.91805004972184,{"$f":"ROWS($A$3:A552)","v":550},"","",null,null,null,null,{"$f":"IFERROR(INDEX($F$3:$H$4612,$K552,COLUMNS($P$3:P552)),\"\")","v":""},""]
["Area Outside Region","    Gulf Harbour South","..","..",1188,"Gulf Harbour South",2.42885442,489.1194755097755,{"$f":"ROWS($A$3:A553)","v":551},"","",null,null,null,null,{"$f":"IFERROR(INDEX($F$3:$H$4612,$K553,COLUMNS($P$3:P553)),\"\")","v":""},""]
["Area Outside Region","    Gulf Islands","..","..",360,"Gulf Islands",66.096140730000002,5.4466114968888286,{"$f":"ROWS($A$3:A554)","v":552},"","",null,null,null,null,{"$f":"IFERROR(INDEX($F$3:$H$4612,$K554,COLUMNS($P$3:P554)),\"\")","v":""},""]
["Area Outside Region","    Haast","..","..",396,"Haast",4099.0697471399899,9.6607285171543572E-2,{"$f":"ROWS($A$3:A555)","v":553},"","",null,null,null,null,{"$f":"IFERROR(INDEX($F$3:$H$4612,$K555,COLUMNS($P$3:P555)),\"\")","v":""},""]
["Area Outside Region","    Hadlow","..","..",561,"Hadlow",93.743496429999894,5.9844151473367511,{"$f":"ROWS($A$3:A556)","v":554},"","",null,null,null,null,{"$f":"IFERROR(INDEX($F$3:$H$4612,$K556,COLUMNS($P$3:P556)),\"\")","v":""},""]
["Area Outside Region","    Hagley Park","..","..",15,"Hagley Park",2.18711156,6.8583607138906073,{"$f":"ROWS($A$3:A557)","v":555},"","",null,null,null,null,{"$f":"IFERROR(INDEX($F$3:$H$4612,$K557,COLUMNS($P$3:P557)),\"\")","v":""},""]
["Area Outside Region","    Hairini","..","..",1320,"Hairini",1.8393683700000001,717.63765297323232,{"$f":"ROWS($A$3:A558)","v":556},"","",null,null,null,null,{"$f":"IFERROR(INDEX($F$3:$H$4612,$K558,COLUMNS($P$3:P558)),\"\")","v":""},""]
["Area Outside Region","    Hakataramea","..","..",429,"Hakataramea",2059.6508038900001,0.20828773459547642,{"$f":"ROWS($A$3:A559)","v":557},"","",null,null,null,null,{"$f":"IFERROR(INDEX($F$3:$H$4612,$K559,COLUMNS($P$3:P559)),\"\")","v":""},""]
["Area Outside Region","    Half Moon Bay North East","..","..",678,"Half Moon Bay North East",0.64603014000000003,1049.4866385026555,{"$f":"ROWS($A$3:A560)","v":558},"","",null,null,null,null,{"$f":"IFERROR(INDEX($F$3:$H$4612,$K560,COLUMNS($P$3:P560)),\"\")","v":""},""]
["Area Outside Region","    Half Moon Bay South East","..","..",1008,"Half Moon Bay South East",0.83429938000000003,1208.1993876107158,{"$f":"ROWS($A$3:A561)","v":559},"","",null,null,null,null,{"$f":"IFERROR(INDEX($F$3:$H$4612,$K561,COLUMNS($P$3:P561)),\"\")","v":""},""]
["Area Outside Region","    Half Moon Bay West","..","..",1035,"Half Moon Bay West",1.1358070600000001,911.24631678200694,{"$f":"ROWS($A$3:A562)","v":560},"","",null,null,null,null,{"$f":"IFERROR(INDEX($F$3:$H$4612,$K562,COLUMNS($P$3:P562)),\"\")","v":""},""]
["Area Outside Region","    Halfway Bush","..","..",702,"Halfway Bush",1.70481455,411.77499335631546,{"$f":"ROWS($A$3:A563)","v":561},"","",null,null,null,null,{"$f":"IFERROR(INDEX($F$3:$H$4612,$K563,COLUMNS($P$3:P563)),\"\")","v":""},""]
["Area Outside Region","    Halkett","..","..",630,"Halkett",86.012097030000007,7.3245511009952873,{"$f":"ROWS($A$3:A564)","v":562},"","",null,null,null,null,{"$f":"IFERROR(INDEX($F$3:$H$4612,$K564,COLUMNS($P$3:P564)),\"\")","v":""},""]
["Area Outside Region","    Halswell North","..","..",723,"Halswell North",2.6085372200000001,277.16683298849,{"$f":"ROWS($A$3:A565)","v":563},"",""]
["Area Outside Region","    Halswell South","..","..",981,"Halswell South",1.78085932,550.85766123289284,{"$f":"ROWS($A$3:A566)","v":564},"",""]
["Area Outside Region","    Halswell West","..","..",1371,"Halswell West",6.3663931399999996,215.3495660495764,{"$f":"ROWS($A$3:A567)","v":565},"",""]
["Area Outside Region","    Hamilton Central","..","..",456,"Hamilton Central",1.15979791,393.17194492961278,{"$f":"ROWS($A$3:A568)","v":566},"",""]
["Area Outside Region","    Hamilton East","..","..",1545,"Hamilton East",2.22133352,695.52815283676989,{"$f":"ROWS($A$3:A569)","v":567},"",""]
["Area Outside Region","    Hamilton East Cook","..","..",684,"Hamilton East Cook",0.73364708000000001,932.32838873971934,{"$f":"ROWS($A$3:A570)","v":568},"",""]
["Area Outside Region","    Hamilton East Village","..","..",1455,"Hamilton East Village",1.32122462,1101.2510499539435,{"$f":"ROWS($A$3:A571)","v":569},"",""]
["Area Outside Region","    Hamilton Estate","..","..",963,"Hamilton Estate",2.2589867300000002,426.29732490726047,{"$f":"ROWS($A$3:A572)","v":570},"",""]
["Area Outside Region","    Hamilton Lake","..","..",1470,"Hamilton Lake",1.86435898,788.4747603704518,{"$f":"ROWS($A$3:A573)","v":571},"",""]
["Area Outside Region","    Hamilton Park","..","..",537,"Hamilton Park",46.310121129999899,11.595737322572647,{"$f":"ROWS($A$3:A574)","v":572},"",""]
["Area Outside Region","    Hamilton West","..","..",714,"Hamilton West",0.91466453000000003,780.61406841697465,{"$f":"ROWS($A$3:A575)","v":573},"",""]
["Area Outside Region","    Hampstead","..","..",1224,"Hampstead",1.44102643,849.39455274251986,{"$f":"ROWS($A$3:A576)","v":574},"",""]
["Area Outside Region","    Hamurana","..","..",447,"Hamurana",8.3549944600000003,53.500933141253093,{"$f":"ROWS($A$3:A577)","v":575},"",""]
["Area Outside Region","    Hangaroa","..","..",642,"Hangaroa",1870.1131034099899,0.34329474448864533,{"$f":"ROWS($A$3:A578)","v":576},"",""]
["Area Outside Region","    Hangatiki","..","..",519,{"$f":"TRIM(B579)","v":"Hangatiki"},326.52034130999903,{"$f":"E579/G579","v":1.5894874969129731},{"$f":"ROWS($A$3:A579)","v":577},{"$f":"IF(A579=$M$2,I580,\"\")","v":""},""]
["Area Outside Region","    Hanmer Range","..","..",240,"Hanmer Range",3608.9589151999899,6.6501172675915723E-2,{"$f":"ROWS($A$3:A580)","v":578},"",{"$f":"IFERROR(SMALL($J$3:$J$4612,I580)-1,\"\")","v":""}]
["Area Outside Region","    Hanmer Springs","..","..",1218,"Hanmer Springs",4.2303521100000001,287.91929568245797,{"$f":"ROWS($A$3:A581)","v":579},"",""]
["Area Outside Region","    Harania North","..","..",714,"Harania North",0.94437247999999996,756.0576098109085,{"$f":"ROWS($A$3:A582)","v":580},"",""]
["Area Outside Region","    Harania South","..","..",729,"Harania South",0.77647516999999999,938.85809638961155,{"$f":"ROWS($A$3:A583)","v":581},"",""]
["Area Outside Region","    Harbourside","..","..",30,"Harbourside",2.7054918200000002,11.088556904230447,{"$f":"ROWS($A$3:A584)","v":582},"",""]
["Area Outside Region","    Harewood","..","..",522,"Harewood",3.7780840200000001,138.16527034250549,{"$f":"ROWS($A$3:A585)","v":583},"",""]
["Area Outside Region","    Hargest","..","..",828,"Hargest",1.0295306099999999,804.25000670936834,{"$f":"ROWS($A$3:A586)","v":584},"",""]
["Area Outside Region","    Haruru","..","..",477,"Haruru",1.52772435,312.2291007536798,{"$f":"ROWS($A$3:A587)","v":585},"",""]
["Area Outside Region","    Hastings Central","..","..",198,"Hastings Central",1.4175618000000001,139.6764500849275,{"$f":"ROWS($A$3:A588)","v":586},"",""]
["Area Outside Region","    Hataitai North","..","..",1584,"Hataitai North",1.06277295,1490.4406439776246,{"$f":"ROWS($A$3:A589)","v":587},"",""]
["Area Outside Region","    Hataitai South","..","..",621,"Hataitai South",0.42817814999999998,1450.3308961468492,{"$f":"ROWS($A$3:A590)","v":588},"",""]
["Area Outside Region","    Hatfields Beach","..","..",600,"Hatfields Beach",0.92325486999999995,649.87471985931688,{"$f":"ROWS($A$3:A591)","v":589},"",""]
["Area Outside Region","    Haumoana-Te Awanga","..","..",870,"Haumoana-Te Awanga",7.7627408300000003,112.07381761835786,{"$f":"ROWS($A$3:A592)","v":590},"",""]
["Area Outside Region","    Hauraki","..","..",1572,"Hauraki",1.0953772399999999,1435.1220224367635,{"$f":"ROWS($A$3:A593)","v":591},"",""]
["Area Outside Region","    Hauraki Plains East","..","..",543,"Hauraki Plains East",90.714125440000004,5.9858373474498219,{"$f":"ROWS($A$3:A594)","v":592},"",""]
["Area Outside Region","    Hauraki Plains North","..","..",507,"Hauraki Plains North",178.738875019999,2.8365401759593265,{"$f":"ROWS($A$3:A595)","v":593},"",""]
["Area Outside Region","    Hauraki Plains South","..","..",609,"Hauraki Plains South",251.34905576,2.4229253543785028,{"$f":"ROWS($A$3:A596)","v":594},"",""]
["Area Outside Region","    Hautapu","..","..",198,"Hautapu",7.4340666500000001,26.634143776475288,{"$f":"ROWS($A$3:A597)","v":595},"",""]
["Area Outside Region","    Hautapu Rural","..","..",273,"Hautapu Rural",14.7080072899999,18.561317968996047,{"$f":"ROWS($A$3:A598)","v":596},"",""]
["Area Outside Region","    Havelock Hills","..","..",657,"Havelock Hills",2.98720987,219.93767716092876,{"$f":"ROWS($A$3:A599)","v":597},"",""]
["Area Outside Region","    Havelock North-Central","..","..",240,"Havelock North-Central",0.47383086000000002,506.50985459241718,{"$f":"ROWS($A$3:A600)","v":598},"",""]
["Area Outside Region","    Hawera Central","..","..",1191,"Hawera Central",1.7842896399999999,667.49252660571415,{"$f":"ROWS($A$3:A601)","v":599},"",""]
["Area Outside Region","    Hawthornden","..","..",990,"Hawthornden",1.89245555,523.12985633929418,{"$f":"ROWS($A$3:A602)","v":600},"",""]
["Area Outside Region","    Heathcote Valley","..","..",930,"Heathcote Valley",4.1807293799999998,222.44922248471391,{"$f":"ROWS($A$3:A603)","v":601},"",""]
["Area Outside Region","    Hedgehope","..","..",468,"Hedgehope",729.25534542000003,0.64175052392720522,{"$f":"ROWS($A$3:A604)","v":602},"",""]
["Area Outside Region","    Hei Hei","..","..",1254,"Hei Hei",1.2426831300000001,1009.1068026327837,{"$f":"ROWS($A$3:A605)","v":603},"",""]
["Area Outside Region","    Helensburgh","..","..",480,"Helensburgh",1.46131297,328.47173046031338,{"$f":"ROWS($A$3:A606)","v":604},"",""]
["Area Outside Region","    Helensville","..","..",1086,"Helensville",3.36590766,322.6469973926736,{"$f":"ROWS($A$3:A607)","v":605},"",""]
["Area Outside Region","    Helensville Rural","..","..",534,"Helensville Rural",56.919978620000002,9.3815917178220474,{"$f":"ROWS($A$3:A608)","v":606},"",""]
["Area Outside Region","    Henderson Central","..","..",630,"Henderson Central",2.0157065599999999,312.54549273283112,{"$f":"ROWS($A$3:A609)","v":607},"",""]
["Area Outside Region","    Henderson East","..","..",939,"Henderson East",0.79307801,1183.9944975904702,{"$f":"ROWS($A$3:A610)","v":608},"",""]
["Area Outside Region","    Henderson Larnoch","..","..",1251,"Henderson Larnoch",0.96975579000000001,1290.0154996754388,{"$f":"ROWS($A$3:A611)","v":609},"",""]
["Area Outside Region","    Henderson Lincoln East","..","..",54,"Henderson Lincoln East",1.9443598799999999,27.772636411321141,{"$f":"ROWS($A$3:A612)","v":610},"",""]
["Area Outside Region","    Henderson Lincoln South","..","..",789,"Henderson Lincoln South",1.35507716,582.25466659035123,{"$f":"ROWS($A$3:A613)","v":611},"",""]
["Area Outside Region","    Henderson Lincoln West","..","..",993,"Henderson Lincoln West",0.89798069999999997,1105.8144122696624,{"$f":"ROWS($A$3:A614)","v":612},"",""]
["Area Outside Region","    Henderson North","..","..",1260,"Henderson North",1.3936711900000001,904.08699630219087,{"$f":"ROWS($A$3:A615)","v":613},"",""]
["Area Outside Region","    Henderson North East","..","..",969,"Henderson North East",0.80084122999999996,1209.9776631130742,{"$f":"ROWS($A$3:A616)","v":614},"",""]
["Area Outside Region","    Henderson Valley","..","..",522,"Henderson Valley",15.02367834,34.745152830528454,{"$f":"ROWS($A$3:A617)","v":615},"",""]
["Area Outside Region","    Henderson Valley Park","..","..",561,"Henderson Valley Park",0.74972534999999996,748.27401794537161,{"$f":"ROWS($A$3:A618)","v":616},"",""]
["Area Outside Region","    Herangi","..","..",873,"Herangi",1668.10266361,0.52334908338957375,{"$f":"ROWS($A$3:A619)","v":617},"",""]
["Area Outside Region","    Herekino-Takahue","..","..",441,"Herekino-Takahue",303.69091784,1.4521343052884494,{"$f":"ROWS($A$3:A620)","v":618},"",""]
["Area Outside Region","    Heretaunga","..","..",981,"Heretaunga",3.2609463999999999,300.83291157438219,{"$f":"ROWS($A$3:A621)","v":619},"",""]
["Area Outside Region","    Hereworth","..","..",1236,"Hereworth",1.6155284000000001,765.07475820295076,{"$f":"ROWS($A$3:A622)","v":620},"",""]
["Area Outside Region","    Herne Bay","..","..",1392,"Herne Bay",0.87695476999999999,1587.3110536818222,{"$f":"ROWS($A$3:A623)","v":621},"",""]
["Area Outside Region","    Hexton","..","..",1128,"Hexton",119.60997783000001,9.4306513592303371,{"$f":"ROWS($A$3:A624)","v":622},"",""]
["Area Outside Region","    Highbury East","..","..",1011,"Highbury East",1.16072094,871.0103911798127,{"$f":"ROWS($A$3:A625)","v":623},"",""]
["Area Outside Region","    Highfield North","..","..",1026,"Highfield North",1.4110844600000001,727.10034663694046,{"$f":"ROWS($A$3:A626)","v":624},"",""]
["Area Outside Region","    Highfield South","..","..",537,"Highfield South",0.94991530999999996,565.31355411041852,{"$f":"ROWS($A$3:A627)","v":625},"",""]
["Area Outside Region","    Highland Park (Auckland)","..","..",1671,"Highland Park (Auckland)",1.3763573099999999,1214.074272617479,{"$f":"ROWS($A$3:A628)","v":626},"",""]
["Area Outside Region","    Highlands Park (New Plymouth District)","..","..",1290,"Highlands Park (New Plymouth District)",2.9067143400000002,443.80006051781476,{"$f":"ROWS($A$3:A629)","v":627},"",""]
["Area Outside Region","    Hikuai","..","..",138,"Hikuai",284.15589604000002,0.48564890584066583,{"$f":"ROWS($A$3:A630)","v":628},"",""]
["Area Outside Region","    Hikurangi","..","..",540,"Hikurangi",4.0002500999999997,134.99155965273272,{"$f":"ROWS($A$3:A631)","v":629},"",""]
["Area Outside Region","    Hillcrest (Rotorua District)","..","..",600,"Hillcrest (Rotorua District)",0.81457984000000005,736.57604882536737,{"$f":"ROWS($A$3:A632)","v":630},"",""]
["Area Outside Region","    Hillcrest East (Auckland)","..","..",1353,"Hillcrest East (Auckland)",1.06377776,1271.8822021622261,{"$f":"ROWS($A$3:A633)","v":631},"",""]
["Area Outside Region","    Hillcrest East (Hamilton City)","..","..",1035,"Hillcrest East (Hamilton City)",1.01716852,1017.530507137598,{"$f":"ROWS($A$3:A634)","v":632},"",""]
["Area Outside Region","    Hillcrest North (Auckland)","..","..",1206,"Hillcrest North (Auckland)",0.97980299999999998,1230.8596728117795,{"$f":"ROWS($A$3:A635)","v":633},"",""]
["Area Outside Region","    Hillcrest West (Auckland)","..","..",1116,"Hillcrest West (Auckland)",0.88492420999999999,1261.1249498982518,{"$f":"ROWS($A$3:A636)","v":634},"",""]
["Area Outside Region","    Hillcrest West (Hamilton City)","..","..",897,"Hillcrest West (Hamilton City)",0.87054089999999995,1030.3938620230251,{"$f":"ROWS($A$3:A637)","v":635},"",""]
["Area Outside Region","    Hillmorton","..","..",1146,"Hillmorton",2.9169332300000002,392.87837932443864,{"$f":"ROWS($A$3:A638)","v":636},"",""]
["Area Outside Region","    Hillpark North","..","..",699,"Hillpark North",0.66048295999999995,1058.3164779905906,{"$f":"ROWS($A$3:A639)","v":637},"",""]
["Area Outside Region","    Hillpark South","..","..",942,"Hillpark South",1.08741456,866.27495589170701,{"$f":"ROWS($A$3:A640)","v":638},"",""]
["Area Outside Region","    Hillsborough (Christchurch City)","..","..",1011,"Hillsborough (Christchurch City)",1.6440045000000001,614.96182035998072,{"$f":"ROWS($A$3:A641)","v":639},"",""]
["Area Outside Region","    Hillsborough East (Auckland)","..","..",732,"Hillsborough East (Auckland)",0.62787048999999995,1165.8455233339603,{"$f":"ROWS($A$3:A642)","v":640},"",""]
["Area Outside Region","    Hillsborough North (Auckland)","..","..",1338,{"$f":"TRIM(B643)","v":"Hillsborough North (Auckland)"},1.29279528,{"$f":"E643/G643","v":1034.9666499401205},{"$f":"ROWS($A$3:A643)","v":641},{"$f":"IF(A643=$M$2,I644,\"\")","v":""},""]
["Area Outside Region","    Hillsborough South (Auckland)","..","..",885,"Hillsborough South (Auckland)",1.1599261599999999,762.97960208087738,{"$f":"ROWS($A$3:A644)","v":642},"",{"$f":"IFERROR(SMALL($J$3:$J$4612,I644)-1,\"\")","v":""}]
["Area Outside Region","    Hillsborough West (Auckland)","..","..",1122,"Hillsborough West (Auckland)",0.84158980999999999,1333.191047073158,{"$f":"ROWS($A$3:A645)","v":643},"",""]
["Area Outside Region","    Hillside-Portsmouth Drive","..","..",54,"Hillside-Portsmouth Drive",1.3744558,39.288276858375511,{"$f":"ROWS($A$3:A646)","v":644},"",""]
["Area Outside Region","    Hilltop (Auckland)","..","..",930,"Hilltop (Auckland)",1.1416618700000001,814.60196266342848,{"$f":"ROWS($A$3:A647)","v":645},"",""]
["Area Outside Region","    Hilltop (Taupo District)","..","..",1242,"Hilltop (Taupo District)",2.5041891500000002,495.96892471161772,{"$f":"ROWS($A$3:A648)","v":646},"",""]
["Area Outside Region","    Hingaia","..","..",867,"Hingaia",3.6158143800000002,239.78000773369345,{"$f":"ROWS($A$3:A649)","v":647},"",""]
["Area Outside Region","    Hinuera","..","..",480,"Hinuera",130.31340814000001,3.6834275678241806,{"$f":"ROWS($A$3:A650)","v":648},"",""]
["Area Outside Region","    Hobson Ridge Central","..","..",1746,"Hobson Ridge Central",6.3319500000000001E-2,27574.443891692132,{"$f":"ROWS($A$3:A651)","v":649},"",""]
["Area Outside Region","    Hobson Ridge North","..","..",1647,"Hobson Ridge North",0.14928093000000001,11032.889465519809,{"$f":"ROWS($A$3:A652)","v":650},"",""]
["Area Outside Region","    Hobson Ridge South","..","..",864,"Hobson Ridge South",0.13699997999999999,6306.5702637328859,{"$f":"ROWS($A$3:A653)","v":651},"",""]
["Area Outside Region","    Hobsonville","..","..",519,"Hobsonville",2.17407942,238.72172986210413,{"$f":"ROWS($A$3:A654)","v":652},"",""]
["Area Outside Region","    Hobsonville Point","..","..",2022,"Hobsonville Point",3.5388118899999998,571.37820908587491,{"$f":"ROWS($A$3:A655)","v":653},"",""]
["Area Outside Region","    Hokianga North","..","..",423,"Hokianga North",345.93522228,1.2227722786135484,{"$f":"ROWS($A$3:A656)","v":654},"",""]
["Area Outside Region","    Hokianga South","..","..",627,"Hokianga South",126.08745475000001,4.9727389710830847,{"$f":"ROWS($A$3:A657)","v":655},"",""]
["Area Outside Region","    Hokitika","..","..",1491,"Hokitika",3.9093584400000001,381.39250285783464,{"$f":"ROWS($A$3:A658)","v":656},"",""]
["Area Outside Region","    Hokitika Rural","..","..",669,"Hokitika Rural",154.37746203,4.3335341260500444,{"$f":"ROWS($A$3:A659)","v":657},"",""]
["Area Outside Region","    Hokitika Valley-Otira","..","..",465,"Hokitika Valley-Otira",1614.5389862699899,0.28800791058893688,{"$f":"ROWS($A$3:A660)","v":658},"",""]
["Area Outside Region","    Hokowhitu Central","..","..",987,"Hokowhitu Central",0.91032398000000003,1084.2293751286218,{"$f":"ROWS($A$3:A661)","v":659},"",""]
["Area Outside Region","    Hokowhitu East","..","..",1233,"Hokowhitu East",1.2430994799999999,991.87556574313749,{"$f":"ROWS($A$3:A662)","v":660},"",""]
["Area Outside Region","    Hokowhitu South","..","..",750,"Hokowhitu South",0.89536256999999997,837.64948985973365,{"$f":"ROWS($A$3:A663)","v":661},"",""]
["Area Outside Region","    Holdens Bay-Rotokawa","..","..",552,"Holdens Bay-Rotokawa",8.7917052600000005,62.78645424016409,{"$f":"ROWS($A$3:A664)","v":662},"",""]
["Area Outside Region","    Holmes Hill","..","..",645,"Holmes Hill",2.6192033100000001,246.25808830395835,{"$f":"ROWS($A$3:A665)","v":663},"",""]
["Area Outside Region","    Holmwood","..","..",966,"Holmwood",1.1294643799999999,855.27265587605348,{"$f":"ROWS($A$3:A666)","v":664},"",""]
["Area Outside Region","    Homai East","..","..",900,"Homai East",0.71246765999999995,1263.2152314113459,{"$f":"ROWS($A$3:A667)","v":665},"",""]
["Area Outside Region","    Homai West","..","..",1089,"Homai West",0.91194953000000001,1194.1450312497009,{"$f":"ROWS($A$3:A668)","v":666},"",""]
["Area Outside Region","    Homebush-Te Ore Ore","..","..",435,"Homebush-Te Ore Ore",103.12088226,4.2183502552201686,{"$f":"ROWS($A$3:A669)","v":667},"",""]
["Area Outside Region","    Homedale East","..","..",1080,"Homedale East",2.90986396,371.15137162632163,{"$f":"ROWS($A$3:A670)","v":668},"",""]
["Area Outside Region","    Homedale West","..","..",963,"Homedale West",1.3149114799999999,732.36869146507115,{"$f":"ROWS($A$3:A671)","v":669},"",""]
["Area Outside Region","    Honikiwi","..","..",603,"Honikiwi",245.59353945999899,2.4552763127476873,{"$f":"ROWS($A$3:A672)","v":670},"",""]
["Area Outside Region","    Hoon Hay East","..","..",1278,"Hoon Hay East",1.8228803499999999,701.0882529947728,{"$f":"ROWS($A$3:A673)","v":671},"",""]
["Area Outside Region","    Hoon Hay South","..","..",873,"Hoon Hay South",0.79560344999999999,1097.280309681915,{"$f":"ROWS($A$3:A674)","v":672},"",""]
["Area Outside Region","    Hoon Hay West","..","..",1071,"Hoon Hay West",1.0752313899999999,996.06467032179944,{"$f":"ROWS($A$3:A675)","v":673},"",""]
["Area Outside Region","    Hope","..","..",351,"Hope",7.4444653499999998,47.149121326758547,{"$f":"ROWS($A$3:A676)","v":674},"",""]
["Area Outside Region","    Hornby Central","..","..",54,"Hornby Central",2.2702299199999998,23.786137044656694,{"$f":"ROWS($A$3:A677)","v":675},"",""]
["Area Outside Region","    Hornby South","..","..",1782,"Hornby South",1.3658224400000001,1304.7083924027488,{"$f":"ROWS($A$3:A678)","v":676},"",""]
["Area Outside Region","    Hornby West","..","..",948,"Hornby West",0.74485747999999996,1272.7266966561174,{"$f":"ROWS($A$3:A679)","v":677},"",""]
["Area Outside Region","    Horotiu","..","..",213,"Horotiu",3.2302778600000002,65.938600093058241,{"$f":"ROWS($A$3:A680)","v":678},"",""]
["Area Outside Region","    Horsham Downs","..","..",258,"Horsham Downs",15.79714053,16.332069687551233,{"$f":"ROWS($A$3:A681)","v":679},"",""]
["Area Outside Region","    Hospital Hill","..","..",1296,"Hospital Hill",1.4943194500000001,867.28443506507256,{"$f":"ROWS($A$3:A682)","v":680},"",""]
["Area Outside Region","    Houghton Bay","..","..",693,"Houghton Bay",1.2879488100000001,538.06486299715584,{"$f":"ROWS($A$3:A683)","v":681},"",""]
["Area Outside Region","    Howick Central","..","..",1251,"Howick Central",0.85763120000000004,1458.6689476782094,{"$f":"ROWS($A$3:A684)","v":682},"",""]
["Area Outside Region","    Howick East","..","..",1410,"Howick East",1.1091982499999999,1271.1884462493517,{"$f":"ROWS($A$3:A685)","v":683},"",""]
["Area Outside Region","    Howick West","..","..",1395,"Howick West",1.1926131099999999,1169.700373325596,{"$f":"ROWS($A$3:A686)","v":684},"",""]
["Area Outside Region","    Huntington","..","..",876,"Huntington",1.26251318,693.85414257615912,{"$f":"ROWS($A$3:A687)","v":685},"",""]
["Area Outside Region","    Huntington Park","..","..",873,"Huntington Park",0.43629700999999999,2000.9305129090847,{"$f":"ROWS($A$3:A688)","v":686},"",""]
["Area Outside Region","    Huntly East","..","..",1782,"Huntly East",8.7816496799999904,202.9231482620475,{"$f":"ROWS($A$3:A689)","v":687},"",""]
["Area Outside Region","    Huntly Rural","..","..",957,"Huntly Rural",353.22828303,2.7092960727573479,{"$f":"ROWS($A$3:A690)","v":688},"",""]
["Area Outside Region","    Huntly West","..","..",1014,"Huntly West",5.7745034799999999,175.59951318966043,{"$f":"ROWS($A$3:A691)","v":689},"",""]
["Area Outside Region","    Huntsbury","..","..",975,"Huntsbury",1.3651920900000001,714.18521037577943,{"$f":"ROWS($A$3:A692)","v":690},"",""]
["Area Outside Region","    Hunua","..","..",474,"Hunua",77.835134929999896,6.089794800590842,{"$f":"ROWS($A$3:A693)","v":691},"",""]
["Area Outside Region","    Hurdon","..","..",915,"Hurdon",3.7651765199999998,243.01649474856495,{"$f":"ROWS($A$3:A694)","v":692},"",""]
["Area Outside Region","    Hutt Central North","..","..",471,"Hutt Central North",1.07096977,439.78832381048437,{"$f":"ROWS($A$3:A695)","v":693},"",""]
["Area Outside Region","    Hutt Central South","..","..",1227,"Hutt Central South",1.2941828,948.08863168325217,{"$f":"ROWS($A$3:A696)","v":694},"",""]
["Area Outside Region","    Ilam North","..","..",1296,"Ilam North",1.2317820500000001,1052.1341823417542,{"$f":"ROWS($A$3:A697)","v":695},"",""]
["Area Outside Region","    Ilam South","..","..",1122,"Ilam South",0.91177469,1230.567170053821,{"$f":"ROWS($A$3:A698)","v":696},"",""]
["Area Outside Region","    Ilam University","..","..",447,"Ilam University",1.2271665599999999,364.25373259845026,{"$f":"ROWS($A$3:A699)","v":697},"",""]
["Area Outside Region","    Inangahua","..","..",564,"Inangahua",3195.7075854999898,0.1764867356947987,{"$f":"ROWS($A$3:A700)","v":698},"",""]
["Area Outside Region","    Inglewood","..","..",1470,"Inglewood",2.9443594800000001,499.25968958111048,{"$f":"ROWS($A$3:A701)","v":699},"",""]
["Area Outside Region","    Inland water Lake Ellesmere/Te Waihora North","..","..",0,"Inland water Lake Ellesmere/Te Waihora North",0,{"$error":"#DIV/0!"},{"$f":"ROWS($A$3:A702)","v":700},"",""]
["Area Outside Region","    Inland water Lake Ellesmere/Te Waihora South","..","..",0,"Inland water Lake Ellesmere/Te Waihora South",0,{"$error":"#DIV/0!"},{"$f":"ROWS($A$3:A703)","v":701},"",""]
["Area Outside Region","    Inland water Lake Hauroko","..","..",0,"Inland water Lake Hauroko",0,{"$error":"#DIV/0!"},{"$f":"ROWS($A$3:A704)","v":702},"",""]
["Area Outside Region","    Inland water Lake Hawea","..","..",0,"Inland water Lake Hawea",0,{"$error":"#DIV/0!"},{"$f":"ROWS($A$3:A705)","v":703},"",""]
["Area Outside Region","    Inland water Lake Manapouri","..","..",0,"Inland water Lake Manapouri",0,{"$error":"#DIV/0!"},{"$f":"ROWS($A$3:A706)","v":704},"",""]
["Area Outside Region","    Inland water Lake Ohau","..","..",0,{"$f":"TRIM(B707)","v":"Inland water Lake Ohau"},0,{"$f":"E707/G707","v":{"$error":"#DIV/0!"}},{"$f":"ROWS($A$3:A707)","v":705},{"$f":"IF(A707=$M$2,I708,\"\")","v":""},""]
["Area Outside Region","    Inland water Lake Pukaki","..","..",0,"Inland water Lake Pukaki",0,{"$error":"#DIV/0!"},{"$f":"ROWS($A$3:A708)","v":706},"",{"$f":"IFERROR(SMALL($J$3:$J$4612,I708)-1,\"\")","v":""}]
["Area Outside Region","    Inland water Lake Rotorua","..","..",0,"Inland water Lake Rotorua",0,{"$error":"#DIV/0!"},{"$f":"ROWS($A$3:A709)","v":707},"",""]
["Area Outside Region","    Inland water Lake Taupo","..","..",0,"Inland water Lake Taupo",0,{"$error":"#DIV/0!"},{"$f":"ROWS($A$3:A710)","v":708},"",""]
["Area Outside Region","    Inland water Lake Te Anau","..","..",0,"Inland water Lake Te Anau",0,{"$error":"#DIV/0!"},{"$f":"ROWS($A$3:A711)","v":709},"",""]
["Area Outside Region","    Inland water Lake Tekapo","..","..",0,"Inland water Lake Tekapo",0,{"$error":"#DIV/0!"},{"$f":"ROWS($A$3:A712)","v":710},"",""]
["Area Outside Region","    Inland water Lake Waikaremoana","..","..",3,"Inland water Lake Waikaremoana",0,{"$error":"#DIV/0!"},{"$f":"ROWS($A$3:A713)","v":711},"",""]
["Area Outside Region","    Inland water Lake Wairarapa","..","..",0,"Inland water Lake Wairarapa",0,{"$error":"#DIV/0!"},{"$f":"ROWS($A$3:A714)","v":712},"",""]
["Area Outside Region","    Inland water Lake Wakatipu","..","..",0,"Inland water Lake Wakatipu",0,{"$error":"#DIV/0!"},{"$f":"ROWS($A$3:A715)","v":713},"",""]
["Area Outside Region","    Inland water Lake Wanaka","..","..",3,"Inland water Lake Wanaka",0,{"$error":"#DIV/0!"},{"$f":"ROWS($A$3:A716)","v":714},"",""]
["Area Outside Region","    Inlet Akaroa Harbour","..","..",3,"Inlet Akaroa Harbour",0,{"$error":"#DIV/0!"},{"$f":"ROWS($A$3:A717)","v":715},"",""]
["Area Outside Region","    Inlet Bluff Harbour","..","..",0,"Inlet Bluff Harbour",0,{"$error":"#DIV/0!"},{"$f":"ROWS($A$3:A718)","v":716},"",""]
["Area Outside Region","    Inlet Catlins","..","..",0,"Inlet Catlins",0,{"$error":"#DIV/0!"},{"$f":"ROWS($A$3:A719)","v":717},"",""]
["Area Outside Region","    Inlet Doubtless Bay","..","..",0,"Inlet Doubtless Bay",0,{"$error":"#DIV/0!"},{"$f":"ROWS($A$3:A720)","v":718},"",""]
["Area Outside Region","    Inlet Kaipara Harbour North","..","..",0,"Inlet Kaipara Harbour North",0,{"$error":"#DIV/0!"},{"$f":"ROWS($A$3:A721)","v":719},"",""]
["Area Outside Region","    Inlet Kaipara Harbour South","..","..",0,"Inlet Kaipara Harbour South",0,{"$error":"#DIV/0!"},{"$f":"ROWS($A$3:A722)","v":720},"",""]
["Area Outside Region","    Inlet Mangawhai Harbour","..","..",0,"Inlet Mangawhai Harbour",0,{"$error":"#DIV/0!"},{"$f":"ROWS($A$3:A723)","v":721},"",""]
["Area Outside Region","    Inlet Manukau Harbour","..","..",0,"Inlet Manukau Harbour",0,{"$error":"#DIV/0!"},{"$f":"ROWS($A$3:A724)","v":722},"",""]
["Area Outside Region","    Inlet Napier City","..","..",0,"Inlet Napier City",0,{"$error":"#DIV/0!"},{"$f":"ROWS($A$3:A725)","v":723},"",""]
["Area Outside Region","    Inlet New River Estuary","..","..",0,"Inlet New River Estuary",0,{"$error":"#DIV/0!"},{"$f":"ROWS($A$3:A726)","v":724},"",""]
["Area Outside Region","    Inlet Ohiwa Harbour East","..","..",0,"Inlet Ohiwa Harbour East",0,{"$error":"#DIV/0!"},{"$f":"ROWS($A$3:A727)","v":725},"",""]
["Area Outside Region","    Inlet Ohiwa Harbour West","..","..",0,"Inlet Ohiwa Harbour West",0,{"$error":"#DIV/0!"},{"$f":"ROWS($A$3:A728)","v":726},"",""]
["Area Outside Region","    Inlet Otago Harbour","..","..",0,"Inlet Otago Harbour",0,{"$error":"#DIV/0!"},{"$f":"ROWS($A$3:A729)","v":727},"",""]
["Area Outside Region","    Inlet Porirua Harbour","..","..",0,"Inlet Porirua Harbour",0,{"$error":"#DIV/0!"},{"$f":"ROWS($A$3:A730)","v":728},"",""]
["Area Outside Region","    Inlet Port Lyttelton","..","..",6,"Inlet Port Lyttelton",0,{"$error":"#DIV/0!"},{"$f":"ROWS($A$3:A731)","v":729},"",""]
["Area Outside Region","    Inlet Port Napier","..","..",3,"Inlet Port Napier",0,{"$error":"#DIV/0!"},{"$f":"ROWS($A$3:A732)","v":730},"",""]
["Area Outside Region","    Inlet Port Oamaru","..","..",0,"Inlet Port Oamaru",0,{"$error":"#DIV/0!"},{"$f":"ROWS($A$3:A733)","v":731},"",""]
["Area Outside Region","    Inlet Port Taranaki","..","..",0,"Inlet Port Taranaki",0,{"$error":"#DIV/0!"},{"$f":"ROWS($A$3:A734)","v":732},"",""]
["Area Outside Region","    Inlet Port Timaru","..","..",0,"Inlet Port Timaru",0,{"$error":"#DIV/0!"},{"$f":"ROWS($A$3:A735)","v":733},"",""]
["Area Outside Region","    Inlet Tauranga Harbour North","..","..",0,"Inlet Tauranga Harbour North",1.97109E-3,0,{"$f":"ROWS($A$3:A736)","v":734},"",""]
["Area Outside Region","    Inlet Tauranga Harbour South","..","..",3,"Inlet Tauranga Harbour South",0,{"$error":"#DIV/0!"},{"$f":"ROWS($A$3:A737)","v":735},"",""]
["Area Outside Region","    Inlet Waimea West","..","..",0,"Inlet Waimea West",0,{"$error":"#DIV/0!"},{"$f":"ROWS($A$3:A738)","v":736},"",""]
["Area Outside Region","    Inlet Wairau River","..","..",0,"Inlet Wairau River",0,{"$error":"#DIV/0!"},{"$f":"ROWS($A$3:A739)","v":737},"",""]
["Area Outside Region","    Inlet Waitemata Harbour","..","..",3,"Inlet Waitemata Harbour",0,{"$error":"#DIV/0!"},{"$f":"ROWS($A$3:A740)","v":738},"",""]
["Area Outside Region","    Inlet Waitomo District","..","..",0,"Inlet Waitomo District",0,{"$error":"#DIV/0!"},{"$f":"ROWS($A$3:A741)","v":739},"",""]
["Area Outside Region","    Inlet Wellington Harbour","..","..",0,"Inlet Wellington Harbour",0,{"$error":"#DIV/0!"},{"$f":"ROWS($A$3:A742)","v":740},"",""]
["Area Outside Region","    Inlet Whangarei Harbour","..","..",6,"Inlet Whangarei Harbour",0,{"$error":"#DIV/0!"},{"$f":"ROWS($A$3:A743)","v":741},"",""]
["Area Outside Region","    Inlets Buller District","..","..",0,"Inlets Buller District",0,{"$error":"#DIV/0!"},{"$f":"ROWS($A$3:A744)","v":742},"",""]
["Area Outside Region","    Inlets Far North District","..","..",78,"Inlets Far North District",0,{"$error":"#DIV/0!"},{"$f":"ROWS($A$3:A745)","v":743},"",""]
["Area Outside Region","    Inlets Fiordland","..","..",9,"Inlets Fiordland",0,{"$error":"#DIV/0!"},{"$f":"ROWS($A$3:A746)","v":744},"",""]
["Area Outside Region","    Inlets Golden Bay","..","..",0,"Inlets Golden Bay",0,{"$error":"#DIV/0!"},{"$f":"ROWS($A$3:A747)","v":745},"",""]
["Area Outside Region","    Inlets Maketu","..","..",0,"Inlets Maketu",0,{"$error":"#DIV/0!"},{"$f":"ROWS($A$3:A748)","v":746},"",""]
["Area Outside Region","    Inlets Motueka","..","..",3,"Inlets Motueka",0,{"$error":"#DIV/0!"},{"$f":"ROWS($A$3:A749)","v":747},"",""]
["Area Outside Region","    Inlets Nelson City","..","..",66,"Inlets Nelson City",0,{"$error":"#DIV/0!"},{"$f":"ROWS($A$3:A750)","v":748},"",""]
["Area Outside Region","    Inlets other Auckland","..","..",9,"Inlets other Auckland",0,{"$error":"#DIV/0!"},{"$f":"ROWS($A$3:A751)","v":749},"",""]
["Area Outside Region","    Inlets other Christchurch City","..","..",0,"Inlets other Christchurch City",0,{"$error":"#DIV/0!"},{"$f":"ROWS($A$3:A752)","v":750},"",""]
["Area Outside Region","    Inlets other Dunedin City","..","..",0,"Inlets other Dunedin City",0,{"$error":"#DIV/0!"},{"$f":"ROWS($A$3:A753)","v":751},"",""]
["Area Outside Region","    Inlets other Southland District","..","..",3,"Inlets other Southland District",0,{"$error":"#DIV/0!"},{"$f":"ROWS($A$3:A754)","v":752},"",""]
["Area Outside Region","    Inlets other Whangarei District","..","..",15,"Inlets other Whangarei District",0,{"$error":"#DIV/0!"},{"$f":"ROWS($A$3:A755)","v":753},"",""]
["Area Outside Region","    Inlets Otorohanga District","..","..",0,"Inlets Otorohanga District",0,{"$error":"#DIV/0!"},{"$f":"ROWS($A$3:A756)","v":754},"",""]
["Area Outside Region","    Inlets Thames-Coromandel District","..","..",3,"Inlets Thames-Coromandel District",0,{"$error":"#DIV/0!"},{"$f":"ROWS($A$3:A757)","v":755},"",""]
["Area Outside Region","    Inlets Waikato District","..","..",0,"Inlets Waikato District",0,{"$error":"#DIV/0!"},{"$f":"ROWS($A$3:A758)","v":756},"",""]
["Area Outside Region","    Inlets Waikato Region","..","..",0,"Inlets Waikato Region",0,{"$error":"#DIV/0!"},{"$f":"ROWS($A$3:A759)","v":757},"",""]
["Area Outside Region","    Inlets Westland District","..","..",0,"Inlets Westland District",0,{"$error":"#DIV/0!"},{"$f":"ROWS($A$3:A760)","v":758},"",""]
["Area Outside Region","    Invercargill Central","..","..",552,"Invercargill Central",9.1822577499999998,60.115933905253314,{"$f":"ROWS($A$3:A761)","v":759},"",""]
["Area Outside Region","    Iona","..","..",1041,"Iona",1.4663894399999999,709.90691258660456,{"$f":"ROWS($A$3:A762)","v":760},"",""]
["Area Outside Region","    Irongate","..","..",108,"Irongate",8.2825180100000004,13.039512847373814,{"$f":"ROWS($A$3:A763)","v":761},"",""]
["Area Outside Region","    Irwell","..","..",684,"Irwell",128.19291077,5.3357084716424996,{"$f":"ROWS($A$3:A764)","v":762},"",""]
["Area Outside Region","    Island Bay East","..","..",1323,"Island Bay East",0.98299994000000002,1345.8800414575815,{"$f":"ROWS($A$3:A765)","v":763},"",""]
["Area Outside Region","    Island Bay West","..","..",1245,"Island Bay West",1.16832643,1065.6268385540161,{"$f":"ROWS($A$3:A766)","v":764},"",""]
["Area Outside Region","    Islands Bay of Plenty Region","..","..",15,"Islands Bay of Plenty Region",24.885688200000001,0.60275608532296887,{"$f":"ROWS($A$3:A767)","v":765},"",""]
["Area Outside Region","    Islands Tasman District","..","..",54,"Islands Tasman District",15.89191638,3.3979539477038201,{"$f":"ROWS($A$3:A768)","v":766},"",""]
["Area Outside Region","    Islands Thames-Coromandel District","..","..",21,"Islands Thames-Coromandel District",35.385127320000002,0.59346967470512968,{"$f":"ROWS($A$3:A769)","v":767},"",""]
["Area Outside Region","    Islington","..","..",381,"Islington",1.7788172200000001,214.18726764968014,{"$f":"ROWS($A$3:A770)","v":768},"",""]
["Area Outside Region","    Islington-Hornby Industrial","..","..",150,{"$f":"TRIM(B771)","v":"Islington-Hornby Industrial"},7.1791850799999999,{"$f":"E771/G771","v":20.89373631247852},{"$f":"ROWS($A$3:A771)","v":769},{"$f":"IF(A771=$M$2,I772,\"\")","v":""},""]
["Area Outside Region","    Jacks Point","..","..",507,"Jacks Point",14.48030644,35.013071173651213,{"$f":"ROWS($A$3:A772)","v":770},"",{"$f":"IFERROR(SMALL($J$3:$J$4612,I772)-1,\"\")","v":""}]
["Area Outside Region","    Jellie Park","..","..",1185,"Jellie Park",1.31125296,903.71578646426849,{"$f":"ROWS($A$3:A773)","v":771},"",""]
["Area Outside Region","    Johnsonville Central","..","..",1137,"Johnsonville Central",0.95242249999999995,1193.7979205657155,{"$f":"ROWS($A$3:A774)","v":772},"",""]
["Area Outside Region","    Johnsonville North","..","..",1176,"Johnsonville North",0.89334345999999998,1316.4029879392635,{"$f":"ROWS($A$3:A775)","v":773},"",""]
["Area Outside Region","    Johnsonville South","..","..",711,"Johnsonville South",0.7106867,1000.4408412314456,{"$f":"ROWS($A$3:A776)","v":774},"",""]
["Area Outside Region","    Johnsonville West","..","..",1203,"Johnsonville West",1.1761807799999999,1022.8019539649339,{"$f":"ROWS($A$3:A777)","v":775},"",""]
["Area Outside Region","    Judea","..","..",1068,"Judea",0.88360422999999999,1208.6859294460371,{"$f":"ROWS($A$3:A778)","v":776},"",""]
["Area Outside Region","    Kaeo","..","..",525,"Kaeo",255.57977503999899,2.05415315009897,{"$f":"ROWS($A$3:A779)","v":777},"",""]
["Area Outside Region","    Kahikatea","..","..",1182,"Kahikatea",0.97755502999999999,1209.1390906146737,{"$f":"ROWS($A$3:A780)","v":778},"",""]
["Area Outside Region","    Kahuranaki","..","..",930,"Kahuranaki",367.96131322999901,2.5274396154214491,{"$f":"ROWS($A$3:A781)","v":779},"",""]
["Area Outside Region","    Kahutara","..","..",522,"Kahutara",457.40019102999901,1.1412325797777469,{"$f":"ROWS($A$3:A782)","v":780},"",""]
["Area Outside Region","    Kaiapoi Central","..","..",975,"Kaiapoi Central",1.51313743,644.35654070099895,{"$f":"ROWS($A$3:A783)","v":781},"",""]
["Area Outside Region","    Kaiapoi East","..","..",174,"Kaiapoi East",5.0290705300000003,34.598838684411923,{"$f":"ROWS($A$3:A784)","v":782},"",""]
["Area Outside Region","    Kaiapoi North West","..","..",849,"Kaiapoi North West",3.5139612699999998,241.60767144710164,{"$f":"ROWS($A$3:A785)","v":783},"",""]
["Area Outside Region","    Kaiapoi South","..","..",735,"Kaiapoi South",0.87520507000000003,839.80317892811104,{"$f":"ROWS($A$3:A786)","v":784},"",""]
["Area Outside Region","    Kaiapoi West","..","..",489,"Kaiapoi West",0.51025520000000002,958.34398159979548,{"$f":"ROWS($A$3:A787)","v":785},"",""]
["Area Outside Region","    Kaikohe","..","..",1437,"Kaikohe",5.6751226800000003,253.21038522465912,{"$f":"ROWS($A$3:A788)","v":786},"",""]
["Area Outside Region","    Kaikorai-Bradford","..","..",474,"Kaikorai-Bradford",3.4390155600000001,137.83014113492408,{"$f":"ROWS($A$3:A789)","v":787},"",""]
["Area Outside Region","    Kaikoura","..","..",1461,"Kaikoura",9.2544329699999999,157.87028818903423,{"$f":"ROWS($A$3:A790)","v":788},"",""]
["Area Outside Region","    Kaikoura Ranges","..","..",894,"Kaikoura Ranges",2037.53739756,0.43876495276630822,{"$f":"ROWS($A$3:A791)","v":789},"",""]
["Area Outside Region","    Kaimai","..","..",741,"Kaimai",327.89613872000001,2.259861927293878,{"$f":"ROWS($A$3:A792)","v":790},"",""]
["Area Outside Region","    Kaimanawa","..","..",18,"Kaimanawa",1342.1737090700001,1.3411080755316168E-2,{"$f":"ROWS($A$3:A793)","v":791},"",""]
["Area Outside Region","    Kaingaroa-Whakarewarewa","..","..",1110,"Kaingaroa-Whakarewarewa",465.80261390999902,2.3829836219306206,{"$f":"ROWS($A$3:A794)","v":792},"",""]
["Area Outside Region","    Kainui-Gordonton","..","..",597,"Kainui-Gordonton",88.432758219999897,6.7508919999397108,{"$f":"ROWS($A$3:A795)","v":793},"",""]
["Area Outside Region","    Kaipaki","..","..",582,"Kaipaki",36.522637029999899,15.935322510308934,{"$f":"ROWS($A$3:A796)","v":794},"",""]
["Area Outside Region","    Kaipara Coastal","..","..",2007,"Kaipara Coastal",1248.06198971,1.6080932009365552,{"$f":"ROWS($A$3:A797)","v":795},"",""]
["Area Outside Region","    Kaipara Hills","..","..",741,"Kaipara Hills",282.59738123,2.6221049776710985,{"$f":"ROWS($A$3:A798)","v":796},"",""]
["Area Outside Region","    Kaitaia East","..","..",873,"Kaitaia East",5.2663102899999998,165.77071078734329,{"$f":"ROWS($A$3:A799)","v":797},"",""]
["Area Outside Region","    Kaitaia West","..","..",1233,"Kaitaia West",3.21185052,383.89084184403453,{"$f":"ROWS($A$3:A800)","v":798},"",""]
["Area Outside Region","    Kaitake","..","..",783,"Kaitake",170.20208624,4.6004136453174889,{"$f":"ROWS($A$3:A801)","v":799},"",""]
["Area Outside Region","    Kaitangata-Matau","..","..",519,"Kaitangata-Matau",163.71039296999899,3.1702324488043359,{"$f":"ROWS($A$3:A802)","v":800},"",""]
["Area Outside Region","    Kaitawa","..","..",276,"Kaitawa",583.42668722999895,0.47306714972260955,{"$f":"ROWS($A$3:A803)","v":801},"",""]
["Area Outside Region","    Kaitemako (Tauranga City)","..","..",546,"Kaitemako (Tauranga City)",3.7436143199999998,145.84835758401522,{"$f":"ROWS($A$3:A804)","v":802},"",""]
["Area Outside Region","    Kaitemako (Western Bay of Plenty District)","..","..",648,"Kaitemako (Western Bay of Plenty District)",75.761940910000007,8.5531071698622352,{"$f":"ROWS($A$3:A805)","v":803},"",""]
["Area Outside Region","    Kaiteriteri-Riwaka","..","..",1188,"Kaiteriteri-Riwaka",28.56948379,41.582830433073077,{"$f":"ROWS($A$3:A806)","v":804},"",""]
["Area Outside Region","    Kaiti North","..","..",792,"Kaiti North",1.3279228599999999,596.42018663644365,{"$f":"ROWS($A$3:A807)","v":805},"",""]
["Area Outside Region","    Kaiti South","..","..",1032,"Kaiti South",3.4137248699999998,302.30907272852369,{"$f":"ROWS($A$3:A808)","v":806},"",""]
["Area Outside Region","    Kaitoke-Fordell","..","..",651,"Kaitoke-Fordell",261.31054118999901,2.4912887059028268,{"$f":"ROWS($A$3:A809)","v":807},"",""]
["Area Outside Region","    Kaiwaka","..","..",960,"Kaiwaka",259.02591835999903,3.7061928245565534,{"$f":"ROWS($A$3:A810)","v":808},"",""]
["Area Outside Region","    Kamo Central","..","..",660,"Kamo Central",1.0935470599999999,603.54055544715197,{"$f":"ROWS($A$3:A811)","v":809},"",""]
["Area Outside Region","    Kamo East","..","..",966,"Kamo East",1.4271622500000001,676.86767920045531,{"$f":"ROWS($A$3:A812)","v":810},"",""]
["Area Outside Region","    Kamo West","..","..",780,"Kamo West",4.4990075200000001,173.37157062586994,{"$f":"ROWS($A$3:A813)","v":811},"",""]
["Area Outside Region","    Kapiti Island","..","..",6,"Kapiti Island",19.258515209999899,0.3115504977706966,{"$f":"ROWS($A$3:A814)","v":812},"",""]
["Area Outside Region","    Kaponga-Mangatoki","..","..",543,"Kaponga-Mangatoki",172.81250681,3.1421336917298781,{"$f":"ROWS($A$3:A815)","v":813},"",""]
["Area Outside Region","    Karaka Bay-Worser Bay","..","..",636,"Karaka Bay-Worser Bay",0.67415910000000001,943.3974858457002,{"$f":"ROWS($A$3:A816)","v":814},"",""]
["Area Outside Region","    Karaka Creek","..","..",561,"Karaka Creek",34.780656489999899,16.129655291621599,{"$f":"ROWS($A$3:A817)","v":815},"",""]
["Area Outside Region","    Karaka Lakes","..","..",684,"Karaka Lakes",3.3305519000000001,205.37136803062577,{"$f":"ROWS($A$3:A818)","v":816},"",""]
["Area Outside Region","    Karamea","..","..",627,"Karamea",3129.3467454199899,0.20036130573182942,{"$f":"ROWS($A$3:A819)","v":817},"",""]
["Area Outside Region","    Karamu","..","..",450,"Karamu",13.294715350000001,33.848035715935808,{"$f":"ROWS($A$3:A820)","v":818},"",""]
["Area Outside Region","    Karanema-St Hill","..","..",783,"Karanema-St Hill",0.94539167000000002,828.22815648460278,{"$f":"ROWS($A$3:A821)","v":819},"",""]
["Area Outside Region","    Karangahape","..","..",1347,"Karangahape",0.28481656999999999,4729.3596717353912,{"$f":"ROWS($A$3:A822)","v":820},"",""]
["Area Outside Region","    Karapiro","..","..",903,"Karapiro",190.80649502,4.7325433020786276,{"$f":"ROWS($A$3:A823)","v":821},"",""]
["Area Outside Region","    Karikari Peninsula","..","..",1155,"Karikari Peninsula",174.18081591000001,6.6310402438164804,{"$f":"ROWS($A$3:A824)","v":822},"",""]
["Area Outside Region","    Karori East","..","..",1302,"Karori East",1.22979795,1058.7104979317944,{"$f":"ROWS($A$3:A825)","v":823},"",""]
["Area Outside Region","    Karori North","..","..",987,"Karori North",1.61965979,609.38723434012024,{"$f":"ROWS($A$3:A826)","v":824},"",""]
["Area Outside Region","    Karori Park","..","..",1737,"Karori Park",2.0274424600000001,856.74441285993385,{"$f":"ROWS($A$3:A827)","v":825},"",""]
["Area Outside Region","    Karori South","..","..",1617,"Karori South",1.4014139800000001,1153.8346434934238,{"$f":"ROWS($A$3:A828)","v":826},"",""]
["Area Outside Region","    Karoro","..","..",462,"Karoro",6.5022919000000003,71.051870187494956,{"$f":"ROWS($A$3:A829)","v":827},"",""]
["Area Outside Region","    Katikati","..","..",2196,"Katikati",9.5330450599999903,230.35661597932301,{"$f":"ROWS($A$3:A830)","v":828},"",""]
["Area Outside Region","    Kauaeranga","..","..",264,"Kauaeranga",180.50262398000001,1.4625826161355506,{"$f":"ROWS($A$3:A831)","v":829},"",""]
["Area Outside Region","    Kauri","..","..",618,"Kauri",56.103987840000002,11.015259766604141,{"$f":"ROWS($A$3:A832)","v":830},"",""]
["Area Outside Region","    Kaurilands","..","..",1101,"Kaurilands",1.4613221599999999,753.42729354080279,{"$f":"ROWS($A$3:A833)","v":831},"",""]
["Area Outside Region","    Kauwhata","..","..",738,"Kauwhata",154.28816889000001,4.7832572342352329,{"$f":"ROWS($A$3:A834)","v":832},"",""]
["Area Outside Region","    Kawaha","..","..",753,{"$f":"TRIM(B835)","v":"Kawaha"},1.0315720799999999,{"$f":"E835/G835","v":729.95383899882211},{"$f":"ROWS($A$3:A835)","v":833},{"$f":"IF(A835=$M$2,I836,\"\")","v":""},""]
["Area Outside Region","    Kawakawa","..","..",513,"Kawakawa",1.73247964,296.10737589966715,{"$f":"ROWS($A$3:A836)","v":834},"",{"$f":"IFERROR(SMALL($J$3:$J$4612,I836)-1,\"\")","v":""}]
["Area Outside Region","    Kawakawa Bay-Orere","..","..",978,"Kawakawa Bay-Orere",208.77544671000001,4.6844589026720804,{"$f":"ROWS($A$3:A837)","v":835},"",""]
["Area Outside Region","    Kawaroa","..","..",1131,"Kawaroa",1.1328721900000001,998.34739521675431,{"$f":"ROWS($A$3:A838)","v":836},"",""]
["Area Outside Region","    Kawerau Industrial","..","..",60,"Kawerau Industrial",5.83727865,10.278762347588119,{"$f":"ROWS($A$3:A839)","v":837},"",""]
["Area Outside Region","    Kawiu North","..","..",726,"Kawiu North",1.7576940400000001,413.0411684163189,{"$f":"ROWS($A$3:A840)","v":838},"",""]
["Area Outside Region","    Kawiu South","..","..",1032,"Kawiu South",1.02386946,1007.9409927902333,{"$f":"ROWS($A$3:A841)","v":839},"",""]
["Area Outside Region","    Kelburn","..","..",801,"Kelburn",0.49662318,1612.892897991592,{"$f":"ROWS($A$3:A842)","v":840},"",""]
["Area Outside Region","    Kelson","..","..",1041,"Kelson",5.3577173800000004,194.29916252880065,{"$f":"ROWS($A$3:A843)","v":841},"",""]
["Area Outside Region","    Kelston North","..","..",798,"Kelston North",0.96688836,825.327962371995,{"$f":"ROWS($A$3:A844)","v":842},"",""]
["Area Outside Region","    Kelston South","..","..",765,"Kelston South",0.83674883,914.25284693854906,{"$f":"ROWS($A$3:A845)","v":843},"",""]
["Area Outside Region","    Kelvin Grove North","..","..",774,"Kelvin Grove North",2.14179568,361.37900885111509,{"$f":"ROWS($A$3:A846)","v":844},"",""]
["Area Outside Region","    Kelvin Grove West","..","..",939,"Kelvin Grove West",0.78190157999999998,1200.9184071478664,{"$f":"ROWS($A$3:A847)","v":845},"",""]
["Area Outside Region","    Kelvin Heights","..","..",666,"Kelvin Heights",9.2753079899999999,71.803545576926979,{"$f":"ROWS($A$3:A848)","v":846},"",""]
["Area Outside Region","    Kendallvale","..","..",369,"Kendallvale",2.1445696299999999,172.06249442224919,{"$f":"ROWS($A$3:A849)","v":847},"",""]
["Area Outside Region","    Kenmure","..","..",810,"Kenmure",1.1002203500000001,736.21615888126405,{"$f":"ROWS($A$3:A850)","v":848},"",""]
["Area Outside Region","    Kennedys Bush","..","..",363,"Kennedys Bush",12.005908700000001,30.235112482572848,{"$f":"ROWS($A$3:A851)","v":849},"",""]
["Area Outside Region","    Kennington-Tisbury","..","..",567,"Kennington-Tisbury",37.105313799999898,15.280830208205963,{"$f":"ROWS($A$3:A852)","v":850},"",""]
["Area Outside Region","    Kensington (Timaru District)","..","..",690,"Kensington (Timaru District)",0.72551785000000002,951.04482956553034,{"$f":"ROWS($A$3:A853)","v":851},"",""]
["Area Outside Region","    Kensington (Whangarei District)","..","..",1542,"Kensington (Whangarei District)",3.1111852899999999,495.63103970577083,{"$f":"ROWS($A$3:A854)","v":852},"",""]
["Area Outside Region","    Kere Kere","..","..",402,"Kere Kere",228.55623008000001,1.7588669530438554,{"$f":"ROWS($A$3:A855)","v":853},"",""]
["Area Outside Region","    Kerikeri Central","..","..",1203,"Kerikeri Central",3.7117369600000001,324.10701861804347,{"$f":"ROWS($A$3:A856)","v":854},"",""]
["Area Outside Region","    Kerikeri South","..","..",1134,"Kerikeri South",15.4684322699999,73.310596717634098,{"$f":"ROWS($A$3:A857)","v":855},"",""]
["Area Outside Region","    Kermadec Islands","..","..",9,"Kermadec Islands",0,{"$error":"#DIV/0!"},{"$f":"ROWS($A$3:A858)","v":856},"",""]
["Area Outside Region","    Kermadec Islands","..","..",9,"Kermadec Islands",0,{"$error":"#DIV/0!"},{"$f":"ROWS($A$3:A859)","v":857},"",""]
["Area Outside Region","    Kew (Dunedin City)","..","..",780,"Kew (Dunedin City)",0.70651138000000002,1104.0161872551862,{"$f":"ROWS($A$3:A860)","v":858},"",""]
["Area Outside Region","    Kew (Invercargill City)","..","..",873,"Kew (Invercargill City)",2.0303133799999999,429.98288274098849,{"$f":"ROWS($A$3:A861)","v":859},"",""]
["Area Outside Region","    Khandallah North","..","..",1041,"Khandallah North",1.0184311699999999,1022.1603881193072,{"$f":"ROWS($A$3:A862)","v":860},"",""]
["Area Outside Region","    Khandallah Reserve","..","..",774,"Khandallah Reserve",1.1655403499999999,664.06967377834678,{"$f":"ROWS($A$3:A863)","v":861},"",""]
["Area Outside Region","    Khandallah South","..","..",780,"Khandallah South",0.72508826999999998,1075.731096849767,{"$f":"ROWS($A$3:A864)","v":862},"",""]
["Area Outside Region","    Kihikihi Central","..","..",879,"Kihikihi Central",2.2382739300000001,392.71332620131977,{"$f":"ROWS($A$3:A865)","v":863},"",""]
["Area Outside Region","    Kilbirnie Central","..","..",1176,"Kilbirnie Central",0.97209153000000004,1209.7626238961263,{"$f":"ROWS($A$3:A866)","v":864},"",""]
["Area Outside Region","    Kilbirnie East","..","..",849,"Kilbirnie East",0.47662376000000001,1781.2792211617818,{"$f":"ROWS($A$3:A867)","v":865},"",""]
["Area Outside Region","    Kimberley","..","..",195,"Kimberley",129.45239359000001,1.5063452640173001,{"$f":"ROWS($A$3:A868)","v":866},"",""]
["Area Outside Region","    Kimbolton North","..","..",1191,"Kimbolton North",4.2250905999999997,281.88744638990704,{"$f":"ROWS($A$3:A869)","v":867},"",""]
["Area Outside Region","    Kimbolton South","..","..",837,"Kimbolton South",1.35407415,618.13453864398787,{"$f":"ROWS($A$3:A870)","v":868},"",""]
["Area Outside Region","    Kimbolton West","..","..",1035,"Kimbolton West",1.1607447099999999,891.66893554052911,{"$f":"ROWS($A$3:A871)","v":869},"",""]
["Area Outside Region","    King Edward Park","..","..",633,"King Edward Park",1.08208134,584.9837499277088,{"$f":"ROWS($A$3:A872)","v":870},"",""]
["Area Outside Region","    King Park","..","..",570,"King Park",0.84279915999999999,676.31771251409407,{"$f":"ROWS($A$3:A873)","v":871},"",""]
["Area Outside Region","    Kingsbury","..","..",1107,"Kingsbury",2.5810552800000002,428.89433968264325,{"$f":"ROWS($A$3:A874)","v":872},"",""]
["Area Outside Region","    Kingseat-Karaka","..","..",1083,"Kingseat-Karaka",86.6601877599999,12.497088086161346,{"$f":"ROWS($A$3:A875)","v":873},"",""]
["Area Outside Region","    Kingsland","..","..",1218,"Kingsland",0.77242480999999996,1576.8525094371323,{"$f":"ROWS($A$3:A876)","v":874},"",""]
["Area Outside Region","    Kingston","..","..",234,"Kingston",1012.53590033,0.23110291686816836,{"$f":"ROWS($A$3:A877)","v":875},"",""]
["Area Outside Region","    Kingston-Mornington-Vogeltown","..","..",1308,"Kingston-Mornington-Vogeltown",0.98836206000000004,1323.401669222309,{"$f":"ROWS($A$3:A878)","v":876},"",""]
["Area Outside Region","    Kingsway","..","..",765,"Kingsway",0.90311039999999998,847.07251737993499,{"$f":"ROWS($A$3:A879)","v":877},"",""]
["Area Outside Region","    Kingswell","..","..",918,"Kingswell",1.90459373,481.99255596625324,{"$f":"ROWS($A$3:A880)","v":878},"",""]
["Area Outside Region","    Kinleith","..","..",639,"Kinleith",947.55249938999896,0.67436896679747638,{"$f":"ROWS($A$3:A881)","v":879},"",""]
["Area Outside Region","    Kirikiriroa","..","..",111,"Kirikiriroa",0.50947204000000001,217.87260396075905,{"$f":"ROWS($A$3:A882)","v":880},"",""]
["Area Outside Region","    Kiripaka","..","..",378,"Kiripaka",72.0674305699999,5.2450877880659892,{"$f":"ROWS($A$3:A883)","v":881},"",""]
["Area Outside Region","    Kirwee","..","..",519,"Kirwee",97.188996009999897,5.3401107255660865,{"$f":"ROWS($A$3:A884)","v":882},"",""]
["Area Outside Region","    Kiwitea","..","..",645,"Kiwitea",783.84226615,0.82286963570878624,{"$f":"ROWS($A$3:A885)","v":883},"",""]
["Area Outside Region","    Kohimarama","..","..",1875,"Kohimarama",1.5129335500000001,1239.3141787357415,{"$f":"ROWS($A$3:A886)","v":884},"",""]
["Area Outside Region","    Kohukohu-Broadwood","..","..",381,"Kohukohu-Broadwood",209.19924258,1.8212303032325825,{"$f":"ROWS($A$3:A887)","v":885},"",""]
["Area Outside Region","    Kokotau","..","..",504,"Kokotau",120.46382134,4.1838287578267854,{"$f":"ROWS($A$3:A888)","v":886},"",""]
["Area Outside Region","    Konini","..","..",1260,"Konini",1.9717604799999999,639.02284926615425,{"$f":"ROWS($A$3:A889)","v":887},"",""]
["Area Outside Region","    Kopuaranga","..","..",405,"Kopuaranga",458.25262168,0.88379199777456685,{"$f":"ROWS($A$3:A890)","v":888},"",""]
["Area Outside Region","    Kopurererua","..","..",453,"Kopurererua",20.2714310799999,22.346720279010626,{"$f":"ROWS($A$3:A891)","v":889},"",""]
["Area Outside Region","    Korokoro","..","..",570,"Korokoro",1.8494290900000001,308.20321962168333,{"$f":"ROWS($A$3:A892)","v":890},"",""]
["Area Outside Region","    Koutu","..","..",738,"Koutu",0.95639715999999997,771.64595511764173,{"$f":"ROWS($A$3:A893)","v":891},"",""]
["Area Outside Region","    Kuirau","..","..",504,"Kuirau",1.18969945,423.63640665716036,{"$f":"ROWS($A$3:A894)","v":892},"",""]
["Area Outside Region","    Kumeu Rural East","..","..",681,"Kumeu Rural East",14.92218201,45.636757381972181,{"$f":"ROWS($A$3:A895)","v":893},"",""]
["Area Outside Region","    Kumeu Rural West","..","..",606,"Kumeu Rural West",24.4333556499999,24.802160156826535,{"$f":"ROWS($A$3:A896)","v":894},"",""]
["Area Outside Region","    Kumeu-Huapai","..","..",1335,"Kumeu-Huapai",6.3210668999999999,211.19852409725326,{"$f":"ROWS($A$3:A897)","v":895},"",""]
["Area Outside Region","    Kuripuni","..","..",699,"Kuripuni",1.25705596,556.0611637368952,{"$f":"ROWS($A$3:A898)","v":896},"",""]
["Area Outside Region","    Ladbrooks","..","..",615,{"$f":"TRIM(B899)","v":"Ladbrooks"},50.039210609999898,{"$f":"E899/G899","v":12.290361748374536},{"$f":"ROWS($A$3:A899)","v":897},{"$f":"IF(A899=$M$2,I900,\"\")","v":""},""]
["Area Outside Region","    Laingholm","..","..",879,"Laingholm",4.0782995099999999,215.53100694166525,{"$f":"ROWS($A$3:A900)","v":898},"",{"$f":"IFERROR(SMALL($J$3:$J$4612,I900)-1,\"\")","v":""}]
["Area Outside Region","    Laird Park","..","..",1026,"Laird Park",1.11351193,921.40907731451068,{"$f":"ROWS($A$3:A901)","v":899},"",""]
["Area Outside Region","    Lake Brunner","..","..",564,"Lake Brunner",1301.2603879400001,0.43342593475304153,{"$f":"ROWS($A$3:A902)","v":900},"",""]
["Area Outside Region","    Lake Cameron","..","..",519,"Lake Cameron",51.516233409999899,10.07449430297938,{"$f":"ROWS($A$3:A903)","v":901},"",""]
["Area Outside Region","    Lake Hawea","..","..",699,"Lake Hawea",2.3889951699999998,292.5916338290462,{"$f":"ROWS($A$3:A904)","v":902},"",""]
["Area Outside Region","    Lake Hayes","..","..",237,"Lake Hayes",5.9252179600000003,39.998528594212253,{"$f":"ROWS($A$3:A905)","v":903},"",""]
["Area Outside Region","    Lake Hayes Estate","..","..",690,"Lake Hayes Estate",1.9363872200000001,356.33368825890102,{"$f":"ROWS($A$3:A906)","v":904},"",""]
["Area Outside Region","    Lake Manuwai-Kapiro","..","..",843,"Lake Manuwai-Kapiro",59.060857339999899,14.273412848496951,{"$f":"ROWS($A$3:A907)","v":905},"",""]
["Area Outside Region","    Lake Ngaroto","..","..",447,"Lake Ngaroto",94.567884230000004,4.7267632520237468,{"$f":"ROWS($A$3:A908)","v":906},"",""]
["Area Outside Region","    Lake Taupo Bays","..","..",2712,"Lake Taupo Bays",1154.6674235099899,2.3487282526391775,{"$f":"ROWS($A$3:A909)","v":907},"",""]
["Area Outside Region","    Lancaster Park","..","..",99,"Lancaster Park",1.11557726,88.743293315247385,{"$f":"ROWS($A$3:A910)","v":908},"",""]
["Area Outside Region","    Lansdowne East","..","..",1167,"Lansdowne East",3.3261858700000002,350.85231120893434,{"$f":"ROWS($A$3:A911)","v":909},"",""]
["Area Outside Region","    Lansdowne West","..","..",699,"Lansdowne West",2.2680044499999998,308.20045348676456,{"$f":"ROWS($A$3:A912)","v":910},"",""]
["Area Outside Region","    Leabank","..","..",1143,"Leabank",1.48914276,767.55569089964217,{"$f":"ROWS($A$3:A913)","v":911},"",""]
["Area Outside Region","    Leamington Central","..","..",897,"Leamington Central",1.19328598,751.70580651588648,{"$f":"ROWS($A$3:A914)","v":912},"",""]
["Area Outside Region","    Leamington East","..","..",804,"Leamington East",1.4141061699999999,568.55702708658714,{"$f":"ROWS($A$3:A915)","v":913},"",""]
["Area Outside Region","    Leamington South","..","..",657,"Leamington South",2.2443872599999999,292.730230521804,{"$f":"ROWS($A$3:A916)","v":914},"",""]
["Area Outside Region","    Leamington West","..","..",684,"Leamington West",1.2623075800000001,541.86476484598143,{"$f":"ROWS($A$3:A917)","v":915},"",""]
["Area Outside Region","    Leeston","..","..",885,"Leeston",2.4368016300000002,363.18097833839676,{"$f":"ROWS($A$3:A918)","v":916},"",""]
["Area Outside Region","    Lepperton-Brixton","..","..",675,"Lepperton-Brixton",46.534207780000003,14.505458074868294,{"$f":"ROWS($A$3:A919)","v":917},"",""]
["Area Outside Region","    Levels","..","..",528,"Levels",88.026713049999898,5.9981792083965653,{"$f":"ROWS($A$3:A920)","v":918},"",""]
["Area Outside Region","    Levels Valley","..","..",459,"Levels Valley",386.37837236000001,1.1879546911397418,{"$f":"ROWS($A$3:A921)","v":919},"",""]
["Area Outside Region","    Levin Central","..","..",582,"Levin Central",1.0476049700000001,555.55291991407785,{"$f":"ROWS($A$3:A922)","v":920},"",""]
["Area Outside Region","    Lilybrook","..","..",1254,"Lilybrook",1.2632453299999999,992.68128701493004,{"$f":"ROWS($A$3:A923)","v":921},"",""]
["Area Outside Region","    Lincoln East","..","..",1368,"Lincoln East",4.9878051699999997,274.26893260147131,{"$f":"ROWS($A$3:A924)","v":922},"",""]
["Area Outside Region","    Lincoln West","..","..",1038,"Lincoln West",4.0710419199999999,254.97158231178324,{"$f":"ROWS($A$3:A925)","v":923},"",""]
["Area Outside Region","    Linden","..","..",1224,"Linden",1.1175674099999999,1095.2359464383451,{"$f":"ROWS($A$3:A926)","v":924},"",""]
["Area Outside Region","    Lindis-Nevis Valleys","..","..",1338,"Lindis-Nevis Valleys",2884.6013791599898,0.46384225205828344,{"$f":"ROWS($A$3:A927)","v":925},"",""]
["Area Outside Region","    Linton Camp","..","..",408,"Linton Camp",4.98324546,81.874353425889637,{"$f":"ROWS($A$3:A928)","v":926},"",""]
["Area Outside Region","    Linwood East","..","..",861,"Linwood East",0.91216529000000002,943.90787441605016,{"$f":"ROWS($A$3:A929)","v":927},"",""]
["Area Outside Region","    Linwood North","..","..",1119,"Linwood North",0.85744180000000003,1305.0448438599565,{"$f":"ROWS($A$3:A930)","v":928},"",""]
["Area Outside Region","    Linwood West","..","..",2406,"Linwood West",1.07759998,2232.7394623745258,{"$f":"ROWS($A$3:A931)","v":929},"",""]
["Area Outside Region","    Loburn","..","..",831,"Loburn",89.427037720000001,9.2924916354928104,{"$f":"ROWS($A$3:A932)","v":930},"",""]
["Area Outside Region","    Lochain Park","..","..",792,"Lochain Park",0.93643964999999996,845.75658452736388,{"$f":"ROWS($A$3:A933)","v":931},"",""]
["Area Outside Region","    Long Bay","..","..",567,"Long Bay",2.7871574799999999,203.43306902055639,{"$f":"ROWS($A$3:A934)","v":932},"",""]
["Area Outside Region","    Longlands-Pukahu","..","..",729,"Longlands-Pukahu",31.266741119999899,23.315509512236698,{"$f":"ROWS($A$3:A935)","v":933},"",""]
["Area Outside Region","    Longwood Forest","..","..",1155,"Longwood Forest",2198.42509204,0.52537609954598574,{"$f":"ROWS($A$3:A936)","v":934},"",""]
["Area Outside Region","    Lower Aramoho","..","..",789,"Lower Aramoho",2.0840239600000001,378.59449562182573,{"$f":"ROWS($A$3:A937)","v":935},"",""]
["Area Outside Region","    Lower Moutere","..","..",708,"Lower Moutere",62.017963880000003,11.416047153207506,{"$f":"ROWS($A$3:A938)","v":936},"",""]
["Area Outside Region","    Lower Vogeltown","..","..",1287,"Lower Vogeltown",1.50008305,857.95249803002571,{"$f":"ROWS($A$3:A939)","v":937},"",""]
["Area Outside Region","    Lower Wairau","..","..",528,"Lower Wairau",116.72206499000001,4.5235663029542499,{"$f":"ROWS($A$3:A940)","v":938},"",""]
["Area Outside Region","    Lower Waitaki","..","..",609,"Lower Waitaki",172.9347558,3.5215593139895596,{"$f":"ROWS($A$3:A941)","v":939},"",""]
["Area Outside Region","    Lucknow","..","..",507,"Lucknow",0.57778821000000002,877.48415634856929,{"$f":"ROWS($A$3:A942)","v":940},"",""]
["Area Outside Region","    Lumsden-Balfour","..","..",723,"Lumsden-Balfour",767.66967180999904,0.94181133702380393,{"$f":"ROWS($A$3:A943)","v":941},"",""]
["Area Outside Region","    Lyall Bay","..","..",1095,"Lyall Bay",0.54786345999999997,1998.6731730566592,{"$f":"ROWS($A$3:A944)","v":942},"",""]
["Area Outside Region","    Lyalldale","..","..",267,"Lyalldale",109.32681150000001,2.4422188513199252,{"$f":"ROWS($A$3:A945)","v":943},"",""]
["Area Outside Region","    Lynfield North","..","..",903,"Lynfield North",0.94159196999999994,959.01412583202045,{"$f":"ROWS($A$3:A946)","v":944},"",""]
["Area Outside Region","    Lynfield South","..","..",1449,"Lynfield South",1.5756576900000001,919.61598588079107,{"$f":"ROWS($A$3:A947)","v":945},"",""]
["Area Outside Region","    Lynmore","..","..",1281,"Lynmore",1.97245772,649.44357844080935,{"$f":"ROWS($A$3:A948)","v":946},"",""]
["Area Outside Region","    Lyttelton","..","..",1494,"Lyttelton",4.4558376300000004,335.29049396712418,{"$f":"ROWS($A$3:A949)","v":947},"",""]
["Area Outside Region","    Lytton","..","..",576,"Lytton",0.85660815000000001,672.41947207716851,{"$f":"ROWS($A$3:A950)","v":948},"",""]
["Area Outside Region","    Macandrew Bay-Company Bay","..","..",675,"Macandrew Bay-Company Bay",2.58091874,261.53477424089687,{"$f":"ROWS($A$3:A951)","v":949},"",""]
["Area Outside Region","    Mackenzie Lakes","..","..",1098,"Mackenzie Lakes",5134.2521465099899,0.21385782557375294,{"$f":"ROWS($A$3:A952)","v":950},"",""]
["Area Outside Region","    Maeroa","..","..",1431,"Maeroa",1.2798826699999999,1118.0712369517435,{"$f":"ROWS($A$3:A953)","v":951},"",""]
["Area Outside Region","    Maheno","..","..",1062,"Maheno",262.40950212000001,4.0471095422236152,{"$f":"ROWS($A$3:A954)","v":952},"",""]
["Area Outside Region","    Mahia","..","..",1062,"Mahia",472.00228816999902,2.2499890924628398,{"$f":"ROWS($A$3:A955)","v":953},"",""]
["Area Outside Region","    Mahora","..","..",885,"Mahora",0.94013557000000003,941.35359648183498,{"$f":"ROWS($A$3:A956)","v":954},"",""]
["Area Outside Region","    Maihiihi","..","..",741,"Maihiihi",469.06503636999901,1.5797382932960673,{"$f":"ROWS($A$3:A957)","v":955},"",""]
["Area Outside Region","    Mairangi Bay North","..","..",1026,"Mairangi Bay North",0.92453074000000002,1109.7521754657935,{"$f":"ROWS($A$3:A958)","v":956},"",""]
["Area Outside Region","    Mairangi Bay South","..","..",960,"Mairangi Bay South",0.80141814,1197.8765541793202,{"$f":"ROWS($A$3:A959)","v":957},"",""]
["Area Outside Region","    Mairehau North","..","..",1227,"Mairehau North",2.2166474799999998,553.538625817038,{"$f":"ROWS($A$3:A960)","v":958},"",""]
["Area Outside Region","    Mairehau South","..","..",1494,"Mairehau South",1.3862817599999999,1077.7029916342549,{"$f":"ROWS($A$3:A961)","v":959},"",""]
["Area Outside Region","    Mairtown","..","..",1155,"Mairtown",0.94419074999999997,1223.269768317472,{"$f":"ROWS($A$3:A962)","v":960},"",""]
["Area Outside Region","    Maitai","..","..",633,{"$f":"TRIM(B963)","v":"Maitai"},0.93223506,{"$f":"E963/G963","v":679.01329520904312},{"$f":"ROWS($A$3:A963)","v":961},{"$f":"IF(A963=$M$2,I964,\"\")","v":""},""]
["Area Outside Region","    Maitlands","..","..",915,"Maitlands",0.76875789000000005,1190.2316865977141,{"$f":"ROWS($A$3:A964)","v":962},"",{"$f":"IFERROR(SMALL($J$3:$J$4612,I964)-1,\"\")","v":""}]
["Area Outside Region","    Makahika","..","..",429,"Makahika",170.22394183,2.5202095274496439,{"$f":"ROWS($A$3:A965)","v":963},"",""]
["Area Outside Region","    Makaraka-Awapuni","..","..",399,"Makaraka-Awapuni",8.1822998200000008,48.763796093700215,{"$f":"ROWS($A$3:A966)","v":964},"",""]
["Area Outside Region","    Makara-Ohariu","..","..",351,"Makara-Ohariu",177.48903855,1.9775869139159299,{"$f":"ROWS($A$3:A967)","v":965},"",""]
["Area Outside Region","    Makaretu","..","..",1008,"Makaretu",788.69928947999904,1.2780536428080076,{"$f":"ROWS($A$3:A968)","v":966},"",""]
["Area Outside Region","    Maketu","..","..",561,"Maketu",5.1545038999999999,108.83685624915329,{"$f":"ROWS($A$3:A969)","v":967},"",""]
["Area Outside Region","    Makikihi-Willowbridge","..","..",462,"Makikihi-Willowbridge",294.9108799,1.5665749603970442,{"$f":"ROWS($A$3:A970)","v":968},"",""]
["Area Outside Region","    Makino","..","..",1110,"Makino",1.7133083499999999,647.86936922358439,{"$f":"ROWS($A$3:A971)","v":969},"",""]
["Area Outside Region","    Makomako","..","..",609,"Makomako",0.85655749999999997,710.98554387767319,{"$f":"ROWS($A$3:A972)","v":970},"",""]
["Area Outside Region","    Malvern","..","..",999,"Malvern",0.99015235000000001,1008.9356451055233,{"$f":"ROWS($A$3:A973)","v":971},"",""]
["Area Outside Region","    Mana Island","..","..",6,"Mana Island",2.11347599,2.8389250828442107,{"$f":"ROWS($A$3:A974)","v":972},"",""]
["Area Outside Region","    Manaia-Kapuni","..","..",696,"Manaia-Kapuni",109.376142259999,6.3633621155291085,{"$f":"ROWS($A$3:A975)","v":973},"",""]
["Area Outside Region","    Manawahe","..","..",459,"Manawahe",267.07061964000002,1.7186465535546842,{"$f":"ROWS($A$3:A976)","v":974},"",""]
["Area Outside Region","    Mandeville-Ohoka","..","..",1110,"Mandeville-Ohoka",40.40061498,27.47482929528416,{"$f":"ROWS($A$3:A977)","v":975},"",""]
["Area Outside Region","    Mangaiti","..","..",543,"Mangaiti",258.10559591999902,2.1037901098754377,{"$f":"ROWS($A$3:A978)","v":976},"",""]
["Area Outside Region","    Mangakahia-Hukerenui","..","..",735,"Mangakahia-Hukerenui",658.54706100999897,1.1160933569010951,{"$f":"ROWS($A$3:A979)","v":977},"",""]
["Area Outside Region","    Mangakakahi Central","..","..",84,"Mangakakahi Central",1.7916133700000001,46.885115620676572,{"$f":"ROWS($A$3:A980)","v":978},"",""]
["Area Outside Region","    Mangakakahi West","..","..",723,"Mangakakahi West",1.01720246,710.7729566442456,{"$f":"ROWS($A$3:A981)","v":979},"",""]
["Area Outside Region","    Mangaonuku","..","..",402,"Mangaonuku",537.41805675000001,0.7480210144613828,{"$f":"ROWS($A$3:A982)","v":980},"",""]
["Area Outside Region","    Mangaoraka","..","..",669,"Mangaoraka",81.676849320000002,8.1908154583551465,{"$f":"ROWS($A$3:A983)","v":981},"",""]
["Area Outside Region","    Mangapapa East","..","..",477,"Mangapapa East",1.65717767,287.83878073857943,{"$f":"ROWS($A$3:A984)","v":982},"",""]
["Area Outside Region","    Mangapapa North","..","..",510,"Mangapapa North",0.61989691999999996,822.71742856860783,{"$f":"ROWS($A$3:A985)","v":983},"",""]
["Area Outside Region","    Mangapapa South","..","..",690,"Mangapapa South",0.84498227000000004,816.58518113048683,{"$f":"ROWS($A$3:A986)","v":984},"",""]
["Area Outside Region","    Mangarara","..","..",1257,"Mangarara",838.26740494000001,1.4995215042268897,{"$f":"ROWS($A$3:A987)","v":985},"",""]
["Area Outside Region","    Mangaroa","..","..",729,"Mangaroa",154.553387439999,4.7168167069972098,{"$f":"ROWS($A$3:A988)","v":986},"",""]
["Area Outside Region","    Mangatainoka","..","..",762,"Mangatainoka",496.50143797999903,1.5347387574549105,{"$f":"ROWS($A$3:A989)","v":987},"",""]
["Area Outside Region","    Mangatangi","..","..",393,"Mangatangi",257.805407,1.5244055761794011,{"$f":"ROWS($A$3:A990)","v":988},"",""]
["Area Outside Region","    Mangateretere","..","..",465,"Mangateretere",37.22491952,12.491632110854326,{"$f":"ROWS($A$3:A991)","v":989},"",""]
["Area Outside Region","    Mangawhai","..","..",579,"Mangawhai",1.9942758599999999,290.33094749489675,{"$f":"ROWS($A$3:A992)","v":990},"",""]
["Area Outside Region","    Mangawhai Heads","..","..",1965,"Mangawhai Heads",6.9888959699999997,281.16028746669127,{"$f":"ROWS($A$3:A993)","v":991},"",""]
["Area Outside Region","    Mangawhai Rural","..","..",1173,"Mangawhai Rural",91.180037749999897,12.864657977178796,{"$f":"ROWS($A$3:A994)","v":992},"",""]
["Area Outside Region","    Mangawhio","..","..",351,"Mangawhio",1368.5848472600001,0.25646930163133536,{"$f":"ROWS($A$3:A995)","v":993},"",""]
["Area Outside Region","    Mangere Bridge","..","..",1068,"Mangere Bridge",1.6180169600000001,660.06724676112174,{"$f":"ROWS($A$3:A996)","v":994},"",""]
["Area Outside Region","    Mangere Bridge Ambury","..","..",1230,"Mangere Bridge Ambury",3.14003429,391.7154675403242,{"$f":"ROWS($A$3:A997)","v":995},"",""]
["Area Outside Region","    Mangere Central","..","..",792,"Mangere Central",1.4449226399999999,548.12623048110038,{"$f":"ROWS($A$3:A998)","v":996},"",""]
["Area Outside Region","    Mangere East","..","..",921,"Mangere East",0.86872274000000005,1060.1771515731243,{"$f":"ROWS($A$3:A999)","v":997},"",""]
["Area Outside Region","    Mangere Mascot","..","..",795,"Mangere Mascot",0.78432155999999997,1013.6148750010136,{"$f":"ROWS($A$3:A1000)","v":998},"",""]
["Area Outside Region","    Mangere Mountain View","..","..",1059,"Mangere Mountain View",1.69738429,623.90114380050022,{"$f":"ROWS($A$3:A1001)","v":999},"",""]
["Area Outside Region","    Mangere North","..","..",480,"Mangere North",0.71610264999999995,670.29496399713094,{"$f":"ROWS($A$3:A1002)","v":1000},"",""]
["Area Outside Region","    Mangere South","..","..",747,"Mangere South",0.83312101999999999,896.62843940727839,{"$f":"ROWS($A$3:A1003)","v":1001},"",""]
["Area Outside Region","    Mangere South East","..","..",834,"Mangere South East",4.3312051499999997,192.55610646842717,{"$f":"ROWS($A$3:A1004)","v":1002},"",""]
["Area Outside Region","    Mangere West","..","..",882,"Mangere West",0.94253489000000001,935.77437754054915,{"$f":"ROWS($A$3:A1005)","v":1003},"",""]
["Area Outside Region","    Mangorei","..","..",756,"Mangorei",188.5394987,4.0097698636768468,{"$f":"ROWS($A$3:A1006)","v":1004},"",""]
["Area Outside Region","    Maniototo","..","..",1203,"Maniototo",2371.0690786499899,0.50736606994383704,{"$f":"ROWS($A$3:A1007)","v":1005},"",""]
["Area Outside Region","    Manly East","..","..",1554,"Manly East",1.5746307900000001,986.89801435928985,{"$f":"ROWS($A$3:A1008)","v":1006},"",""]
["Area Outside Region","    Manly West","..","..",996,"Manly West",1.0323979000000001,964.74431030903872,{"$f":"ROWS($A$3:A1009)","v":1007},"",""]
["Area Outside Region","    Manor Park","..","..",156,"Manor Park",1.59231711,97.970435047325466,{"$f":"ROWS($A$3:A1010)","v":1008},"",""]
["Area Outside Region","    Manuherikia-Ida Valleys","..","..",678,"Manuherikia-Ida Valleys",2511.0885647999899,0.27000242424902415,{"$f":"ROWS($A$3:A1011)","v":1009},"",""]
["Area Outside Region","    Manuka","..","..",657,"Manuka",1.31431633,499.87965986848843,{"$f":"ROWS($A$3:A1012)","v":1010},"",""]
["Area Outside Region","    Manukau Central","..","..",462,"Manukau Central",11.40067045,40.523932520126479,{"$f":"ROWS($A$3:A1013)","v":1011},"",""]
["Area Outside Region","    Manurewa Central","..","..",1047,"Manurewa Central",1.07399259,974.86706123363479,{"$f":"ROWS($A$3:A1014)","v":1012},"",""]
["Area Outside Region","    Manurewa East","..","..",780,"Manurewa East",0.82830356999999999,941.68373558983933,{"$f":"ROWS($A$3:A1015)","v":1013},"",""]
["Area Outside Region","    Manurewa South","..","..",1098,"Manurewa South",1.21704652,902.1840841383779,{"$f":"ROWS($A$3:A1016)","v":1014},"",""]
["Area Outside Region","    Manutahi-Waitotora","..","..",1032,"Manutahi-Waitotora",293.22169535,3.5195212917931178,{"$f":"ROWS($A$3:A1017)","v":1015},"",""]
["Area Outside Region","    Maori Hill","..","..",1014,"Maori Hill",1.0106075000000001,1003.3568917705438,{"$f":"ROWS($A$3:A1018)","v":1016},"",""]
["Area Outside Region","    Maoribank","..","..",1188,"Maoribank",3.4852831499999999,340.86183212976545,{"$f":"ROWS($A$3:A1019)","v":1017},"",""]
["Area Outside Region","    Mapara","..","..",1398,"Mapara",140.66578494999899,9.9384509210746064,{"$f":"ROWS($A$3:A1020)","v":1018},"",""]
["Area Outside Region","    Mara","..","..",3,"Mara",69.09271803,4.3419915810771877E-2,{"$f":"ROWS($A$3:A1021)","v":1019},"",""]
["Area Outside Region","    Maraekakaho","..","..",573,"Maraekakaho",820.40789416999905,0.69843306490815782,{"$f":"ROWS($A$3:A1022)","v":1020},"",""]
["Area Outside Region","    Maraenui","..","..",1053,"Maraenui",1.0524307100000001,1000.540928722994,{"$f":"ROWS($A$3:A1023)","v":1021},"",""]
["Area Outside Region","    Maraetai","..","..",954,"Maraetai",6.8851550399999999,138.5589713605055,{"$f":"ROWS($A$3:A1024)","v":1022},"",""]
["Area Outside Region","    Maraetarata","..","..",555,"Maraetarata",2.33161877,238.03205186926849,{"$f":"ROWS($A$3:A1025)","v":1023},"",""]
["Area Outside Region","    Maramarua","..","..",672,"Maramarua",267.66011442000001,2.510646763550016,{"$f":"ROWS($A$3:A1026)","v":1024},"",""]
["Area Outside Region","    Mararoa","..","..",549,{"$f":"TRIM(B1027)","v":"Mararoa"},2716.7613296300001,{"$f":"E1027/G1027","v":0.2020788480800296},{"$f":"ROWS($A$3:A1027)","v":1025},{"$f":"IF(A1027=$M$2,I1028,\"\")","v":""},""]
["Area Outside Region","    Marchwiel East","..","..",810,"Marchwiel East",0.93109584999999995,869.94265950170438,{"$f":"ROWS($A$3:A1028)","v":1026},"",{"$f":"IFERROR(SMALL($J$3:$J$4612,I1028)-1,\"\")","v":""}]
["Area Outside Region","    Marchwiel West","..","..",678,"Marchwiel West",0.84044417000000005,806.71628669873451,{"$f":"ROWS($A$3:A1029)","v":1027},"",""]
["Area Outside Region","    Marewa East","..","..",1299,"Marewa East",1.4038356400000001,925.3219985211374,{"$f":"ROWS($A$3:A1030)","v":1028},"",""]
["Area Outside Region","    Marewa West","..","..",774,"Marewa West",0.79226103000000003,976.95074059114074,{"$f":"ROWS($A$3:A1031)","v":1029},"",""]
["Area Outside Region","    Marfell","..","..",636,"Marfell",0.73332529999999996,867.28222795531542,{"$f":"ROWS($A$3:A1032)","v":1030},"",""]
["Area Outside Region","    Marlborough Sounds Coastal Marine","..","..",15,"Marlborough Sounds Coastal Marine",0,{"$error":"#DIV/0!"},{"$f":"ROWS($A$3:A1033)","v":1031},"",""]
["Area Outside Region","    Marlborough Sounds East","..","..",2169,"Marlborough Sounds East",1043.5719840100001,2.0784383188071631,{"$f":"ROWS($A$3:A1034)","v":1032},"",""]
["Area Outside Region","    Marlborough Sounds West","..","..",1461,"Marlborough Sounds West",1553.9133127499899,0.94020688799843055,{"$f":"ROWS($A$3:A1035)","v":1033},"",""]
["Area Outside Region","    Maromaku","..","..",288,"Maromaku",238.30862311000001,1.2085169065286534,{"$f":"ROWS($A$3:A1036)","v":1034},"",""]
["Area Outside Region","    Marotiri","..","..",1380,"Marotiri",744.19100623999896,1.8543626413498404,{"$f":"ROWS($A$3:A1037)","v":1035},"",""]
["Area Outside Region","    Marsden","..","..",540,"Marsden",1.2384894099999999,436.01503221573773,{"$f":"ROWS($A$3:A1038)","v":1036},"",""]
["Area Outside Region","    Marsden Bay","..","..",1083,"Marsden Bay",6.1024945400000004,177.4684095006171,{"$f":"ROWS($A$3:A1039)","v":1037},"",""]
["Area Outside Region","    Marshland","..","..",276,"Marshland",10.1055184199999,27.311810095142327,{"$f":"ROWS($A$3:A1040)","v":1038},"",""]
["Area Outside Region","    Martinborough","..","..",1095,"Martinborough",4.4994202300000001,243.3646878989118,{"$f":"ROWS($A$3:A1041)","v":1039},"",""]
["Area Outside Region","    Marton North","..","..",1371,"Marton North",8.7366712,156.92475642210275,{"$f":"ROWS($A$3:A1042)","v":1040},"",""]
["Area Outside Region","    Marton Rural","..","..",420,"Marton Rural",192.56144853000001,2.1811219390290697,{"$f":"ROWS($A$3:A1043)","v":1041},"",""]
["Area Outside Region","    Marton South","..","..",882,"Marton South",4.8563171900000004,181.61910877983649,{"$f":"ROWS($A$3:A1044)","v":1042},"",""]
["Area Outside Region","    Marybank","..","..",471,"Marybank",1.0088834900000001,466.85271854334729,{"$f":"ROWS($A$3:A1045)","v":1043},"",""]
["Area Outside Region","    Maryhill","..","..",960,"Maryhill",1.2350170700000001,777.31719125145366,{"$f":"ROWS($A$3:A1046)","v":1044},"",""]
["Area Outside Region","    Massey Central","..","..",987,"Massey Central",0.88452792000000002,1115.8494578667455,{"$f":"ROWS($A$3:A1047)","v":1045},"",""]
["Area Outside Region","    Massey East","..","..",990,"Massey East",1.1444708800000001,865.02856236936316,{"$f":"ROWS($A$3:A1048)","v":1046},"",""]
["Area Outside Region","    Massey Road North","..","..",801,"Massey Road North",0.85966761999999997,931.75546148870887,{"$f":"ROWS($A$3:A1049)","v":1047},"",""]
["Area Outside Region","    Massey Road South","..","..",396,"Massey Road South",0.32471634999999999,1219.5259031459304,{"$f":"ROWS($A$3:A1050)","v":1048},"",""]
["Area Outside Region","    Massey Road West","..","..",897,"Massey Road West",0.69351969999999996,1293.4023359394118,{"$f":"ROWS($A$3:A1051)","v":1049},"",""]
["Area Outside Region","    Massey Royal Road West","..","..",948,"Massey Royal Road West",0.89641574999999996,1057.5450063210069,{"$f":"ROWS($A$3:A1052)","v":1050},"",""]
["Area Outside Region","    Massey South","..","..",1437,"Massey South",1.3868166799999999,1036.1859795340795,{"$f":"ROWS($A$3:A1053)","v":1051},"",""]
["Area Outside Region","    Massey West","..","..",423,"Massey West",1.1846977299999999,357.05310248209901,{"$f":"ROWS($A$3:A1054)","v":1052},"",""]
["Area Outside Region","    Masterton Central","..","..",303,"Masterton Central",1.7626890399999999,171.8964565638872,{"$f":"ROWS($A$3:A1055)","v":1053},"",""]
["Area Outside Region","    Matakana Island","..","..",99,"Matakana Island",64.558395779999898,1.5334953541498946,{"$f":"ROWS($A$3:A1056)","v":1054},"",""]
["Area Outside Region","    Matamata North","..","..",1407,"Matamata North",2.1319232800000001,659.96746374475538,{"$f":"ROWS($A$3:A1057)","v":1055},"",""]
["Area Outside Region","    Matamata South","..","..",1899,"Matamata South",4.0260477100000003,471.6784640388675,{"$f":"ROWS($A$3:A1058)","v":1056},"",""]
["Area Outside Region","    Matapihi","..","..",213,"Matapihi",3.9390583299999999,54.073837489987106,{"$f":"ROWS($A$3:A1059)","v":1057},"",""]
["Area Outside Region","    Matapouri-Tutukaka","..","..",1320,"Matapouri-Tutukaka",78.465343410000003,16.822713603669424,{"$f":"ROWS($A$3:A1060)","v":1058},"",""]
["Area Outside Region","    Matarau","..","..",1068,"Matarau",108.38593904,9.8536766803842788,{"$f":"ROWS($A$3:A1061)","v":1059},"",""]
["Area Outside Region","    Mataraua Forest","..","..",210,"Mataraua Forest",272.92693530000003,0.76943669839390882,{"$f":"ROWS($A$3:A1062)","v":1060},"",""]
["Area Outside Region","    Matarawa","..","..",858,"Matarawa",1.9623730500000001,437.22573544311564,{"$f":"ROWS($A$3:A1063)","v":1061},"",""]
["Area Outside Region","    Matata-Otakiri","..","..",708,"Matata-Otakiri",87.41066936,8.0996977277923463,{"$f":"ROWS($A$3:A1064)","v":1062},"",""]
["Area Outside Region","    Matatoki-Puriri","..","..",432,"Matatoki-Puriri",161.09379340999899,2.6816675605901152,{"$f":"ROWS($A$3:A1065)","v":1063},"",""]
["Area Outside Region","    Mataura","..","..",750,"Mataura",5.3250877399999998,140.84274975720871,{"$f":"ROWS($A$3:A1066)","v":1064},"",""]
["Area Outside Region","    Matawaia-Taumarere","..","..",564,"Matawaia-Taumarere",410.68371209999901,1.3733196213602681,{"$f":"ROWS($A$3:A1067)","v":1065},"",""]
["Area Outside Region","    Matua North","..","..",1218,"Matua North",1.24158525,981.00392220348942,{"$f":"ROWS($A$3:A1068)","v":1066},"",""]
["Area Outside Region","    Matua South","..","..",1008,"Matua South",1.2026841100000001,838.12531621457936,{"$f":"ROWS($A$3:A1069)","v":1067},"",""]
["Area Outside Region","    Maungakotukutuku","..","..",549,"Maungakotukutuku",112.70053725,4.8713166183242844,{"$f":"ROWS($A$3:A1070)","v":1068},"",""]
["Area Outside Region","    Maungaraki","..","..",1464,"Maungaraki",2.1102173500000001,693.76739794125945,{"$f":"ROWS($A$3:A1071)","v":1069},"",""]
["Area Outside Region","    Maungaru","..","..",798,"Maungaru",691.96612070000003,1.1532356514690849,{"$f":"ROWS($A$3:A1072)","v":1070},"",""]
["Area Outside Region","    Maungataniwha-Raupunga","..","..",645,"Maungataniwha-Raupunga",2080.86540264,0.30996718921929628,{"$f":"ROWS($A$3:A1073)","v":1071},"",""]
["Area Outside Region","    Maungatapere","..","..",1287,"Maungatapere",174.479625669999,7.3762194013079778,{"$f":"ROWS($A$3:A1074)","v":1072},"",""]
["Area Outside Region","    Maungatapu","..","..",1143,"Maungatapu",1.6794597499999999,680.5760007049887,{"$f":"ROWS($A$3:A1075)","v":1073},"",""]
["Area Outside Region","    Maungatautari","..","..",351,"Maungatautari",113.00394135000001,3.1060863524473872,{"$f":"ROWS($A$3:A1076)","v":1074},"",""]
["Area Outside Region","    Maungati","..","..",366,"Maungati",696.26418248000004,0.52566254190522466,{"$f":"ROWS($A$3:A1077)","v":1075},"",""]
["Area Outside Region","    Maungaturoto","..","..",504,"Maungaturoto",21.59969701,23.333660641936941,{"$f":"ROWS($A$3:A1078)","v":1076},"",""]
["Area Outside Region","    Maungawhau","..","..",1002,"Maungawhau",0.73452194999999998,1364.1525620847683,{"$f":"ROWS($A$3:A1079)","v":1077},"",""]
["Area Outside Region","    Maunu-Horahora","..","..",1323,"Maunu-Horahora",4.2974555399999996,307.85658808700555,{"$f":"ROWS($A$3:A1080)","v":1078},"",""]
["Area Outside Region","    Maupuia","..","..",618,"Maupuia",1.9537258900000001,316.3186827605586,{"$f":"ROWS($A$3:A1081)","v":1079},"",""]
["Area Outside Region","    Mayfair","..","..",1008,"Mayfair",1.0686468,943.24897618184048,{"$f":"ROWS($A$3:A1082)","v":1080},"",""]
["Area Outside Region","    Mayfield","..","..",711,"Mayfield",1.46101361,486.6484440209972,{"$f":"ROWS($A$3:A1083)","v":1081},"",""]
["Area Outside Region","    McJorrow Park","..","..",591,"McJorrow Park",0.90130045999999997,655.71918159234053,{"$f":"ROWS($A$3:A1084)","v":1082},"",""]
["Area Outside Region","    McLaren Park","..","..",1299,"McLaren Park",1.0883996600000001,1193.4954114190002,{"$f":"ROWS($A$3:A1085)","v":1083},"",""]
["Area Outside Region","    McLean Park","..","..",1116,"McLean Park",1.34179095,831.72419667907286,{"$f":"ROWS($A$3:A1086)","v":1084},"",""]
["Area Outside Region","    McLeans Island","..","..",72,"McLeans Island",73.943450290000001,0.9737170732177366,{"$f":"ROWS($A$3:A1087)","v":1085},"",""]
["Area Outside Region","    Meadowbank East","..","..",1086,"Meadowbank East",0.65235233000000004,1664.7445713882864,{"$f":"ROWS($A$3:A1088)","v":1086},"",""]
["Area Outside Region","    Meadowbank West","..","..",1080,"Meadowbank West",1.04159595,1036.870391057108,{"$f":"ROWS($A$3:A1089)","v":1087},"",""]
["Area Outside Region","    Meeanee-Awatoto","..","..",996,"Meeanee-Awatoto",24.29611646,40.994205869887402,{"$f":"ROWS($A$3:A1090)","v":1088},"",""]
["Area Outside Region","    Mellons Bay","..","..",1461,{"$f":"TRIM(B1091)","v":"Mellons Bay"},1.67597292,{"$f":"E1091/G1091","v":871.73246212116601},{"$f":"ROWS($A$3:A1091)","v":1089},{"$f":"IF(A1091=$M$2,I1092,\"\")","v":""},""]
["Area Outside Region","    Melrose","..","..",522,"Melrose",0.33375271000000001,1564.0322441127144,{"$f":"ROWS($A$3:A1092)","v":1090},"",{"$f":"IFERROR(SMALL($J$3:$J$4612,I1092)-1,\"\")","v":""}]
["Area Outside Region","    Melville North","..","..",1110,"Melville North",0.68833641000000001,1612.5835912123259,{"$f":"ROWS($A$3:A1093)","v":1091},"",""]
["Area Outside Region","    Melville South","..","..",864,"Melville South",0.98998227999999999,872.74289394351581,{"$f":"ROWS($A$3:A1094)","v":1092},"",""]
["Area Outside Region","    Mercury Bay North","..","..",2724,"Mercury Bay North",305.23054245999901,8.924401791662067,{"$f":"ROWS($A$3:A1095)","v":1093},"",""]
["Area Outside Region","    Mercury Bay South","..","..",1152,"Mercury Bay South",359.35416514999901,3.2057510715623416,{"$f":"ROWS($A$3:A1096)","v":1094},"",""]
["Area Outside Region","    Merivale","..","..",1653,"Merivale",1.1044967400000001,1496.6092158859608,{"$f":"ROWS($A$3:A1097)","v":1095},"",""]
["Area Outside Region","    Merrilands","..","..",1254,"Merrilands",1.71844924,729.72769332424389,{"$f":"ROWS($A$3:A1098)","v":1096},"",""]
["Area Outside Region","    Methven","..","..",873,"Methven",4.1828788000000001,208.70793578814667,{"$f":"ROWS($A$3:A1099)","v":1097},"",""]
["Area Outside Region","    Middlemore","..","..",0,"Middlemore",0.72022213000000002,0,{"$f":"ROWS($A$3:A1100)","v":1098},"",""]
["Area Outside Region","    Middleton","..","..",81,"Middleton",1.9018950699999999,42.589100354521662,{"$f":"ROWS($A$3:A1101)","v":1099},"",""]
["Area Outside Region","    Milford Central","..","..",903,"Milford Central",0.74357207999999997,1214.4081579824783,{"$f":"ROWS($A$3:A1102)","v":1100},"",""]
["Area Outside Region","    Milford West","..","..",1317,"Milford West",0.83338076000000005,1580.3100613937859,{"$f":"ROWS($A$3:A1103)","v":1101},"",""]
["Area Outside Region","    Millwater North","..","..",1242,"Millwater North",1.7521735899999999,708.83387758401273,{"$f":"ROWS($A$3:A1104)","v":1102},"",""]
["Area Outside Region","    Millwater South","..","..",879,"Millwater South",2.4111349400000002,364.55860906731328,{"$f":"ROWS($A$3:A1105)","v":1103},"",""]
["Area Outside Region","    Milson North","..","..",966,"Milson North",0.96528172000000001,1000.7441143710874,{"$f":"ROWS($A$3:A1106)","v":1104},"",""]
["Area Outside Region","    Milson South","..","..",1161,"Milson South",1.22972865,944.11071905985114,{"$f":"ROWS($A$3:A1107)","v":1105},"",""]
["Area Outside Region","    Milton","..","..",954,"Milton",4.1648700200000004,229.05876904172868,{"$f":"ROWS($A$3:A1108)","v":1106},"",""]
["Area Outside Region","    Milverton","..","..",744,"Milverton",0.56451037000000004,1317.9563025564969,{"$f":"ROWS($A$3:A1109)","v":1107},"",""]
["Area Outside Region","    Minden","..","..",780,"Minden",85.927571639999897,9.0774123498784469,{"$f":"ROWS($A$3:A1110)","v":1108},"",""]
["Area Outside Region","    Miramar Central","..","..",846,"Miramar Central",0.53010265000000001,1595.9173190324552,{"$f":"ROWS($A$3:A1111)","v":1109},"",""]
["Area Outside Region","    Miramar East","..","..",1122,"Miramar East",0.84704212000000001,1324.60945389587,{"$f":"ROWS($A$3:A1112)","v":1110},"",""]
["Area Outside Region","    Miramar North","..","..",495,"Miramar North",0.50735271000000004,975.65261847127999,{"$f":"ROWS($A$3:A1113)","v":1111},"",""]
["Area Outside Region","    Miramar South","..","..",1317,"Miramar South",0.98411254000000004,1338.2615772785498,{"$f":"ROWS($A$3:A1114)","v":1112},"",""]
["Area Outside Region","    Miranda-Pukorokoro","..","..",534,"Miranda-Pukorokoro",81.34040383,6.5650030594395687,{"$f":"ROWS($A$3:A1115)","v":1113},"",""]
["Area Outside Region","    Miranui","..","..",702,"Miranui",297.06624502,2.3631092787157217,{"$f":"ROWS($A$3:A1116)","v":1114},"",""]
["Area Outside Region","    Miropiko","..","..",1275,"Miropiko",2.0789906600000001,613.27836845596983,{"$f":"ROWS($A$3:A1117)","v":1115},"",""]
["Area Outside Region","    Mission Bay","..","..",1845,"Mission Bay",1.54574692,1193.597720382325,{"$f":"ROWS($A$3:A1118)","v":1116},"",""]
["Area Outside Region","    Mission Heights North","..","..",951,"Mission Heights North",1.07241323,886.78503154982525,{"$f":"ROWS($A$3:A1119)","v":1117},"",""]
["Area Outside Region","    Mission Heights South","..","..",792,"Mission Heights South",0.86985025000000005,910.50154897351581,{"$f":"ROWS($A$3:A1120)","v":1118},"",""]
["Area Outside Region","    Moananui","..","..",1104,"Moananui",1.67889865,657.57393991590857,{"$f":"ROWS($A$3:A1121)","v":1119},"",""]
["Area Outside Region","    Moera","..","..",681,"Moera",0.62398200999999998,1091.3776184028127,{"$f":"ROWS($A$3:A1122)","v":1120},"",""]
["Area Outside Region","    Moerewa","..","..",483,"Moerewa",1.87566952,257.50804971229689,{"$f":"ROWS($A$3:A1123)","v":1121},"",""]
["Area Outside Region","    Mokai Patea","..","..",906,"Mokai Patea",2475.07449563,0.36604958824457068,{"$f":"ROWS($A$3:A1124)","v":1122},"",""]
["Area Outside Region","    Mokorua Bush","..","..",588,"Mokorua Bush",1.3570750199999999,433.28481575027445,{"$f":"ROWS($A$3:A1125)","v":1123},"",""]
["Area Outside Region","    Momona","..","..",975,"Momona",217.72425156,4.4781414702960252,{"$f":"ROWS($A$3:A1126)","v":1124},"",""]
["Area Outside Region","    Mona Vale","..","..",567,"Mona Vale",0.54775174000000004,1035.1404817080088,{"$f":"ROWS($A$3:A1127)","v":1125},"",""]
["Area Outside Region","    Monika Reserve","..","..",1242,"Monika Reserve",14.1808581,87.582852267593026,{"$f":"ROWS($A$3:A1128)","v":1126},"",""]
["Area Outside Region","    Morningside (Auckland)","..","..",1395,"Morningside (Auckland)",1.0935585400000001,1275.6518731955584,{"$f":"ROWS($A$3:A1129)","v":1127},"",""]
["Area Outside Region","    Morningside (Whangarei District)","..","..",903,"Morningside (Whangarei District)",1.2018825099999999,751.32135835806457,{"$f":"ROWS($A$3:A1130)","v":1128},"",""]
["Area Outside Region","    Mornington","..","..",1293,"Mornington",1.06980458,1208.6319540714624,{"$f":"ROWS($A$3:A1131)","v":1129},"",""]
["Area Outside Region","    Morrinsville East","..","..",1947,"Morrinsville East",3.8772011499999999,502.16636297036075,{"$f":"ROWS($A$3:A1132)","v":1130},"",""]
["Area Outside Region","    Morrinsville West","..","..",1173,"Morrinsville West",3.9033163800000001,300.513687798989,{"$f":"ROWS($A$3:A1133)","v":1131},"",""]
["Area Outside Region","    Morven-Glenavy-Ikawai","..","..",609,"Morven-Glenavy-Ikawai",386.31598843,1.5764297058348391,{"$f":"ROWS($A$3:A1134)","v":1132},"",""]
["Area Outside Region","    Mosgiel Central","..","..",1314,"Mosgiel Central",1.2377440900000001,1061.6087853830916,{"$f":"ROWS($A$3:A1135)","v":1133},"",""]
["Area Outside Region","    Mosgiel East","..","..",1257,"Mosgiel East",3.34393765,375.90413804515765,{"$f":"ROWS($A$3:A1136)","v":1134},"",""]
["Area Outside Region","    Mossburn","..","..",672,"Mossburn",2740.5529691000002,0.24520598856393766,{"$f":"ROWS($A$3:A1137)","v":1135},"",""]
["Area Outside Region","    Motiti","..","..",1332,"Motiti",1.24756237,1067.6820911166149,{"$f":"ROWS($A$3:A1138)","v":1136},"",""]
["Area Outside Region","    Motueka East","..","..",1362,"Motueka East",3.2377561799999999,420.66169417364841,{"$f":"ROWS($A$3:A1139)","v":1137},"",""]
["Area Outside Region","    Motueka North","..","..",1092,"Motueka North",2.55778061,426.93262890909159,{"$f":"ROWS($A$3:A1140)","v":1138},"",""]
["Area Outside Region","    Motueka West","..","..",894,"Motueka West",7.8679661799999998,113.62529776405317,{"$f":"ROWS($A$3:A1141)","v":1139},"",""]
["Area Outside Region","    Motukarara","..","..",276,"Motukarara",64.635620599999896,4.2700912815247332,{"$f":"ROWS($A$3:A1142)","v":1140},"",""]
["Area Outside Region","    Moturoa","..","..",879,"Moturoa",1.0167227299999999,864.54248937662692,{"$f":"ROWS($A$3:A1143)","v":1141},"",""]
["Area Outside Region","    Moulson","..","..",528,"Moulson",0.77411182000000001,682.07200349944276,{"$f":"ROWS($A$3:A1144)","v":1142},"",""]
["Area Outside Region","    Mount Albert Central","..","..",1206,"Mount Albert Central",1.31350682,918.15282694915891,{"$f":"ROWS($A$3:A1145)","v":1143},"",""]
["Area Outside Region","    Mount Albert North","..","..",1407,"Mount Albert North",1.5138686400000001,929.40692661418757,{"$f":"ROWS($A$3:A1146)","v":1144},"",""]
["Area Outside Region","    Mount Albert South","..","..",765,"Mount Albert South",0.83111668000000005,920.44837795819467,{"$f":"ROWS($A$3:A1147)","v":1145},"",""]
["Area Outside Region","    Mount Albert West","..","..",861,"Mount Albert West",1.39086731,619.03820286063092,{"$f":"ROWS($A$3:A1148)","v":1146},"",""]
["Area Outside Region","    Mount Cargill","..","..",1143,"Mount Cargill",129.76068380000001,8.8085232485496494,{"$f":"ROWS($A$3:A1149)","v":1147},"",""]
["Area Outside Region","    Mount Cook East","..","..",999,"Mount Cook East",0.43591164999999998,2291.7487981796312,{"$f":"ROWS($A$3:A1150)","v":1148},"",""]
["Area Outside Region","    Mount Cook West","..","..",2046,"Mount Cook West",0.61348427999999999,3335.0487807120339,{"$f":"ROWS($A$3:A1151)","v":1149},"",""]
["Area Outside Region","    Mount Eden East","..","..",1071,"Mount Eden East",0.76425140999999996,1401.3713105220179,{"$f":"ROWS($A$3:A1152)","v":1150},"",""]
["Area Outside Region","    Mount Eden North","..","..",1464,"Mount Eden North",0.87610628999999995,1671.0301212424808,{"$f":"ROWS($A$3:A1153)","v":1151},"",""]
["Area Outside Region","    Mount Eden North East","..","..",519,"Mount Eden North East",0.46591266999999997,1113.9426622590024,{"$f":"ROWS($A$3:A1154)","v":1152},"",""]
["Area Outside Region","    Mount Eden South","..","..",1353,{"$f":"TRIM(B1155)","v":"Mount Eden South"},0.87283197000000001,{"$f":"E1155/G1155","v":1550.1265381010276},{"$f":"ROWS($A$3:A1155)","v":1153},{"$f":"IF(A1155=$M$2,I1156,\"\")","v":""},""]
["Area Outside Region","    Mount Eden West","..","..",1176,"Mount Eden West",0.79122760999999997,1486.2979819422633,{"$f":"ROWS($A$3:A1156)","v":1154},"",{"$f":"IFERROR(SMALL($J$3:$J$4612,I1156)-1,\"\")","v":""}]
["Area Outside Region","    Mount Holdsworth","..","..",792,"Mount Holdsworth",432.87463693000001,1.8296290251999079,{"$f":"ROWS($A$3:A1157)","v":1155},"",""]
["Area Outside Region","    Mount Maunganui Central","..","..",174,"Mount Maunganui Central",6.9138655800000004,25.16681847320497,{"$f":"ROWS($A$3:A1158)","v":1156},"",""]
["Area Outside Region","    Mount Maunganui North","..","..",2487,"Mount Maunganui North",2.0296042299999999,1225.3620500189834,{"$f":"ROWS($A$3:A1159)","v":1157},"",""]
["Area Outside Region","    Mount Maunganui South","..","..",1344,"Mount Maunganui South",0.94186210000000004,1426.9604860414279,{"$f":"ROWS($A$3:A1160)","v":1158},"",""]
["Area Outside Region","    Mount Messenger","..","..",453,"Mount Messenger",934.30266816999904,0.48485358699369074,{"$f":"ROWS($A$3:A1161)","v":1159},"",""]
["Area Outside Region","    Mount Pleasant","..","..",1647,"Mount Pleasant",2.4729275500000001,666.01223315256448,{"$f":"ROWS($A$3:A1162)","v":1160},"",""]
["Area Outside Region","    Mount Roskill Central North","..","..",969,"Mount Roskill Central North",0.89983995000000006,1076.8581679441993,{"$f":"ROWS($A$3:A1163)","v":1161},"",""]
["Area Outside Region","    Mount Roskill Central South","..","..",690,"Mount Roskill Central South",1.20295544,573.5873308823476,{"$f":"ROWS($A$3:A1164)","v":1162},"",""]
["Area Outside Region","    Mount Roskill North","..","..",1377,"Mount Roskill North",0.95837556999999995,1436.806240793471,{"$f":"ROWS($A$3:A1165)","v":1163},"",""]
["Area Outside Region","    Mount Roskill South","..","..",1041,"Mount Roskill South",1.1296115200000001,921.55575750502248,{"$f":"ROWS($A$3:A1166)","v":1164},"",""]
["Area Outside Region","    Mount Roskill White Swan","..","..",1392,"Mount Roskill White Swan",1.0419419599999999,1335.966928522583,{"$f":"ROWS($A$3:A1167)","v":1165},"",""]
["Area Outside Region","    Mount St John","..","..",1119,"Mount St John",1.2425431499999999,900.57234632052825,{"$f":"ROWS($A$3:A1168)","v":1166},"",""]
["Area Outside Region","    Mount Taylor","..","..",186,"Mount Taylor",3.1906073799999999,58.296110378833262,{"$f":"ROWS($A$3:A1169)","v":1167},"",""]
["Area Outside Region","    Mount Victoria","..","..",2058,"Mount Victoria",1.0807415600000001,1904.2480424274604,{"$f":"ROWS($A$3:A1170)","v":1168},"",""]
["Area Outside Region","    Mount Wellington Central","..","..",1524,"Mount Wellington Central",1.2073871300000001,1262.2297870609239,{"$f":"ROWS($A$3:A1171)","v":1169},"",""]
["Area Outside Region","    Mount Wellington East","..","..",849,"Mount Wellington East",0.59950667000000002,1416.16439396746,{"$f":"ROWS($A$3:A1172)","v":1170},"",""]
["Area Outside Region","    Mount Wellington Ferndale","..","..",1425,"Mount Wellington Ferndale",0.85764388999999996,1661.528772740397,{"$f":"ROWS($A$3:A1173)","v":1171},"",""]
["Area Outside Region","    Mount Wellington Industrial","..","..",6,"Mount Wellington Industrial",3.3333080800000001,1.8000136369033131,{"$f":"ROWS($A$3:A1174)","v":1172},"",""]
["Area Outside Region","    Mount Wellington North East","..","..",816,"Mount Wellington North East",0.72698014,1122.4515706852735,{"$f":"ROWS($A$3:A1175)","v":1173},"",""]
["Area Outside Region","    Mount Wellington North West","..","..",1359,"Mount Wellington North West",0.92460655999999997,1469.8143608239163,{"$f":"ROWS($A$3:A1176)","v":1174},"",""]
["Area Outside Region","    Mount Wellington South East","..","..",789,"Mount Wellington South East",0.67318677000000005,1172.0372936027841,{"$f":"ROWS($A$3:A1177)","v":1175},"",""]
["Area Outside Region","    Mount Wellington South West","..","..",789,"Mount Wellington South West",0.69676276000000004,1132.3796926230673,{"$f":"ROWS($A$3:A1178)","v":1176},"",""]
["Area Outside Region","    Mount Wellington West","..","..",933,"Mount Wellington West",0.77910142999999998,1197.5334200066864,{"$f":"ROWS($A$3:A1179)","v":1177},"",""]
["Area Outside Region","    Mountview","..","..",1119,"Mountview",1.12441529,995.18390576136687,{"$f":"ROWS($A$3:A1180)","v":1178},"",""]
["Area Outside Region","    Moutere Hills","..","..",1371,"Moutere Hills",98.434957049999895,13.927978851086435,{"$f":"ROWS($A$3:A1181)","v":1179},"",""]
["Area Outside Region","    Mowhanau","..","..",588,"Mowhanau",170.17854306999899,3.4551946995934726,{"$f":"ROWS($A$3:A1182)","v":1180},"",""]
["Area Outside Region","    Murchison-Nelson Lakes","..","..",1074,"Murchison-Nelson Lakes",3706.0078227399899,0.28979971208100463,{"$f":"ROWS($A$3:A1183)","v":1181},"",""]
["Area Outside Region","    Muriwai","..","..",534,"Muriwai",3.01225115,177.27605482032931,{"$f":"ROWS($A$3:A1184)","v":1182},"",""]
["Area Outside Region","    Muriwai Valley-Bethells Beach","..","..",420,"Muriwai Valley-Bethells Beach",35.3547071899999,11.879606235822461,{"$f":"ROWS($A$3:A1185)","v":1183},"",""]
["Area Outside Region","    Murrays Bay East","..","..",807,"Murrays Bay East",0.69854185999999996,1155.2636229989139,{"$f":"ROWS($A$3:A1186)","v":1184},"",""]
["Area Outside Region","    Murrays Bay West","..","..",867,"Murrays Bay West",0.95565783000000004,907.22847946529146,{"$f":"ROWS($A$3:A1187)","v":1185},"",""]
["Area Outside Region","    Murupara","..","..",651,"Murupara",6.2129983400000004,104.78032736767156,{"$f":"ROWS($A$3:A1188)","v":1186},"",""]
["Area Outside Region","    Musselburgh","..","..",657,"Musselburgh",0.5756251,1141.3678798926594,{"$f":"ROWS($A$3:A1189)","v":1187},"",""]
["Area Outside Region","    Myross Bush","..","..",411,"Myross Bush",20.494529239999899,20.054132260712617,{"$f":"ROWS($A$3:A1190)","v":1188},"",""]
["Area Outside Region","    Naenae Central","..","..",1230,"Naenae Central",1.3821630899999999,889.90945344952024,{"$f":"ROWS($A$3:A1191)","v":1189},"",""]
["Area Outside Region","    Naenae North","..","..",900,"Naenae North",2.6112729200000002,344.65949273506038,{"$f":"ROWS($A$3:A1192)","v":1190},"",""]
["Area Outside Region","    Naenae South","..","..",936,"Naenae South",1.18214011,791.78431734289097,{"$f":"ROWS($A$3:A1193)","v":1191},"",""]
["Area Outside Region","    Napier Central","..","..",201,"Napier Central",0.83772122000000004,239.93662235272015,{"$f":"ROWS($A$3:A1194)","v":1192},"",""]
["Area Outside Region","    Narrow Neck","..","..",1566,"Narrow Neck",1.82165746,859.65667771590824,{"$f":"ROWS($A$3:A1195)","v":1193},"",""]
["Area Outside Region","    National Park","..","..",924,"National Park",1375.27911879,0.67186361472059208,{"$f":"ROWS($A$3:A1196)","v":1194},"",""]
["Area Outside Region","    Nawton East","..","..",1500,"Nawton East",1.3185093299999999,1137.6483775052241,{"$f":"ROWS($A$3:A1197)","v":1195},"",""]
["Area Outside Region","    Nawton West","..","..",1278,"Nawton West",1.0900611099999999,1172.4113338930144,{"$f":"ROWS($A$3:A1198)","v":1196},"",""]
["Area Outside Region","    Nayland","..","..",750,"Nayland",0.84068865999999998,892.12574843105415,{"$f":"ROWS($A$3:A1199)","v":1197},"",""]
["Area Outside Region","    Nelson Airport","..","..",36,"Nelson Airport",2.9562057799999999,12.177772008821389,{"$f":"ROWS($A$3:A1200)","v":1198},"",""]
["Area Outside Region","    Nelson Central-Trafalgar","..","..",291,"Nelson Central-Trafalgar",1.24569931,233.60372576589128,{"$f":"ROWS($A$3:A1201)","v":1199},"",""]
["Area Outside Region","    Nelson Creek","..","..",363,"Nelson Creek",899.97435098000005,0.40334482822173995,{"$f":"ROWS($A$3:A1202)","v":1200},"",""]
["Area Outside Region","    Nelson Park","..","..",900,"Nelson Park",0.78100890999999995,1152.3556114103744,{"$f":"ROWS($A$3:A1203)","v":1201},"",""]
["Area Outside Region","    Nelson Rural","..","..",750,"Nelson Rural",366.39440285000001,2.0469745011553742,{"$f":"ROWS($A$3:A1204)","v":1202},"",""]
["Area Outside Region","    Netherby","..","..",852,"Netherby",1.09301884,779.49251085187143,{"$f":"ROWS($A$3:A1205)","v":1203},"",""]
["Area Outside Region","    New Brighton","..","..",1590,"New Brighton",1.7610119399999999,902.88995996245205,{"$f":"ROWS($A$3:A1206)","v":1204},"",""]
["Area Outside Region","    New Lynn Central","..","..",219,"New Lynn Central",1.1748002099999999,186.41467556428171,{"$f":"ROWS($A$3:A1207)","v":1205},"",""]
["Area Outside Region","    New Lynn Central South","..","..",1005,"New Lynn Central South",0.73948961999999996,1359.0454454249136,{"$f":"ROWS($A$3:A1208)","v":1206},"",""]
["Area Outside Region","    New Lynn North","..","..",1116,"New Lynn North",0.73891938000000001,1510.3136149981613,{"$f":"ROWS($A$3:A1209)","v":1207},"",""]
["Area Outside Region","    New Lynn North West","..","..",1080,"New Lynn North West",0.68978189000000001,1565.7123152363422,{"$f":"ROWS($A$3:A1210)","v":1208},"",""]
["Area Outside Region","    New Lynn Seabrook","..","..",1050,"New Lynn Seabrook",0.72255597000000005,1453.1746239671925,{"$f":"ROWS($A$3:A1211)","v":1209},"",""]
["Area Outside Region","    New Lynn South","..","..",1623,"New Lynn South",1.43654054,1129.7975621349328,{"$f":"ROWS($A$3:A1212)","v":1210},"",""]
["Area Outside Region","    New Plymouth Central","..","..",651,"New Plymouth Central",1.25967206,516.80117442630262,{"$f":"ROWS($A$3:A1213)","v":1211},"",""]
["Area Outside Region","    New Windsor North","..","..",948,"New Windsor North",0.86782722000000001,1092.3833433111258,{"$f":"ROWS($A$3:A1214)","v":1212},"",""]
["Area Outside Region","    New Windsor South","..","..",1317,"New Windsor South",1.11580579,1180.3129288296666,{"$f":"ROWS($A$3:A1215)","v":1213},"",""]
["Area Outside Region","    New Zealand Economic Zone","..","..",3,"New Zealand Economic Zone",0,{"$error":"#DIV/0!"},{"$f":"ROWS($A$3:A1216)","v":1214},"",""]
["Area Outside Region","    New Zealand Economic Zone","..","..",3,"New Zealand Economic Zone",0,{"$error":"#DIV/0!"},{"$f":"ROWS($A$3:A1217)","v":1215},"",""]
["Area Outside Region","    Newbury","..","..",732,"Newbury",34.732669260000002,21.075258988027457,{"$f":"ROWS($A$3:A1218)","v":1216},"",""]
["Area Outside Region","    Newfield","..","..",1173,{"$f":"TRIM(B1219)","v":"Newfield"},2.0055250199999999,{"$f":"E1219/G1219","v":584.88425140664663},{"$f":"ROWS($A$3:A1219)","v":1217},{"$f":"IF(A1219=$M$2,I1220,\"\")","v":""},""]
["Area Outside Region","    Newlands North","..","..",1404,"Newlands North",1.1481084500000001,1222.8809917739043,{"$f":"ROWS($A$3:A1220)","v":1218},"",{"$f":"IFERROR(SMALL($J$3:$J$4612,I1220)-1,\"\")","v":""}]
["Area Outside Region","    Newlands South","..","..",1455,"Newlands South",5.67112734,256.56274542408704,{"$f":"ROWS($A$3:A1221)","v":1219},"",""]
["Area Outside Region","    Newmarket","..","..",1896,"Newmarket",1.07489367,1763.8953999980295,{"$f":"ROWS($A$3:A1222)","v":1220},"",""]
["Area Outside Region","    Newtons Road","..","..",1212,"Newtons Road",153.137244409999,7.9144691722091824,{"$f":"ROWS($A$3:A1223)","v":1221},"",""]
["Area Outside Region","    Newtown North","..","..",720,"Newtown North",0.70094491000000003,1027.1848610756015,{"$f":"ROWS($A$3:A1224)","v":1222},"",""]
["Area Outside Region","    Newtown South","..","..",1500,"Newtown South",1.1943657999999999,1255.896644059969,{"$f":"ROWS($A$3:A1225)","v":1223},"",""]
["Area Outside Region","    Newtown West","..","..",1392,"Newtown West",0.66091113000000001,2106.1833230134889,{"$f":"ROWS($A$3:A1226)","v":1224},"",""]
["Area Outside Region","    Ngahinapouri","..","..",612,"Ngahinapouri",73.938375050000005,8.2771632401461588,{"$f":"ROWS($A$3:A1227)","v":1225},"",""]
["Area Outside Region","    Ngaio North","..","..",1002,"Ngaio North",0.82389500999999998,1216.1743763929339,{"$f":"ROWS($A$3:A1228)","v":1226},"",""]
["Area Outside Region","    Ngaio South","..","..",1233,"Ngaio South",1.3695689600000001,900.28325408309479,{"$f":"ROWS($A$3:A1229)","v":1227},"",""]
["Area Outside Region","    Ngakuru","..","..",723,"Ngakuru",446.40468996999903,1.6196066399942837,{"$f":"ROWS($A$3:A1230)","v":1228},"",""]
["Area Outside Region","    Ngamatea","..","..",18,"Ngamatea",611.55273062000003,2.9433275494905188E-2,{"$f":"ROWS($A$3:A1231)","v":1229},"",""]
["Area Outside Region","    Ngapara","..","..",798,"Ngapara",1134.6191891799899,0.70331967554394104,{"$f":"ROWS($A$3:A1232)","v":1230},"",""]
["Area Outside Region","    Ngapuhi","..","..",564,"Ngapuhi",175.39009407,3.215689021609748,{"$f":"ROWS($A$3:A1233)","v":1231},"",""]
["Area Outside Region","    Ngapuke","..","..",609,"Ngapuke",621.83240892000003,0.97936355722872759,{"$f":"ROWS($A$3:A1234)","v":1232},"",""]
["Area Outside Region","    Ngapuna","..","..",114,"Ngapuna",3.4948953500000002,32.619002454537011,{"$f":"ROWS($A$3:A1235)","v":1233},"",""]
["Area Outside Region","    Ngaruawahia Central","..","..",957,"Ngaruawahia Central",3.8471309699999998,248.75680278698701,{"$f":"ROWS($A$3:A1236)","v":1234},"",""]
["Area Outside Region","    Ngaruawahia North","..","..",528,"Ngaruawahia North",1.1529703499999999,457.9475959637644,{"$f":"ROWS($A$3:A1237)","v":1235},"",""]
["Area Outside Region","    Ngaruawahia South","..","..",612,"Ngaruawahia South",4.4238316500000003,138.34161162077675,{"$f":"ROWS($A$3:A1238)","v":1236},"",""]
["Area Outside Region","    Ngatea","..","..",618,"Ngatea",3.3536851200000002,184.27490294616567,{"$f":"ROWS($A$3:A1239)","v":1237},"",""]
["Area Outside Region","    Ngaumutawa","..","..",684,"Ngaumutawa",0.85307226000000003,801.80780934079371,{"$f":"ROWS($A$3:A1240)","v":1238},"",""]
["Area Outside Region","    Ngongotaha East","..","..",762,"Ngongotaha East",2.8718554300000001,265.33369056115754,{"$f":"ROWS($A$3:A1241)","v":1239},"",""]
["Area Outside Region","    Ngongotaha South","..","..",645,"Ngongotaha South",8.5888338700000002,75.097505640774486,{"$f":"ROWS($A$3:A1242)","v":1240},"",""]
["Area Outside Region","    Ngongotaha Valley","..","..",609,"Ngongotaha Valley",177.50382267000001,3.4309120267916762,{"$f":"ROWS($A$3:A1243)","v":1241},"",""]
["Area Outside Region","    Ngongotaha West","..","..",639,"Ngongotaha West",1.4445683,442.34668585763649,{"$f":"ROWS($A$3:A1244)","v":1242},"",""]
["Area Outside Region","    Ngunguru","..","..",606,"Ngunguru",3.56520869,169.97602460124151,{"$f":"ROWS($A$3:A1245)","v":1243},"",""]
["Area Outside Region","    Nireaha-Eketahuna","..","..",717,"Nireaha-Eketahuna",892.63359071000002,0.80324111422885036,{"$f":"ROWS($A$3:A1246)","v":1244},"",""]
["Area Outside Region","    Normanby","..","..",570,"Normanby",1.4187090499999999,401.77371110729155,{"$f":"ROWS($A$3:A1247)","v":1245},"",""]
["Area Outside Region","    Normanby-Tawhiti","..","..",627,"Normanby-Tawhiti",49.49971996,12.666738327139416,{"$f":"ROWS($A$3:A1248)","v":1246},"",""]
["Area Outside Region","    Normandale","..","..",756,"Normandale",1.44706416,522.43709774416641,{"$f":"ROWS($A$3:A1249)","v":1247},"",""]
["Area Outside Region","    Norsewood","..","..",690,"Norsewood",397.34758877000002,1.7365148789147389,{"$f":"ROWS($A$3:A1250)","v":1248},"",""]
["Area Outside Region","    North Beach","..","..",1776,"North Beach",1.98903797,892.89396521676258,{"$f":"ROWS($A$3:A1251)","v":1249},"",""]
["Area Outside Region","    North Cape","..","..",873,"North Cape",826.78512205000004,1.0558970846444491,{"$f":"ROWS($A$3:A1252)","v":1250},"",""]
["Area Outside Region","    North East Valley Chingford","..","..",681,"North East Valley Chingford",1.0826699,629.00058457337741,{"$f":"ROWS($A$3:A1253)","v":1251},"",""]
["Area Outside Region","    North East Valley Knox","..","..",798,"North East Valley Knox",0.66777942000000001,1195.0053806689639,{"$f":"ROWS($A$3:A1254)","v":1252},"",""]
["Area Outside Region","    North Harbour","..","..",444,"North Harbour",5.4863976699999997,80.927418445772275,{"$f":"ROWS($A$3:A1255)","v":1253},"",""]
["Area Outside Region","    Northcote (Christchurch City)","..","..",1083,"Northcote (Christchurch City)",1.6762045699999999,646.10252196126635,{"$f":"ROWS($A$3:A1256)","v":1254},"",""]
["Area Outside Region","    Northcote Central (Auckland)","..","..",852,"Northcote Central (Auckland)",0.68691447000000005,1240.3290907527394,{"$f":"ROWS($A$3:A1257)","v":1255},"",""]
["Area Outside Region","    Northcote Point (Auckland)","..","..",1191,"Northcote Point (Auckland)",1.1731639199999999,1015.2033997090535,{"$f":"ROWS($A$3:A1258)","v":1256},"",""]
["Area Outside Region","    Northcote South (Auckland)","..","..",900,"Northcote South (Auckland)",1.1402653,789.29000119533578,{"$f":"ROWS($A$3:A1259)","v":1257},"",""]
["Area Outside Region","    Northcote Tuff Crater","..","..",813,"Northcote Tuff Crater",1.1134996500000001,730.1304495246136,{"$f":"ROWS($A$3:A1260)","v":1258},"",""]
["Area Outside Region","    Northcross","..","..",1134,"Northcross",1.0704566600000001,1059.3609646933301,{"$f":"ROWS($A$3:A1261)","v":1259},"",""]
["Area Outside Region","    Northland (Wellington City)","..","..",1419,"Northland (Wellington City)",1.2609300000000001,1125.3598534415073,{"$f":"ROWS($A$3:A1262)","v":1260},"",""]
["Area Outside Region","    Northlands (Christchurch City)","..","..",57,"Northlands (Christchurch City)",0.62903107000000003,90.615555762611208,{"$f":"ROWS($A$3:A1263)","v":1261},"",""]
["Area Outside Region","    Northpark North","..","..",993,"Northpark North",0.86166841999999999,1152.4154500173049,{"$f":"ROWS($A$3:A1264)","v":1262},"",""]
["Area Outside Region","    Northpark South","..","..",735,"Northpark South",0.70661609000000003,1040.1687852876375,{"$f":"ROWS($A$3:A1265)","v":1263},"",""]
["Area Outside Region","    Northwood","..","..",1446,"Northwood",1.4524466700000001,995.56151001399587,{"$f":"ROWS($A$3:A1266)","v":1264},"",""]
["Area Outside Region","    Nukuhau-Rangatira Park","..","..",1218,"Nukuhau-Rangatira Park",2.8693051999999999,424.49300966659109,{"$f":"ROWS($A$3:A1267)","v":1265},"",""]
["Area Outside Region","    Oaklands East","..","..",1299,"Oaklands East",1.3006289200000001,998.74759051182707,{"$f":"ROWS($A$3:A1268)","v":1266},"",""]
["Area Outside Region","    Oaklands West","..","..",936,"Oaklands West",1.69814976,551.18813549165418,{"$f":"ROWS($A$3:A1269)","v":1267},"",""]
["Area Outside Region","    Oaklands-St Kilda","..","..",615,"Oaklands-St Kilda",1.6823906900000001,365.55123827985517,{"$f":"ROWS($A$3:A1270)","v":1268},"",""]
["Area Outside Region","    Oakleigh-Mangapai","..","..",960,"Oakleigh-Mangapai",323.78100653000001,2.9649670012717406,{"$f":"ROWS($A$3:A1271)","v":1269},"",""]
["Area Outside Region","    Oakura","..","..",699,"Oakura",1.6771763,416.7719279124085,{"$f":"ROWS($A$3:A1272)","v":1270},"",""]
["Area Outside Region","    Oamaru Central","..","..",168,"Oamaru Central",0.96435333999999995,174.21000481006269,{"$f":"ROWS($A$3:A1273)","v":1271},"",""]
["Area Outside Region","    Oamaru Gardens","..","..",564,"Oamaru Gardens",1.42438077,395.96153772842638,{"$f":"ROWS($A$3:A1274)","v":1272},"",""]
["Area Outside Region","    Oamaru North Milner Park","..","..",1056,"Oamaru North Milner Park",7.1343831499999997,148.01559963877187,{"$f":"ROWS($A$3:A1275)","v":1273},"",""]
["Area Outside Region","    Oamaru North Orana Park","..","..",1290,"Oamaru North Orana Park",2.76059418,467.29070478588056,{"$f":"ROWS($A$3:A1276)","v":1274},"",""]
["Area Outside Region","    Oceanic Antipodes Islands","..","..",0,"Oceanic Antipodes Islands",0,{"$error":"#DIV/0!"},{"$f":"ROWS($A$3:A1277)","v":1275},"",""]
["Area Outside Region","    Oceanic Antipodes Islands","..","..",0,"Oceanic Antipodes Islands",0,{"$error":"#DIV/0!"},{"$f":"ROWS($A$3:A1278)","v":1276},"",""]
["Area Outside Region","    Oceanic Auckland Islands","..","..",0,"Oceanic Auckland Islands",0,{"$error":"#DIV/0!"},{"$f":"ROWS($A$3:A1279)","v":1277},"",""]
["Area Outside Region","    Oceanic Auckland Islands","..","..",0,"Oceanic Auckland Islands",0,{"$error":"#DIV/0!"},{"$f":"ROWS($A$3:A1280)","v":1278},"",""]
["Area Outside Region","    Oceanic Auckland Region East","..","..",9,"Oceanic Auckland Region East",0,{"$error":"#DIV/0!"},{"$f":"ROWS($A$3:A1281)","v":1279},"",""]
["Area Outside Region","    Oceanic Auckland Region West","..","..",0,"Oceanic Auckland Region West",0,{"$error":"#DIV/0!"},{"$f":"ROWS($A$3:A1282)","v":1280},"",""]
["Area Outside Region","    Oceanic Bay of Plenty Region","..","..",0,{"$f":"TRIM(B1283)","v":"Oceanic Bay of Plenty Region"},0,{"$f":"E1283/G1283","v":{"$error":"#DIV/0!"}},{"$f":"ROWS($A$3:A1283)","v":1281},{"$f":"IF(A1283=$M$2,I1284,\"\")","v":""},""]
["Area Outside Region","    Oceanic Bounty Islands","..","..",0,"Oceanic Bounty Islands",0,{"$error":"#DIV/0!"},{"$f":"ROWS($A$3:A1284)","v":1282},"",{"$f":"IFERROR(SMALL($J$3:$J$4612,I1284)-1,\"\")","v":""}]
["Area Outside Region","    Oceanic Bounty Islands","..","..",0,"Oceanic Bounty Islands",0,{"$error":"#DIV/0!"},{"$f":"ROWS($A$3:A1285)","v":1283},"",""]
["Area Outside Region","    Oceanic Campbell Island","..","..",0,"Oceanic Campbell Island",0,{"$error":"#DIV/0!"},{"$f":"ROWS($A$3:A1286)","v":1284},"",""]
["Area Outside Region","    Oceanic Campbell Island","..","..",0,"Oceanic Campbell Island",0,{"$error":"#DIV/0!"},{"$f":"ROWS($A$3:A1287)","v":1285},"",""]
["Area Outside Region","    Oceanic Canterbury Region","..","..",0,"Oceanic Canterbury Region",2.7225639999999999E-2,0,{"$f":"ROWS($A$3:A1288)","v":1286},"",""]
["Area Outside Region","    Oceanic Chatham Islands","..","..",0,"Oceanic Chatham Islands",0,{"$error":"#DIV/0!"},{"$f":"ROWS($A$3:A1289)","v":1287},"",""]
["Area Outside Region","    Oceanic Chatham Islands","..","..",0,"Oceanic Chatham Islands",0,{"$error":"#DIV/0!"},{"$f":"ROWS($A$3:A1290)","v":1288},"",""]
["Area Outside Region","    Oceanic Gisborne Region","..","..",0,"Oceanic Gisborne Region",0,{"$error":"#DIV/0!"},{"$f":"ROWS($A$3:A1291)","v":1289},"",""]
["Area Outside Region","    Oceanic Hawke's Bay Region","..","..",0,"Oceanic Hawke's Bay Region",0,{"$error":"#DIV/0!"},{"$f":"ROWS($A$3:A1292)","v":1290},"",""]
["Area Outside Region","    Oceanic Kermadec Islands","..","..",0,"Oceanic Kermadec Islands",0,{"$error":"#DIV/0!"},{"$f":"ROWS($A$3:A1293)","v":1291},"",""]
["Area Outside Region","    Oceanic Kermadec Islands","..","..",0,"Oceanic Kermadec Islands",0,{"$error":"#DIV/0!"},{"$f":"ROWS($A$3:A1294)","v":1292},"",""]
["Area Outside Region","    Oceanic Manawatu-Wanganui Region East","..","..",0,"Oceanic Manawatu-Wanganui Region East",0,{"$error":"#DIV/0!"},{"$f":"ROWS($A$3:A1295)","v":1293},"",""]
["Area Outside Region","    Oceanic Manawatu-Wanganui Region West","..","..",0,"Oceanic Manawatu-Wanganui Region West",0,{"$error":"#DIV/0!"},{"$f":"ROWS($A$3:A1296)","v":1294},"",""]
["Area Outside Region","    Oceanic Marlborough Region","..","..",0,"Oceanic Marlborough Region",0,{"$error":"#DIV/0!"},{"$f":"ROWS($A$3:A1297)","v":1295},"",""]
["Area Outside Region","    Oceanic Nelson Region","..","..",0,"Oceanic Nelson Region",0,{"$error":"#DIV/0!"},{"$f":"ROWS($A$3:A1298)","v":1296},"",""]
["Area Outside Region","    Oceanic Northland Region","..","..",3,"Oceanic Northland Region",0,{"$error":"#DIV/0!"},{"$f":"ROWS($A$3:A1299)","v":1297},"",""]
["Area Outside Region","    Oceanic Oil Rig Southland","..","..",0,"Oceanic Oil Rig Southland",0,{"$error":"#DIV/0!"},{"$f":"ROWS($A$3:A1300)","v":1298},"",""]
["Area Outside Region","    Oceanic Oil Rig Southland","..","..",0,"Oceanic Oil Rig Southland",0,{"$error":"#DIV/0!"},{"$f":"ROWS($A$3:A1301)","v":1299},"",""]
["Area Outside Region","    Oceanic Oil Rig Taranaki","..","..",0,"Oceanic Oil Rig Taranaki",0,{"$error":"#DIV/0!"},{"$f":"ROWS($A$3:A1302)","v":1300},"",""]
["Area Outside Region","    Oceanic Oil Rig Taranaki","..","..",0,"Oceanic Oil Rig Taranaki",0,{"$error":"#DIV/0!"},{"$f":"ROWS($A$3:A1303)","v":1301},"",""]
["Area Outside Region","    Oceanic Otago Region","..","..",0,"Oceanic Otago Region",0,{"$error":"#DIV/0!"},{"$f":"ROWS($A$3:A1304)","v":1302},"",""]
["Area Outside Region","    Oceanic Snares Islands","..","..",0,"Oceanic Snares Islands",0,{"$error":"#DIV/0!"},{"$f":"ROWS($A$3:A1305)","v":1303},"",""]
["Area Outside Region","    Oceanic Snares Islands","..","..",0,"Oceanic Snares Islands",0,{"$error":"#DIV/0!"},{"$f":"ROWS($A$3:A1306)","v":1304},"",""]
["Area Outside Region","    Oceanic Southland Region","..","..",9,"Oceanic Southland Region",0,{"$error":"#DIV/0!"},{"$f":"ROWS($A$3:A1307)","v":1305},"",""]
["Area Outside Region","    Oceanic Taranaki Region","..","..",3,"Oceanic Taranaki Region",0,{"$error":"#DIV/0!"},{"$f":"ROWS($A$3:A1308)","v":1306},"",""]
["Area Outside Region","    Oceanic Tasman Region","..","..",3,"Oceanic Tasman Region",0,{"$error":"#DIV/0!"},{"$f":"ROWS($A$3:A1309)","v":1307},"",""]
["Area Outside Region","    Oceanic Three Kings Islands","..","..",0,"Oceanic Three Kings Islands",0,{"$error":"#DIV/0!"},{"$f":"ROWS($A$3:A1310)","v":1308},"",""]
["Area Outside Region","    Oceanic Three Kings Islands","..","..",0,"Oceanic Three Kings Islands",0,{"$error":"#DIV/0!"},{"$f":"ROWS($A$3:A1311)","v":1309},"",""]
["Area Outside Region","    Oceanic Waikato Region East","..","..",3,"Oceanic Waikato Region East",0,{"$error":"#DIV/0!"},{"$f":"ROWS($A$3:A1312)","v":1310},"",""]
["Area Outside Region","    Oceanic Waikato Region West","..","..",0,"Oceanic Waikato Region West",0,{"$error":"#DIV/0!"},{"$f":"ROWS($A$3:A1313)","v":1311},"",""]
["Area Outside Region","    Oceanic Wellington Region","..","..",0,"Oceanic Wellington Region",0,{"$error":"#DIV/0!"},{"$f":"ROWS($A$3:A1314)","v":1312},"",""]
["Area Outside Region","    Oceanic West Coast Region","..","..",3,"Oceanic West Coast Region",0,{"$error":"#DIV/0!"},{"$f":"ROWS($A$3:A1315)","v":1313},"",""]
["Area Outside Region","    Ohaeawai-Waimate North","..","..",471,"Ohaeawai-Waimate North",87.404523060000002,5.3887371443772514,{"$f":"ROWS($A$3:A1316)","v":1314},"",""]
["Area Outside Region","    Ohai-Nightcaps","..","..",729,"Ohai-Nightcaps",948.80872687999897,0.76833188749980863,{"$f":"ROWS($A$3:A1317)","v":1315},"",""]
["Area Outside Region","    Ohakea-Sanson","..","..",516,"Ohakea-Sanson",82.742173289999897,6.2362393865519001,{"$f":"ROWS($A$3:A1318)","v":1316},"",""]
["Area Outside Region","    Ohakune","..","..",1371,"Ohakune",6.4404931699999999,212.87189719976055,{"$f":"ROWS($A$3:A1319)","v":1317},"",""]
["Area Outside Region","    Ohakuri","..","..",831,"Ohakuri",543.10499694999896,1.5300908749998228,{"$f":"ROWS($A$3:A1320)","v":1318},"",""]
["Area Outside Region","    Ohangai","..","..",243,"Ohangai",331.77711962000001,0.73241940335825262,{"$f":"ROWS($A$3:A1321)","v":1319},"",""]
["Area Outside Region","    Ohauiti","..","..",1275,"Ohauiti",3.4055757400000002,374.38603553124909,{"$f":"ROWS($A$3:A1322)","v":1320},"",""]
["Area Outside Region","    Ohau-Manakau","..","..",942,"Ohau-Manakau",42.227752860000002,22.307604269710126,{"$f":"ROWS($A$3:A1323)","v":1321},"",""]
["Area Outside Region","    Ohope","..","..",1914,"Ohope",6.3335273499999998,302.20126861850531,{"$f":"ROWS($A$3:A1324)","v":1322},"",""]
["Area Outside Region","    Okahukura Peninsula","..","..",663,"Okahukura Peninsula",211.18081304,3.1394897597748161,{"$f":"ROWS($A$3:A1325)","v":1323},"",""]
["Area Outside Region","    Okaiawa","..","..",507,"Okaiawa",102.1116779,4.9651519828761916,{"$f":"ROWS($A$3:A1326)","v":1324},"",""]
["Area Outside Region","    Okaihau","..","..",498,"Okaihau",147.59027666,3.3742060200024562,{"$f":"ROWS($A$3:A1327)","v":1325},"",""]
["Area Outside Region","    Okauia","..","..",426,"Okauia",120.03151883,3.5490678127912516,{"$f":"ROWS($A$3:A1328)","v":1326},"",""]
["Area Outside Region","    Okuku","..","..",303,"Okuku",834.68212277999896,0.36301244717069747,{"$f":"ROWS($A$3:A1329)","v":1327},"",""]
["Area Outside Region","    Okura Bush","..","..",474,"Okura Bush",28.988727010000002,16.351183680348853,{"$f":"ROWS($A$3:A1330)","v":1328},"",""]
["Area Outside Region","    Omahu Strip","..","..",63,"Omahu Strip",1.93922993,32.487122349643194,{"$f":"ROWS($A$3:A1331)","v":1329},"",""]
["Area Outside Region","    Omahu-Pakowhai","..","..",492,"Omahu-Pakowhai",45.77754994,10.747626306887494,{"$f":"ROWS($A$3:A1332)","v":1330},"",""]
["Area Outside Region","    Omahuta Forest-Horeke","..","..",525,"Omahuta Forest-Horeke",463.54915239000002,1.1325659798818901,{"$f":"ROWS($A$3:A1333)","v":1331},"",""]
["Area Outside Region","    Omaio","..","..",1404,"Omaio",5.4714102000000002,256.60660573392943,{"$f":"ROWS($A$3:A1334)","v":1332},"",""]
["Area Outside Region","    Omanu Beach","..","..",1290,"Omanu Beach",1.02425367,1259.4536273421406,{"$f":"ROWS($A$3:A1335)","v":1333},"",""]
["Area Outside Region","    Omata","..","..",366,"Omata",21.599505709999899,16.944832206533011,{"$f":"ROWS($A$3:A1336)","v":1334},"",""]
["Area Outside Region","    Omihi","..","..",699,"Omihi",717.86646040999904,0.97371870473064903,{"$f":"ROWS($A$3:A1337)","v":1335},"",""]
["Area Outside Region","    Omokoroa","..","..",1530,"Omokoroa",3.7718368600000001,405.63790449834033,{"$f":"ROWS($A$3:A1338)","v":1336},"",""]
["Area Outside Region","    Omokoroa Rural","..","..",306,"Omokoroa Rural",7.9142977099999996,38.664201324314348,{"$f":"ROWS($A$3:A1339)","v":1337},"",""]
["Area Outside Region","    One Tree Hill","..","..",1785,"One Tree Hill",2.74928149,649.26054552529649,{"$f":"ROWS($A$3:A1340)","v":1338},"",""]
["Area Outside Region","    Onehunga Central","..","..",1341,"Onehunga Central",0.86447109,1551.2375318415795,{"$f":"ROWS($A$3:A1341)","v":1339},"",""]
["Area Outside Region","    Onehunga North","..","..",1398,"Onehunga North",0.77236243999999998,1810.031052260905,{"$f":"ROWS($A$3:A1342)","v":1340},"",""]
["Area Outside Region","    Onehunga West","..","..",1374,"Onehunga West",1.12216103,1224.4232006524055,{"$f":"ROWS($A$3:A1343)","v":1341},"",""]
["Area Outside Region","    Onehunga-Te Papapa Industrial","..","..",420,"Onehunga-Te Papapa Industrial",2.9414608200000001,142.78619560195264,{"$f":"ROWS($A$3:A1344)","v":1342},"",""]
["Area Outside Region","    Onekawa Central","..","..",600,"Onekawa Central",0.67701087999999998,886.24868185279388,{"$f":"ROWS($A$3:A1345)","v":1343},"",""]
["Area Outside Region","    Onekawa East","..","..",663,"Onekawa East",0.63617579999999996,1042.1647601181937,{"$f":"ROWS($A$3:A1346)","v":1344},"",""]
["Area Outside Region","    Onekawa South","..","..",1065,{"$f":"TRIM(B1347)","v":"Onekawa South"},1.08607604,{"$f":"E1347/G1347","v":980.59432376392351},{"$f":"ROWS($A$3:A1347)","v":1345},{"$f":"IF(A1347=$M$2,I1348,\"\")","v":""},""]
["Area Outside Region","    Onekawa West","..","..",159,"Onekawa West",3.12036304,50.955609319100255,{"$f":"ROWS($A$3:A1348)","v":1346},"",{"$f":"IFERROR(SMALL($J$3:$J$4612,I1348)-1,\"\")","v":""}]
["Area Outside Region","    Onepoto","..","..",654,"Onepoto",2.2411811699999999,291.81041173927053,{"$f":"ROWS($A$3:A1349)","v":1347},"",""]
["Area Outside Region","    Onepu Spring","..","..",459,"Onepu Spring",98.844607710000005,4.6436524018250864,{"$f":"ROWS($A$3:A1350)","v":1348},"",""]
["Area Outside Region","    Onerahi","..","..",969,"Onerahi",2.2942122199999999,422.36720367569137,{"$f":"ROWS($A$3:A1351)","v":1349},"",""]
["Area Outside Region","    Onerahi Park","..","..",678,"Onerahi Park",1.9996437,339.06040361090328,{"$f":"ROWS($A$3:A1352)","v":1350},"",""]
["Area Outside Region","    Oneroa East-Palm Beach","..","..",999,"Oneroa East-Palm Beach",3.6731498600000001,271.97365696372651,{"$f":"ROWS($A$3:A1353)","v":1351},"",""]
["Area Outside Region","    Oneroa West","..","..",1089,"Oneroa West",8.4200102399999999,129.3347595738791,{"$f":"ROWS($A$3:A1354)","v":1352},"",""]
["Area Outside Region","    Onetangi","..","..",999,"Onetangi",5.9616334499999999,167.57152353940847,{"$f":"ROWS($A$3:A1355)","v":1353},"",""]
["Area Outside Region","    Onewhero","..","..",597,"Onewhero",205.40043725999899,2.9065176684327518,{"$f":"ROWS($A$3:A1356)","v":1354},"",""]
["Area Outside Region","    Onslow","..","..",717,"Onslow",0.7679549,933.64857754016543,{"$f":"ROWS($A$3:A1357)","v":1355},"",""]
["Area Outside Region","    Opaheke","..","..",957,"Opaheke",1.10867301,863.19409904278268,{"$f":"ROWS($A$3:A1358)","v":1356},"",""]
["Area Outside Region","    Opaki","..","..",462,"Opaki",36.042287389999899,12.81827634858114,{"$f":"ROWS($A$3:A1359)","v":1357},"",""]
["Area Outside Region","    Opawa","..","..",561,"Opawa",0.81403258999999994,689.16159732622009,{"$f":"ROWS($A$3:A1360)","v":1358},"",""]
["Area Outside Region","    Opoho","..","..",510,"Opoho",2.35880387,216.21127830352424,{"$f":"ROWS($A$3:A1361)","v":1359},"",""]
["Area Outside Region","    Oponae","..","..",156,"Oponae",1255.37179438,0.12426597498715104,{"$f":"ROWS($A$3:A1362)","v":1360},"",""]
["Area Outside Region","    Opotiki","..","..",1305,"Opotiki",5.6800483799999997,229.75156419354303,{"$f":"ROWS($A$3:A1363)","v":1361},"",""]
["Area Outside Region","    Opua (Far North District)","..","..",651,"Opua (Far North District)",5.6224730699999999,115.78534781670373,{"$f":"ROWS($A$3:A1364)","v":1362},"",""]
["Area Outside Region","    Opua (Mackenzie District)","..","..",651,"Opua (Mackenzie District)",1978.3827120000001,0.32905665625327196,{"$f":"ROWS($A$3:A1365)","v":1363},"",""]
["Area Outside Region","    Opunake","..","..",699,"Opunake",3.7651424800000002,185.65034489743931,{"$f":"ROWS($A$3:A1366)","v":1364},"",""]
["Area Outside Region","    Orakei East","..","..",1173,"Orakei East",1.70739051,687.01330663949864,{"$f":"ROWS($A$3:A1367)","v":1365},"",""]
["Area Outside Region","    Orakei West","..","..",1167,"Orakei West",1.3536476399999999,862.11504790123968,{"$f":"ROWS($A$3:A1368)","v":1366},"",""]
["Area Outside Region","    Oranga","..","..",909,"Oranga",0.66853335999999997,1359.6928057561706,{"$f":"ROWS($A$3:A1369)","v":1367},"",""]
["Area Outside Region","    Oratia","..","..",759,"Oratia",17.1911746299999,44.150560757813935,{"$f":"ROWS($A$3:A1370)","v":1368},"",""]
["Area Outside Region","    Oreti River","..","..",867,"Oreti River",629.96070478000001,1.3762763191757823,{"$f":"ROWS($A$3:A1371)","v":1369},"",""]
["Area Outside Region","    Orewa Central","..","..",1731,"Orewa Central",1.4528432099999999,1191.4568537646951,{"$f":"ROWS($A$3:A1372)","v":1370},"",""]
["Area Outside Region","    Orewa North","..","..",1842,"Orewa North",3.0420543000000002,605.51187399909327,{"$f":"ROWS($A$3:A1373)","v":1371},"",""]
["Area Outside Region","    Orewa South","..","..",1503,"Orewa South",2.3116062799999999,650.19722995388304,{"$f":"ROWS($A$3:A1374)","v":1372},"",""]
["Area Outside Region","    Oriental Bay","..","..",831,"Oriental Bay",0.30283761999999997,2744.0448118698068,{"$f":"ROWS($A$3:A1375)","v":1373},"",""]
["Area Outside Region","    Ormiston East","..","..",279,"Ormiston East",4.4146672699999998,63.198420840445358,{"$f":"ROWS($A$3:A1376)","v":1374},"",""]
["Area Outside Region","    Ormiston North","..","..",606,"Ormiston North",2.30075808,263.39144704861798,{"$f":"ROWS($A$3:A1377)","v":1375},"",""]
["Area Outside Region","    Ormiston South","..","..",1254,"Ormiston South",1.70316998,736.27413277916048,{"$f":"ROWS($A$3:A1378)","v":1376},"",""]
["Area Outside Region","    Oroua Downs","..","..",846,"Oroua Downs",125.27707497,6.7530312325905673,{"$f":"ROWS($A$3:A1379)","v":1377},"",""]
["Area Outside Region","    Oruru-Parapara","..","..",387,"Oruru-Parapara",103.28072757,3.7470688782445416,{"$f":"ROWS($A$3:A1380)","v":1378},"",""]
["Area Outside Region","    Ostend","..","..",939,"Ostend",3.91381801,239.91917805089767,{"$f":"ROWS($A$3:A1381)","v":1379},"",""]
["Area Outside Region","    Otago Peninsula","..","..",555,"Otago Peninsula",84.985626280000005,6.5305160918795311,{"$f":"ROWS($A$3:A1382)","v":1380},"",""]
["Area Outside Region","    Otahuhu Central","..","..",351,"Otahuhu Central",1.2637164299999999,277.75218527466643,{"$f":"ROWS($A$3:A1383)","v":1381},"",""]
["Area Outside Region","    Otahuhu East","..","..",624,"Otahuhu East",0.78748523000000004,792.39581420466766,{"$f":"ROWS($A$3:A1384)","v":1382},"",""]
["Area Outside Region","    Otahuhu Industrial","..","..",3,"Otahuhu Industrial",1.8453525099999999,1.6257056490523862,{"$f":"ROWS($A$3:A1385)","v":1383},"",""]
["Area Outside Region","    Otahuhu North","..","..",1188,"Otahuhu North",0.72481481999999997,1639.0393342122888,{"$f":"ROWS($A$3:A1386)","v":1384},"",""]
["Area Outside Region","    Otahuhu South","..","..",1128,"Otahuhu South",0.81751878,1379.784816686413,{"$f":"ROWS($A$3:A1387)","v":1385},"",""]
["Area Outside Region","    Otahuhu South West","..","..",1056,"Otahuhu South West",1.24162382,850.49914715714783,{"$f":"ROWS($A$3:A1388)","v":1386},"",""]
["Area Outside Region","    Otaihanga","..","..",330,"Otaihanga",4.4739952399999998,73.759577804110492,{"$f":"ROWS($A$3:A1389)","v":1387},"",""]
["Area Outside Region","    Otaika-Portland","..","..",489,"Otaika-Portland",41.341274589999898,11.828372609447435,{"$f":"ROWS($A$3:A1390)","v":1388},"",""]
["Area Outside Region","    Otairi","..","..",609,"Otairi",636.74022780999906,0.95643399521747097,{"$f":"ROWS($A$3:A1391)","v":1389},"",""]
["Area Outside Region","    Otakaro-Avon River Corridor","..","..",42,"Otakaro-Avon River Corridor",6.1323984200000003,6.8488700706435832,{"$f":"ROWS($A$3:A1392)","v":1390},"",""]
["Area Outside Region","    Otaki","..","..",1602,"Otaki",8.4768726599999997,188.98479005817697,{"$f":"ROWS($A$3:A1393)","v":1391},"",""]
["Area Outside Region","    Otaki Beach","..","..",1107,"Otaki Beach",3.3676418899999998,328.71666173507543,{"$f":"ROWS($A$3:A1394)","v":1392},"",""]
["Area Outside Region","    Otaki Forks","..","..",345,"Otaki Forks",87.257591869999899,3.9538106955094037,{"$f":"ROWS($A$3:A1395)","v":1393},"",""]
["Area Outside Region","    Otamatea (Kaipara District)","..","..",993,"Otamatea (Kaipara District)",244.89158927,4.0548554687404517,{"$f":"ROWS($A$3:A1396)","v":1394},"",""]
["Area Outside Region","    Otamatea (Whanganui District)","..","..",741,"Otamatea (Whanganui District)",2.23081277,332.16593071591569,{"$f":"ROWS($A$3:A1397)","v":1395},"",""]
["Area Outside Region","    Otangarei","..","..",624,"Otangarei",1.03955837,600.25489477805854,{"$f":"ROWS($A$3:A1398)","v":1396},"",""]
["Area Outside Region","    Otangiwai-Ohura","..","..",660,"Otangiwai-Ohura",2011.6970374,0.32808121090291564,{"$f":"ROWS($A$3:A1399)","v":1397},"",""]
["Area Outside Region","    Otara Central","..","..",600,"Otara Central",1.52354042,393.81954828609008,{"$f":"ROWS($A$3:A1400)","v":1398},"",""]
["Area Outside Region","    Otara East","..","..",825,"Otara East",0.86784541000000004,950.63013584412454,{"$f":"ROWS($A$3:A1401)","v":1399},"",""]
["Area Outside Region","    Otara South","..","..",792,"Otara South",0.80187120999999995,987.6897812555211,{"$f":"ROWS($A$3:A1402)","v":1400},"",""]
["Area Outside Region","    Otara West","..","..",696,"Otara West",1.5563746599999999,447.1930942386328,{"$f":"ROWS($A$3:A1403)","v":1401},"",""]
["Area Outside Region","    Otara-Tirohanga","..","..",513,"Otara-Tirohanga",113.32229536,4.5269114817195666,{"$f":"ROWS($A$3:A1404)","v":1402},"",""]
["Area Outside Region","    Otatara","..","..",1185,"Otatara",19.951228830000002,59.394837786540485,{"$f":"ROWS($A$3:A1405)","v":1403},"",""]
["Area Outside Region","    Otautau","..","..",1215,"Otautau",703.22598299000003,1.7277518598417281,{"$f":"ROWS($A$3:A1406)","v":1404},"",""]
["Area Outside Region","    Otawa","..","..",726,"Otawa",151.68016080999899,4.7863873305713227,{"$f":"ROWS($A$3:A1407)","v":1405},"",""]
["Area Outside Region","    Oteha East","..","..",1191,"Oteha East",0.76758590000000004,1551.6178710421855,{"$f":"ROWS($A$3:A1408)","v":1406},"",""]
["Area Outside Region","    Oteha West","..","..",615,"Oteha West",0.52993902999999998,1160.5108610324476,{"$f":"ROWS($A$3:A1409)","v":1407},"",""]
["Area Outside Region","    Otorohanga","..","..",1197,"Otorohanga",5.0734903400000002,235.93225172081435,{"$f":"ROWS($A$3:A1410)","v":1408},"",""]
["Area Outside Region","    Otumoetai North","..","..",1956,{"$f":"TRIM(B1411)","v":"Otumoetai North"},1.7205914200000001,{"$f":"E1411/G1411","v":1136.8184086376532},{"$f":"ROWS($A$3:A1411)","v":1409},{"$f":"IF(A1411=$M$2,I1412,\"\")","v":""},""]
["Area Outside Region","    Otumoetai South","..","..",1527,"Otumoetai South",1.6002653,954.21677893034359,{"$f":"ROWS($A$3:A1412)","v":1410},"",{"$f":"IFERROR(SMALL($J$3:$J$4612,I1412)-1,\"\")","v":""}]
["Area Outside Region","    Outer Kaiti","..","..",753,"Outer Kaiti",1.4539302199999999,517.90656088020512,{"$f":"ROWS($A$3:A1413)","v":1411},"",""]
["Area Outside Region","    Outer Wakatipu","..","..",435,"Outer Wakatipu",1880.05664368,0.23137600745291179,{"$f":"ROWS($A$3:A1414)","v":1412},"",""]
["Area Outside Region","    Outer Wanaka","..","..",276,"Outer Wanaka",3175.9795766699899,8.6902322051260042E-2,{"$f":"ROWS($A$3:A1415)","v":1413},"",""]
["Area Outside Region","    Owairaka East","..","..",690,"Owairaka East",0.40252110000000002,1714.1958520932194,{"$f":"ROWS($A$3:A1416)","v":1414},"",""]
["Area Outside Region","    Owairaka West","..","..",1089,"Owairaka West",0.91844126999999998,1185.7045578973166,{"$f":"ROWS($A$3:A1417)","v":1415},"",""]
["Area Outside Region","    Owhanga","..","..",447,"Owhanga",1142.4896029500001,0.39125082525548593,{"$f":"ROWS($A$3:A1418)","v":1416},"",""]
["Area Outside Region","    Owhata East","..","..",1080,"Owhata East",1.4175162100000001,761.89604914641507,{"$f":"ROWS($A$3:A1419)","v":1417},"",""]
["Area Outside Region","    Owhata West","..","..",1077,"Owhata West",3.3282946400000002,323.58913993263525,{"$f":"ROWS($A$3:A1420)","v":1418},"",""]
["Area Outside Region","    Owhiro Bay","..","..",756,"Owhiro Bay",4.0595951399999999,186.22546680849558,{"$f":"ROWS($A$3:A1421)","v":1419},"",""]
["Area Outside Region","    Oxford","..","..",942,"Oxford",11.828659480000001,79.637088344012412,{"$f":"ROWS($A$3:A1422)","v":1420},"",""]
["Area Outside Region","    Oxford Estate","..","..",468,"Oxford Estate",0.52355057000000005,893.89645779585328,{"$f":"ROWS($A$3:A1423)","v":1421},"",""]
["Area Outside Region","    Pacific View","..","..",1137,"Pacific View",1.1627587100000001,977.84689998151032,{"$f":"ROWS($A$3:A1424)","v":1422},"",""]
["Area Outside Region","    Paekakariki","..","..",807,"Paekakariki",5.8933172599999999,136.93476261279713,{"$f":"ROWS($A$3:A1425)","v":1423},"",""]
["Area Outside Region","    Paekakariki Hill","..","..",147,"Paekakariki Hill",35.790139330000002,4.1072765502419184,{"$f":"ROWS($A$3:A1426)","v":1424},"",""]
["Area Outside Region","    Paeroa","..","..",1881,"Paeroa",6.8696957899999997,273.81125125483908,{"$f":"ROWS($A$3:A1427)","v":1425},"",""]
["Area Outside Region","    Paeroa Rural","..","..",786,"Paeroa Rural",272.56138579999902,2.883754049360292,{"$f":"ROWS($A$3:A1428)","v":1426},"",""]
["Area Outside Region","    Pahiatua","..","..",1158,"Pahiatua",3.8614447599999999,299.88775496557929,{"$f":"ROWS($A$3:A1429)","v":1427},"",""]
["Area Outside Region","    Pahoia","..","..",1245,"Pahoia",112.81142031,11.036116703245149,{"$f":"ROWS($A$3:A1430)","v":1428},"",""]
["Area Outside Region","    Pahurehure","..","..",1089,"Pahurehure",1.2071569,902.11968303374647,{"$f":"ROWS($A$3:A1431)","v":1429},"",""]
["Area Outside Region","    Paihia","..","..",876,"Paihia",2.2421088999999998,390.70359160520707,{"$f":"ROWS($A$3:A1432)","v":1430},"",""]
["Area Outside Region","    Pakaraka","..","..",249,"Pakaraka",72.337481949999898,3.4421988889813764,{"$f":"ROWS($A$3:A1433)","v":1431},"",""]
["Area Outside Region","    Pakuranga Central","..","..",1077,"Pakuranga Central",1.1259526200000001,956.52337484680299,{"$f":"ROWS($A$3:A1434)","v":1432},"",""]
["Area Outside Region","    Pakuranga Heights East","..","..",960,"Pakuranga Heights East",1.79066061,536.11499277911742,{"$f":"ROWS($A$3:A1435)","v":1433},"",""]
["Area Outside Region","    Pakuranga Heights North West","..","..",879,"Pakuranga Heights North West",0.76233989000000002,1153.0289986530811,{"$f":"ROWS($A$3:A1436)","v":1434},"",""]
["Area Outside Region","    Pakuranga Heights South West","..","..",1101,"Pakuranga Heights South West",0.97371434000000001,1130.7217679468497,{"$f":"ROWS($A$3:A1437)","v":1435},"",""]
["Area Outside Region","    Pakuranga West","..","..",1500,"Pakuranga West",1.3920482599999999,1077.5488487733896,{"$f":"ROWS($A$3:A1438)","v":1436},"",""]
["Area Outside Region","    Palm Beach North","..","..",1173,"Palm Beach North",1.0945398799999999,1071.6831989712427,{"$f":"ROWS($A$3:A1439)","v":1437},"",""]
["Area Outside Region","    Palm Beach South-Gravatt","..","..",1599,"Palm Beach South-Gravatt",2.3881001199999998,669.56991736175621,{"$f":"ROWS($A$3:A1440)","v":1438},"",""]
["Area Outside Region","    Palmerston","..","..",498,"Palmerston",8.7706344400000003,56.7803849774863,{"$f":"ROWS($A$3:A1441)","v":1439},"",""]
["Area Outside Region","    Palmerston North Airport","..","..",123,"Palmerston North Airport",7.5370538199999997,16.319373980535012,{"$f":"ROWS($A$3:A1442)","v":1440},"",""]
["Area Outside Region","    Palmerston North Central","..","..",504,"Palmerston North Central",1.84381526,273.34625704312697,{"$f":"ROWS($A$3:A1443)","v":1441},"",""]
["Area Outside Region","    Palmerston North Hospital","..","..",1065,"Palmerston North Hospital",1.07412464,991.50504544798457,{"$f":"ROWS($A$3:A1444)","v":1442},"",""]
["Area Outside Region","    Panmure East","..","..",1257,"Panmure East",1.0136620300000001,1240.0582864882488,{"$f":"ROWS($A$3:A1445)","v":1443},"",""]
["Area Outside Region","    Panmure Glen Innes Industrial","..","..",66,"Panmure Glen Innes Industrial",2.01305756,32.785947759983571,{"$f":"ROWS($A$3:A1446)","v":1444},"",""]
["Area Outside Region","    Panmure West","..","..",126,"Panmure West",0.64310957000000002,195.92306797735881,{"$f":"ROWS($A$3:A1447)","v":1445},"",""]
["Area Outside Region","    Papaioea North","..","..",1167,"Papaioea North",0.80386634999999995,1451.7338609832345,{"$f":"ROWS($A$3:A1448)","v":1446},"",""]
["Area Outside Region","    Papaioea South","..","..",966,"Papaioea South",0.60050349999999997,1608.6500744791663,{"$f":"ROWS($A$3:A1449)","v":1447},"",""]
["Area Outside Region","    Papakowhai","..","..",792,"Papakowhai",1.43041419,553.68578243760294,{"$f":"ROWS($A$3:A1450)","v":1448},"",""]
["Area Outside Region","    Papakura Central","..","..",1305,"Papakura Central",1.56524401,833.73582116439468,{"$f":"ROWS($A$3:A1451)","v":1449},"",""]
["Area Outside Region","    Papakura East","..","..",876,"Papakura East",2.0176395399999998,434.17071416036987,{"$f":"ROWS($A$3:A1452)","v":1450},"",""]
["Area Outside Region","    Papakura Industrial","..","..",66,"Papakura Industrial",1.5383817500000001,42.90222501664492,{"$f":"ROWS($A$3:A1453)","v":1451},"",""]
["Area Outside Region","    Papakura Kelvin","..","..",1206,"Papakura Kelvin",1.0170488099999999,1185.7837973381043,{"$f":"ROWS($A$3:A1454)","v":1452},"",""]
["Area Outside Region","    Papakura Massey Park","..","..",849,"Papakura Massey Park",0.89410414000000005,949.55381819392983,{"$f":"ROWS($A$3:A1455)","v":1453},"",""]
["Area Outside Region","    Papakura North","..","..",1380,"Papakura North",1.2487808,1105.0778487305379,{"$f":"ROWS($A$3:A1456)","v":1454},"",""]
["Area Outside Region","    Papakura North East","..","..",864,"Papakura North East",1.48821034,580.56309432710975,{"$f":"ROWS($A$3:A1457)","v":1455},"",""]
["Area Outside Region","    Papakura West","..","..",702,"Papakura West",0.56013557999999997,1253.2680034358825,{"$f":"ROWS($A$3:A1458)","v":1456},"",""]
["Area Outside Region","    Papamoa Beach North","..","..",1086,"Papamoa Beach North",1.39820072,776.71251664067233,{"$f":"ROWS($A$3:A1459)","v":1457},"",""]
["Area Outside Region","    Papamoa Beach South","..","..",1155,"Papamoa Beach South",1.3788326500000001,837.66510750960231,{"$f":"ROWS($A$3:A1460)","v":1458},"",""]
["Area Outside Region","    Papanui East","..","..",1005,"Papanui East",0.82838075,1213.2102297162264,{"$f":"ROWS($A$3:A1461)","v":1459},"",""]
["Area Outside Region","    Papanui North","..","..",792,"Papanui North",0.59939608,1321.329962651741,{"$f":"ROWS($A$3:A1462)","v":1460},"",""]
["Area Outside Region","    Papanui West","..","..",1209,"Papanui West",1.0016985,1206.9499954327573,{"$f":"ROWS($A$3:A1463)","v":1461},"",""]
["Area Outside Region","    Paparangi","..","..",1083,"Paparangi",1.3138115400000001,824.31914093249623,{"$f":"ROWS($A$3:A1464)","v":1462},"",""]
["Area Outside Region","    Paparua","..","..",129,"Paparua",23.32169511,5.5313303510552583,{"$f":"ROWS($A$3:A1465)","v":1463},"",""]
["Area Outside Region","    Papatawa","..","..",537,"Papatawa",230.08922396,2.3338772270941082,{"$f":"ROWS($A$3:A1466)","v":1464},"",""]
["Area Outside Region","    Papatoetoe Central","..","..",1662,"Papatoetoe Central",1.4573838699999999,1140.3996120802408,{"$f":"ROWS($A$3:A1467)","v":1465},"",""]
["Area Outside Region","    Papatoetoe East","..","..",1191,"Papatoetoe East",1.0684956999999999,1114.651186710438,{"$f":"ROWS($A$3:A1468)","v":1466},"",""]
["Area Outside Region","    Papatoetoe North","..","..",1395,"Papatoetoe North",0.99327076999999997,1404.4508729477664,{"$f":"ROWS($A$3:A1469)","v":1467},"",""]
["Area Outside Region","    Papatoetoe South","..","..",1212,"Papatoetoe South",0.79596425999999998,1522.6814329578065,{"$f":"ROWS($A$3:A1470)","v":1468},"",""]
["Area Outside Region","    Papatoetoe South West","..","..",951,"Papatoetoe South West",0.82859680000000002,1147.7234766052682,{"$f":"ROWS($A$3:A1471)","v":1469},"",""]
["Area Outside Region","    Papatoetoe West","..","..",1329,"Papatoetoe West",1.2243028600000001,1085.5157195336453,{"$f":"ROWS($A$3:A1472)","v":1470},"",""]
["Area Outside Region","    Paraite","..","..",300,"Paraite",13.721248040000001,21.863900362812767,{"$f":"ROWS($A$3:A1473)","v":1471},"",""]
["Area Outside Region","    Parakai","..","..",420,"Parakai",1.45487644,288.68430916373899,{"$f":"ROWS($A$3:A1474)","v":1472},"",""]
["Area Outside Region","    Paraonui","..","..",789,{"$f":"TRIM(B1475)","v":"Paraonui"},2.3608626699999999,{"$f":"E1475/G1475","v":334.19987110050749},{"$f":"ROWS($A$3:A1475)","v":1473},{"$f":"IF(A1475=$M$2,I1476,\"\")","v":""},""]
["Area Outside Region","    Paraparaumu Beach East","..","..",1176,"Paraparaumu Beach East",1.06717975,1101.9699352428679,{"$f":"ROWS($A$3:A1476)","v":1474},"",{"$f":"IFERROR(SMALL($J$3:$J$4612,I1476)-1,\"\")","v":""}]
["Area Outside Region","    Paraparaumu Beach North","..","..",1617,"Paraparaumu Beach North",2.1438252000000002,754.25925583858225,{"$f":"ROWS($A$3:A1477)","v":1475},"",""]
["Area Outside Region","    Paraparaumu Beach West","..","..",1227,"Paraparaumu Beach West",1.59459146,769.47608887858962,{"$f":"ROWS($A$3:A1478)","v":1476},"",""]
["Area Outside Region","    Paraparaumu Central","..","..",1830,"Paraparaumu Central",4.4647630200000004,409.87617748186773,{"$f":"ROWS($A$3:A1479)","v":1477},"",""]
["Area Outside Region","    Paraparaumu East","..","..",873,"Paraparaumu East",2.5118350500000002,347.55466924470215,{"$f":"ROWS($A$3:A1480)","v":1478},"",""]
["Area Outside Region","    Paraparaumu North","..","..",1548,"Paraparaumu North",3.5332206300000002,438.127182564311,{"$f":"ROWS($A$3:A1481)","v":1479},"",""]
["Area Outside Region","    Paremata","..","..",1053,"Paremata",1.61589388,651.65170376163564,{"$f":"ROWS($A$3:A1482)","v":1480},"",""]
["Area Outside Region","    Paremoremo East","..","..",705,"Paremoremo East",11.6072722899999,60.737784243020123,{"$f":"ROWS($A$3:A1483)","v":1481},"",""]
["Area Outside Region","    Paremoremo West","..","..",327,"Paremoremo West",9.4711876700000008,34.525765024778565,{"$f":"ROWS($A$3:A1484)","v":1482},"",""]
["Area Outside Region","    Parewanui","..","..",390,"Parewanui",265.95684943999902,1.4664032936966553,{"$f":"ROWS($A$3:A1485)","v":1483},"",""]
["Area Outside Region","    Park West","..","..",873,"Park West",0.92856835999999998,940.15695301097708,{"$f":"ROWS($A$3:A1486)","v":1484},"",""]
["Area Outside Region","    Parkdale","..","..",321,"Parkdale",2.5377621800000001,126.48939389584567,{"$f":"ROWS($A$3:A1487)","v":1485},"",""]
["Area Outside Region","    Parkhaven","..","..",1101,"Parkhaven",1.0158563,1083.8147088323417,{"$f":"ROWS($A$3:A1488)","v":1486},"",""]
["Area Outside Region","    Parklands","..","..",1602,"Parklands",1.80335402,888.34470782392464,{"$f":"ROWS($A$3:A1489)","v":1487},"",""]
["Area Outside Region","    Parkside","..","..",1149,"Parkside",1.1472001999999999,1001.5688630458748,{"$f":"ROWS($A$3:A1490)","v":1488},"",""]
["Area Outside Region","    Parkvale","..","..",999,"Parkvale",1.2414568399999999,804.69974292461109,{"$f":"ROWS($A$3:A1491)","v":1489},"",""]
["Area Outside Region","    Parnassus","..","..",816,"Parnassus",994.56247252000003,0.82046128076041069,{"$f":"ROWS($A$3:A1492)","v":1490},"",""]
["Area Outside Region","    Parnell East","..","..",1575,"Parnell East",1.22491492,1285.8035887096551,{"$f":"ROWS($A$3:A1493)","v":1491},"",""]
["Area Outside Region","    Parnell West","..","..",1968,"Parnell West",1.6492493699999999,1193.270123850343,{"$f":"ROWS($A$3:A1494)","v":1492},"",""]
["Area Outside Region","    Parua Bay","..","..",1044,"Parua Bay",39.0954391,26.703882192744064,{"$f":"ROWS($A$3:A1495)","v":1493},"",""]
["Area Outside Region","    Pataua","..","..",795,"Pataua",128.58726060999899,6.18257202329871,{"$f":"ROWS($A$3:A1496)","v":1494},"",""]
["Area Outside Region","    Patea","..","..",600,"Patea",6.1535879299999996,97.504091405743523,{"$f":"ROWS($A$3:A1497)","v":1495},"",""]
["Area Outside Region","    Patumahoe","..","..",822,"Patumahoe",34.378987010000003,23.909954058881969,{"$f":"ROWS($A$3:A1498)","v":1496},"",""]
["Area Outside Region","    Pauanui","..","..",2451,"Pauanui",9.8968361100000006,247.65490433083465,{"$f":"ROWS($A$3:A1499)","v":1497},"",""]
["Area Outside Region","    Pauatahanui","..","..",339,"Pauatahanui",75.947280640000002,4.4636226227362128,{"$f":"ROWS($A$3:A1500)","v":1498},"",""]
["Area Outside Region","    Peachgrove","..","..",1347,"Peachgrove",1.4355266,938.33161990868018,{"$f":"ROWS($A$3:A1501)","v":1499},"",""]
["Area Outside Region","    Peacockes","..","..",150,"Peacockes",6.9328297599999997,21.636186837508614,{"$f":"ROWS($A$3:A1502)","v":1500},"",""]
["Area Outside Region","    Pegasus","..","..",1005,"Pegasus",6.3374460299999997,158.58123213082416,{"$f":"ROWS($A$3:A1503)","v":1501},"",""]
["Area Outside Region","    Pegasus Bay","..","..",495,"Pegasus Bay",24.5669629,20.149010767627285,{"$f":"ROWS($A$3:A1504)","v":1502},"",""]
["Area Outside Region","    Peka Peka","..","..",330,"Peka Peka",10.01994373,32.934316688023955,{"$f":"ROWS($A$3:A1505)","v":1503},"",""]
["Area Outside Region","    Pekerau","..","..",951,"Pekerau",2.7758522499999998,342.59748515073164,{"$f":"ROWS($A$3:A1506)","v":1504},"",""]
["Area Outside Region","    Pembroke","..","..",642,"Pembroke",226.37533006000001,2.8359980737734984,{"$f":"ROWS($A$3:A1507)","v":1505},"",""]
["Area Outside Region","    Pencarrow","..","..",279,"Pencarrow",268.41504350000002,1.0394350344972374,{"$f":"ROWS($A$3:A1508)","v":1506},"",""]
["Area Outside Region","    Penrose","..","..",336,"Penrose",6.4210989100000004,52.327491712785339,{"$f":"ROWS($A$3:A1509)","v":1507},"",""]
["Area Outside Region","    Peria","..","..",525,"Peria",199.69058441000001,2.629067372160534,{"$f":"ROWS($A$3:A1510)","v":1508},"",""]
["Area Outside Region","    Petone Central","..","..",390,"Petone Central",1.29638936,300.83554527167672,{"$f":"ROWS($A$3:A1511)","v":1509},"",""]
["Area Outside Region","    Petone East","..","..",1680,"Petone East",1.63004745,1030.6448441117466,{"$f":"ROWS($A$3:A1512)","v":1510},"",""]
["Area Outside Region","    Petone Esplanade","..","..",1128,"Petone Esplanade",0.97436416999999997,1157.6780373605077,{"$f":"ROWS($A$3:A1513)","v":1511},"",""]
["Area Outside Region","    Phillipstown","..","..",1872,"Phillipstown",0.93343529999999997,2005.4951853652847,{"$f":"ROWS($A$3:A1514)","v":1512},"",""]
["Area Outside Region","    Piha","..","..",717,"Piha",5.2383046799999997,136.87634526825576,{"$f":"ROWS($A$3:A1515)","v":1513},"",""]
["Area Outside Region","    Pihauatua","..","..",453,"Pihauatua",143.77602883,3.1507338440653743,{"$f":"ROWS($A$3:A1516)","v":1514},"",""]
["Area Outside Region","    Pine Hill-Dalmore","..","..",927,"Pine Hill-Dalmore",1.1772084899999999,787.45609454447617,{"$f":"ROWS($A$3:A1517)","v":1515},"",""]
["Area Outside Region","    Pinehaven","..","..",753,"Pinehaven",5.59309645,134.63025476701731,{"$f":"ROWS($A$3:A1518)","v":1516},"",""]
["Area Outside Region","    Pinehill","..","..",1242,"Pinehill",1.62934248,762.2706798879999,{"$f":"ROWS($A$3:A1519)","v":1517},"",""]
["Area Outside Region","    Pioneer West","..","..",96,"Pioneer West",2.3638457700000002,40.61178661414953,{"$f":"ROWS($A$3:A1520)","v":1518},"",""]
["Area Outside Region","    Pipitea-Kaiwharawhara","..","..",450,"Pipitea-Kaiwharawhara",2.1485548200000002,209.4431083680704,{"$f":"ROWS($A$3:A1521)","v":1519},"",""]
["Area Outside Region","    Pirimai East","..","..",822,"Pirimai East",0.76238709999999998,1078.1924300660387,{"$f":"ROWS($A$3:A1522)","v":1520},"",""]
["Area Outside Region","    Pirimai West","..","..",672,"Pirimai West",0.61390966000000002,1094.6235965728247,{"$f":"ROWS($A$3:A1523)","v":1521},"",""]
["Area Outside Region","    Pirongia","..","..",453,"Pirongia",3.2699143400000001,138.53573913498909,{"$f":"ROWS($A$3:A1524)","v":1522},"",""]
["Area Outside Region","    Pirongia Forest","..","..",828,"Pirongia Forest",490.81321301999901,1.6869961485047913,{"$f":"ROWS($A$3:A1525)","v":1523},"",""]
["Area Outside Region","    Playford Park","..","..",828,"Playford Park",0.85176783,972.09588204334977,{"$f":"ROWS($A$3:A1526)","v":1524},"",""]
["Area Outside Region","    Pleasant Heights","..","..",717,"Pleasant Heights",1.34859518,531.66436498757173,{"$f":"ROWS($A$3:A1527)","v":1525},"",""]
["Area Outside Region","    Pleasant Point","..","..",636,"Pleasant Point",5.20861353,122.1054310013283,{"$f":"ROWS($A$3:A1528)","v":1526},"",""]
["Area Outside Region","    Plimmerton","..","..",915,"Plimmerton",5.1259000700000001,178.50523566683577,{"$f":"ROWS($A$3:A1529)","v":1527},"",""]
["Area Outside Region","    Poets Block","..","..",921,"Poets Block",1.2416060900000001,741.78115540654278,{"$f":"ROWS($A$3:A1530)","v":1528},"",""]
["Area Outside Region","    Pohangina-Apiti","..","..",564,"Pohangina-Apiti",682.38329118000001,0.82651496203066799,{"$f":"ROWS($A$3:A1531)","v":1529},"",""]
["Area Outside Region","    Pohara-Abel Tasman","..","..",1161,"Pohara-Abel Tasman",326.04735970000002,3.5608323927795325,{"$f":"ROWS($A$3:A1532)","v":1530},"",""]
["Area Outside Region","    Poike","..","..",279,"Poike",1.29841998,214.87654556886901,{"$f":"ROWS($A$3:A1533)","v":1531},"",""]
["Area Outside Region","    Point Chevalier East","..","..",1653,"Point Chevalier East",1.3807093399999999,1197.2107033041436,{"$f":"ROWS($A$3:A1534)","v":1532},"",""]
["Area Outside Region","    Point Chevalier West","..","..",1539,"Point Chevalier West",1.37246778,1121.3377992742387,{"$f":"ROWS($A$3:A1535)","v":1533},"",""]
["Area Outside Region","    Point England","..","..",1449,"Point England",1.4914474099999999,971.53945240348776,{"$f":"ROWS($A$3:A1536)","v":1534},"",""]
["Area Outside Region","    Pokeno","..","..",945,"Pokeno",6.4398719900000003,146.74204727476268,{"$f":"ROWS($A$3:A1537)","v":1535},"",""]
["Area Outside Region","    Pokeno Rural","..","..",618,"Pokeno Rural",88.627618659999897,6.9729956569274334,{"$f":"ROWS($A$3:A1538)","v":1536},"",""]
["Area Outside Region","    Pokuru","..","..",534,{"$f":"TRIM(B1539)","v":"Pokuru"},109.19892597,{"$f":"E1539/G1539","v":4.8901579869632119},{"$f":"ROWS($A$3:A1539)","v":1537},{"$f":"IF(A1539=$M$2,I1540,\"\")","v":""},""]
["Area Outside Region","    Pomare","..","..",636,"Pomare",1.36824301,464.82970886874836,{"$f":"ROWS($A$3:A1540)","v":1538},"",{"$f":"IFERROR(SMALL($J$3:$J$4612,I1540)-1,\"\")","v":""}]
["Area Outside Region","    Pongakawa","..","..",1239,"Pongakawa",389.04565604999902,3.184716191358187,{"$f":"ROWS($A$3:A1541)","v":1539},"",""]
["Area Outside Region","    Ponsonby East","..","..",1440,"Ponsonby East",0.70309518999999998,2048.0868315995735,{"$f":"ROWS($A$3:A1542)","v":1540},"",""]
["Area Outside Region","    Ponsonby West","..","..",867,"Ponsonby West",0.65007250999999999,1333.6973747743925,{"$f":"ROWS($A$3:A1543)","v":1541},"",""]
["Area Outside Region","    Poraiti Flat","..","..",528,"Poraiti Flat",7.0901412199999996,74.46960273662927,{"$f":"ROWS($A$3:A1544)","v":1542},"",""]
["Area Outside Region","    Poraiti Hills","..","..",285,"Poraiti Hills",10.578220310000001,26.942150158337927,{"$f":"ROWS($A$3:A1545)","v":1543},"",""]
["Area Outside Region","    Porirua Central","..","..",51,"Porirua Central",6.7237113800000001,7.5850965512442921,{"$f":"ROWS($A$3:A1546)","v":1544},"",""]
["Area Outside Region","    Porirua East","..","..",726,"Porirua East",1.21180021,599.10865999932446,{"$f":"ROWS($A$3:A1547)","v":1545},"",""]
["Area Outside Region","    Porritt","..","..",915,"Porritt",1.2339124800000001,741.54367901360388,{"$f":"ROWS($A$3:A1548)","v":1546},"",""]
["Area Outside Region","    Port Chalmers","..","..",714,"Port Chalmers",3.2334276000000002,220.81830439005344,{"$f":"ROWS($A$3:A1549)","v":1547},"",""]
["Area Outside Region","    Port Hills","..","..",39,"Port Hills",44.478442450000003,0.87682926496001878,{"$f":"ROWS($A$3:A1550)","v":1548},"",""]
["Area Outside Region","    Port Nelson","..","..",27,"Port Nelson",0.97858113999999996,27.590967060738571,{"$f":"ROWS($A$3:A1551)","v":1549},"",""]
["Area Outside Region","    Port Taranaki","..","..",6,"Port Taranaki",1.5690866400000001,3.8238806239533081,{"$f":"ROWS($A$3:A1552)","v":1550},"",""]
["Area Outside Region","    Port Waikato-Waikaretu","..","..",555,"Port Waikato-Waikaretu",210.118007879999,2.6413728437639072,{"$f":"ROWS($A$3:A1553)","v":1551},"",""]
["Area Outside Region","    Port-Limeburners","..","..",60,"Port-Limeburners",7.4116112100000002,8.0954057491636835,{"$f":"ROWS($A$3:A1554)","v":1552},"",""]
["Area Outside Region","    Postgate","..","..",957,"Postgate",1.2888012499999999,742.55049023268725,{"$f":"ROWS($A$3:A1555)","v":1553},"",""]
["Area Outside Region","    Poukawa","..","..",567,"Poukawa",339.92765478000001,1.6680019763821816,{"$f":"ROWS($A$3:A1556)","v":1554},"",""]
["Area Outside Region","    Poutoa","..","..",1191,"Poutoa",7.0639272200000001,168.60309611174051,{"$f":"ROWS($A$3:A1557)","v":1555},"",""]
["Area Outside Region","    Prebbleton","..","..",1575,"Prebbleton",5.0991561799999996,308.87463423409008,{"$f":"ROWS($A$3:A1558)","v":1556},"",""]
["Area Outside Region","    Prestons","..","..",1266,"Prestons",3.9830652600000001,317.84565839626742,{"$f":"ROWS($A$3:A1559)","v":1557},"",""]
["Area Outside Region","    Prestonville-Grasmere","..","..",1491,"Prestonville-Grasmere",3.1963022300000001,466.47653842171235,{"$f":"ROWS($A$3:A1560)","v":1558},"",""]
["Area Outside Region","    Puhinui East","..","..",738,"Puhinui East",0.60410026000000006,1221.6515185740857,{"$f":"ROWS($A$3:A1561)","v":1559},"",""]
["Area Outside Region","    Puhinui North","..","..",1140,"Puhinui North",0.70328268000000005,1620.9698211251271,{"$f":"ROWS($A$3:A1562)","v":1560},"",""]
["Area Outside Region","    Puhinui South","..","..",681,"Puhinui South",0.52609059999999996,1294.4538450221312,{"$f":"ROWS($A$3:A1563)","v":1561},"",""]
["Area Outside Region","    Puhoi Valley","..","..",1446,"Puhoi Valley",236.529964589999,6.1133903372728957,{"$f":"ROWS($A$3:A1564)","v":1562},"",""]
["Area Outside Region","    Pukehangi North","..","..",867,"Pukehangi North",1.18204631,733.47380103914873,{"$f":"ROWS($A$3:A1565)","v":1563},"",""]
["Area Outside Region","    Pukehangi South","..","..",996,"Pukehangi South",1.11150003,896.08634558471408,{"$f":"ROWS($A$3:A1566)","v":1564},"",""]
["Area Outside Region","    Pukehina Beach","..","..",672,"Pukehina Beach",1.56624761,429.05093403462558,{"$f":"ROWS($A$3:A1567)","v":1565},"",""]
["Area Outside Region","    Pukekawa","..","..",540,"Pukekawa",140.86462885,3.8334676661450628,{"$f":"ROWS($A$3:A1568)","v":1566},"",""]
["Area Outside Region","    Pukekohe Central","..","..",165,"Pukekohe Central",2.9391294499999998,56.139072064348852,{"$f":"ROWS($A$3:A1569)","v":1567},"",""]
["Area Outside Region","    Pukekohe Hospital","..","..",639,"Pukekohe Hospital",0.73485860000000003,869.5550409289624,{"$f":"ROWS($A$3:A1570)","v":1568},"",""]
["Area Outside Region","    Pukekohe North West","..","..",1662,"Pukekohe North West",4.7823689600000003,347.52651121255184,{"$f":"ROWS($A$3:A1571)","v":1569},"",""]
["Area Outside Region","    Pukekohe West","..","..",1707,"Pukekohe West",2.2076424499999998,773.22303709099276,{"$f":"ROWS($A$3:A1572)","v":1570},"",""]
["Area Outside Region","    Pukemoremore","..","..",834,"Pukemoremore",43.276964669999899,19.271222146920543,{"$f":"ROWS($A$3:A1573)","v":1571},"",""]
["Area Outside Region","    Pukenui","..","..",789,"Pukenui",19.19103565,41.112945355817729,{"$f":"ROWS($A$3:A1574)","v":1572},"",""]
["Area Outside Region","    Pukerimu","..","..",366,"Pukerimu",77.245796830000003,4.7381218787279868,{"$f":"ROWS($A$3:A1575)","v":1573},"",""]
["Area Outside Region","    Pukerua Bay","..","..",756,"Pukerua Bay",8.1722364299999999,92.508336790740643,{"$f":"ROWS($A$3:A1576)","v":1574},"",""]
["Area Outside Region","    Puketapu-Eskdale","..","..",1041,"Puketapu-Eskdale",244.97891089000001,4.2493453669872343,{"$f":"ROWS($A$3:A1577)","v":1575},"",""]
["Area Outside Region","    Pukete East","..","..",858,"Pukete East",1.0913442900000001,786.18636470806098,{"$f":"ROWS($A$3:A1578)","v":1576},"",""]
["Area Outside Region","    Pukete West","..","..",744,"Pukete West",0.83971819999999997,886.01152148423125,{"$f":"ROWS($A$3:A1579)","v":1577},"",""]
["Area Outside Region","    Puketitiri-Tutira","..","..",969,"Puketitiri-Tutira",2433.1638899499899,0.39824690971388549,{"$f":"ROWS($A$3:A1580)","v":1578},"",""]
["Area Outside Region","    Puketona-Waitangi","..","..",642,"Puketona-Waitangi",156.38492968,4.1052549073218341,{"$f":"ROWS($A$3:A1581)","v":1579},"",""]
["Area Outside Region","    Puketotara","..","..",672,"Puketotara",55.264240979999897,12.159761684652404,{"$f":"ROWS($A$3:A1582)","v":1580},"",""]
["Area Outside Region","    Puni","..","..",522,"Puni",38.1909589099999,13.668156414457554,{"$f":"ROWS($A$3:A1583)","v":1581},"",""]
["Area Outside Region","    Puniu","..","..",495,"Puniu",674.00925519999896,0.73441128023252222,{"$f":"ROWS($A$3:A1584)","v":1582},"",""]
["Area Outside Region","    Putararu","..","..",1803,"Putararu",6.8121209299999999,264.67527786533293,{"$f":"ROWS($A$3:A1585)","v":1583},"",""]
["Area Outside Region","    Putararu Rural","..","..",1002,"Putararu Rural",555.81509012000004,1.8027578196620553,{"$f":"ROWS($A$3:A1586)","v":1584},"",""]
["Area Outside Region","    Putiki","..","..",288,"Putiki",3.35422581,85.861840053040439,{"$f":"ROWS($A$3:A1587)","v":1585},"",""]
["Area Outside Region","    Pyes Pa East","..","..",219,"Pyes Pa East",2.4301051899999999,90.119555688863002,{"$f":"ROWS($A$3:A1588)","v":1586},"",""]
["Area Outside Region","    Pyes Pa North","..","..",1758,"Pyes Pa North",1.9708930200000001,891.98144301104674,{"$f":"ROWS($A$3:A1589)","v":1587},"",""]
["Area Outside Region","    Pyes Pa South","..","..",492,"Pyes Pa South",1.8324261900000001,268.49648989136091,{"$f":"ROWS($A$3:A1590)","v":1588},"",""]
["Area Outside Region","    Pyes Pa West","..","..",1494,"Pyes Pa West",4.61267403,323.89021862010918,{"$f":"ROWS($A$3:A1591)","v":1589},"",""]
["Area Outside Region","    Quail Rise","..","..",294,"Quail Rise",6.2690008300000004,46.897425598203341,{"$f":"ROWS($A$3:A1592)","v":1590},"",""]
["Area Outside Region","    Quay Street-Customs Street","..","..",1515,"Quay Street-Customs Street",1.2174190199999999,1244.4359543520193,{"$f":"ROWS($A$3:A1593)","v":1591},"",""]
["Area Outside Region","    Queen Street","..","..",1170,"Queen Street",0.16843859999999999,6946.1512978616547,{"$f":"ROWS($A$3:A1594)","v":1592},"",""]
["Area Outside Region","    Queen Street South West","..","..",1221,"Queen Street South West",0.22878127000000001,5336.9753564179446,{"$f":"ROWS($A$3:A1595)","v":1593},"",""]
["Area Outside Region","    Queens Square","..","..",828,"Queens Square",0.60058038000000002,1378.6664159758266,{"$f":"ROWS($A$3:A1596)","v":1594},"",""]
["Area Outside Region","    Queenspark","..","..",1365,"Queenspark",1.12074483,1217.9400372518337,{"$f":"ROWS($A$3:A1597)","v":1595},"",""]
["Area Outside Region","    Queenstown Central","..","..",516,"Queenstown Central",0.80628641999999995,639.97109116633771,{"$f":"ROWS($A$3:A1598)","v":1596},"",""]
["Area Outside Region","    Queenstown East","..","..",975,"Queenstown East",0.97606981000000004,998.90396159266515,{"$f":"ROWS($A$3:A1599)","v":1597},"",""]
["Area Outside Region","    Queenstown Hill","..","..",3,"Queenstown Hill",15.400320730000001,0.19480113775526542,{"$f":"ROWS($A$3:A1600)","v":1598},"",""]
["Area Outside Region","    Queenwood (Hamilton City)","..","..",906,"Queenwood (Hamilton City)",1.4886288299999999,608.61376707315287,{"$f":"ROWS($A$3:A1601)","v":1599},"",""]
["Area Outside Region","    Queenwood (Horowhenua District)","..","..",999,"Queenwood (Horowhenua District)",0.82604670000000002,1209.3747242135341,{"$f":"ROWS($A$3:A1602)","v":1600},"",""]
["Area Outside Region","    Raceway Park","..","..",753,{"$f":"TRIM(B1603)","v":"Raceway Park"},1.0171473499999999,{"$f":"E1603/G1603","v":740.30571873386884},{"$f":"ROWS($A$3:A1603)","v":1601},{"$f":"IF(A1603=$M$2,I1604,\"\")","v":""},""]
["Area Outside Region","    Raetihi","..","..",477,"Raetihi",3.8628129599999999,123.48514021760971,{"$f":"ROWS($A$3:A1604)","v":1602},"",{"$f":"IFERROR(SMALL($J$3:$J$4612,I1604)-1,\"\")","v":""}]
["Area Outside Region","    Raglan","..","..",1803,"Raglan",4.9027098899999997,367.75580045589851,{"$f":"ROWS($A$3:A1605)","v":1603},"",""]
["Area Outside Region","    Rakaia","..","..",654,"Rakaia",11.3024318699999,57.863653373210362,{"$f":"ROWS($A$3:A1606)","v":1604},"",""]
["Area Outside Region","    Ramanui","..","..",822,"Ramanui",13.599212570000001,60.444676172894027,{"$f":"ROWS($A$3:A1607)","v":1605},"",""]
["Area Outside Region","    Ramarama","..","..",744,"Ramarama",43.615910159999899,17.057995517477966,{"$f":"ROWS($A$3:A1608)","v":1606},"",""]
["Area Outside Region","    Randwick Park East","..","..",705,"Randwick Park East",0.74726124000000005,943.44515982121584,{"$f":"ROWS($A$3:A1609)","v":1607},"",""]
["Area Outside Region","    Randwick Park West","..","..",894,"Randwick Park West",0.70415333000000002,1269.609844776279,{"$f":"ROWS($A$3:A1610)","v":1608},"",""]
["Area Outside Region","    Rangataiki","..","..",78,"Rangataiki",996.27143694999904,7.8291916346402965E-2,{"$f":"ROWS($A$3:A1611)","v":1609},"",""]
["Area Outside Region","    Rangaunu Harbour","..","..",969,"Rangaunu Harbour",272.10405305,3.5611376939759993,{"$f":"ROWS($A$3:A1612)","v":1610},"",""]
["Area Outside Region","    Rangiora Central","..","..",18,"Rangiora Central",0.36710758999999998,49.031947282811565,{"$f":"ROWS($A$3:A1613)","v":1611},"",""]
["Area Outside Region","    Rangiora North East","..","..",822,"Rangiora North East",2.0202766300000001,406.8749733545153,{"$f":"ROWS($A$3:A1614)","v":1612},"",""]
["Area Outside Region","    Rangiora North West","..","..",921,"Rangiora North West",1.9949526900000001,461.6650833960378,{"$f":"ROWS($A$3:A1615)","v":1613},"",""]
["Area Outside Region","    Rangiora South East","..","..",921,"Rangiora South East",2.6674416999999999,345.27465023884122,{"$f":"ROWS($A$3:A1616)","v":1614},"",""]
["Area Outside Region","    Rangiora South West","..","..",921,"Rangiora South West",0.85640238000000002,1075.4290524040814,{"$f":"ROWS($A$3:A1617)","v":1615},"",""]
["Area Outside Region","    Rangiriri","..","..",552,"Rangiriri",137.34016865999899,4.0192174320576086,{"$f":"ROWS($A$3:A1618)","v":1616},"",""]
["Area Outside Region","    Rangitane-Purerua","..","..",726,"Rangitane-Purerua",123.18645582000001,5.8935050543286263,{"$f":"ROWS($A$3:A1619)","v":1617},"",""]
["Area Outside Region","    Rangitata","..","..",783,"Rangitata",172.13496448999899,4.5487562757506605,{"$f":"ROWS($A$3:A1620)","v":1618},"",""]
["Area Outside Region","    Rangitihi","..","..",366,"Rangitihi",84.660426619999896,4.3231532678520352,{"$f":"ROWS($A$3:A1621)","v":1619},"",""]
["Area Outside Region","    Rangiuru","..","..",993,"Rangiuru",220.33265331000001,4.5068217764476568,{"$f":"ROWS($A$3:A1622)","v":1620},"",""]
["Area Outside Region","    Ranui Domain","..","..",1017,"Ranui Domain",0.87018238999999997,1168.7205023765191,{"$f":"ROWS($A$3:A1623)","v":1621},"",""]
["Area Outside Region","    Ranui Heights","..","..",498,"Ranui Heights",2.35228065,211.70943186562369,{"$f":"ROWS($A$3:A1624)","v":1622},"",""]
["Area Outside Region","    Ranui North","..","..",1206,"Ranui North",1.02923012,1171.749618054318,{"$f":"ROWS($A$3:A1625)","v":1623},"",""]
["Area Outside Region","    Ranui South East","..","..",822,"Ranui South East",0.94515225999999997,869.70114212074145,{"$f":"ROWS($A$3:A1626)","v":1624},"",""]
["Area Outside Region","    Ranui South West","..","..",783,"Ranui South West",0.73694345000000006,1062.4967221026252,{"$f":"ROWS($A$3:A1627)","v":1625},"",""]
["Area Outside Region","    Raumanga","..","..",1059,"Raumanga",3.46035972,306.03754687099411,{"$f":"ROWS($A$3:A1628)","v":1626},"",""]
["Area Outside Region","    Raumati Beach East","..","..",1026,"Raumati Beach East",1.4242440000000001,720.38218170482025,{"$f":"ROWS($A$3:A1629)","v":1627},"",""]
["Area Outside Region","    Raumati Beach West","..","..",1332,"Raumati Beach West",1.74954269,761.34181098490376,{"$f":"ROWS($A$3:A1630)","v":1628},"",""]
["Area Outside Region","    Raumati South","..","..",1578,"Raumati South",5.64558991,279.51020622395862,{"$f":"ROWS($A$3:A1631)","v":1629},"",""]
["Area Outside Region","    Raureka","..","..",1071,"Raureka",1.0555815,1014.6066409841401,{"$f":"ROWS($A$3:A1632)","v":1630},"",""]
["Area Outside Region","    Ravensbourne-St Leonards","..","..",828,"Ravensbourne-St Leonards",4.9092595699999997,168.66087201007383,{"$f":"ROWS($A$3:A1633)","v":1631},"",""]
["Area Outside Region","    Rawhiti","..","..",1242,"Rawhiti",1.9351316300000001,641.81680498912624,{"$f":"ROWS($A$3:A1634)","v":1632},"",""]
["Area Outside Region","    Red Beach East","..","..",1758,"Red Beach East",1.56444435,1123.7216587474013,{"$f":"ROWS($A$3:A1635)","v":1633},"",""]
["Area Outside Region","    Red Beach West","..","..",909,"Red Beach West",1.8399836700000001,494.02612361228182,{"$f":"ROWS($A$3:A1636)","v":1634},"",""]
["Area Outside Region","    Red Hill","..","..",834,"Red Hill",2.1029976000000001,396.57677212755732,{"$f":"ROWS($A$3:A1637)","v":1635},"",""]
["Area Outside Region","    Redcastle","..","..",819,"Redcastle",0.55559046999999995,1474.1073582489637,{"$f":"ROWS($A$3:A1638)","v":1636},"",""]
["Area Outside Region","    Redcliffs","..","..",957,"Redcliffs",1.85691568,515.37073562758655,{"$f":"ROWS($A$3:A1639)","v":1637},"",""]
["Area Outside Region","    Redwood East","..","..",1326,"Redwood East",1.2695206699999999,1044.488704543897,{"$f":"ROWS($A$3:A1640)","v":1638},"",""]
["Area Outside Region","    Redwood North","..","..",1035,"Redwood North",1.09252656,947.34538993724777,{"$f":"ROWS($A$3:A1641)","v":1639},"",""]
["Area Outside Region","    Redwood West","..","..",876,"Redwood West",0.81581468999999995,1073.7732609350294,{"$f":"ROWS($A$3:A1642)","v":1640},"",""]
["Area Outside Region","    Redwoodtown East","..","..",1224,"Redwoodtown East",1.0736580600000001,1140.0277663821571,{"$f":"ROWS($A$3:A1643)","v":1641},"",""]
["Area Outside Region","    Redwoodtown West","..","..",1146,"Redwoodtown West",1.06281095,1078.2726692832812,{"$f":"ROWS($A$3:A1644)","v":1642},"",""]
["Area Outside Region","    Reefton","..","..",588,"Reefton",2.6264292999999999,223.87809944094062,{"$f":"ROWS($A$3:A1645)","v":1643},"",""]
["Area Outside Region","    Regents Park","..","..",429,"Regents Park",1.45375948,295.0969578544038,{"$f":"ROWS($A$3:A1646)","v":1644},"",""]
["Area Outside Region","    Remuera Abbotts Park","..","..",1458,"Remuera Abbotts Park",1.0225069200000001,1425.9072202660495,{"$f":"ROWS($A$3:A1647)","v":1645},"",""]
["Area Outside Region","    Remuera East","..","..",1002,"Remuera East",0.88580133999999999,1131.1791422668202,{"$f":"ROWS($A$3:A1648)","v":1646},"",""]
["Area Outside Region","    Remuera North","..","..",1320,"Remuera North",1.39680508,945.01374522492426,{"$f":"ROWS($A$3:A1649)","v":1647},"",""]
["Area Outside Region","    Remuera South","..","..",1449,"Remuera South",1.4291255700000001,1013.9067066024156,{"$f":"ROWS($A$3:A1650)","v":1648},"",""]
["Area Outside Region","    Remuera Waiata","..","..",1095,"Remuera Waiata",0.94346870999999999,1160.6108272525541,{"$f":"ROWS($A$3:A1651)","v":1649},"",""]
["Area Outside Region","    Remuera Waiatarua","..","..",876,"Remuera Waiatarua",1.57029302,557.85766659015019,{"$f":"ROWS($A$3:A1652)","v":1650},"",""]
["Area Outside Region","    Remuera Waitaramoa","..","..",1539,"Remuera Waitaramoa",1.6921535299999999,909.49194190434957,{"$f":"ROWS($A$3:A1653)","v":1651},"",""]
["Area Outside Region","    Remuera West","..","..",1029,"Remuera West",0.87955693000000001,1169.9072168074442,{"$f":"ROWS($A$3:A1654)","v":1652},"",""]
["Area Outside Region","    Renwick","..","..",981,"Renwick",2.3196103799999999,422.91585192854677,{"$f":"ROWS($A$3:A1655)","v":1653},"",""]
["Area Outside Region","    Resthill","..","..",897,"Resthill",1.1213660299999999,799.91722238990963,{"$f":"ROWS($A$3:A1656)","v":1654},"",""]
["Area Outside Region","    Riccarton Central","..","..",27,"Riccarton Central",0.39843525000000002,67.765088555794193,{"$f":"ROWS($A$3:A1657)","v":1655},"",""]
["Area Outside Region","    Riccarton East","..","..",432,"Riccarton East",0.20811641,2075.7613491410889,{"$f":"ROWS($A$3:A1658)","v":1656},"",""]
["Area Outside Region","    Riccarton Racecourse","..","..",528,"Riccarton Racecourse",1.6921088500000001,312.03666359879861,{"$f":"ROWS($A$3:A1659)","v":1657},"",""]
["Area Outside Region","    Riccarton South","..","..",1383,"Riccarton South",0.54466270000000006,2539.1861788956721,{"$f":"ROWS($A$3:A1660)","v":1658},"",""]
["Area Outside Region","    Riccarton West","..","..",1104,"Riccarton West",0.62257936999999997,1773.2678806880479,{"$f":"ROWS($A$3:A1661)","v":1659},"",""]
["Area Outside Region","    Richmond (Invercargill City)","..","..",1590,"Richmond (Invercargill City)",1.27965464,1242.5227481689903,{"$f":"ROWS($A$3:A1662)","v":1660},"",""]
["Area Outside Region","    Richmond Central (Tasman District)","..","..",780,"Richmond Central (Tasman District)",1.1528751800000001,676.56934031661604,{"$f":"ROWS($A$3:A1663)","v":1661},"",""]
["Area Outside Region","    Richmond Downs-Wardville","..","..",507,"Richmond Downs-Wardville",206.66719247,2.4532195649466551,{"$f":"ROWS($A$3:A1664)","v":1662},"",""]
["Area Outside Region","    Richmond Heights","..","..",1173,"Richmond Heights",1.37184785,855.05109039606691,{"$f":"ROWS($A$3:A1665)","v":1663},"",""]
["Area Outside Region","    Richmond North (Christchurch City)","..","..",966,"Richmond North (Christchurch City)",1.16647674,828.13481561578328,{"$f":"ROWS($A$3:A1666)","v":1664},"",""]
["Area Outside Region","    Richmond South (Christchurch City)","..","..",1098,{"$f":"TRIM(B1667)","v":"Richmond South (Christchurch City)"},0.80279750999999999,{"$f":"E1667/G1667","v":1367.7172466566319},{"$f":"ROWS($A$3:A1667)","v":1665},{"$f":"IF(A1667=$M$2,I1668,\"\")","v":""},""]
["Area Outside Region","    Richmond South (Tasman District)","..","..",234,"Richmond South (Tasman District)",2.5076217000000001,93.315510868325944,{"$f":"ROWS($A$3:A1668)","v":1666},"",{"$f":"IFERROR(SMALL($J$3:$J$4612,I1668)-1,\"\")","v":""}]
["Area Outside Region","    Richmond West (Tasman District)","..","..",363,"Richmond West (Tasman District)",6.4611772199999997,56.181712347459808,{"$f":"ROWS($A$3:A1669)","v":1667},"",""]
["Area Outside Region","    Riverdale","..","..",510,"Riverdale",1.24303366,410.28655652011867,{"$f":"ROWS($A$3:A1670)","v":1668},"",""]
["Area Outside Region","    Riverhead","..","..",981,"Riverhead",4.0519719600000004,242.10434072204188,{"$f":"ROWS($A$3:A1671)","v":1669},"",""]
["Area Outside Region","    Riverhead Forest","..","..",3,"Riverhead Forest",48.427635870000003,6.1948099387986906E-2,{"$f":"ROWS($A$3:A1672)","v":1670},"",""]
["Area Outside Region","    Riverlands","..","..",168,"Riverlands",6.2792737299999999,26.75468648505629,{"$f":"ROWS($A$3:A1673)","v":1671},"",""]
["Area Outside Region","    Riverlea","..","..",1023,"Riverlea",1.7394653200000001,588.11175378880216,{"$f":"ROWS($A$3:A1674)","v":1672},"",""]
["Area Outside Region","    Riversdale-Islington","..","..",915,"Riversdale-Islington",1.09524759,835.42754017838104,{"$f":"ROWS($A$3:A1675)","v":1673},"",""]
["Area Outside Region","    Riversdale-Piano Flat","..","..",780,"Riversdale-Piano Flat",1578.79006336,0.49404922041376081,{"$f":"ROWS($A$3:A1676)","v":1674},"",""]
["Area Outside Region","    Riverside","..","..",894,"Riverside",3.50780578,254.86017643770461,{"$f":"ROWS($A$3:A1677)","v":1675},"",""]
["Area Outside Region","    Riverstone Terraces","..","..",600,"Riverstone Terraces",2.23628296,268.30236188000106,{"$f":"ROWS($A$3:A1678)","v":1676},"",""]
["Area Outside Region","    Riverton","..","..",1122,"Riverton",8.7445441400000004,128.3085752712548,{"$f":"ROWS($A$3:A1679)","v":1677},"",""]
["Area Outside Region","    Riverview","..","..",933,"Riverview",6.21930008,150.01688099925224,{"$f":"ROWS($A$3:A1680)","v":1678},"",""]
["Area Outside Region","    Rolleston Central","..","..",1107,"Rolleston Central",1.60115417,691.3762714055199,{"$f":"ROWS($A$3:A1681)","v":1679},"",""]
["Area Outside Region","    Rolleston Izone","..","..",9,"Rolleston Izone",2.4344747,3.6968960901503722,{"$f":"ROWS($A$3:A1682)","v":1680},"",""]
["Area Outside Region","    Rolleston North East","..","..",1530,"Rolleston North East",2.8558100300000002,535.74992171310498,{"$f":"ROWS($A$3:A1683)","v":1681},"",""]
["Area Outside Region","    Rolleston North West","..","..",1245,"Rolleston North West",1.5065824699999999,826.37361365289223,{"$f":"ROWS($A$3:A1684)","v":1682},"",""]
["Area Outside Region","    Rolleston South East","..","..",1365,"Rolleston South East",10.0825634,135.38223821136597,{"$f":"ROWS($A$3:A1685)","v":1683},"",""]
["Area Outside Region","    Rolleston South West","..","..",906,"Rolleston South West",3.59540141,251.98855334486839,{"$f":"ROWS($A$3:A1686)","v":1684},"",""]
["Area Outside Region","    Rongomai East","..","..",498,"Rongomai East",0.58097595000000002,857.17833930991458,{"$f":"ROWS($A$3:A1687)","v":1685},"",""]
["Area Outside Region","    Rongomai West","..","..",492,"Rongomai West",0.48507019000000001,1014.2862005187332,{"$f":"ROWS($A$3:A1688)","v":1686},"",""]
["Area Outside Region","    Rongotai","..","..",30,"Rongotai",1.9237004,15.594943994397465,{"$f":"ROWS($A$3:A1689)","v":1687},"",""]
["Area Outside Region","    Rooseville Park","..","..",915,"Rooseville Park",1.3458091599999999,679.88837288044613,{"$f":"ROWS($A$3:A1690)","v":1688},"",""]
["Area Outside Region","    Rosa Birch Park","..","..",819,"Rosa Birch Park",0.79170523999999998,1034.4759117673643,{"$f":"ROWS($A$3:A1691)","v":1689},"",""]
["Area Outside Region","    Rosebank Peninsula","..","..",6,"Rosebank Peninsula",2.3628813499999999,2.5392726553959215,{"$f":"ROWS($A$3:A1692)","v":1690},"",""]
["Area Outside Region","    Rosedale","..","..",792,"Rosedale",1.0858818699999999,729.36110444499832,{"$f":"ROWS($A$3:A1693)","v":1691},"",""]
["Area Outside Region","    Rosehill","..","..",1218,"Rosehill",1.5449972300000001,788.35092798192261,{"$f":"ROWS($A$3:A1694)","v":1692},"",""]
["Area Outside Region","    Roseneath","..","..",846,"Roseneath",0.5489541,1541.1124536641587,{"$f":"ROWS($A$3:A1695)","v":1693},"",""]
["Area Outside Region","    Roseneath-Sawyers Bay","..","..",633,"Roseneath-Sawyers Bay",4.9656814799999998,127.4749503264555,{"$f":"ROWS($A$3:A1696)","v":1694},"",""]
["Area Outside Region","    Roslyn (Dunedin City)","..","..",1293,"Roslyn (Dunedin City)",1.29448954,998.84932249046983,{"$f":"ROWS($A$3:A1697)","v":1695},"",""]
["Area Outside Region","    Roslyn (Palmerston North City)","..","..",966,"Roslyn (Palmerston North City)",1.1507573099999999,839.44719847141369,{"$f":"ROWS($A$3:A1698)","v":1696},"",""]
["Area Outside Region","    Ross Dependency","..","..",0,"Ross Dependency",0,{"$error":"#DIV/0!"},{"$f":"ROWS($A$3:A1699)","v":1697},"",""]
["Area Outside Region","    Ross Dependency","..","..",0,"Ross Dependency",0,{"$error":"#DIV/0!"},{"$f":"ROWS($A$3:A1700)","v":1698},"",""]
["Area Outside Region","    Rothesay Bay","..","..",1023,"Rothesay Bay",0.86585502999999997,1181.4910863311611,{"$f":"ROWS($A$3:A1701)","v":1699},"",""]
["Area Outside Region","    Rotoiti-Rotoehu","..","..",1467,"Rotoiti-Rotoehu",403.99543303000002,3.6312291676105732,{"$f":"ROWS($A$3:A1702)","v":1700},"",""]
["Area Outside Region","    Rotokauri","..","..",351,"Rotokauri",15.640355550000001,22.44194506179241,{"$f":"ROWS($A$3:A1703)","v":1701},"",""]
["Area Outside Region","    Rotokauri-Waiwhakareke","..","..",195,"Rotokauri-Waiwhakareke",7.1013538,27.459552853147521,{"$f":"ROWS($A$3:A1704)","v":1702},"",""]
["Area Outside Region","    Rotongata","..","..",354,"Rotongata",211.59729393000001,1.672989259102289,{"$f":"ROWS($A$3:A1705)","v":1703},"",""]
["Area Outside Region","    Rotoorangi","..","..",663,"Rotoorangi",182.15392903,3.6397787493829279,{"$f":"ROWS($A$3:A1706)","v":1704},"",""]
["Area Outside Region","    Rotorua Central","..","..",357,"Rotorua Central",1.8023631200000001,198.07329390983099,{"$f":"ROWS($A$3:A1707)","v":1705},"",""]
["Area Outside Region","    Rototuna Central","..","..",1506,"Rototuna Central",1.44366123,1043.1810238472638,{"$f":"ROWS($A$3:A1708)","v":1706},"",""]
["Area Outside Region","    Rototuna North","..","..",261,"Rototuna North",2.6647293699999999,97.946156535963723,{"$f":"ROWS($A$3:A1709)","v":1707},"",""]
["Area Outside Region","    Rototuna South","..","..",1557,"Rototuna South",1.97767227,787.28919023575122,{"$f":"ROWS($A$3:A1710)","v":1708},"",""]
["Area Outside Region","    Rowandale East","..","..",909,"Rowandale East",0.83155281999999997,1093.1356110367108,{"$f":"ROWS($A$3:A1711)","v":1709},"",""]
["Area Outside Region","    Rowandale West","..","..",798,"Rowandale West",0.68821829999999995,1159.5158106083493,{"$f":"ROWS($A$3:A1712)","v":1710},"",""]
["Area Outside Region","    Royal Heights North","..","..",1173,"Royal Heights North",1.4951159000000001,784.55456195737065,{"$f":"ROWS($A$3:A1713)","v":1711},"",""]
["Area Outside Region","    Royal Heights South","..","..",1149,"Royal Heights South",1.13131504,1015.6322150547915,{"$f":"ROWS($A$3:A1714)","v":1712},"",""]
["Area Outside Region","    Royal Oak (Palmerston North City)","..","..",810,"Royal Oak (Palmerston North City)",1.62616019,498.10590923394824,{"$f":"ROWS($A$3:A1715)","v":1713},"",""]
["Area Outside Region","    Royal Oak East (Auckland)","..","..",1149,"Royal Oak East (Auckland)",0.64096805999999995,1792.6010228965233,{"$f":"ROWS($A$3:A1716)","v":1714},"",""]
["Area Outside Region","    Royal Oak West (Auckland)","..","..",873,"Royal Oak West (Auckland)",0.81143578999999999,1075.8707106079214,{"$f":"ROWS($A$3:A1717)","v":1715},"",""]
["Area Outside Region","    Royal Terrace","..","..",588,"Royal Terrace",0.2764839,2126.7061120014582,{"$f":"ROWS($A$3:A1718)","v":1716},"",""]
["Area Outside Region","    Ruahine","..","..",699,"Ruahine",1.5797339500000001,442.47957068973545,{"$f":"ROWS($A$3:A1719)","v":1717},"",""]
["Area Outside Region","    Ruakaka","..","..",1299,"Ruakaka",15.7985203599999,82.222889890937111,{"$f":"ROWS($A$3:A1720)","v":1718},"",""]
["Area Outside Region","    Ruakura","..","..",225,"Ruakura",9.0247155899999996,24.931533604152062,{"$f":"ROWS($A$3:A1721)","v":1719},"",""]
["Area Outside Region","    Ruamahanga","..","..",1041,"Ruamahanga",1.5317071200000001,679.6338454051189,{"$f":"ROWS($A$3:A1722)","v":1720},"",""]
["Area Outside Region","    Ruatoria-Raukumara","..","..",546,"Ruatoria-Raukumara",693.29997967999896,0.78753788547925951,{"$f":"ROWS($A$3:A1723)","v":1721},"",""]
["Area Outside Region","    Ruawai-Matakohe","..","..",1329,"Ruawai-Matakohe",530.44403266999905,2.5054481116706242,{"$f":"ROWS($A$3:A1724)","v":1722},"",""]
["Area Outside Region","    Ruby Bay-Mapua","..","..",1131,"Ruby Bay-Mapua",9.7689129000000001,115.77542062024118,{"$f":"ROWS($A$3:A1725)","v":1723},"",""]
["Area Outside Region","    Runanga","..","..",618,"Runanga",4.5051542099999997,137.1762144408371,{"$f":"ROWS($A$3:A1726)","v":1724},"",""]
["Area Outside Region","    Russell","..","..",627,"Russell",3.27931477,191.19848016297624,{"$f":"ROWS($A$3:A1727)","v":1725},"",""]
["Area Outside Region","    Russell Forest-Rawhiti","..","..",480,"Russell Forest-Rawhiti",191.37950948,2.5081054983588102,{"$f":"ROWS($A$3:A1728)","v":1726},"",""]
["Area Outside Region","    Russell Peninsula","..","..",453,"Russell Peninsula",26.201352369999899,17.289183917036176,{"$f":"ROWS($A$3:A1729)","v":1727},"",""]
["Area Outside Region","    Russley","..","..",441,"Russley",1.8677749400000001,236.10981738517168,{"$f":"ROWS($A$3:A1730)","v":1728},"",""]
["Area Outside Region","    Rutherford","..","..",1116,{"$f":"TRIM(B1731)","v":"Rutherford"},1.2147188499999999,{"$f":"E1731/G1731","v":918.73111214171092},{"$f":"ROWS($A$3:A1731)","v":1729},{"$f":"IF(A1731=$M$2,I1732,\"\")","v":""},""]
["Area Outside Region","    Rutherglen-Camerons","..","..",576,"Rutherglen-Camerons",11.7164808399999,49.161519390152044,{"$f":"ROWS($A$3:A1732)","v":1730},"",{"$f":"IFERROR(SMALL($J$3:$J$4612,I1732)-1,\"\")","v":""}]
["Area Outside Region","    Rutland","..","..",1230,"Rutland",0.98659322000000005,1246.7144260326459,{"$f":"ROWS($A$3:A1733)","v":1731},"",""]
["Area Outside Region","    Saddle Hill-Chain Hills","..","..",465,"Saddle Hill-Chain Hills",47.416418919999899,9.806729622170316,{"$f":"ROWS($A$3:A1734)","v":1732},"",""]
["Area Outside Region","    Saint Andrews East","..","..",1038,"Saint Andrews East",1.5942337200000001,651.09650296444613,{"$f":"ROWS($A$3:A1735)","v":1733},"",""]
["Area Outside Region","    Saint Andrews West","..","..",1020,"Saint Andrews West",1.0059517200000001,1013.9651632585309,{"$f":"ROWS($A$3:A1736)","v":1734},"",""]
["Area Outside Region","    Saint Heliers North","..","..",1671,"Saint Heliers North",1.33837279,1248.5310613644499,{"$f":"ROWS($A$3:A1737)","v":1735},"",""]
["Area Outside Region","    Saint Heliers South","..","..",1608,"Saint Heliers South",1.2221344700000001,1315.7308295215664,{"$f":"ROWS($A$3:A1738)","v":1736},"",""]
["Area Outside Region","    Saint Heliers West","..","..",1482,"Saint Heliers West",1.18574088,1249.8514852587355,{"$f":"ROWS($A$3:A1739)","v":1737},"",""]
["Area Outside Region","    Saint Johns East","..","..",1101,"Saint Johns East",0.60554145000000004,1818.207490172638,{"$f":"ROWS($A$3:A1740)","v":1738},"",""]
["Area Outside Region","    Saint Johns West","..","..",1071,"Saint Johns West",1.0425490900000001,1027.2897557274737,{"$f":"ROWS($A$3:A1741)","v":1739},"",""]
["Area Outside Region","    Saint Marys Bay","..","..",1083,"Saint Marys Bay",0.84151164000000001,1286.9697203475403,{"$f":"ROWS($A$3:A1742)","v":1740},"",""]
["Area Outside Region","    Sandon","..","..",912,"Sandon",4.4769506300000002,203.71008647910867,{"$f":"ROWS($A$3:A1743)","v":1741},"",""]
["Area Outside Region","    Sandringham Central","..","..",858,"Sandringham Central",0.47231020000000001,1816.6027326955887,{"$f":"ROWS($A$3:A1744)","v":1742},"",""]
["Area Outside Region","    Sandringham East","..","..",1224,"Sandringham East",0.71518377,1711.4482337875202,{"$f":"ROWS($A$3:A1745)","v":1743},"",""]
["Area Outside Region","    Sandringham North","..","..",1362,"Sandringham North",0.85722096999999997,1588.8552049770785,{"$f":"ROWS($A$3:A1746)","v":1744},"",""]
["Area Outside Region","    Sandringham West","..","..",789,"Sandringham West",0.47676220000000002,1654.9130782599793,{"$f":"ROWS($A$3:A1747)","v":1745},"",""]
["Area Outside Region","    Sandspit","..","..",456,"Sandspit",22.43923564,20.321547815431739,{"$f":"ROWS($A$3:A1748)","v":1746},"",""]
["Area Outside Region","    Saxton","..","..",30,"Saxton",3.8629873300000002,7.7660104569900303,{"$f":"ROWS($A$3:A1749)","v":1747},"",""]
["Area Outside Region","    Schnapper Rock","..","..",1167,"Schnapper Rock",2.2150654599999999,526.84673255660812,{"$f":"ROWS($A$3:A1750)","v":1748},"",""]
["Area Outside Region","    Seatoun","..","..",867,"Seatoun",1.32691884,653.39339066133084,{"$f":"ROWS($A$3:A1751)","v":1749},"",""]
["Area Outside Region","    Seaview","..","..",1086,"Seaview",0.73492871000000004,1477.6943467074514,{"$f":"ROWS($A$3:A1752)","v":1750},"",""]
["Area Outside Region","    Seddon Park","..","..",1317,"Seddon Park",1.5594296700000001,844.53952963457459,{"$f":"ROWS($A$3:A1753)","v":1751},"",""]
["Area Outside Region","    Selwyn Heights","..","..",381,"Selwyn Heights",0.89644765999999998,425.01087012709701,{"$f":"ROWS($A$3:A1754)","v":1752},"",""]
["Area Outside Region","    Shannon","..","..",588,"Shannon",2.9439083300000002,199.73448018335543,{"$f":"ROWS($A$3:A1755)","v":1753},"",""]
["Area Outside Region","    Shelly Park","..","..",981,"Shelly Park",1.23160322,796.52276323213903,{"$f":"ROWS($A$3:A1756)","v":1754},"",""]
["Area Outside Region","    Sherenden-Crownthorpe","..","..",549,"Sherenden-Crownthorpe",765.66297001999897,0.71702566468071482,{"$f":"ROWS($A$3:A1757)","v":1755},"",""]
["Area Outside Region","    Sherwin Park","..","..",813,"Sherwin Park",2.1390401200000002,380.07702258525188,{"$f":"ROWS($A$3:A1758)","v":1756},"",""]
["Area Outside Region","    Sherwood Rise","..","..",966,"Sherwood Rise",1.3063393700000001,739.47093855098308,{"$f":"ROWS($A$3:A1759)","v":1757},"",""]
["Area Outside Region","    Shiel Hill","..","..",672,"Shiel Hill",1.37182293,489.85913947363457,{"$f":"ROWS($A$3:A1760)","v":1758},"",""]
["Area Outside Region","    Shirley East","..","..",1038,"Shirley East",1.69660977,611.80833586735741,{"$f":"ROWS($A$3:A1761)","v":1759},"",""]
["Area Outside Region","    Shirley West","..","..",1581,"Shirley West",1.6306644699999999,969.54341563595858,{"$f":"ROWS($A$3:A1762)","v":1760},"",""]
["Area Outside Region","    Shortland Street","..","..",1332,"Shortland Street",0.12741288000000001,10454.202118341567,{"$f":"ROWS($A$3:A1763)","v":1761},"",""]
["Area Outside Region","    Shotover Country","..","..",753,"Shotover Country",3.0453069799999999,247.26571243730575,{"$f":"ROWS($A$3:A1764)","v":1762},"",""]
["Area Outside Region","    Silverdale (Hamilton City)","..","..",783,"Silverdale (Hamilton City)",0.80221816000000001,976.04372356766396,{"$f":"ROWS($A$3:A1765)","v":1763},"",""]
["Area Outside Region","    Silverdale Central (Auckland)","..","..",102,"Silverdale Central (Auckland)",3.3614030700000002,30.344471601854043,{"$f":"ROWS($A$3:A1766)","v":1764},"",""]
["Area Outside Region","    Silverdale South (Auckland)","..","..",738,"Silverdale South (Auckland)",10.1895436499999,72.42718863076928,{"$f":"ROWS($A$3:A1767)","v":1765},"",""]
["Area Outside Region","    Silverstream (Upper Hutt City)","..","..",1350,"Silverstream (Upper Hutt City)",2.64413739,510.56348475144858,{"$f":"ROWS($A$3:A1768)","v":1766},"",""]
["Area Outside Region","    Silverstream (Waimakariri District)","..","..",405,"Silverstream (Waimakariri District)",0.97115644000000001,417.0285891323544,{"$f":"ROWS($A$3:A1769)","v":1767},"",""]
["Area Outside Region","    Snares Islands","..","..",0,"Snares Islands",0,{"$error":"#DIV/0!"},{"$f":"ROWS($A$3:A1770)","v":1768},"",""]
["Area Outside Region","    Snares Islands","..","..",0,"Snares Islands",0,{"$error":"#DIV/0!"},{"$f":"ROWS($A$3:A1771)","v":1769},"",""]
["Area Outside Region","    Snells Beach","..","..",1737,"Snells Beach",3.8272598699999998,453.84950565167662,{"$f":"ROWS($A$3:A1772)","v":1770},"",""]
["Area Outside Region","    Sockburn North","..","..",1515,"Sockburn North",1.2398708199999999,1221.9014880921225,{"$f":"ROWS($A$3:A1773)","v":1771},"",""]
["Area Outside Region","    Sockburn South","..","..",144,"Sockburn South",2.4854760800000002,57.936586539187289,{"$f":"ROWS($A$3:A1774)","v":1772},"",""]
["Area Outside Region","    Solway North","..","..",969,"Solway North",2.0758710499999999,466.79200039906141,{"$f":"ROWS($A$3:A1775)","v":1773},"",""]
["Area Outside Region","    Solway South","..","..",1407,"Solway South",6.3852286100000004,220.35232971870053,{"$f":"ROWS($A$3:A1776)","v":1774},"",""]
["Area Outside Region","    Somerfield East","..","..",1590,"Somerfield East",1.2291718300000001,1293.5538882305821,{"$f":"ROWS($A$3:A1777)","v":1775},"",""]
["Area Outside Region","    Somerfield West","..","..",1284,"Somerfield West",1.18118116,1087.0474771202751,{"$f":"ROWS($A$3:A1778)","v":1776},"",""]
["Area Outside Region","    Somerville","..","..",1470,"Somerville",1.5560659999999999,944.69000672207994,{"$f":"ROWS($A$3:A1779)","v":1777},"",""]
["Area Outside Region","    South Head","..","..",1005,"South Head",339.79389712,2.9576752511393076,{"$f":"ROWS($A$3:A1780)","v":1778},"",""]
["Area Outside Region","    South Hill","..","..",1116,"South Hill",1.44830445,770.55621834207579,{"$f":"ROWS($A$3:A1781)","v":1779},"",""]
["Area Outside Region","    South New Brighton","..","..",1422,"South New Brighton",2.76495815,514.29349843866532,{"$f":"ROWS($A$3:A1782)","v":1780},"",""]
["Area Outside Region","    Southbridge","..","..",1065,"Southbridge",361.56215613000001,2.9455516346049175,{"$f":"ROWS($A$3:A1783)","v":1781},"",""]
["Area Outside Region","    Southbrook","..","..",291,"Southbrook",2.3101945599999998,125.96341669162273,{"$f":"ROWS($A$3:A1784)","v":1782},"",""]
["Area Outside Region","    Southgate","..","..",462,"Southgate",0.46693203,989.43737057404269,{"$f":"ROWS($A$3:A1785)","v":1783},"",""]
["Area Outside Region","    Sovereign Palms","..","..",1305,"Sovereign Palms",1.9152798900000001,681.3625553182203,{"$f":"ROWS($A$3:A1786)","v":1784},"",""]
["Area Outside Region","    Spotswood","..","..",1542,"Spotswood",3.4559646399999999,446.18512069035523,{"$f":"ROWS($A$3:A1787)","v":1785},"",""]
["Area Outside Region","    Spreydon North","..","..",1632,"Spreydon North",1.21383804,1344.4956791764412,{"$f":"ROWS($A$3:A1788)","v":1786},"",""]
["Area Outside Region","    Spreydon South","..","..",1026,"Spreydon South",0.72391643999999999,1417.2906475227996,{"$f":"ROWS($A$3:A1789)","v":1787},"",""]
["Area Outside Region","    Spreydon West","..","..",1335,"Spreydon West",1.0269873,1299.918703960604,{"$f":"ROWS($A$3:A1790)","v":1788},"",""]
["Area Outside Region","    Spring Creek-Grovetown","..","..",420,"Spring Creek-Grovetown",9.6872043100000003,43.356162062819131,{"$f":"ROWS($A$3:A1791)","v":1789},"",""]
["Area Outside Region","    Springfield North","..","..",666,"Springfield North",1.30138613,511.76202408120025,{"$f":"ROWS($A$3:A1792)","v":1790},"",""]
["Area Outside Region","    Springfield South","..","..",753,"Springfield South",1.1866796900000001,634.54359786000884,{"$f":"ROWS($A$3:A1793)","v":1791},"",""]
["Area Outside Region","    Springlands","..","..",1326,"Springlands",1.7733456700000001,747.73915905521108,{"$f":"ROWS($A$3:A1794)","v":1792},"",""]
["Area Outside Region","    Springston","..","..",822,{"$f":"TRIM(B1795)","v":"Springston"},119.11983506,{"$f":"E1795/G1795","v":6.900613987468696},{"$f":"ROWS($A$3:A1795)","v":1793},{"$f":"IF(A1795=$M$2,I1796,\"\")","v":""},""]
["Area Outside Region","    Springvale East","..","..",660,"Springvale East",0.63070963999999996,1046.4403239500193,{"$f":"ROWS($A$3:A1796)","v":1794},"",{"$f":"IFERROR(SMALL($J$3:$J$4612,I1796)-1,\"\")","v":""}]
["Area Outside Region","    Springvale North","..","..",150,"Springvale North",1.0415614500000001,144.01454662132511,{"$f":"ROWS($A$3:A1797)","v":1795},"",""]
["Area Outside Region","    Springvale West","..","..",705,"Springvale West",0.68873691000000004,1023.6129206433847,{"$f":"ROWS($A$3:A1798)","v":1796},"",""]
["Area Outside Region","    St Albans East","..","..",1524,"St Albans East",0.67550284999999999,2256.0970690205081,{"$f":"ROWS($A$3:A1799)","v":1797},"",""]
["Area Outside Region","    St Albans North","..","..",1077,"St Albans North",0.63715918000000005,1690.3154404838049,{"$f":"ROWS($A$3:A1800)","v":1798},"",""]
["Area Outside Region","    St Albans West","..","..",1395,"St Albans West",0.68131176000000004,2047.5208001693672,{"$f":"ROWS($A$3:A1801)","v":1799},"",""]
["Area Outside Region","    St Clair","..","..",978,"St Clair",2.02846949,482.13690411483589,{"$f":"ROWS($A$3:A1802)","v":1800},"",""]
["Area Outside Region","    St James","..","..",597,"St James",0.73392729000000001,813.43207717483835,{"$f":"ROWS($A$3:A1803)","v":1801},"",""]
["Area Outside Region","    St Johns Hill East","..","..",495,"St Johns Hill East",1.1237070300000001,440.50627680063548,{"$f":"ROWS($A$3:A1804)","v":1802},"",""]
["Area Outside Region","    St Johns Hill West","..","..",975,"St Johns Hill West",1.1220117700000001,868.97484150277671,{"$f":"ROWS($A$3:A1805)","v":1803},"",""]
["Area Outside Region","    St Kilda North","..","..",1191,"St Kilda North",1.0578643599999999,1125.8532237535633,{"$f":"ROWS($A$3:A1806)","v":1804},"",""]
["Area Outside Region","    St Kilda South","..","..",1296,"St Kilda South",1.13620034,1140.6439114425893,{"$f":"ROWS($A$3:A1807)","v":1805},"",""]
["Area Outside Region","    St Leger","..","..",198,"St Leger",7.8542817600000001,25.20917966151497,{"$f":"ROWS($A$3:A1808)","v":1806},"",""]
["Area Outside Region","    St Leonards","..","..",993,"St Leonards",1.03089955,963.23642783625235,{"$f":"ROWS($A$3:A1809)","v":1807},"",""]
["Area Outside Region","    St Lukes","..","..",969,"St Lukes",0.46193498999999999,2097.6977734464326,{"$f":"ROWS($A$3:A1810)","v":1808},"",""]
["Area Outside Region","    St Martins","..","..",1203,"St Martins",1.04565949,1150.4701210142509,{"$f":"ROWS($A$3:A1811)","v":1809},"",""]
["Area Outside Region","    Stanley Park","..","..",906,"Stanley Park",1.15485814,784.51194014184284,{"$f":"ROWS($A$3:A1812)","v":1810},"",""]
["Area Outside Region","    Stanley Point","..","..",687,"Stanley Point",0.99187144000000005,692.63008520539711,{"$f":"ROWS($A$3:A1813)","v":1811},"",""]
["Area Outside Region","    Stanmore Bay East","..","..",1125,"Stanmore Bay East",1.3378183699999999,840.92132775841617,{"$f":"ROWS($A$3:A1814)","v":1812},"",""]
["Area Outside Region","    Stanmore Bay West","..","..",1029,"Stanmore Bay West",0.98684481000000002,1042.7171421208568,{"$f":"ROWS($A$3:A1815)","v":1813},"",""]
["Area Outside Region","    Starvation Hill-Cust","..","..",858,"Starvation Hill-Cust",181.64842378,4.7234101025789812,{"$f":"ROWS($A$3:A1816)","v":1814},"",""]
["Area Outside Region","    Stewart Island","..","..",462,"Stewart Island",1747.7370011,0.26434183158520075,{"$f":"ROWS($A$3:A1817)","v":1815},"",""]
["Area Outside Region","    Stokes Valley Central","..","..",756,"Stokes Valley Central",1.4884130499999999,507.92352297636739,{"$f":"ROWS($A$3:A1818)","v":1816},"",""]
["Area Outside Region","    Stokes Valley North","..","..",1275,"Stokes Valley North",4.7961636800000003,265.83746616420729,{"$f":"ROWS($A$3:A1819)","v":1817},"",""]
["Area Outside Region","    Stonefields East","..","..",768,"Stonefields East",0.44566631000000001,1723.2624112870456,{"$f":"ROWS($A$3:A1820)","v":1818},"",""]
["Area Outside Region","    Stonefields West","..","..",729,"Stonefields West",0.54220765000000004,1344.5033466421951,{"$f":"ROWS($A$3:A1821)","v":1819},"",""]
["Area Outside Region","    Strandon","..","..",1173,"Strandon",1.7647838199999999,664.67064504251857,{"$f":"ROWS($A$3:A1822)","v":1820},"",""]
["Area Outside Region","    Stratford Central","..","..",951,"Stratford Central",2.53265568,375.49517982641839,{"$f":"ROWS($A$3:A1823)","v":1821},"",""]
["Area Outside Region","    Stratford North","..","..",804,"Stratford North",3.2854254699999998,244.71716291893239,{"$f":"ROWS($A$3:A1824)","v":1822},"",""]
["Area Outside Region","    Stratford South","..","..",753,"Stratford South",2.71989707,276.84871177864096,{"$f":"ROWS($A$3:A1825)","v":1823},"",""]
["Area Outside Region","    Strath Taieri","..","..",402,"Strath Taieri",2114.9561166499898,0.19007486577865867,{"$f":"ROWS($A$3:A1826)","v":1824},"",""]
["Area Outside Region","    Strathern","..","..",1023,"Strathern",0.98388271999999999,1039.758071978335,{"$f":"ROWS($A$3:A1827)","v":1825},"",""]
["Area Outside Region","    Strathmore (South Waikato District)","..","..",891,"Strathmore (South Waikato District)",1.24891011,713.42204123882061,{"$f":"ROWS($A$3:A1828)","v":1826},"",""]
["Area Outside Region","    Strathmore (Wellington City)","..","..",1425,"Strathmore (Wellington City)",1.48293491,960.93226370940317,{"$f":"ROWS($A$3:A1829)","v":1827},"",""]
["Area Outside Region","    Strowan","..","..",1380,"Strowan",1.43506914,961.62614158088581,{"$f":"ROWS($A$3:A1830)","v":1828},"",""]
["Area Outside Region","    Styx","..","..",528,"Styx",32.716258070000002,16.138764979487764,{"$f":"ROWS($A$3:A1831)","v":1829},"",""]
["Area Outside Region","    Suffolk","..","..",1095,"Suffolk",2.0021270599999998,546.91833594217542,{"$f":"ROWS($A$3:A1832)","v":1830},"",""]
["Area Outside Region","    Summerland North","..","..",831,"Summerland North",0.85091711000000003,976.59336054483606,{"$f":"ROWS($A$3:A1833)","v":1831},"",""]
["Area Outside Region","    Summerland South","..","..",981,"Summerland South",1.3340107299999999,735.37639386153967,{"$f":"ROWS($A$3:A1834)","v":1832},"",""]
["Area Outside Region","    Sumner","..","..",1581,"Sumner",2.6408394099999999,598.6732832042976,{"$f":"ROWS($A$3:A1835)","v":1833},"",""]
["Area Outside Region","    Sunkist Bay","..","..",1167,"Sunkist Bay",1.52795082,763.76803803148584,{"$f":"ROWS($A$3:A1836)","v":1834},"",""]
["Area Outside Region","    Sunnybrook","..","..",729,"Sunnybrook",2.0858248599999998,349.50201907172595,{"$f":"ROWS($A$3:A1837)","v":1835},"",""]
["Area Outside Region","    Sunnyhills East","..","..",1242,"Sunnyhills East",0.87367205999999997,1421.5860353826583,{"$f":"ROWS($A$3:A1838)","v":1836},"",""]
["Area Outside Region","    Sunnyhills West-Pakuranga North","..","..",1218,"Sunnyhills West-Pakuranga North",1.6266024400000001,748.80005713012451,{"$f":"ROWS($A$3:A1839)","v":1837},"",""]
["Area Outside Region","    Sunnynook North","..","..",942,"Sunnynook North",0.74464288999999995,1265.0359154036912,{"$f":"ROWS($A$3:A1840)","v":1838},"",""]
["Area Outside Region","    Sunnynook South","..","..",870,"Sunnynook South",0.80161344000000001,1085.311144483805,{"$f":"ROWS($A$3:A1841)","v":1839},"",""]
["Area Outside Region","    Sunnyvale East","..","..",1566,"Sunnyvale East",2.6615635700000002,588.37595226027224,{"$f":"ROWS($A$3:A1842)","v":1840},"",""]
["Area Outside Region","    Sunnyvale West-Parrs Park","..","..",744,"Sunnyvale West-Parrs Park",0.84167882000000005,883.94763218587343,{"$f":"ROWS($A$3:A1843)","v":1841},"",""]
["Area Outside Region","    Sunshine Bay-Fernhill","..","..",1185,"Sunshine Bay-Fernhill",1.3122399300000001,903.03607816597992,{"$f":"ROWS($A$3:A1844)","v":1842},"",""]
["Area Outside Region","    Surfdale","..","..",1053,"Surfdale",2.6112799400000002,403.25052242388074,{"$f":"ROWS($A$3:A1845)","v":1843},"",""]
["Area Outside Region","    Sutton Park","..","..",747,"Sutton Park",0.73066560999999997,1022.3554930962196,{"$f":"ROWS($A$3:A1846)","v":1844},"",""]
["Area Outside Region","    Swannanoa-Eyreton","..","..",354,"Swannanoa-Eyreton",61.772130580000002,5.7307396827043355,{"$f":"ROWS($A$3:A1847)","v":1845},"",""]
["Area Outside Region","    Swanson","..","..",786,"Swanson",1.89457019,414.86982332388538,{"$f":"ROWS($A$3:A1848)","v":1846},"",""]
["Area Outside Region","    Swanson Rural","..","..",807,"Swanson Rural",15.14912979,53.270386562580242,{"$f":"ROWS($A$3:A1849)","v":1847},"",""]
["Area Outside Region","    Swarbrick","..","..",1056,"Swarbrick",0.50570515999999999,2088.1732747199972,{"$f":"ROWS($A$3:A1850)","v":1848},"",""]
["Area Outside Region","    Sydenham Central","..","..",69,"Sydenham Central",1.2127569300000001,56.895160351712022,{"$f":"ROWS($A$3:A1851)","v":1849},"",""]
["Area Outside Region","    Sydenham North","..","..",906,"Sydenham North",0.48343691999999999,1874.0811107269176,{"$f":"ROWS($A$3:A1852)","v":1850},"",""]
["Area Outside Region","    Sydenham South","..","..",1245,"Sydenham South",0.55360982000000003,2248.8762934154597,{"$f":"ROWS($A$3:A1853)","v":1851},"",""]
["Area Outside Region","    Sydenham West","..","..",720,"Sydenham West",0.48794081,1475.5888116839417,{"$f":"ROWS($A$3:A1854)","v":1852},"",""]
["Area Outside Region","    Sylvia Park","..","..",45,"Sylvia Park",0.55720563000000001,80.760131587328004,{"$f":"ROWS($A$3:A1855)","v":1853},"",""]
["Area Outside Region","    Symonds Street East","..","..",618,"Symonds Street East",0.10348319,5971.9844353464559,{"$f":"ROWS($A$3:A1856)","v":1854},"",""]
["Area Outside Region","    Symonds Street North West","..","..",1617,"Symonds Street North West",8.7208359999999999E-2,18541.800350333386,{"$f":"ROWS($A$3:A1857)","v":1855},"",""]
["Area Outside Region","    Symonds Street West","..","..",1533,"Symonds Street West",0.14523676999999999,10555.178278889018,{"$f":"ROWS($A$3:A1858)","v":1856},"",""]
["Area Outside Region","    Taemaro-Oruaiti","..","..",534,{"$f":"TRIM(B1859)","v":"Taemaro-Oruaiti"},156.734271659999,{"$f":"E1859/G1859","v":3.4070404280079671},{"$f":"ROWS($A$3:A1859)","v":1857},{"$f":"IF(A1859=$M$2,I1860,\"\")","v":""},""]
["Area Outside Region","    Taharua","..","..",45,"Taharua",784.24519964000001,5.7380013318101025E-2,{"$f":"ROWS($A$3:A1860)","v":1858},"",{"$f":"IFERROR(SMALL($J$3:$J$4612,I1860)-1,\"\")","v":""}]
["Area Outside Region","    Tahawai","..","..",834,"Tahawai",82.117921589999895,10.156126505052246,{"$f":"ROWS($A$3:A1861)","v":1859},"",""]
["Area Outside Region","    Tahuna Hills","..","..",1269,"Tahuna Hills",2.6770045699999998,474.03729310779624,{"$f":"ROWS($A$3:A1862)","v":1860},"",""]
["Area Outside Region","    Tahuna-Mangateparu","..","..",627,"Tahuna-Mangateparu",238.936406879999,2.6241291906381523,{"$f":"ROWS($A$3:A1863)","v":1861},"",""]
["Area Outside Region","    Tahunanui","..","..",1332,"Tahunanui",1.6147601,824.89033510302863,{"$f":"ROWS($A$3:A1864)","v":1862},"",""]
["Area Outside Region","    Tahuroa","..","..",675,"Tahuroa",181.86633688000001,3.7115169941833823,{"$f":"ROWS($A$3:A1865)","v":1863},"",""]
["Area Outside Region","    Tai Tapu","..","..",441,"Tai Tapu",56.812965560000002,7.7623126279908981,{"$f":"ROWS($A$3:A1866)","v":1864},"",""]
["Area Outside Region","    Taieri","..","..",576,"Taieri",150.19446241,3.8350282078152684,{"$f":"ROWS($A$3:A1867)","v":1865},"",""]
["Area Outside Region","    Taihape","..","..",804,"Taihape",4.9344456000000001,162.93623745694956,{"$f":"ROWS($A$3:A1868)","v":1866},"",""]
["Area Outside Region","    Taikorea","..","..",504,"Taikorea",152.97421605,3.2946728737296902,{"$f":"ROWS($A$3:A1869)","v":1867},"",""]
["Area Outside Region","    Tainui","..","..",798,"Tainui",1.9910770600000001,400.78810410281153,{"$f":"ROWS($A$3:A1870)","v":1868},"",""]
["Area Outside Region","    Tairua","..","..",1542,"Tairua",4.1716639500000001,369.63667699072454,{"$f":"ROWS($A$3:A1871)","v":1869},"",""]
["Area Outside Region","    Taita North","..","..",1029,"Taita North",1.1455903000000001,898.22687919057967,{"$f":"ROWS($A$3:A1872)","v":1870},"",""]
["Area Outside Region","    Taita South","..","..",1098,"Taita South",3.3995347100000002,322.98537701943332,{"$f":"ROWS($A$3:A1873)","v":1871},"",""]
["Area Outside Region","    Taitoko","..","..",690,"Taitoko",0.92018350000000004,749.85043743992367,{"$f":"ROWS($A$3:A1874)","v":1872},"",""]
["Area Outside Region","    Takaka","..","..",618,"Takaka",12.3422707299999,50.071823371841155,{"$f":"ROWS($A$3:A1875)","v":1873},"",""]
["Area Outside Region","    Takaka Hills","..","..",651,"Takaka Hills",277.43395578000002,2.3465044073993271,{"$f":"ROWS($A$3:A1876)","v":1874},"",""]
["Area Outside Region","    Takanini Central","..","..",417,"Takanini Central",1.0793622300000001,386.3392551729367,{"$f":"ROWS($A$3:A1877)","v":1875},"",""]
["Area Outside Region","    Takanini Industrial","..","..",15,"Takanini Industrial",0.88082534000000001,17.029482825732511,{"$f":"ROWS($A$3:A1878)","v":1876},"",""]
["Area Outside Region","    Takanini North","..","..",711,"Takanini North",5.2779725800000001,134.71081731159731,{"$f":"ROWS($A$3:A1879)","v":1877},"",""]
["Area Outside Region","    Takanini South","..","..",1329,"Takanini South",2.3189506099999999,573.10405589017705,{"$f":"ROWS($A$3:A1880)","v":1878},"",""]
["Area Outside Region","    Takanini South East","..","..",579,"Takanini South East",1.4688904300000001,394.17507812342404,{"$f":"ROWS($A$3:A1881)","v":1879},"",""]
["Area Outside Region","    Takanini West","..","..",762,"Takanini West",0.68633158999999999,1110.2505131666751,{"$f":"ROWS($A$3:A1882)","v":1880},"",""]
["Area Outside Region","    Takapu-Horokiwi","..","..",105,"Takapu-Horokiwi",19.1014103599999,5.4969762976182954,{"$f":"ROWS($A$3:A1883)","v":1881},"",""]
["Area Outside Region","    Takapuna Central","..","..",1263,"Takapuna Central",0.98523806999999997,1281.923667444154,{"$f":"ROWS($A$3:A1884)","v":1882},"",""]
["Area Outside Region","    Takapuna South","..","..",621,"Takapuna South",0.50774881999999999,1223.0456783730192,{"$f":"ROWS($A$3:A1885)","v":1883},"",""]
["Area Outside Region","    Takapuna West","..","..",2052,"Takapuna West",2.3472364099999998,874.21956785341456,{"$f":"ROWS($A$3:A1886)","v":1884},"",""]
["Area Outside Region","    Takaro North","..","..",1344,"Takaro North",1.1196752699999999,1200.3480259057612,{"$f":"ROWS($A$3:A1887)","v":1885},"",""]
["Area Outside Region","    Takaro South","..","..",999,"Takaro South",0.87652777000000004,1139.7243010338393,{"$f":"ROWS($A$3:A1888)","v":1886},"",""]
["Area Outside Region","    Tamahere North","..","..",1395,"Tamahere North",18.67399786,74.702803891185624,{"$f":"ROWS($A$3:A1889)","v":1887},"",""]
["Area Outside Region","    Tamahere South","..","..",720,"Tamahere South",38.836614169999898,18.539206246155672,{"$f":"ROWS($A$3:A1890)","v":1888},"",""]
["Area Outside Region","    Tamakae","..","..",1020,"Tamakae",1.34089266,760.68728722849448,{"$f":"ROWS($A$3:A1891)","v":1889},"",""]
["Area Outside Region","    Tamaki","..","..",1263,"Tamaki",1.2953531899999999,975.02365358748227,{"$f":"ROWS($A$3:A1892)","v":1890},"",""]
["Area Outside Region","    Tamarau","..","..",744,"Tamarau",1.1147272500000001,667.42783941094103,{"$f":"ROWS($A$3:A1893)","v":1891},"",""]
["Area Outside Region","    Tamatea East","..","..",669,"Tamatea East",0.63201711999999999,1058.5156300829319,{"$f":"ROWS($A$3:A1894)","v":1892},"",""]
["Area Outside Region","    Tamatea North","..","..",642,"Tamatea North",0.66042033,972.1081723816709,{"$f":"ROWS($A$3:A1895)","v":1893},"",""]
["Area Outside Region","    Tamatea West","..","..",786,"Tamatea West",0.63229511999999999,1243.0904100604162,{"$f":"ROWS($A$3:A1896)","v":1894},"",""]
["Area Outside Region","    Tangiwai","..","..",840,"Tangiwai",2696.6322017500001,0.311499654811982,{"$f":"ROWS($A$3:A1897)","v":1895},"",""]
["Area Outside Region","    Tangonge","..","..",468,"Tangonge",177.20434269,2.6410187972577841,{"$f":"ROWS($A$3:A1898)","v":1896},"",""]
["Area Outside Region","    Taonui","..","..",609,"Taonui",165.87884474000001,3.6713542402260644,{"$f":"ROWS($A$3:A1899)","v":1897},"",""]
["Area Outside Region","    Taradale Central","..","..",1206,"Taradale Central",1.17747377,1024.2266373373227,{"$f":"ROWS($A$3:A1900)","v":1898},"",""]
["Area Outside Region","    Taradale South","..","..",1083,"Taradale South",5.0676933000000002,213.70669768038252,{"$f":"ROWS($A$3:A1901)","v":1899},"",""]
["Area Outside Region","    Taradale West","..","..",687,"Taradale West",1.68667236,407.3108780889728,{"$f":"ROWS($A$3:A1902)","v":1900},"",""]
["Area Outside Region","    Tararua","..","..",486,"Tararua",10.746679,45.223273161876335,{"$f":"ROWS($A$3:A1903)","v":1901},"",""]
["Area Outside Region","    Tararua Forest Park","..","..",15,"Tararua Forest Park",365.62861300999901,4.1025235625062495E-2,{"$f":"ROWS($A$3:A1904)","v":1902},"",""]
["Area Outside Region","    Tarata","..","..",243,"Tarata",258.96873968,0.93833719197254428,{"$f":"ROWS($A$3:A1905)","v":1903},"",""]
["Area Outside Region","    Tarawera Park","..","..",1443,"Tarawera Park",3.6137881200000002,399.30398575774831,{"$f":"ROWS($A$3:A1906)","v":1904},"",""]
["Area Outside Region","    Tareha Reserve","..","..",1224,"Tareha Reserve",1.72386138,710.03388915180642,{"$f":"ROWS($A$3:A1907)","v":1905},"",""]
["Area Outside Region","    Tarewa","..","..",621,"Tarewa",0.94067805000000004,660.16210328283944,{"$f":"ROWS($A$3:A1908)","v":1906},"",""]
["Area Outside Region","    Tatuanui","..","..",528,"Tatuanui",144.45964860000001,3.6549998917829289,{"$f":"ROWS($A$3:A1909)","v":1907},"",""]
["Area Outside Region","    Tauhara","..","..",684,"Tauhara",11.70949371,58.41413958110406,{"$f":"ROWS($A$3:A1910)","v":1908},"",""]
["Area Outside Region","    Tauherenikau","..","..",645,"Tauherenikau",337.70563607000003,1.9099473953295338,{"$f":"ROWS($A$3:A1911)","v":1909},"",""]
["Area Outside Region","    Taumarumaru","..","..",1458,"Taumarumaru",10.2297233999999,142.52584776632517,{"$f":"ROWS($A$3:A1912)","v":1910},"",""]
["Area Outside Region","    Taumarunui Central","..","..",768,"Taumarunui Central",5.5373813500000004,138.69371666085451,{"$f":"ROWS($A$3:A1913)","v":1911},"",""]
["Area Outside Region","    Taumarunui East","..","..",675,"Taumarunui East",4.5182849300000001,149.39296889361955,{"$f":"ROWS($A$3:A1914)","v":1912},"",""]
["Area Outside Region","    Taumarunui North","..","..",717,"Taumarunui North",3.5946045299999998,199.46561409357597,{"$f":"ROWS($A$3:A1915)","v":1913},"",""]
["Area Outside Region","    Taungatara","..","..",531,"Taungatara",313.10448637000002,1.6959194873129662,{"$f":"ROWS($A$3:A1916)","v":1914},"",""]
["Area Outside Region","    Taupaki","..","..",579,"Taupaki",27.203635250000001,21.28392013343143,{"$f":"ROWS($A$3:A1917)","v":1915},"",""]
["Area Outside Region","    Taupiri-Lake Kainui","..","..",828,"Taupiri-Lake Kainui",49.76237579,16.639076950308926,{"$f":"ROWS($A$3:A1918)","v":1916},"",""]
["Area Outside Region","    Taupo Central East","..","..",1107,"Taupo Central East",1.09504644,1010.9160301913771,{"$f":"ROWS($A$3:A1919)","v":1917},"",""]
["Area Outside Region","    Taupo Central West","..","..",246,"Taupo Central West",1.36486547,180.2375438511167,{"$f":"ROWS($A$3:A1920)","v":1918},"",""]
["Area Outside Region","    Tauranga Central","..","..",1293,"Tauranga Central",3.3807638400000002,382.45794772816782,{"$f":"ROWS($A$3:A1921)","v":1919},"",""]
["Area Outside Region","    Tauranga Hospital","..","..",870,"Tauranga Hospital",1.9442784399999999,447.46677332902999,{"$f":"ROWS($A$3:A1922)","v":1920},"",""]
["Area Outside Region","    Tauranga South","..","..",2193,{"$f":"TRIM(B1923)","v":"Tauranga South"},2.3899173899999999,{"$f":"E1923/G1923","v":917.60493863764896},{"$f":"ROWS($A$3:A1923)","v":1921},{"$f":"IF(A1923=$M$2,I1924,\"\")","v":""},""]
["Area Outside Region","    Taurekaitai","..","..",954,"Taurekaitai",1153.8243241600001,0.82681564257585316,{"$f":"ROWS($A$3:A1924)","v":1922},"",{"$f":"IFERROR(SMALL($J$3:$J$4612,I1924)-1,\"\")","v":""}]
["Area Outside Region","    Tauriko","..","..",66,"Tauriko",4.82043278,13.691716701005424,{"$f":"ROWS($A$3:A1925)","v":1923},"",""]
["Area Outside Region","    Tawa Central","..","..",1059,"Tawa Central",1.5313012699999999,691.56868132160571,{"$f":"ROWS($A$3:A1926)","v":1924},"",""]
["Area Outside Region","    Tawa North","..","..",1092,"Tawa North",1.44404946,756.20678532714521,{"$f":"ROWS($A$3:A1927)","v":1925},"",""]
["Area Outside Region","    Tawa South","..","..",1137,"Tawa South",2.5485231499999998,446.14073841157773,{"$f":"ROWS($A$3:A1928)","v":1926},"",""]
["Area Outside Region","    Tawharanui Peninsula","..","..",2166,"Tawharanui Peninsula",46.670728099999899,46.410246597374268,{"$f":"ROWS($A$3:A1929)","v":1927},"",""]
["Area Outside Region","    Te Akau","..","..",864,"Te Akau",804.11799782000003,1.0744691728606284,{"$f":"ROWS($A$3:A1930)","v":1928},"",""]
["Area Outside Region","    Te Anau","..","..",1704,"Te Anau",5.5272242299999998,308.29217869454885,{"$f":"ROWS($A$3:A1931)","v":1929},"",""]
["Area Outside Region","    Te Arai","..","..",450,"Te Arai",54.605337509999899,8.2409526343023032,{"$f":"ROWS($A$3:A1932)","v":1930},"",""]
["Area Outside Region","    Te Aroha East","..","..",1176,"Te Aroha East",4.6806730300000003,251.24591964929451,{"$f":"ROWS($A$3:A1933)","v":1931},"",""]
["Area Outside Region","    Te Aroha West","..","..",804,"Te Aroha West",6.2933750699999997,127.75339004226869,{"$f":"ROWS($A$3:A1934)","v":1932},"",""]
["Area Outside Region","    Te Atatu Peninsula Central","..","..",1158,"Te Atatu Peninsula Central",1.1137043799999999,1039.7732295889866,{"$f":"ROWS($A$3:A1935)","v":1933},"",""]
["Area Outside Region","    Te Atatu Peninsula East","..","..",993,"Te Atatu Peninsula East",1.8096168399999999,548.73494656471041,{"$f":"ROWS($A$3:A1936)","v":1934},"",""]
["Area Outside Region","    Te Atatu Peninsula North West","..","..",1158,"Te Atatu Peninsula North West",1.1125991799999999,1040.8060879570305,{"$f":"ROWS($A$3:A1937)","v":1935},"",""]
["Area Outside Region","    Te Atatu Peninsula West","..","..",1302,"Te Atatu Peninsula West",1.42485167,913.77932693864193,{"$f":"ROWS($A$3:A1938)","v":1936},"",""]
["Area Outside Region","    Te Atatu South-Central","..","..",1404,"Te Atatu South-Central",1.3631526899999999,1029.9653225201059,{"$f":"ROWS($A$3:A1939)","v":1937},"",""]
["Area Outside Region","    Te Atatu South-Edmonton","..","..",1302,"Te Atatu South-Edmonton",1.06450047,1223.1089010228432,{"$f":"ROWS($A$3:A1940)","v":1938},"",""]
["Area Outside Region","    Te Atatu South-McLeod North","..","..",1206,"Te Atatu South-McLeod North",1.0077486600000001,1196.7269695997411,{"$f":"ROWS($A$3:A1941)","v":1939},"",""]
["Area Outside Region","    Te Atatu South-McLeod South","..","..",1215,"Te Atatu South-McLeod South",1.1052084200000001,1099.3401588453335,{"$f":"ROWS($A$3:A1942)","v":1940},"",""]
["Area Outside Region","    Te Awamutu Central","..","..",198,"Te Awamutu Central",0.71240625000000002,277.93130675088827,{"$f":"ROWS($A$3:A1943)","v":1941},"",""]
["Area Outside Region","    Te Awamutu North","..","..",414,"Te Awamutu North",2.81794806,146.91541191855751,{"$f":"ROWS($A$3:A1944)","v":1942},"",""]
["Area Outside Region","    Te Awamutu Stadium","..","..",717,"Te Awamutu Stadium",1.1658443599999999,615.0049051144357,{"$f":"ROWS($A$3:A1945)","v":1943},"",""]
["Area Outside Region","    Te Awamutu West","..","..",504,"Te Awamutu West",0.78264233000000005,643.97232385833252,{"$f":"ROWS($A$3:A1946)","v":1944},"",""]
["Area Outside Region","    Te Hapara East","..","..",849,"Te Hapara East",0.94822638999999997,895.35580210966293,{"$f":"ROWS($A$3:A1947)","v":1945},"",""]
["Area Outside Region","    Te Hapara North","..","..",774,"Te Hapara North",1.2005121000000001,644.72486366443115,{"$f":"ROWS($A$3:A1948)","v":1946},"",""]
["Area Outside Region","    Te Hapara South","..","..",822,"Te Hapara South",0.86443000999999997,950.91562126585586,{"$f":"ROWS($A$3:A1949)","v":1947},"",""]
["Area Outside Region","    Te Horo","..","..",756,"Te Horo",31.8614360199999,23.727744083017711,{"$f":"ROWS($A$3:A1950)","v":1948},"",""]
["Area Outside Region","    Te Kauwhata","..","..",666,"Te Kauwhata",1.73961842,382.8425776268798,{"$f":"ROWS($A$3:A1951)","v":1949},"",""]
["Area Outside Region","    Te Kawa","..","..",435,"Te Kawa",114.61778193000001,3.7952226319094673,{"$f":"ROWS($A$3:A1952)","v":1950},"",""]
["Area Outside Region","    Te Kowhai","..","..",753,"Te Kowhai",44.94853011,16.752494423226423,{"$f":"ROWS($A$3:A1953)","v":1951},"",""]
["Area Outside Region","    Te Kuiti East","..","..",765,"Te Kuiti East",5.8258709900000003,131.31083769501734,{"$f":"ROWS($A$3:A1954)","v":1952},"",""]
["Area Outside Region","    Te Kuiti West","..","..",996,"Te Kuiti West",2.59161785,384.31592065165006,{"$f":"ROWS($A$3:A1955)","v":1953},"",""]
["Area Outside Region","    Te Kuru","..","..",867,"Te Kuru",80.930439519999894,10.712903638509749,{"$f":"ROWS($A$3:A1956)","v":1954},"",""]
["Area Outside Region","    Te Manatu","..","..",1176,"Te Manatu",1.32591108,886.93730502651806,{"$f":"ROWS($A$3:A1957)","v":1955},"",""]
["Area Outside Region","    Te Marua","..","..",369,"Te Marua",5.5702088500000002,66.245271934462565,{"$f":"ROWS($A$3:A1958)","v":1956},"",""]
["Area Outside Region","    Te Mata Hills","..","..",405,"Te Mata Hills",12.71124715,31.86154711813624,{"$f":"ROWS($A$3:A1959)","v":1957},"",""]
["Area Outside Region","    Te Maunga North","..","..",1614,"Te Maunga North",1.16256107,1388.3141640034446,{"$f":"ROWS($A$3:A1960)","v":1958},"",""]
["Area Outside Region","    Te Maunga South","..","..",1947,"Te Maunga South",2.3142333599999998,841.31532871862157,{"$f":"ROWS($A$3:A1961)","v":1959},"",""]
["Area Outside Region","    Te More","..","..",0,"Te More",47.9225809,0,{"$f":"ROWS($A$3:A1962)","v":1960},"",""]
["Area Outside Region","    Te Pahu","..","..",540,"Te Pahu",158.162208359999,3.4142163643219088,{"$f":"ROWS($A$3:A1963)","v":1961},"",""]
["Area Outside Region","    Te Papapa","..","..",1179,"Te Papapa",0.71125762999999997,1657.6272088638261,{"$f":"ROWS($A$3:A1964)","v":1962},"",""]
["Area Outside Region","    Te Poi","..","..",324,"Te Poi",127.850616239999,2.534207573875066,{"$f":"ROWS($A$3:A1965)","v":1963},"",""]
["Area Outside Region","    Te Puke East","..","..",1860,"Te Puke East",3.98953742,466.21946461151379,{"$f":"ROWS($A$3:A1966)","v":1964},"",""]
["Area Outside Region","    Te Puke West","..","..",1116,"Te Puke West",9.40917651,118.60761659789503,{"$f":"ROWS($A$3:A1967)","v":1965},"",""]
["Area Outside Region","    Te Puna","..","..",807,"Te Puna",18.15621818,44.447582200182616,{"$f":"ROWS($A$3:A1968)","v":1966},"",""]
["Area Outside Region","    Te Puru","..","..",1149,"Te Puru",7.2901401000000003,157.61013975575037,{"$f":"ROWS($A$3:A1969)","v":1967},"",""]
["Area Outside Region","    Te Rahu","..","..",444,"Te Rahu",55.22999875,8.0391093617397562,{"$f":"ROWS($A$3:A1970)","v":1968},"",""]
["Area Outside Region","    Te Rapa North","..","..",69,"Te Rapa North",9.2436361599999906,7.4645949716826667,{"$f":"ROWS($A$3:A1971)","v":1969},"",""]
["Area Outside Region","    Te Rapa South","..","..",48,"Te Rapa South",3.9154069900000001,12.259261967553467,{"$f":"ROWS($A$3:A1972)","v":1970},"",""]
["Area Outside Region","    Te Reti","..","..",648,"Te Reti",1.7180562699999999,377.1704171249292,{"$f":"ROWS($A$3:A1973)","v":1971},"",""]
["Area Outside Region","    Te Roti-Moeroa","..","..",327,"Te Roti-Moeroa",361.94093946999902,0.90346231757821016,{"$f":"ROWS($A$3:A1974)","v":1972},"",""]
["Area Outside Region","    Te Teko Lakes","..","..",525,"Te Teko Lakes",71.101078290000004,7.3838542625005239,{"$f":"ROWS($A$3:A1975)","v":1973},"",""]
["Area Outside Region","    Te Uku","..","..",1134,"Te Uku",549.66687502000002,2.0630677443656009,{"$f":"ROWS($A$3:A1976)","v":1974},"",""]
["Area Outside Region","    Teddington","..","..",105,"Teddington",46.15461415,2.2749621448194906,{"$f":"ROWS($A$3:A1977)","v":1975},"",""]
["Area Outside Region","    Temple View","..","..",354,"Temple View",4.3730886599999996,80.949650812705002,{"$f":"ROWS($A$3:A1978)","v":1976},"",""]
["Area Outside Region","    Templemore","..","..",729,"Templemore",1.4267554899999999,510.94949702979596,{"$f":"ROWS($A$3:A1979)","v":1977},"",""]
["Area Outside Region","    Templeton","..","..",714,"Templeton",0.89855715000000003,794.60722114336295,{"$f":"ROWS($A$3:A1980)","v":1978},"",""]
["Area Outside Region","    Temuka East","..","..",1008,"Temuka East",4.2980718800000002,234.52376510743696,{"$f":"ROWS($A$3:A1981)","v":1979},"",""]
["Area Outside Region","    Temuka West","..","..",1068,"Temuka West",4.0724731800000002,262.24850423692658,{"$f":"ROWS($A$3:A1982)","v":1980},"",""]
["Area Outside Region","    Terrace End","..","..",1371,"Terrace End",1.20279285,1139.8471482433572,{"$f":"ROWS($A$3:A1983)","v":1981},"",""]
["Area Outside Region","    Teviot Valley","..","..",984,"Teviot Valley",1302.49934545,0.75547062916952046,{"$f":"ROWS($A$3:A1984)","v":1982},"",""]
["Area Outside Region","    Thames Central","..","..",573,"Thames Central",1.2730344899999999,450.1056369651069,{"$f":"ROWS($A$3:A1985)","v":1983},"",""]
["Area Outside Region","    Thames Coast","..","..",1245,"Thames Coast",116.10186822,10.723341657524966,{"$f":"ROWS($A$3:A1986)","v":1984},"",""]
["Area Outside Region","    Thames North","..","..",1086,{"$f":"TRIM(B1987)","v":"Thames North"},2.6221864799999999,{"$f":"E1987/G1987","v":414.15818755956673},{"$f":"ROWS($A$3:A1987)","v":1985},{"$f":"IF(A1987=$M$2,I1988,\"\")","v":""},""]
["Area Outside Region","    Thames South","..","..",1452,"Thames South",3.2785497100000001,442.87875079984678,{"$f":"ROWS($A$3:A1988)","v":1986},"",{"$f":"IFERROR(SMALL($J$3:$J$4612,I1988)-1,\"\")","v":""}]
["Area Outside Region","    The Brook","..","..",783,"The Brook",6.9023199200000001,113.44011999953777,{"$f":"ROWS($A$3:A1989)","v":1987},"",""]
["Area Outside Region","    The Gardens (Auckland)","..","..",1137,"The Gardens (Auckland)",4.0890090199999998,278.06248272839468,{"$f":"ROWS($A$3:A1990)","v":1988},"",""]
["Area Outside Region","    The Strand","..","..",582,"The Strand",0.16919215000000001,3439.8759044080944,{"$f":"ROWS($A$3:A1991)","v":1989},"",""]
["Area Outside Region","    The Wood","..","..",1419,"The Wood",1.16193028,1221.2436704894205,{"$f":"ROWS($A$3:A1992)","v":1990},"",""]
["Area Outside Region","    Thorndon","..","..",2148,"Thorndon",1.48299162,1448.4235588600293,{"$f":"ROWS($A$3:A1993)","v":1991},"",""]
["Area Outside Region","    Thornton-Awakeri","..","..",846,"Thornton-Awakeri",151.764028389999,5.5744434895070958,{"$f":"ROWS($A$3:A1994)","v":1992},"",""]
["Area Outside Region","    Three Kings East","..","..",618,"Three Kings East",0.67406907000000005,916.81999294226625,{"$f":"ROWS($A$3:A1995)","v":1993},"",""]
["Area Outside Region","    Three Kings Islands","..","..",0,"Three Kings Islands",4.9664339499999999,0,{"$f":"ROWS($A$3:A1996)","v":1994},"",""]
["Area Outside Region","    Three Kings Islands","..","..",0,"Three Kings Islands",4.9664339499999999,0,{"$f":"ROWS($A$3:A1997)","v":1995},"",""]
["Area Outside Region","    Three Kings West","..","..",738,"Three Kings West",0.64710009999999996,1140.4727027549525,{"$f":"ROWS($A$3:A1998)","v":1996},"",""]
["Area Outside Region","    Tihiotonga-Whakarewarewa","..","..",333,"Tihiotonga-Whakarewarewa",3.28398579,101.40116958301455,{"$f":"ROWS($A$3:A1999)","v":1997},"",""]
["Area Outside Region","    Tikipunga North","..","..",1143,"Tikipunga North",2.7410072200000002,416.99999608173232,{"$f":"ROWS($A$3:A2000)","v":1998},"",""]
["Area Outside Region","    Tikipunga South","..","..",1443,"Tikipunga South",2.74033953,526.57708440968258,{"$f":"ROWS($A$3:A2001)","v":1999},"",""]
["Area Outside Region","    Tikorangi","..","..",987,"Tikorangi",167.68784491,5.8859364584817362,{"$f":"ROWS($A$3:A2002)","v":2000},"",""]
["Area Outside Region","    Timaru Central","..","..",213,"Timaru Central",0.82404270000000002,258.48175100634955,{"$f":"ROWS($A$3:A2003)","v":2001},"",""]
["Area Outside Region","    Timaru East","..","..",174,"Timaru East",3.5961314099999999,48.385328610669433,{"$f":"ROWS($A$3:A2004)","v":2002},"",""]
["Area Outside Region","    Tindalls-Matakatia","..","..",855,"Tindalls-Matakatia",2.9334763700000002,291.4630602597968,{"$f":"ROWS($A$3:A2005)","v":2003},"",""]
["Area Outside Region","    Tinwald North","..","..",513,"Tinwald North",1.90350508,269.5028268587547,{"$f":"ROWS($A$3:A2006)","v":2004},"",""]
["Area Outside Region","    Tinwald South","..","..",957,"Tinwald South",2.7930247399999999,342.63928503547737,{"$f":"ROWS($A$3:A2007)","v":2005},"",""]
["Area Outside Region","    Tirau","..","..",978,"Tirau",293.07679766000001,3.3370093020280067,{"$f":"ROWS($A$3:A2008)","v":2006},"",""]
["Area Outside Region","    Tiroa","..","..",30,"Tiroa",182.315731709999,0.16454970571447766,{"$f":"ROWS($A$3:A2009)","v":2007},"",""]
["Area Outside Region","    Tirohanga","..","..",423,"Tirohanga",1.1805299899999999,358.31364182455036,{"$f":"ROWS($A$3:A2010)","v":2008},"",""]
["Area Outside Region","    Titahi Bay North","..","..",1059,"Titahi Bay North",2.0096202299999999,526.96523661089941,{"$f":"ROWS($A$3:A2011)","v":2009},"",""]
["Area Outside Region","    Titahi Bay South","..","..",1335,"Titahi Bay South",3.5425687300000002,376.84519391102964,{"$f":"ROWS($A$3:A2012)","v":2010},"",""]
["Area Outside Region","    Titirangi South","..","..",1479,"Titirangi South",4.7329975199999996,312.48695858179957,{"$f":"ROWS($A$3:A2013)","v":2011},"",""]
["Area Outside Region","    Titoki","..","..",1185,"Titoki",1.92009589,617.15667752405841,{"$f":"ROWS($A$3:A2014)","v":2012},"",""]
["Area Outside Region","    Toi Toi","..","..",642,"Toi Toi",1.30678078,491.28362601108967,{"$f":"ROWS($A$3:A2015)","v":2013},"",""]
["Area Outside Region","    Tokanui","..","..",153,"Tokanui",23.700234420000001,6.4556323489731957,{"$f":"ROWS($A$3:A2016)","v":2014},"",""]
["Area Outside Region","    Toko","..","..",558,"Toko",228.452236459999,2.4425236918076894,{"$f":"ROWS($A$3:A2017)","v":2015},"",""]
["Area Outside Region","    Tokomaru","..","..",609,"Tokomaru",1144.92720657,0.53191154555970122,{"$f":"ROWS($A$3:A2018)","v":2016},"",""]
["Area Outside Region","    Tokorangi","..","..",807,"Tokorangi",271.13390378000003,2.9763891153015138,{"$f":"ROWS($A$3:A2019)","v":2017},"",""]
["Area Outside Region","    Tokoroa Central","..","..",441,"Tokoroa Central",4.7020595199999997,93.788689429435379,{"$f":"ROWS($A$3:A2020)","v":2018},"",""]
["Area Outside Region","    Tomoana","..","..",96,"Tomoana",3.26579693,29.395581555648043,{"$f":"ROWS($A$3:A2021)","v":2019},"",""]
["Area Outside Region","    Tomoana Crossing","..","..",945,"Tomoana Crossing",0.83807275999999997,1127.5870605793225,{"$f":"ROWS($A$3:A2022)","v":2020},"",""]
["Area Outside Region","    Torbay","..","..",1614,"Torbay",1.4338759400000001,1125.620393630428,{"$f":"ROWS($A$3:A2023)","v":2021},"",""]
["Area Outside Region","    Torlesse","..","..",522,"Torlesse",413.95533743999903,1.2610056032328887,{"$f":"ROWS($A$3:A2024)","v":2022},"",""]
["Area Outside Region","    Totara Heights","..","..",813,"Totara Heights",0.85465897000000002,951.25661642561363,{"$f":"ROWS($A$3:A2025)","v":2023},"",""]
["Area Outside Region","    Totara Park","..","..",1083,"Totara Park",1.7240948599999999,628.15569208297507,{"$f":"ROWS($A$3:A2026)","v":2024},"",""]
["Area Outside Region","    Totara Vale North","..","..",1008,"Totara Vale North",0.86679242999999995,1162.9081716830408,{"$f":"ROWS($A$3:A2027)","v":2025},"",""]
["Area Outside Region","    Totara Vale South","..","..",1326,"Totara Vale South",0.89613969999999998,1479.6800097127714,{"$f":"ROWS($A$3:A2028)","v":2026},"",""]
["Area Outside Region","    Totora-Kopu","..","..",363,"Totora-Kopu",8.3894921599999996,43.268411612652372,{"$f":"ROWS($A$3:A2029)","v":2027},"",""]
["Area Outside Region","    Towai","..","..",0,"Towai",5.0073611400000004,0,{"$f":"ROWS($A$3:A2030)","v":2028},"",""]
["Area Outside Region","    Tower Junction","..","..",18,"Tower Junction",1.07287164,16.777403119724553,{"$f":"ROWS($A$3:A2031)","v":2029},"",""]
["Area Outside Region","    Travis Wetlands","..","..",942,"Travis Wetlands",2.5493597800000001,369.50453497779745,{"$f":"ROWS($A$3:A2032)","v":2030},"",""]
["Area Outside Region","    Tremaine","..","..",168,"Tremaine",4.4015915300000001,38.168012378013643,{"$f":"ROWS($A$3:A2033)","v":2031},"",""]
["Area Outside Region","    Trentham North","..","..",1299,"Trentham North",1.0239590300000001,1268.6054441064891,{"$f":"ROWS($A$3:A2034)","v":2032},"",""]
["Area Outside Region","    Trentham South","..","..",486,"Trentham South",8.12381624,59.82410060028635,{"$f":"ROWS($A$3:A2035)","v":2033},"",""]
["Area Outside Region","    Trents","..","..",720,"Trents",49.95590515,14.412710526174902,{"$f":"ROWS($A$3:A2036)","v":2034},"",""]
["Area Outside Region","    Trident","..","..",1371,"Trident",1.8298681400000001,749.23431368120328,{"$f":"ROWS($A$3:A2037)","v":2035},"",""]
["Area Outside Region","    Tuahiwi","..","..",336,"Tuahiwi",22.70498482,14.798512426400292,{"$f":"ROWS($A$3:A2038)","v":2036},"",""]
["Area Outside Region","    Tuakau North","..","..",1128,"Tuakau North",2.6947835800000002,418.5864899770541,{"$f":"ROWS($A$3:A2039)","v":2037},"",""]
["Area Outside Region","    Tuakau Rural","..","..",579,"Tuakau Rural",46.000822059999898,12.586731585900734,{"$f":"ROWS($A$3:A2040)","v":2038},"",""]
["Area Outside Region","    Tuakau South","..","..",630,"Tuakau South",2.6591573899999998,236.91715367024591,{"$f":"ROWS($A$3:A2041)","v":2039},"",""]
["Area Outside Region","    Tuamarina","..","..",543,"Tuamarina",167.775426229999,3.2364692029189981,{"$f":"ROWS($A$3:A2042)","v":2040},"",""]
["Area Outside Region","    Tuapeka","..","..",684,"Tuapeka",1235.2467118500001,0.55373553593645208,{"$f":"ROWS($A$3:A2043)","v":2041},"",""]
["Area Outside Region","    Tui Ridge","..","..",648,"Tui Ridge",220.92268289,2.9331528638127522,{"$f":"ROWS($A$3:A2044)","v":2042},"",""]
["Area Outside Region","    Turakina","..","..",564,"Turakina",276.63551645000001,2.0387837658652161,{"$f":"ROWS($A$3:A2045)","v":2043},"",""]
["Area Outside Region","    Turanga","..","..",1083,"Turanga",84.962333509999894,12.746825037150529,{"$f":"ROWS($A$3:A2046)","v":2044},"",""]
["Area Outside Region","    Turangi","..","..",2028,"Turangi",7.5323699299999998,269.23797142820359,{"$f":"ROWS($A$3:A2047)","v":2045},"",""]
["Area Outside Region","    Turitea","..","..",48,"Turitea",9.6466987399999997,4.9757954813047265,{"$f":"ROWS($A$3:A2048)","v":2046},"",""]
["Area Outside Region","    Turnbull Thompson Park","..","..",753,"Turnbull Thompson Park",1.4898838700000001,505.40851885321769,{"$f":"ROWS($A$3:A2049)","v":2047},"",""]
["Area Outside Region","    Turuturu","..","..",765,"Turuturu",4.3329283500000004,176.55496195777155,{"$f":"ROWS($A$3:A2050)","v":2048},"",""]
["Area Outside Region","    Tuscany Heights","..","..",429,{"$f":"TRIM(B2051)","v":"Tuscany Heights"},6.6289287999999997,{"$f":"E2051/G2051","v":64.716338482923518},{"$f":"ROWS($A$3:A2051)","v":2049},{"$f":"IF(A2051=$M$2,I2052,\"\")","v":""},""]
["Area Outside Region","    Twizel","..","..",1506,"Twizel",21.071639829999899,71.470469889860837,{"$f":"ROWS($A$3:A2052)","v":2050},"",{"$f":"IFERROR(SMALL($J$3:$J$4612,I2052)-1,\"\")","v":""}]
["Area Outside Region","    Twyford","..","..",285,"Twyford",26.008846470000002,10.957810079302606,{"$f":"ROWS($A$3:A2053)","v":2051},"",""]
["Area Outside Region","    Unsworth Heights East","..","..",1203,"Unsworth Heights East",1.1080749599999999,1085.6666231317058,{"$f":"ROWS($A$3:A2054)","v":2052},"",""]
["Area Outside Region","    Unsworth Heights West","..","..",774,"Unsworth Heights West",0.74886125000000003,1033.5693027246368,{"$f":"ROWS($A$3:A2055)","v":2053},"",""]
["Area Outside Region","    Upper Aramoho","..","..",921,"Upper Aramoho",1.56170695,589.73932337305666,{"$f":"ROWS($A$3:A2056)","v":2054},"",""]
["Area Outside Region","    Upper Clutha Valley","..","..",516,"Upper Clutha Valley",161.066449879999,3.2036466960340952,{"$f":"ROWS($A$3:A2057)","v":2055},"",""]
["Area Outside Region","    Upper Hurunui","..","..",714,"Upper Hurunui",1004.95957693,0.71047633794501697,{"$f":"ROWS($A$3:A2058)","v":2056},"",""]
["Area Outside Region","    Upper Hutt Central","..","..",237,"Upper Hutt Central",2.2358949400000001,105.99782474573693,{"$f":"ROWS($A$3:A2059)","v":2057},"",""]
["Area Outside Region","    Upper Moutere","..","..",843,"Upper Moutere",445.96586432999902,1.8902792061596214,{"$f":"ROWS($A$3:A2060)","v":2058},"",""]
["Area Outside Region","    Upper Plain","..","..",486,"Upper Plain",85.228719620000007,5.7023031927133854,{"$f":"ROWS($A$3:A2061)","v":2059},"",""]
["Area Outside Region","    Upper Riccarton","..","..",531,"Upper Riccarton",0.52083977000000004,1019.5074005197414,{"$f":"ROWS($A$3:A2062)","v":2060},"",""]
["Area Outside Region","    Upper Vogeltown","..","..",1155,"Upper Vogeltown",2.4631440499999999,468.91289204137291,{"$f":"ROWS($A$3:A2063)","v":2061},"",""]
["Area Outside Region","    Upper Wairau","..","..",915,"Upper Wairau",4177.4314745800002,0.21903411356184946,{"$f":"ROWS($A$3:A2064)","v":2062},"",""]
["Area Outside Region","    Upper Whanganui","..","..",579,"Upper Whanganui",1849.8870206500001,0.31299208737437118,{"$f":"ROWS($A$3:A2065)","v":2063},"",""]
["Area Outside Region","    Utuhina","..","..",564,"Utuhina",0.67136794,840.07586063761107,{"$f":"ROWS($A$3:A2066)","v":2064},"",""]
["Area Outside Region","    Victoria","..","..",1029,"Victoria",0.51768217000000005,1987.7060861493451,{"$f":"ROWS($A$3:A2067)","v":2065},"",""]
["Area Outside Region","    Victoria Park","..","..",1329,"Victoria Park",0.44829837,2964.5434579652833,{"$f":"ROWS($A$3:A2068)","v":2066},"",""]
["Area Outside Region","    Victory","..","..",591,"Victory",0.63007159999999995,937.98863494244154,{"$f":"ROWS($A$3:A2069)","v":2067},"",""]
["Area Outside Region","    Vipond","..","..",1197,"Vipond",1.3811381899999999,866.67649093100533,{"$f":"ROWS($A$3:A2070)","v":2068},"",""]
["Area Outside Region","    Vivian East","..","..",1248,"Vivian East",0.2863658,4358.0623105133363,{"$f":"ROWS($A$3:A2071)","v":2069},"",""]
["Area Outside Region","    Vivian West","..","..",1503,"Vivian West",0.3700175,4061.9700419574751,{"$f":"ROWS($A$3:A2072)","v":2070},"",""]
["Area Outside Region","    Wadestown","..","..",1500,"Wadestown",1.4366113700000001,1044.1237145436207,{"$f":"ROWS($A$3:A2073)","v":2071},"",""]
["Area Outside Region","    Waerenga","..","..",378,"Waerenga",261.72617739999902,1.4442575204172199,{"$f":"ROWS($A$3:A2074)","v":2072},"",""]
["Area Outside Region","    Waharoa-Peria","..","..",513,"Waharoa-Peria",74.203161069999894,6.9134521036921743,{"$f":"ROWS($A$3:A2075)","v":2073},"",""]
["Area Outside Region","    Waiake","..","..",1374,"Waiake",1.24892146,1100.1492439724752,{"$f":"ROWS($A$3:A2076)","v":2074},"",""]
["Area Outside Region","    Waianiwa","..","..",465,"Waianiwa",228.59097718999899,2.0342010245378312,{"$f":"ROWS($A$3:A2077)","v":2075},"",""]
["Area Outside Region","    Waiatarua","..","..",789,"Waiatarua",11.28314106,69.927336351141918,{"$f":"ROWS($A$3:A2078)","v":2076},"",""]
["Area Outside Region","    Waiau","..","..",168,"Waiau",36.092990100000002,4.6546434511115775,{"$f":"ROWS($A$3:A2079)","v":2077},"",""]
["Area Outside Region","    Waiheke East","..","..",738,"Waiheke East",87.580628439999899,8.4265209458458283,{"$f":"ROWS($A$3:A2080)","v":2078},"",""]
["Area Outside Region","    Waihemo","..","..",948,"Waihemo",1312.31794184,0.72238591714353151,{"$f":"ROWS($A$3:A2081)","v":2079},"",""]
["Area Outside Region","    Waihi Beach-Bowentown","..","..",2535,"Waihi Beach-Bowentown",6.3127927000000001,401.56553849772382,{"$f":"ROWS($A$3:A2082)","v":2080},"",""]
["Area Outside Region","    Waihi East","..","..",636,"Waihi East",4.0778932599999997,155.96288560039457,{"$f":"ROWS($A$3:A2083)","v":2081},"",""]
["Area Outside Region","    Waihi North","..","..",771,"Waihi North",2.63486749,292.61433560744263,{"$f":"ROWS($A$3:A2084)","v":2082},"",""]
["Area Outside Region","    Waihi Rural","..","..",1365,"Waihi Rural",375.75229172000002,3.6327123748247407,{"$f":"ROWS($A$3:A2085)","v":2083},"",""]
["Area Outside Region","    Waihi South","..","..",1068,"Waihi South",2.6947887499999998,396.32049079913963,{"$f":"ROWS($A$3:A2086)","v":2084},"",""]
["Area Outside Region","    Waihou-Manawaru","..","..",471,"Waihou-Manawaru",140.78796695,3.3454563639467345,{"$f":"ROWS($A$3:A2087)","v":2085},"",""]
["Area Outside Region","    Waikaka","..","..",657,"Waikaka",586.99832927,1.1192536115342187,{"$f":"ROWS($A$3:A2088)","v":2086},"",""]
["Area Outside Region","    Waikanae Beach","..","..",2103,"Waikanae Beach",4.3655840000000001,481.72249119476339,{"$f":"ROWS($A$3:A2089)","v":2087},"",""]
["Area Outside Region","    Waikanae East","..","..",1032,"Waikanae East",3.19398406,323.10743592126755,{"$f":"ROWS($A$3:A2090)","v":2088},"",""]
["Area Outside Region","    Waikanae Park","..","..",1014,"Waikanae Park",7.3600188299999996,137.77138665282465,{"$f":"ROWS($A$3:A2091)","v":2089},"",""]
["Area Outside Region","    Waikanae West","..","..",2124,"Waikanae West",4.6744318099999997,454.38677604754707,{"$f":"ROWS($A$3:A2092)","v":2090},"",""]
["Area Outside Region","    Waikawa (Horowhenua District)","..","..",681,"Waikawa (Horowhenua District)",62.1780651199999,10.952415432768955,{"$f":"ROWS($A$3:A2093)","v":2091},"",""]
["Area Outside Region","    Waikawa (Marlborough District)","..","..",807,"Waikawa (Marlborough District)",3.8563024600000002,209.26781764934483,{"$f":"ROWS($A$3:A2094)","v":2092},"",""]
["Area Outside Region","    Waikouaiti","..","..",681,"Waikouaiti",7.3271488099999997,92.942018465706582,{"$f":"ROWS($A$3:A2095)","v":2093},"",""]
["Area Outside Region","    Waikoukou Valley","..","..",603,"Waikoukou Valley",52.8545830999999,11.40866060487385,{"$f":"ROWS($A$3:A2096)","v":2094},"",""]
["Area Outside Region","    Waikowhai North","..","..",945,"Waikowhai North",0.69810773999999998,1353.6592503615559,{"$f":"ROWS($A$3:A2097)","v":2095},"",""]
["Area Outside Region","    Waikowhai South","..","..",651,"Waikowhai South",1.3568467900000001,479.78887874289768,{"$f":"ROWS($A$3:A2098)","v":2096},"",""]
["Area Outside Region","    Waikuku","..","..",717,"Waikuku",28.7379721,24.949568379600453,{"$f":"ROWS($A$3:A2099)","v":2097},"",""]
["Area Outside Region","    Waima Forest","..","..",387,"Waima Forest",236.99516982,1.6329446726442991,{"$f":"ROWS($A$3:A2100)","v":2098},"",""]
["Area Outside Region","    Waimairi Beach","..","..",498,"Waimairi Beach",0.58127408999999997,856.73868587536742,{"$f":"ROWS($A$3:A2101)","v":2099},"",""]
["Area Outside Region","    Waimataitai-Maori Hill","..","..",1005,"Waimataitai-Maori Hill",1.4977436500000001,671.00935463822532,{"$f":"ROWS($A$3:A2102)","v":2100},"",""]
["Area Outside Region","    Waimate East","..","..",852,"Waimate East",2.6029303700000002,327.32339282667783,{"$f":"ROWS($A$3:A2103)","v":2101},"",""]
["Area Outside Region","    Waimate North","..","..",264,"Waimate North",4.4642908500000003,59.135931970023861,{"$f":"ROWS($A$3:A2104)","v":2102},"",""]
["Area Outside Region","    Waimate West","..","..",663,"Waimate West",0.92672569999999999,715.42204991185633,{"$f":"ROWS($A$3:A2105)","v":2103},"",""]
["Area Outside Region","    Waimauku","..","..",462,"Waimauku",5.6331431500000004,82.014603161646974,{"$f":"ROWS($A$3:A2106)","v":2104},"",""]
["Area Outside Region","    Waima-Woodlands Park","..","..",921,"Waima-Woodlands Park",3.48409996,264.34373599315444,{"$f":"ROWS($A$3:A2107)","v":2105},"",""]
["Area Outside Region","    Waimea West","..","..",447,"Waimea West",59.16674544,7.5549195189939118,{"$f":"ROWS($A$3:A2108)","v":2106},"",""]
["Area Outside Region","    Waimumu-Kaiwera","..","..",537,"Waimumu-Kaiwera",647.73930342000006,0.82903723328921464,{"$f":"ROWS($A$3:A2109)","v":2107},"",""]
["Area Outside Region","    Waingarara-Waimana","..","..",822,"Waingarara-Waimana",1448.0696223299899,0.56765226431404314,{"$f":"ROWS($A$3:A2110)","v":2108},"",""]
["Area Outside Region","    Wainoni","..","..",1119,"Wainoni",1.50391214,744.05942357776303,{"$f":"ROWS($A$3:A2111)","v":2109},"",""]
["Area Outside Region","    Wainui","..","..",489,"Wainui",86.645806710000002,5.6436660764976558,{"$f":"ROWS($A$3:A2112)","v":2110},"",""]
["Area Outside Region","    Wainui-Okitu","..","..",717,"Wainui-Okitu",5.3488728099999996,134.04693389970512,{"$f":"ROWS($A$3:A2113)","v":2111},"",""]
["Area Outside Region","    Wainuiomata Central","..","..",639,"Wainuiomata Central",1.2629295899999999,505.96644900845189,{"$f":"ROWS($A$3:A2114)","v":2112},"",""]
["Area Outside Region","    Wainuiomata West","..","..",1251,{"$f":"TRIM(B2115)","v":"Wainuiomata West"},2.1067913699999998,{"$f":"E2115/G2115","v":593.79396451581249},{"$f":"ROWS($A$3:A2115)","v":2113},{"$f":"IF(A2115=$M$2,I2116,\"\")","v":""},""]
["Area Outside Region","    Wainui-Waiwera","..","..",732,"Wainui-Waiwera",78.715085400000007,9.2993610599576364,{"$f":"ROWS($A$3:A2116)","v":2114},"",{"$f":"IFERROR(SMALL($J$3:$J$4612,I2116)-1,\"\")","v":""}]
["Area Outside Region","    Waiohewa","..","..",384,"Waiohewa",63.445203720000002,6.052466971257445,{"$f":"ROWS($A$3:A2117)","v":2115},"",""]
["Area Outside Region","    Waiopehu","..","..",576,"Waiopehu",0.75926077999999997,758.63262685582151,{"$f":"ROWS($A$3:A2118)","v":2116},"",""]
["Area Outside Region","    Waiorohi","..","..",930,"Waiorohi",152.658508299999,6.0920286091908977,{"$f":"ROWS($A$3:A2119)","v":2117},"",""]
["Area Outside Region","    Waiotahi","..","..",882,"Waiotahi",141.775487209999,6.2211036432100171,{"$f":"ROWS($A$3:A2120)","v":2118},"",""]
["Area Outside Region","    Waiouru","..","..",291,"Waiouru",5.0106160700000002,58.076690757110832,{"$f":"ROWS($A$3:A2121)","v":2119},"",""]
["Area Outside Region","    Waipa Valley","..","..",570,"Waipa Valley",817.65608004000001,0.69711461079347126,{"$f":"ROWS($A$3:A2122)","v":2120},"",""]
["Area Outside Region","    Waipahihi","..","..",1152,"Waipahihi",2.5551779400000001,450.84922735361437,{"$f":"ROWS($A$3:A2123)","v":2121},"",""]
["Area Outside Region","    Waipaoa","..","..",831,"Waipaoa",2277.7853101199898,0.36482806184935151,{"$f":"ROWS($A$3:A2124)","v":2122},"",""]
["Area Outside Region","    Waipapa","..","..",321,"Waipapa",9.1589972100000008,35.047504944048342,{"$f":"ROWS($A$3:A2125)","v":2123},"",""]
["Area Outside Region","    Waipatukahu","..","..",519,"Waipatukahu",52.058796970000003,9.9694966116693955,{"$f":"ROWS($A$3:A2126)","v":2124},"",""]
["Area Outside Region","    Waipawa","..","..",909,"Waipawa",6.8023241299999997,133.63079774324132,{"$f":"ROWS($A$3:A2127)","v":2125},"",""]
["Area Outside Region","    Waipoua Forest","..","..",789,"Waipoua Forest",277.80801475999903,2.8400908472047668,{"$f":"ROWS($A$3:A2128)","v":2126},"",""]
["Area Outside Region","    Waipu","..","..",1812,"Waipu",136.59458638000001,13.26553304945115,{"$f":"ROWS($A$3:A2129)","v":2127},"",""]
["Area Outside Region","    Waipukurau East","..","..",765,"Waipukurau East",2.26275761,338.0830525634604,{"$f":"ROWS($A$3:A2130)","v":2128},"",""]
["Area Outside Region","    Waipukurau West","..","..",1104,"Waipukurau West",5.7726534599999999,191.24653985378848,{"$f":"ROWS($A$3:A2131)","v":2129},"",""]
["Area Outside Region","    Wairakei","..","..",1470,"Wairakei",12.90936894,113.87078693251755,{"$f":"ROWS($A$3:A2132)","v":2130},"",""]
["Area Outside Region","    Wairakei-Broadlands","..","..",474,"Wairakei-Broadlands",409.99542881999901,1.1561104507048079,{"$f":"ROWS($A$3:A2133)","v":2131},"",""]
["Area Outside Region","    Wairau Valley","..","..",54,"Wairau Valley",2.5637301699999999,21.063059066001475,{"$f":"ROWS($A$3:A2134)","v":2132},"",""]
["Area Outside Region","    Wairoa","..","..",1767,"Wairoa",7.5675798700000003,233.4960489819052,{"$f":"ROWS($A$3:A2135)","v":2133},"",""]
["Area Outside Region","    Waitaha","..","..",297,"Waitaha",1499.9551628300001,0.19800591868335801,{"$f":"ROWS($A$3:A2136)","v":2134},"",""]
["Area Outside Region","    Waitahanui","..","..",450,"Waitahanui",119.87490192,3.7539133946513097,{"$f":"ROWS($A$3:A2137)","v":2135},"",""]
["Area Outside Region","    Waitahora","..","..",255,"Waitahora",538.28181745999905,0.47372954413224189,{"$f":"ROWS($A$3:A2138)","v":2136},"",""]
["Area Outside Region","    Waitakere","..","..",690,"Waitakere",15.29077813,45.125237848180063,{"$f":"ROWS($A$3:A2139)","v":2137},"",""]
["Area Outside Region","    Waitakere Ranges North","..","..",468,"Waitakere Ranges North",86.793049659999895,5.3921368339207705,{"$f":"ROWS($A$3:A2140)","v":2138},"",""]
["Area Outside Region","    Waitakere Ranges South","..","..",582,"Waitakere Ranges South",101.55819574,5.7307044080418992,{"$f":"ROWS($A$3:A2141)","v":2139},"",""]
["Area Outside Region","    Waitangirua","..","..",1095,"Waitangirua",1.22402623,894.58867233588614,{"$f":"ROWS($A$3:A2142)","v":2140},"",""]
["Area Outside Region","    Waitara East","..","..",1173,"Waitara East",2.2741385699999999,515.79970344551168,{"$f":"ROWS($A$3:A2143)","v":2141},"",""]
["Area Outside Region","    Waitara West","..","..",1683,"Waitara West",3.3862320499999998,497.01260136617043,{"$f":"ROWS($A$3:A2144)","v":2142},"",""]
["Area Outside Region","    Waitarere","..","..",1446,"Waitarere",94.70184098,15.26897455251561,{"$f":"ROWS($A$3:A2145)","v":2143},"",""]
["Area Outside Region","    Waitikiri","..","..",909,"Waitikiri",1.8508125900000001,491.13562600090154,{"$f":"ROWS($A$3:A2146)","v":2144},"",""]
["Area Outside Region","    Waitoa-Ngarua","..","..",471,"Waitoa-Ngarua",107.2726301,4.3906819433897706,{"$f":"ROWS($A$3:A2147)","v":2145},"",""]
["Area Outside Region","    Waitohi (Marlborough District)","..","..",1674,"Waitohi (Marlborough District)",5.3114585400000003,315.16766767419779,{"$f":"ROWS($A$3:A2148)","v":2146},"",""]
["Area Outside Region","    Waitohi (Timaru District)","..","..",882,"Waitohi (Timaru District)",371.70673620000002,2.3728383537430227,{"$f":"ROWS($A$3:A2149)","v":2147},"",""]
["Area Outside Region","    Waitohu","..","..",441,"Waitohu",0.73786894000000003,597.66711416257738,{"$f":"ROWS($A$3:A2150)","v":2148},"",""]
["Area Outside Region","    Waitoki","..","..",546,"Waitoki",40.755297759999898,13.397031306587156,{"$f":"ROWS($A$3:A2151)","v":2149},"",""]
["Area Outside Region","    Waiuku Central","..","..",498,"Waiuku Central",1.1313189699999999,440.19415673724632,{"$f":"ROWS($A$3:A2152)","v":2150},"",""]
["Area Outside Region","    Waiuku East","..","..",633,"Waiuku East",0.83262875000000003,760.24278527494994,{"$f":"ROWS($A$3:A2153)","v":2151},"",""]
["Area Outside Region","    Waiwhakaiho-Bell Block South","..","..",39,"Waiwhakaiho-Bell Block South",7.3542756499999999,5.3030375601980602,{"$f":"ROWS($A$3:A2154)","v":2152},"",""]
["Area Outside Region","    Waiwhetu","..","..",1677,"Waiwhetu",1.6797230299999999,998.37888154691791,{"$f":"ROWS($A$3:A2155)","v":2153},"",""]
["Area Outside Region","    Wakari","..","..",1860,"Wakari",2.2062971,843.04149246264251,{"$f":"ROWS($A$3:A2156)","v":2154},"",""]
["Area Outside Region","    Wakatipu Basin","..","..",843,"Wakatipu Basin",59.508274929999899,14.166097084676514,{"$f":"ROWS($A$3:A2157)","v":2155},"",""]
["Area Outside Region","    Wakefield","..","..",891,"Wakefield",9.9804584399999996,89.274456214257839,{"$f":"ROWS($A$3:A2158)","v":2156},"",""]
["Area Outside Region","    Wakefield Rural","..","..",513,"Wakefield Rural",375.73233011999901,1.3653336667519702,{"$f":"ROWS($A$3:A2159)","v":2157},"",""]
["Area Outside Region","    Waldronville","..","..",477,"Waldronville",9.5381792799999996,50.009544379207767,{"$f":"ROWS($A$3:A2160)","v":2158},"",""]
["Area Outside Region","    Wallacetown","..","..",465,"Wallacetown",89.785959109999894,5.1789834915090944,{"$f":"ROWS($A$3:A2161)","v":2159},"",""]
["Area Outside Region","    Wallaceville","..","..",1044,"Wallaceville",0.69902562999999995,1493.5074698190967,{"$f":"ROWS($A$3:A2162)","v":2160},"",""]
["Area Outside Region","    Waltham","..","..",990,"Waltham",0.58805463999999996,1683.5170282815898,{"$f":"ROWS($A$3:A2163)","v":2161},"",""]
["Area Outside Region","    Wanaka Central","..","..",897,"Wanaka Central",7.5623568299999997,118.61381579371997,{"$f":"ROWS($A$3:A2164)","v":2162},"",""]
["Area Outside Region","    Wanaka North","..","..",1275,"Wanaka North",7.7682806299999996,164.12898306944919,{"$f":"ROWS($A$3:A2165)","v":2163},"",""]
["Area Outside Region","    Wanaka Waterfront","..","..",1545,"Wanaka Waterfront",3.89203944,396.96411709538074,{"$f":"ROWS($A$3:A2166)","v":2164},"",""]
["Area Outside Region","    Wanaka West","..","..",1248,"Wanaka West",4.4240265599999997,282.09595559028475,{"$f":"ROWS($A$3:A2167)","v":2165},"",""]
["Area Outside Region","    Warkworth East","..","..",1320,"Warkworth East",4.2186340199999997,312.89749092764396,{"$f":"ROWS($A$3:A2168)","v":2166},"",""]
["Area Outside Region","    Warkworth West","..","..",1053,"Warkworth West",11.35975247,92.695681774833602,{"$f":"ROWS($A$3:A2169)","v":2167},"",""]
["Area Outside Region","    Warren Park","..","..",534,"Warren Park",0.94256382000000005,566.53988692245787,{"$f":"ROWS($A$3:A2170)","v":2168},"",""]
["Area Outside Region","    Warwick","..","..",732,"Warwick",0.82135100000000005,891.21459643928108,{"$f":"ROWS($A$3:A2171)","v":2169},"",""]
["Area Outside Region","    Washdyke","..","..",447,"Washdyke",10.6574112,41.942643631879378,{"$f":"ROWS($A$3:A2172)","v":2170},"",""]
["Area Outside Region","    Washington","..","..",1107,"Washington",1.12496894,984.02716789674207,{"$f":"ROWS($A$3:A2173)","v":2171},"",""]
["Area Outside Region","    Waterloo East","..","..",1230,"Waterloo East",1.08141639,1137.3972240239489,{"$f":"ROWS($A$3:A2174)","v":2172},"",""]
["Area Outside Region","    Waterloo West","..","..",909,"Waterloo West",0.72699776999999999,1250.3477142715308,{"$f":"ROWS($A$3:A2175)","v":2173},"",""]
["Area Outside Region","    Waterview","..","..",1269,"Waterview",1.1158850600000001,1137.2138990730818,{"$f":"ROWS($A$3:A2176)","v":2174},"",""]
["Area Outside Region","    Watlington","..","..",969,"Watlington",1.2071993299999999,802.68434211274791,{"$f":"ROWS($A$3:A2177)","v":2175},"",""]
["Area Outside Region","    Wattle Downs East","..","..",753,"Wattle Downs East",1.01653039,740.75503045216385,{"$f":"ROWS($A$3:A2178)","v":2176},"",""]
["Area Outside Region","    Wattle Downs North","..","..",600,{"$f":"TRIM(B2179)","v":"Wattle Downs North"},0.55995068999999997,{"$f":"E2179/G2179","v":1071.5229228487958},{"$f":"ROWS($A$3:A2179)","v":2177},{"$f":"IF(A2179=$M$2,I2180,\"\")","v":""},""]
["Area Outside Region","    Wattle Downs West","..","..",1329,"Wattle Downs West",1.47727217,899.6311085993043,{"$f":"ROWS($A$3:A2180)","v":2178},"",{"$f":"IFERROR(SMALL($J$3:$J$4612,I2180)-1,\"\")","v":""}]
["Area Outside Region","    Waverley","..","..",1125,"Waverley",2.1469865600000002,523.99023867201106,{"$f":"ROWS($A$3:A2181)","v":2179},"",""]
["Area Outside Region","    Welbourn","..","..",1311,"Welbourn",6.4944500500000002,201.86466750945294,{"$f":"ROWS($A$3:A2182)","v":2180},"",""]
["Area Outside Region","    Welcome Bay East","..","..",903,"Welcome Bay East",3.6911661200000001,244.63813619962463,{"$f":"ROWS($A$3:A2183)","v":2181},"",""]
["Area Outside Region","    Welcome Bay South","..","..",1188,"Welcome Bay South",3.1081598100000001,382.21972891413196,{"$f":"ROWS($A$3:A2184)","v":2182},"",""]
["Area Outside Region","    Welcome Bay West","..","..",981,"Welcome Bay West",1.1137349299999999,880.81999906387068,{"$f":"ROWS($A$3:A2185)","v":2183},"",""]
["Area Outside Region","    Wellington Botanic Gardens","..","..",312,"Wellington Botanic Gardens",0.52539955999999999,593.83376719995726,{"$f":"ROWS($A$3:A2186)","v":2184},"",""]
["Area Outside Region","    Wellington Central","..","..",1467,"Wellington Central",0.56013922999999999,2618.9917103288767,{"$f":"ROWS($A$3:A2187)","v":2185},"",""]
["Area Outside Region","    Wellington University","..","..",438,"Wellington University",0.41698538000000002,1050.3965390824974,{"$f":"ROWS($A$3:A2188)","v":2186},"",""]
["Area Outside Region","    Wellsford","..","..",759,"Wellsford",4.55282827,166.70956051676424,{"$f":"ROWS($A$3:A2189)","v":2187},"",""]
["Area Outside Region","    Wembley Park","..","..",708,"Wembley Park",1.53593018,460.95845320260588,{"$f":"ROWS($A$3:A2190)","v":2188},"",""]
["Area Outside Region","    Wesley East","..","..",639,"Wesley East",0.60703951,1052.6497690405688,{"$f":"ROWS($A$3:A2191)","v":2189},"",""]
["Area Outside Region","    Wesley South","..","..",9,"Wesley South",0.68276864000000004,13.181624744803743,{"$f":"ROWS($A$3:A2192)","v":2190},"",""]
["Area Outside Region","    Wesley West","..","..",921,"Wesley West",0.75674571000000002,1217.0534802238919,{"$f":"ROWS($A$3:A2193)","v":2191},"",""]
["Area Outside Region","    West End","..","..",1239,"West End",1.1675772799999999,1061.1717281788833,{"$f":"ROWS($A$3:A2194)","v":2192},"",""]
["Area Outside Region","    West Eyreton","..","..",531,"West Eyreton",114.8871642,4.621926249964833,{"$f":"ROWS($A$3:A2195)","v":2193},"",""]
["Area Outside Region","    West Harbour Clearwater Cove","..","..",1464,"West Harbour Clearwater Cove",1.3574645299999999,1078.4812182164349,{"$f":"ROWS($A$3:A2196)","v":2194},"",""]
["Area Outside Region","    West Harbour Luckens Point","..","..",882,"West Harbour Luckens Point",0.98378429999999994,896.53799110231796,{"$f":"ROWS($A$3:A2197)","v":2195},"",""]
["Area Outside Region","    West Harbour West","..","..",1353,"West Harbour West",1.96049692,690.13115307521116,{"$f":"ROWS($A$3:A2198)","v":2196},"",""]
["Area Outside Region","    West Lynn","..","..",1092,"West Lynn",1.22670754,890.18772966863799,{"$f":"ROWS($A$3:A2199)","v":2197},"",""]
["Area Outside Region","    West Melton","..","..",726,"West Melton",5.3195582200000002,136.47749868973142,{"$f":"ROWS($A$3:A2200)","v":2198},"",""]
["Area Outside Region","    West Otago","..","..",1056,"West Otago",1374.56180801,0.76824482816731765,{"$f":"ROWS($A$3:A2201)","v":2199},"",""]
["Area Outside Region","    West Plains-Makarewa","..","..",651,"West Plains-Makarewa",87.866464359999895,7.4089700176482758,{"$f":"ROWS($A$3:A2202)","v":2200},"",""]
["Area Outside Region","    Westbrook","..","..",1086,"Westbrook",1.1291154299999999,961.8148606825788,{"$f":"ROWS($A$3:A2203)","v":2201},"",""]
["Area Outside Region","    Western Heights (Auckland)","..","..",1341,"Western Heights (Auckland)",1.35847366,987.13728464930261,{"$f":"ROWS($A$3:A2204)","v":2202},"",""]
["Area Outside Region","    Western Heights (Hamilton City)","..","..",990,"Western Heights (Hamilton City)",1.0715211600000001,923.92015851558165,{"$f":"ROWS($A$3:A2205)","v":2203},"",""]
["Area Outside Region","    Western Heights (Rotorua District)","..","..",786,"Western Heights (Rotorua District)",1.02788371,764.67794202128175,{"$f":"ROWS($A$3:A2206)","v":2204},"",""]
["Area Outside Region","    Westgate Central","..","..",18,"Westgate Central",1.8634158000000001,9.659679820252677,{"$f":"ROWS($A$3:A2207)","v":2205},"",""]
["Area Outside Region","    Westgate South","..","..",648,"Westgate South",1.70943132,379.07343361416827,{"$f":"ROWS($A$3:A2208)","v":2206},"",""]
["Area Outside Region","    Westlake","..","..",1191,"Westlake",0.68702660999999998,1733.5573071907652,{"$f":"ROWS($A$3:A2209)","v":2207},"",""]
["Area Outside Region","    Westland Glaciers-Bruce Bay","..","..",747,"Westland Glaciers-Bruce Bay",3057.4179289099902,0.24432381093098232,{"$f":"ROWS($A$3:A2210)","v":2208},"",""]
["Area Outside Region","    Westmere North","..","..",813,"Westmere North",0.64508193999999996,1260.3050086939343,{"$f":"ROWS($A$3:A2211)","v":2209},"",""]
["Area Outside Region","    Westmere South-Western Springs","..","..",1125,"Westmere South-Western Springs",2.0214735400000001,556.52472205992854,{"$f":"ROWS($A$3:A2212)","v":2210},"",""]
["Area Outside Region","    Westmorland","..","..",849,"Westmorland",5.5576646800000002,152.76200506576802,{"$f":"ROWS($A$3:A2213)","v":2211},"",""]
["Area Outside Region","    Weston","..","..",438,"Weston",3.3064339399999998,132.46900072650476,{"$f":"ROWS($A$3:A2214)","v":2212},"",""]
["Area Outside Region","    Westown","..","..",1944,"Westown",2.3744063400000002,818.73096750575553,{"$f":"ROWS($A$3:A2215)","v":2213},"",""]
["Area Outside Region","    Westport North","..","..",1041,"Westport North",8.6581032199999903,120.23418681303284,{"$f":"ROWS($A$3:A2216)","v":2214},"",""]
["Area Outside Region","    Westport Rural","..","..",609,"Westport Rural",88.758125419999899,6.8613436473363576,{"$f":"ROWS($A$3:A2217)","v":2215},"",""]
["Area Outside Region","    Westport South","..","..",1302,"Westport South",2.8733482100000001,453.12990450259417,{"$f":"ROWS($A$3:A2218)","v":2216},"",""]
["Area Outside Region","    Westshore","..","..",597,"Westshore",0.93240953999999998,640.27658919062537,{"$f":"ROWS($A$3:A2219)","v":2217},"",""]
["Area Outside Region","    Weymouth East","..","..",840,"Weymouth East",0.98724325000000002,850.85413346710652,{"$f":"ROWS($A$3:A2220)","v":2218},"",""]
["Area Outside Region","    Weymouth North","..","..",1197,"Weymouth North",1.0188508999999999,1174.8529642561048,{"$f":"ROWS($A$3:A2221)","v":2219},"",""]
["Area Outside Region","    Weymouth South","..","..",1044,"Weymouth South",1.0583023,986.48561946808582,{"$f":"ROWS($A$3:A2222)","v":2220},"",""]
["Area Outside Region","    Whakaki","..","..",306,"Whakaki",183.45604291999899,1.667974492033711,{"$f":"ROWS($A$3:A2223)","v":2221},"",""]
["Area Outside Region","    Whakapaku","..","..",522,"Whakapaku",200.87343203,2.5986512737136906,{"$f":"ROWS($A$3:A2224)","v":2222},"",""]
["Area Outside Region","    Whakarara","..","..",735,"Whakarara",169.49143734,4.3365022536542019,{"$f":"ROWS($A$3:A2225)","v":2223},"",""]
["Area Outside Region","    Whakarongo","..","..",618,"Whakarongo",51.730699299999898,11.94648455100241,{"$f":"ROWS($A$3:A2226)","v":2224},"",""]
["Area Outside Region","    Whakatane Central","..","..",1467,"Whakatane Central",2.5948572799999998,565.34901218151003,{"$f":"ROWS($A$3:A2227)","v":2225},"",""]
["Area Outside Region","    Whakatane West","..","..",1146,"Whakatane West",1.84065576,622.60419623493317,{"$f":"ROWS($A$3:A2228)","v":2226},"",""]
["Area Outside Region","    Whalers Gate","..","..",1008,"Whalers Gate",2.0853344300000001,483.37570487434954,{"$f":"ROWS($A$3:A2229)","v":2227},"",""]
["Area Outside Region","    Whangamata","..","..",4743,"Whangamata",8.4599032899999997,560.64470684983451,{"$f":"ROWS($A$3:A2230)","v":2228},"",""]
["Area Outside Region","    Whangamata Rural","..","..",588,"Whangamata Rural",153.639122869999,3.8271502011732608,{"$f":"ROWS($A$3:A2231)","v":2229},"",""]
["Area Outside Region","    Whangamomona","..","..",99,"Whangamomona",689.59996202000002,0.14356149282550101,{"$f":"ROWS($A$3:A2232)","v":2230},"",""]
["Area Outside Region","    Whanganui Central","..","..",336,"Whanganui Central",2.43776167,137.83135740254707,{"$f":"ROWS($A$3:A2233)","v":2231},"",""]
["Area Outside Region","    Whanganui East-Riverlands","..","..",1026,"Whanganui East-Riverlands",1.49505211,686.26370488183181,{"$f":"ROWS($A$3:A2234)","v":2232},"",""]
["Area Outside Region","    Whanganui East-Williams Domain","..","..",999,"Whanganui East-Williams Domain",1.3771906599999999,725.38975830695813,{"$f":"ROWS($A$3:A2235)","v":2233},"",""]
["Area Outside Region","    Whangaparoa Central","..","..",1539,"Whangaparoa Central",3.6915778000000001,416.89491143868077,{"$f":"ROWS($A$3:A2236)","v":2234},"",""]
["Area Outside Region","    Whangarei Central","..","..",447,"Whangarei Central",2.8129937100000002,158.9054388607218,{"$f":"ROWS($A$3:A2237)","v":2235},"",""]
["Area Outside Region","    Whangaruru","..","..",1641,"Whangaruru",469.35201031000003,3.4963097290584608,{"$f":"ROWS($A$3:A2238)","v":2236},"",""]
["Area Outside Region","    Whareama","..","..",1320,"Whareama",1596.0274078100001,0.82705346633817967,{"$f":"ROWS($A$3:A2239)","v":2237},"",""]
["Area Outside Region","    Wharekaka","..","..",867,"Wharekaka",1198.04336999,0.72367997830265263,{"$f":"ROWS($A$3:A2240)","v":2238},"",""]
["Area Outside Region","    Wharenui","..","..",903,"Wharenui",0.83895558000000003,1076.3382728797155,{"$f":"ROWS($A$3:A2241)","v":2239},"",""]
["Area Outside Region","    Wharewaka","..","..",744,"Wharewaka",6.4625976200000004,115.12398632053467,{"$f":"ROWS($A$3:A2242)","v":2240},"",""]
["Area Outside Region","    Whataroa-Harihari","..","..",381,{"$f":"TRIM(B2243)","v":"Whataroa-Harihari"},1136.2769332600001,{"$f":"E2243/G2243","v":0.33530558339057698},{"$f":"ROWS($A$3:A2243)","v":2241},{"$f":"IF(A2243=$M$2,I2244,\"\")","v":""},""]
["Area Outside Region","    Whataupoko East","..","..",717,"Whataupoko East",2.5465766200000002,281.55445800016804,{"$f":"ROWS($A$3:A2244)","v":2242},"",{"$f":"IFERROR(SMALL($J$3:$J$4612,I2244)-1,\"\")","v":""}]
["Area Outside Region","    Whataupoko West","..","..",867,"Whataupoko West",1.0957910200000001,791.20925813025917,{"$f":"ROWS($A$3:A2245)","v":2243},"",""]
["Area Outside Region","    Whatawhata East","..","..",942,"Whatawhata East",47.459330700000002,19.848573212179748,{"$f":"ROWS($A$3:A2246)","v":2244},"",""]
["Area Outside Region","    Whatawhata West","..","..",183,"Whatawhata West",49.901880660000003,3.6671964579220329,{"$f":"ROWS($A$3:A2247)","v":2245},"",""]
["Area Outside Region","    Whau Valley","..","..",1116,"Whau Valley",7.1802588500000004,155.42615152377132,{"$f":"ROWS($A$3:A2248)","v":2246},"",""]
["Area Outside Region","    Whenuapai","..","..",1587,"Whenuapai",19.680071470000001,80.639951049933856,{"$f":"ROWS($A$3:A2249)","v":2247},"",""]
["Area Outside Region","    Whitby","..","..",1101,"Whitby",2.0439620000000001,538.6597206797386,{"$f":"ROWS($A$3:A2250)","v":2248},"",""]
["Area Outside Region","    Whitestone","..","..",288,"Whitestone",91.16935762,3.1589561176947556,{"$f":"ROWS($A$3:A2251)","v":2249},"",""]
["Area Outside Region","    Whitianga North","..","..",1134,"Whitianga North",12.5136193099999,90.621264072960599,{"$f":"ROWS($A$3:A2252)","v":2250},"",""]
["Area Outside Region","    Whitianga South","..","..",2736,"Whitianga South",4.82697456,566.81467159006536,{"$f":"ROWS($A$3:A2253)","v":2251},"",""]
["Area Outside Region","    Whitikahu","..","..",717,"Whitikahu",253.62687467999899,2.8269874827130952,{"$f":"ROWS($A$3:A2254)","v":2252},"",""]
["Area Outside Region","    Whitiora","..","..",1254,"Whitiora",0.90554718999999995,1384.7980688891544,{"$f":"ROWS($A$3:A2255)","v":2253},"",""]
["Area Outside Region","    Whitney East","..","..",1059,"Whitney East",1.0574710199999999,1001.4458835949945,{"$f":"ROWS($A$3:A2256)","v":2254},"",""]
["Area Outside Region","    Whitney West","..","..",1143,"Whitney West",1.9022000800000001,600.88316261662646,{"$f":"ROWS($A$3:A2257)","v":2255},"",""]
["Area Outside Region","    Wigram East","..","..",279,"Wigram East",0.31243454999999998,892.9870272029774,{"$f":"ROWS($A$3:A2258)","v":2256},"",""]
["Area Outside Region","    Wigram North","..","..",381,"Wigram North",0.76776339000000005,496.24663661027125,{"$f":"ROWS($A$3:A2259)","v":2257},"",""]
["Area Outside Region","    Wigram South","..","..",444,"Wigram South",0.39906993000000002,1112.586959383284,{"$f":"ROWS($A$3:A2260)","v":2258},"",""]
["Area Outside Region","    Wigram West","..","..",468,"Wigram West",0.45878331,1020.0894186843893,{"$f":"ROWS($A$3:A2261)","v":2259},"",""]
["Area Outside Region","    Wilkes Park","..","..",909,"Wilkes Park",0.88157300000000005,1031.1114337666875,{"$f":"ROWS($A$3:A2262)","v":2260},"",""]
["Area Outside Region","    Wilton","..","..",936,"Wilton",1.2581908500000001,743.9252955940666,{"$f":"ROWS($A$3:A2263)","v":2261},"",""]
["Area Outside Region","    Winchmore-Wakanui","..","..",687,"Winchmore-Wakanui",312.07342774,2.2014049865609362,{"$f":"ROWS($A$3:A2264)","v":2262},"",""]
["Area Outside Region","    Windsor","..","..",1563,"Windsor",1.6099192200000001,970.85616506895292,{"$f":"ROWS($A$3:A2265)","v":2263},"",""]
["Area Outside Region","    Windsor Park","..","..",708,"Windsor Park",0.83584179999999997,847.05024323980933,{"$f":"ROWS($A$3:A2266)","v":2264},"",""]
["Area Outside Region","    Wingatui","..","..",342,"Wingatui",6.8224392800000002,50.128698250576441,{"$f":"ROWS($A$3:A2267)","v":2265},"",""]
["Area Outside Region","    Winton","..","..",1113,"Winton",3.0742488300000002,362.03965961987529,{"$f":"ROWS($A$3:A2268)","v":2266},"",""]
["Area Outside Region","    Wiri East","..","..",978,"Wiri East",1.3711003900000001,713.29569091581982,{"$f":"ROWS($A$3:A2269)","v":2267},"",""]
["Area Outside Region","    Wiri West","..","..",108,"Wiri West",8.0408914599999903,13.4313465785795,{"$f":"ROWS($A$3:A2270)","v":2268},"",""]
["Area Outside Region","    Witherlea East","..","..",1161,"Witherlea East",1.37447506,844.6861160216323,{"$f":"ROWS($A$3:A2271)","v":2269},"",""]
["Area Outside Region","    Witherlea West","..","..",1098,"Witherlea West",2.4366775199999999,450.61358796464788,{"$f":"ROWS($A$3:A2272)","v":2270},"",""]
["Area Outside Region","    Woburn","..","..",696,"Woburn",0.62488385999999996,1113.8069720667775,{"$f":"ROWS($A$3:A2273)","v":2271},"",""]
["Area Outside Region","    Woodbourne","..","..",867,"Woodbourne",80.150609360000004,10.81713547685996,{"$f":"ROWS($A$3:A2274)","v":2272},"",""]
["Area Outside Region","    Woodend","..","..",1023,"Woodend",3.48748915,293.33424592876509,{"$f":"ROWS($A$3:A2275)","v":2273},"",""]
["Area Outside Region","    Woodend-Greenhills","..","..",297,"Woodend-Greenhills",173.61136084,1.7107175392381999,{"$f":"ROWS($A$3:A2276)","v":2274},"",""]
["Area Outside Region","    Woodhill-Vinetown","..","..",1212,"Woodhill-Vinetown",1.3852220500000001,874.94997643157637,{"$f":"ROWS($A$3:A2277)","v":2275},"",""]
["Area Outside Region","    Woodlands","..","..",420,"Woodlands",4.4716581599999996,93.924889822078896,{"$f":"ROWS($A$3:A2278)","v":2276},"",""]
["Area Outside Region","    Woodridge","..","..",594,"Woodridge",0.99000507999999998,599.99692122791942,{"$f":"ROWS($A$3:A2279)","v":2277},"",""]
["Area Outside Region","    Woodville","..","..",729,"Woodville",4.0394048199999997,180.4721320305797,{"$f":"ROWS($A$3:A2280)","v":2278},"",""]
["Area Outside Region","    Woolston East","..","..",1389,"Woolston East",1.27549921,1088.9853863570797,{"$f":"ROWS($A$3:A2281)","v":2279},"",""]
["Area Outside Region","    Woolston North","..","..",1434,"Woolston North",1.29547608,1106.9289677660431,{"$f":"ROWS($A$3:A2282)","v":2280},"",""]
["Area Outside Region","    Woolston South","..","..",252,"Woolston South",2.4040182099999998,104.82449714887976,{"$f":"ROWS($A$3:A2283)","v":2281},"",""]
["Area Outside Region","    Woolston West","..","..",495,"Woolston West",0.51495272000000003,961.25329719590559,{"$f":"ROWS($A$3:A2284)","v":2282},"",""]
["Area Outside Region","    Wyndham-Catlins","..","..",1056,"Wyndham-Catlins",1382.23257773,0.76398141457079372,{"$f":"ROWS($A$3:A2285)","v":2283},"",""]
["Area Outside Region","    Wynyard-Viaduct","..","..",948,"Wynyard-Viaduct",0.60002226999999997,1579.9413578432682,{"$f":"ROWS($A$3:A2286)","v":2284},"",""]
["Area Outside Region","    Yaldhurst","..","..",594,"Yaldhurst",12.1066214799999,49.064059777642022,{"$f":"ROWS($A$3:A2287)","v":2285},"",""]
["Area Outside Region","    Yatton Park","..","..",867,"Yatton Park",0.90353744000000003,959.56178639371046,{"$f":"ROWS($A$3:A2288)","v":2286},"",""]
["Area Outside Region","    Yelverton","..","..",1110,"Yelverton",2.4157435700000001,459.48585511499465,{"$f":"ROWS($A$3:A2289)","v":2287},"",""]
["Area Outside Region","  Albert-Eden Local Board Area","..","..",34926,"Albert-Eden Local Board Area",{"$error":"#N/A"},{"$error":"#N/A"},{"$f":"ROWS($A$3:A2290)","v":2288},"",""]
["Area Outside Region","  Area Outside Territorial Authority","..","..",63,"Area Outside Territorial Authority",{"$error":"#N/A"},{"$error":"#N/A"},{"$f":"ROWS($A$3:A2291)","v":2289},"",""]
["Area Outside Region","  Ashburton District","..","..",14811,"Ashburton District",{"$error":"#N/A"},{"$error":"#N/A"},{"$f":"ROWS($A$3:A2292)","v":2290},"",""]
["Area Outside Region","  Auckland","..","..",547059,"Auckland",{"$error":"#N/A"},{"$error":"#N/A"},{"$f":"ROWS($A$3:A2293)","v":2291},"",""]
["Area Outside Region","  Buller District","..","..",5769,"Buller District",{"$error":"#N/A"},{"$error":"#N/A"},{"$f":"ROWS($A$3:A2294)","v":2292},"",""]
["Area Outside Region","  Carterton District","..","..",4188,"Carterton District",{"$error":"#N/A"},{"$error":"#N/A"},{"$f":"ROWS($A$3:A2295)","v":2293},"",""]
["Area Outside Region","  Central Hawke's Bay District","..","..",6396,"Central Hawke's Bay District",{"$error":"#N/A"},{"$error":"#N/A"},{"$f":"ROWS($A$3:A2296)","v":2294},"",""]
["Area Outside Region","  Central Otago District","..","..",11382,"Central Otago District",{"$error":"#N/A"},{"$error":"#N/A"},{"$f":"ROWS($A$3:A2297)","v":2295},"",""]
["Area Outside Region","  Chatham Islands Territory","..","..",360,"Chatham Islands Territory",{"$error":"#N/A"},{"$error":"#N/A"},{"$f":"ROWS($A$3:A2298)","v":2296},"",""]
["Area Outside Region","  Christchurch City","..","..",154293,"Christchurch City",{"$error":"#N/A"},{"$error":"#N/A"},{"$f":"ROWS($A$3:A2299)","v":2297},"",""]
["Area Outside Region","  Clutha District","..","..",8757,"Clutha District",{"$error":"#N/A"},{"$error":"#N/A"},{"$f":"ROWS($A$3:A2300)","v":2298},"",""]
["Area Outside Region","  Devonport-Takapuna Local Board Area","..","..",22635,"Devonport-Takapuna Local Board Area",{"$error":"#N/A"},{"$error":"#N/A"},{"$f":"ROWS($A$3:A2301)","v":2299},"",""]
["Area Outside Region","  Dunedin City","..","..",53091,"Dunedin City",{"$error":"#N/A"},{"$error":"#N/A"},{"$f":"ROWS($A$3:A2302)","v":2300},"",""]
["Area Outside Region","  Franklin Local Board Area","..","..",28281,"Franklin Local Board Area",{"$error":"#N/A"},{"$error":"#N/A"},{"$f":"ROWS($A$3:A2303)","v":2301},"",""]
["Area Outside Region","  Gisborne District","..","..",18684,"Gisborne District",{"$error":"#N/A"},{"$error":"#N/A"},{"$f":"ROWS($A$3:A2304)","v":2302},"",""]
["Area Outside Region","  Gore District","..","..",5613,"Gore District",{"$error":"#N/A"},{"$error":"#N/A"},{"$f":"ROWS($A$3:A2305)","v":2303},"",""]
["Area Outside Region","  Great Barrier Local Board Area","..","..",1164,"Great Barrier Local Board Area",{"$error":"#N/A"},{"$error":"#N/A"},{"$f":"ROWS($A$3:A2306)","v":2304},"",""]
["Area Outside Region","  Grey District","..","..",6651,{"$f":"TRIM(B2307)","v":"Grey District"},{"$error":"#N/A"},{"$f":"E2307/G2307","v":{"$error":"#N/A"}},{"$f":"ROWS($A$3:A2307)","v":2305},{"$f":"IF(A2307=$M$2,I2308,\"\")","v":""},""]
["Area Outside Region","  Hamilton City","..","..",58719,"Hamilton City",{"$error":"#N/A"},{"$error":"#N/A"},{"$f":"ROWS($A$3:A2308)","v":2306},"",{"$f":"IFERROR(SMALL($J$3:$J$4612,I2308)-1,\"\")","v":""}]
["Area Outside Region","  Hastings District","..","..",30870,"Hastings District",{"$error":"#N/A"},{"$error":"#N/A"},{"$f":"ROWS($A$3:A2309)","v":2307},"",""]
["Area Outside Region","  Hauraki District","..","..",9315,"Hauraki District",{"$error":"#N/A"},{"$error":"#N/A"},{"$f":"ROWS($A$3:A2310)","v":2308},"",""]
["Area Outside Region","  Henderson-Massey Local Board Area","..","..",37932,"Henderson-Massey Local Board Area",{"$error":"#N/A"},{"$error":"#N/A"},{"$f":"ROWS($A$3:A2311)","v":2309},"",""]
["Area Outside Region","  Hibiscus and Bays Local Board Area","..","..",40617,"Hibiscus and Bays Local Board Area",{"$error":"#N/A"},{"$error":"#N/A"},{"$f":"ROWS($A$3:A2312)","v":2310},"",""]
["Area Outside Region","  Horowhenua District","..","..",15891,"Horowhenua District",{"$error":"#N/A"},{"$error":"#N/A"},{"$f":"ROWS($A$3:A2313)","v":2311},"",""]
["Area Outside Region","  Howick Local Board Area","..","..",46362,"Howick Local Board Area",{"$error":"#N/A"},{"$error":"#N/A"},{"$f":"ROWS($A$3:A2314)","v":2312},"",""]
["Area Outside Region","  Hurunui District","..","..",7098,"Hurunui District",{"$error":"#N/A"},{"$error":"#N/A"},{"$f":"ROWS($A$3:A2315)","v":2313},"",""]
["Area Outside Region","  Invercargill City","..","..",23229,"Invercargill City",{"$error":"#N/A"},{"$error":"#N/A"},{"$f":"ROWS($A$3:A2316)","v":2314},"",""]
["Area Outside Region","  Kaikoura District","..","..",2352,"Kaikoura District",{"$error":"#N/A"},{"$error":"#N/A"},{"$f":"ROWS($A$3:A2317)","v":2315},"",""]
["Area Outside Region","  Kaipara District","..","..",12345,"Kaipara District",{"$error":"#N/A"},{"$error":"#N/A"},{"$f":"ROWS($A$3:A2318)","v":2316},"",""]
["Area Outside Region","  Kaipatiki Local Board Area","..","..",30807,"Kaipatiki Local Board Area",{"$error":"#N/A"},{"$error":"#N/A"},{"$f":"ROWS($A$3:A2319)","v":2317},"",""]
["Area Outside Region","  Kapiti Coast District","..","..",25065,"Kapiti Coast District",{"$error":"#N/A"},{"$error":"#N/A"},{"$f":"ROWS($A$3:A2320)","v":2318},"",""]
["Area Outside Region","  Kawerau District","..","..",2745,"Kawerau District",{"$error":"#N/A"},{"$error":"#N/A"},{"$f":"ROWS($A$3:A2321)","v":2319},"",""]
["Area Outside Region","  Lower Hutt City","..","..",39687,"Lower Hutt City",{"$error":"#N/A"},{"$error":"#N/A"},{"$f":"ROWS($A$3:A2322)","v":2320},"",""]
["Area Outside Region","  Mackenzie District","..","..",3747,"Mackenzie District",{"$error":"#N/A"},{"$error":"#N/A"},{"$f":"ROWS($A$3:A2323)","v":2321},"",""]
["Area Outside Region","  Manawatu District","..","..",12441,"Manawatu District",{"$error":"#N/A"},{"$error":"#N/A"},{"$f":"ROWS($A$3:A2324)","v":2322},"",""]
["Area Outside Region","  Mangere-Otahuhu Local Board Area","..","..",19113,"Mangere-Otahuhu Local Board Area",{"$error":"#N/A"},{"$error":"#N/A"},{"$f":"ROWS($A$3:A2325)","v":2323},"",""]
["Area Outside Region","  Manurewa Local Board Area","..","..",25011,"Manurewa Local Board Area",{"$error":"#N/A"},{"$error":"#N/A"},{"$f":"ROWS($A$3:A2326)","v":2324},"",""]
["Area Outside Region","  Marlborough District","..","..",22719,"Marlborough District",{"$error":"#N/A"},{"$error":"#N/A"},{"$f":"ROWS($A$3:A2327)","v":2325},"",""]
["Area Outside Region","  Masterton District","..","..",11472,"Masterton District",{"$error":"#N/A"},{"$error":"#N/A"},{"$f":"ROWS($A$3:A2328)","v":2326},"",""]
["Area Outside Region","  Matamata-Piako District","..","..",13965,"Matamata-Piako District",{"$error":"#N/A"},{"$error":"#N/A"},{"$f":"ROWS($A$3:A2329)","v":2327},"",""]
["Area Outside Region","  Maungakiekie-Tamaki Local Board Area","..","..",26268,"Maungakiekie-Tamaki Local Board Area",{"$error":"#N/A"},{"$error":"#N/A"},{"$f":"ROWS($A$3:A2330)","v":2328},"",""]
["Area Outside Region","  Napier City","..","..",25440,"Napier City",{"$error":"#N/A"},{"$error":"#N/A"},{"$f":"ROWS($A$3:A2331)","v":2329},"",""]
["Area Outside Region","  Nelson City","..","..",21534,"Nelson City",{"$error":"#N/A"},{"$error":"#N/A"},{"$f":"ROWS($A$3:A2332)","v":2330},"",""]
["Area Outside Region","  New Plymouth District","..","..",33915,"New Plymouth District",{"$error":"#N/A"},{"$error":"#N/A"},{"$f":"ROWS($A$3:A2333)","v":2331},"",""]
["Area Outside Region","  Opotiki District","..","..",4323,"Opotiki District",{"$error":"#N/A"},{"$error":"#N/A"},{"$f":"ROWS($A$3:A2334)","v":2332},"",""]
["Area Outside Region","  Orakei Local Board Area","..","..",32763,"Orakei Local Board Area",{"$error":"#N/A"},{"$error":"#N/A"},{"$f":"ROWS($A$3:A2335)","v":2333},"",""]
["Area Outside Region","  Otara-Papatoetoe Local Board Area","..","..",21750,"Otara-Papatoetoe Local Board Area",{"$error":"#N/A"},{"$error":"#N/A"},{"$f":"ROWS($A$3:A2336)","v":2334},"",""]
["Area Outside Region","  Otorohanga District","..","..",4302,"Otorohanga District",{"$error":"#N/A"},{"$error":"#N/A"},{"$f":"ROWS($A$3:A2337)","v":2335},"",""]
["Area Outside Region","  Palmerston North City","..","..",32934,"Palmerston North City",{"$error":"#N/A"},{"$error":"#N/A"},{"$f":"ROWS($A$3:A2338)","v":2336},"",""]
["Area Outside Region","  Papakura Local Board Area","..","..",18576,"Papakura Local Board Area",{"$error":"#N/A"},{"$error":"#N/A"},{"$f":"ROWS($A$3:A2339)","v":2337},"",""]
["Area Outside Region","  Porirua City","..","..",18930,"Porirua City",{"$error":"#N/A"},{"$error":"#N/A"},{"$f":"ROWS($A$3:A2340)","v":2338},"",""]
["Area Outside Region","  Puketapapa Local Board Area","..","..",18360,"Puketapapa Local Board Area",{"$error":"#N/A"},{"$error":"#N/A"},{"$f":"ROWS($A$3:A2341)","v":2339},"",""]
["Area Outside Region","  Queenstown-Lakes District","..","..",20403,"Queenstown-Lakes District",{"$error":"#N/A"},{"$error":"#N/A"},{"$f":"ROWS($A$3:A2342)","v":2340},"",""]
["Area Outside Region","  Rangitikei District","..","..",6774,"Rangitikei District",{"$error":"#N/A"},{"$error":"#N/A"},{"$f":"ROWS($A$3:A2343)","v":2341},"",""]
["Area Outside Region","  Rodney Local Board Area","..","..",28005,"Rodney Local Board Area",{"$error":"#N/A"},{"$error":"#N/A"},{"$f":"ROWS($A$3:A2344)","v":2342},"",""]
["Area Outside Region","  Rotorua District","..","..",28875,"Rotorua District",{"$error":"#N/A"},{"$error":"#N/A"},{"$f":"ROWS($A$3:A2345)","v":2343},"",""]
["Area Outside Region","  Ruapehu District","..","..",7341,"Ruapehu District",{"$error":"#N/A"},{"$error":"#N/A"},{"$f":"ROWS($A$3:A2346)","v":2344},"",""]
["Area Outside Region","  Selwyn District","..","..",23403,"Selwyn District",{"$error":"#N/A"},{"$error":"#N/A"},{"$f":"ROWS($A$3:A2347)","v":2345},"",""]
["Area Outside Region","  South Taranaki District","..","..",12075,"South Taranaki District",{"$error":"#N/A"},{"$error":"#N/A"},{"$f":"ROWS($A$3:A2348)","v":2346},"",""]
["Area Outside Region","  South Waikato District","..","..",9732,"South Waikato District",{"$error":"#N/A"},{"$error":"#N/A"},{"$f":"ROWS($A$3:A2349)","v":2347},"",""]
["Area Outside Region","  South Wairarapa District","..","..",5844,"South Wairarapa District",{"$error":"#N/A"},{"$error":"#N/A"},{"$f":"ROWS($A$3:A2350)","v":2348},"",""]
["Area Outside Region","  Southland District","..","..",15840,"Southland District",{"$error":"#N/A"},{"$error":"#N/A"},{"$f":"ROWS($A$3:A2351)","v":2349},"",""]
["Area Outside Region","  Stratford District","..","..",4113,"Stratford District",{"$error":"#N/A"},{"$error":"#N/A"},{"$f":"ROWS($A$3:A2352)","v":2350},"",""]
["Area Outside Region","  Tararua District","..","..",7953,"Tararua District",{"$error":"#N/A"},{"$error":"#N/A"},{"$f":"ROWS($A$3:A2353)","v":2351},"",""]
["Area Outside Region","  Tasman District","..","..",23733,"Tasman District",{"$error":"#N/A"},{"$error":"#N/A"},{"$f":"ROWS($A$3:A2354)","v":2352},"",""]
["Area Outside Region","  Taupo District","..","..",21168,"Taupo District",{"$error":"#N/A"},{"$error":"#N/A"},{"$f":"ROWS($A$3:A2355)","v":2353},"",""]
["Area Outside Region","  Tauranga City","..","..",56472,"Tauranga City",{"$error":"#N/A"},{"$error":"#N/A"},{"$f":"ROWS($A$3:A2356)","v":2354},"",""]
["Area Outside Region","  Thames-Coromandel District","..","..",26148,"Thames-Coromandel District",{"$error":"#N/A"},{"$error":"#N/A"},{"$f":"ROWS($A$3:A2357)","v":2355},"",""]
["Area Outside Region","  Timaru District","..","..",21090,"Timaru District",{"$error":"#N/A"},{"$error":"#N/A"},{"$f":"ROWS($A$3:A2358)","v":2356},"",""]
["Area Outside Region","  Total - Territorial Authority areas","..","..",1886454,"Total - Territorial Authority areas",{"$error":"#N/A"},{"$error":"#N/A"},{"$f":"ROWS($A$3:A2359)","v":2357},"",""]
["Area Outside Region","  Upper Harbour Local Board Area","..","..",22290,"Upper Harbour Local Board Area",{"$error":"#N/A"},{"$error":"#N/A"},{"$f":"ROWS($A$3:A2360)","v":2358},"",""]
["Area Outside Region","  Upper Hutt City","..","..",16833,"Upper Hutt City",{"$error":"#N/A"},{"$error":"#N/A"},{"$f":"ROWS($A$3:A2361)","v":2359},"",""]
["Area Outside Region","  Waiheke Local Board Area","..","..",6045,"Waiheke Local Board Area",{"$error":"#N/A"},{"$error":"#N/A"},{"$f":"ROWS($A$3:A2362)","v":2360},"",""]
["Area Outside Region","  Waikato District","..","..",28104,"Waikato District",{"$error":"#N/A"},{"$error":"#N/A"},{"$f":"ROWS($A$3:A2363)","v":2361},"",""]
["Area Outside Region","  Waimakariri District","..","..",23784,"Waimakariri District",{"$error":"#N/A"},{"$error":"#N/A"},{"$f":"ROWS($A$3:A2364)","v":2362},"",""]
["Area Outside Region","  Waimate District","..","..",3912,"Waimate District",{"$error":"#N/A"},{"$error":"#N/A"},{"$f":"ROWS($A$3:A2365)","v":2363},"",""]
["Area Outside Region","  Waipa District","..","..",21168,"Waipa District",{"$error":"#N/A"},{"$error":"#N/A"},{"$f":"ROWS($A$3:A2366)","v":2364},"",""]
["Area Outside Region","  Wairoa District","..","..",4218,"Wairoa District",{"$error":"#N/A"},{"$error":"#N/A"},{"$f":"ROWS($A$3:A2367)","v":2365},"",""]
["Area Outside Region","  Waitakere Ranges Local Board Area","..","..",18777,"Waitakere Ranges Local Board Area",{"$error":"#N/A"},{"$error":"#N/A"},{"$f":"ROWS($A$3:A2368)","v":2366},"",""]
["Area Outside Region","  Waitaki District","..","..",11643,"Waitaki District",{"$error":"#N/A"},{"$error":"#N/A"},{"$f":"ROWS($A$3:A2369)","v":2367},"",""]
["Area Outside Region","  Waitemata Local Board Area","..","..",41148,"Waitemata Local Board Area",{"$error":"#N/A"},{"$error":"#N/A"},{"$f":"ROWS($A$3:A2370)","v":2368},"",""]
["Area Outside Region","  Waitomo District","..","..",4317,{"$f":"TRIM(B2371)","v":"Waitomo District"},{"$error":"#N/A"},{"$f":"E2371/G2371","v":{"$error":"#N/A"}},{"$f":"ROWS($A$3:A2371)","v":2369},{"$f":"IF(A2371=$M$2,I2372,\"\")","v":""},""]
["Area Outside Region","  Wellington City","..","..",81003,"Wellington City",{"$error":"#N/A"},{"$error":"#N/A"},{"$f":"ROWS($A$3:A2372)","v":2370},"",{"$f":"IFERROR(SMALL($J$3:$J$4612,I2372)-1,\"\")","v":""}]
["Area Outside Region","  Western Bay of Plenty District","..","..",22305,"Western Bay of Plenty District",{"$error":"#N/A"},{"$error":"#N/A"},{"$f":"ROWS($A$3:A2373)","v":2371},"",""]
["Area Outside Region","  Westland District","..","..",5124,"Westland District",{"$error":"#N/A"},{"$error":"#N/A"},{"$f":"ROWS($A$3:A2374)","v":2372},"",""]
["Area Outside Region","  Whakatane District","..","..",14505,"Whakatane District",{"$error":"#N/A"},{"$error":"#N/A"},{"$f":"ROWS($A$3:A2375)","v":2373},"",""]
["Area Outside Region","  Whanganui District","..","..",19875,"Whanganui District",{"$error":"#N/A"},{"$error":"#N/A"},{"$f":"ROWS($A$3:A2376)","v":2374},"",""]
["Area Outside Region","  Whangarei District","..","..",38451,"Whangarei District",{"$error":"#N/A"},{"$error":"#N/A"},{"$f":"ROWS($A$3:A2377)","v":2375},"",""]
["Area Outside Region","  Whau Local Board Area","..","..",26232,"Whau Local Board Area",{"$error":"#N/A"},{"$error":"#N/A"},{"$f":"ROWS($A$3:A2378)","v":2376},"",""]
["Auckland Region","    Akoranga","..","..",480,"Akoranga",1.1629108100000001,412.75736356771847,{"$f":"ROWS($A$3:A2379)","v":2377},"",""]
["Auckland Region","    Albany Central","..","..",270,"Albany Central",3.2100539700000001,84.110735371841741,{"$f":"ROWS($A$3:A2380)","v":2378},"",""]
["Auckland Region","    Albany Heights","..","..",1224,"Albany Heights",3.1040104899999998,394.32856426976832,{"$f":"ROWS($A$3:A2381)","v":2379},"",""]
["Auckland Region","    Albany South","..","..",1191,"Albany South",1.48565737,801.66532610409354,{"$f":"ROWS($A$3:A2382)","v":2380},"",""]
["Auckland Region","    Albany West","..","..",972,"Albany West",2.05684939,472.56741535168987,{"$f":"ROWS($A$3:A2383)","v":2381},"",""]
["Auckland Region","    Alfriston","..","..",1128,"Alfriston",1.9541219599999999,577.24135089296067,{"$f":"ROWS($A$3:A2384)","v":2382},"",""]
["Auckland Region","    Algies Bay-Scotts Landing","..","..",786,"Algies Bay-Scotts Landing",15.36828354,51.144293242262762,{"$f":"ROWS($A$3:A2385)","v":2383},"",""]
["Auckland Region","    Anselmi Ridge","..","..",930,"Anselmi Ridge",7.5329759699999999,123.4571839474486,{"$f":"ROWS($A$3:A2386)","v":2384},"",""]
["Auckland Region","    Anzac Avenue","..","..",1701,"Anzac Avenue",0.10247702,16598.843330924337,{"$f":"ROWS($A$3:A2387)","v":2385},"",""]
["Auckland Region","    Aorere Central","..","..",474,"Aorere Central",0.62009557999999998,764.39828840579708,{"$f":"ROWS($A$3:A2388)","v":2386},"",""]
["Auckland Region","    Aorere North","..","..",375,"Aorere North",0.33000404999999999,1136.3496902538016,{"$f":"ROWS($A$3:A2389)","v":2387},"",""]
["Auckland Region","    Aorere South","..","..",1215,"Aorere South",1.2394649900000001,980.26165305403254,{"$f":"ROWS($A$3:A2390)","v":2388},"",""]
["Auckland Region","    Ararimu","..","..",732,"Ararimu",91.308240940000005,8.0168010298326529,{"$f":"ROWS($A$3:A2391)","v":2389},"",""]
["Auckland Region","    Ardmore","..","..",474,"Ardmore",44.268534840000001,10.707379444862603,{"$f":"ROWS($A$3:A2392)","v":2390},"",""]
["Auckland Region","    Army Bay","..","..",609,"Army Bay",6.2156044699999997,97.979207483258662,{"$f":"ROWS($A$3:A2393)","v":2391},"",""]
["Auckland Region","    Auckland Airport","..","..",183,"Auckland Airport",23.078164489999899,7.9295734320334068,{"$f":"ROWS($A$3:A2394)","v":2392},"",""]
["Auckland Region","    Auckland-University","..","..",75,"Auckland-University",0.34902817000000003,214.88236895033427,{"$f":"ROWS($A$3:A2395)","v":2393},"",""]
["Auckland Region","    Avondale Central (Auckland)","..","..",1104,"Avondale Central (Auckland)",1.11535228,989.82179872353879,{"$f":"ROWS($A$3:A2396)","v":2394},"",""]
["Auckland Region","    Avondale North (Auckland)","..","..",1533,"Avondale North (Auckland)",1.23589539,1240.3962442161062,{"$f":"ROWS($A$3:A2397)","v":2395},"",""]
["Auckland Region","    Avondale Rosebank","..","..",1305,"Avondale Rosebank",1.0274321200000001,1270.156903406913,{"$f":"ROWS($A$3:A2398)","v":2396},"",""]
["Auckland Region","    Avondale South (Auckland)","..","..",1353,"Avondale South (Auckland)",1.17736514,1149.1762020404308,{"$f":"ROWS($A$3:A2399)","v":2397},"",""]
["Auckland Region","    Avondale West (Auckland)","..","..",1170,"Avondale West (Auckland)",0.73982009999999998,1581.4655481785369,{"$f":"ROWS($A$3:A2400)","v":2398},"",""]
["Auckland Region","    Awaruku","..","..",1503,"Awaruku",1.5219412299999999,987.55455885770311,{"$f":"ROWS($A$3:A2401)","v":2399},"",""]
["Auckland Region","    Awhitu","..","..",1575,"Awhitu",221.55844737000001,7.1087336939573715,{"$f":"ROWS($A$3:A2402)","v":2400},"",""]
["Auckland Region","    Balmoral","..","..",1137,"Balmoral",0.78483197000000005,1448.7177427290583,{"$f":"ROWS($A$3:A2403)","v":2401},"",""]
["Auckland Region","    Barrier Islands","..","..",1158,"Barrier Islands",320.41410080000003,3.6140731544234206,{"$f":"ROWS($A$3:A2404)","v":2402},"",""]
["Auckland Region","    Baverstock","..","..",1059,"Baverstock",1.0906098200000001,971.01638054203465,{"$f":"ROWS($A$3:A2405)","v":2403},"",""]
["Auckland Region","    Bays Waiheke Island","..","..",0,"Bays Waiheke Island",0,{"$error":"#DIV/0!"},{"$f":"ROWS($A$3:A2406)","v":2404},"",""]
["Auckland Region","    Bayswater","..","..",1140,"Bayswater",1.0969483799999999,1039.2467145992778,{"$f":"ROWS($A$3:A2407)","v":2405},"",""]
["Auckland Region","    Bayview East","..","..",1194,"Bayview East",1.3746752,868.5688081082717,{"$f":"ROWS($A$3:A2408)","v":2406},"",""]
["Auckland Region","    Bayview South","..","..",1005,"Bayview South",0.93345761000000005,1076.6423555109268,{"$f":"ROWS($A$3:A2409)","v":2407},"",""]
["Auckland Region","    Bayview West","..","..",783,"Bayview West",0.73414884000000002,1066.541220714862,{"$f":"ROWS($A$3:A2410)","v":2408},"",""]
["Auckland Region","    Beach Haven East","..","..",1302,"Beach Haven East",1.1210377499999999,1161.4238681971237,{"$f":"ROWS($A$3:A2411)","v":2409},"",""]
["Auckland Region","    Beach Haven South","..","..",1161,"Beach Haven South",1.3403973300000001,866.16108075953866,{"$f":"ROWS($A$3:A2412)","v":2410},"",""]
["Auckland Region","    Beach Haven West","..","..",1284,"Beach Haven West",1.2074620899999999,1063.3874227885697,{"$f":"ROWS($A$3:A2413)","v":2411},"",""]
["Auckland Region","    Belmont (Auckland)","..","..",1182,"Belmont (Auckland)",1.1532871899999999,1024.8964960757087,{"$f":"ROWS($A$3:A2414)","v":2412},"",""]
["Auckland Region","    Birdwood West","..","..",222,"Birdwood West",5.93628175,37.397146791423772,{"$f":"ROWS($A$3:A2415)","v":2413},"",""]
["Auckland Region","    Birkdale North","..","..",1374,"Birkdale North",1.3857380100000001,991.52941615565555,{"$f":"ROWS($A$3:A2416)","v":2414},"",""]
["Auckland Region","    Birkdale South","..","..",1620,"Birkdale South",1.40729671,1151.1431729276194,{"$f":"ROWS($A$3:A2417)","v":2415},"",""]
["Auckland Region","    Birkenhead North","..","..",1116,"Birkenhead North",1.0119325699999999,1102.8402811464009,{"$f":"ROWS($A$3:A2418)","v":2416},"",""]
["Auckland Region","    Birkenhead South","..","..",1221,"Birkenhead South",1.3616869300000001,896.68188267034327,{"$f":"ROWS($A$3:A2419)","v":2417},"",""]
["Auckland Region","    Birkenhead West","..","..",1803,"Birkenhead West",2.2626867599999998,796.84030148300337,{"$f":"ROWS($A$3:A2420)","v":2418},"",""]
["Auckland Region","    Blockhouse Bay East","..","..",864,"Blockhouse Bay East",0.77910259000000004,1108.9682040461448,{"$f":"ROWS($A$3:A2421)","v":2419},"",""]
["Auckland Region","    Blockhouse Bay North","..","..",1230,"Blockhouse Bay North",0.92504226000000001,1329.6689818257601,{"$f":"ROWS($A$3:A2422)","v":2420},"",""]
["Auckland Region","    Blockhouse Bay North East","..","..",684,"Blockhouse Bay North East",0.52948070999999997,1291.8317647492768,{"$f":"ROWS($A$3:A2423)","v":2421},"",""]
["Auckland Region","    Blockhouse Bay South","..","..",1434,"Blockhouse Bay South",1.6708664200000001,858.23736884962943,{"$f":"ROWS($A$3:A2424)","v":2422},"",""]
["Auckland Region","    Bombay Hills","..","..",738,"Bombay Hills",31.682019669999899,23.293969503428514,{"$f":"ROWS($A$3:A2425)","v":2423},"",""]
["Auckland Region","    Botany Central","..","..",3,"Botany Central",0.46967107000000002,6.3874489863725259,{"$f":"ROWS($A$3:A2426)","v":2424},"",""]
["Auckland Region","    Botany Downs East","..","..",807,"Botany Downs East",0.67735204000000004,1191.404103544148,{"$f":"ROWS($A$3:A2427)","v":2425},"",""]
["Auckland Region","    Botany Downs West","..","..",921,"Botany Downs West",0.81388433999999998,1131.6104202226081,{"$f":"ROWS($A$3:A2428)","v":2426},"",""]
["Auckland Region","    Botany East","..","..",606,"Botany East",0.78144968999999997,775.48178437437218,{"$f":"ROWS($A$3:A2429)","v":2427},"",""]
["Auckland Region","    Botany Junction","..","..",78,"Botany Junction",2.48251702,31.419724163663538,{"$f":"ROWS($A$3:A2430)","v":2428},"",""]
["Auckland Region","    Botany North","..","..",825,"Botany North",0.92492593000000001,891.96331645713508,{"$f":"ROWS($A$3:A2431)","v":2429},"",""]
["Auckland Region","    Botany South","..","..",975,"Botany South",0.74938028000000001,1301.0750696562231,{"$f":"ROWS($A$3:A2432)","v":2430},"",""]
["Auckland Region","    Browns Bay Central","..","..",1260,"Browns Bay Central",1.1836156900000001,1064.5347224148404,{"$f":"ROWS($A$3:A2433)","v":2431},"",""]
["Auckland Region","    Browns Bay South East","..","..",993,"Browns Bay South East",0.85629308000000004,1159.6496844281398,{"$f":"ROWS($A$3:A2434)","v":2432},"",""]
["Auckland Region","    Browns Bay South West","..","..",1407,{"$f":"TRIM(B2435)","v":"Browns Bay South West"},1.1503355500000001,{"$f":"E2435/G2435","v":1223.1213753239217},{"$f":"ROWS($A$3:A2435)","v":2433},{"$f":"IF(A2435=$M$2,I2436,\"\")","v":""},""]
["Auckland Region","    Buckland","..","..",411,"Buckland",8.6244611100000004,47.655151406903379,{"$f":"ROWS($A$3:A2436)","v":2434},"",{"$f":"IFERROR(SMALL($J$3:$J$4612,I2436)-1,\"\")","v":""}]
["Auckland Region","    Bucklands Beach Central","..","..",669,"Bucklands Beach Central",0.57859095999999999,1156.257263335051,{"$f":"ROWS($A$3:A2437)","v":2435},"",""]
["Auckland Region","    Bucklands Beach North","..","..",1113,"Bucklands Beach North",1.3835808300000001,804.43438927959119,{"$f":"ROWS($A$3:A2438)","v":2436},"",""]
["Auckland Region","    Bucklands Beach South","..","..",1365,"Bucklands Beach South",1.1204517599999999,1218.2586066891449,{"$f":"ROWS($A$3:A2439)","v":2437},"",""]
["Auckland Region","    Burbank","..","..",807,"Burbank",0.64850806999999999,1244.3946919581124,{"$f":"ROWS($A$3:A2440)","v":2438},"",""]
["Auckland Region","    Burswood","..","..",567,"Burswood",0.52549252000000002,1078.9877656108215,{"$f":"ROWS($A$3:A2441)","v":2439},"",""]
["Auckland Region","    Campbells Bay","..","..",1008,"Campbells Bay",1.74294503,578.33149218710582,{"$f":"ROWS($A$3:A2442)","v":2440},"",""]
["Auckland Region","    Cape Hill","..","..",501,"Cape Hill",0.71737512999999997,698.37938206751051,{"$f":"ROWS($A$3:A2443)","v":2441},"",""]
["Auckland Region","    Cape Rodney","..","..",1854,"Cape Rodney",370.64774254000002,5.002053937506223,{"$f":"ROWS($A$3:A2444)","v":2442},"",""]
["Auckland Region","    Castor Bay","..","..",1725,"Castor Bay",1.4437705599999999,1194.78818019395,{"$f":"ROWS($A$3:A2445)","v":2443},"",""]
["Auckland Region","    Chapel Downs","..","..",882,"Chapel Downs",0.76033315000000001,1160.0178158745282,{"$f":"ROWS($A$3:A2446)","v":2444},"",""]
["Auckland Region","    Chatswood","..","..",1182,"Chatswood",3.0659165499999999,385.52908427987057,{"$f":"ROWS($A$3:A2447)","v":2445},"",""]
["Auckland Region","    Cheltenham","..","..",870,"Cheltenham",0.81532064999999998,1067.0648412989417,{"$f":"ROWS($A$3:A2448)","v":2446},"",""]
["Auckland Region","    Clarks Beach","..","..",615,"Clarks Beach",2.6730217399999998,230.07669215589695,{"$f":"ROWS($A$3:A2449)","v":2447},"",""]
["Auckland Region","    Clendon Park East","..","..",552,"Clendon Park East",0.46283705000000003,1192.6443658734752,{"$f":"ROWS($A$3:A2450)","v":2448},"",""]
["Auckland Region","    Clendon Park North","..","..",777,"Clendon Park North",0.74920255999999996,1037.1027029058737,{"$f":"ROWS($A$3:A2451)","v":2449},"",""]
["Auckland Region","    Clendon Park West","..","..",756,"Clendon Park West",0.59408603999999998,1272.5429468095228,{"$f":"ROWS($A$3:A2452)","v":2450},"",""]
["Auckland Region","    Clevedon","..","..",552,"Clevedon",49.9726314199999,11.046046292032566,{"$f":"ROWS($A$3:A2453)","v":2451},"",""]
["Auckland Region","    Clover Park North","..","..",972,"Clover Park North",0.92445239000000001,1051.433270673896,{"$f":"ROWS($A$3:A2454)","v":2452},"",""]
["Auckland Region","    Clover Park South","..","..",1062,"Clover Park South",1.18316226,897.59455309198245,{"$f":"ROWS($A$3:A2455)","v":2453},"",""]
["Auckland Region","    Cloverlea (Auckland)","..","..",927,"Cloverlea (Auckland)",2.3778181699999998,389.85319049858219,{"$f":"ROWS($A$3:A2456)","v":2454},"",""]
["Auckland Region","    Coatesville","..","..",837,"Coatesville",24.366377180000001,34.350613298681601,{"$f":"ROWS($A$3:A2457)","v":2455},"",""]
["Auckland Region","    Cockle Bay","..","..",1545,"Cockle Bay",1.7284271600000001,893.87625683919475,{"$f":"ROWS($A$3:A2458)","v":2456},"",""]
["Auckland Region","    Conifer Grove East","..","..",786,"Conifer Grove East",0.64940366999999999,1210.3411734645724,{"$f":"ROWS($A$3:A2459)","v":2457},"",""]
["Auckland Region","    Conifer Grove West","..","..",822,"Conifer Grove West",1.5852456699999999,518.53161661687432,{"$f":"ROWS($A$3:A2460)","v":2458},"",""]
["Auckland Region","    Dairy Flat North","..","..",624,"Dairy Flat North",22.968999669999899,27.167051633293994,{"$f":"ROWS($A$3:A2461)","v":2459},"",""]
["Auckland Region","    Dairy Flat South","..","..",585,"Dairy Flat South",15.21709972,38.443593770442874,{"$f":"ROWS($A$3:A2462)","v":2460},"",""]
["Auckland Region","    Dairy Flat West","..","..",534,"Dairy Flat West",30.979788589999899,17.237044676682274,{"$f":"ROWS($A$3:A2463)","v":2461},"",""]
["Auckland Region","    Dannemora North","..","..",684,"Dannemora North",0.54899463000000004,1245.9138261516327,{"$f":"ROWS($A$3:A2464)","v":2462},"",""]
["Auckland Region","    Dannemora South","..","..",711,"Dannemora South",0.63838550999999999,1113.7470836391635,{"$f":"ROWS($A$3:A2465)","v":2463},"",""]
["Auckland Region","    Devonport","..","..",1410,"Devonport",1.0789483799999999,1306.8280430617081,{"$f":"ROWS($A$3:A2466)","v":2464},"",""]
["Auckland Region","    Dingwall","..","..",960,"Dingwall",0.82717379999999996,1160.5783452038738,{"$f":"ROWS($A$3:A2467)","v":2465},"",""]
["Auckland Region","    Dome Valley-Matakana","..","..",651,"Dome Valley-Matakana",84.749965799999899,7.6814190289620248,{"$f":"ROWS($A$3:A2468)","v":2466},"",""]
["Auckland Region","    Donegal Park","..","..",888,"Donegal Park",0.90762779999999998,978.37461567395803,{"$f":"ROWS($A$3:A2469)","v":2467},"",""]
["Auckland Region","    Drury","..","..",411,"Drury",10.3915445,39.55138718791995,{"$f":"ROWS($A$3:A2470)","v":2468},"",""]
["Auckland Region","    Drury Rural","..","..",1020,"Drury Rural",36.009072179999897,28.326194990564815,{"$f":"ROWS($A$3:A2471)","v":2469},"",""]
["Auckland Region","    East Tamaki","..","..",150,"East Tamaki",7.7748782199999997,19.292906686839398,{"$f":"ROWS($A$3:A2472)","v":2470},"",""]
["Auckland Region","    East Tamaki Heights","..","..",867,"East Tamaki Heights",1.2313811299999999,704.08745016256671,{"$f":"ROWS($A$3:A2473)","v":2471},"",""]
["Auckland Region","    Eastern Beach","..","..",834,"Eastern Beach",1.1808903799999999,706.24675594359576,{"$f":"ROWS($A$3:A2474)","v":2472},"",""]
["Auckland Region","    Eden Park","..","..",621,"Eden Park",0.50617462000000002,1226.8493430192134,{"$f":"ROWS($A$3:A2475)","v":2473},"",""]
["Auckland Region","    Eden Terrace","..","..",2502,"Eden Terrace",0.84042413999999999,2977.0682217671665,{"$f":"ROWS($A$3:A2476)","v":2474},"",""]
["Auckland Region","    Eden Valley","..","..",837,"Eden Valley",0.58402708000000003,1433.152722986749,{"$f":"ROWS($A$3:A2477)","v":2475},"",""]
["Auckland Region","    Ellerslie Central","..","..",1206,"Ellerslie Central",1.49407522,807.18827529982059,{"$f":"ROWS($A$3:A2478)","v":2476},"",""]
["Auckland Region","    Ellerslie East","..","..",1224,"Ellerslie East",0.75498158999999998,1621.2315852628938,{"$f":"ROWS($A$3:A2479)","v":2477},"",""]
["Auckland Region","    Ellerslie South","..","..",1002,"Ellerslie South",0.82740694999999997,1211.0123077888095,{"$f":"ROWS($A$3:A2480)","v":2478},"",""]
["Auckland Region","    Ellerslie West","..","..",63,"Ellerslie West",0.39993535000000002,157.52546005248098,{"$f":"ROWS($A$3:A2481)","v":2479},"",""]
["Auckland Region","    Epsom Central-North","..","..",1290,"Epsom Central-North",1.10588807,1166.4833313555864,{"$f":"ROWS($A$3:A2482)","v":2480},"",""]
["Auckland Region","    Epsom Central-South","..","..",1281,"Epsom Central-South",0.98346491999999996,1302.5375628039687,{"$f":"ROWS($A$3:A2483)","v":2481},"",""]
["Auckland Region","    Epsom East","..","..",828,"Epsom East",1.2682103899999999,652.88851639198447,{"$f":"ROWS($A$3:A2484)","v":2482},"",""]
["Auckland Region","    Epsom North","..","..",1269,"Epsom North",1.0762293000000001,1179.11675513759,{"$f":"ROWS($A$3:A2485)","v":2483},"",""]
["Auckland Region","    Epsom South","..","..",828,"Epsom South",0.59629984999999996,1388.5631532525122,{"$f":"ROWS($A$3:A2486)","v":2484},"",""]
["Auckland Region","    Fairview Heights","..","..",1188,"Fairview Heights",1.60195262,741.59496677248796,{"$f":"ROWS($A$3:A2487)","v":2485},"",""]
["Auckland Region","    Farm Cove","..","..",882,"Farm Cove",0.97579917000000005,903.87451344112128,{"$f":"ROWS($A$3:A2488)","v":2486},"",""]
["Auckland Region","    Favona East","..","..",729,"Favona East",0.63568422999999996,1146.7957919925118,{"$f":"ROWS($A$3:A2489)","v":2487},"",""]
["Auckland Region","    Favona North","..","..",669,"Favona North",1.10911439,603.1839511161694,{"$f":"ROWS($A$3:A2490)","v":2488},"",""]
["Auckland Region","    Favona West","..","..",666,"Favona West",0.85944156999999999,774.92179020384128,{"$f":"ROWS($A$3:A2491)","v":2489},"",""]
["Auckland Region","    Ferguson","..","..",891,"Ferguson",0.98687784999999995,902.8472976670821,{"$f":"ROWS($A$3:A2492)","v":2490},"",""]
["Auckland Region","    Forrest Hill East","..","..",1218,"Forrest Hill East",0.92449513000000005,1317.4758421929166,{"$f":"ROWS($A$3:A2493)","v":2491},"",""]
["Auckland Region","    Forrest Hill North","..","..",795,"Forrest Hill North",0.73717907000000005,1078.4353929093509,{"$f":"ROWS($A$3:A2494)","v":2492},"",""]
["Auckland Region","    Forrest Hill West","..","..",1308,"Forrest Hill West",1.2352351500000001,1058.9076905721149,{"$f":"ROWS($A$3:A2495)","v":2493},"",""]
["Auckland Region","    Freemans Bay","..","..",2145,"Freemans Bay",1.0357781699999999,2070.9067463740812,{"$f":"ROWS($A$3:A2496)","v":2494},"",""]
["Auckland Region","    Fruitvale","..","..",1068,"Fruitvale",0.85234856000000003,1253.0085109781849,{"$f":"ROWS($A$3:A2497)","v":2495},"",""]
["Auckland Region","    Glamorgan","..","..",1140,"Glamorgan",0.95916760999999995,1188.530542644158,{"$f":"ROWS($A$3:A2498)","v":2496},"",""]
["Auckland Region","    Glen Eden Central","..","..",1329,{"$f":"TRIM(B2499)","v":"Glen Eden Central"},1.2468507900000001,{"$f":"E2499/G2499","v":1065.8853574612563},{"$f":"ROWS($A$3:A2499)","v":2497},{"$f":"IF(A2499=$M$2,I2500,\"\")","v":""},""]
["Auckland Region","    Glen Eden North","..","..",903,"Glen Eden North",0.73469348000000001,1229.0839984043414,{"$f":"ROWS($A$3:A2500)","v":2498},"",{"$f":"IFERROR(SMALL($J$3:$J$4612,I2500)-1,\"\")","v":""}]
["Auckland Region","    Glen Eden Rosier","..","..",1143,"Glen Eden Rosier",1.2449007000000001,918.14551955830689,{"$f":"ROWS($A$3:A2501)","v":2499},"",""]
["Auckland Region","    Glen Eden West","..","..",1194,"Glen Eden West",1.1545238200000001,1034.1926076501393,{"$f":"ROWS($A$3:A2502)","v":2500},"",""]
["Auckland Region","    Glen Eden Woodglen","..","..",1470,"Glen Eden Woodglen",1.30115519,1129.7653126219325,{"$f":"ROWS($A$3:A2503)","v":2501},"",""]
["Auckland Region","    Glen Innes East-Wai O Taiki Bay","..","..",1071,"Glen Innes East-Wai O Taiki Bay",1.39731695,766.46891029268625,{"$f":"ROWS($A$3:A2504)","v":2502},"",""]
["Auckland Region","    Glen Innes West","..","..",1305,"Glen Innes West",1.3674620500000001,954.32264463938861,{"$f":"ROWS($A$3:A2505)","v":2503},"",""]
["Auckland Region","    Glenavon","..","..",816,"Glenavon",0.63982835000000005,1275.3420507234478,{"$f":"ROWS($A$3:A2506)","v":2504},"",""]
["Auckland Region","    Glenbrook","..","..",819,"Glenbrook",53.15868013,15.406703063302711,{"$f":"ROWS($A$3:A2507)","v":2505},"",""]
["Auckland Region","    Glendene North","..","..",1479,"Glendene North",1.4068362400000001,1051.2950675765928,{"$f":"ROWS($A$3:A2508)","v":2506},"",""]
["Auckland Region","    Glendene South","..","..",888,"Glendene South",1.0985806899999999,808.31568230095149,{"$f":"ROWS($A$3:A2509)","v":2507},"",""]
["Auckland Region","    Glendowie North","..","..",1488,"Glendowie North",2.0409319799999999,729.07868296522065,{"$f":"ROWS($A$3:A2510)","v":2508},"",""]
["Auckland Region","    Glendowie South","..","..",1560,"Glendowie South",2.0134295899999999,774.79739433053635,{"$f":"ROWS($A$3:A2511)","v":2509},"",""]
["Auckland Region","    Glenfield Central","..","..",1392,"Glenfield Central",1.1278601699999999,1234.195547485288,{"$f":"ROWS($A$3:A2512)","v":2510},"",""]
["Auckland Region","    Glenfield East","..","..",744,"Glenfield East",0.61847920999999995,1202.9507022556184,{"$f":"ROWS($A$3:A2513)","v":2511},"",""]
["Auckland Region","    Glenfield North","..","..",1095,"Glenfield North",0.80678426000000003,1357.2401623204696,{"$f":"ROWS($A$3:A2514)","v":2512},"",""]
["Auckland Region","    Glenfield South West","..","..",1290,"Glenfield South West",1.1910428200000001,1083.0844855771013,{"$f":"ROWS($A$3:A2515)","v":2513},"",""]
["Auckland Region","    Glenfield West","..","..",1080,"Glenfield West",0.97015189999999996,1113.2277326880462,{"$f":"ROWS($A$3:A2516)","v":2514},"",""]
["Auckland Region","    Golflands","..","..",909,"Golflands",1.4076923100000001,645.73770385944636,{"$f":"ROWS($A$3:A2517)","v":2515},"",""]
["Auckland Region","    Goodwood Heights","..","..",1188,"Goodwood Heights",1.2815726199999999,926.98609619172419,{"$f":"ROWS($A$3:A2518)","v":2516},"",""]
["Auckland Region","    Grafton","..","..",654,"Grafton",0.64384001000000002,1015.7803023145455,{"$f":"ROWS($A$3:A2519)","v":2517},"",""]
["Auckland Region","    Grange","..","..",492,"Grange",1.43178144,343.62786543733938,{"$f":"ROWS($A$3:A2520)","v":2518},"",""]
["Auckland Region","    Green Bay North","..","..",687,"Green Bay North",1.03578148,663.26731387396501,{"$f":"ROWS($A$3:A2521)","v":2519},"",""]
["Auckland Region","    Green Bay South","..","..",1257,"Green Bay South",1.25786551,999.3119216695909,{"$f":"ROWS($A$3:A2522)","v":2520},"",""]
["Auckland Region","    Greenhithe East","..","..",954,"Greenhithe East",1.4377181999999999,663.5514525725556,{"$f":"ROWS($A$3:A2523)","v":2521},"",""]
["Auckland Region","    Greenhithe South","..","..",654,"Greenhithe South",3.6445228599999999,179.4473584396724,{"$f":"ROWS($A$3:A2524)","v":2522},"",""]
["Auckland Region","    Greenhithe West","..","..",1152,"Greenhithe West",2.72201146,423.21644009536976,{"$f":"ROWS($A$3:A2525)","v":2523},"",""]
["Auckland Region","    Greenlane North","..","..",1497,"Greenlane North",1.1432441900000001,1309.4315397308076,{"$f":"ROWS($A$3:A2526)","v":2524},"",""]
["Auckland Region","    Greenlane South","..","..",1272,"Greenlane South",0.85269355999999996,1491.7434113141421,{"$f":"ROWS($A$3:A2527)","v":2525},"",""]
["Auckland Region","    Grey Lynn Central","..","..",1359,"Grey Lynn Central",0.71192692000000002,1908.903795912086,{"$f":"ROWS($A$3:A2528)","v":2526},"",""]
["Auckland Region","    Grey Lynn East","..","..",837,"Grey Lynn East",0.57979349999999996,1443.6174258593794,{"$f":"ROWS($A$3:A2529)","v":2527},"",""]
["Auckland Region","    Grey Lynn North","..","..",1137,"Grey Lynn North",0.72505839999999999,1568.1495449194163,{"$f":"ROWS($A$3:A2530)","v":2528},"",""]
["Auckland Region","    Grey Lynn West","..","..",1173,"Grey Lynn West",0.80088071000000005,1464.637598775478,{"$f":"ROWS($A$3:A2531)","v":2529},"",""]
["Auckland Region","    Gulf Harbour North","..","..",1026,"Gulf Harbour North",1.7570958800000001,583.91805004972184,{"$f":"ROWS($A$3:A2532)","v":2530},"",""]
["Auckland Region","    Gulf Harbour South","..","..",1188,"Gulf Harbour South",2.42885442,489.1194755097755,{"$f":"ROWS($A$3:A2533)","v":2531},"",""]
["Auckland Region","    Gulf Islands","..","..",360,"Gulf Islands",66.096140730000002,5.4466114968888286,{"$f":"ROWS($A$3:A2534)","v":2532},"",""]
["Auckland Region","    Half Moon Bay North East","..","..",678,"Half Moon Bay North East",0.64603014000000003,1049.4866385026555,{"$f":"ROWS($A$3:A2535)","v":2533},"",""]
["Auckland Region","    Half Moon Bay South East","..","..",1008,"Half Moon Bay South East",0.83429938000000003,1208.1993876107158,{"$f":"ROWS($A$3:A2536)","v":2534},"",""]
["Auckland Region","    Half Moon Bay West","..","..",1035,"Half Moon Bay West",1.1358070600000001,911.24631678200694,{"$f":"ROWS($A$3:A2537)","v":2535},"",""]
["Auckland Region","    Hamilton Estate","..","..",963,"Hamilton Estate",2.2589867300000002,426.29732490726047,{"$f":"ROWS($A$3:A2538)","v":2536},"",""]
["Auckland Region","    Harania North","..","..",714,"Harania North",0.94437247999999996,756.0576098109085,{"$f":"ROWS($A$3:A2539)","v":2537},"",""]
["Auckland Region","    Harania South","..","..",729,"Harania South",0.77647516999999999,938.85809638961155,{"$f":"ROWS($A$3:A2540)","v":2538},"",""]
["Auckland Region","    Hatfields Beach","..","..",600,"Hatfields Beach",0.92325486999999995,649.87471985931688,{"$f":"ROWS($A$3:A2541)","v":2539},"",""]
["Auckland Region","    Hauraki","..","..",1572,"Hauraki",1.0953772399999999,1435.1220224367635,{"$f":"ROWS($A$3:A2542)","v":2540},"",""]
["Auckland Region","    Helensville","..","..",1086,"Helensville",3.36590766,322.6469973926736,{"$f":"ROWS($A$3:A2543)","v":2541},"",""]
["Auckland Region","    Helensville Rural","..","..",534,"Helensville Rural",56.919978620000002,9.3815917178220474,{"$f":"ROWS($A$3:A2544)","v":2542},"",""]
["Auckland Region","    Henderson Central","..","..",630,"Henderson Central",2.0157065599999999,312.54549273283112,{"$f":"ROWS($A$3:A2545)","v":2543},"",""]
["Auckland Region","    Henderson East","..","..",939,"Henderson East",0.79307801,1183.9944975904702,{"$f":"ROWS($A$3:A2546)","v":2544},"",""]
["Auckland Region","    Henderson Larnoch","..","..",1251,"Henderson Larnoch",0.96975579000000001,1290.0154996754388,{"$f":"ROWS($A$3:A2547)","v":2545},"",""]
["Auckland Region","    Henderson Lincoln East","..","..",54,"Henderson Lincoln East",1.9443598799999999,27.772636411321141,{"$f":"ROWS($A$3:A2548)","v":2546},"",""]
["Auckland Region","    Henderson Lincoln South","..","..",789,"Henderson Lincoln South",1.35507716,582.25466659035123,{"$f":"ROWS($A$3:A2549)","v":2547},"",""]
["Auckland Region","    Henderson Lincoln West","..","..",993,"Henderson Lincoln West",0.89798069999999997,1105.8144122696624,{"$f":"ROWS($A$3:A2550)","v":2548},"",""]
["Auckland Region","    Henderson North","..","..",1260,"Henderson North",1.3936711900000001,904.08699630219087,{"$f":"ROWS($A$3:A2551)","v":2549},"",""]
["Auckland Region","    Henderson North East","..","..",969,"Henderson North East",0.80084122999999996,1209.9776631130742,{"$f":"ROWS($A$3:A2552)","v":2550},"",""]
["Auckland Region","    Henderson Valley","..","..",522,"Henderson Valley",15.02367834,34.745152830528454,{"$f":"ROWS($A$3:A2553)","v":2551},"",""]
["Auckland Region","    Henderson Valley Park","..","..",561,"Henderson Valley Park",0.74972534999999996,748.27401794537161,{"$f":"ROWS($A$3:A2554)","v":2552},"",""]
["Auckland Region","    Herne Bay","..","..",1392,"Herne Bay",0.87695476999999999,1587.3110536818222,{"$f":"ROWS($A$3:A2555)","v":2553},"",""]
["Auckland Region","    Highland Park (Auckland)","..","..",1671,"Highland Park (Auckland)",1.3763573099999999,1214.074272617479,{"$f":"ROWS($A$3:A2556)","v":2554},"",""]
["Auckland Region","    Hillcrest East (Auckland)","..","..",1353,"Hillcrest East (Auckland)",1.06377776,1271.8822021622261,{"$f":"ROWS($A$3:A2557)","v":2555},"",""]
["Auckland Region","    Hillcrest North (Auckland)","..","..",1206,"Hillcrest North (Auckland)",0.97980299999999998,1230.8596728117795,{"$f":"ROWS($A$3:A2558)","v":2556},"",""]
["Auckland Region","    Hillcrest West (Auckland)","..","..",1116,"Hillcrest West (Auckland)",0.88492420999999999,1261.1249498982518,{"$f":"ROWS($A$3:A2559)","v":2557},"",""]
["Auckland Region","    Hillpark North","..","..",699,"Hillpark North",0.66048295999999995,1058.3164779905906,{"$f":"ROWS($A$3:A2560)","v":2558},"",""]
["Auckland Region","    Hillpark South","..","..",942,"Hillpark South",1.08741456,866.27495589170701,{"$f":"ROWS($A$3:A2561)","v":2559},"",""]
["Auckland Region","    Hillsborough East (Auckland)","..","..",732,"Hillsborough East (Auckland)",0.62787048999999995,1165.8455233339603,{"$f":"ROWS($A$3:A2562)","v":2560},"",""]
["Auckland Region","    Hillsborough North (Auckland)","..","..",1338,{"$f":"TRIM(B2563)","v":"Hillsborough North (Auckland)"},1.29279528,{"$f":"E2563/G2563","v":1034.9666499401205},{"$f":"ROWS($A$3:A2563)","v":2561},{"$f":"IF(A2563=$M$2,I2564,\"\")","v":""},""]
["Auckland Region","    Hillsborough South (Auckland)","..","..",885,"Hillsborough South (Auckland)",1.1599261599999999,762.97960208087738,{"$f":"ROWS($A$3:A2564)","v":2562},"",{"$f":"IFERROR(SMALL($J$3:$J$4612,I2564)-1,\"\")","v":""}]
["Auckland Region","    Hillsborough West (Auckland)","..","..",1122,"Hillsborough West (Auckland)",0.84158980999999999,1333.191047073158,{"$f":"ROWS($A$3:A2565)","v":2563},"",""]
["Auckland Region","    Hilltop (Auckland)","..","..",930,"Hilltop (Auckland)",1.1416618700000001,814.60196266342848,{"$f":"ROWS($A$3:A2566)","v":2564},"",""]
["Auckland Region","    Hingaia","..","..",867,"Hingaia",3.6158143800000002,239.78000773369345,{"$f":"ROWS($A$3:A2567)","v":2565},"",""]
["Auckland Region","    Hobson Ridge Central","..","..",1746,"Hobson Ridge Central",6.3319500000000001E-2,27574.443891692132,{"$f":"ROWS($A$3:A2568)","v":2566},"",""]
["Auckland Region","    Hobson Ridge North","..","..",1647,"Hobson Ridge North",0.14928093000000001,11032.889465519809,{"$f":"ROWS($A$3:A2569)","v":2567},"",""]
["Auckland Region","    Hobson Ridge South","..","..",864,"Hobson Ridge South",0.13699997999999999,6306.5702637328859,{"$f":"ROWS($A$3:A2570)","v":2568},"",""]
["Auckland Region","    Hobsonville","..","..",519,"Hobsonville",2.17407942,238.72172986210413,{"$f":"ROWS($A$3:A2571)","v":2569},"",""]
["Auckland Region","    Hobsonville Point","..","..",2022,"Hobsonville Point",3.5388118899999998,571.37820908587491,{"$f":"ROWS($A$3:A2572)","v":2570},"",""]
["Auckland Region","    Homai East","..","..",900,"Homai East",0.71246765999999995,1263.2152314113459,{"$f":"ROWS($A$3:A2573)","v":2571},"",""]
["Auckland Region","    Homai West","..","..",1089,"Homai West",0.91194953000000001,1194.1450312497009,{"$f":"ROWS($A$3:A2574)","v":2572},"",""]
["Auckland Region","    Howick Central","..","..",1251,"Howick Central",0.85763120000000004,1458.6689476782094,{"$f":"ROWS($A$3:A2575)","v":2573},"",""]
["Auckland Region","    Howick East","..","..",1410,"Howick East",1.1091982499999999,1271.1884462493517,{"$f":"ROWS($A$3:A2576)","v":2574},"",""]
["Auckland Region","    Howick West","..","..",1395,"Howick West",1.1926131099999999,1169.700373325596,{"$f":"ROWS($A$3:A2577)","v":2575},"",""]
["Auckland Region","    Huntington Park","..","..",873,"Huntington Park",0.43629700999999999,2000.9305129090847,{"$f":"ROWS($A$3:A2578)","v":2576},"",""]
["Auckland Region","    Hunua","..","..",474,"Hunua",77.835134929999896,6.089794800590842,{"$f":"ROWS($A$3:A2579)","v":2577},"",""]
["Auckland Region","    Inlet Kaipara Harbour South","..","..",0,"Inlet Kaipara Harbour South",0,{"$error":"#DIV/0!"},{"$f":"ROWS($A$3:A2580)","v":2578},"",""]
["Auckland Region","    Inlet Manukau Harbour","..","..",0,"Inlet Manukau Harbour",0,{"$error":"#DIV/0!"},{"$f":"ROWS($A$3:A2581)","v":2579},"",""]
["Auckland Region","    Inlet Waitemata Harbour","..","..",3,"Inlet Waitemata Harbour",0,{"$error":"#DIV/0!"},{"$f":"ROWS($A$3:A2582)","v":2580},"",""]
["Auckland Region","    Inlets other Auckland","..","..",9,"Inlets other Auckland",0,{"$error":"#DIV/0!"},{"$f":"ROWS($A$3:A2583)","v":2581},"",""]
["Auckland Region","    Kaipara Hills","..","..",741,"Kaipara Hills",282.59738123,2.6221049776710985,{"$f":"ROWS($A$3:A2584)","v":2582},"",""]
["Auckland Region","    Karaka Creek","..","..",561,"Karaka Creek",34.780656489999899,16.129655291621599,{"$f":"ROWS($A$3:A2585)","v":2583},"",""]
["Auckland Region","    Karaka Lakes","..","..",684,"Karaka Lakes",3.3305519000000001,205.37136803062577,{"$f":"ROWS($A$3:A2586)","v":2584},"",""]
["Auckland Region","    Karangahape","..","..",1347,"Karangahape",0.28481656999999999,4729.3596717353912,{"$f":"ROWS($A$3:A2587)","v":2585},"",""]
["Auckland Region","    Kaurilands","..","..",1101,"Kaurilands",1.4613221599999999,753.42729354080279,{"$f":"ROWS($A$3:A2588)","v":2586},"",""]
["Auckland Region","    Kawakawa Bay-Orere","..","..",978,"Kawakawa Bay-Orere",208.77544671000001,4.6844589026720804,{"$f":"ROWS($A$3:A2589)","v":2587},"",""]
["Auckland Region","    Kelston North","..","..",798,"Kelston North",0.96688836,825.327962371995,{"$f":"ROWS($A$3:A2590)","v":2588},"",""]
["Auckland Region","    Kelston South","..","..",765,"Kelston South",0.83674883,914.25284693854906,{"$f":"ROWS($A$3:A2591)","v":2589},"",""]
["Auckland Region","    Kendallvale","..","..",369,"Kendallvale",2.1445696299999999,172.06249442224919,{"$f":"ROWS($A$3:A2592)","v":2590},"",""]
["Auckland Region","    Kingseat-Karaka","..","..",1083,"Kingseat-Karaka",86.6601877599999,12.497088086161346,{"$f":"ROWS($A$3:A2593)","v":2591},"",""]
["Auckland Region","    Kingsland","..","..",1218,"Kingsland",0.77242480999999996,1576.8525094371323,{"$f":"ROWS($A$3:A2594)","v":2592},"",""]
["Auckland Region","    Kingsway","..","..",765,"Kingsway",0.90311039999999998,847.07251737993499,{"$f":"ROWS($A$3:A2595)","v":2593},"",""]
["Auckland Region","    Kohimarama","..","..",1875,"Kohimarama",1.5129335500000001,1239.3141787357415,{"$f":"ROWS($A$3:A2596)","v":2594},"",""]
["Auckland Region","    Konini","..","..",1260,"Konini",1.9717604799999999,639.02284926615425,{"$f":"ROWS($A$3:A2597)","v":2595},"",""]
["Auckland Region","    Kumeu Rural East","..","..",681,"Kumeu Rural East",14.92218201,45.636757381972181,{"$f":"ROWS($A$3:A2598)","v":2596},"",""]
["Auckland Region","    Kumeu Rural West","..","..",606,"Kumeu Rural West",24.4333556499999,24.802160156826535,{"$f":"ROWS($A$3:A2599)","v":2597},"",""]
["Auckland Region","    Kumeu-Huapai","..","..",1335,"Kumeu-Huapai",6.3210668999999999,211.19852409725326,{"$f":"ROWS($A$3:A2600)","v":2598},"",""]
["Auckland Region","    Laingholm","..","..",879,"Laingholm",4.0782995099999999,215.53100694166525,{"$f":"ROWS($A$3:A2601)","v":2599},"",""]
["Auckland Region","    Leabank","..","..",1143,"Leabank",1.48914276,767.55569089964217,{"$f":"ROWS($A$3:A2602)","v":2600},"",""]
["Auckland Region","    Long Bay","..","..",567,"Long Bay",2.7871574799999999,203.43306902055639,{"$f":"ROWS($A$3:A2603)","v":2601},"",""]
["Auckland Region","    Lynfield North","..","..",903,"Lynfield North",0.94159196999999994,959.01412583202045,{"$f":"ROWS($A$3:A2604)","v":2602},"",""]
["Auckland Region","    Lynfield South","..","..",1449,"Lynfield South",1.5756576900000001,919.61598588079107,{"$f":"ROWS($A$3:A2605)","v":2603},"",""]
["Auckland Region","    Mairangi Bay North","..","..",1026,"Mairangi Bay North",0.92453074000000002,1109.7521754657935,{"$f":"ROWS($A$3:A2606)","v":2604},"",""]
["Auckland Region","    Mairangi Bay South","..","..",960,"Mairangi Bay South",0.80141814,1197.8765541793202,{"$f":"ROWS($A$3:A2607)","v":2605},"",""]
["Auckland Region","    Mangere Bridge","..","..",1068,"Mangere Bridge",1.6180169600000001,660.06724676112174,{"$f":"ROWS($A$3:A2608)","v":2606},"",""]
["Auckland Region","    Mangere Bridge Ambury","..","..",1230,"Mangere Bridge Ambury",3.14003429,391.7154675403242,{"$f":"ROWS($A$3:A2609)","v":2607},"",""]
["Auckland Region","    Mangere Central","..","..",792,"Mangere Central",1.4449226399999999,548.12623048110038,{"$f":"ROWS($A$3:A2610)","v":2608},"",""]
["Auckland Region","    Mangere East","..","..",921,"Mangere East",0.86872274000000005,1060.1771515731243,{"$f":"ROWS($A$3:A2611)","v":2609},"",""]
["Auckland Region","    Mangere Mascot","..","..",795,"Mangere Mascot",0.78432155999999997,1013.6148750010136,{"$f":"ROWS($A$3:A2612)","v":2610},"",""]
["Auckland Region","    Mangere Mountain View","..","..",1059,"Mangere Mountain View",1.69738429,623.90114380050022,{"$f":"ROWS($A$3:A2613)","v":2611},"",""]
["Auckland Region","    Mangere North","..","..",480,"Mangere North",0.71610264999999995,670.29496399713094,{"$f":"ROWS($A$3:A2614)","v":2612},"",""]
["Auckland Region","    Mangere South","..","..",747,"Mangere South",0.83312101999999999,896.62843940727839,{"$f":"ROWS($A$3:A2615)","v":2613},"",""]
["Auckland Region","    Mangere South East","..","..",834,"Mangere South East",4.3312051499999997,192.55610646842717,{"$f":"ROWS($A$3:A2616)","v":2614},"",""]
["Auckland Region","    Mangere West","..","..",882,"Mangere West",0.94253489000000001,935.77437754054915,{"$f":"ROWS($A$3:A2617)","v":2615},"",""]
["Auckland Region","    Manly East","..","..",1554,"Manly East",1.5746307900000001,986.89801435928985,{"$f":"ROWS($A$3:A2618)","v":2616},"",""]
["Auckland Region","    Manly West","..","..",996,"Manly West",1.0323979000000001,964.74431030903872,{"$f":"ROWS($A$3:A2619)","v":2617},"",""]
["Auckland Region","    Manukau Central","..","..",462,"Manukau Central",11.40067045,40.523932520126479,{"$f":"ROWS($A$3:A2620)","v":2618},"",""]
["Auckland Region","    Manurewa Central","..","..",1047,"Manurewa Central",1.07399259,974.86706123363479,{"$f":"ROWS($A$3:A2621)","v":2619},"",""]
["Auckland Region","    Manurewa East","..","..",780,"Manurewa East",0.82830356999999999,941.68373558983933,{"$f":"ROWS($A$3:A2622)","v":2620},"",""]
["Auckland Region","    Manurewa South","..","..",1098,"Manurewa South",1.21704652,902.1840841383779,{"$f":"ROWS($A$3:A2623)","v":2621},"",""]
["Auckland Region","    Maraetai","..","..",954,"Maraetai",6.8851550399999999,138.5589713605055,{"$f":"ROWS($A$3:A2624)","v":2622},"",""]
["Auckland Region","    Massey Central","..","..",987,"Massey Central",0.88452792000000002,1115.8494578667455,{"$f":"ROWS($A$3:A2625)","v":2623},"",""]
["Auckland Region","    Massey East","..","..",990,"Massey East",1.1444708800000001,865.02856236936316,{"$f":"ROWS($A$3:A2626)","v":2624},"",""]
["Auckland Region","    Massey Road North","..","..",801,{"$f":"TRIM(B2627)","v":"Massey Road North"},0.85966761999999997,{"$f":"E2627/G2627","v":931.75546148870887},{"$f":"ROWS($A$3:A2627)","v":2625},{"$f":"IF(A2627=$M$2,I2628,\"\")","v":""},""]
["Auckland Region","    Massey Road South","..","..",396,"Massey Road South",0.32471634999999999,1219.5259031459304,{"$f":"ROWS($A$3:A2628)","v":2626},"",{"$f":"IFERROR(SMALL($J$3:$J$4612,I2628)-1,\"\")","v":""}]
["Auckland Region","    Massey Road West","..","..",897,"Massey Road West",0.69351969999999996,1293.4023359394118,{"$f":"ROWS($A$3:A2629)","v":2627},"",""]
["Auckland Region","    Massey Royal Road West","..","..",948,"Massey Royal Road West",0.89641574999999996,1057.5450063210069,{"$f":"ROWS($A$3:A2630)","v":2628},"",""]
["Auckland Region","    Massey South","..","..",1437,"Massey South",1.3868166799999999,1036.1859795340795,{"$f":"ROWS($A$3:A2631)","v":2629},"",""]
["Auckland Region","    Massey West","..","..",423,"Massey West",1.1846977299999999,357.05310248209901,{"$f":"ROWS($A$3:A2632)","v":2630},"",""]
["Auckland Region","    Maungawhau","..","..",1002,"Maungawhau",0.73452194999999998,1364.1525620847683,{"$f":"ROWS($A$3:A2633)","v":2631},"",""]
["Auckland Region","    McLaren Park","..","..",1299,"McLaren Park",1.0883996600000001,1193.4954114190002,{"$f":"ROWS($A$3:A2634)","v":2632},"",""]
["Auckland Region","    Meadowbank East","..","..",1086,"Meadowbank East",0.65235233000000004,1664.7445713882864,{"$f":"ROWS($A$3:A2635)","v":2633},"",""]
["Auckland Region","    Meadowbank West","..","..",1080,"Meadowbank West",1.04159595,1036.870391057108,{"$f":"ROWS($A$3:A2636)","v":2634},"",""]
["Auckland Region","    Mellons Bay","..","..",1461,"Mellons Bay",1.67597292,871.73246212116601,{"$f":"ROWS($A$3:A2637)","v":2635},"",""]
["Auckland Region","    Middlemore","..","..",0,"Middlemore",0.72022213000000002,0,{"$f":"ROWS($A$3:A2638)","v":2636},"",""]
["Auckland Region","    Milford Central","..","..",903,"Milford Central",0.74357207999999997,1214.4081579824783,{"$f":"ROWS($A$3:A2639)","v":2637},"",""]
["Auckland Region","    Milford West","..","..",1317,"Milford West",0.83338076000000005,1580.3100613937859,{"$f":"ROWS($A$3:A2640)","v":2638},"",""]
["Auckland Region","    Millwater North","..","..",1242,"Millwater North",1.7521735899999999,708.83387758401273,{"$f":"ROWS($A$3:A2641)","v":2639},"",""]
["Auckland Region","    Millwater South","..","..",879,"Millwater South",2.4111349400000002,364.55860906731328,{"$f":"ROWS($A$3:A2642)","v":2640},"",""]
["Auckland Region","    Mission Bay","..","..",1845,"Mission Bay",1.54574692,1193.597720382325,{"$f":"ROWS($A$3:A2643)","v":2641},"",""]
["Auckland Region","    Mission Heights North","..","..",951,"Mission Heights North",1.07241323,886.78503154982525,{"$f":"ROWS($A$3:A2644)","v":2642},"",""]
["Auckland Region","    Mission Heights South","..","..",792,"Mission Heights South",0.86985025000000005,910.50154897351581,{"$f":"ROWS($A$3:A2645)","v":2643},"",""]
["Auckland Region","    Morningside (Auckland)","..","..",1395,"Morningside (Auckland)",1.0935585400000001,1275.6518731955584,{"$f":"ROWS($A$3:A2646)","v":2644},"",""]
["Auckland Region","    Mount Albert Central","..","..",1206,"Mount Albert Central",1.31350682,918.15282694915891,{"$f":"ROWS($A$3:A2647)","v":2645},"",""]
["Auckland Region","    Mount Albert North","..","..",1407,"Mount Albert North",1.5138686400000001,929.40692661418757,{"$f":"ROWS($A$3:A2648)","v":2646},"",""]
["Auckland Region","    Mount Albert South","..","..",765,"Mount Albert South",0.83111668000000005,920.44837795819467,{"$f":"ROWS($A$3:A2649)","v":2647},"",""]
["Auckland Region","    Mount Albert West","..","..",861,"Mount Albert West",1.39086731,619.03820286063092,{"$f":"ROWS($A$3:A2650)","v":2648},"",""]
["Auckland Region","    Mount Eden East","..","..",1071,"Mount Eden East",0.76425140999999996,1401.3713105220179,{"$f":"ROWS($A$3:A2651)","v":2649},"",""]
["Auckland Region","    Mount Eden North","..","..",1464,"Mount Eden North",0.87610628999999995,1671.0301212424808,{"$f":"ROWS($A$3:A2652)","v":2650},"",""]
["Auckland Region","    Mount Eden North East","..","..",519,"Mount Eden North East",0.46591266999999997,1113.9426622590024,{"$f":"ROWS($A$3:A2653)","v":2651},"",""]
["Auckland Region","    Mount Eden South","..","..",1353,"Mount Eden South",0.87283197000000001,1550.1265381010276,{"$f":"ROWS($A$3:A2654)","v":2652},"",""]
["Auckland Region","    Mount Eden West","..","..",1176,"Mount Eden West",0.79122760999999997,1486.2979819422633,{"$f":"ROWS($A$3:A2655)","v":2653},"",""]
["Auckland Region","    Mount Roskill Central North","..","..",969,"Mount Roskill Central North",0.89983995000000006,1076.8581679441993,{"$f":"ROWS($A$3:A2656)","v":2654},"",""]
["Auckland Region","    Mount Roskill Central South","..","..",690,"Mount Roskill Central South",1.20295544,573.5873308823476,{"$f":"ROWS($A$3:A2657)","v":2655},"",""]
["Auckland Region","    Mount Roskill North","..","..",1377,"Mount Roskill North",0.95837556999999995,1436.806240793471,{"$f":"ROWS($A$3:A2658)","v":2656},"",""]
["Auckland Region","    Mount Roskill South","..","..",1041,"Mount Roskill South",1.1296115200000001,921.55575750502248,{"$f":"ROWS($A$3:A2659)","v":2657},"",""]
["Auckland Region","    Mount Roskill White Swan","..","..",1392,"Mount Roskill White Swan",1.0419419599999999,1335.966928522583,{"$f":"ROWS($A$3:A2660)","v":2658},"",""]
["Auckland Region","    Mount St John","..","..",1119,"Mount St John",1.2425431499999999,900.57234632052825,{"$f":"ROWS($A$3:A2661)","v":2659},"",""]
["Auckland Region","    Mount Wellington Central","..","..",1524,"Mount Wellington Central",1.2073871300000001,1262.2297870609239,{"$f":"ROWS($A$3:A2662)","v":2660},"",""]
["Auckland Region","    Mount Wellington East","..","..",849,"Mount Wellington East",0.59950667000000002,1416.16439396746,{"$f":"ROWS($A$3:A2663)","v":2661},"",""]
["Auckland Region","    Mount Wellington Ferndale","..","..",1425,"Mount Wellington Ferndale",0.85764388999999996,1661.528772740397,{"$f":"ROWS($A$3:A2664)","v":2662},"",""]
["Auckland Region","    Mount Wellington Industrial","..","..",6,"Mount Wellington Industrial",3.3333080800000001,1.8000136369033131,{"$f":"ROWS($A$3:A2665)","v":2663},"",""]
["Auckland Region","    Mount Wellington North East","..","..",816,"Mount Wellington North East",0.72698014,1122.4515706852735,{"$f":"ROWS($A$3:A2666)","v":2664},"",""]
["Auckland Region","    Mount Wellington North West","..","..",1359,"Mount Wellington North West",0.92460655999999997,1469.8143608239163,{"$f":"ROWS($A$3:A2667)","v":2665},"",""]
["Auckland Region","    Mount Wellington South East","..","..",789,"Mount Wellington South East",0.67318677000000005,1172.0372936027841,{"$f":"ROWS($A$3:A2668)","v":2666},"",""]
["Auckland Region","    Mount Wellington South West","..","..",789,"Mount Wellington South West",0.69676276000000004,1132.3796926230673,{"$f":"ROWS($A$3:A2669)","v":2667},"",""]
["Auckland Region","    Mount Wellington West","..","..",933,"Mount Wellington West",0.77910142999999998,1197.5334200066864,{"$f":"ROWS($A$3:A2670)","v":2668},"",""]
["Auckland Region","    Muriwai","..","..",534,"Muriwai",3.01225115,177.27605482032931,{"$f":"ROWS($A$3:A2671)","v":2669},"",""]
["Auckland Region","    Muriwai Valley-Bethells Beach","..","..",420,"Muriwai Valley-Bethells Beach",35.3547071899999,11.879606235822461,{"$f":"ROWS($A$3:A2672)","v":2670},"",""]
["Auckland Region","    Murrays Bay East","..","..",807,"Murrays Bay East",0.69854185999999996,1155.2636229989139,{"$f":"ROWS($A$3:A2673)","v":2671},"",""]
["Auckland Region","    Murrays Bay West","..","..",867,"Murrays Bay West",0.95565783000000004,907.22847946529146,{"$f":"ROWS($A$3:A2674)","v":2672},"",""]
["Auckland Region","    Narrow Neck","..","..",1566,"Narrow Neck",1.82165746,859.65667771590824,{"$f":"ROWS($A$3:A2675)","v":2673},"",""]
["Auckland Region","    New Lynn Central","..","..",219,"New Lynn Central",1.1748002099999999,186.41467556428171,{"$f":"ROWS($A$3:A2676)","v":2674},"",""]
["Auckland Region","    New Lynn Central South","..","..",1005,"New Lynn Central South",0.73948961999999996,1359.0454454249136,{"$f":"ROWS($A$3:A2677)","v":2675},"",""]
["Auckland Region","    New Lynn North","..","..",1116,"New Lynn North",0.73891938000000001,1510.3136149981613,{"$f":"ROWS($A$3:A2678)","v":2676},"",""]
["Auckland Region","    New Lynn North West","..","..",1080,"New Lynn North West",0.68978189000000001,1565.7123152363422,{"$f":"ROWS($A$3:A2679)","v":2677},"",""]
["Auckland Region","    New Lynn Seabrook","..","..",1050,"New Lynn Seabrook",0.72255597000000005,1453.1746239671925,{"$f":"ROWS($A$3:A2680)","v":2678},"",""]
["Auckland Region","    New Lynn South","..","..",1623,"New Lynn South",1.43654054,1129.7975621349328,{"$f":"ROWS($A$3:A2681)","v":2679},"",""]
["Auckland Region","    New Windsor North","..","..",948,"New Windsor North",0.86782722000000001,1092.3833433111258,{"$f":"ROWS($A$3:A2682)","v":2680},"",""]
["Auckland Region","    New Windsor South","..","..",1317,"New Windsor South",1.11580579,1180.3129288296666,{"$f":"ROWS($A$3:A2683)","v":2681},"",""]
["Auckland Region","    Newmarket","..","..",1896,"Newmarket",1.07489367,1763.8953999980295,{"$f":"ROWS($A$3:A2684)","v":2682},"",""]
["Auckland Region","    North Harbour","..","..",444,"North Harbour",5.4863976699999997,80.927418445772275,{"$f":"ROWS($A$3:A2685)","v":2683},"",""]
["Auckland Region","    Northcote Central (Auckland)","..","..",852,"Northcote Central (Auckland)",0.68691447000000005,1240.3290907527394,{"$f":"ROWS($A$3:A2686)","v":2684},"",""]
["Auckland Region","    Northcote Point (Auckland)","..","..",1191,"Northcote Point (Auckland)",1.1731639199999999,1015.2033997090535,{"$f":"ROWS($A$3:A2687)","v":2685},"",""]
["Auckland Region","    Northcote South (Auckland)","..","..",900,"Northcote South (Auckland)",1.1402653,789.29000119533578,{"$f":"ROWS($A$3:A2688)","v":2686},"",""]
["Auckland Region","    Northcote Tuff Crater","..","..",813,"Northcote Tuff Crater",1.1134996500000001,730.1304495246136,{"$f":"ROWS($A$3:A2689)","v":2687},"",""]
["Auckland Region","    Northcross","..","..",1134,"Northcross",1.0704566600000001,1059.3609646933301,{"$f":"ROWS($A$3:A2690)","v":2688},"",""]
["Auckland Region","    Northpark North","..","..",993,{"$f":"TRIM(B2691)","v":"Northpark North"},0.86166841999999999,{"$f":"E2691/G2691","v":1152.4154500173049},{"$f":"ROWS($A$3:A2691)","v":2689},{"$f":"IF(A2691=$M$2,I2692,\"\")","v":""},""]
["Auckland Region","    Northpark South","..","..",735,"Northpark South",0.70661609000000003,1040.1687852876375,{"$f":"ROWS($A$3:A2692)","v":2690},"",{"$f":"IFERROR(SMALL($J$3:$J$4612,I2692)-1,\"\")","v":""}]
["Auckland Region","    Oceanic Auckland Region East","..","..",9,"Oceanic Auckland Region East",0,{"$error":"#DIV/0!"},{"$f":"ROWS($A$3:A2693)","v":2691},"",""]
["Auckland Region","    Oceanic Auckland Region West","..","..",0,"Oceanic Auckland Region West",0,{"$error":"#DIV/0!"},{"$f":"ROWS($A$3:A2694)","v":2692},"",""]
["Auckland Region","    Okahukura Peninsula","..","..",663,"Okahukura Peninsula",211.18081304,3.1394897597748161,{"$f":"ROWS($A$3:A2695)","v":2693},"",""]
["Auckland Region","    Okura Bush","..","..",474,"Okura Bush",28.988727010000002,16.351183680348853,{"$f":"ROWS($A$3:A2696)","v":2694},"",""]
["Auckland Region","    One Tree Hill","..","..",1785,"One Tree Hill",2.74928149,649.26054552529649,{"$f":"ROWS($A$3:A2697)","v":2695},"",""]
["Auckland Region","    Onehunga Central","..","..",1341,"Onehunga Central",0.86447109,1551.2375318415795,{"$f":"ROWS($A$3:A2698)","v":2696},"",""]
["Auckland Region","    Onehunga North","..","..",1398,"Onehunga North",0.77236243999999998,1810.031052260905,{"$f":"ROWS($A$3:A2699)","v":2697},"",""]
["Auckland Region","    Onehunga West","..","..",1374,"Onehunga West",1.12216103,1224.4232006524055,{"$f":"ROWS($A$3:A2700)","v":2698},"",""]
["Auckland Region","    Onehunga-Te Papapa Industrial","..","..",420,"Onehunga-Te Papapa Industrial",2.9414608200000001,142.78619560195264,{"$f":"ROWS($A$3:A2701)","v":2699},"",""]
["Auckland Region","    Oneroa East-Palm Beach","..","..",999,"Oneroa East-Palm Beach",3.6731498600000001,271.97365696372651,{"$f":"ROWS($A$3:A2702)","v":2700},"",""]
["Auckland Region","    Oneroa West","..","..",1089,"Oneroa West",8.4200102399999999,129.3347595738791,{"$f":"ROWS($A$3:A2703)","v":2701},"",""]
["Auckland Region","    Onetangi","..","..",999,"Onetangi",5.9616334499999999,167.57152353940847,{"$f":"ROWS($A$3:A2704)","v":2702},"",""]
["Auckland Region","    Opaheke","..","..",957,"Opaheke",1.10867301,863.19409904278268,{"$f":"ROWS($A$3:A2705)","v":2703},"",""]
["Auckland Region","    Orakei East","..","..",1173,"Orakei East",1.70739051,687.01330663949864,{"$f":"ROWS($A$3:A2706)","v":2704},"",""]
["Auckland Region","    Orakei West","..","..",1167,"Orakei West",1.3536476399999999,862.11504790123968,{"$f":"ROWS($A$3:A2707)","v":2705},"",""]
["Auckland Region","    Oranga","..","..",909,"Oranga",0.66853335999999997,1359.6928057561706,{"$f":"ROWS($A$3:A2708)","v":2706},"",""]
["Auckland Region","    Oratia","..","..",759,"Oratia",17.1911746299999,44.150560757813935,{"$f":"ROWS($A$3:A2709)","v":2707},"",""]
["Auckland Region","    Orewa Central","..","..",1731,"Orewa Central",1.4528432099999999,1191.4568537646951,{"$f":"ROWS($A$3:A2710)","v":2708},"",""]
["Auckland Region","    Orewa North","..","..",1842,"Orewa North",3.0420543000000002,605.51187399909327,{"$f":"ROWS($A$3:A2711)","v":2709},"",""]
["Auckland Region","    Orewa South","..","..",1503,"Orewa South",2.3116062799999999,650.19722995388304,{"$f":"ROWS($A$3:A2712)","v":2710},"",""]
["Auckland Region","    Ormiston East","..","..",279,"Ormiston East",4.4146672699999998,63.198420840445358,{"$f":"ROWS($A$3:A2713)","v":2711},"",""]
["Auckland Region","    Ormiston North","..","..",606,"Ormiston North",2.30075808,263.39144704861798,{"$f":"ROWS($A$3:A2714)","v":2712},"",""]
["Auckland Region","    Ormiston South","..","..",1254,"Ormiston South",1.70316998,736.27413277916048,{"$f":"ROWS($A$3:A2715)","v":2713},"",""]
["Auckland Region","    Ostend","..","..",939,"Ostend",3.91381801,239.91917805089767,{"$f":"ROWS($A$3:A2716)","v":2714},"",""]
["Auckland Region","    Otahuhu Central","..","..",351,"Otahuhu Central",1.2637164299999999,277.75218527466643,{"$f":"ROWS($A$3:A2717)","v":2715},"",""]
["Auckland Region","    Otahuhu East","..","..",624,"Otahuhu East",0.78748523000000004,792.39581420466766,{"$f":"ROWS($A$3:A2718)","v":2716},"",""]
["Auckland Region","    Otahuhu Industrial","..","..",3,"Otahuhu Industrial",1.8453525099999999,1.6257056490523862,{"$f":"ROWS($A$3:A2719)","v":2717},"",""]
["Auckland Region","    Otahuhu North","..","..",1188,"Otahuhu North",0.72481481999999997,1639.0393342122888,{"$f":"ROWS($A$3:A2720)","v":2718},"",""]
["Auckland Region","    Otahuhu South","..","..",1128,"Otahuhu South",0.81751878,1379.784816686413,{"$f":"ROWS($A$3:A2721)","v":2719},"",""]
["Auckland Region","    Otahuhu South West","..","..",1056,"Otahuhu South West",1.24162382,850.49914715714783,{"$f":"ROWS($A$3:A2722)","v":2720},"",""]
["Auckland Region","    Otara Central","..","..",600,"Otara Central",1.52354042,393.81954828609008,{"$f":"ROWS($A$3:A2723)","v":2721},"",""]
["Auckland Region","    Otara East","..","..",825,"Otara East",0.86784541000000004,950.63013584412454,{"$f":"ROWS($A$3:A2724)","v":2722},"",""]
["Auckland Region","    Otara South","..","..",792,"Otara South",0.80187120999999995,987.6897812555211,{"$f":"ROWS($A$3:A2725)","v":2723},"",""]
["Auckland Region","    Otara West","..","..",696,"Otara West",1.5563746599999999,447.1930942386328,{"$f":"ROWS($A$3:A2726)","v":2724},"",""]
["Auckland Region","    Oteha East","..","..",1191,"Oteha East",0.76758590000000004,1551.6178710421855,{"$f":"ROWS($A$3:A2727)","v":2725},"",""]
["Auckland Region","    Oteha West","..","..",615,"Oteha West",0.52993902999999998,1160.5108610324476,{"$f":"ROWS($A$3:A2728)","v":2726},"",""]
["Auckland Region","    Owairaka East","..","..",690,"Owairaka East",0.40252110000000002,1714.1958520932194,{"$f":"ROWS($A$3:A2729)","v":2727},"",""]
["Auckland Region","    Owairaka West","..","..",1089,"Owairaka West",0.91844126999999998,1185.7045578973166,{"$f":"ROWS($A$3:A2730)","v":2728},"",""]
["Auckland Region","    Pahurehure","..","..",1089,"Pahurehure",1.2071569,902.11968303374647,{"$f":"ROWS($A$3:A2731)","v":2729},"",""]
["Auckland Region","    Pakuranga Central","..","..",1077,"Pakuranga Central",1.1259526200000001,956.52337484680299,{"$f":"ROWS($A$3:A2732)","v":2730},"",""]
["Auckland Region","    Pakuranga Heights East","..","..",960,"Pakuranga Heights East",1.79066061,536.11499277911742,{"$f":"ROWS($A$3:A2733)","v":2731},"",""]
["Auckland Region","    Pakuranga Heights North West","..","..",879,"Pakuranga Heights North West",0.76233989000000002,1153.0289986530811,{"$f":"ROWS($A$3:A2734)","v":2732},"",""]
["Auckland Region","    Pakuranga Heights South West","..","..",1101,"Pakuranga Heights South West",0.97371434000000001,1130.7217679468497,{"$f":"ROWS($A$3:A2735)","v":2733},"",""]
["Auckland Region","    Pakuranga West","..","..",1500,"Pakuranga West",1.3920482599999999,1077.5488487733896,{"$f":"ROWS($A$3:A2736)","v":2734},"",""]
["Auckland Region","    Panmure East","..","..",1257,"Panmure East",1.0136620300000001,1240.0582864882488,{"$f":"ROWS($A$3:A2737)","v":2735},"",""]
["Auckland Region","    Panmure Glen Innes Industrial","..","..",66,"Panmure Glen Innes Industrial",2.01305756,32.785947759983571,{"$f":"ROWS($A$3:A2738)","v":2736},"",""]
["Auckland Region","    Panmure West","..","..",126,"Panmure West",0.64310957000000002,195.92306797735881,{"$f":"ROWS($A$3:A2739)","v":2737},"",""]
["Auckland Region","    Papakura Central","..","..",1305,"Papakura Central",1.56524401,833.73582116439468,{"$f":"ROWS($A$3:A2740)","v":2738},"",""]
["Auckland Region","    Papakura East","..","..",876,"Papakura East",2.0176395399999998,434.17071416036987,{"$f":"ROWS($A$3:A2741)","v":2739},"",""]
["Auckland Region","    Papakura Industrial","..","..",66,"Papakura Industrial",1.5383817500000001,42.90222501664492,{"$f":"ROWS($A$3:A2742)","v":2740},"",""]
["Auckland Region","    Papakura Kelvin","..","..",1206,"Papakura Kelvin",1.0170488099999999,1185.7837973381043,{"$f":"ROWS($A$3:A2743)","v":2741},"",""]
["Auckland Region","    Papakura Massey Park","..","..",849,"Papakura Massey Park",0.89410414000000005,949.55381819392983,{"$f":"ROWS($A$3:A2744)","v":2742},"",""]
["Auckland Region","    Papakura North","..","..",1380,"Papakura North",1.2487808,1105.0778487305379,{"$f":"ROWS($A$3:A2745)","v":2743},"",""]
["Auckland Region","    Papakura North East","..","..",864,"Papakura North East",1.48821034,580.56309432710975,{"$f":"ROWS($A$3:A2746)","v":2744},"",""]
["Auckland Region","    Papakura West","..","..",702,"Papakura West",0.56013557999999997,1253.2680034358825,{"$f":"ROWS($A$3:A2747)","v":2745},"",""]
["Auckland Region","    Papatoetoe Central","..","..",1662,"Papatoetoe Central",1.4573838699999999,1140.3996120802408,{"$f":"ROWS($A$3:A2748)","v":2746},"",""]
["Auckland Region","    Papatoetoe East","..","..",1191,"Papatoetoe East",1.0684956999999999,1114.651186710438,{"$f":"ROWS($A$3:A2749)","v":2747},"",""]
["Auckland Region","    Papatoetoe North","..","..",1395,"Papatoetoe North",0.99327076999999997,1404.4508729477664,{"$f":"ROWS($A$3:A2750)","v":2748},"",""]
["Auckland Region","    Papatoetoe South","..","..",1212,"Papatoetoe South",0.79596425999999998,1522.6814329578065,{"$f":"ROWS($A$3:A2751)","v":2749},"",""]
["Auckland Region","    Papatoetoe South West","..","..",951,"Papatoetoe South West",0.82859680000000002,1147.7234766052682,{"$f":"ROWS($A$3:A2752)","v":2750},"",""]
["Auckland Region","    Papatoetoe West","..","..",1329,"Papatoetoe West",1.2243028600000001,1085.5157195336453,{"$f":"ROWS($A$3:A2753)","v":2751},"",""]
["Auckland Region","    Parakai","..","..",420,"Parakai",1.45487644,288.68430916373899,{"$f":"ROWS($A$3:A2754)","v":2752},"",""]
["Auckland Region","    Paremoremo East","..","..",705,{"$f":"TRIM(B2755)","v":"Paremoremo East"},11.6072722899999,{"$f":"E2755/G2755","v":60.737784243020123},{"$f":"ROWS($A$3:A2755)","v":2753},{"$f":"IF(A2755=$M$2,I2756,\"\")","v":""},""]
["Auckland Region","    Paremoremo West","..","..",327,"Paremoremo West",9.4711876700000008,34.525765024778565,{"$f":"ROWS($A$3:A2756)","v":2754},"",{"$f":"IFERROR(SMALL($J$3:$J$4612,I2756)-1,\"\")","v":""}]
["Auckland Region","    Parnell East","..","..",1575,"Parnell East",1.22491492,1285.8035887096551,{"$f":"ROWS($A$3:A2757)","v":2755},"",""]
["Auckland Region","    Parnell West","..","..",1968,"Parnell West",1.6492493699999999,1193.270123850343,{"$f":"ROWS($A$3:A2758)","v":2756},"",""]
["Auckland Region","    Patumahoe","..","..",822,"Patumahoe",34.378987010000003,23.909954058881969,{"$f":"ROWS($A$3:A2759)","v":2757},"",""]
["Auckland Region","    Penrose","..","..",336,"Penrose",6.4210989100000004,52.327491712785339,{"$f":"ROWS($A$3:A2760)","v":2758},"",""]
["Auckland Region","    Piha","..","..",717,"Piha",5.2383046799999997,136.87634526825576,{"$f":"ROWS($A$3:A2761)","v":2759},"",""]
["Auckland Region","    Pinehill","..","..",1242,"Pinehill",1.62934248,762.2706798879999,{"$f":"ROWS($A$3:A2762)","v":2760},"",""]
["Auckland Region","    Point Chevalier East","..","..",1653,"Point Chevalier East",1.3807093399999999,1197.2107033041436,{"$f":"ROWS($A$3:A2763)","v":2761},"",""]
["Auckland Region","    Point Chevalier West","..","..",1539,"Point Chevalier West",1.37246778,1121.3377992742387,{"$f":"ROWS($A$3:A2764)","v":2762},"",""]
["Auckland Region","    Point England","..","..",1449,"Point England",1.4914474099999999,971.53945240348776,{"$f":"ROWS($A$3:A2765)","v":2763},"",""]
["Auckland Region","    Ponsonby East","..","..",1440,"Ponsonby East",0.70309518999999998,2048.0868315995735,{"$f":"ROWS($A$3:A2766)","v":2764},"",""]
["Auckland Region","    Ponsonby West","..","..",867,"Ponsonby West",0.65007250999999999,1333.6973747743925,{"$f":"ROWS($A$3:A2767)","v":2765},"",""]
["Auckland Region","    Puhinui East","..","..",738,"Puhinui East",0.60410026000000006,1221.6515185740857,{"$f":"ROWS($A$3:A2768)","v":2766},"",""]
["Auckland Region","    Puhinui North","..","..",1140,"Puhinui North",0.70328268000000005,1620.9698211251271,{"$f":"ROWS($A$3:A2769)","v":2767},"",""]
["Auckland Region","    Puhinui South","..","..",681,"Puhinui South",0.52609059999999996,1294.4538450221312,{"$f":"ROWS($A$3:A2770)","v":2768},"",""]
["Auckland Region","    Puhoi Valley","..","..",1446,"Puhoi Valley",236.529964589999,6.1133903372728957,{"$f":"ROWS($A$3:A2771)","v":2769},"",""]
["Auckland Region","    Pukekohe Central","..","..",165,"Pukekohe Central",2.9391294499999998,56.139072064348852,{"$f":"ROWS($A$3:A2772)","v":2770},"",""]
["Auckland Region","    Pukekohe Hospital","..","..",639,"Pukekohe Hospital",0.73485860000000003,869.5550409289624,{"$f":"ROWS($A$3:A2773)","v":2771},"",""]
["Auckland Region","    Pukekohe North West","..","..",1662,"Pukekohe North West",4.7823689600000003,347.52651121255184,{"$f":"ROWS($A$3:A2774)","v":2772},"",""]
["Auckland Region","    Pukekohe West","..","..",1707,"Pukekohe West",2.2076424499999998,773.22303709099276,{"$f":"ROWS($A$3:A2775)","v":2773},"",""]
["Auckland Region","    Puni","..","..",522,"Puni",38.1909589099999,13.668156414457554,{"$f":"ROWS($A$3:A2776)","v":2774},"",""]
["Auckland Region","    Quay Street-Customs Street","..","..",1515,"Quay Street-Customs Street",1.2174190199999999,1244.4359543520193,{"$f":"ROWS($A$3:A2777)","v":2775},"",""]
["Auckland Region","    Queen Street","..","..",1170,"Queen Street",0.16843859999999999,6946.1512978616547,{"$f":"ROWS($A$3:A2778)","v":2776},"",""]
["Auckland Region","    Queen Street South West","..","..",1221,"Queen Street South West",0.22878127000000001,5336.9753564179446,{"$f":"ROWS($A$3:A2779)","v":2777},"",""]
["Auckland Region","    Ramarama","..","..",744,"Ramarama",43.615910159999899,17.057995517477966,{"$f":"ROWS($A$3:A2780)","v":2778},"",""]
["Auckland Region","    Randwick Park East","..","..",705,"Randwick Park East",0.74726124000000005,943.44515982121584,{"$f":"ROWS($A$3:A2781)","v":2779},"",""]
["Auckland Region","    Randwick Park West","..","..",894,"Randwick Park West",0.70415333000000002,1269.609844776279,{"$f":"ROWS($A$3:A2782)","v":2780},"",""]
["Auckland Region","    Ranui Domain","..","..",1017,"Ranui Domain",0.87018238999999997,1168.7205023765191,{"$f":"ROWS($A$3:A2783)","v":2781},"",""]
["Auckland Region","    Ranui North","..","..",1206,"Ranui North",1.02923012,1171.749618054318,{"$f":"ROWS($A$3:A2784)","v":2782},"",""]
["Auckland Region","    Ranui South East","..","..",822,"Ranui South East",0.94515225999999997,869.70114212074145,{"$f":"ROWS($A$3:A2785)","v":2783},"",""]
["Auckland Region","    Ranui South West","..","..",783,"Ranui South West",0.73694345000000006,1062.4967221026252,{"$f":"ROWS($A$3:A2786)","v":2784},"",""]
["Auckland Region","    Red Beach East","..","..",1758,"Red Beach East",1.56444435,1123.7216587474013,{"$f":"ROWS($A$3:A2787)","v":2785},"",""]
["Auckland Region","    Red Beach West","..","..",909,"Red Beach West",1.8399836700000001,494.02612361228182,{"$f":"ROWS($A$3:A2788)","v":2786},"",""]
["Auckland Region","    Red Hill","..","..",834,"Red Hill",2.1029976000000001,396.57677212755732,{"$f":"ROWS($A$3:A2789)","v":2787},"",""]
["Auckland Region","    Redcastle","..","..",819,"Redcastle",0.55559046999999995,1474.1073582489637,{"$f":"ROWS($A$3:A2790)","v":2788},"",""]
["Auckland Region","    Remuera Abbotts Park","..","..",1458,"Remuera Abbotts Park",1.0225069200000001,1425.9072202660495,{"$f":"ROWS($A$3:A2791)","v":2789},"",""]
["Auckland Region","    Remuera East","..","..",1002,"Remuera East",0.88580133999999999,1131.1791422668202,{"$f":"ROWS($A$3:A2792)","v":2790},"",""]
["Auckland Region","    Remuera North","..","..",1320,"Remuera North",1.39680508,945.01374522492426,{"$f":"ROWS($A$3:A2793)","v":2791},"",""]
["Auckland Region","    Remuera South","..","..",1449,"Remuera South",1.4291255700000001,1013.9067066024156,{"$f":"ROWS($A$3:A2794)","v":2792},"",""]
["Auckland Region","    Remuera Waiata","..","..",1095,"Remuera Waiata",0.94346870999999999,1160.6108272525541,{"$f":"ROWS($A$3:A2795)","v":2793},"",""]
["Auckland Region","    Remuera Waiatarua","..","..",876,"Remuera Waiatarua",1.57029302,557.85766659015019,{"$f":"ROWS($A$3:A2796)","v":2794},"",""]
["Auckland Region","    Remuera Waitaramoa","..","..",1539,"Remuera Waitaramoa",1.6921535299999999,909.49194190434957,{"$f":"ROWS($A$3:A2797)","v":2795},"",""]
["Auckland Region","    Remuera West","..","..",1029,"Remuera West",0.87955693000000001,1169.9072168074442,{"$f":"ROWS($A$3:A2798)","v":2796},"",""]
["Auckland Region","    Riverhead","..","..",981,"Riverhead",4.0519719600000004,242.10434072204188,{"$f":"ROWS($A$3:A2799)","v":2797},"",""]
["Auckland Region","    Riverhead Forest","..","..",3,"Riverhead Forest",48.427635870000003,6.1948099387986906E-2,{"$f":"ROWS($A$3:A2800)","v":2798},"",""]
["Auckland Region","    Rongomai East","..","..",498,"Rongomai East",0.58097595000000002,857.17833930991458,{"$f":"ROWS($A$3:A2801)","v":2799},"",""]
["Auckland Region","    Rongomai West","..","..",492,"Rongomai West",0.48507019000000001,1014.2862005187332,{"$f":"ROWS($A$3:A2802)","v":2800},"",""]
["Auckland Region","    Rooseville Park","..","..",915,"Rooseville Park",1.3458091599999999,679.88837288044613,{"$f":"ROWS($A$3:A2803)","v":2801},"",""]
["Auckland Region","    Rosa Birch Park","..","..",819,"Rosa Birch Park",0.79170523999999998,1034.4759117673643,{"$f":"ROWS($A$3:A2804)","v":2802},"",""]
["Auckland Region","    Rosebank Peninsula","..","..",6,"Rosebank Peninsula",2.3628813499999999,2.5392726553959215,{"$f":"ROWS($A$3:A2805)","v":2803},"",""]
["Auckland Region","    Rosehill","..","..",1218,"Rosehill",1.5449972300000001,788.35092798192261,{"$f":"ROWS($A$3:A2806)","v":2804},"",""]
["Auckland Region","    Rothesay Bay","..","..",1023,"Rothesay Bay",0.86585502999999997,1181.4910863311611,{"$f":"ROWS($A$3:A2807)","v":2805},"",""]
["Auckland Region","    Rowandale East","..","..",909,"Rowandale East",0.83155281999999997,1093.1356110367108,{"$f":"ROWS($A$3:A2808)","v":2806},"",""]
["Auckland Region","    Rowandale West","..","..",798,"Rowandale West",0.68821829999999995,1159.5158106083493,{"$f":"ROWS($A$3:A2809)","v":2807},"",""]
["Auckland Region","    Royal Heights North","..","..",1173,"Royal Heights North",1.4951159000000001,784.55456195737065,{"$f":"ROWS($A$3:A2810)","v":2808},"",""]
["Auckland Region","    Royal Heights South","..","..",1149,"Royal Heights South",1.13131504,1015.6322150547915,{"$f":"ROWS($A$3:A2811)","v":2809},"",""]
["Auckland Region","    Royal Oak East (Auckland)","..","..",1149,"Royal Oak East (Auckland)",0.64096805999999995,1792.6010228965233,{"$f":"ROWS($A$3:A2812)","v":2810},"",""]
["Auckland Region","    Royal Oak West (Auckland)","..","..",873,"Royal Oak West (Auckland)",0.81143578999999999,1075.8707106079214,{"$f":"ROWS($A$3:A2813)","v":2811},"",""]
["Auckland Region","    Saint Heliers North","..","..",1671,"Saint Heliers North",1.33837279,1248.5310613644499,{"$f":"ROWS($A$3:A2814)","v":2812},"",""]
["Auckland Region","    Saint Heliers South","..","..",1608,"Saint Heliers South",1.2221344700000001,1315.7308295215664,{"$f":"ROWS($A$3:A2815)","v":2813},"",""]
["Auckland Region","    Saint Heliers West","..","..",1482,"Saint Heliers West",1.18574088,1249.8514852587355,{"$f":"ROWS($A$3:A2816)","v":2814},"",""]
["Auckland Region","    Saint Johns East","..","..",1101,"Saint Johns East",0.60554145000000004,1818.207490172638,{"$f":"ROWS($A$3:A2817)","v":2815},"",""]
["Auckland Region","    Saint Johns West","..","..",1071,"Saint Johns West",1.0425490900000001,1027.2897557274737,{"$f":"ROWS($A$3:A2818)","v":2816},"",""]
["Auckland Region","    Saint Marys Bay","..","..",1083,{"$f":"TRIM(B2819)","v":"Saint Marys Bay"},0.84151164000000001,{"$f":"E2819/G2819","v":1286.9697203475403},{"$f":"ROWS($A$3:A2819)","v":2817},{"$f":"IF(A2819=$M$2,I2820,\"\")","v":""},""]
["Auckland Region","    Sandringham Central","..","..",858,"Sandringham Central",0.47231020000000001,1816.6027326955887,{"$f":"ROWS($A$3:A2820)","v":2818},"",{"$f":"IFERROR(SMALL($J$3:$J$4612,I2820)-1,\"\")","v":""}]
["Auckland Region","    Sandringham East","..","..",1224,"Sandringham East",0.71518377,1711.4482337875202,{"$f":"ROWS($A$3:A2821)","v":2819},"",""]
["Auckland Region","    Sandringham North","..","..",1362,"Sandringham North",0.85722096999999997,1588.8552049770785,{"$f":"ROWS($A$3:A2822)","v":2820},"",""]
["Auckland Region","    Sandringham West","..","..",789,"Sandringham West",0.47676220000000002,1654.9130782599793,{"$f":"ROWS($A$3:A2823)","v":2821},"",""]
["Auckland Region","    Sandspit","..","..",456,"Sandspit",22.43923564,20.321547815431739,{"$f":"ROWS($A$3:A2824)","v":2822},"",""]
["Auckland Region","    Schnapper Rock","..","..",1167,"Schnapper Rock",2.2150654599999999,526.84673255660812,{"$f":"ROWS($A$3:A2825)","v":2823},"",""]
["Auckland Region","    Shelly Park","..","..",981,"Shelly Park",1.23160322,796.52276323213903,{"$f":"ROWS($A$3:A2826)","v":2824},"",""]
["Auckland Region","    Shortland Street","..","..",1332,"Shortland Street",0.12741288000000001,10454.202118341567,{"$f":"ROWS($A$3:A2827)","v":2825},"",""]
["Auckland Region","    Silverdale Central (Auckland)","..","..",102,"Silverdale Central (Auckland)",3.3614030700000002,30.344471601854043,{"$f":"ROWS($A$3:A2828)","v":2826},"",""]
["Auckland Region","    Silverdale South (Auckland)","..","..",738,"Silverdale South (Auckland)",10.1895436499999,72.42718863076928,{"$f":"ROWS($A$3:A2829)","v":2827},"",""]
["Auckland Region","    Snells Beach","..","..",1737,"Snells Beach",3.8272598699999998,453.84950565167662,{"$f":"ROWS($A$3:A2830)","v":2828},"",""]
["Auckland Region","    Somerville","..","..",1470,"Somerville",1.5560659999999999,944.69000672207994,{"$f":"ROWS($A$3:A2831)","v":2829},"",""]
["Auckland Region","    South Head","..","..",1005,"South Head",339.79389712,2.9576752511393076,{"$f":"ROWS($A$3:A2832)","v":2830},"",""]
["Auckland Region","    St Lukes","..","..",969,"St Lukes",0.46193498999999999,2097.6977734464326,{"$f":"ROWS($A$3:A2833)","v":2831},"",""]
["Auckland Region","    Stanley Point","..","..",687,"Stanley Point",0.99187144000000005,692.63008520539711,{"$f":"ROWS($A$3:A2834)","v":2832},"",""]
["Auckland Region","    Stanmore Bay East","..","..",1125,"Stanmore Bay East",1.3378183699999999,840.92132775841617,{"$f":"ROWS($A$3:A2835)","v":2833},"",""]
["Auckland Region","    Stanmore Bay West","..","..",1029,"Stanmore Bay West",0.98684481000000002,1042.7171421208568,{"$f":"ROWS($A$3:A2836)","v":2834},"",""]
["Auckland Region","    Stonefields East","..","..",768,"Stonefields East",0.44566631000000001,1723.2624112870456,{"$f":"ROWS($A$3:A2837)","v":2835},"",""]
["Auckland Region","    Stonefields West","..","..",729,"Stonefields West",0.54220765000000004,1344.5033466421951,{"$f":"ROWS($A$3:A2838)","v":2836},"",""]
["Auckland Region","    Summerland North","..","..",831,"Summerland North",0.85091711000000003,976.59336054483606,{"$f":"ROWS($A$3:A2839)","v":2837},"",""]
["Auckland Region","    Summerland South","..","..",981,"Summerland South",1.3340107299999999,735.37639386153967,{"$f":"ROWS($A$3:A2840)","v":2838},"",""]
["Auckland Region","    Sunkist Bay","..","..",1167,"Sunkist Bay",1.52795082,763.76803803148584,{"$f":"ROWS($A$3:A2841)","v":2839},"",""]
["Auckland Region","    Sunnyhills East","..","..",1242,"Sunnyhills East",0.87367205999999997,1421.5860353826583,{"$f":"ROWS($A$3:A2842)","v":2840},"",""]
["Auckland Region","    Sunnyhills West-Pakuranga North","..","..",1218,"Sunnyhills West-Pakuranga North",1.6266024400000001,748.80005713012451,{"$f":"ROWS($A$3:A2843)","v":2841},"",""]
["Auckland Region","    Sunnynook North","..","..",942,"Sunnynook North",0.74464288999999995,1265.0359154036912,{"$f":"ROWS($A$3:A2844)","v":2842},"",""]
["Auckland Region","    Sunnynook South","..","..",870,"Sunnynook South",0.80161344000000001,1085.311144483805,{"$f":"ROWS($A$3:A2845)","v":2843},"",""]
["Auckland Region","    Sunnyvale East","..","..",1566,"Sunnyvale East",2.6615635700000002,588.37595226027224,{"$f":"ROWS($A$3:A2846)","v":2844},"",""]
["Auckland Region","    Sunnyvale West-Parrs Park","..","..",744,"Sunnyvale West-Parrs Park",0.84167882000000005,883.94763218587343,{"$f":"ROWS($A$3:A2847)","v":2845},"",""]
["Auckland Region","    Surfdale","..","..",1053,"Surfdale",2.6112799400000002,403.25052242388074,{"$f":"ROWS($A$3:A2848)","v":2846},"",""]
["Auckland Region","    Sutton Park","..","..",747,"Sutton Park",0.73066560999999997,1022.3554930962196,{"$f":"ROWS($A$3:A2849)","v":2847},"",""]
["Auckland Region","    Swanson","..","..",786,"Swanson",1.89457019,414.86982332388538,{"$f":"ROWS($A$3:A2850)","v":2848},"",""]
["Auckland Region","    Swanson Rural","..","..",807,"Swanson Rural",15.14912979,53.270386562580242,{"$f":"ROWS($A$3:A2851)","v":2849},"",""]
["Auckland Region","    Sylvia Park","..","..",45,"Sylvia Park",0.55720563000000001,80.760131587328004,{"$f":"ROWS($A$3:A2852)","v":2850},"",""]
["Auckland Region","    Symonds Street East","..","..",618,"Symonds Street East",0.10348319,5971.9844353464559,{"$f":"ROWS($A$3:A2853)","v":2851},"",""]
["Auckland Region","    Symonds Street North West","..","..",1617,"Symonds Street North West",8.7208359999999999E-2,18541.800350333386,{"$f":"ROWS($A$3:A2854)","v":2852},"",""]
["Auckland Region","    Symonds Street West","..","..",1533,"Symonds Street West",0.14523676999999999,10555.178278889018,{"$f":"ROWS($A$3:A2855)","v":2853},"",""]
["Auckland Region","    Takanini Central","..","..",417,"Takanini Central",1.0793622300000001,386.3392551729367,{"$f":"ROWS($A$3:A2856)","v":2854},"",""]
["Auckland Region","    Takanini Industrial","..","..",15,"Takanini Industrial",0.88082534000000001,17.029482825732511,{"$f":"ROWS($A$3:A2857)","v":2855},"",""]
["Auckland Region","    Takanini North","..","..",711,"Takanini North",5.2779725800000001,134.71081731159731,{"$f":"ROWS($A$3:A2858)","v":2856},"",""]
["Auckland Region","    Takanini South","..","..",1329,"Takanini South",2.3189506099999999,573.10405589017705,{"$f":"ROWS($A$3:A2859)","v":2857},"",""]
["Auckland Region","    Takanini South East","..","..",579,"Takanini South East",1.4688904300000001,394.17507812342404,{"$f":"ROWS($A$3:A2860)","v":2858},"",""]
["Auckland Region","    Takanini West","..","..",762,"Takanini West",0.68633158999999999,1110.2505131666751,{"$f":"ROWS($A$3:A2861)","v":2859},"",""]
["Auckland Region","    Takapuna Central","..","..",1263,"Takapuna Central",0.98523806999999997,1281.923667444154,{"$f":"ROWS($A$3:A2862)","v":2860},"",""]
["Auckland Region","    Takapuna South","..","..",621,"Takapuna South",0.50774881999999999,1223.0456783730192,{"$f":"ROWS($A$3:A2863)","v":2861},"",""]
["Auckland Region","    Takapuna West","..","..",2052,"Takapuna West",2.3472364099999998,874.21956785341456,{"$f":"ROWS($A$3:A2864)","v":2862},"",""]
["Auckland Region","    Tamakae","..","..",1020,"Tamakae",1.34089266,760.68728722849448,{"$f":"ROWS($A$3:A2865)","v":2863},"",""]
["Auckland Region","    Tamaki","..","..",1263,"Tamaki",1.2953531899999999,975.02365358748227,{"$f":"ROWS($A$3:A2866)","v":2864},"",""]
["Auckland Region","    Taupaki","..","..",579,"Taupaki",27.203635250000001,21.28392013343143,{"$f":"ROWS($A$3:A2867)","v":2865},"",""]
["Auckland Region","    Tawharanui Peninsula","..","..",2166,"Tawharanui Peninsula",46.670728099999899,46.410246597374268,{"$f":"ROWS($A$3:A2868)","v":2866},"",""]
["Auckland Region","    Te Atatu Peninsula Central","..","..",1158,"Te Atatu Peninsula Central",1.1137043799999999,1039.7732295889866,{"$f":"ROWS($A$3:A2869)","v":2867},"",""]
["Auckland Region","    Te Atatu Peninsula East","..","..",993,"Te Atatu Peninsula East",1.8096168399999999,548.73494656471041,{"$f":"ROWS($A$3:A2870)","v":2868},"",""]
["Auckland Region","    Te Atatu Peninsula North West","..","..",1158,"Te Atatu Peninsula North West",1.1125991799999999,1040.8060879570305,{"$f":"ROWS($A$3:A2871)","v":2869},"",""]
["Auckland Region","    Te Atatu Peninsula West","..","..",1302,"Te Atatu Peninsula West",1.42485167,913.77932693864193,{"$f":"ROWS($A$3:A2872)","v":2870},"",""]
["Auckland Region","    Te Atatu South-Central","..","..",1404,"Te Atatu South-Central",1.3631526899999999,1029.9653225201059,{"$f":"ROWS($A$3:A2873)","v":2871},"",""]
["Auckland Region","    Te Atatu South-Edmonton","..","..",1302,"Te Atatu South-Edmonton",1.06450047,1223.1089010228432,{"$f":"ROWS($A$3:A2874)","v":2872},"",""]
["Auckland Region","    Te Atatu South-McLeod North","..","..",1206,"Te Atatu South-McLeod North",1.0077486600000001,1196.7269695997411,{"$f":"ROWS($A$3:A2875)","v":2873},"",""]
["Auckland Region","    Te Atatu South-McLeod South","..","..",1215,"Te Atatu South-McLeod South",1.1052084200000001,1099.3401588453335,{"$f":"ROWS($A$3:A2876)","v":2874},"",""]
["Auckland Region","    Te Kuru","..","..",867,"Te Kuru",80.930439519999894,10.712903638509749,{"$f":"ROWS($A$3:A2877)","v":2875},"",""]
["Auckland Region","    Te Papapa","..","..",1179,"Te Papapa",0.71125762999999997,1657.6272088638261,{"$f":"ROWS($A$3:A2878)","v":2876},"",""]
["Auckland Region","    Te Puru","..","..",1149,"Te Puru",7.2901401000000003,157.61013975575037,{"$f":"ROWS($A$3:A2879)","v":2877},"",""]
["Auckland Region","    The Gardens (Auckland)","..","..",1137,"The Gardens (Auckland)",4.0890090199999998,278.06248272839468,{"$f":"ROWS($A$3:A2880)","v":2878},"",""]
["Auckland Region","    The Strand","..","..",582,"The Strand",0.16919215000000001,3439.8759044080944,{"$f":"ROWS($A$3:A2881)","v":2879},"",""]
["Auckland Region","    Three Kings East","..","..",618,"Three Kings East",0.67406907000000005,916.81999294226625,{"$f":"ROWS($A$3:A2882)","v":2880},"",""]
["Auckland Region","    Three Kings West","..","..",738,{"$f":"TRIM(B2883)","v":"Three Kings West"},0.64710009999999996,{"$f":"E2883/G2883","v":1140.4727027549525},{"$f":"ROWS($A$3:A2883)","v":2881},{"$f":"IF(A2883=$M$2,I2884,\"\")","v":""},""]
["Auckland Region","    Tindalls-Matakatia","..","..",855,"Tindalls-Matakatia",2.9334763700000002,291.4630602597968,{"$f":"ROWS($A$3:A2884)","v":2882},"",{"$f":"IFERROR(SMALL($J$3:$J$4612,I2884)-1,\"\")","v":""}]
["Auckland Region","    Titirangi South","..","..",1479,"Titirangi South",4.7329975199999996,312.48695858179957,{"$f":"ROWS($A$3:A2885)","v":2883},"",""]
["Auckland Region","    Torbay","..","..",1614,"Torbay",1.4338759400000001,1125.620393630428,{"$f":"ROWS($A$3:A2886)","v":2884},"",""]
["Auckland Region","    Totara Heights","..","..",813,"Totara Heights",0.85465897000000002,951.25661642561363,{"$f":"ROWS($A$3:A2887)","v":2885},"",""]
["Auckland Region","    Totara Vale North","..","..",1008,"Totara Vale North",0.86679242999999995,1162.9081716830408,{"$f":"ROWS($A$3:A2888)","v":2886},"",""]
["Auckland Region","    Totara Vale South","..","..",1326,"Totara Vale South",0.89613969999999998,1479.6800097127714,{"$f":"ROWS($A$3:A2889)","v":2887},"",""]
["Auckland Region","    Turanga","..","..",1083,"Turanga",84.962333509999894,12.746825037150529,{"$f":"ROWS($A$3:A2890)","v":2888},"",""]
["Auckland Region","    Tuscany Heights","..","..",429,"Tuscany Heights",6.6289287999999997,64.716338482923518,{"$f":"ROWS($A$3:A2891)","v":2889},"",""]
["Auckland Region","    Unsworth Heights East","..","..",1203,"Unsworth Heights East",1.1080749599999999,1085.6666231317058,{"$f":"ROWS($A$3:A2892)","v":2890},"",""]
["Auckland Region","    Unsworth Heights West","..","..",774,"Unsworth Heights West",0.74886125000000003,1033.5693027246368,{"$f":"ROWS($A$3:A2893)","v":2891},"",""]
["Auckland Region","    Victoria Park","..","..",1329,"Victoria Park",0.44829837,2964.5434579652833,{"$f":"ROWS($A$3:A2894)","v":2892},"",""]
["Auckland Region","    Vipond","..","..",1197,"Vipond",1.3811381899999999,866.67649093100533,{"$f":"ROWS($A$3:A2895)","v":2893},"",""]
["Auckland Region","    Waiake","..","..",1374,"Waiake",1.24892146,1100.1492439724752,{"$f":"ROWS($A$3:A2896)","v":2894},"",""]
["Auckland Region","    Waiatarua","..","..",789,"Waiatarua",11.28314106,69.927336351141918,{"$f":"ROWS($A$3:A2897)","v":2895},"",""]
["Auckland Region","    Waiheke East","..","..",738,"Waiheke East",87.580628439999899,8.4265209458458283,{"$f":"ROWS($A$3:A2898)","v":2896},"",""]
["Auckland Region","    Waikoukou Valley","..","..",603,"Waikoukou Valley",52.8545830999999,11.40866060487385,{"$f":"ROWS($A$3:A2899)","v":2897},"",""]
["Auckland Region","    Waikowhai North","..","..",945,"Waikowhai North",0.69810773999999998,1353.6592503615559,{"$f":"ROWS($A$3:A2900)","v":2898},"",""]
["Auckland Region","    Waikowhai South","..","..",651,"Waikowhai South",1.3568467900000001,479.78887874289768,{"$f":"ROWS($A$3:A2901)","v":2899},"",""]
["Auckland Region","    Waimauku","..","..",462,"Waimauku",5.6331431500000004,82.014603161646974,{"$f":"ROWS($A$3:A2902)","v":2900},"",""]
["Auckland Region","    Waima-Woodlands Park","..","..",921,"Waima-Woodlands Park",3.48409996,264.34373599315444,{"$f":"ROWS($A$3:A2903)","v":2901},"",""]
["Auckland Region","    Wainui-Waiwera","..","..",732,"Wainui-Waiwera",78.715085400000007,9.2993610599576364,{"$f":"ROWS($A$3:A2904)","v":2902},"",""]
["Auckland Region","    Waipatukahu","..","..",519,"Waipatukahu",52.058796970000003,9.9694966116693955,{"$f":"ROWS($A$3:A2905)","v":2903},"",""]
["Auckland Region","    Wairau Valley","..","..",54,"Wairau Valley",2.5637301699999999,21.063059066001475,{"$f":"ROWS($A$3:A2906)","v":2904},"",""]
["Auckland Region","    Waitakere","..","..",690,"Waitakere",15.29077813,45.125237848180063,{"$f":"ROWS($A$3:A2907)","v":2905},"",""]
["Auckland Region","    Waitakere Ranges North","..","..",468,"Waitakere Ranges North",86.793049659999895,5.3921368339207705,{"$f":"ROWS($A$3:A2908)","v":2906},"",""]
["Auckland Region","    Waitakere Ranges South","..","..",582,"Waitakere Ranges South",101.55819574,5.7307044080418992,{"$f":"ROWS($A$3:A2909)","v":2907},"",""]
["Auckland Region","    Waitoki","..","..",546,"Waitoki",40.755297759999898,13.397031306587156,{"$f":"ROWS($A$3:A2910)","v":2908},"",""]
["Auckland Region","    Waiuku Central","..","..",498,"Waiuku Central",1.1313189699999999,440.19415673724632,{"$f":"ROWS($A$3:A2911)","v":2909},"",""]
["Auckland Region","    Waiuku East","..","..",633,"Waiuku East",0.83262875000000003,760.24278527494994,{"$f":"ROWS($A$3:A2912)","v":2910},"",""]
["Auckland Region","    Warkworth East","..","..",1320,"Warkworth East",4.2186340199999997,312.89749092764396,{"$f":"ROWS($A$3:A2913)","v":2911},"",""]
["Auckland Region","    Warkworth West","..","..",1053,"Warkworth West",11.35975247,92.695681774833602,{"$f":"ROWS($A$3:A2914)","v":2912},"",""]
["Auckland Region","    Waterview","..","..",1269,"Waterview",1.1158850600000001,1137.2138990730818,{"$f":"ROWS($A$3:A2915)","v":2913},"",""]
["Auckland Region","    Wattle Downs East","..","..",753,"Wattle Downs East",1.01653039,740.75503045216385,{"$f":"ROWS($A$3:A2916)","v":2914},"",""]
["Auckland Region","    Wattle Downs North","..","..",600,"Wattle Downs North",0.55995068999999997,1071.5229228487958,{"$f":"ROWS($A$3:A2917)","v":2915},"",""]
["Auckland Region","    Wattle Downs West","..","..",1329,"Wattle Downs West",1.47727217,899.6311085993043,{"$f":"ROWS($A$3:A2918)","v":2916},"",""]
["Auckland Region","    Wellsford","..","..",759,"Wellsford",4.55282827,166.70956051676424,{"$f":"ROWS($A$3:A2919)","v":2917},"",""]
["Auckland Region","    Wesley East","..","..",639,"Wesley East",0.60703951,1052.6497690405688,{"$f":"ROWS($A$3:A2920)","v":2918},"",""]
["Auckland Region","    Wesley South","..","..",9,"Wesley South",0.68276864000000004,13.181624744803743,{"$f":"ROWS($A$3:A2921)","v":2919},"",""]
["Auckland Region","    Wesley West","..","..",921,"Wesley West",0.75674571000000002,1217.0534802238919,{"$f":"ROWS($A$3:A2922)","v":2920},"",""]
["Auckland Region","    West Harbour Clearwater Cove","..","..",1464,"West Harbour Clearwater Cove",1.3574645299999999,1078.4812182164349,{"$f":"ROWS($A$3:A2923)","v":2921},"",""]
["Auckland Region","    West Harbour Luckens Point","..","..",882,"West Harbour Luckens Point",0.98378429999999994,896.53799110231796,{"$f":"ROWS($A$3:A2924)","v":2922},"",""]
["Auckland Region","    West Harbour West","..","..",1353,"West Harbour West",1.96049692,690.13115307521116,{"$f":"ROWS($A$3:A2925)","v":2923},"",""]
["Auckland Region","    West Lynn","..","..",1092,"West Lynn",1.22670754,890.18772966863799,{"$f":"ROWS($A$3:A2926)","v":2924},"",""]
["Auckland Region","    Western Heights (Auckland)","..","..",1341,"Western Heights (Auckland)",1.35847366,987.13728464930261,{"$f":"ROWS($A$3:A2927)","v":2925},"",""]
["Auckland Region","    Westgate Central","..","..",18,"Westgate Central",1.8634158000000001,9.659679820252677,{"$f":"ROWS($A$3:A2928)","v":2926},"",""]
["Auckland Region","    Westgate South","..","..",648,"Westgate South",1.70943132,379.07343361416827,{"$f":"ROWS($A$3:A2929)","v":2927},"",""]
["Auckland Region","    Westlake","..","..",1191,"Westlake",0.68702660999999998,1733.5573071907652,{"$f":"ROWS($A$3:A2930)","v":2928},"",""]
["Auckland Region","    Westmere North","..","..",813,"Westmere North",0.64508193999999996,1260.3050086939343,{"$f":"ROWS($A$3:A2931)","v":2929},"",""]
["Auckland Region","    Westmere South-Western Springs","..","..",1125,"Westmere South-Western Springs",2.0214735400000001,556.52472205992854,{"$f":"ROWS($A$3:A2932)","v":2930},"",""]
["Auckland Region","    Weymouth East","..","..",840,"Weymouth East",0.98724325000000002,850.85413346710652,{"$f":"ROWS($A$3:A2933)","v":2931},"",""]
["Auckland Region","    Weymouth North","..","..",1197,"Weymouth North",1.0188508999999999,1174.8529642561048,{"$f":"ROWS($A$3:A2934)","v":2932},"",""]
["Auckland Region","    Weymouth South","..","..",1044,"Weymouth South",1.0583023,986.48561946808582,{"$f":"ROWS($A$3:A2935)","v":2933},"",""]
["Auckland Region","    Whangaparoa Central","..","..",1539,"Whangaparoa Central",3.6915778000000001,416.89491143868077,{"$f":"ROWS($A$3:A2936)","v":2934},"",""]
["Auckland Region","    Whenuapai","..","..",1587,"Whenuapai",19.680071470000001,80.639951049933856,{"$f":"ROWS($A$3:A2937)","v":2935},"",""]
["Auckland Region","    Windsor Park","..","..",708,"Windsor Park",0.83584179999999997,847.05024323980933,{"$f":"ROWS($A$3:A2938)","v":2936},"",""]
["Auckland Region","    Wiri East","..","..",978,"Wiri East",1.3711003900000001,713.29569091581982,{"$f":"ROWS($A$3:A2939)","v":2937},"",""]
["Auckland Region","    Wiri West","..","..",108,"Wiri West",8.0408914599999903,13.4313465785795,{"$f":"ROWS($A$3:A2940)","v":2938},"",""]
["Auckland Region","    Wynyard-Viaduct","..","..",948,"Wynyard-Viaduct",0.60002226999999997,1579.9413578432682,{"$f":"ROWS($A$3:A2941)","v":2939},"",""]
["Bay of Plenty Region","    Allandale","..","..",1122,"Allandale",1.5255509199999999,735.4720090234681,{"$f":"ROWS($A$3:A2942)","v":2940},"",""]
["Bay of Plenty Region","    Aongatete","..","..",1428,"Aongatete",164.80295751,8.6648930430350504,{"$f":"ROWS($A$3:A2943)","v":2941},"",""]
["Bay of Plenty Region","    Arataki North","..","..",1380,"Arataki North",2.1608090899999999,638.64966432550511,{"$f":"ROWS($A$3:A2944)","v":2942},"",""]
["Bay of Plenty Region","    Arataki South","..","..",1146,"Arataki South",0.98787024999999995,1160.0713757702492,{"$f":"ROWS($A$3:A2945)","v":2943},"",""]
["Bay of Plenty Region","    Athenree","..","..",426,"Athenree",1.26291361,337.31523409586185,{"$f":"ROWS($A$3:A2946)","v":2944},"",""]
["Bay of Plenty Region","    Baypark-Kairua","..","..",189,{"$f":"TRIM(B2947)","v":"Baypark-Kairua"},12.9558388299999,{"$f":"E2947/G2947","v":14.588017223737065},{"$f":"ROWS($A$3:A2947)","v":2945},{"$f":"IF(A2947=$M$2,I2948,\"\")","v":""},""]
["Bay of Plenty Region","    Bellevue","..","..",1344,"Bellevue",1.7152726199999999,783.54891480748995,{"$f":"ROWS($A$3:A2948)","v":2946},"",{"$f":"IFERROR(SMALL($J$3:$J$4612,I2948)-1,\"\")","v":""}]
["Bay of Plenty Region","    Bethlehem Central","..","..",1620,"Bethlehem Central",4.2657313600000002,379.77075049564303,{"$f":"ROWS($A$3:A2949)","v":2947},"",""]
["Bay of Plenty Region","    Bethlehem North","..","..",1461,"Bethlehem North",5.1231794700000002,285.17447193783357,{"$f":"ROWS($A$3:A2950)","v":2948},"",""]
["Bay of Plenty Region","    Bethlehem South","..","..",369,"Bethlehem South",4.4816838299999997,82.335125367377827,{"$f":"ROWS($A$3:A2951)","v":2949},"",""]
["Bay of Plenty Region","    Brookfield East","..","..",1071,"Brookfield East",1.3220185099999999,810.12481436436167,{"$f":"ROWS($A$3:A2952)","v":2950},"",""]
["Bay of Plenty Region","    Brookfield West","..","..",1140,"Brookfield West",1.05161726,1084.0445886177258,{"$f":"ROWS($A$3:A2953)","v":2951},"",""]
["Bay of Plenty Region","    Cape Runaway","..","..",1047,"Cape Runaway",1568.5976366,0.66747518647893389,{"$f":"ROWS($A$3:A2954)","v":2952},"",""]
["Bay of Plenty Region","    Coastlands","..","..",630,"Coastlands",15.6626973599999,40.222956845793519,{"$f":"ROWS($A$3:A2955)","v":2953},"",""]
["Bay of Plenty Region","    Doncaster","..","..",1155,"Doncaster",2.3357964,494.4780289925954,{"$f":"ROWS($A$3:A2956)","v":2954},"",""]
["Bay of Plenty Region","    Edgecumbe","..","..",642,"Edgecumbe",2.0080643899999999,319.71086345493137,{"$f":"ROWS($A$3:A2957)","v":2955},"",""]
["Bay of Plenty Region","    Fairy Springs","..","..",651,"Fairy Springs",0.73745494,882.76579990094035,{"$f":"ROWS($A$3:A2958)","v":2956},"",""]
["Bay of Plenty Region","    Fenton Park","..","..",774,"Fenton Park",1.0054445299999999,769.80875314921661,{"$f":"ROWS($A$3:A2959)","v":2957},"",""]
["Bay of Plenty Region","    Fordlands","..","..",780,"Fordlands",0.98801209999999995,789.46401567349233,{"$f":"ROWS($A$3:A2960)","v":2958},"",""]
["Bay of Plenty Region","    Galatea","..","..",660,"Galatea",2199.7470227200001,0.3000345008690618,{"$f":"ROWS($A$3:A2961)","v":2959},"",""]
["Bay of Plenty Region","    Gate Pa","..","..",1446,"Gate Pa",2.07862379,695.65257886324878,{"$f":"ROWS($A$3:A2962)","v":2960},"",""]
["Bay of Plenty Region","    Glenholme North","..","..",1221,"Glenholme North",0.84348075,1447.5730477547947,{"$f":"ROWS($A$3:A2963)","v":2961},"",""]
["Bay of Plenty Region","    Glenholme South","..","..",912,"Glenholme South",0.87693772999999997,1039.9826222552883,{"$f":"ROWS($A$3:A2964)","v":2962},"",""]
["Bay of Plenty Region","    Greerton North","..","..",1533,"Greerton North",1.39556306,1098.4813541854569,{"$f":"ROWS($A$3:A2965)","v":2963},"",""]
["Bay of Plenty Region","    Greerton South","..","..",279,"Greerton South",2.80628447,99.419714210227582,{"$f":"ROWS($A$3:A2966)","v":2964},"",""]
["Bay of Plenty Region","    Hairini","..","..",1320,"Hairini",1.8393683700000001,717.63765297323232,{"$f":"ROWS($A$3:A2967)","v":2965},"",""]
["Bay of Plenty Region","    Hamurana","..","..",447,"Hamurana",8.3549944600000003,53.500933141253093,{"$f":"ROWS($A$3:A2968)","v":2966},"",""]
["Bay of Plenty Region","    Hillcrest (Rotorua District)","..","..",600,"Hillcrest (Rotorua District)",0.81457984000000005,736.57604882536737,{"$f":"ROWS($A$3:A2969)","v":2967},"",""]
["Bay of Plenty Region","    Holdens Bay-Rotokawa","..","..",552,"Holdens Bay-Rotokawa",8.7917052600000005,62.78645424016409,{"$f":"ROWS($A$3:A2970)","v":2968},"",""]
["Bay of Plenty Region","    Inland water Lake Rotorua","..","..",0,"Inland water Lake Rotorua",0,{"$error":"#DIV/0!"},{"$f":"ROWS($A$3:A2971)","v":2969},"",""]
["Bay of Plenty Region","    Inlet Ohiwa Harbour East","..","..",0,"Inlet Ohiwa Harbour East",0,{"$error":"#DIV/0!"},{"$f":"ROWS($A$3:A2972)","v":2970},"",""]
["Bay of Plenty Region","    Inlet Ohiwa Harbour West","..","..",0,"Inlet Ohiwa Harbour West",0,{"$error":"#DIV/0!"},{"$f":"ROWS($A$3:A2973)","v":2971},"",""]
["Bay of Plenty Region","    Inlet Tauranga Harbour North","..","..",0,"Inlet Tauranga Harbour North",1.97109E-3,0,{"$f":"ROWS($A$3:A2974)","v":2972},"",""]
["Bay of Plenty Region","    Inlet Tauranga Harbour South","..","..",3,"Inlet Tauranga Harbour South",0,{"$error":"#DIV/0!"},{"$f":"ROWS($A$3:A2975)","v":2973},"",""]
["Bay of Plenty Region","    Inlets Maketu","..","..",0,"Inlets Maketu",0,{"$error":"#DIV/0!"},{"$f":"ROWS($A$3:A2976)","v":2974},"",""]
["Bay of Plenty Region","    Islands Bay of Plenty Region","..","..",15,"Islands Bay of Plenty Region",24.885688200000001,0.60275608532296887,{"$f":"ROWS($A$3:A2977)","v":2975},"",""]
["Bay of Plenty Region","    Judea","..","..",1068,"Judea",0.88360422999999999,1208.6859294460371,{"$f":"ROWS($A$3:A2978)","v":2976},"",""]
["Bay of Plenty Region","    Kaimai","..","..",741,"Kaimai",327.89613872000001,2.259861927293878,{"$f":"ROWS($A$3:A2979)","v":2977},"",""]
["Bay of Plenty Region","    Kaingaroa-Whakarewarewa","..","..",1110,"Kaingaroa-Whakarewarewa",465.80261390999902,2.3829836219306206,{"$f":"ROWS($A$3:A2980)","v":2978},"",""]
["Bay of Plenty Region","    Kaitemako (Tauranga City)","..","..",546,"Kaitemako (Tauranga City)",3.7436143199999998,145.84835758401522,{"$f":"ROWS($A$3:A2981)","v":2979},"",""]
["Bay of Plenty Region","    Kaitemako (Western Bay of Plenty District)","..","..",648,"Kaitemako (Western Bay of Plenty District)",75.761940910000007,8.5531071698622352,{"$f":"ROWS($A$3:A2982)","v":2980},"",""]
["Bay of Plenty Region","    Katikati","..","..",2196,"Katikati",9.5330450599999903,230.35661597932301,{"$f":"ROWS($A$3:A2983)","v":2981},"",""]
["Bay of Plenty Region","    Kawaha","..","..",753,"Kawaha",1.0315720799999999,729.95383899882211,{"$f":"ROWS($A$3:A2984)","v":2982},"",""]
["Bay of Plenty Region","    Kawerau Industrial","..","..",60,"Kawerau Industrial",5.83727865,10.278762347588119,{"$f":"ROWS($A$3:A2985)","v":2983},"",""]
["Bay of Plenty Region","    Kopurererua","..","..",453,"Kopurererua",20.2714310799999,22.346720279010626,{"$f":"ROWS($A$3:A2986)","v":2984},"",""]
["Bay of Plenty Region","    Koutu","..","..",738,"Koutu",0.95639715999999997,771.64595511764173,{"$f":"ROWS($A$3:A2987)","v":2985},"",""]
["Bay of Plenty Region","    Kuirau","..","..",504,"Kuirau",1.18969945,423.63640665716036,{"$f":"ROWS($A$3:A2988)","v":2986},"",""]
["Bay of Plenty Region","    Lynmore","..","..",1281,"Lynmore",1.97245772,649.44357844080935,{"$f":"ROWS($A$3:A2989)","v":2987},"",""]
["Bay of Plenty Region","    Maketu","..","..",561,"Maketu",5.1545038999999999,108.83685624915329,{"$f":"ROWS($A$3:A2990)","v":2988},"",""]
["Bay of Plenty Region","    Manawahe","..","..",459,"Manawahe",267.07061964000002,1.7186465535546842,{"$f":"ROWS($A$3:A2991)","v":2989},"",""]
["Bay of Plenty Region","    Mangakakahi Central","..","..",84,"Mangakakahi Central",1.7916133700000001,46.885115620676572,{"$f":"ROWS($A$3:A2992)","v":2990},"",""]
["Bay of Plenty Region","    Mangakakahi West","..","..",723,"Mangakakahi West",1.01720246,710.7729566442456,{"$f":"ROWS($A$3:A2993)","v":2991},"",""]
["Bay of Plenty Region","    Matakana Island","..","..",99,"Matakana Island",64.558395779999898,1.5334953541498946,{"$f":"ROWS($A$3:A2994)","v":2992},"",""]
["Bay of Plenty Region","    Matapihi","..","..",213,"Matapihi",3.9390583299999999,54.073837489987106,{"$f":"ROWS($A$3:A2995)","v":2993},"",""]
["Bay of Plenty Region","    Matata-Otakiri","..","..",708,"Matata-Otakiri",87.41066936,8.0996977277923463,{"$f":"ROWS($A$3:A2996)","v":2994},"",""]
["Bay of Plenty Region","    Matua North","..","..",1218,"Matua North",1.24158525,981.00392220348942,{"$f":"ROWS($A$3:A2997)","v":2995},"",""]
["Bay of Plenty Region","    Matua South","..","..",1008,"Matua South",1.2026841100000001,838.12531621457936,{"$f":"ROWS($A$3:A2998)","v":2996},"",""]
["Bay of Plenty Region","    Maungatapu","..","..",1143,"Maungatapu",1.6794597499999999,680.5760007049887,{"$f":"ROWS($A$3:A2999)","v":2997},"",""]
["Bay of Plenty Region","    Minden","..","..",780,"Minden",85.927571639999897,9.0774123498784469,{"$f":"ROWS($A$3:A3000)","v":2998},"",""]
["Bay of Plenty Region","    Mokorua Bush","..","..",588,"Mokorua Bush",1.3570750199999999,433.28481575027445,{"$f":"ROWS($A$3:A3001)","v":2999},"",""]
["Bay of Plenty Region","    Monika Reserve","..","..",1242,"Monika Reserve",14.1808581,87.582852267593026,{"$f":"ROWS($A$3:A3002)","v":3000},"",""]
["Bay of Plenty Region","    Motiti","..","..",1332,"Motiti",1.24756237,1067.6820911166149,{"$f":"ROWS($A$3:A3003)","v":3001},"",""]
["Bay of Plenty Region","    Mount Maunganui Central","..","..",174,"Mount Maunganui Central",6.9138655800000004,25.16681847320497,{"$f":"ROWS($A$3:A3004)","v":3002},"",""]
["Bay of Plenty Region","    Mount Maunganui North","..","..",2487,"Mount Maunganui North",2.0296042299999999,1225.3620500189834,{"$f":"ROWS($A$3:A3005)","v":3003},"",""]
["Bay of Plenty Region","    Mount Maunganui South","..","..",1344,"Mount Maunganui South",0.94186210000000004,1426.9604860414279,{"$f":"ROWS($A$3:A3006)","v":3004},"",""]
["Bay of Plenty Region","    Murupara","..","..",651,"Murupara",6.2129983400000004,104.78032736767156,{"$f":"ROWS($A$3:A3007)","v":3005},"",""]
["Bay of Plenty Region","    Ngapuna","..","..",114,"Ngapuna",3.4948953500000002,32.619002454537011,{"$f":"ROWS($A$3:A3008)","v":3006},"",""]
["Bay of Plenty Region","    Ngongotaha East","..","..",762,"Ngongotaha East",2.8718554300000001,265.33369056115754,{"$f":"ROWS($A$3:A3009)","v":3007},"",""]
["Bay of Plenty Region","    Ngongotaha South","..","..",645,"Ngongotaha South",8.5888338700000002,75.097505640774486,{"$f":"ROWS($A$3:A3010)","v":3008},"",""]
["Bay of Plenty Region","    Ngongotaha Valley","..","..",609,{"$f":"TRIM(B3011)","v":"Ngongotaha Valley"},177.50382267000001,{"$f":"E3011/G3011","v":3.4309120267916762},{"$f":"ROWS($A$3:A3011)","v":3009},{"$f":"IF(A3011=$M$2,I3012,\"\")","v":""},""]
["Bay of Plenty Region","    Ngongotaha West","..","..",639,"Ngongotaha West",1.4445683,442.34668585763649,{"$f":"ROWS($A$3:A3012)","v":3010},"",{"$f":"IFERROR(SMALL($J$3:$J$4612,I3012)-1,\"\")","v":""}]
["Bay of Plenty Region","    Oceanic Bay of Plenty Region","..","..",0,"Oceanic Bay of Plenty Region",0,{"$error":"#DIV/0!"},{"$f":"ROWS($A$3:A3013)","v":3011},"",""]
["Bay of Plenty Region","    Ohauiti","..","..",1275,"Ohauiti",3.4055757400000002,374.38603553124909,{"$f":"ROWS($A$3:A3014)","v":3012},"",""]
["Bay of Plenty Region","    Ohope","..","..",1914,"Ohope",6.3335273499999998,302.20126861850531,{"$f":"ROWS($A$3:A3015)","v":3013},"",""]
["Bay of Plenty Region","    Omanu Beach","..","..",1290,"Omanu Beach",1.02425367,1259.4536273421406,{"$f":"ROWS($A$3:A3016)","v":3014},"",""]
["Bay of Plenty Region","    Omokoroa","..","..",1530,"Omokoroa",3.7718368600000001,405.63790449834033,{"$f":"ROWS($A$3:A3017)","v":3015},"",""]
["Bay of Plenty Region","    Omokoroa Rural","..","..",306,"Omokoroa Rural",7.9142977099999996,38.664201324314348,{"$f":"ROWS($A$3:A3018)","v":3016},"",""]
["Bay of Plenty Region","    Onepu Spring","..","..",459,"Onepu Spring",98.844607710000005,4.6436524018250864,{"$f":"ROWS($A$3:A3019)","v":3017},"",""]
["Bay of Plenty Region","    Oponae","..","..",156,"Oponae",1255.37179438,0.12426597498715104,{"$f":"ROWS($A$3:A3020)","v":3018},"",""]
["Bay of Plenty Region","    Opotiki","..","..",1305,"Opotiki",5.6800483799999997,229.75156419354303,{"$f":"ROWS($A$3:A3021)","v":3019},"",""]
["Bay of Plenty Region","    Otara-Tirohanga","..","..",513,"Otara-Tirohanga",113.32229536,4.5269114817195666,{"$f":"ROWS($A$3:A3022)","v":3020},"",""]
["Bay of Plenty Region","    Otawa","..","..",726,"Otawa",151.68016080999899,4.7863873305713227,{"$f":"ROWS($A$3:A3023)","v":3021},"",""]
["Bay of Plenty Region","    Otumoetai North","..","..",1956,"Otumoetai North",1.7205914200000001,1136.8184086376532,{"$f":"ROWS($A$3:A3024)","v":3022},"",""]
["Bay of Plenty Region","    Otumoetai South","..","..",1527,"Otumoetai South",1.6002653,954.21677893034359,{"$f":"ROWS($A$3:A3025)","v":3023},"",""]
["Bay of Plenty Region","    Owhata East","..","..",1080,"Owhata East",1.4175162100000001,761.89604914641507,{"$f":"ROWS($A$3:A3026)","v":3024},"",""]
["Bay of Plenty Region","    Owhata West","..","..",1077,"Owhata West",3.3282946400000002,323.58913993263525,{"$f":"ROWS($A$3:A3027)","v":3025},"",""]
["Bay of Plenty Region","    Pacific View","..","..",1137,"Pacific View",1.1627587100000001,977.84689998151032,{"$f":"ROWS($A$3:A3028)","v":3026},"",""]
["Bay of Plenty Region","    Pahoia","..","..",1245,"Pahoia",112.81142031,11.036116703245149,{"$f":"ROWS($A$3:A3029)","v":3027},"",""]
["Bay of Plenty Region","    Palm Beach North","..","..",1173,"Palm Beach North",1.0945398799999999,1071.6831989712427,{"$f":"ROWS($A$3:A3030)","v":3028},"",""]
["Bay of Plenty Region","    Palm Beach South-Gravatt","..","..",1599,"Palm Beach South-Gravatt",2.3881001199999998,669.56991736175621,{"$f":"ROWS($A$3:A3031)","v":3029},"",""]
["Bay of Plenty Region","    Papamoa Beach North","..","..",1086,"Papamoa Beach North",1.39820072,776.71251664067233,{"$f":"ROWS($A$3:A3032)","v":3030},"",""]
["Bay of Plenty Region","    Papamoa Beach South","..","..",1155,"Papamoa Beach South",1.3788326500000001,837.66510750960231,{"$f":"ROWS($A$3:A3033)","v":3031},"",""]
["Bay of Plenty Region","    Pleasant Heights","..","..",717,"Pleasant Heights",1.34859518,531.66436498757173,{"$f":"ROWS($A$3:A3034)","v":3032},"",""]
["Bay of Plenty Region","    Poike","..","..",279,"Poike",1.29841998,214.87654556886901,{"$f":"ROWS($A$3:A3035)","v":3033},"",""]
["Bay of Plenty Region","    Pomare","..","..",636,"Pomare",1.36824301,464.82970886874836,{"$f":"ROWS($A$3:A3036)","v":3034},"",""]
["Bay of Plenty Region","    Pongakawa","..","..",1239,"Pongakawa",389.04565604999902,3.184716191358187,{"$f":"ROWS($A$3:A3037)","v":3035},"",""]
["Bay of Plenty Region","    Pukehangi North","..","..",867,"Pukehangi North",1.18204631,733.47380103914873,{"$f":"ROWS($A$3:A3038)","v":3036},"",""]
["Bay of Plenty Region","    Pukehangi South","..","..",996,"Pukehangi South",1.11150003,896.08634558471408,{"$f":"ROWS($A$3:A3039)","v":3037},"",""]
["Bay of Plenty Region","    Pukehina Beach","..","..",672,"Pukehina Beach",1.56624761,429.05093403462558,{"$f":"ROWS($A$3:A3040)","v":3038},"",""]
["Bay of Plenty Region","    Pyes Pa East","..","..",219,"Pyes Pa East",2.4301051899999999,90.119555688863002,{"$f":"ROWS($A$3:A3041)","v":3039},"",""]
["Bay of Plenty Region","    Pyes Pa North","..","..",1758,"Pyes Pa North",1.9708930200000001,891.98144301104674,{"$f":"ROWS($A$3:A3042)","v":3040},"",""]
["Bay of Plenty Region","    Pyes Pa South","..","..",492,"Pyes Pa South",1.8324261900000001,268.49648989136091,{"$f":"ROWS($A$3:A3043)","v":3041},"",""]
["Bay of Plenty Region","    Pyes Pa West","..","..",1494,"Pyes Pa West",4.61267403,323.89021862010918,{"$f":"ROWS($A$3:A3044)","v":3042},"",""]
["Bay of Plenty Region","    Rangataiki","..","..",78,"Rangataiki",996.27143694999904,7.8291916346402965E-2,{"$f":"ROWS($A$3:A3045)","v":3043},"",""]
["Bay of Plenty Region","    Rangiuru","..","..",993,"Rangiuru",220.33265331000001,4.5068217764476568,{"$f":"ROWS($A$3:A3046)","v":3044},"",""]
["Bay of Plenty Region","    Rotoiti-Rotoehu","..","..",1467,"Rotoiti-Rotoehu",403.99543303000002,3.6312291676105732,{"$f":"ROWS($A$3:A3047)","v":3045},"",""]
["Bay of Plenty Region","    Rotorua Central","..","..",357,"Rotorua Central",1.8023631200000001,198.07329390983099,{"$f":"ROWS($A$3:A3048)","v":3046},"",""]
["Bay of Plenty Region","    Selwyn Heights","..","..",381,"Selwyn Heights",0.89644765999999998,425.01087012709701,{"$f":"ROWS($A$3:A3049)","v":3047},"",""]
["Bay of Plenty Region","    Springfield North","..","..",666,"Springfield North",1.30138613,511.76202408120025,{"$f":"ROWS($A$3:A3050)","v":3048},"",""]
["Bay of Plenty Region","    Springfield South","..","..",753,"Springfield South",1.1866796900000001,634.54359786000884,{"$f":"ROWS($A$3:A3051)","v":3049},"",""]
["Bay of Plenty Region","    Sunnybrook","..","..",729,"Sunnybrook",2.0858248599999998,349.50201907172595,{"$f":"ROWS($A$3:A3052)","v":3050},"",""]
["Bay of Plenty Region","    Tahawai","..","..",834,"Tahawai",82.117921589999895,10.156126505052246,{"$f":"ROWS($A$3:A3053)","v":3051},"",""]
["Bay of Plenty Region","    Tarawera Park","..","..",1443,"Tarawera Park",3.6137881200000002,399.30398575774831,{"$f":"ROWS($A$3:A3054)","v":3052},"",""]
["Bay of Plenty Region","    Tauranga Central","..","..",1293,"Tauranga Central",3.3807638400000002,382.45794772816782,{"$f":"ROWS($A$3:A3055)","v":3053},"",""]
["Bay of Plenty Region","    Tauranga Hospital","..","..",870,"Tauranga Hospital",1.9442784399999999,447.46677332902999,{"$f":"ROWS($A$3:A3056)","v":3054},"",""]
["Bay of Plenty Region","    Tauranga South","..","..",2193,"Tauranga South",2.3899173899999999,917.60493863764896,{"$f":"ROWS($A$3:A3057)","v":3055},"",""]
["Bay of Plenty Region","    Tauriko","..","..",66,"Tauriko",4.82043278,13.691716701005424,{"$f":"ROWS($A$3:A3058)","v":3056},"",""]
["Bay of Plenty Region","    Te Maunga North","..","..",1614,"Te Maunga North",1.16256107,1388.3141640034446,{"$f":"ROWS($A$3:A3059)","v":3057},"",""]
["Bay of Plenty Region","    Te Maunga South","..","..",1947,"Te Maunga South",2.3142333599999998,841.31532871862157,{"$f":"ROWS($A$3:A3060)","v":3058},"",""]
["Bay of Plenty Region","    Te Puke East","..","..",1860,"Te Puke East",3.98953742,466.21946461151379,{"$f":"ROWS($A$3:A3061)","v":3059},"",""]
["Bay of Plenty Region","    Te Puke West","..","..",1116,"Te Puke West",9.40917651,118.60761659789503,{"$f":"ROWS($A$3:A3062)","v":3060},"",""]
["Bay of Plenty Region","    Te Puna","..","..",807,"Te Puna",18.15621818,44.447582200182616,{"$f":"ROWS($A$3:A3063)","v":3061},"",""]
["Bay of Plenty Region","    Te Reti","..","..",648,"Te Reti",1.7180562699999999,377.1704171249292,{"$f":"ROWS($A$3:A3064)","v":3062},"",""]
["Bay of Plenty Region","    Te Teko Lakes","..","..",525,"Te Teko Lakes",71.101078290000004,7.3838542625005239,{"$f":"ROWS($A$3:A3065)","v":3063},"",""]
["Bay of Plenty Region","    Thornton-Awakeri","..","..",846,"Thornton-Awakeri",151.764028389999,5.5744434895070958,{"$f":"ROWS($A$3:A3066)","v":3064},"",""]
["Bay of Plenty Region","    Tihiotonga-Whakarewarewa","..","..",333,"Tihiotonga-Whakarewarewa",3.28398579,101.40116958301455,{"$f":"ROWS($A$3:A3067)","v":3065},"",""]
["Bay of Plenty Region","    Trident","..","..",1371,"Trident",1.8298681400000001,749.23431368120328,{"$f":"ROWS($A$3:A3068)","v":3066},"",""]
["Bay of Plenty Region","    Tui Ridge","..","..",648,"Tui Ridge",220.92268289,2.9331528638127522,{"$f":"ROWS($A$3:A3069)","v":3067},"",""]
["Bay of Plenty Region","    Utuhina","..","..",564,"Utuhina",0.67136794,840.07586063761107,{"$f":"ROWS($A$3:A3070)","v":3068},"",""]
["Bay of Plenty Region","    Victoria","..","..",1029,"Victoria",0.51768217000000005,1987.7060861493451,{"$f":"ROWS($A$3:A3071)","v":3069},"",""]
["Bay of Plenty Region","    Waiau","..","..",168,"Waiau",36.092990100000002,4.6546434511115775,{"$f":"ROWS($A$3:A3072)","v":3070},"",""]
["Bay of Plenty Region","    Waihi Beach-Bowentown","..","..",2535,"Waihi Beach-Bowentown",6.3127927000000001,401.56553849772382,{"$f":"ROWS($A$3:A3073)","v":3071},"",""]
["Bay of Plenty Region","    Waingarara-Waimana","..","..",822,"Waingarara-Waimana",1448.0696223299899,0.56765226431404314,{"$f":"ROWS($A$3:A3074)","v":3072},"",""]
["Bay of Plenty Region","    Wainui","..","..",489,{"$f":"TRIM(B3075)","v":"Wainui"},86.645806710000002,{"$f":"E3075/G3075","v":5.6436660764976558},{"$f":"ROWS($A$3:A3075)","v":3073},{"$f":"IF(A3075=$M$2,I3076,\"\")","v":""},""]
["Bay of Plenty Region","    Waiohewa","..","..",384,"Waiohewa",63.445203720000002,6.052466971257445,{"$f":"ROWS($A$3:A3076)","v":3074},"",{"$f":"IFERROR(SMALL($J$3:$J$4612,I3076)-1,\"\")","v":""}]
["Bay of Plenty Region","    Waiorohi","..","..",930,"Waiorohi",152.658508299999,6.0920286091908977,{"$f":"ROWS($A$3:A3077)","v":3075},"",""]
["Bay of Plenty Region","    Waiotahi","..","..",882,"Waiotahi",141.775487209999,6.2211036432100171,{"$f":"ROWS($A$3:A3078)","v":3076},"",""]
["Bay of Plenty Region","    Wairakei","..","..",1470,"Wairakei",12.90936894,113.87078693251755,{"$f":"ROWS($A$3:A3079)","v":3077},"",""]
["Bay of Plenty Region","    Welcome Bay East","..","..",903,"Welcome Bay East",3.6911661200000001,244.63813619962463,{"$f":"ROWS($A$3:A3080)","v":3078},"",""]
["Bay of Plenty Region","    Welcome Bay South","..","..",1188,"Welcome Bay South",3.1081598100000001,382.21972891413196,{"$f":"ROWS($A$3:A3081)","v":3079},"",""]
["Bay of Plenty Region","    Welcome Bay West","..","..",981,"Welcome Bay West",1.1137349299999999,880.81999906387068,{"$f":"ROWS($A$3:A3082)","v":3080},"",""]
["Bay of Plenty Region","    Western Heights (Rotorua District)","..","..",786,"Western Heights (Rotorua District)",1.02788371,764.67794202128175,{"$f":"ROWS($A$3:A3083)","v":3081},"",""]
["Bay of Plenty Region","    Whakatane Central","..","..",1467,"Whakatane Central",2.5948572799999998,565.34901218151003,{"$f":"ROWS($A$3:A3084)","v":3082},"",""]
["Bay of Plenty Region","    Whakatane West","..","..",1146,"Whakatane West",1.84065576,622.60419623493317,{"$f":"ROWS($A$3:A3085)","v":3083},"",""]
["Bay of Plenty Region","    Woodlands","..","..",420,"Woodlands",4.4716581599999996,93.924889822078896,{"$f":"ROWS($A$3:A3086)","v":3084},"",""]
["Bay of Plenty Region","    Yatton Park","..","..",867,"Yatton Park",0.90353744000000003,959.56178639371046,{"$f":"ROWS($A$3:A3087)","v":3085},"",""]
["Canterbury Region","    Addington East","..","..",1326,"Addington East",0.56822362999999998,2333.5882740392194,{"$f":"ROWS($A$3:A3088)","v":3086},"",""]
["Canterbury Region","    Addington North","..","..",3,"Addington North",0.43431407999999999,6.9074435717119744,{"$f":"ROWS($A$3:A3089)","v":3087},"",""]
["Canterbury Region","    Addington West","..","..",861,"Addington West",0.55789683999999995,1543.2960688574613,{"$f":"ROWS($A$3:A3090)","v":3088},"",""]
["Canterbury Region","    Aidanfield","..","..",1314,"Aidanfield",1.68401322,780.27891016199976,{"$f":"ROWS($A$3:A3091)","v":3089},"",""]
["Canterbury Region","    Akaroa","..","..",978,"Akaroa",2.0319711100000002,481.30605557674482,{"$f":"ROWS($A$3:A3092)","v":3090},"",""]
["Canterbury Region","    Akaroa Harbour","..","..",933,"Akaroa Harbour",162.22686612000001,5.7512052246010557,{"$f":"ROWS($A$3:A3093)","v":3091},"",""]
["Canterbury Region","    Allenton East","..","..",906,"Allenton East",1.2358351299999999,733.10749792328693,{"$f":"ROWS($A$3:A3094)","v":3092},"",""]
["Canterbury Region","    Allenton North","..","..",1092,"Allenton North",2.0964645399999999,520.87692358488448,{"$f":"ROWS($A$3:A3095)","v":3093},"",""]
["Canterbury Region","    Allenton South","..","..",876,"Allenton South",2.9267429300000001,299.3088292862127,{"$f":"ROWS($A$3:A3096)","v":3094},"",""]
["Canterbury Region","    Amberley","..","..",915,"Amberley",3.6283928799999998,252.17776306517283,{"$f":"ROWS($A$3:A3097)","v":3095},"",""]
["Canterbury Region","    Amuri","..","..",1152,"Amuri",1835.5659783799899,0.62759934187531485,{"$f":"ROWS($A$3:A3098)","v":3096},"",""]
["Canterbury Region","    Aranui","..","..",1503,"Aranui",1.4164158899999999,1061.1290162806633,{"$f":"ROWS($A$3:A3099)","v":3097},"",""]
["Canterbury Region","    Arundel","..","..",609,"Arundel",629.02155184000003,0.9681703245597334,{"$f":"ROWS($A$3:A3100)","v":3098},"",""]
["Canterbury Region","    Ashburton Central","..","..",78,"Ashburton Central",2.5629496500000002,30.433684095198668,{"$f":"ROWS($A$3:A3101)","v":3099},"",""]
["Canterbury Region","    Ashburton East","..","..",822,"Ashburton East",0.77867240999999998,1055.6428986613255,{"$f":"ROWS($A$3:A3102)","v":3100},"",""]
["Canterbury Region","    Ashburton Forks","..","..",1017,"Ashburton Forks",858.45044299999904,1.1846927312960815,{"$f":"ROWS($A$3:A3103)","v":3101},"",""]
["Canterbury Region","    Ashburton Lakes","..","..",261,"Ashburton Lakes",2995.11403346,8.7141924175250504E-2,{"$f":"ROWS($A$3:A3104)","v":3102},"",""]
["Canterbury Region","    Ashburton North","..","..",417,"Ashburton North",20.64835871,20.19530975108675,{"$f":"ROWS($A$3:A3105)","v":3103},"",""]
["Canterbury Region","    Ashburton West","..","..",480,"Ashburton West",0.45251256000000001,1060.7440376903571,{"$f":"ROWS($A$3:A3106)","v":3104},"",""]
["Canterbury Region","    Ashgrove","..","..",609,"Ashgrove",0.66739413999999997,912.50426621965846,{"$f":"ROWS($A$3:A3107)","v":3105},"",""]
["Canterbury Region","    Ashley Forest","..","..",273,"Ashley Forest",340.57387640000002,0.80158819838361506,{"$f":"ROWS($A$3:A3108)","v":3106},"",""]
["Canterbury Region","    Ashley Gorge","..","..",495,"Ashley Gorge",336.70591887,1.4701256267226961,{"$f":"ROWS($A$3:A3109)","v":3107},"",""]
["Canterbury Region","    Ashley-Sefton","..","..",828,"Ashley-Sefton",86.906225149999898,9.5275108149142866,{"$f":"ROWS($A$3:A3110)","v":3108},"",""]
["Canterbury Region","    Aviemore","..","..",1089,"Aviemore",3483.8756186999899,0.31258291603600963,{"$f":"ROWS($A$3:A3111)","v":3109},"",""]
["Canterbury Region","    Avondale (Christchurch City)","..","..",966,"Avondale (Christchurch City)",1.26092385,766.10494757474851,{"$f":"ROWS($A$3:A3112)","v":3110},"",""]
["Canterbury Region","    Avonhead East","..","..",993,"Avonhead East",0.83519180000000004,1188.9484547142345,{"$f":"ROWS($A$3:A3113)","v":3111},"",""]
["Canterbury Region","    Avonhead North","..","..",570,"Avonhead North",0.63463917000000003,898.14815558894668,{"$f":"ROWS($A$3:A3114)","v":3112},"",""]
["Canterbury Region","    Avonhead South","..","..",1257,"Avonhead South",1.0252513999999999,1226.0407544920204,{"$f":"ROWS($A$3:A3115)","v":3113},"",""]
["Canterbury Region","    Avonhead West","..","..",699,"Avonhead West",0.61397696000000002,1138.479202867808,{"$f":"ROWS($A$3:A3116)","v":3114},"",""]
["Canterbury Region","    Avonside","..","..",774,"Avonside",0.81030652000000003,955.19409124339757,{"$f":"ROWS($A$3:A3117)","v":3115},"",""]
["Canterbury Region","    Awatea North","..","..",810,"Awatea North",1.0258586199999999,789.58248652236318,{"$f":"ROWS($A$3:A3118)","v":3116},"",""]
["Canterbury Region","    Awatea South","..","..",546,"Awatea South",1.51060273,361.44512991843993,{"$f":"ROWS($A$3:A3119)","v":3117},"",""]
["Canterbury Region","    Balcairn","..","..",1071,"Balcairn",130.575129559999,8.2021745152309258,{"$f":"ROWS($A$3:A3120)","v":3118},"",""]
["Canterbury Region","    Banks Peninsula South","..","..",648,"Banks Peninsula South",371.91122492,1.7423512832649461,{"$f":"ROWS($A$3:A3121)","v":3119},"",""]
["Canterbury Region","    Bankside","..","..",696,"Bankside",359.56266705000002,1.9356848298803382,{"$f":"ROWS($A$3:A3122)","v":3120},"",""]
["Canterbury Region","    Beckenham","..","..",951,"Beckenham",0.87656893000000002,1084.9118277555194,{"$f":"ROWS($A$3:A3123)","v":3121},"",""]
["Canterbury Region","    Belfast East","..","..",975,"Belfast East",2.88148063,338.36770924259173,{"$f":"ROWS($A$3:A3124)","v":3122},"",""]
["Canterbury Region","    Belfast West","..","..",765,"Belfast West",3.0976486599999999,246.96151305939262,{"$f":"ROWS($A$3:A3125)","v":3123},"",""]
["Canterbury Region","    Ben McLeod","..","..",153,"Ben McLeod",842.33844673999897,0.18163720365862138,{"$f":"ROWS($A$3:A3126)","v":3124},"",""]
["Canterbury Region","    Bexley","..","..",975,"Bexley",0.89880764999999996,1084.77047341553,{"$f":"ROWS($A$3:A3127)","v":3125},"",""]
["Canterbury Region","    Bishopdale North","..","..",1701,"Bishopdale North",1.3684224,1243.0372376248738,{"$f":"ROWS($A$3:A3128)","v":3126},"",""]
["Canterbury Region","    Bishopdale South","..","..",849,"Bishopdale South",0.70451596999999999,1205.0826896088672,{"$f":"ROWS($A$3:A3129)","v":3127},"",""]
["Canterbury Region","    Bishopdale West","..","..",1146,"Bishopdale West",1.1306061599999999,1013.6155635309824,{"$f":"ROWS($A$3:A3130)","v":3128},"",""]
["Canterbury Region","    Broken Run","..","..",204,"Broken Run",0.42222058000000001,483.15977397406823,{"$f":"ROWS($A$3:A3131)","v":3129},"",""]
["Canterbury Region","    Bromley North","..","..",30,"Bromley North",6.2287928299999997,4.8163425592692253,{"$f":"ROWS($A$3:A3132)","v":3130},"",""]
["Canterbury Region","    Bromley South","..","..",1140,"Bromley South",1.24298994,917.14338412103325,{"$f":"ROWS($A$3:A3133)","v":3131},"",""]
["Canterbury Region","    Brookhaven-Ferrymead","..","..",438,"Brookhaven-Ferrymead",2.6735075899999998,163.82972004205158,{"$f":"ROWS($A$3:A3134)","v":3132},"",""]
["Canterbury Region","    Brooklands-Spencerville","..","..",270,"Brooklands-Spencerville",7.2472458399999997,37.255532096038294,{"$f":"ROWS($A$3:A3135)","v":3133},"",""]
["Canterbury Region","    Broomfield","..","..",1011,"Broomfield",1.00144447,1009.5417472323752,{"$f":"ROWS($A$3:A3136)","v":3134},"",""]
["Canterbury Region","    Bryndwr North","..","..",1248,"Bryndwr North",1.0907013699999999,1144.2178714784231,{"$f":"ROWS($A$3:A3137)","v":3135},"",""]
["Canterbury Region","    Bryndwr South","..","..",1170,"Bryndwr South",0.90574677000000003,1291.7517773759214,{"$f":"ROWS($A$3:A3138)","v":3136},"",""]
["Canterbury Region","    Burnham Camp","..","..",312,{"$f":"TRIM(B3139)","v":"Burnham Camp"},1.4939420800000001,{"$f":"E3139/G3139","v":208.84343789285325},{"$f":"ROWS($A$3:A3139)","v":3137},{"$f":"IF(A3139=$M$2,I3140,\"\")","v":""},""]
["Canterbury Region","    Burnside","..","..",1284,"Burnside",1.3619678900000001,942.75350353524118,{"$f":"ROWS($A$3:A3140)","v":3138},"",{"$f":"IFERROR(SMALL($J$3:$J$4612,I3140)-1,\"\")","v":""}]
["Canterbury Region","    Burnside Park","..","..",1167,"Burnside Park",1.33883255,871.65493548838504,{"$f":"ROWS($A$3:A3141)","v":3139},"",""]
["Canterbury Region","    Burwood","..","..",1314,"Burwood",1.2097650499999999,1086.1613170259795,{"$f":"ROWS($A$3:A3142)","v":3140},"",""]
["Canterbury Region","    Bush Inn","..","..",1062,"Bush Inn",0.83923848999999995,1265.4329045370644,{"$f":"ROWS($A$3:A3143)","v":3141},"",""]
["Canterbury Region","    Cairnbrae","..","..",648,"Cairnbrae",542.75534356000003,1.1939080981675596,{"$f":"ROWS($A$3:A3144)","v":3142},"",""]
["Canterbury Region","    Casebrook","..","..",1635,"Casebrook",1.83250102,892.22324143644948,{"$f":"ROWS($A$3:A3145)","v":3143},"",""]
["Canterbury Region","    Cashmere East","..","..",1398,"Cashmere East",2.3270730400000001,600.75467162818404,{"$f":"ROWS($A$3:A3146)","v":3144},"",""]
["Canterbury Region","    Cashmere West","..","..",1248,"Cashmere West",2.3861146199999999,523.02600618573808,{"$f":"ROWS($A$3:A3147)","v":3145},"",""]
["Canterbury Region","    Charing Cross","..","..",357,"Charing Cross",168.67829573,2.116454867266639,{"$f":"ROWS($A$3:A3148)","v":3146},"",""]
["Canterbury Region","    Charleston (Christchurch City)","..","..",690,"Charleston (Christchurch City)",0.36094657000000002,1911.6402740715889,{"$f":"ROWS($A$3:A3149)","v":3147},"",""]
["Canterbury Region","    Chertsey","..","..",756,"Chertsey",572.51144680000004,1.3204976148958982,{"$f":"ROWS($A$3:A3150)","v":3148},"",""]
["Canterbury Region","    Christchurch Airport","..","..",93,"Christchurch Airport",11.46321637,8.1129062732678747,{"$f":"ROWS($A$3:A3151)","v":3149},"",""]
["Canterbury Region","    Christchurch Central","..","..",153,"Christchurch Central",0.71393735000000003,214.30451845669651,{"$f":"ROWS($A$3:A3152)","v":3150},"",""]
["Canterbury Region","    Christchurch Central-East","..","..",1137,"Christchurch Central-East",0.71344675999999996,1593.6718249305668,{"$f":"ROWS($A$3:A3153)","v":3151},"",""]
["Canterbury Region","    Christchurch Central-North","..","..",1530,"Christchurch Central-North",0.77753402000000005,1967.7595586106959,{"$f":"ROWS($A$3:A3154)","v":3152},"",""]
["Canterbury Region","    Christchurch Central-South","..","..",222,"Christchurch Central-South",1.2504789999999999,177.53196974919211,{"$f":"ROWS($A$3:A3155)","v":3153},"",""]
["Canterbury Region","    Christchurch Central-West","..","..",768,"Christchurch Central-West",0.69698550999999997,1101.8880435548797,{"$f":"ROWS($A$3:A3156)","v":3154},"",""]
["Canterbury Region","    Clarkville","..","..",504,"Clarkville",30.17125424,16.704641974472985,{"$f":"ROWS($A$3:A3157)","v":3155},"",""]
["Canterbury Region","    Clearwater","..","..",354,"Clearwater",5.7133209100000002,61.960461450781693,{"$f":"ROWS($A$3:A3158)","v":3156},"",""]
["Canterbury Region","    Clifton Hill","..","..",750,"Clifton Hill",2.5610454300000001,292.84915886868902,{"$f":"ROWS($A$3:A3159)","v":3157},"",""]
["Canterbury Region","    Craigieburn","..","..",531,"Craigieburn",3444.1023846100002,0.15417660124529917,{"$f":"ROWS($A$3:A3160)","v":3158},"",""]
["Canterbury Region","    Dallington","..","..",984,"Dallington",0.84120136000000001,1169.7555981126802,{"$f":"ROWS($A$3:A3161)","v":3159},"",""]
["Canterbury Region","    Danseys Pass","..","..",570,"Danseys Pass",711.49240440000005,0.80113293757602333,{"$f":"ROWS($A$3:A3162)","v":3160},"",""]
["Canterbury Region","    Darfield","..","..",1137,"Darfield",15.14334504,75.082486530994345,{"$f":"ROWS($A$3:A3163)","v":3161},"",""]
["Canterbury Region","    Deans Bush","..","..",1029,"Deans Bush",1.25176702,822.03795399562455,{"$f":"ROWS($A$3:A3164)","v":3162},"",""]
["Canterbury Region","    Diamond Harbour","..","..",948,"Diamond Harbour",4.0645197800000004,233.2378857312388,{"$f":"ROWS($A$3:A3165)","v":3163},"",""]
["Canterbury Region","    Ealing-Lowcliffe","..","..",714,"Ealing-Lowcliffe",413.21879131999901,1.7278981861380895,{"$f":"ROWS($A$3:A3166)","v":3164},"",""]
["Canterbury Region","    Eastern Bays-Banks Peninsula","..","..",624,"Eastern Bays-Banks Peninsula",368.25130116000003,1.6944950310681475,{"$f":"ROWS($A$3:A3167)","v":3165},"",""]
["Canterbury Region","    Edgeware","..","..",2091,"Edgeware",1.01462724,2060.8553738415303,{"$f":"ROWS($A$3:A3168)","v":3166},"",""]
["Canterbury Region","    Eiffelton","..","..",981,"Eiffelton",434.14812511000002,2.2595974582441056,{"$f":"ROWS($A$3:A3169)","v":3167},"",""]
["Canterbury Region","    Ensors","..","..",996,"Ensors",0.87364461000000004,1140.0516738722854,{"$f":"ROWS($A$3:A3170)","v":3168},"",""]
["Canterbury Region","    Eyrewell","..","..",690,"Eyrewell",272.10910639000002,2.5357475505103397,{"$f":"ROWS($A$3:A3171)","v":3169},"",""]
["Canterbury Region","    Fairlie","..","..",492,"Fairlie",4.9541258800000003,99.311162436591133,{"$f":"ROWS($A$3:A3172)","v":3170},"",""]
["Canterbury Region","    Fairview","..","..",666,"Fairview",98.367994460000006,6.7704948510546261,{"$f":"ROWS($A$3:A3173)","v":3171},"",""]
["Canterbury Region","    Fendalton","..","..",861,"Fendalton",0.92187576999999998,933.96532159642288,{"$f":"ROWS($A$3:A3174)","v":3172},"",""]
["Canterbury Region","    Fernside","..","..",495,"Fernside",41.47828011,11.933956728371204,{"$f":"ROWS($A$3:A3175)","v":3173},"",""]
["Canterbury Region","    Fraser Park","..","..",1251,"Fraser Park",1.2155749499999999,1029.1426291731334,{"$f":"ROWS($A$3:A3176)","v":3174},"",""]
["Canterbury Region","    Geraldine","..","..",1299,"Geraldine",3.12428733,415.77481927694532,{"$f":"ROWS($A$3:A3177)","v":3175},"",""]
["Canterbury Region","    Gleniti North","..","..",633,"Gleniti North",5.45840411,115.96796192504699,{"$f":"ROWS($A$3:A3178)","v":3176},"",""]
["Canterbury Region","    Gleniti South","..","..",1005,"Gleniti South",1.73695036,578.6003003563095,{"$f":"ROWS($A$3:A3179)","v":3177},"",""]
["Canterbury Region","    Glenroy-Hororata","..","..",522,"Glenroy-Hororata",644.35234021999895,0.81011578202971279,{"$f":"ROWS($A$3:A3180)","v":3178},"",""]
["Canterbury Region","    Glentunnel","..","..",591,"Glentunnel",159.682948659999,3.7010839601814483,{"$f":"ROWS($A$3:A3181)","v":3179},"",""]
["Canterbury Region","    Glenwood","..","..",765,"Glenwood",1.04957951,728.86331403325505,{"$f":"ROWS($A$3:A3182)","v":3180},"",""]
["Canterbury Region","    Governors Bay","..","..",393,"Governors Bay",3.2207768099999998,122.02025262346571,{"$f":"ROWS($A$3:A3183)","v":3181},"",""]
["Canterbury Region","    Hadlow","..","..",561,"Hadlow",93.743496429999894,5.9844151473367511,{"$f":"ROWS($A$3:A3184)","v":3182},"",""]
["Canterbury Region","    Hagley Park","..","..",15,"Hagley Park",2.18711156,6.8583607138906073,{"$f":"ROWS($A$3:A3185)","v":3183},"",""]
["Canterbury Region","    Hakataramea","..","..",429,"Hakataramea",2059.6508038900001,0.20828773459547642,{"$f":"ROWS($A$3:A3186)","v":3184},"",""]
["Canterbury Region","    Halkett","..","..",630,"Halkett",86.012097030000007,7.3245511009952873,{"$f":"ROWS($A$3:A3187)","v":3185},"",""]
["Canterbury Region","    Halswell North","..","..",723,"Halswell North",2.6085372200000001,277.16683298849,{"$f":"ROWS($A$3:A3188)","v":3186},"",""]
["Canterbury Region","    Halswell South","..","..",981,"Halswell South",1.78085932,550.85766123289284,{"$f":"ROWS($A$3:A3189)","v":3187},"",""]
["Canterbury Region","    Halswell West","..","..",1371,"Halswell West",6.3663931399999996,215.3495660495764,{"$f":"ROWS($A$3:A3190)","v":3188},"",""]
["Canterbury Region","    Hampstead","..","..",1224,"Hampstead",1.44102643,849.39455274251986,{"$f":"ROWS($A$3:A3191)","v":3189},"",""]
["Canterbury Region","    Hanmer Range","..","..",240,"Hanmer Range",3608.9589151999899,6.6501172675915723E-2,{"$f":"ROWS($A$3:A3192)","v":3190},"",""]
["Canterbury Region","    Hanmer Springs","..","..",1218,"Hanmer Springs",4.2303521100000001,287.91929568245797,{"$f":"ROWS($A$3:A3193)","v":3191},"",""]
["Canterbury Region","    Harewood","..","..",522,"Harewood",3.7780840200000001,138.16527034250549,{"$f":"ROWS($A$3:A3194)","v":3192},"",""]
["Canterbury Region","    Hawthornden","..","..",990,"Hawthornden",1.89245555,523.12985633929418,{"$f":"ROWS($A$3:A3195)","v":3193},"",""]
["Canterbury Region","    Heathcote Valley","..","..",930,"Heathcote Valley",4.1807293799999998,222.44922248471391,{"$f":"ROWS($A$3:A3196)","v":3194},"",""]
["Canterbury Region","    Hei Hei","..","..",1254,"Hei Hei",1.2426831300000001,1009.1068026327837,{"$f":"ROWS($A$3:A3197)","v":3195},"",""]
["Canterbury Region","    Highfield North","..","..",1026,"Highfield North",1.4110844600000001,727.10034663694046,{"$f":"ROWS($A$3:A3198)","v":3196},"",""]
["Canterbury Region","    Highfield South","..","..",537,"Highfield South",0.94991530999999996,565.31355411041852,{"$f":"ROWS($A$3:A3199)","v":3197},"",""]
["Canterbury Region","    Hillmorton","..","..",1146,"Hillmorton",2.9169332300000002,392.87837932443864,{"$f":"ROWS($A$3:A3200)","v":3198},"",""]
["Canterbury Region","    Hillsborough (Christchurch City)","..","..",1011,"Hillsborough (Christchurch City)",1.6440045000000001,614.96182035998072,{"$f":"ROWS($A$3:A3201)","v":3199},"",""]
["Canterbury Region","    Holmwood","..","..",966,"Holmwood",1.1294643799999999,855.27265587605348,{"$f":"ROWS($A$3:A3202)","v":3200},"",""]
["Canterbury Region","    Hoon Hay East","..","..",1278,{"$f":"TRIM(B3203)","v":"Hoon Hay East"},1.8228803499999999,{"$f":"E3203/G3203","v":701.0882529947728},{"$f":"ROWS($A$3:A3203)","v":3201},{"$f":"IF(A3203=$M$2,I3204,\"\")","v":""},""]
["Canterbury Region","    Hoon Hay South","..","..",873,"Hoon Hay South",0.79560344999999999,1097.280309681915,{"$f":"ROWS($A$3:A3204)","v":3202},"",{"$f":"IFERROR(SMALL($J$3:$J$4612,I3204)-1,\"\")","v":""}]
["Canterbury Region","    Hoon Hay West","..","..",1071,"Hoon Hay West",1.0752313899999999,996.06467032179944,{"$f":"ROWS($A$3:A3205)","v":3203},"",""]
["Canterbury Region","    Hornby Central","..","..",54,"Hornby Central",2.2702299199999998,23.786137044656694,{"$f":"ROWS($A$3:A3206)","v":3204},"",""]
["Canterbury Region","    Hornby South","..","..",1782,"Hornby South",1.3658224400000001,1304.7083924027488,{"$f":"ROWS($A$3:A3207)","v":3205},"",""]
["Canterbury Region","    Hornby West","..","..",948,"Hornby West",0.74485747999999996,1272.7266966561174,{"$f":"ROWS($A$3:A3208)","v":3206},"",""]
["Canterbury Region","    Huntsbury","..","..",975,"Huntsbury",1.3651920900000001,714.18521037577943,{"$f":"ROWS($A$3:A3209)","v":3207},"",""]
["Canterbury Region","    Ilam North","..","..",1296,"Ilam North",1.2317820500000001,1052.1341823417542,{"$f":"ROWS($A$3:A3210)","v":3208},"",""]
["Canterbury Region","    Ilam South","..","..",1122,"Ilam South",0.91177469,1230.567170053821,{"$f":"ROWS($A$3:A3211)","v":3209},"",""]
["Canterbury Region","    Ilam University","..","..",447,"Ilam University",1.2271665599999999,364.25373259845026,{"$f":"ROWS($A$3:A3212)","v":3210},"",""]
["Canterbury Region","    Inland water Lake Ellesmere/Te Waihora North","..","..",0,"Inland water Lake Ellesmere/Te Waihora North",0,{"$error":"#DIV/0!"},{"$f":"ROWS($A$3:A3213)","v":3211},"",""]
["Canterbury Region","    Inland water Lake Ellesmere/Te Waihora South","..","..",0,"Inland water Lake Ellesmere/Te Waihora South",0,{"$error":"#DIV/0!"},{"$f":"ROWS($A$3:A3214)","v":3212},"",""]
["Canterbury Region","    Inland water Lake Ohau","..","..",0,"Inland water Lake Ohau",0,{"$error":"#DIV/0!"},{"$f":"ROWS($A$3:A3215)","v":3213},"",""]
["Canterbury Region","    Inland water Lake Pukaki","..","..",0,"Inland water Lake Pukaki",0,{"$error":"#DIV/0!"},{"$f":"ROWS($A$3:A3216)","v":3214},"",""]
["Canterbury Region","    Inland water Lake Tekapo","..","..",0,"Inland water Lake Tekapo",0,{"$error":"#DIV/0!"},{"$f":"ROWS($A$3:A3217)","v":3215},"",""]
["Canterbury Region","    Inlet Akaroa Harbour","..","..",3,"Inlet Akaroa Harbour",0,{"$error":"#DIV/0!"},{"$f":"ROWS($A$3:A3218)","v":3216},"",""]
["Canterbury Region","    Inlet Port Lyttelton","..","..",6,"Inlet Port Lyttelton",0,{"$error":"#DIV/0!"},{"$f":"ROWS($A$3:A3219)","v":3217},"",""]
["Canterbury Region","    Inlet Port Timaru","..","..",0,"Inlet Port Timaru",0,{"$error":"#DIV/0!"},{"$f":"ROWS($A$3:A3220)","v":3218},"",""]
["Canterbury Region","    Inlets other Christchurch City","..","..",0,"Inlets other Christchurch City",0,{"$error":"#DIV/0!"},{"$f":"ROWS($A$3:A3221)","v":3219},"",""]
["Canterbury Region","    Irwell","..","..",684,"Irwell",128.19291077,5.3357084716424996,{"$f":"ROWS($A$3:A3222)","v":3220},"",""]
["Canterbury Region","    Islington","..","..",381,"Islington",1.7788172200000001,214.18726764968014,{"$f":"ROWS($A$3:A3223)","v":3221},"",""]
["Canterbury Region","    Islington-Hornby Industrial","..","..",150,"Islington-Hornby Industrial",7.1791850799999999,20.89373631247852,{"$f":"ROWS($A$3:A3224)","v":3222},"",""]
["Canterbury Region","    Jellie Park","..","..",1185,"Jellie Park",1.31125296,903.71578646426849,{"$f":"ROWS($A$3:A3225)","v":3223},"",""]
["Canterbury Region","    Kaiapoi Central","..","..",975,"Kaiapoi Central",1.51313743,644.35654070099895,{"$f":"ROWS($A$3:A3226)","v":3224},"",""]
["Canterbury Region","    Kaiapoi East","..","..",174,"Kaiapoi East",5.0290705300000003,34.598838684411923,{"$f":"ROWS($A$3:A3227)","v":3225},"",""]
["Canterbury Region","    Kaiapoi North West","..","..",849,"Kaiapoi North West",3.5139612699999998,241.60767144710164,{"$f":"ROWS($A$3:A3228)","v":3226},"",""]
["Canterbury Region","    Kaiapoi South","..","..",735,"Kaiapoi South",0.87520507000000003,839.80317892811104,{"$f":"ROWS($A$3:A3229)","v":3227},"",""]
["Canterbury Region","    Kaiapoi West","..","..",489,"Kaiapoi West",0.51025520000000002,958.34398159979548,{"$f":"ROWS($A$3:A3230)","v":3228},"",""]
["Canterbury Region","    Kaikoura","..","..",1461,"Kaikoura",9.2544329699999999,157.87028818903423,{"$f":"ROWS($A$3:A3231)","v":3229},"",""]
["Canterbury Region","    Kaikoura Ranges","..","..",894,"Kaikoura Ranges",2037.53739756,0.43876495276630822,{"$f":"ROWS($A$3:A3232)","v":3230},"",""]
["Canterbury Region","    Kennedys Bush","..","..",363,"Kennedys Bush",12.005908700000001,30.235112482572848,{"$f":"ROWS($A$3:A3233)","v":3231},"",""]
["Canterbury Region","    Kensington (Timaru District)","..","..",690,"Kensington (Timaru District)",0.72551785000000002,951.04482956553034,{"$f":"ROWS($A$3:A3234)","v":3232},"",""]
["Canterbury Region","    Kingsbury","..","..",1107,"Kingsbury",2.5810552800000002,428.89433968264325,{"$f":"ROWS($A$3:A3235)","v":3233},"",""]
["Canterbury Region","    Kirwee","..","..",519,"Kirwee",97.188996009999897,5.3401107255660865,{"$f":"ROWS($A$3:A3236)","v":3234},"",""]
["Canterbury Region","    Ladbrooks","..","..",615,"Ladbrooks",50.039210609999898,12.290361748374536,{"$f":"ROWS($A$3:A3237)","v":3235},"",""]
["Canterbury Region","    Lancaster Park","..","..",99,"Lancaster Park",1.11557726,88.743293315247385,{"$f":"ROWS($A$3:A3238)","v":3236},"",""]
["Canterbury Region","    Leeston","..","..",885,"Leeston",2.4368016300000002,363.18097833839676,{"$f":"ROWS($A$3:A3239)","v":3237},"",""]
["Canterbury Region","    Levels","..","..",528,"Levels",88.026713049999898,5.9981792083965653,{"$f":"ROWS($A$3:A3240)","v":3238},"",""]
["Canterbury Region","    Levels Valley","..","..",459,"Levels Valley",386.37837236000001,1.1879546911397418,{"$f":"ROWS($A$3:A3241)","v":3239},"",""]
["Canterbury Region","    Lilybrook","..","..",1254,"Lilybrook",1.2632453299999999,992.68128701493004,{"$f":"ROWS($A$3:A3242)","v":3240},"",""]
["Canterbury Region","    Lincoln East","..","..",1368,"Lincoln East",4.9878051699999997,274.26893260147131,{"$f":"ROWS($A$3:A3243)","v":3241},"",""]
["Canterbury Region","    Lincoln West","..","..",1038,"Lincoln West",4.0710419199999999,254.97158231178324,{"$f":"ROWS($A$3:A3244)","v":3242},"",""]
["Canterbury Region","    Linwood East","..","..",861,"Linwood East",0.91216529000000002,943.90787441605016,{"$f":"ROWS($A$3:A3245)","v":3243},"",""]
["Canterbury Region","    Linwood North","..","..",1119,"Linwood North",0.85744180000000003,1305.0448438599565,{"$f":"ROWS($A$3:A3246)","v":3244},"",""]
["Canterbury Region","    Linwood West","..","..",2406,"Linwood West",1.07759998,2232.7394623745258,{"$f":"ROWS($A$3:A3247)","v":3245},"",""]
["Canterbury Region","    Loburn","..","..",831,"Loburn",89.427037720000001,9.2924916354928104,{"$f":"ROWS($A$3:A3248)","v":3246},"",""]
["Canterbury Region","    Lyalldale","..","..",267,"Lyalldale",109.32681150000001,2.4422188513199252,{"$f":"ROWS($A$3:A3249)","v":3247},"",""]
["Canterbury Region","    Lyttelton","..","..",1494,"Lyttelton",4.4558376300000004,335.29049396712418,{"$f":"ROWS($A$3:A3250)","v":3248},"",""]
["Canterbury Region","    Mackenzie Lakes","..","..",1098,"Mackenzie Lakes",5134.2521465099899,0.21385782557375294,{"$f":"ROWS($A$3:A3251)","v":3249},"",""]
["Canterbury Region","    Mairehau North","..","..",1227,"Mairehau North",2.2166474799999998,553.538625817038,{"$f":"ROWS($A$3:A3252)","v":3250},"",""]
["Canterbury Region","    Mairehau South","..","..",1494,"Mairehau South",1.3862817599999999,1077.7029916342549,{"$f":"ROWS($A$3:A3253)","v":3251},"",""]
["Canterbury Region","    Makikihi-Willowbridge","..","..",462,"Makikihi-Willowbridge",294.9108799,1.5665749603970442,{"$f":"ROWS($A$3:A3254)","v":3252},"",""]
["Canterbury Region","    Malvern","..","..",999,"Malvern",0.99015235000000001,1008.9356451055233,{"$f":"ROWS($A$3:A3255)","v":3253},"",""]
["Canterbury Region","    Mandeville-Ohoka","..","..",1110,"Mandeville-Ohoka",40.40061498,27.47482929528416,{"$f":"ROWS($A$3:A3256)","v":3254},"",""]
["Canterbury Region","    Marchwiel East","..","..",810,"Marchwiel East",0.93109584999999995,869.94265950170438,{"$f":"ROWS($A$3:A3257)","v":3255},"",""]
["Canterbury Region","    Marchwiel West","..","..",678,"Marchwiel West",0.84044417000000005,806.71628669873451,{"$f":"ROWS($A$3:A3258)","v":3256},"",""]
["Canterbury Region","    Marshland","..","..",276,"Marshland",10.1055184199999,27.311810095142327,{"$f":"ROWS($A$3:A3259)","v":3257},"",""]
["Canterbury Region","    Maungati","..","..",366,"Maungati",696.26418248000004,0.52566254190522466,{"$f":"ROWS($A$3:A3260)","v":3258},"",""]
["Canterbury Region","    McLeans Island","..","..",72,"McLeans Island",73.943450290000001,0.9737170732177366,{"$f":"ROWS($A$3:A3261)","v":3259},"",""]
["Canterbury Region","    Merivale","..","..",1653,"Merivale",1.1044967400000001,1496.6092158859608,{"$f":"ROWS($A$3:A3262)","v":3260},"",""]
["Canterbury Region","    Methven","..","..",873,"Methven",4.1828788000000001,208.70793578814667,{"$f":"ROWS($A$3:A3263)","v":3261},"",""]
["Canterbury Region","    Middleton","..","..",81,"Middleton",1.9018950699999999,42.589100354521662,{"$f":"ROWS($A$3:A3264)","v":3262},"",""]
["Canterbury Region","    Mona Vale","..","..",567,"Mona Vale",0.54775174000000004,1035.1404817080088,{"$f":"ROWS($A$3:A3265)","v":3263},"",""]
["Canterbury Region","    Morven-Glenavy-Ikawai","..","..",609,"Morven-Glenavy-Ikawai",386.31598843,1.5764297058348391,{"$f":"ROWS($A$3:A3266)","v":3264},"",""]
["Canterbury Region","    Motukarara","..","..",276,{"$f":"TRIM(B3267)","v":"Motukarara"},64.635620599999896,{"$f":"E3267/G3267","v":4.2700912815247332},{"$f":"ROWS($A$3:A3267)","v":3265},{"$f":"IF(A3267=$M$2,I3268,\"\")","v":""},""]
["Canterbury Region","    Mount Pleasant","..","..",1647,"Mount Pleasant",2.4729275500000001,666.01223315256448,{"$f":"ROWS($A$3:A3268)","v":3266},"",{"$f":"IFERROR(SMALL($J$3:$J$4612,I3268)-1,\"\")","v":""}]
["Canterbury Region","    Netherby","..","..",852,"Netherby",1.09301884,779.49251085187143,{"$f":"ROWS($A$3:A3269)","v":3267},"",""]
["Canterbury Region","    New Brighton","..","..",1590,"New Brighton",1.7610119399999999,902.88995996245205,{"$f":"ROWS($A$3:A3270)","v":3268},"",""]
["Canterbury Region","    Newtons Road","..","..",1212,"Newtons Road",153.137244409999,7.9144691722091824,{"$f":"ROWS($A$3:A3271)","v":3269},"",""]
["Canterbury Region","    North Beach","..","..",1776,"North Beach",1.98903797,892.89396521676258,{"$f":"ROWS($A$3:A3272)","v":3270},"",""]
["Canterbury Region","    Northcote (Christchurch City)","..","..",1083,"Northcote (Christchurch City)",1.6762045699999999,646.10252196126635,{"$f":"ROWS($A$3:A3273)","v":3271},"",""]
["Canterbury Region","    Northlands (Christchurch City)","..","..",57,"Northlands (Christchurch City)",0.62903107000000003,90.615555762611208,{"$f":"ROWS($A$3:A3274)","v":3272},"",""]
["Canterbury Region","    Northwood","..","..",1446,"Northwood",1.4524466700000001,995.56151001399587,{"$f":"ROWS($A$3:A3275)","v":3273},"",""]
["Canterbury Region","    Oaklands East","..","..",1299,"Oaklands East",1.3006289200000001,998.74759051182707,{"$f":"ROWS($A$3:A3276)","v":3274},"",""]
["Canterbury Region","    Oaklands West","..","..",936,"Oaklands West",1.69814976,551.18813549165418,{"$f":"ROWS($A$3:A3277)","v":3275},"",""]
["Canterbury Region","    Oceanic Canterbury Region","..","..",0,"Oceanic Canterbury Region",2.7225639999999999E-2,0,{"$f":"ROWS($A$3:A3278)","v":3276},"",""]
["Canterbury Region","    Okuku","..","..",303,"Okuku",834.68212277999896,0.36301244717069747,{"$f":"ROWS($A$3:A3279)","v":3277},"",""]
["Canterbury Region","    Omihi","..","..",699,"Omihi",717.86646040999904,0.97371870473064903,{"$f":"ROWS($A$3:A3280)","v":3278},"",""]
["Canterbury Region","    Opawa","..","..",561,"Opawa",0.81403258999999994,689.16159732622009,{"$f":"ROWS($A$3:A3281)","v":3279},"",""]
["Canterbury Region","    Opua (Mackenzie District)","..","..",651,"Opua (Mackenzie District)",1978.3827120000001,0.32905665625327196,{"$f":"ROWS($A$3:A3282)","v":3280},"",""]
["Canterbury Region","    Otakaro-Avon River Corridor","..","..",42,"Otakaro-Avon River Corridor",6.1323984200000003,6.8488700706435832,{"$f":"ROWS($A$3:A3283)","v":3281},"",""]
["Canterbury Region","    Oxford","..","..",942,"Oxford",11.828659480000001,79.637088344012412,{"$f":"ROWS($A$3:A3284)","v":3282},"",""]
["Canterbury Region","    Oxford Estate","..","..",468,"Oxford Estate",0.52355057000000005,893.89645779585328,{"$f":"ROWS($A$3:A3285)","v":3283},"",""]
["Canterbury Region","    Papanui East","..","..",1005,"Papanui East",0.82838075,1213.2102297162264,{"$f":"ROWS($A$3:A3286)","v":3284},"",""]
["Canterbury Region","    Papanui North","..","..",792,"Papanui North",0.59939608,1321.329962651741,{"$f":"ROWS($A$3:A3287)","v":3285},"",""]
["Canterbury Region","    Papanui West","..","..",1209,"Papanui West",1.0016985,1206.9499954327573,{"$f":"ROWS($A$3:A3288)","v":3286},"",""]
["Canterbury Region","    Paparua","..","..",129,"Paparua",23.32169511,5.5313303510552583,{"$f":"ROWS($A$3:A3289)","v":3287},"",""]
["Canterbury Region","    Parklands","..","..",1602,"Parklands",1.80335402,888.34470782392464,{"$f":"ROWS($A$3:A3290)","v":3288},"",""]
["Canterbury Region","    Parkside","..","..",1149,"Parkside",1.1472001999999999,1001.5688630458748,{"$f":"ROWS($A$3:A3291)","v":3289},"",""]
["Canterbury Region","    Parnassus","..","..",816,"Parnassus",994.56247252000003,0.82046128076041069,{"$f":"ROWS($A$3:A3292)","v":3290},"",""]
["Canterbury Region","    Pegasus","..","..",1005,"Pegasus",6.3374460299999997,158.58123213082416,{"$f":"ROWS($A$3:A3293)","v":3291},"",""]
["Canterbury Region","    Pegasus Bay","..","..",495,"Pegasus Bay",24.5669629,20.149010767627285,{"$f":"ROWS($A$3:A3294)","v":3292},"",""]
["Canterbury Region","    Phillipstown","..","..",1872,"Phillipstown",0.93343529999999997,2005.4951853652847,{"$f":"ROWS($A$3:A3295)","v":3293},"",""]
["Canterbury Region","    Pleasant Point","..","..",636,"Pleasant Point",5.20861353,122.1054310013283,{"$f":"ROWS($A$3:A3296)","v":3294},"",""]
["Canterbury Region","    Port Hills","..","..",39,"Port Hills",44.478442450000003,0.87682926496001878,{"$f":"ROWS($A$3:A3297)","v":3295},"",""]
["Canterbury Region","    Prebbleton","..","..",1575,"Prebbleton",5.0991561799999996,308.87463423409008,{"$f":"ROWS($A$3:A3298)","v":3296},"",""]
["Canterbury Region","    Prestons","..","..",1266,"Prestons",3.9830652600000001,317.84565839626742,{"$f":"ROWS($A$3:A3299)","v":3297},"",""]
["Canterbury Region","    Queenspark","..","..",1365,"Queenspark",1.12074483,1217.9400372518337,{"$f":"ROWS($A$3:A3300)","v":3298},"",""]
["Canterbury Region","    Rakaia","..","..",654,"Rakaia",11.3024318699999,57.863653373210362,{"$f":"ROWS($A$3:A3301)","v":3299},"",""]
["Canterbury Region","    Rangiora Central","..","..",18,"Rangiora Central",0.36710758999999998,49.031947282811565,{"$f":"ROWS($A$3:A3302)","v":3300},"",""]
["Canterbury Region","    Rangiora North East","..","..",822,"Rangiora North East",2.0202766300000001,406.8749733545153,{"$f":"ROWS($A$3:A3303)","v":3301},"",""]
["Canterbury Region","    Rangiora North West","..","..",921,"Rangiora North West",1.9949526900000001,461.6650833960378,{"$f":"ROWS($A$3:A3304)","v":3302},"",""]
["Canterbury Region","    Rangiora South East","..","..",921,"Rangiora South East",2.6674416999999999,345.27465023884122,{"$f":"ROWS($A$3:A3305)","v":3303},"",""]
["Canterbury Region","    Rangiora South West","..","..",921,"Rangiora South West",0.85640238000000002,1075.4290524040814,{"$f":"ROWS($A$3:A3306)","v":3304},"",""]
["Canterbury Region","    Rangitata","..","..",783,"Rangitata",172.13496448999899,4.5487562757506605,{"$f":"ROWS($A$3:A3307)","v":3305},"",""]
["Canterbury Region","    Rawhiti","..","..",1242,"Rawhiti",1.9351316300000001,641.81680498912624,{"$f":"ROWS($A$3:A3308)","v":3306},"",""]
["Canterbury Region","    Redcliffs","..","..",957,"Redcliffs",1.85691568,515.37073562758655,{"$f":"ROWS($A$3:A3309)","v":3307},"",""]
["Canterbury Region","    Redwood East","..","..",1326,"Redwood East",1.2695206699999999,1044.488704543897,{"$f":"ROWS($A$3:A3310)","v":3308},"",""]
["Canterbury Region","    Redwood North","..","..",1035,"Redwood North",1.09252656,947.34538993724777,{"$f":"ROWS($A$3:A3311)","v":3309},"",""]
["Canterbury Region","    Redwood West","..","..",876,"Redwood West",0.81581468999999995,1073.7732609350294,{"$f":"ROWS($A$3:A3312)","v":3310},"",""]
["Canterbury Region","    Regents Park","..","..",429,"Regents Park",1.45375948,295.0969578544038,{"$f":"ROWS($A$3:A3313)","v":3311},"",""]
["Canterbury Region","    Riccarton Central","..","..",27,"Riccarton Central",0.39843525000000002,67.765088555794193,{"$f":"ROWS($A$3:A3314)","v":3312},"",""]
["Canterbury Region","    Riccarton East","..","..",432,"Riccarton East",0.20811641,2075.7613491410889,{"$f":"ROWS($A$3:A3315)","v":3313},"",""]
["Canterbury Region","    Riccarton Racecourse","..","..",528,"Riccarton Racecourse",1.6921088500000001,312.03666359879861,{"$f":"ROWS($A$3:A3316)","v":3314},"",""]
["Canterbury Region","    Riccarton South","..","..",1383,"Riccarton South",0.54466270000000006,2539.1861788956721,{"$f":"ROWS($A$3:A3317)","v":3315},"",""]
["Canterbury Region","    Riccarton West","..","..",1104,"Riccarton West",0.62257936999999997,1773.2678806880479,{"$f":"ROWS($A$3:A3318)","v":3316},"",""]
["Canterbury Region","    Richmond North (Christchurch City)","..","..",966,"Richmond North (Christchurch City)",1.16647674,828.13481561578328,{"$f":"ROWS($A$3:A3319)","v":3317},"",""]
["Canterbury Region","    Richmond South (Christchurch City)","..","..",1098,"Richmond South (Christchurch City)",0.80279750999999999,1367.7172466566319,{"$f":"ROWS($A$3:A3320)","v":3318},"",""]
["Canterbury Region","    Rolleston Central","..","..",1107,"Rolleston Central",1.60115417,691.3762714055199,{"$f":"ROWS($A$3:A3321)","v":3319},"",""]
["Canterbury Region","    Rolleston Izone","..","..",9,"Rolleston Izone",2.4344747,3.6968960901503722,{"$f":"ROWS($A$3:A3322)","v":3320},"",""]
["Canterbury Region","    Rolleston North East","..","..",1530,"Rolleston North East",2.8558100300000002,535.74992171310498,{"$f":"ROWS($A$3:A3323)","v":3321},"",""]
["Canterbury Region","    Rolleston North West","..","..",1245,"Rolleston North West",1.5065824699999999,826.37361365289223,{"$f":"ROWS($A$3:A3324)","v":3322},"",""]
["Canterbury Region","    Rolleston South East","..","..",1365,"Rolleston South East",10.0825634,135.38223821136597,{"$f":"ROWS($A$3:A3325)","v":3323},"",""]
["Canterbury Region","    Rolleston South West","..","..",906,"Rolleston South West",3.59540141,251.98855334486839,{"$f":"ROWS($A$3:A3326)","v":3324},"",""]
["Canterbury Region","    Russley","..","..",441,"Russley",1.8677749400000001,236.10981738517168,{"$f":"ROWS($A$3:A3327)","v":3325},"",""]
["Canterbury Region","    Rutland","..","..",1230,"Rutland",0.98659322000000005,1246.7144260326459,{"$f":"ROWS($A$3:A3328)","v":3326},"",""]
["Canterbury Region","    Seaview","..","..",1086,"Seaview",0.73492871000000004,1477.6943467074514,{"$f":"ROWS($A$3:A3329)","v":3327},"",""]
["Canterbury Region","    Shirley East","..","..",1038,"Shirley East",1.69660977,611.80833586735741,{"$f":"ROWS($A$3:A3330)","v":3328},"",""]
["Canterbury Region","    Shirley West","..","..",1581,{"$f":"TRIM(B3331)","v":"Shirley West"},1.6306644699999999,{"$f":"E3331/G3331","v":969.54341563595858},{"$f":"ROWS($A$3:A3331)","v":3329},{"$f":"IF(A3331=$M$2,I3332,\"\")","v":""},""]
["Canterbury Region","    Silverstream (Waimakariri District)","..","..",405,"Silverstream (Waimakariri District)",0.97115644000000001,417.0285891323544,{"$f":"ROWS($A$3:A3332)","v":3330},"",{"$f":"IFERROR(SMALL($J$3:$J$4612,I3332)-1,\"\")","v":""}]
["Canterbury Region","    Sockburn North","..","..",1515,"Sockburn North",1.2398708199999999,1221.9014880921225,{"$f":"ROWS($A$3:A3333)","v":3331},"",""]
["Canterbury Region","    Sockburn South","..","..",144,"Sockburn South",2.4854760800000002,57.936586539187289,{"$f":"ROWS($A$3:A3334)","v":3332},"",""]
["Canterbury Region","    Somerfield East","..","..",1590,"Somerfield East",1.2291718300000001,1293.5538882305821,{"$f":"ROWS($A$3:A3335)","v":3333},"",""]
["Canterbury Region","    Somerfield West","..","..",1284,"Somerfield West",1.18118116,1087.0474771202751,{"$f":"ROWS($A$3:A3336)","v":3334},"",""]
["Canterbury Region","    South New Brighton","..","..",1422,"South New Brighton",2.76495815,514.29349843866532,{"$f":"ROWS($A$3:A3337)","v":3335},"",""]
["Canterbury Region","    Southbridge","..","..",1065,"Southbridge",361.56215613000001,2.9455516346049175,{"$f":"ROWS($A$3:A3338)","v":3336},"",""]
["Canterbury Region","    Southbrook","..","..",291,"Southbrook",2.3101945599999998,125.96341669162273,{"$f":"ROWS($A$3:A3339)","v":3337},"",""]
["Canterbury Region","    Sovereign Palms","..","..",1305,"Sovereign Palms",1.9152798900000001,681.3625553182203,{"$f":"ROWS($A$3:A3340)","v":3338},"",""]
["Canterbury Region","    Spreydon North","..","..",1632,"Spreydon North",1.21383804,1344.4956791764412,{"$f":"ROWS($A$3:A3341)","v":3339},"",""]
["Canterbury Region","    Spreydon South","..","..",1026,"Spreydon South",0.72391643999999999,1417.2906475227996,{"$f":"ROWS($A$3:A3342)","v":3340},"",""]
["Canterbury Region","    Spreydon West","..","..",1335,"Spreydon West",1.0269873,1299.918703960604,{"$f":"ROWS($A$3:A3343)","v":3341},"",""]
["Canterbury Region","    Springston","..","..",822,"Springston",119.11983506,6.900613987468696,{"$f":"ROWS($A$3:A3344)","v":3342},"",""]
["Canterbury Region","    St Albans East","..","..",1524,"St Albans East",0.67550284999999999,2256.0970690205081,{"$f":"ROWS($A$3:A3345)","v":3343},"",""]
["Canterbury Region","    St Albans North","..","..",1077,"St Albans North",0.63715918000000005,1690.3154404838049,{"$f":"ROWS($A$3:A3346)","v":3344},"",""]
["Canterbury Region","    St Albans West","..","..",1395,"St Albans West",0.68131176000000004,2047.5208001693672,{"$f":"ROWS($A$3:A3347)","v":3345},"",""]
["Canterbury Region","    St Martins","..","..",1203,"St Martins",1.04565949,1150.4701210142509,{"$f":"ROWS($A$3:A3348)","v":3346},"",""]
["Canterbury Region","    Starvation Hill-Cust","..","..",858,"Starvation Hill-Cust",181.64842378,4.7234101025789812,{"$f":"ROWS($A$3:A3349)","v":3347},"",""]
["Canterbury Region","    Strowan","..","..",1380,"Strowan",1.43506914,961.62614158088581,{"$f":"ROWS($A$3:A3350)","v":3348},"",""]
["Canterbury Region","    Styx","..","..",528,"Styx",32.716258070000002,16.138764979487764,{"$f":"ROWS($A$3:A3351)","v":3349},"",""]
["Canterbury Region","    Sumner","..","..",1581,"Sumner",2.6408394099999999,598.6732832042976,{"$f":"ROWS($A$3:A3352)","v":3350},"",""]
["Canterbury Region","    Swannanoa-Eyreton","..","..",354,"Swannanoa-Eyreton",61.772130580000002,5.7307396827043355,{"$f":"ROWS($A$3:A3353)","v":3351},"",""]
["Canterbury Region","    Sydenham Central","..","..",69,"Sydenham Central",1.2127569300000001,56.895160351712022,{"$f":"ROWS($A$3:A3354)","v":3352},"",""]
["Canterbury Region","    Sydenham North","..","..",906,"Sydenham North",0.48343691999999999,1874.0811107269176,{"$f":"ROWS($A$3:A3355)","v":3353},"",""]
["Canterbury Region","    Sydenham South","..","..",1245,"Sydenham South",0.55360982000000003,2248.8762934154597,{"$f":"ROWS($A$3:A3356)","v":3354},"",""]
["Canterbury Region","    Sydenham West","..","..",720,"Sydenham West",0.48794081,1475.5888116839417,{"$f":"ROWS($A$3:A3357)","v":3355},"",""]
["Canterbury Region","    Tai Tapu","..","..",441,"Tai Tapu",56.812965560000002,7.7623126279908981,{"$f":"ROWS($A$3:A3358)","v":3356},"",""]
["Canterbury Region","    Teddington","..","..",105,"Teddington",46.15461415,2.2749621448194906,{"$f":"ROWS($A$3:A3359)","v":3357},"",""]
["Canterbury Region","    Templeton","..","..",714,"Templeton",0.89855715000000003,794.60722114336295,{"$f":"ROWS($A$3:A3360)","v":3358},"",""]
["Canterbury Region","    Temuka East","..","..",1008,"Temuka East",4.2980718800000002,234.52376510743696,{"$f":"ROWS($A$3:A3361)","v":3359},"",""]
["Canterbury Region","    Temuka West","..","..",1068,"Temuka West",4.0724731800000002,262.24850423692658,{"$f":"ROWS($A$3:A3362)","v":3360},"",""]
["Canterbury Region","    Timaru Central","..","..",213,"Timaru Central",0.82404270000000002,258.48175100634955,{"$f":"ROWS($A$3:A3363)","v":3361},"",""]
["Canterbury Region","    Timaru East","..","..",174,"Timaru East",3.5961314099999999,48.385328610669433,{"$f":"ROWS($A$3:A3364)","v":3362},"",""]
["Canterbury Region","    Tinwald North","..","..",513,"Tinwald North",1.90350508,269.5028268587547,{"$f":"ROWS($A$3:A3365)","v":3363},"",""]
["Canterbury Region","    Tinwald South","..","..",957,"Tinwald South",2.7930247399999999,342.63928503547737,{"$f":"ROWS($A$3:A3366)","v":3364},"",""]
["Canterbury Region","    Torlesse","..","..",522,"Torlesse",413.95533743999903,1.2610056032328887,{"$f":"ROWS($A$3:A3367)","v":3365},"",""]
["Canterbury Region","    Tower Junction","..","..",18,"Tower Junction",1.07287164,16.777403119724553,{"$f":"ROWS($A$3:A3368)","v":3366},"",""]
["Canterbury Region","    Travis Wetlands","..","..",942,"Travis Wetlands",2.5493597800000001,369.50453497779745,{"$f":"ROWS($A$3:A3369)","v":3367},"",""]
["Canterbury Region","    Trents","..","..",720,"Trents",49.95590515,14.412710526174902,{"$f":"ROWS($A$3:A3370)","v":3368},"",""]
["Canterbury Region","    Tuahiwi","..","..",336,"Tuahiwi",22.70498482,14.798512426400292,{"$f":"ROWS($A$3:A3371)","v":3369},"",""]
["Canterbury Region","    Twizel","..","..",1506,"Twizel",21.071639829999899,71.470469889860837,{"$f":"ROWS($A$3:A3372)","v":3370},"",""]
["Canterbury Region","    Upper Hurunui","..","..",714,"Upper Hurunui",1004.95957693,0.71047633794501697,{"$f":"ROWS($A$3:A3373)","v":3371},"",""]
["Canterbury Region","    Upper Riccarton","..","..",531,"Upper Riccarton",0.52083977000000004,1019.5074005197414,{"$f":"ROWS($A$3:A3374)","v":3372},"",""]
["Canterbury Region","    Waikuku","..","..",717,"Waikuku",28.7379721,24.949568379600453,{"$f":"ROWS($A$3:A3375)","v":3373},"",""]
["Canterbury Region","    Waimairi Beach","..","..",498,"Waimairi Beach",0.58127408999999997,856.73868587536742,{"$f":"ROWS($A$3:A3376)","v":3374},"",""]
["Canterbury Region","    Waimataitai-Maori Hill","..","..",1005,"Waimataitai-Maori Hill",1.4977436500000001,671.00935463822532,{"$f":"ROWS($A$3:A3377)","v":3375},"",""]
["Canterbury Region","    Waimate East","..","..",852,"Waimate East",2.6029303700000002,327.32339282667783,{"$f":"ROWS($A$3:A3378)","v":3376},"",""]
["Canterbury Region","    Waimate North","..","..",264,"Waimate North",4.4642908500000003,59.135931970023861,{"$f":"ROWS($A$3:A3379)","v":3377},"",""]
["Canterbury Region","    Waimate West","..","..",663,"Waimate West",0.92672569999999999,715.42204991185633,{"$f":"ROWS($A$3:A3380)","v":3378},"",""]
["Canterbury Region","    Wainoni","..","..",1119,"Wainoni",1.50391214,744.05942357776303,{"$f":"ROWS($A$3:A3381)","v":3379},"",""]
["Canterbury Region","    Waitikiri","..","..",909,"Waitikiri",1.8508125900000001,491.13562600090154,{"$f":"ROWS($A$3:A3382)","v":3380},"",""]
["Canterbury Region","    Waitohi (Timaru District)","..","..",882,"Waitohi (Timaru District)",371.70673620000002,2.3728383537430227,{"$f":"ROWS($A$3:A3383)","v":3381},"",""]
["Canterbury Region","    Waltham","..","..",990,"Waltham",0.58805463999999996,1683.5170282815898,{"$f":"ROWS($A$3:A3384)","v":3382},"",""]
["Canterbury Region","    Washdyke","..","..",447,"Washdyke",10.6574112,41.942643631879378,{"$f":"ROWS($A$3:A3385)","v":3383},"",""]
["Canterbury Region","    Watlington","..","..",969,"Watlington",1.2071993299999999,802.68434211274791,{"$f":"ROWS($A$3:A3386)","v":3384},"",""]
["Canterbury Region","    West Eyreton","..","..",531,"West Eyreton",114.8871642,4.621926249964833,{"$f":"ROWS($A$3:A3387)","v":3385},"",""]
["Canterbury Region","    West Melton","..","..",726,"West Melton",5.3195582200000002,136.47749868973142,{"$f":"ROWS($A$3:A3388)","v":3386},"",""]
["Canterbury Region","    Westmorland","..","..",849,"Westmorland",5.5576646800000002,152.76200506576802,{"$f":"ROWS($A$3:A3389)","v":3387},"",""]
["Canterbury Region","    Wharenui","..","..",903,"Wharenui",0.83895558000000003,1076.3382728797155,{"$f":"ROWS($A$3:A3390)","v":3388},"",""]
["Canterbury Region","    Wigram East","..","..",279,"Wigram East",0.31243454999999998,892.9870272029774,{"$f":"ROWS($A$3:A3391)","v":3389},"",""]
["Canterbury Region","    Wigram North","..","..",381,"Wigram North",0.76776339000000005,496.24663661027125,{"$f":"ROWS($A$3:A3392)","v":3390},"",""]
["Canterbury Region","    Wigram South","..","..",444,"Wigram South",0.39906993000000002,1112.586959383284,{"$f":"ROWS($A$3:A3393)","v":3391},"",""]
["Canterbury Region","    Wigram West","..","..",468,"Wigram West",0.45878331,1020.0894186843893,{"$f":"ROWS($A$3:A3394)","v":3392},"",""]
["Canterbury Region","    Winchmore-Wakanui","..","..",687,{"$f":"TRIM(B3395)","v":"Winchmore-Wakanui"},312.07342774,{"$f":"E3395/G3395","v":2.2014049865609362},{"$f":"ROWS($A$3:A3395)","v":3393},{"$f":"IF(A3395=$M$2,I3396,\"\")","v":""},""]
["Canterbury Region","    Woodend","..","..",1023,"Woodend",3.48748915,293.33424592876509,{"$f":"ROWS($A$3:A3396)","v":3394},"",{"$f":"IFERROR(SMALL($J$3:$J$4612,I3396)-1,\"\")","v":""}]
["Canterbury Region","    Woolston East","..","..",1389,"Woolston East",1.27549921,1088.9853863570797,{"$f":"ROWS($A$3:A3397)","v":3395},"",""]
["Canterbury Region","    Woolston North","..","..",1434,"Woolston North",1.29547608,1106.9289677660431,{"$f":"ROWS($A$3:A3398)","v":3396},"",""]
["Canterbury Region","    Woolston South","..","..",252,"Woolston South",2.4040182099999998,104.82449714887976,{"$f":"ROWS($A$3:A3399)","v":3397},"",""]
["Canterbury Region","    Woolston West","..","..",495,"Woolston West",0.51495272000000003,961.25329719590559,{"$f":"ROWS($A$3:A3400)","v":3398},"",""]
["Canterbury Region","    Yaldhurst","..","..",594,"Yaldhurst",12.1066214799999,49.064059777642022,{"$f":"ROWS($A$3:A3401)","v":3399},"",""]
["Gisborne Region","    Centennial Crescent","..","..",576,"Centennial Crescent",0.81897584000000001,703.31745073212414,{"$f":"ROWS($A$3:A3402)","v":3400},"",""]
["Gisborne Region","    East Cape","..","..",678,"East Cape",991.27175774,0.68396985458939319,{"$f":"ROWS($A$3:A3403)","v":3401},"",""]
["Gisborne Region","    Elgin","..","..",903,"Elgin",1.0445589399999999,864.47970087738668,{"$f":"ROWS($A$3:A3404)","v":3402},"",""]
["Gisborne Region","    Gisborne Central","..","..",216,"Gisborne Central",1.58832832,135.99203469469083,{"$f":"ROWS($A$3:A3405)","v":3403},"",""]
["Gisborne Region","    Hangaroa","..","..",642,"Hangaroa",1870.1131034099899,0.34329474448864533,{"$f":"ROWS($A$3:A3406)","v":3404},"",""]
["Gisborne Region","    Hexton","..","..",1128,"Hexton",119.60997783000001,9.4306513592303371,{"$f":"ROWS($A$3:A3407)","v":3405},"",""]
["Gisborne Region","    Kaiti North","..","..",792,"Kaiti North",1.3279228599999999,596.42018663644365,{"$f":"ROWS($A$3:A3408)","v":3406},"",""]
["Gisborne Region","    Kaiti South","..","..",1032,"Kaiti South",3.4137248699999998,302.30907272852369,{"$f":"ROWS($A$3:A3409)","v":3407},"",""]
["Gisborne Region","    Lytton","..","..",576,"Lytton",0.85660815000000001,672.41947207716851,{"$f":"ROWS($A$3:A3410)","v":3408},"",""]
["Gisborne Region","    Makaraka-Awapuni","..","..",399,"Makaraka-Awapuni",8.1822998200000008,48.763796093700215,{"$f":"ROWS($A$3:A3411)","v":3409},"",""]
["Gisborne Region","    Mangapapa East","..","..",477,"Mangapapa East",1.65717767,287.83878073857943,{"$f":"ROWS($A$3:A3412)","v":3410},"",""]
["Gisborne Region","    Mangapapa North","..","..",510,"Mangapapa North",0.61989691999999996,822.71742856860783,{"$f":"ROWS($A$3:A3413)","v":3411},"",""]
["Gisborne Region","    Mangapapa South","..","..",690,"Mangapapa South",0.84498227000000004,816.58518113048683,{"$f":"ROWS($A$3:A3414)","v":3412},"",""]
["Gisborne Region","    Oceanic Gisborne Region","..","..",0,"Oceanic Gisborne Region",0,{"$error":"#DIV/0!"},{"$f":"ROWS($A$3:A3415)","v":3413},"",""]
["Gisborne Region","    Outer Kaiti","..","..",753,"Outer Kaiti",1.4539302199999999,517.90656088020512,{"$f":"ROWS($A$3:A3416)","v":3414},"",""]
["Gisborne Region","    Riverdale","..","..",510,"Riverdale",1.24303366,410.28655652011867,{"$f":"ROWS($A$3:A3417)","v":3415},"",""]
["Gisborne Region","    Ruatoria-Raukumara","..","..",546,"Ruatoria-Raukumara",693.29997967999896,0.78753788547925951,{"$f":"ROWS($A$3:A3418)","v":3416},"",""]
["Gisborne Region","    Tamarau","..","..",744,"Tamarau",1.1147272500000001,667.42783941094103,{"$f":"ROWS($A$3:A3419)","v":3417},"",""]
["Gisborne Region","    Te Arai","..","..",450,"Te Arai",54.605337509999899,8.2409526343023032,{"$f":"ROWS($A$3:A3420)","v":3418},"",""]
["Gisborne Region","    Te Hapara East","..","..",849,"Te Hapara East",0.94822638999999997,895.35580210966293,{"$f":"ROWS($A$3:A3421)","v":3419},"",""]
["Gisborne Region","    Te Hapara North","..","..",774,"Te Hapara North",1.2005121000000001,644.72486366443115,{"$f":"ROWS($A$3:A3422)","v":3420},"",""]
["Gisborne Region","    Te Hapara South","..","..",822,"Te Hapara South",0.86443000999999997,950.91562126585586,{"$f":"ROWS($A$3:A3423)","v":3421},"",""]
["Gisborne Region","    Tokomaru","..","..",609,"Tokomaru",1144.92720657,0.53191154555970122,{"$f":"ROWS($A$3:A3424)","v":3422},"",""]
["Gisborne Region","    Wainui-Okitu","..","..",717,"Wainui-Okitu",5.3488728099999996,134.04693389970512,{"$f":"ROWS($A$3:A3425)","v":3423},"",""]
["Gisborne Region","    Waipaoa","..","..",831,"Waipaoa",2277.7853101199898,0.36482806184935151,{"$f":"ROWS($A$3:A3426)","v":3424},"",""]
["Gisborne Region","    Wharekaka","..","..",867,"Wharekaka",1198.04336999,0.72367997830265263,{"$f":"ROWS($A$3:A3427)","v":3425},"",""]
["Gisborne Region","    Whataupoko East","..","..",717,"Whataupoko East",2.5465766200000002,281.55445800016804,{"$f":"ROWS($A$3:A3428)","v":3426},"",""]
["Gisborne Region","    Whataupoko West","..","..",867,"Whataupoko West",1.0957910200000001,791.20925813025917,{"$f":"ROWS($A$3:A3429)","v":3427},"",""]
["Hawke's Bay Region","    Ahuriri","..","..",615,"Ahuriri",0.97855329999999996,628.47879619842888,{"$f":"ROWS($A$3:A3430)","v":3428},"",""]
["Hawke's Bay Region","    Akina Park","..","..",972,"Akina Park",1.02516338,948.14155378823625,{"$f":"ROWS($A$3:A3431)","v":3429},"",""]
["Hawke's Bay Region","    Bare Island","..","..",0,"Bare Island",0.13162932999999999,0,{"$f":"ROWS($A$3:A3432)","v":3430},"",""]
["Hawke's Bay Region","    Bay View","..","..",837,"Bay View",29.16654342,28.697264120302123,{"$f":"ROWS($A$3:A3433)","v":3431},"",""]
["Hawke's Bay Region","    Bledisloe Park","..","..",975,"Bledisloe Park",0.88271679999999997,1104.5445152964121,{"$f":"ROWS($A$3:A3434)","v":3432},"",""]
["Hawke's Bay Region","    Bluff Hill","..","..",1254,"Bluff Hill",1.89023838,663.40838979261446,{"$f":"ROWS($A$3:A3435)","v":3433},"",""]
["Hawke's Bay Region","    Bridge Pa","..","..",258,"Bridge Pa",23.242511100000002,11.100349651978869,{"$f":"ROWS($A$3:A3436)","v":3434},"",""]
["Hawke's Bay Region","    Brookvale","..","..",1005,"Brookvale",1.7392140599999999,577.84721450561415,{"$f":"ROWS($A$3:A3437)","v":3435},"",""]
["Hawke's Bay Region","    Camberley","..","..",699,"Camberley",0.93079073999999995,750.97438120194454,{"$f":"ROWS($A$3:A3438)","v":3436},"",""]
["Hawke's Bay Region","    Clive","..","..",834,"Clive",14.866612460000001,56.098859255526726,{"$f":"ROWS($A$3:A3439)","v":3437},"",""]
["Hawke's Bay Region","    Cornwall Park","..","..",1218,"Cornwall Park",1.08344478,1124.1920423484803,{"$f":"ROWS($A$3:A3440)","v":3438},"",""]
["Hawke's Bay Region","    Flaxmere Park","..","..",741,"Flaxmere Park",1.35063391,548.63127196325172,{"$f":"ROWS($A$3:A3441)","v":3439},"",""]
["Hawke's Bay Region","    Flaxmere South","..","..",783,"Flaxmere South",0.72258966000000002,1083.6025525192265,{"$f":"ROWS($A$3:A3442)","v":3440},"",""]
["Hawke's Bay Region","    Flaxmere West","..","..",690,"Flaxmere West",0.91727910000000001,752.22470456374731,{"$f":"ROWS($A$3:A3443)","v":3441},"",""]
["Hawke's Bay Region","    Frasertown-Ruakituri","..","..",435,"Frasertown-Ruakituri",1332.98513581,0.32633522183701508,{"$f":"ROWS($A$3:A3444)","v":3442},"",""]
["Hawke's Bay Region","    Frimley","..","..",1044,"Frimley",2.0250906500000001,515.5324775214383,{"$f":"ROWS($A$3:A3445)","v":3443},"",""]
["Hawke's Bay Region","    Greenmeadows Central","..","..",651,"Greenmeadows Central",0.95261311999999998,683.38340752644683,{"$f":"ROWS($A$3:A3446)","v":3444},"",""]
["Hawke's Bay Region","    Greenmeadows South","..","..",882,"Greenmeadows South",0.85126478999999999,1036.1053462577725,{"$f":"ROWS($A$3:A3447)","v":3445},"",""]
["Hawke's Bay Region","    Greenmeadows West","..","..",909,"Greenmeadows West",1.1042947999999999,823.14976037195868,{"$f":"ROWS($A$3:A3448)","v":3446},"",""]
["Hawke's Bay Region","    Hastings Central","..","..",198,"Hastings Central",1.4175618000000001,139.6764500849275,{"$f":"ROWS($A$3:A3449)","v":3447},"",""]
["Hawke's Bay Region","    Haumoana-Te Awanga","..","..",870,"Haumoana-Te Awanga",7.7627408300000003,112.07381761835786,{"$f":"ROWS($A$3:A3450)","v":3448},"",""]
["Hawke's Bay Region","    Havelock Hills","..","..",657,"Havelock Hills",2.98720987,219.93767716092876,{"$f":"ROWS($A$3:A3451)","v":3449},"",""]
["Hawke's Bay Region","    Havelock North-Central","..","..",240,"Havelock North-Central",0.47383086000000002,506.50985459241718,{"$f":"ROWS($A$3:A3452)","v":3450},"",""]
["Hawke's Bay Region","    Hereworth","..","..",1236,"Hereworth",1.6155284000000001,765.07475820295076,{"$f":"ROWS($A$3:A3453)","v":3451},"",""]
["Hawke's Bay Region","    Hospital Hill","..","..",1296,"Hospital Hill",1.4943194500000001,867.28443506507256,{"$f":"ROWS($A$3:A3454)","v":3452},"",""]
["Hawke's Bay Region","    Inland water Lake Waikaremoana","..","..",3,"Inland water Lake Waikaremoana",0,{"$error":"#DIV/0!"},{"$f":"ROWS($A$3:A3455)","v":3453},"",""]
["Hawke's Bay Region","    Inlet Napier City","..","..",0,"Inlet Napier City",0,{"$error":"#DIV/0!"},{"$f":"ROWS($A$3:A3456)","v":3454},"",""]
["Hawke's Bay Region","    Inlet Port Napier","..","..",3,"Inlet Port Napier",0,{"$error":"#DIV/0!"},{"$f":"ROWS($A$3:A3457)","v":3455},"",""]
["Hawke's Bay Region","    Iona","..","..",1041,"Iona",1.4663894399999999,709.90691258660456,{"$f":"ROWS($A$3:A3458)","v":3456},"",""]
["Hawke's Bay Region","    Irongate","..","..",108,{"$f":"TRIM(B3459)","v":"Irongate"},8.2825180100000004,{"$f":"E3459/G3459","v":13.039512847373814},{"$f":"ROWS($A$3:A3459)","v":3457},{"$f":"IF(A3459=$M$2,I3460,\"\")","v":""},""]
["Hawke's Bay Region","    Kahuranaki","..","..",930,"Kahuranaki",367.96131322999901,2.5274396154214491,{"$f":"ROWS($A$3:A3460)","v":3458},"",{"$f":"IFERROR(SMALL($J$3:$J$4612,I3460)-1,\"\")","v":""}]
["Hawke's Bay Region","    Karamu","..","..",450,"Karamu",13.294715350000001,33.848035715935808,{"$f":"ROWS($A$3:A3461)","v":3459},"",""]
["Hawke's Bay Region","    Karanema-St Hill","..","..",783,"Karanema-St Hill",0.94539167000000002,828.22815648460278,{"$f":"ROWS($A$3:A3462)","v":3460},"",""]
["Hawke's Bay Region","    Lochain Park","..","..",792,"Lochain Park",0.93643964999999996,845.75658452736388,{"$f":"ROWS($A$3:A3463)","v":3461},"",""]
["Hawke's Bay Region","    Longlands-Pukahu","..","..",729,"Longlands-Pukahu",31.266741119999899,23.315509512236698,{"$f":"ROWS($A$3:A3464)","v":3462},"",""]
["Hawke's Bay Region","    Lucknow","..","..",507,"Lucknow",0.57778821000000002,877.48415634856929,{"$f":"ROWS($A$3:A3465)","v":3463},"",""]
["Hawke's Bay Region","    Mahia","..","..",1062,"Mahia",472.00228816999902,2.2499890924628398,{"$f":"ROWS($A$3:A3466)","v":3464},"",""]
["Hawke's Bay Region","    Mahora","..","..",885,"Mahora",0.94013557000000003,941.35359648183498,{"$f":"ROWS($A$3:A3467)","v":3465},"",""]
["Hawke's Bay Region","    Makaretu","..","..",1008,"Makaretu",788.69928947999904,1.2780536428080076,{"$f":"ROWS($A$3:A3468)","v":3466},"",""]
["Hawke's Bay Region","    Mangaonuku","..","..",402,"Mangaonuku",537.41805675000001,0.7480210144613828,{"$f":"ROWS($A$3:A3469)","v":3467},"",""]
["Hawke's Bay Region","    Mangarara","..","..",1257,"Mangarara",838.26740494000001,1.4995215042268897,{"$f":"ROWS($A$3:A3470)","v":3468},"",""]
["Hawke's Bay Region","    Mangateretere","..","..",465,"Mangateretere",37.22491952,12.491632110854326,{"$f":"ROWS($A$3:A3471)","v":3469},"",""]
["Hawke's Bay Region","    Maraekakaho","..","..",573,"Maraekakaho",820.40789416999905,0.69843306490815782,{"$f":"ROWS($A$3:A3472)","v":3470},"",""]
["Hawke's Bay Region","    Maraenui","..","..",1053,"Maraenui",1.0524307100000001,1000.540928722994,{"$f":"ROWS($A$3:A3473)","v":3471},"",""]
["Hawke's Bay Region","    Marewa East","..","..",1299,"Marewa East",1.4038356400000001,925.3219985211374,{"$f":"ROWS($A$3:A3474)","v":3472},"",""]
["Hawke's Bay Region","    Marewa West","..","..",774,"Marewa West",0.79226103000000003,976.95074059114074,{"$f":"ROWS($A$3:A3475)","v":3473},"",""]
["Hawke's Bay Region","    Maungataniwha-Raupunga","..","..",645,"Maungataniwha-Raupunga",2080.86540264,0.30996718921929628,{"$f":"ROWS($A$3:A3476)","v":3474},"",""]
["Hawke's Bay Region","    Mayfair","..","..",1008,"Mayfair",1.0686468,943.24897618184048,{"$f":"ROWS($A$3:A3477)","v":3475},"",""]
["Hawke's Bay Region","    McLean Park","..","..",1116,"McLean Park",1.34179095,831.72419667907286,{"$f":"ROWS($A$3:A3478)","v":3476},"",""]
["Hawke's Bay Region","    Meeanee-Awatoto","..","..",996,"Meeanee-Awatoto",24.29611646,40.994205869887402,{"$f":"ROWS($A$3:A3479)","v":3477},"",""]
["Hawke's Bay Region","    Napier Central","..","..",201,"Napier Central",0.83772122000000004,239.93662235272015,{"$f":"ROWS($A$3:A3480)","v":3478},"",""]
["Hawke's Bay Region","    Nelson Park","..","..",900,"Nelson Park",0.78100890999999995,1152.3556114103744,{"$f":"ROWS($A$3:A3481)","v":3479},"",""]
["Hawke's Bay Region","    Ngamatea","..","..",18,"Ngamatea",611.55273062000003,2.9433275494905188E-2,{"$f":"ROWS($A$3:A3482)","v":3480},"",""]
["Hawke's Bay Region","    Oceanic Hawke's Bay Region","..","..",0,"Oceanic Hawke's Bay Region",0,{"$error":"#DIV/0!"},{"$f":"ROWS($A$3:A3483)","v":3481},"",""]
["Hawke's Bay Region","    Omahu Strip","..","..",63,"Omahu Strip",1.93922993,32.487122349643194,{"$f":"ROWS($A$3:A3484)","v":3482},"",""]
["Hawke's Bay Region","    Omahu-Pakowhai","..","..",492,"Omahu-Pakowhai",45.77754994,10.747626306887494,{"$f":"ROWS($A$3:A3485)","v":3483},"",""]
["Hawke's Bay Region","    Onekawa Central","..","..",600,"Onekawa Central",0.67701087999999998,886.24868185279388,{"$f":"ROWS($A$3:A3486)","v":3484},"",""]
["Hawke's Bay Region","    Onekawa East","..","..",663,"Onekawa East",0.63617579999999996,1042.1647601181937,{"$f":"ROWS($A$3:A3487)","v":3485},"",""]
["Hawke's Bay Region","    Onekawa South","..","..",1065,"Onekawa South",1.08607604,980.59432376392351,{"$f":"ROWS($A$3:A3488)","v":3486},"",""]
["Hawke's Bay Region","    Onekawa West","..","..",159,"Onekawa West",3.12036304,50.955609319100255,{"$f":"ROWS($A$3:A3489)","v":3487},"",""]
["Hawke's Bay Region","    Parkhaven","..","..",1101,"Parkhaven",1.0158563,1083.8147088323417,{"$f":"ROWS($A$3:A3490)","v":3488},"",""]
["Hawke's Bay Region","    Parkvale","..","..",999,"Parkvale",1.2414568399999999,804.69974292461109,{"$f":"ROWS($A$3:A3491)","v":3489},"",""]
["Hawke's Bay Region","    Pirimai East","..","..",822,"Pirimai East",0.76238709999999998,1078.1924300660387,{"$f":"ROWS($A$3:A3492)","v":3490},"",""]
["Hawke's Bay Region","    Pirimai West","..","..",672,"Pirimai West",0.61390966000000002,1094.6235965728247,{"$f":"ROWS($A$3:A3493)","v":3491},"",""]
["Hawke's Bay Region","    Poraiti Flat","..","..",528,"Poraiti Flat",7.0901412199999996,74.46960273662927,{"$f":"ROWS($A$3:A3494)","v":3492},"",""]
["Hawke's Bay Region","    Poraiti Hills","..","..",285,"Poraiti Hills",10.578220310000001,26.942150158337927,{"$f":"ROWS($A$3:A3495)","v":3493},"",""]
["Hawke's Bay Region","    Poukawa","..","..",567,"Poukawa",339.92765478000001,1.6680019763821816,{"$f":"ROWS($A$3:A3496)","v":3494},"",""]
["Hawke's Bay Region","    Puketapu-Eskdale","..","..",1041,"Puketapu-Eskdale",244.97891089000001,4.2493453669872343,{"$f":"ROWS($A$3:A3497)","v":3495},"",""]
["Hawke's Bay Region","    Puketitiri-Tutira","..","..",969,"Puketitiri-Tutira",2433.1638899499899,0.39824690971388549,{"$f":"ROWS($A$3:A3498)","v":3496},"",""]
["Hawke's Bay Region","    Queens Square","..","..",828,"Queens Square",0.60058038000000002,1378.6664159758266,{"$f":"ROWS($A$3:A3499)","v":3497},"",""]
["Hawke's Bay Region","    Raceway Park","..","..",753,"Raceway Park",1.0171473499999999,740.30571873386884,{"$f":"ROWS($A$3:A3500)","v":3498},"",""]
["Hawke's Bay Region","    Raureka","..","..",1071,"Raureka",1.0555815,1014.6066409841401,{"$f":"ROWS($A$3:A3501)","v":3499},"",""]
["Hawke's Bay Region","    Sherenden-Crownthorpe","..","..",549,"Sherenden-Crownthorpe",765.66297001999897,0.71702566468071482,{"$f":"ROWS($A$3:A3502)","v":3500},"",""]
["Hawke's Bay Region","    St Leonards","..","..",993,"St Leonards",1.03089955,963.23642783625235,{"$f":"ROWS($A$3:A3503)","v":3501},"",""]
["Hawke's Bay Region","    Taharua","..","..",45,"Taharua",784.24519964000001,5.7380013318101025E-2,{"$f":"ROWS($A$3:A3504)","v":3502},"",""]
["Hawke's Bay Region","    Tamatea East","..","..",669,"Tamatea East",0.63201711999999999,1058.5156300829319,{"$f":"ROWS($A$3:A3505)","v":3503},"",""]
["Hawke's Bay Region","    Tamatea North","..","..",642,"Tamatea North",0.66042033,972.1081723816709,{"$f":"ROWS($A$3:A3506)","v":3504},"",""]
["Hawke's Bay Region","    Tamatea West","..","..",786,"Tamatea West",0.63229511999999999,1243.0904100604162,{"$f":"ROWS($A$3:A3507)","v":3505},"",""]
["Hawke's Bay Region","    Taradale Central","..","..",1206,"Taradale Central",1.17747377,1024.2266373373227,{"$f":"ROWS($A$3:A3508)","v":3506},"",""]
["Hawke's Bay Region","    Taradale South","..","..",1083,"Taradale South",5.0676933000000002,213.70669768038252,{"$f":"ROWS($A$3:A3509)","v":3507},"",""]
["Hawke's Bay Region","    Taradale West","..","..",687,"Taradale West",1.68667236,407.3108780889728,{"$f":"ROWS($A$3:A3510)","v":3508},"",""]
["Hawke's Bay Region","    Tareha Reserve","..","..",1224,"Tareha Reserve",1.72386138,710.03388915180642,{"$f":"ROWS($A$3:A3511)","v":3509},"",""]
["Hawke's Bay Region","    Taurekaitai","..","..",954,"Taurekaitai",1153.8243241600001,0.82681564257585316,{"$f":"ROWS($A$3:A3512)","v":3510},"",""]
["Hawke's Bay Region","    Te Mata Hills","..","..",405,"Te Mata Hills",12.71124715,31.86154711813624,{"$f":"ROWS($A$3:A3513)","v":3511},"",""]
["Hawke's Bay Region","    Tomoana","..","..",96,"Tomoana",3.26579693,29.395581555648043,{"$f":"ROWS($A$3:A3514)","v":3512},"",""]
["Hawke's Bay Region","    Tomoana Crossing","..","..",945,"Tomoana Crossing",0.83807275999999997,1127.5870605793225,{"$f":"ROWS($A$3:A3515)","v":3513},"",""]
["Hawke's Bay Region","    Twyford","..","..",285,"Twyford",26.008846470000002,10.957810079302606,{"$f":"ROWS($A$3:A3516)","v":3514},"",""]
["Hawke's Bay Region","    Waipawa","..","..",909,"Waipawa",6.8023241299999997,133.63079774324132,{"$f":"ROWS($A$3:A3517)","v":3515},"",""]
["Hawke's Bay Region","    Waipukurau East","..","..",765,"Waipukurau East",2.26275761,338.0830525634604,{"$f":"ROWS($A$3:A3518)","v":3516},"",""]
["Hawke's Bay Region","    Waipukurau West","..","..",1104,"Waipukurau West",5.7726534599999999,191.24653985378848,{"$f":"ROWS($A$3:A3519)","v":3517},"",""]
["Hawke's Bay Region","    Wairoa","..","..",1767,"Wairoa",7.5675798700000003,233.4960489819052,{"$f":"ROWS($A$3:A3520)","v":3518},"",""]
["Hawke's Bay Region","    Westshore","..","..",597,"Westshore",0.93240953999999998,640.27658919062537,{"$f":"ROWS($A$3:A3521)","v":3519},"",""]
["Hawke's Bay Region","    Whakaki","..","..",306,"Whakaki",183.45604291999899,1.667974492033711,{"$f":"ROWS($A$3:A3522)","v":3520},"",""]
["Manawatu-Wanganui Region","    Aokautere","..","..",249,{"$f":"TRIM(B3523)","v":"Aokautere"},7.14236352,{"$f":"E3523/G3523","v":34.862409243488074},{"$f":"ROWS($A$3:A3523)","v":3521},{"$f":"IF(A3523=$M$2,I3524,\"\")","v":""},""]
["Manawatu-Wanganui Region","    Aokautere Rural","..","..",264,"Aokautere Rural",83.313023049999899,3.1687723039597508,{"$f":"ROWS($A$3:A3524)","v":3522},"",{"$f":"IFERROR(SMALL($J$3:$J$4612,I3524)-1,\"\")","v":""}]
["Manawatu-Wanganui Region","    Ashhurst","..","..",1113,"Ashhurst",4.2333377199999997,262.91311339082108,{"$f":"ROWS($A$3:A3525)","v":3523},"",""]
["Manawatu-Wanganui Region","    Awahuri","..","..",819,"Awahuri",126.35606184,6.481683490872558,{"$f":"ROWS($A$3:A3526)","v":3524},"",""]
["Manawatu-Wanganui Region","    Awapuni North","..","..",1332,"Awapuni North",1.2335031299999999,1079.8513336565268,{"$f":"ROWS($A$3:A3527)","v":3525},"",""]
["Manawatu-Wanganui Region","    Awapuni South","..","..",1275,"Awapuni South",1.70556788,747.5516014056268,{"$f":"ROWS($A$3:A3528)","v":3526},"",""]
["Manawatu-Wanganui Region","    Balgownie","..","..",69,"Balgownie",2.8144437,24.516390219495243,{"$f":"ROWS($A$3:A3529)","v":3527},"",""]
["Manawatu-Wanganui Region","    Bastia-Durie Hill","..","..",996,"Bastia-Durie Hill",2.5703119499999998,387.50160267511501,{"$f":"ROWS($A$3:A3530)","v":3528},"",""]
["Manawatu-Wanganui Region","    Brunswick-Papaiti","..","..",582,"Brunswick-Papaiti",51.532334669999898,11.293879924652774,{"$f":"ROWS($A$3:A3531)","v":3529},"",""]
["Manawatu-Wanganui Region","    Bulls","..","..",807,"Bulls",6.6956767299999997,120.52553200249858,{"$f":"ROWS($A$3:A3532)","v":3530},"",""]
["Manawatu-Wanganui Region","    Castlecliff East","..","..",714,"Castlecliff East",2.62583221,271.91379452230882,{"$f":"ROWS($A$3:A3533)","v":3531},"",""]
["Manawatu-Wanganui Region","    Castlecliff West","..","..",708,"Castlecliff West",3.0233920900000002,234.17405977271045,{"$f":"ROWS($A$3:A3534)","v":3532},"",""]
["Manawatu-Wanganui Region","    Cloverlea (Palmerston North City)","..","..",759,"Cloverlea (Palmerston North City)",0.67606911000000003,1122.6662907287689,{"$f":"ROWS($A$3:A3535)","v":3533},"",""]
["Manawatu-Wanganui Region","    College Estate","..","..",513,"College Estate",1.35036588,379.89703946014987,{"$f":"ROWS($A$3:A3536)","v":3534},"",""]
["Manawatu-Wanganui Region","    Cornmarket","..","..",810,"Cornmarket",0.62888431,1287.9952435130715,{"$f":"ROWS($A$3:A3537)","v":3535},"",""]
["Manawatu-Wanganui Region","    Dannevirke East","..","..",1431,"Dannevirke East",4.73903491,301.96021493329744,{"$f":"ROWS($A$3:A3538)","v":3536},"",""]
["Manawatu-Wanganui Region","    Dannevirke West","..","..",951,"Dannevirke West",2.0739380500000002,458.5479301081341,{"$f":"ROWS($A$3:A3539)","v":3537},"",""]
["Manawatu-Wanganui Region","    Donnelly Park","..","..",486,"Donnelly Park",1.90373975,255.28699497922446,{"$f":"ROWS($A$3:A3540)","v":3538},"",""]
["Manawatu-Wanganui Region","    Esplanade","..","..",852,"Esplanade",1.3057584799999999,652.49432651588063,{"$f":"ROWS($A$3:A3541)","v":3539},"",""]
["Manawatu-Wanganui Region","    Fairfield (Horowhenua District)","..","..",603,"Fairfield (Horowhenua District)",1.7385480099999999,346.84115510850921,{"$f":"ROWS($A$3:A3542)","v":3540},"",""]
["Manawatu-Wanganui Region","    Feilding Central","..","..",390,"Feilding Central",4.9185397200000001,79.291826883935386,{"$f":"ROWS($A$3:A3543)","v":3541},"",""]
["Manawatu-Wanganui Region","    Foxton Beach","..","..",1506,"Foxton Beach",2.63736367,571.02477642000736,{"$f":"ROWS($A$3:A3544)","v":3542},"",""]
["Manawatu-Wanganui Region","    Foxton North","..","..",585,"Foxton North",4.5332566700000001,129.04629995283281,{"$f":"ROWS($A$3:A3545)","v":3543},"",""]
["Manawatu-Wanganui Region","    Foxton South","..","..",786,"Foxton South",7.0378347899999998,111.6820760153138,{"$f":"ROWS($A$3:A3546)","v":3544},"",""]
["Manawatu-Wanganui Region","    Gonville North","..","..",1116,"Gonville North",1.34068527,832.41013008220784,{"$f":"ROWS($A$3:A3547)","v":3545},"",""]
["Manawatu-Wanganui Region","    Gonville South","..","..",846,"Gonville South",1.53981291,549.41739642902462,{"$f":"ROWS($A$3:A3548)","v":3546},"",""]
["Manawatu-Wanganui Region","    Gonville West","..","..",699,"Gonville West",0.73842215,946.61299095646029,{"$f":"ROWS($A$3:A3549)","v":3547},"",""]
["Manawatu-Wanganui Region","    Highbury East","..","..",1011,"Highbury East",1.16072094,871.0103911798127,{"$f":"ROWS($A$3:A3550)","v":3548},"",""]
["Manawatu-Wanganui Region","    Hokowhitu Central","..","..",987,"Hokowhitu Central",0.91032398000000003,1084.2293751286218,{"$f":"ROWS($A$3:A3551)","v":3549},"",""]
["Manawatu-Wanganui Region","    Hokowhitu East","..","..",1233,"Hokowhitu East",1.2430994799999999,991.87556574313749,{"$f":"ROWS($A$3:A3552)","v":3550},"",""]
["Manawatu-Wanganui Region","    Hokowhitu South","..","..",750,"Hokowhitu South",0.89536256999999997,837.64948985973365,{"$f":"ROWS($A$3:A3553)","v":3551},"",""]
["Manawatu-Wanganui Region","    Kaitawa","..","..",276,"Kaitawa",583.42668722999895,0.47306714972260955,{"$f":"ROWS($A$3:A3554)","v":3552},"",""]
["Manawatu-Wanganui Region","    Kaitoke-Fordell","..","..",651,"Kaitoke-Fordell",261.31054118999901,2.4912887059028268,{"$f":"ROWS($A$3:A3555)","v":3553},"",""]
["Manawatu-Wanganui Region","    Kauwhata","..","..",738,"Kauwhata",154.28816889000001,4.7832572342352329,{"$f":"ROWS($A$3:A3556)","v":3554},"",""]
["Manawatu-Wanganui Region","    Kawiu North","..","..",726,"Kawiu North",1.7576940400000001,413.0411684163189,{"$f":"ROWS($A$3:A3557)","v":3555},"",""]
["Manawatu-Wanganui Region","    Kawiu South","..","..",1032,"Kawiu South",1.02386946,1007.9409927902333,{"$f":"ROWS($A$3:A3558)","v":3556},"",""]
["Manawatu-Wanganui Region","    Kelvin Grove North","..","..",774,"Kelvin Grove North",2.14179568,361.37900885111509,{"$f":"ROWS($A$3:A3559)","v":3557},"",""]
["Manawatu-Wanganui Region","    Kelvin Grove West","..","..",939,"Kelvin Grove West",0.78190157999999998,1200.9184071478664,{"$f":"ROWS($A$3:A3560)","v":3558},"",""]
["Manawatu-Wanganui Region","    Kere Kere","..","..",402,"Kere Kere",228.55623008000001,1.7588669530438554,{"$f":"ROWS($A$3:A3561)","v":3559},"",""]
["Manawatu-Wanganui Region","    Kimberley","..","..",195,"Kimberley",129.45239359000001,1.5063452640173001,{"$f":"ROWS($A$3:A3562)","v":3560},"",""]
["Manawatu-Wanganui Region","    Kimbolton North","..","..",1191,"Kimbolton North",4.2250905999999997,281.88744638990704,{"$f":"ROWS($A$3:A3563)","v":3561},"",""]
["Manawatu-Wanganui Region","    Kimbolton South","..","..",837,"Kimbolton South",1.35407415,618.13453864398787,{"$f":"ROWS($A$3:A3564)","v":3562},"",""]
["Manawatu-Wanganui Region","    Kimbolton West","..","..",1035,"Kimbolton West",1.1607447099999999,891.66893554052911,{"$f":"ROWS($A$3:A3565)","v":3563},"",""]
["Manawatu-Wanganui Region","    Kiwitea","..","..",645,"Kiwitea",783.84226615,0.82286963570878624,{"$f":"ROWS($A$3:A3566)","v":3564},"",""]
["Manawatu-Wanganui Region","    Laird Park","..","..",1026,"Laird Park",1.11351193,921.40907731451068,{"$f":"ROWS($A$3:A3567)","v":3565},"",""]
["Manawatu-Wanganui Region","    Levin Central","..","..",582,"Levin Central",1.0476049700000001,555.55291991407785,{"$f":"ROWS($A$3:A3568)","v":3566},"",""]
["Manawatu-Wanganui Region","    Linton Camp","..","..",408,"Linton Camp",4.98324546,81.874353425889637,{"$f":"ROWS($A$3:A3569)","v":3567},"",""]
["Manawatu-Wanganui Region","    Lower Aramoho","..","..",789,"Lower Aramoho",2.0840239600000001,378.59449562182573,{"$f":"ROWS($A$3:A3570)","v":3568},"",""]
["Manawatu-Wanganui Region","    Makahika","..","..",429,"Makahika",170.22394183,2.5202095274496439,{"$f":"ROWS($A$3:A3571)","v":3569},"",""]
["Manawatu-Wanganui Region","    Makino","..","..",1110,"Makino",1.7133083499999999,647.86936922358439,{"$f":"ROWS($A$3:A3572)","v":3570},"",""]
["Manawatu-Wanganui Region","    Makomako","..","..",609,"Makomako",0.85655749999999997,710.98554387767319,{"$f":"ROWS($A$3:A3573)","v":3571},"",""]
["Manawatu-Wanganui Region","    Mangatainoka","..","..",762,"Mangatainoka",496.50143797999903,1.5347387574549105,{"$f":"ROWS($A$3:A3574)","v":3572},"",""]
["Manawatu-Wanganui Region","    Maraetarata","..","..",555,"Maraetarata",2.33161877,238.03205186926849,{"$f":"ROWS($A$3:A3575)","v":3573},"",""]
["Manawatu-Wanganui Region","    Marton North","..","..",1371,"Marton North",8.7366712,156.92475642210275,{"$f":"ROWS($A$3:A3576)","v":3574},"",""]
["Manawatu-Wanganui Region","    Marton Rural","..","..",420,"Marton Rural",192.56144853000001,2.1811219390290697,{"$f":"ROWS($A$3:A3577)","v":3575},"",""]
["Manawatu-Wanganui Region","    Marton South","..","..",882,"Marton South",4.8563171900000004,181.61910877983649,{"$f":"ROWS($A$3:A3578)","v":3576},"",""]
["Manawatu-Wanganui Region","    Milson North","..","..",966,"Milson North",0.96528172000000001,1000.7441143710874,{"$f":"ROWS($A$3:A3579)","v":3577},"",""]
["Manawatu-Wanganui Region","    Milson South","..","..",1161,"Milson South",1.22972865,944.11071905985114,{"$f":"ROWS($A$3:A3580)","v":3578},"",""]
["Manawatu-Wanganui Region","    Milverton","..","..",744,"Milverton",0.56451037000000004,1317.9563025564969,{"$f":"ROWS($A$3:A3581)","v":3579},"",""]
["Manawatu-Wanganui Region","    Miranui","..","..",702,"Miranui",297.06624502,2.3631092787157217,{"$f":"ROWS($A$3:A3582)","v":3580},"",""]
["Manawatu-Wanganui Region","    Mokai Patea","..","..",906,"Mokai Patea",2475.07449563,0.36604958824457068,{"$f":"ROWS($A$3:A3583)","v":3581},"",""]
["Manawatu-Wanganui Region","    Mount Taylor","..","..",186,"Mount Taylor",3.1906073799999999,58.296110378833262,{"$f":"ROWS($A$3:A3584)","v":3582},"",""]
["Manawatu-Wanganui Region","    Mowhanau","..","..",588,"Mowhanau",170.17854306999899,3.4551946995934726,{"$f":"ROWS($A$3:A3585)","v":3583},"",""]
["Manawatu-Wanganui Region","    National Park","..","..",924,"National Park",1375.27911879,0.67186361472059208,{"$f":"ROWS($A$3:A3586)","v":3584},"",""]
["Manawatu-Wanganui Region","    Newbury","..","..",732,{"$f":"TRIM(B3587)","v":"Newbury"},34.732669260000002,{"$f":"E3587/G3587","v":21.075258988027457},{"$f":"ROWS($A$3:A3587)","v":3585},{"$f":"IF(A3587=$M$2,I3588,\"\")","v":""},""]
["Manawatu-Wanganui Region","    Ngapuke","..","..",609,"Ngapuke",621.83240892000003,0.97936355722872759,{"$f":"ROWS($A$3:A3588)","v":3586},"",{"$f":"IFERROR(SMALL($J$3:$J$4612,I3588)-1,\"\")","v":""}]
["Manawatu-Wanganui Region","    Nireaha-Eketahuna","..","..",717,"Nireaha-Eketahuna",892.63359071000002,0.80324111422885036,{"$f":"ROWS($A$3:A3589)","v":3587},"",""]
["Manawatu-Wanganui Region","    Norsewood","..","..",690,"Norsewood",397.34758877000002,1.7365148789147389,{"$f":"ROWS($A$3:A3590)","v":3588},"",""]
["Manawatu-Wanganui Region","    Oceanic Manawatu-Wanganui Region East","..","..",0,"Oceanic Manawatu-Wanganui Region East",0,{"$error":"#DIV/0!"},{"$f":"ROWS($A$3:A3591)","v":3589},"",""]
["Manawatu-Wanganui Region","    Oceanic Manawatu-Wanganui Region West","..","..",0,"Oceanic Manawatu-Wanganui Region West",0,{"$error":"#DIV/0!"},{"$f":"ROWS($A$3:A3592)","v":3590},"",""]
["Manawatu-Wanganui Region","    Ohakea-Sanson","..","..",516,"Ohakea-Sanson",82.742173289999897,6.2362393865519001,{"$f":"ROWS($A$3:A3593)","v":3591},"",""]
["Manawatu-Wanganui Region","    Ohakune","..","..",1371,"Ohakune",6.4404931699999999,212.87189719976055,{"$f":"ROWS($A$3:A3594)","v":3592},"",""]
["Manawatu-Wanganui Region","    Ohau-Manakau","..","..",942,"Ohau-Manakau",42.227752860000002,22.307604269710126,{"$f":"ROWS($A$3:A3595)","v":3593},"",""]
["Manawatu-Wanganui Region","    Oroua Downs","..","..",846,"Oroua Downs",125.27707497,6.7530312325905673,{"$f":"ROWS($A$3:A3596)","v":3594},"",""]
["Manawatu-Wanganui Region","    Otairi","..","..",609,"Otairi",636.74022780999906,0.95643399521747097,{"$f":"ROWS($A$3:A3597)","v":3595},"",""]
["Manawatu-Wanganui Region","    Otamatea (Whanganui District)","..","..",741,"Otamatea (Whanganui District)",2.23081277,332.16593071591569,{"$f":"ROWS($A$3:A3598)","v":3596},"",""]
["Manawatu-Wanganui Region","    Otangiwai-Ohura","..","..",660,"Otangiwai-Ohura",2011.6970374,0.32808121090291564,{"$f":"ROWS($A$3:A3599)","v":3597},"",""]
["Manawatu-Wanganui Region","    Owhanga","..","..",447,"Owhanga",1142.4896029500001,0.39125082525548593,{"$f":"ROWS($A$3:A3600)","v":3598},"",""]
["Manawatu-Wanganui Region","    Pahiatua","..","..",1158,"Pahiatua",3.8614447599999999,299.88775496557929,{"$f":"ROWS($A$3:A3601)","v":3599},"",""]
["Manawatu-Wanganui Region","    Palmerston North Airport","..","..",123,"Palmerston North Airport",7.5370538199999997,16.319373980535012,{"$f":"ROWS($A$3:A3602)","v":3600},"",""]
["Manawatu-Wanganui Region","    Palmerston North Central","..","..",504,"Palmerston North Central",1.84381526,273.34625704312697,{"$f":"ROWS($A$3:A3603)","v":3601},"",""]
["Manawatu-Wanganui Region","    Palmerston North Hospital","..","..",1065,"Palmerston North Hospital",1.07412464,991.50504544798457,{"$f":"ROWS($A$3:A3604)","v":3602},"",""]
["Manawatu-Wanganui Region","    Papaioea North","..","..",1167,"Papaioea North",0.80386634999999995,1451.7338609832345,{"$f":"ROWS($A$3:A3605)","v":3603},"",""]
["Manawatu-Wanganui Region","    Papaioea South","..","..",966,"Papaioea South",0.60050349999999997,1608.6500744791663,{"$f":"ROWS($A$3:A3606)","v":3604},"",""]
["Manawatu-Wanganui Region","    Papatawa","..","..",537,"Papatawa",230.08922396,2.3338772270941082,{"$f":"ROWS($A$3:A3607)","v":3605},"",""]
["Manawatu-Wanganui Region","    Parewanui","..","..",390,"Parewanui",265.95684943999902,1.4664032936966553,{"$f":"ROWS($A$3:A3608)","v":3606},"",""]
["Manawatu-Wanganui Region","    Park West","..","..",873,"Park West",0.92856835999999998,940.15695301097708,{"$f":"ROWS($A$3:A3609)","v":3607},"",""]
["Manawatu-Wanganui Region","    Pihauatua","..","..",453,"Pihauatua",143.77602883,3.1507338440653743,{"$f":"ROWS($A$3:A3610)","v":3608},"",""]
["Manawatu-Wanganui Region","    Pioneer West","..","..",96,"Pioneer West",2.3638457700000002,40.61178661414953,{"$f":"ROWS($A$3:A3611)","v":3609},"",""]
["Manawatu-Wanganui Region","    Playford Park","..","..",828,"Playford Park",0.85176783,972.09588204334977,{"$f":"ROWS($A$3:A3612)","v":3610},"",""]
["Manawatu-Wanganui Region","    Pohangina-Apiti","..","..",564,"Pohangina-Apiti",682.38329118000001,0.82651496203066799,{"$f":"ROWS($A$3:A3613)","v":3611},"",""]
["Manawatu-Wanganui Region","    Poutoa","..","..",1191,"Poutoa",7.0639272200000001,168.60309611174051,{"$f":"ROWS($A$3:A3614)","v":3612},"",""]
["Manawatu-Wanganui Region","    Putiki","..","..",288,"Putiki",3.35422581,85.861840053040439,{"$f":"ROWS($A$3:A3615)","v":3613},"",""]
["Manawatu-Wanganui Region","    Queenwood (Horowhenua District)","..","..",999,"Queenwood (Horowhenua District)",0.82604670000000002,1209.3747242135341,{"$f":"ROWS($A$3:A3616)","v":3614},"",""]
["Manawatu-Wanganui Region","    Raetihi","..","..",477,"Raetihi",3.8628129599999999,123.48514021760971,{"$f":"ROWS($A$3:A3617)","v":3615},"",""]
["Manawatu-Wanganui Region","    Roslyn (Palmerston North City)","..","..",966,"Roslyn (Palmerston North City)",1.1507573099999999,839.44719847141369,{"$f":"ROWS($A$3:A3618)","v":3616},"",""]
["Manawatu-Wanganui Region","    Royal Oak (Palmerston North City)","..","..",810,"Royal Oak (Palmerston North City)",1.62616019,498.10590923394824,{"$f":"ROWS($A$3:A3619)","v":3617},"",""]
["Manawatu-Wanganui Region","    Ruahine","..","..",699,"Ruahine",1.5797339500000001,442.47957068973545,{"$f":"ROWS($A$3:A3620)","v":3618},"",""]
["Manawatu-Wanganui Region","    Ruamahanga","..","..",1041,"Ruamahanga",1.5317071200000001,679.6338454051189,{"$f":"ROWS($A$3:A3621)","v":3619},"",""]
["Manawatu-Wanganui Region","    Sandon","..","..",912,"Sandon",4.4769506300000002,203.71008647910867,{"$f":"ROWS($A$3:A3622)","v":3620},"",""]
["Manawatu-Wanganui Region","    Shannon","..","..",588,"Shannon",2.9439083300000002,199.73448018335543,{"$f":"ROWS($A$3:A3623)","v":3621},"",""]
["Manawatu-Wanganui Region","    Springvale East","..","..",660,"Springvale East",0.63070963999999996,1046.4403239500193,{"$f":"ROWS($A$3:A3624)","v":3622},"",""]
["Manawatu-Wanganui Region","    Springvale North","..","..",150,"Springvale North",1.0415614500000001,144.01454662132511,{"$f":"ROWS($A$3:A3625)","v":3623},"",""]
["Manawatu-Wanganui Region","    Springvale West","..","..",705,"Springvale West",0.68873691000000004,1023.6129206433847,{"$f":"ROWS($A$3:A3626)","v":3624},"",""]
["Manawatu-Wanganui Region","    St Johns Hill East","..","..",495,"St Johns Hill East",1.1237070300000001,440.50627680063548,{"$f":"ROWS($A$3:A3627)","v":3625},"",""]
["Manawatu-Wanganui Region","    St Johns Hill West","..","..",975,"St Johns Hill West",1.1220117700000001,868.97484150277671,{"$f":"ROWS($A$3:A3628)","v":3626},"",""]
["Manawatu-Wanganui Region","    Taihape","..","..",804,"Taihape",4.9344456000000001,162.93623745694956,{"$f":"ROWS($A$3:A3629)","v":3627},"",""]
["Manawatu-Wanganui Region","    Taikorea","..","..",504,"Taikorea",152.97421605,3.2946728737296902,{"$f":"ROWS($A$3:A3630)","v":3628},"",""]
["Manawatu-Wanganui Region","    Taitoko","..","..",690,"Taitoko",0.92018350000000004,749.85043743992367,{"$f":"ROWS($A$3:A3631)","v":3629},"",""]
["Manawatu-Wanganui Region","    Takaro North","..","..",1344,"Takaro North",1.1196752699999999,1200.3480259057612,{"$f":"ROWS($A$3:A3632)","v":3630},"",""]
["Manawatu-Wanganui Region","    Takaro South","..","..",999,"Takaro South",0.87652777000000004,1139.7243010338393,{"$f":"ROWS($A$3:A3633)","v":3631},"",""]
["Manawatu-Wanganui Region","    Tangiwai","..","..",840,"Tangiwai",2696.6322017500001,0.311499654811982,{"$f":"ROWS($A$3:A3634)","v":3632},"",""]
["Manawatu-Wanganui Region","    Taonui","..","..",609,"Taonui",165.87884474000001,3.6713542402260644,{"$f":"ROWS($A$3:A3635)","v":3633},"",""]
["Manawatu-Wanganui Region","    Tararua","..","..",486,"Tararua",10.746679,45.223273161876335,{"$f":"ROWS($A$3:A3636)","v":3634},"",""]
["Manawatu-Wanganui Region","    Taumarunui Central","..","..",768,"Taumarunui Central",5.5373813500000004,138.69371666085451,{"$f":"ROWS($A$3:A3637)","v":3635},"",""]
["Manawatu-Wanganui Region","    Taumarunui East","..","..",675,"Taumarunui East",4.5182849300000001,149.39296889361955,{"$f":"ROWS($A$3:A3638)","v":3636},"",""]
["Manawatu-Wanganui Region","    Taumarunui North","..","..",717,"Taumarunui North",3.5946045299999998,199.46561409357597,{"$f":"ROWS($A$3:A3639)","v":3637},"",""]
["Manawatu-Wanganui Region","    Te More","..","..",0,"Te More",47.9225809,0,{"$f":"ROWS($A$3:A3640)","v":3638},"",""]
["Manawatu-Wanganui Region","    Terrace End","..","..",1371,"Terrace End",1.20279285,1139.8471482433572,{"$f":"ROWS($A$3:A3641)","v":3639},"",""]
["Manawatu-Wanganui Region","    Tiroa","..","..",30,"Tiroa",182.315731709999,0.16454970571447766,{"$f":"ROWS($A$3:A3642)","v":3640},"",""]
["Manawatu-Wanganui Region","    Titoki","..","..",1185,"Titoki",1.92009589,617.15667752405841,{"$f":"ROWS($A$3:A3643)","v":3641},"",""]
["Manawatu-Wanganui Region","    Tokorangi","..","..",807,"Tokorangi",271.13390378000003,2.9763891153015138,{"$f":"ROWS($A$3:A3644)","v":3642},"",""]
["Manawatu-Wanganui Region","    Tremaine","..","..",168,"Tremaine",4.4015915300000001,38.168012378013643,{"$f":"ROWS($A$3:A3645)","v":3643},"",""]
["Manawatu-Wanganui Region","    Turakina","..","..",564,"Turakina",276.63551645000001,2.0387837658652161,{"$f":"ROWS($A$3:A3646)","v":3644},"",""]
["Manawatu-Wanganui Region","    Turitea","..","..",48,"Turitea",9.6466987399999997,4.9757954813047265,{"$f":"ROWS($A$3:A3647)","v":3645},"",""]
["Manawatu-Wanganui Region","    Upper Aramoho","..","..",921,"Upper Aramoho",1.56170695,589.73932337305666,{"$f":"ROWS($A$3:A3648)","v":3646},"",""]
["Manawatu-Wanganui Region","    Upper Whanganui","..","..",579,"Upper Whanganui",1849.8870206500001,0.31299208737437118,{"$f":"ROWS($A$3:A3649)","v":3647},"",""]
["Manawatu-Wanganui Region","    Waikawa (Horowhenua District)","..","..",681,"Waikawa (Horowhenua District)",62.1780651199999,10.952415432768955,{"$f":"ROWS($A$3:A3650)","v":3648},"",""]
["Manawatu-Wanganui Region","    Waiopehu","..","..",576,{"$f":"TRIM(B3651)","v":"Waiopehu"},0.75926077999999997,{"$f":"E3651/G3651","v":758.63262685582151},{"$f":"ROWS($A$3:A3651)","v":3649},{"$f":"IF(A3651=$M$2,I3652,\"\")","v":""},""]
["Manawatu-Wanganui Region","    Waiouru","..","..",291,"Waiouru",5.0106160700000002,58.076690757110832,{"$f":"ROWS($A$3:A3652)","v":3650},"",{"$f":"IFERROR(SMALL($J$3:$J$4612,I3652)-1,\"\")","v":""}]
["Manawatu-Wanganui Region","    Waitahora","..","..",255,"Waitahora",538.28181745999905,0.47372954413224189,{"$f":"ROWS($A$3:A3653)","v":3651},"",""]
["Manawatu-Wanganui Region","    Waitarere","..","..",1446,"Waitarere",94.70184098,15.26897455251561,{"$f":"ROWS($A$3:A3654)","v":3652},"",""]
["Manawatu-Wanganui Region","    Warwick","..","..",732,"Warwick",0.82135100000000005,891.21459643928108,{"$f":"ROWS($A$3:A3655)","v":3653},"",""]
["Manawatu-Wanganui Region","    Wembley Park","..","..",708,"Wembley Park",1.53593018,460.95845320260588,{"$f":"ROWS($A$3:A3656)","v":3654},"",""]
["Manawatu-Wanganui Region","    West End","..","..",1239,"West End",1.1675772799999999,1061.1717281788833,{"$f":"ROWS($A$3:A3657)","v":3655},"",""]
["Manawatu-Wanganui Region","    Westbrook","..","..",1086,"Westbrook",1.1291154299999999,961.8148606825788,{"$f":"ROWS($A$3:A3658)","v":3656},"",""]
["Manawatu-Wanganui Region","    Whakarongo","..","..",618,"Whakarongo",51.730699299999898,11.94648455100241,{"$f":"ROWS($A$3:A3659)","v":3657},"",""]
["Manawatu-Wanganui Region","    Whangamomona","..","..",99,"Whangamomona",689.59996202000002,0.14356149282550101,{"$f":"ROWS($A$3:A3660)","v":3658},"",""]
["Manawatu-Wanganui Region","    Whanganui Central","..","..",336,"Whanganui Central",2.43776167,137.83135740254707,{"$f":"ROWS($A$3:A3661)","v":3659},"",""]
["Manawatu-Wanganui Region","    Whanganui East-Riverlands","..","..",1026,"Whanganui East-Riverlands",1.49505211,686.26370488183181,{"$f":"ROWS($A$3:A3662)","v":3660},"",""]
["Manawatu-Wanganui Region","    Whanganui East-Williams Domain","..","..",999,"Whanganui East-Williams Domain",1.3771906599999999,725.38975830695813,{"$f":"ROWS($A$3:A3663)","v":3661},"",""]
["Manawatu-Wanganui Region","    Woodville","..","..",729,"Woodville",4.0394048199999997,180.4721320305797,{"$f":"ROWS($A$3:A3664)","v":3662},"",""]
["Marlborough Region","    Awatere","..","..",768,"Awatere",3273.5225864099898,0.23460965358490196,{"$f":"ROWS($A$3:A3665)","v":3663},"",""]
["Marlborough Region","    Blenheim Central","..","..",510,"Blenheim Central",1.5515344,328.7068594805246,{"$f":"ROWS($A$3:A3666)","v":3664},"",""]
["Marlborough Region","    Inlet Wairau River","..","..",0,"Inlet Wairau River",0,{"$error":"#DIV/0!"},{"$f":"ROWS($A$3:A3667)","v":3665},"",""]
["Marlborough Region","    Lower Wairau","..","..",528,"Lower Wairau",116.72206499000001,4.5235663029542499,{"$f":"ROWS($A$3:A3668)","v":3666},"",""]
["Marlborough Region","    Marlborough Sounds Coastal Marine","..","..",15,"Marlborough Sounds Coastal Marine",0,{"$error":"#DIV/0!"},{"$f":"ROWS($A$3:A3669)","v":3667},"",""]
["Marlborough Region","    Marlborough Sounds East","..","..",2169,"Marlborough Sounds East",1043.5719840100001,2.0784383188071631,{"$f":"ROWS($A$3:A3670)","v":3668},"",""]
["Marlborough Region","    Marlborough Sounds West","..","..",1461,"Marlborough Sounds West",1553.9133127499899,0.94020688799843055,{"$f":"ROWS($A$3:A3671)","v":3669},"",""]
["Marlborough Region","    Mayfield","..","..",711,"Mayfield",1.46101361,486.6484440209972,{"$f":"ROWS($A$3:A3672)","v":3670},"",""]
["Marlborough Region","    Oceanic Marlborough Region","..","..",0,"Oceanic Marlborough Region",0,{"$error":"#DIV/0!"},{"$f":"ROWS($A$3:A3673)","v":3671},"",""]
["Marlborough Region","    Redwoodtown East","..","..",1224,"Redwoodtown East",1.0736580600000001,1140.0277663821571,{"$f":"ROWS($A$3:A3674)","v":3672},"",""]
["Marlborough Region","    Redwoodtown West","..","..",1146,"Redwoodtown West",1.06281095,1078.2726692832812,{"$f":"ROWS($A$3:A3675)","v":3673},"",""]
["Marlborough Region","    Renwick","..","..",981,"Renwick",2.3196103799999999,422.91585192854677,{"$f":"ROWS($A$3:A3676)","v":3674},"",""]
["Marlborough Region","    Riverlands","..","..",168,"Riverlands",6.2792737299999999,26.75468648505629,{"$f":"ROWS($A$3:A3677)","v":3675},"",""]
["Marlborough Region","    Riversdale-Islington","..","..",915,"Riversdale-Islington",1.09524759,835.42754017838104,{"$f":"ROWS($A$3:A3678)","v":3676},"",""]
["Marlborough Region","    Spring Creek-Grovetown","..","..",420,"Spring Creek-Grovetown",9.6872043100000003,43.356162062819131,{"$f":"ROWS($A$3:A3679)","v":3677},"",""]
["Marlborough Region","    Springlands","..","..",1326,"Springlands",1.7733456700000001,747.73915905521108,{"$f":"ROWS($A$3:A3680)","v":3678},"",""]
["Marlborough Region","    Tuamarina","..","..",543,"Tuamarina",167.775426229999,3.2364692029189981,{"$f":"ROWS($A$3:A3681)","v":3679},"",""]
["Marlborough Region","    Upper Wairau","..","..",915,"Upper Wairau",4177.4314745800002,0.21903411356184946,{"$f":"ROWS($A$3:A3682)","v":3680},"",""]
["Marlborough Region","    Waikawa (Marlborough District)","..","..",807,"Waikawa (Marlborough District)",3.8563024600000002,209.26781764934483,{"$f":"ROWS($A$3:A3683)","v":3681},"",""]
["Marlborough Region","    Waitohi (Marlborough District)","..","..",1674,"Waitohi (Marlborough District)",5.3114585400000003,315.16766767419779,{"$f":"ROWS($A$3:A3684)","v":3682},"",""]
["Marlborough Region","    Whitney East","..","..",1059,"Whitney East",1.0574710199999999,1001.4458835949945,{"$f":"ROWS($A$3:A3685)","v":3683},"",""]
["Marlborough Region","    Whitney West","..","..",1143,"Whitney West",1.9022000800000001,600.88316261662646,{"$f":"ROWS($A$3:A3686)","v":3684},"",""]
["Marlborough Region","    Witherlea East","..","..",1161,"Witherlea East",1.37447506,844.6861160216323,{"$f":"ROWS($A$3:A3687)","v":3685},"",""]
["Marlborough Region","    Witherlea West","..","..",1098,"Witherlea West",2.4366775199999999,450.61358796464788,{"$f":"ROWS($A$3:A3688)","v":3686},"",""]
["Marlborough Region","    Woodbourne","..","..",867,"Woodbourne",80.150609360000004,10.81713547685996,{"$f":"ROWS($A$3:A3689)","v":3687},"",""]
["Marlborough Region","    Yelverton","..","..",1110,"Yelverton",2.4157435700000001,459.48585511499465,{"$f":"ROWS($A$3:A3690)","v":3688},"",""]
["Nelson Region","    Aldinga","..","..",1290,"Aldinga",1.11110705,1161.0042434705099,{"$f":"ROWS($A$3:A3691)","v":3689},"",""]
["Nelson Region","    Atawhai","..","..",1215,"Atawhai",4.5322572599999997,268.07833940123692,{"$f":"ROWS($A$3:A3692)","v":3690},"",""]
["Nelson Region","    Britannia","..","..",870,"Britannia",0.84053385999999997,1035.0564580467942,{"$f":"ROWS($A$3:A3693)","v":3691},"",""]
["Nelson Region","    Broadgreen-Monaco","..","..",1002,"Broadgreen-Monaco",1.1353873000000001,882.51823849007292,{"$f":"ROWS($A$3:A3694)","v":3692},"",""]
["Nelson Region","    Daelyn","..","..",333,"Daelyn",1.47284031,226.09375757783272,{"$f":"ROWS($A$3:A3695)","v":3693},"",""]
["Nelson Region","    Enner Glynn","..","..",1167,"Enner Glynn",7.0559301899999998,165.3927928104969,{"$f":"ROWS($A$3:A3696)","v":3694},"",""]
["Nelson Region","    Grampians","..","..",933,"Grampians",2.95265223,315.98709476191851,{"$f":"ROWS($A$3:A3697)","v":3695},"",""]
["Nelson Region","    Inlets Nelson City","..","..",66,"Inlets Nelson City",0,{"$error":"#DIV/0!"},{"$f":"ROWS($A$3:A3698)","v":3696},"",""]
["Nelson Region","    Maitai","..","..",633,"Maitai",0.93223506,679.01329520904312,{"$f":"ROWS($A$3:A3699)","v":3697},"",""]
["Nelson Region","    Maitlands","..","..",915,"Maitlands",0.76875789000000005,1190.2316865977141,{"$f":"ROWS($A$3:A3700)","v":3698},"",""]
["Nelson Region","    Marybank","..","..",471,"Marybank",1.0088834900000001,466.85271854334729,{"$f":"ROWS($A$3:A3701)","v":3699},"",""]
["Nelson Region","    Nayland","..","..",750,"Nayland",0.84068865999999998,892.12574843105415,{"$f":"ROWS($A$3:A3702)","v":3700},"",""]
["Nelson Region","    Nelson Airport","..","..",36,"Nelson Airport",2.9562057799999999,12.177772008821389,{"$f":"ROWS($A$3:A3703)","v":3701},"",""]
["Nelson Region","    Nelson Central-Trafalgar","..","..",291,"Nelson Central-Trafalgar",1.24569931,233.60372576589128,{"$f":"ROWS($A$3:A3704)","v":3702},"",""]
["Nelson Region","    Nelson Rural","..","..",750,"Nelson Rural",366.39440285000001,2.0469745011553742,{"$f":"ROWS($A$3:A3705)","v":3703},"",""]
["Nelson Region","    Oceanic Nelson Region","..","..",0,"Oceanic Nelson Region",0,{"$error":"#DIV/0!"},{"$f":"ROWS($A$3:A3706)","v":3704},"",""]
["Nelson Region","    Omaio","..","..",1404,"Omaio",5.4714102000000002,256.60660573392943,{"$f":"ROWS($A$3:A3707)","v":3705},"",""]
["Nelson Region","    Port Nelson","..","..",27,"Port Nelson",0.97858113999999996,27.590967060738571,{"$f":"ROWS($A$3:A3708)","v":3706},"",""]
["Nelson Region","    Rutherford","..","..",1116,"Rutherford",1.2147188499999999,918.73111214171092,{"$f":"ROWS($A$3:A3709)","v":3707},"",""]
["Nelson Region","    Saxton","..","..",30,"Saxton",3.8629873300000002,7.7660104569900303,{"$f":"ROWS($A$3:A3710)","v":3708},"",""]
["Nelson Region","    Suffolk","..","..",1095,"Suffolk",2.0021270599999998,546.91833594217542,{"$f":"ROWS($A$3:A3711)","v":3709},"",""]
["Nelson Region","    Tahuna Hills","..","..",1269,"Tahuna Hills",2.6770045699999998,474.03729310779624,{"$f":"ROWS($A$3:A3712)","v":3710},"",""]
["Nelson Region","    Tahunanui","..","..",1332,"Tahunanui",1.6147601,824.89033510302863,{"$f":"ROWS($A$3:A3713)","v":3711},"",""]
["Nelson Region","    The Brook","..","..",783,"The Brook",6.9023199200000001,113.44011999953777,{"$f":"ROWS($A$3:A3714)","v":3712},"",""]
["Nelson Region","    The Wood","..","..",1419,{"$f":"TRIM(B3715)","v":"The Wood"},1.16193028,{"$f":"E3715/G3715","v":1221.2436704894205},{"$f":"ROWS($A$3:A3715)","v":3713},{"$f":"IF(A3715=$M$2,I3716,\"\")","v":""},""]
["Nelson Region","    Toi Toi","..","..",642,"Toi Toi",1.30678078,491.28362601108967,{"$f":"ROWS($A$3:A3716)","v":3714},"",{"$f":"IFERROR(SMALL($J$3:$J$4612,I3716)-1,\"\")","v":""}]
["Nelson Region","    Victory","..","..",591,"Victory",0.63007159999999995,937.98863494244154,{"$f":"ROWS($A$3:A3717)","v":3715},"",""]
["Nelson Region","    Washington","..","..",1107,"Washington",1.12496894,984.02716789674207,{"$f":"ROWS($A$3:A3718)","v":3716},"",""]
["Northland Region","    Abbey Caves-Glenbervie","..","..",501,"Abbey Caves-Glenbervie",32.118650170000002,15.598413923009517,{"$f":"ROWS($A$3:A3719)","v":3717},"",""]
["Northland Region","    Ahipara","..","..",570,"Ahipara",4.5292775000000001,125.8478863350722,{"$f":"ROWS($A$3:A3720)","v":3718},"",""]
["Northland Region","    Bream Bay","..","..",834,"Bream Bay",235.31798384000001,3.5441405131494856,{"$f":"ROWS($A$3:A3721)","v":3719},"",""]
["Northland Region","    Bream Head","..","..",837,"Bream Head",52.180041920000001,16.040615706734179,{"$f":"ROWS($A$3:A3722)","v":3720},"",""]
["Northland Region","    Dargaville","..","..",2040,"Dargaville",12.55839585,162.44112897587951,{"$f":"ROWS($A$3:A3723)","v":3721},"",""]
["Northland Region","    Granfield Reserve","..","..",1230,"Granfield Reserve",1.6609090399999999,740.55831498153566,{"$f":"ROWS($A$3:A3724)","v":3722},"",""]
["Northland Region","    Haruru","..","..",477,"Haruru",1.52772435,312.2291007536798,{"$f":"ROWS($A$3:A3725)","v":3723},"",""]
["Northland Region","    Herekino-Takahue","..","..",441,"Herekino-Takahue",303.69091784,1.4521343052884494,{"$f":"ROWS($A$3:A3726)","v":3724},"",""]
["Northland Region","    Hikurangi","..","..",540,"Hikurangi",4.0002500999999997,134.99155965273272,{"$f":"ROWS($A$3:A3727)","v":3725},"",""]
["Northland Region","    Hokianga North","..","..",423,"Hokianga North",345.93522228,1.2227722786135484,{"$f":"ROWS($A$3:A3728)","v":3726},"",""]
["Northland Region","    Hokianga South","..","..",627,"Hokianga South",126.08745475000001,4.9727389710830847,{"$f":"ROWS($A$3:A3729)","v":3727},"",""]
["Northland Region","    Inlet Doubtless Bay","..","..",0,"Inlet Doubtless Bay",0,{"$error":"#DIV/0!"},{"$f":"ROWS($A$3:A3730)","v":3728},"",""]
["Northland Region","    Inlet Kaipara Harbour North","..","..",0,"Inlet Kaipara Harbour North",0,{"$error":"#DIV/0!"},{"$f":"ROWS($A$3:A3731)","v":3729},{"$f":"IF(A3731=$M$2,#REF!,\"\")","v":""},""]
["Northland Region","    Inlet Mangawhai Harbour","..","..",0,"Inlet Mangawhai Harbour",0,{"$error":"#DIV/0!"},{"$f":"ROWS($A$3:A3732)","v":3730},{"$f":"IF(A3732=$M$2,I3733,\"\")","v":""},""]
["Northland Region","    Inlet Whangarei Harbour","..","..",6,"Inlet Whangarei Harbour",0,{"$error":"#DIV/0!"},{"$f":"ROWS($A$3:A3733)","v":3731},"",""]
["Northland Region","    Inlets Far North District","..","..",78,"Inlets Far North District",0,{"$error":"#DIV/0!"},{"$f":"ROWS($A$3:A3734)","v":3732},"",""]
["Northland Region","    Inlets other Whangarei District","..","..",15,"Inlets other Whangarei District",0,{"$error":"#DIV/0!"},{"$f":"ROWS($A$3:A3735)","v":3733},"",""]
["Northland Region","    Kaeo","..","..",525,"Kaeo",255.57977503999899,2.05415315009897,{"$f":"ROWS($A$3:A3736)","v":3734},"",""]
["Northland Region","    Kaikohe","..","..",1437,"Kaikohe",5.6751226800000003,253.21038522465912,{"$f":"ROWS($A$3:A3737)","v":3735},"",""]
["Northland Region","    Kaipara Coastal","..","..",2007,"Kaipara Coastal",1248.06198971,1.6080932009365552,{"$f":"ROWS($A$3:A3738)","v":3736},"",""]
["Northland Region","    Kaitaia East","..","..",873,"Kaitaia East",5.2663102899999998,165.77071078734329,{"$f":"ROWS($A$3:A3739)","v":3737},"",""]
["Northland Region","    Kaitaia West","..","..",1233,"Kaitaia West",3.21185052,383.89084184403453,{"$f":"ROWS($A$3:A3740)","v":3738},"",""]
["Northland Region","    Kaiwaka","..","..",960,"Kaiwaka",259.02591835999903,3.7061928245565534,{"$f":"ROWS($A$3:A3741)","v":3739},"",""]
["Northland Region","    Kamo Central","..","..",660,"Kamo Central",1.0935470599999999,603.54055544715197,{"$f":"ROWS($A$3:A3742)","v":3740},"",""]
["Northland Region","    Kamo East","..","..",966,"Kamo East",1.4271622500000001,676.86767920045531,{"$f":"ROWS($A$3:A3743)","v":3741},"",""]
["Northland Region","    Kamo West","..","..",780,"Kamo West",4.4990075200000001,173.37157062586994,{"$f":"ROWS($A$3:A3744)","v":3742},"",""]
["Northland Region","    Karikari Peninsula","..","..",1155,"Karikari Peninsula",174.18081591000001,6.6310402438164804,{"$f":"ROWS($A$3:A3745)","v":3743},"",""]
["Northland Region","    Kauri","..","..",618,"Kauri",56.103987840000002,11.015259766604141,{"$f":"ROWS($A$3:A3746)","v":3744},"",""]
["Northland Region","    Kawakawa","..","..",513,"Kawakawa",1.73247964,296.10737589966715,{"$f":"ROWS($A$3:A3747)","v":3745},"",""]
["Northland Region","    Kensington (Whangarei District)","..","..",1542,"Kensington (Whangarei District)",3.1111852899999999,495.63103970577083,{"$f":"ROWS($A$3:A3748)","v":3746},"",""]
["Northland Region","    Kerikeri Central","..","..",1203,"Kerikeri Central",3.7117369600000001,324.10701861804347,{"$f":"ROWS($A$3:A3749)","v":3747},"",""]
["Northland Region","    Kerikeri South","..","..",1134,"Kerikeri South",15.4684322699999,73.310596717634098,{"$f":"ROWS($A$3:A3750)","v":3748},"",""]
["Northland Region","    Kiripaka","..","..",378,"Kiripaka",72.0674305699999,5.2450877880659892,{"$f":"ROWS($A$3:A3751)","v":3749},"",""]
["Northland Region","    Kohukohu-Broadwood","..","..",381,"Kohukohu-Broadwood",209.19924258,1.8212303032325825,{"$f":"ROWS($A$3:A3752)","v":3750},"",""]
["Northland Region","    Lake Manuwai-Kapiro","..","..",843,"Lake Manuwai-Kapiro",59.060857339999899,14.273412848496951,{"$f":"ROWS($A$3:A3753)","v":3751},"",""]
["Northland Region","    Mairtown","..","..",1155,"Mairtown",0.94419074999999997,1223.269768317472,{"$f":"ROWS($A$3:A3754)","v":3752},"",""]
["Northland Region","    Mangakahia-Hukerenui","..","..",735,"Mangakahia-Hukerenui",658.54706100999897,1.1160933569010951,{"$f":"ROWS($A$3:A3755)","v":3753},"",""]
["Northland Region","    Mangawhai","..","..",579,"Mangawhai",1.9942758599999999,290.33094749489675,{"$f":"ROWS($A$3:A3756)","v":3754},"",""]
["Northland Region","    Mangawhai Heads","..","..",1965,"Mangawhai Heads",6.9888959699999997,281.16028746669127,{"$f":"ROWS($A$3:A3757)","v":3755},"",""]
["Northland Region","    Mangawhai Rural","..","..",1173,"Mangawhai Rural",91.180037749999897,12.864657977178796,{"$f":"ROWS($A$3:A3758)","v":3756},"",""]
["Northland Region","    Maromaku","..","..",288,"Maromaku",238.30862311000001,1.2085169065286534,{"$f":"ROWS($A$3:A3759)","v":3757},"",""]
["Northland Region","    Marsden Bay","..","..",1083,"Marsden Bay",6.1024945400000004,177.4684095006171,{"$f":"ROWS($A$3:A3760)","v":3758},"",""]
["Northland Region","    Matapouri-Tutukaka","..","..",1320,"Matapouri-Tutukaka",78.465343410000003,16.822713603669424,{"$f":"ROWS($A$3:A3761)","v":3759},"",""]
["Northland Region","    Matarau","..","..",1068,"Matarau",108.38593904,9.8536766803842788,{"$f":"ROWS($A$3:A3762)","v":3760},"",""]
["Northland Region","    Mataraua Forest","..","..",210,"Mataraua Forest",272.92693530000003,0.76943669839390882,{"$f":"ROWS($A$3:A3763)","v":3761},"",""]
["Northland Region","    Matawaia-Taumarere","..","..",564,"Matawaia-Taumarere",410.68371209999901,1.3733196213602681,{"$f":"ROWS($A$3:A3764)","v":3762},"",""]
["Northland Region","    Maungaru","..","..",798,"Maungaru",691.96612070000003,1.1532356514690849,{"$f":"ROWS($A$3:A3765)","v":3763},"",""]
["Northland Region","    Maungatapere","..","..",1287,"Maungatapere",174.479625669999,7.3762194013079778,{"$f":"ROWS($A$3:A3766)","v":3764},"",""]
["Northland Region","    Maungaturoto","..","..",504,"Maungaturoto",21.59969701,23.333660641936941,{"$f":"ROWS($A$3:A3767)","v":3765},"",""]
["Northland Region","    Maunu-Horahora","..","..",1323,"Maunu-Horahora",4.2974555399999996,307.85658808700555,{"$f":"ROWS($A$3:A3768)","v":3766},"",""]
["Northland Region","    Moerewa","..","..",483,"Moerewa",1.87566952,257.50804971229689,{"$f":"ROWS($A$3:A3769)","v":3767},"",""]
["Northland Region","    Morningside (Whangarei District)","..","..",903,"Morningside (Whangarei District)",1.2018825099999999,751.32135835806457,{"$f":"ROWS($A$3:A3770)","v":3768},"",""]
["Northland Region","    Ngapuhi","..","..",564,"Ngapuhi",175.39009407,3.215689021609748,{"$f":"ROWS($A$3:A3771)","v":3769},"",""]
["Northland Region","    Ngunguru","..","..",606,"Ngunguru",3.56520869,169.97602460124151,{"$f":"ROWS($A$3:A3772)","v":3770},"",""]
["Northland Region","    North Cape","..","..",873,"North Cape",826.78512205000004,1.0558970846444491,{"$f":"ROWS($A$3:A3773)","v":3771},"",""]
["Northland Region","    Oakleigh-Mangapai","..","..",960,"Oakleigh-Mangapai",323.78100653000001,2.9649670012717406,{"$f":"ROWS($A$3:A3774)","v":3772},"",""]
["Northland Region","    Oceanic Northland Region","..","..",3,"Oceanic Northland Region",0,{"$error":"#DIV/0!"},{"$f":"ROWS($A$3:A3775)","v":3773},"",""]
["Northland Region","    Ohaeawai-Waimate North","..","..",471,"Ohaeawai-Waimate North",87.404523060000002,5.3887371443772514,{"$f":"ROWS($A$3:A3776)","v":3774},"",""]
["Northland Region","    Okaihau","..","..",498,"Okaihau",147.59027666,3.3742060200024562,{"$f":"ROWS($A$3:A3777)","v":3775},"",""]
["Northland Region","    Omahuta Forest-Horeke","..","..",525,"Omahuta Forest-Horeke",463.54915239000002,1.1325659798818901,{"$f":"ROWS($A$3:A3778)","v":3776},"",""]
["Northland Region","    Onerahi","..","..",969,{"$f":"TRIM(B3779)","v":"Onerahi"},2.2942122199999999,{"$f":"E3779/G3779","v":422.36720367569137},{"$f":"ROWS($A$3:A3779)","v":3777},"",""]
["Northland Region","    Onerahi Park","..","..",678,"Onerahi Park",1.9996437,339.06040361090328,{"$f":"ROWS($A$3:A3780)","v":3778},"",{"$f":"IFERROR(SMALL($J$3:$J$4612,I3780)-1,\"\")","v":""}]
["Northland Region","    Opua (Far North District)","..","..",651,"Opua (Far North District)",5.6224730699999999,115.78534781670373,{"$f":"ROWS($A$3:A3781)","v":3779},"",""]
["Northland Region","    Oruru-Parapara","..","..",387,"Oruru-Parapara",103.28072757,3.7470688782445416,{"$f":"ROWS($A$3:A3782)","v":3780},"",""]
["Northland Region","    Otaika-Portland","..","..",489,"Otaika-Portland",41.341274589999898,11.828372609447435,{"$f":"ROWS($A$3:A3783)","v":3781},"",""]
["Northland Region","    Otamatea (Kaipara District)","..","..",993,"Otamatea (Kaipara District)",244.89158927,4.0548554687404517,{"$f":"ROWS($A$3:A3784)","v":3782},"",""]
["Northland Region","    Otangarei","..","..",624,"Otangarei",1.03955837,600.25489477805854,{"$f":"ROWS($A$3:A3785)","v":3783},"",""]
["Northland Region","    Paihia","..","..",876,"Paihia",2.2421088999999998,390.70359160520707,{"$f":"ROWS($A$3:A3786)","v":3784},"",""]
["Northland Region","    Pakaraka","..","..",249,"Pakaraka",72.337481949999898,3.4421988889813764,{"$f":"ROWS($A$3:A3787)","v":3785},"",""]
["Northland Region","    Parua Bay","..","..",1044,"Parua Bay",39.0954391,26.703882192744064,{"$f":"ROWS($A$3:A3788)","v":3786},"",""]
["Northland Region","    Pataua","..","..",795,"Pataua",128.58726060999899,6.18257202329871,{"$f":"ROWS($A$3:A3789)","v":3787},"",""]
["Northland Region","    Peria","..","..",525,"Peria",199.69058441000001,2.629067372160534,{"$f":"ROWS($A$3:A3790)","v":3788},"",""]
["Northland Region","    Port-Limeburners","..","..",60,"Port-Limeburners",7.4116112100000002,8.0954057491636835,{"$f":"ROWS($A$3:A3791)","v":3789},"",""]
["Northland Region","    Pukenui","..","..",789,"Pukenui",19.19103565,41.112945355817729,{"$f":"ROWS($A$3:A3792)","v":3790},"",""]
["Northland Region","    Puketona-Waitangi","..","..",642,"Puketona-Waitangi",156.38492968,4.1052549073218341,{"$f":"ROWS($A$3:A3793)","v":3791},"",""]
["Northland Region","    Puketotara","..","..",672,"Puketotara",55.264240979999897,12.159761684652404,{"$f":"ROWS($A$3:A3794)","v":3792},"",""]
["Northland Region","    Rangaunu Harbour","..","..",969,"Rangaunu Harbour",272.10405305,3.5611376939759993,{"$f":"ROWS($A$3:A3795)","v":3793},"",""]
["Northland Region","    Rangitane-Purerua","..","..",726,"Rangitane-Purerua",123.18645582000001,5.8935050543286263,{"$f":"ROWS($A$3:A3796)","v":3794},{"$f":"IF(A3796=$M$2,I3797,\"\")","v":""},""]
["Northland Region","    Rangitihi","..","..",366,"Rangitihi",84.660426619999896,4.3231532678520352,{"$f":"ROWS($A$3:A3797)","v":3795},"",""]
["Northland Region","    Raumanga","..","..",1059,"Raumanga",3.46035972,306.03754687099411,{"$f":"ROWS($A$3:A3798)","v":3796},"",""]
["Northland Region","    Riverside","..","..",894,"Riverside",3.50780578,254.86017643770461,{"$f":"ROWS($A$3:A3799)","v":3797},"",""]
["Northland Region","    Riverview","..","..",933,"Riverview",6.21930008,150.01688099925224,{"$f":"ROWS($A$3:A3800)","v":3798},"",""]
["Northland Region","    Ruakaka","..","..",1299,"Ruakaka",15.7985203599999,82.222889890937111,{"$f":"ROWS($A$3:A3801)","v":3799},"",""]
["Northland Region","    Ruawai-Matakohe","..","..",1329,"Ruawai-Matakohe",530.44403266999905,2.5054481116706242,{"$f":"ROWS($A$3:A3802)","v":3800},"",""]
["Northland Region","    Russell","..","..",627,"Russell",3.27931477,191.19848016297624,{"$f":"ROWS($A$3:A3803)","v":3801},"",""]
["Northland Region","    Russell Forest-Rawhiti","..","..",480,"Russell Forest-Rawhiti",191.37950948,2.5081054983588102,{"$f":"ROWS($A$3:A3804)","v":3802},"",""]
["Northland Region","    Russell Peninsula","..","..",453,"Russell Peninsula",26.201352369999899,17.289183917036176,{"$f":"ROWS($A$3:A3805)","v":3803},"",""]
["Northland Region","    Sherwood Rise","..","..",966,"Sherwood Rise",1.3063393700000001,739.47093855098308,{"$f":"ROWS($A$3:A3806)","v":3804},"",""]
["Northland Region","    Taemaro-Oruaiti","..","..",534,"Taemaro-Oruaiti",156.734271659999,3.4070404280079671,{"$f":"ROWS($A$3:A3807)","v":3805},"",""]
["Northland Region","    Tangonge","..","..",468,"Tangonge",177.20434269,2.6410187972577841,{"$f":"ROWS($A$3:A3808)","v":3806},"",""]
["Northland Region","    Tarewa","..","..",621,"Tarewa",0.94067805000000004,660.16210328283944,{"$f":"ROWS($A$3:A3809)","v":3807},"",""]
["Northland Region","    Taumarumaru","..","..",1458,"Taumarumaru",10.2297233999999,142.52584776632517,{"$f":"ROWS($A$3:A3810)","v":3808},"",""]
["Northland Region","    Tikipunga North","..","..",1143,"Tikipunga North",2.7410072200000002,416.99999608173232,{"$f":"ROWS($A$3:A3811)","v":3809},"",""]
["Northland Region","    Tikipunga South","..","..",1443,"Tikipunga South",2.74033953,526.57708440968258,{"$f":"ROWS($A$3:A3812)","v":3810},"",""]
["Northland Region","    Waima Forest","..","..",387,"Waima Forest",236.99516982,1.6329446726442991,{"$f":"ROWS($A$3:A3813)","v":3811},"",""]
["Northland Region","    Waipapa","..","..",321,"Waipapa",9.1589972100000008,35.047504944048342,{"$f":"ROWS($A$3:A3814)","v":3812},"",""]
["Northland Region","    Waipoua Forest","..","..",789,"Waipoua Forest",277.80801475999903,2.8400908472047668,{"$f":"ROWS($A$3:A3815)","v":3813},"",""]
["Northland Region","    Waipu","..","..",1812,"Waipu",136.59458638000001,13.26553304945115,{"$f":"ROWS($A$3:A3816)","v":3814},"",""]
["Northland Region","    Whakapaku","..","..",522,"Whakapaku",200.87343203,2.5986512737136906,{"$f":"ROWS($A$3:A3817)","v":3815},"",""]
["Northland Region","    Whakarara","..","..",735,"Whakarara",169.49143734,4.3365022536542019,{"$f":"ROWS($A$3:A3818)","v":3816},"",""]
["Northland Region","    Whangarei Central","..","..",447,"Whangarei Central",2.8129937100000002,158.9054388607218,{"$f":"ROWS($A$3:A3819)","v":3817},"",""]
["Northland Region","    Whangaruru","..","..",1641,"Whangaruru",469.35201031000003,3.4963097290584608,{"$f":"ROWS($A$3:A3820)","v":3818},"",""]
["Northland Region","    Whau Valley","..","..",1116,"Whau Valley",7.1802588500000004,155.42615152377132,{"$f":"ROWS($A$3:A3821)","v":3819},"",""]
["Northland Region","    Woodhill-Vinetown","..","..",1212,"Woodhill-Vinetown",1.3852220500000001,874.94997643157637,{"$f":"ROWS($A$3:A3822)","v":3820},"",""]
["Otago Region","    Abbotsford","..","..",1128,"Abbotsford",2.3645374000000001,477.04891451494905,{"$f":"ROWS($A$3:A3823)","v":3821},"",""]
["Otago Region","    Albert Town","..","..",933,"Albert Town",4.9595547800000004,188.12172491015411,{"$f":"ROWS($A$3:A3824)","v":3822},"",""]
["Otago Region","    Alexandra North","..","..",1341,"Alexandra North",4.6031982600000001,291.31919249552374,{"$f":"ROWS($A$3:A3825)","v":3823},"",""]
["Otago Region","    Alexandra South","..","..",1290,"Alexandra South",5.1569710300000002,250.14683861817232,{"$f":"ROWS($A$3:A3826)","v":3824},"",""]
["Otago Region","    Andersons Bay","..","..",939,"Andersons Bay",1.25594294,747.64543045243761,{"$f":"ROWS($A$3:A3827)","v":3825},"",""]
["Otago Region","    Arrowtown","..","..",1422,"Arrowtown",2.3616220000000001,602.12853708171758,{"$f":"ROWS($A$3:A3828)","v":3826},"",""]
["Otago Region","    Arthur Street","..","..",669,"Arthur Street",0.71722273999999997,932.76462483607258,{"$f":"ROWS($A$3:A3829)","v":3827},"",""]
["Otago Region","    Arthurs Point","..","..",456,"Arthurs Point",5.5212546700000003,82.5899233516066,{"$f":"ROWS($A$3:A3830)","v":3828},"",""]
["Otago Region","    Balclutha North","..","..",705,"Balclutha North",3.0685770099999998,229.74818546268131,{"$f":"ROWS($A$3:A3831)","v":3829},"",""]
["Otago Region","    Balclutha South","..","..",1188,"Balclutha South",4.5173349900000002,262.98691654036486,{"$f":"ROWS($A$3:A3832)","v":3830},"",""]
["Otago Region","    Bathgate Park","..","..",1368,"Bathgate Park",0.53137555000000003,2574.4504051795379,{"$f":"ROWS($A$3:A3833)","v":3831},"",""]
["Otago Region","    Belleknowes","..","..",927,"Belleknowes",1.1269501500000001,822.57409522506384,{"$f":"ROWS($A$3:A3834)","v":3832},"",""]
["Otago Region","    Benhar-Stirling","..","..",204,"Benhar-Stirling",9.4814775699999903,21.515633876039452,{"$f":"ROWS($A$3:A3835)","v":3833},"",""]
["Otago Region","    Brighton","..","..",705,"Brighton",3.39318287,207.76952702227925,{"$f":"ROWS($A$3:A3836)","v":3834},"",""]
["Otago Region","    Broad Bay-Portobello","..","..",546,"Broad Bay-Portobello",3.59697698,151.79413241616018,{"$f":"ROWS($A$3:A3837)","v":3835},"",""]
["Otago Region","    Brockville","..","..",927,"Brockville",1.47132967,630.04234802116105,{"$f":"ROWS($A$3:A3838)","v":3836},"",""]
["Otago Region","    Bruce","..","..",1113,"Bruce",879.67792953000003,1.2652357898698912,{"$f":"ROWS($A$3:A3839)","v":3837},"",""]
["Otago Region","    Bucklands Crossing","..","..",975,"Bucklands Crossing",421.95737689999902,2.3106599229596316,{"$f":"ROWS($A$3:A3840)","v":3838},"",""]
["Otago Region","    Bush Road","..","..",1074,"Bush Road",0.87644248000000002,1225.4084261182775,{"$f":"ROWS($A$3:A3841)","v":3839},"",""]
["Otago Region","    Calton Hill","..","..",612,"Calton Hill",0.66409249000000004,921.55838112248489,{"$f":"ROWS($A$3:A3842)","v":3840},"",""]
["Otago Region","    Campus North","..","..",390,{"$f":"TRIM(B3843)","v":"Campus North"},0.60673268000000002,{"$f":"E3843/G3843","v":642.78719913356235},{"$f":"ROWS($A$3:A3843)","v":3841},"",""]
["Otago Region","    Campus South","..","..",450,"Campus South",0.47018425000000003,957.0716160739114,{"$f":"ROWS($A$3:A3844)","v":3842},"",{"$f":"IFERROR(SMALL($J$3:$J$4612,I3844)-1,\"\")","v":""}]
["Otago Region","    Campus West","..","..",495,"Campus West",0.32160378000000001,1539.1610135925641,{"$f":"ROWS($A$3:A3845)","v":3843},"",""]
["Otago Region","    Cardrona","..","..",441,"Cardrona",858.12453848999905,0.51391141986920308,{"$f":"ROWS($A$3:A3846)","v":3844},"",""]
["Otago Region","    Catlins","..","..",1137,"Catlins",1072.95864598,1.0596866936670304,{"$f":"ROWS($A$3:A3847)","v":3845},"",""]
["Otago Region","    Caversham","..","..",1113,"Caversham",0.70323849000000005,1582.6778764626492,{"$f":"ROWS($A$3:A3848)","v":3846},"",""]
["Otago Region","    Clinton","..","..",537,"Clinton",839.69551044000002,0.63951753144257284,{"$f":"ROWS($A$3:A3849)","v":3847},"",""]
["Otago Region","    Clutha Valley","..","..",663,"Clutha Valley",747.32722419000004,0.88716157867606238,{"$f":"ROWS($A$3:A3850)","v":3848},"",""]
["Otago Region","    Clyde","..","..",786,"Clyde",2.0846754500000002,377.03710666329374,{"$f":"ROWS($A$3:A3851)","v":3849},"",""]
["Otago Region","    Concord","..","..",579,"Concord",1.16384066,497.49078194260716,{"$f":"ROWS($A$3:A3852)","v":3850},"",""]
["Otago Region","    Corstorphine","..","..",828,"Corstorphine",0.87071560000000003,950.94196084232317,{"$f":"ROWS($A$3:A3853)","v":3851},"",""]
["Otago Region","    Cromwell East","..","..",1305,"Cromwell East",3.5948951500000002,363.01475997151124,{"$f":"ROWS($A$3:A3854)","v":3852},"",""]
["Otago Region","    Cromwell West","..","..",1431,"Cromwell West",12.03499822,118.90321658892609,{"$f":"ROWS($A$3:A3855)","v":3853},"",""]
["Otago Region","    Dunedin Central","..","..",867,"Dunedin Central",1.3070742,663.3135287958404,{"$f":"ROWS($A$3:A3856)","v":3854},"",""]
["Otago Region","    Dunstan-Galloway","..","..",702,"Dunstan-Galloway",444.83920098999897,1.5780983295484847,{"$f":"ROWS($A$3:A3857)","v":3855},"",""]
["Otago Region","    Earnscleugh","..","..",324,"Earnscleugh",391.85139420000002,0.82684406587725745,{"$f":"ROWS($A$3:A3858)","v":3856},"",""]
["Otago Region","    East Taieri","..","..",843,"East Taieri",3.1199621099999999,270.19558900989347,{"$f":"ROWS($A$3:A3859)","v":3857},"",""]
["Otago Region","    Fairfield (Dunedin City)","..","..",969,"Fairfield (Dunedin City)",3.9557389000000001,244.96055591535628,{"$f":"ROWS($A$3:A3860)","v":3858},{"$f":"IF(A3860=$M$2,I3861,\"\")","v":""},""]
["Otago Region","    Fernhill","..","..",798,"Fernhill",0.79443960999999996,1004.4816370623817,{"$f":"ROWS($A$3:A3861)","v":3859},"",""]
["Otago Region","    Forbury","..","..",588,"Forbury",0.55507377999999996,1059.3186368846318,{"$f":"ROWS($A$3:A3862)","v":3860},"",""]
["Otago Region","    Frankton","..","..",1413,"Frankton",7.6160228300000004,185.52990603364563,{"$f":"ROWS($A$3:A3863)","v":3861},"",""]
["Otago Region","    Frankton Arm","..","..",1080,"Frankton Arm",1.20173481,898.70077076322684,{"$f":"ROWS($A$3:A3864)","v":3862},"",""]
["Otago Region","    Gardens (Dunedin City)","..","..",927,"Gardens (Dunedin City)",1.51173629,613.20218753232416,{"$f":"ROWS($A$3:A3865)","v":3863},"",""]
["Otago Region","    Glen Warren","..","..",792,"Glen Warren",1.80084311,439.79400293232652,{"$f":"ROWS($A$3:A3866)","v":3864},"",""]
["Otago Region","    Glenleith","..","..",486,"Glenleith",2.1234607699999999,228.87166406187012,{"$f":"ROWS($A$3:A3867)","v":3865},"",""]
["Otago Region","    Glenorchy","..","..",333,"Glenorchy",1464.37040501,0.22740148179771905,{"$f":"ROWS($A$3:A3868)","v":3866},"",""]
["Otago Region","    Green Island","..","..",1005,"Green Island",3.6451043400000001,275.7122722034344,{"$f":"ROWS($A$3:A3869)","v":3867},"",""]
["Otago Region","    Halfway Bush","..","..",702,"Halfway Bush",1.70481455,411.77499335631546,{"$f":"ROWS($A$3:A3870)","v":3868},"",""]
["Otago Region","    Harbourside","..","..",30,"Harbourside",2.7054918200000002,11.088556904230447,{"$f":"ROWS($A$3:A3871)","v":3869},"",""]
["Otago Region","    Helensburgh","..","..",480,"Helensburgh",1.46131297,328.47173046031338,{"$f":"ROWS($A$3:A3872)","v":3870},"",""]
["Otago Region","    Hillside-Portsmouth Drive","..","..",54,"Hillside-Portsmouth Drive",1.3744558,39.288276858375511,{"$f":"ROWS($A$3:A3873)","v":3871},"",""]
["Otago Region","    Holmes Hill","..","..",645,"Holmes Hill",2.6192033100000001,246.25808830395835,{"$f":"ROWS($A$3:A3874)","v":3872},"",""]
["Otago Region","    Inland water Lake Hawea","..","..",0,"Inland water Lake Hawea",0,{"$error":"#DIV/0!"},{"$f":"ROWS($A$3:A3875)","v":3873},"",""]
["Otago Region","    Inland water Lake Wakatipu","..","..",0,"Inland water Lake Wakatipu",0,{"$error":"#DIV/0!"},{"$f":"ROWS($A$3:A3876)","v":3874},"",""]
["Otago Region","    Inland water Lake Wanaka","..","..",3,"Inland water Lake Wanaka",0,{"$error":"#DIV/0!"},{"$f":"ROWS($A$3:A3877)","v":3875},"",""]
["Otago Region","    Inlet Catlins","..","..",0,"Inlet Catlins",0,{"$error":"#DIV/0!"},{"$f":"ROWS($A$3:A3878)","v":3876},"",""]
["Otago Region","    Inlet Otago Harbour","..","..",0,"Inlet Otago Harbour",0,{"$error":"#DIV/0!"},{"$f":"ROWS($A$3:A3879)","v":3877},"",""]
["Otago Region","    Inlet Port Oamaru","..","..",0,"Inlet Port Oamaru",0,{"$error":"#DIV/0!"},{"$f":"ROWS($A$3:A3880)","v":3878},"",""]
["Otago Region","    Inlets other Dunedin City","..","..",0,"Inlets other Dunedin City",0,{"$error":"#DIV/0!"},{"$f":"ROWS($A$3:A3881)","v":3879},"",""]
["Otago Region","    Jacks Point","..","..",507,"Jacks Point",14.48030644,35.013071173651213,{"$f":"ROWS($A$3:A3882)","v":3880},"",""]
["Otago Region","    Kaikorai-Bradford","..","..",474,"Kaikorai-Bradford",3.4390155600000001,137.83014113492408,{"$f":"ROWS($A$3:A3883)","v":3881},"",""]
["Otago Region","    Kaitangata-Matau","..","..",519,"Kaitangata-Matau",163.71039296999899,3.1702324488043359,{"$f":"ROWS($A$3:A3884)","v":3882},"",""]
["Otago Region","    Kelvin Heights","..","..",666,"Kelvin Heights",9.2753079899999999,71.803545576926979,{"$f":"ROWS($A$3:A3885)","v":3883},"",""]
["Otago Region","    Kenmure","..","..",810,"Kenmure",1.1002203500000001,736.21615888126405,{"$f":"ROWS($A$3:A3886)","v":3884},"",""]
["Otago Region","    Kew (Dunedin City)","..","..",780,"Kew (Dunedin City)",0.70651138000000002,1104.0161872551862,{"$f":"ROWS($A$3:A3887)","v":3885},"",""]
["Otago Region","    Kingston","..","..",234,"Kingston",1012.53590033,0.23110291686816836,{"$f":"ROWS($A$3:A3888)","v":3886},"",""]
["Otago Region","    Lake Hawea","..","..",699,"Lake Hawea",2.3889951699999998,292.5916338290462,{"$f":"ROWS($A$3:A3889)","v":3887},"",""]
["Otago Region","    Lake Hayes","..","..",237,"Lake Hayes",5.9252179600000003,39.998528594212253,{"$f":"ROWS($A$3:A3890)","v":3888},"",""]
["Otago Region","    Lake Hayes Estate","..","..",690,"Lake Hayes Estate",1.9363872200000001,356.33368825890102,{"$f":"ROWS($A$3:A3891)","v":3889},"",""]
["Otago Region","    Lindis-Nevis Valleys","..","..",1338,"Lindis-Nevis Valleys",2884.6013791599898,0.46384225205828344,{"$f":"ROWS($A$3:A3892)","v":3890},"",""]
["Otago Region","    Lower Waitaki","..","..",609,"Lower Waitaki",172.9347558,3.5215593139895596,{"$f":"ROWS($A$3:A3893)","v":3891},"",""]
["Otago Region","    Macandrew Bay-Company Bay","..","..",675,"Macandrew Bay-Company Bay",2.58091874,261.53477424089687,{"$f":"ROWS($A$3:A3894)","v":3892},"",""]
["Otago Region","    Maheno","..","..",1062,"Maheno",262.40950212000001,4.0471095422236152,{"$f":"ROWS($A$3:A3895)","v":3893},"",""]
["Otago Region","    Maniototo","..","..",1203,"Maniototo",2371.0690786499899,0.50736606994383704,{"$f":"ROWS($A$3:A3896)","v":3894},"",""]
["Otago Region","    Manuherikia-Ida Valleys","..","..",678,"Manuherikia-Ida Valleys",2511.0885647999899,0.27000242424902415,{"$f":"ROWS($A$3:A3897)","v":3895},"",""]
["Otago Region","    Maori Hill","..","..",1014,"Maori Hill",1.0106075000000001,1003.3568917705438,{"$f":"ROWS($A$3:A3898)","v":3896},"",""]
["Otago Region","    Maryhill","..","..",960,"Maryhill",1.2350170700000001,777.31719125145366,{"$f":"ROWS($A$3:A3899)","v":3897},"",""]
["Otago Region","    Milton","..","..",954,"Milton",4.1648700200000004,229.05876904172868,{"$f":"ROWS($A$3:A3900)","v":3898},"",""]
["Otago Region","    Momona","..","..",975,"Momona",217.72425156,4.4781414702960252,{"$f":"ROWS($A$3:A3901)","v":3899},"",""]
["Otago Region","    Mornington","..","..",1293,"Mornington",1.06980458,1208.6319540714624,{"$f":"ROWS($A$3:A3902)","v":3900},"",""]
["Otago Region","    Mosgiel Central","..","..",1314,"Mosgiel Central",1.2377440900000001,1061.6087853830916,{"$f":"ROWS($A$3:A3903)","v":3901},"",""]
["Otago Region","    Mosgiel East","..","..",1257,"Mosgiel East",3.34393765,375.90413804515765,{"$f":"ROWS($A$3:A3904)","v":3902},"",""]
["Otago Region","    Mount Cargill","..","..",1143,"Mount Cargill",129.76068380000001,8.8085232485496494,{"$f":"ROWS($A$3:A3905)","v":3903},"",""]
["Otago Region","    Musselburgh","..","..",657,"Musselburgh",0.5756251,1141.3678798926594,{"$f":"ROWS($A$3:A3906)","v":3904},"",""]
["Otago Region","    Ngapara","..","..",798,{"$f":"TRIM(B3907)","v":"Ngapara"},1134.6191891799899,{"$f":"E3907/G3907","v":0.70331967554394104},{"$f":"ROWS($A$3:A3907)","v":3905},"",""]
["Otago Region","    Normanby","..","..",570,"Normanby",1.4187090499999999,401.77371110729155,{"$f":"ROWS($A$3:A3908)","v":3906},"",{"$f":"IFERROR(SMALL($J$3:$J$4612,I3908)-1,\"\")","v":""}]
["Otago Region","    North East Valley Chingford","..","..",681,"North East Valley Chingford",1.0826699,629.00058457337741,{"$f":"ROWS($A$3:A3909)","v":3907},"",""]
["Otago Region","    North East Valley Knox","..","..",798,"North East Valley Knox",0.66777942000000001,1195.0053806689639,{"$f":"ROWS($A$3:A3910)","v":3908},"",""]
["Otago Region","    Oamaru Central","..","..",168,"Oamaru Central",0.96435333999999995,174.21000481006269,{"$f":"ROWS($A$3:A3911)","v":3909},"",""]
["Otago Region","    Oamaru Gardens","..","..",564,"Oamaru Gardens",1.42438077,395.96153772842638,{"$f":"ROWS($A$3:A3912)","v":3910},"",""]
["Otago Region","    Oamaru North Milner Park","..","..",1056,"Oamaru North Milner Park",7.1343831499999997,148.01559963877187,{"$f":"ROWS($A$3:A3913)","v":3911},"",""]
["Otago Region","    Oamaru North Orana Park","..","..",1290,"Oamaru North Orana Park",2.76059418,467.29070478588056,{"$f":"ROWS($A$3:A3914)","v":3912},"",""]
["Otago Region","    Oceanic Otago Region","..","..",0,"Oceanic Otago Region",0,{"$error":"#DIV/0!"},{"$f":"ROWS($A$3:A3915)","v":3913},"",""]
["Otago Region","    Opoho","..","..",510,"Opoho",2.35880387,216.21127830352424,{"$f":"ROWS($A$3:A3916)","v":3914},"",""]
["Otago Region","    Otago Peninsula","..","..",555,"Otago Peninsula",84.985626280000005,6.5305160918795311,{"$f":"ROWS($A$3:A3917)","v":3915},"",""]
["Otago Region","    Outer Wakatipu","..","..",435,"Outer Wakatipu",1880.05664368,0.23137600745291179,{"$f":"ROWS($A$3:A3918)","v":3916},"",""]
["Otago Region","    Outer Wanaka","..","..",276,"Outer Wanaka",3175.9795766699899,8.6902322051260042E-2,{"$f":"ROWS($A$3:A3919)","v":3917},"",""]
["Otago Region","    Palmerston","..","..",498,"Palmerston",8.7706344400000003,56.7803849774863,{"$f":"ROWS($A$3:A3920)","v":3918},"",""]
["Otago Region","    Pine Hill-Dalmore","..","..",927,"Pine Hill-Dalmore",1.1772084899999999,787.45609454447617,{"$f":"ROWS($A$3:A3921)","v":3919},"",""]
["Otago Region","    Port Chalmers","..","..",714,"Port Chalmers",3.2334276000000002,220.81830439005344,{"$f":"ROWS($A$3:A3922)","v":3920},"",""]
["Otago Region","    Quail Rise","..","..",294,"Quail Rise",6.2690008300000004,46.897425598203341,{"$f":"ROWS($A$3:A3923)","v":3921},"",""]
["Otago Region","    Queenstown Central","..","..",516,"Queenstown Central",0.80628641999999995,639.97109116633771,{"$f":"ROWS($A$3:A3924)","v":3922},{"$f":"IF(A3924=$M$2,I3925,\"\")","v":""},""]
["Otago Region","    Queenstown East","..","..",975,"Queenstown East",0.97606981000000004,998.90396159266515,{"$f":"ROWS($A$3:A3925)","v":3923},"",""]
["Otago Region","    Queenstown Hill","..","..",3,"Queenstown Hill",15.400320730000001,0.19480113775526542,{"$f":"ROWS($A$3:A3926)","v":3924},"",""]
["Otago Region","    Ravensbourne-St Leonards","..","..",828,"Ravensbourne-St Leonards",4.9092595699999997,168.66087201007383,{"$f":"ROWS($A$3:A3927)","v":3925},"",""]
["Otago Region","    Roseneath-Sawyers Bay","..","..",633,"Roseneath-Sawyers Bay",4.9656814799999998,127.4749503264555,{"$f":"ROWS($A$3:A3928)","v":3926},"",""]
["Otago Region","    Roslyn (Dunedin City)","..","..",1293,"Roslyn (Dunedin City)",1.29448954,998.84932249046983,{"$f":"ROWS($A$3:A3929)","v":3927},"",""]
["Otago Region","    Royal Terrace","..","..",588,"Royal Terrace",0.2764839,2126.7061120014582,{"$f":"ROWS($A$3:A3930)","v":3928},"",""]
["Otago Region","    Saddle Hill-Chain Hills","..","..",465,"Saddle Hill-Chain Hills",47.416418919999899,9.806729622170316,{"$f":"ROWS($A$3:A3931)","v":3929},"",""]
["Otago Region","    Seddon Park","..","..",1317,"Seddon Park",1.5594296700000001,844.53952963457459,{"$f":"ROWS($A$3:A3932)","v":3930},"",""]
["Otago Region","    Shiel Hill","..","..",672,"Shiel Hill",1.37182293,489.85913947363457,{"$f":"ROWS($A$3:A3933)","v":3931},"",""]
["Otago Region","    Shotover Country","..","..",753,"Shotover Country",3.0453069799999999,247.26571243730575,{"$f":"ROWS($A$3:A3934)","v":3932},"",""]
["Otago Region","    South Hill","..","..",1116,"South Hill",1.44830445,770.55621834207579,{"$f":"ROWS($A$3:A3935)","v":3933},"",""]
["Otago Region","    St Clair","..","..",978,"St Clair",2.02846949,482.13690411483589,{"$f":"ROWS($A$3:A3936)","v":3934},"",""]
["Otago Region","    St Kilda North","..","..",1191,"St Kilda North",1.0578643599999999,1125.8532237535633,{"$f":"ROWS($A$3:A3937)","v":3935},"",""]
["Otago Region","    St Kilda South","..","..",1296,"St Kilda South",1.13620034,1140.6439114425893,{"$f":"ROWS($A$3:A3938)","v":3936},"",""]
["Otago Region","    Strath Taieri","..","..",402,"Strath Taieri",2114.9561166499898,0.19007486577865867,{"$f":"ROWS($A$3:A3939)","v":3937},"",""]
["Otago Region","    Sunshine Bay-Fernhill","..","..",1185,"Sunshine Bay-Fernhill",1.3122399300000001,903.03607816597992,{"$f":"ROWS($A$3:A3940)","v":3938},"",""]
["Otago Region","    Taieri","..","..",576,"Taieri",150.19446241,3.8350282078152684,{"$f":"ROWS($A$3:A3941)","v":3939},"",""]
["Otago Region","    Tainui","..","..",798,"Tainui",1.9910770600000001,400.78810410281153,{"$f":"ROWS($A$3:A3942)","v":3940},"",""]
["Otago Region","    Teviot Valley","..","..",984,"Teviot Valley",1302.49934545,0.75547062916952046,{"$f":"ROWS($A$3:A3943)","v":3941},"",""]
["Otago Region","    Tuapeka","..","..",684,"Tuapeka",1235.2467118500001,0.55373553593645208,{"$f":"ROWS($A$3:A3944)","v":3942},"",""]
["Otago Region","    Upper Clutha Valley","..","..",516,"Upper Clutha Valley",161.066449879999,3.2036466960340952,{"$f":"ROWS($A$3:A3945)","v":3943},"",""]
["Otago Region","    Waihemo","..","..",948,"Waihemo",1312.31794184,0.72238591714353151,{"$f":"ROWS($A$3:A3946)","v":3944},"",""]
["Otago Region","    Waikouaiti","..","..",681,"Waikouaiti",7.3271488099999997,92.942018465706582,{"$f":"ROWS($A$3:A3947)","v":3945},"",""]
["Otago Region","    Wakari","..","..",1860,"Wakari",2.2062971,843.04149246264251,{"$f":"ROWS($A$3:A3948)","v":3946},"",""]
["Otago Region","    Wakatipu Basin","..","..",843,"Wakatipu Basin",59.508274929999899,14.166097084676514,{"$f":"ROWS($A$3:A3949)","v":3947},"",""]
["Otago Region","    Waldronville","..","..",477,"Waldronville",9.5381792799999996,50.009544379207767,{"$f":"ROWS($A$3:A3950)","v":3948},"",""]
["Otago Region","    Wanaka Central","..","..",897,"Wanaka Central",7.5623568299999997,118.61381579371997,{"$f":"ROWS($A$3:A3951)","v":3949},"",""]
["Otago Region","    Wanaka North","..","..",1275,"Wanaka North",7.7682806299999996,164.12898306944919,{"$f":"ROWS($A$3:A3952)","v":3950},"",""]
["Otago Region","    Wanaka Waterfront","..","..",1545,"Wanaka Waterfront",3.89203944,396.96411709538074,{"$f":"ROWS($A$3:A3953)","v":3951},"",""]
["Otago Region","    Wanaka West","..","..",1248,"Wanaka West",4.4240265599999997,282.09595559028475,{"$f":"ROWS($A$3:A3954)","v":3952},"",""]
["Otago Region","    Warren Park","..","..",534,"Warren Park",0.94256382000000005,566.53988692245787,{"$f":"ROWS($A$3:A3955)","v":3953},"",""]
["Otago Region","    Waverley","..","..",1125,"Waverley",2.1469865600000002,523.99023867201106,{"$f":"ROWS($A$3:A3956)","v":3954},"",""]
["Otago Region","    West Otago","..","..",1056,"West Otago",1374.56180801,0.76824482816731765,{"$f":"ROWS($A$3:A3957)","v":3955},"",""]
["Otago Region","    Weston","..","..",438,"Weston",3.3064339399999998,132.46900072650476,{"$f":"ROWS($A$3:A3958)","v":3956},"",""]
["Otago Region","    Wingatui","..","..",342,"Wingatui",6.8224392800000002,50.128698250576441,{"$f":"ROWS($A$3:A3959)","v":3957},"",""]
["Southland Region","    Aurora","..","..",528,"Aurora",0.65289648,808.70400771650657,{"$f":"ROWS($A$3:A3960)","v":3958},"",""]
["Southland Region","    Avenal","..","..",600,"Avenal",1.42781023,420.22391168888038,{"$f":"ROWS($A$3:A3961)","v":3959},"",""]
["Southland Region","    Awarua Plains","..","..",408,"Awarua Plains",409.0300853,0.99748163928028788,{"$f":"ROWS($A$3:A3962)","v":3960},"",""]
["Southland Region","    Bluff","..","..",912,"Bluff",10.0993463899999,90.302873550612915,{"$f":"ROWS($A$3:A3963)","v":3961},"",""]
["Southland Region","    Clifton","..","..",603,"Clifton",2.86310529,210.61048718889413,{"$f":"ROWS($A$3:A3964)","v":3962},"",""]
["Southland Region","    Crinan","..","..",825,"Crinan",0.82389206000000004,1001.344763536136,{"$f":"ROWS($A$3:A3965)","v":3963},"",""]
["Southland Region","    Donovan Park","..","..",1053,"Donovan Park",2.9310116800000001,359.26161850027154,{"$f":"ROWS($A$3:A3966)","v":3964},"",""]
["Southland Region","    East Gore","..","..",645,"East Gore",3.69861291,174.38970113798689,{"$f":"ROWS($A$3:A3967)","v":3965},"",""]
["Southland Region","    Edendale-Woodlands","..","..",969,"Edendale-Woodlands",385.08923743999901,2.5162998749114105,{"$f":"ROWS($A$3:A3968)","v":3966},"",""]
["Southland Region","    Elizabeth Park","..","..",483,"Elizabeth Park",1.0304344400000001,468.73433306441115,{"$f":"ROWS($A$3:A3969)","v":3967},"",""]
["Southland Region","    Fiordland","..","..",189,"Fiordland",12042.358235399901,1.5694600368589991E-2,{"$f":"ROWS($A$3:A3970)","v":3968},"",""]
["Southland Region","    Georgetown","..","..",888,{"$f":"TRIM(B3971)","v":"Georgetown"},1.1234850000000001,{"$f":"E3971/G3971","v":790.39773561729794},{"$f":"ROWS($A$3:A3971)","v":3969},"",""]
["Southland Region","    Gladstone (Invercargill City)","..","..",1008,"Gladstone (Invercargill City)",1.26997527,793.71624299424354,{"$f":"ROWS($A$3:A3972)","v":3970},"",{"$f":"IFERROR(SMALL($J$3:$J$4612,I3972)-1,\"\")","v":""}]
["Southland Region","    Glengarry","..","..",1137,"Glengarry",2.0529597399999999,553.83453355008317,{"$f":"ROWS($A$3:A3973)","v":3971},"",""]
["Southland Region","    Gore Central","..","..",132,"Gore Central",1.02927419,128.245710698332,{"$f":"ROWS($A$3:A3974)","v":3972},"",""]
["Southland Region","    Gore Main","..","..",654,"Gore Main",0.60819228000000003,1075.3178254745358,{"$f":"ROWS($A$3:A3975)","v":3973},"",""]
["Southland Region","    Gore North","..","..",759,"Gore North",1.7287032200000001,439.05743404585081,{"$f":"ROWS($A$3:A3976)","v":3974},"",""]
["Southland Region","    Gore South","..","..",264,"Gore South",3.5439106699999998,74.493977016638524,{"$f":"ROWS($A$3:A3977)","v":3975},"",""]
["Southland Region","    Gore West","..","..",1212,"Gore West",3.1580431,383.78196928344647,{"$f":"ROWS($A$3:A3978)","v":3976},"",""]
["Southland Region","    Grove Bush","..","..",429,"Grove Bush",145.5658938,2.9471189218913039,{"$f":"ROWS($A$3:A3979)","v":3977},"",""]
["Southland Region","    Hargest","..","..",828,"Hargest",1.0295306099999999,804.25000670936834,{"$f":"ROWS($A$3:A3980)","v":3978},"",""]
["Southland Region","    Hedgehope","..","..",468,"Hedgehope",729.25534542000003,0.64175052392720522,{"$f":"ROWS($A$3:A3981)","v":3979},"",""]
["Southland Region","    Inland water Lake Hauroko","..","..",0,"Inland water Lake Hauroko",0,{"$error":"#DIV/0!"},{"$f":"ROWS($A$3:A3982)","v":3980},"",""]
["Southland Region","    Inland water Lake Manapouri","..","..",0,"Inland water Lake Manapouri",0,{"$error":"#DIV/0!"},{"$f":"ROWS($A$3:A3983)","v":3981},"",""]
["Southland Region","    Inland water Lake Te Anau","..","..",0,"Inland water Lake Te Anau",0,{"$error":"#DIV/0!"},{"$f":"ROWS($A$3:A3984)","v":3982},"",""]
["Southland Region","    Inlet Bluff Harbour","..","..",0,"Inlet Bluff Harbour",0,{"$error":"#DIV/0!"},{"$f":"ROWS($A$3:A3985)","v":3983},"",""]
["Southland Region","    Inlet New River Estuary","..","..",0,"Inlet New River Estuary",0,{"$error":"#DIV/0!"},{"$f":"ROWS($A$3:A3986)","v":3984},"",""]
["Southland Region","    Inlets Fiordland","..","..",9,"Inlets Fiordland",0,{"$error":"#DIV/0!"},{"$f":"ROWS($A$3:A3987)","v":3985},"",""]
["Southland Region","    Inlets other Southland District","..","..",3,"Inlets other Southland District",0,{"$error":"#DIV/0!"},{"$f":"ROWS($A$3:A3988)","v":3986},{"$f":"IF(A3988=$M$2,I3989,\"\")","v":""},""]
["Southland Region","    Invercargill Central","..","..",552,"Invercargill Central",9.1822577499999998,60.115933905253314,{"$f":"ROWS($A$3:A3989)","v":3987},"",""]
["Southland Region","    Kennington-Tisbury","..","..",567,"Kennington-Tisbury",37.105313799999898,15.280830208205963,{"$f":"ROWS($A$3:A3990)","v":3988},"",""]
["Southland Region","    Kew (Invercargill City)","..","..",873,"Kew (Invercargill City)",2.0303133799999999,429.98288274098849,{"$f":"ROWS($A$3:A3991)","v":3989},"",""]
["Southland Region","    Kingswell","..","..",918,"Kingswell",1.90459373,481.99255596625324,{"$f":"ROWS($A$3:A3992)","v":3990},"",""]
["Southland Region","    Longwood Forest","..","..",1155,"Longwood Forest",2198.42509204,0.52537609954598574,{"$f":"ROWS($A$3:A3993)","v":3991},"",""]
["Southland Region","    Lumsden-Balfour","..","..",723,"Lumsden-Balfour",767.66967180999904,0.94181133702380393,{"$f":"ROWS($A$3:A3994)","v":3992},"",""]
["Southland Region","    Mararoa","..","..",549,"Mararoa",2716.7613296300001,0.2020788480800296,{"$f":"ROWS($A$3:A3995)","v":3993},"",""]
["Southland Region","    Mataura","..","..",750,"Mataura",5.3250877399999998,140.84274975720871,{"$f":"ROWS($A$3:A3996)","v":3994},"",""]
["Southland Region","    Mossburn","..","..",672,"Mossburn",2740.5529691000002,0.24520598856393766,{"$f":"ROWS($A$3:A3997)","v":3995},"",""]
["Southland Region","    Moulson","..","..",528,"Moulson",0.77411182000000001,682.07200349944276,{"$f":"ROWS($A$3:A3998)","v":3996},"",""]
["Southland Region","    Myross Bush","..","..",411,"Myross Bush",20.494529239999899,20.054132260712617,{"$f":"ROWS($A$3:A3999)","v":3997},"",""]
["Southland Region","    Newfield","..","..",1173,"Newfield",2.0055250199999999,584.88425140664663,{"$f":"ROWS($A$3:A4000)","v":3998},"",""]
["Southland Region","    Oceanic Southland Region","..","..",9,"Oceanic Southland Region",0,{"$error":"#DIV/0!"},{"$f":"ROWS($A$3:A4001)","v":3999},"",""]
["Southland Region","    Ohai-Nightcaps","..","..",729,"Ohai-Nightcaps",948.80872687999897,0.76833188749980863,{"$f":"ROWS($A$3:A4002)","v":4000},"",""]
["Southland Region","    Oreti River","..","..",867,"Oreti River",629.96070478000001,1.3762763191757823,{"$f":"ROWS($A$3:A4003)","v":4001},"",""]
["Southland Region","    Otatara","..","..",1185,"Otatara",19.951228830000002,59.394837786540485,{"$f":"ROWS($A$3:A4004)","v":4002},"",""]
["Southland Region","    Otautau","..","..",1215,"Otautau",703.22598299000003,1.7277518598417281,{"$f":"ROWS($A$3:A4005)","v":4003},"",""]
["Southland Region","    Prestonville-Grasmere","..","..",1491,"Prestonville-Grasmere",3.1963022300000001,466.47653842171235,{"$f":"ROWS($A$3:A4006)","v":4004},"",""]
["Southland Region","    Richmond (Invercargill City)","..","..",1590,"Richmond (Invercargill City)",1.27965464,1242.5227481689903,{"$f":"ROWS($A$3:A4007)","v":4005},"",""]
["Southland Region","    Riversdale-Piano Flat","..","..",780,"Riversdale-Piano Flat",1578.79006336,0.49404922041376081,{"$f":"ROWS($A$3:A4008)","v":4006},"",""]
["Southland Region","    Riverton","..","..",1122,"Riverton",8.7445441400000004,128.3085752712548,{"$f":"ROWS($A$3:A4009)","v":4007},"",""]
["Southland Region","    Rosedale","..","..",792,"Rosedale",1.0858818699999999,729.36110444499832,{"$f":"ROWS($A$3:A4010)","v":4008},"",""]
["Southland Region","    Stewart Island","..","..",462,"Stewart Island",1747.7370011,0.26434183158520075,{"$f":"ROWS($A$3:A4011)","v":4009},"",""]
["Southland Region","    Strathern","..","..",1023,"Strathern",0.98388271999999999,1039.758071978335,{"$f":"ROWS($A$3:A4012)","v":4010},"",""]
["Southland Region","    Te Anau","..","..",1704,"Te Anau",5.5272242299999998,308.29217869454885,{"$f":"ROWS($A$3:A4013)","v":4011},"",""]
["Southland Region","    Turnbull Thompson Park","..","..",753,"Turnbull Thompson Park",1.4898838700000001,505.40851885321769,{"$f":"ROWS($A$3:A4014)","v":4012},"",""]
["Southland Region","    Waianiwa","..","..",465,"Waianiwa",228.59097718999899,2.0342010245378312,{"$f":"ROWS($A$3:A4015)","v":4013},"",""]
["Southland Region","    Waikaka","..","..",657,"Waikaka",586.99832927,1.1192536115342187,{"$f":"ROWS($A$3:A4016)","v":4014},"",""]
["Southland Region","    Waimumu-Kaiwera","..","..",537,"Waimumu-Kaiwera",647.73930342000006,0.82903723328921464,{"$f":"ROWS($A$3:A4017)","v":4015},"",""]
["Southland Region","    Wallacetown","..","..",465,"Wallacetown",89.785959109999894,5.1789834915090944,{"$f":"ROWS($A$3:A4018)","v":4016},"",""]
["Southland Region","    West Plains-Makarewa","..","..",651,"West Plains-Makarewa",87.866464359999895,7.4089700176482758,{"$f":"ROWS($A$3:A4019)","v":4017},"",""]
["Southland Region","    Whitestone","..","..",288,"Whitestone",91.16935762,3.1589561176947556,{"$f":"ROWS($A$3:A4020)","v":4018},"",""]
["Southland Region","    Windsor","..","..",1563,"Windsor",1.6099192200000001,970.85616506895292,{"$f":"ROWS($A$3:A4021)","v":4019},"",""]
["Southland Region","    Winton","..","..",1113,"Winton",3.0742488300000002,362.03965961987529,{"$f":"ROWS($A$3:A4022)","v":4020},"",""]
["Southland Region","    Woodend-Greenhills","..","..",297,"Woodend-Greenhills",173.61136084,1.7107175392381999,{"$f":"ROWS($A$3:A4023)","v":4021},"",""]
["Southland Region","    Wyndham-Catlins","..","..",1056,"Wyndham-Catlins",1382.23257773,0.76398141457079372,{"$f":"ROWS($A$3:A4024)","v":4022},"",""]
["Southland Region","  Total - Regional Council Areas","..","..",1886133,"Total - Regional Council Areas",{"$error":"#N/A"},{"$error":"#N/A"},{"$f":"ROWS($A$3:A4025)","v":4023},"",""]
["Taranaki Region","    Bell Block East","..","..",1059,"Bell Block East",7.6715886099999997,138.04181295899807,{"$f":"ROWS($A$3:A4026)","v":4024},"",""]
["Taranaki Region","    Bell Block West","..","..",1542,"Bell Block West",4.1911775100000002,367.91569823059103,{"$f":"ROWS($A$3:A4027)","v":4025},"",""]
["Taranaki Region","    Blagdon-Lynmouth","..","..",1032,"Blagdon-Lynmouth",1.1585697699999999,890.75343300214024,{"$f":"ROWS($A$3:A4028)","v":4026},"",""]
["Taranaki Region","    Cape Egmont","..","..",933,"Cape Egmont",434.17712626000002,2.1488925684244542,{"$f":"ROWS($A$3:A4029)","v":4027},"",""]
["Taranaki Region","    Douglas","..","..",300,"Douglas",1010.45329582,0.29689645354320399,{"$f":"ROWS($A$3:A4030)","v":4028},"",""]
["Taranaki Region","    Egmont Showgrounds","..","..",699,"Egmont Showgrounds",4.4012289899999999,158.81927561328729,{"$f":"ROWS($A$3:A4031)","v":4029},"",""]
["Taranaki Region","    Eltham","..","..",867,"Eltham",3.4120219000000001,254.10153434243784,{"$f":"ROWS($A$3:A4032)","v":4030},"",""]
["Taranaki Region","    Everett Park","..","..",810,"Everett Park",236.51532649999899,3.4247252048589902,{"$f":"ROWS($A$3:A4033)","v":4031},"",""]
["Taranaki Region","    Ferndale","..","..",285,"Ferndale",1.7914278100000001,159.09097671091752,{"$f":"ROWS($A$3:A4034)","v":4032},"",""]
["Taranaki Region","    Fitzroy-Glen Avon","..","..",1500,{"$f":"TRIM(B4035)","v":"Fitzroy-Glen Avon"},16.9809194199999,{"$f":"E4035/G4035","v":88.334439549446301},{"$f":"ROWS($A$3:A4035)","v":4033},"",""]
["Taranaki Region","    Frankleigh Park","..","..",1206,"Frankleigh Park",2.1068125100000001,572.42872551577921,{"$f":"ROWS($A$3:A4036)","v":4034},"",{"$f":"IFERROR(SMALL($J$3:$J$4612,I4036)-1,\"\")","v":""}]
["Taranaki Region","    Hawera Central","..","..",1191,"Hawera Central",1.7842896399999999,667.49252660571415,{"$f":"ROWS($A$3:A4037)","v":4035},"",""]
["Taranaki Region","    Highlands Park (New Plymouth District)","..","..",1290,"Highlands Park (New Plymouth District)",2.9067143400000002,443.80006051781476,{"$f":"ROWS($A$3:A4038)","v":4036},"",""]
["Taranaki Region","    Hurdon","..","..",915,"Hurdon",3.7651765199999998,243.01649474856495,{"$f":"ROWS($A$3:A4039)","v":4037},"",""]
["Taranaki Region","    Inglewood","..","..",1470,"Inglewood",2.9443594800000001,499.25968958111048,{"$f":"ROWS($A$3:A4040)","v":4038},"",""]
["Taranaki Region","    Inlet Port Taranaki","..","..",0,"Inlet Port Taranaki",0,{"$error":"#DIV/0!"},{"$f":"ROWS($A$3:A4041)","v":4039},"",""]
["Taranaki Region","    Kaitake","..","..",783,"Kaitake",170.20208624,4.6004136453174889,{"$f":"ROWS($A$3:A4042)","v":4040},"",""]
["Taranaki Region","    Kaponga-Mangatoki","..","..",543,"Kaponga-Mangatoki",172.81250681,3.1421336917298781,{"$f":"ROWS($A$3:A4043)","v":4041},"",""]
["Taranaki Region","    Kawaroa","..","..",1131,"Kawaroa",1.1328721900000001,998.34739521675431,{"$f":"ROWS($A$3:A4044)","v":4042},"",""]
["Taranaki Region","    King Edward Park","..","..",633,"King Edward Park",1.08208134,584.9837499277088,{"$f":"ROWS($A$3:A4045)","v":4043},"",""]
["Taranaki Region","    Lepperton-Brixton","..","..",675,"Lepperton-Brixton",46.534207780000003,14.505458074868294,{"$f":"ROWS($A$3:A4046)","v":4044},"",""]
["Taranaki Region","    Lower Vogeltown","..","..",1287,"Lower Vogeltown",1.50008305,857.95249803002571,{"$f":"ROWS($A$3:A4047)","v":4045},"",""]
["Taranaki Region","    Manaia-Kapuni","..","..",696,"Manaia-Kapuni",109.376142259999,6.3633621155291085,{"$f":"ROWS($A$3:A4048)","v":4046},"",""]
["Taranaki Region","    Mangaoraka","..","..",669,"Mangaoraka",81.676849320000002,8.1908154583551465,{"$f":"ROWS($A$3:A4049)","v":4047},"",""]
["Taranaki Region","    Mangawhio","..","..",351,"Mangawhio",1368.5848472600001,0.25646930163133536,{"$f":"ROWS($A$3:A4050)","v":4048},"",""]
["Taranaki Region","    Mangorei","..","..",756,"Mangorei",188.5394987,4.0097698636768468,{"$f":"ROWS($A$3:A4051)","v":4049},"",""]
["Taranaki Region","    Manutahi-Waitotora","..","..",1032,"Manutahi-Waitotora",293.22169535,3.5195212917931178,{"$f":"ROWS($A$3:A4052)","v":4050},{"$f":"IF(A4052=$M$2,I4053,\"\")","v":""},""]
["Taranaki Region","    Marfell","..","..",636,"Marfell",0.73332529999999996,867.28222795531542,{"$f":"ROWS($A$3:A4053)","v":4051},"",""]
["Taranaki Region","    Merrilands","..","..",1254,"Merrilands",1.71844924,729.72769332424389,{"$f":"ROWS($A$3:A4054)","v":4052},"",""]
["Taranaki Region","    Moturoa","..","..",879,"Moturoa",1.0167227299999999,864.54248937662692,{"$f":"ROWS($A$3:A4055)","v":4053},"",""]
["Taranaki Region","    Mount Messenger","..","..",453,"Mount Messenger",934.30266816999904,0.48485358699369074,{"$f":"ROWS($A$3:A4056)","v":4054},"",""]
["Taranaki Region","    New Plymouth Central","..","..",651,"New Plymouth Central",1.25967206,516.80117442630262,{"$f":"ROWS($A$3:A4057)","v":4055},"",""]
["Taranaki Region","    Normanby-Tawhiti","..","..",627,"Normanby-Tawhiti",49.49971996,12.666738327139416,{"$f":"ROWS($A$3:A4058)","v":4056},"",""]
["Taranaki Region","    Oakura","..","..",699,"Oakura",1.6771763,416.7719279124085,{"$f":"ROWS($A$3:A4059)","v":4057},"",""]
["Taranaki Region","    Oceanic Taranaki Region","..","..",3,"Oceanic Taranaki Region",0,{"$error":"#DIV/0!"},{"$f":"ROWS($A$3:A4060)","v":4058},"",""]
["Taranaki Region","    Ohangai","..","..",243,"Ohangai",331.77711962000001,0.73241940335825262,{"$f":"ROWS($A$3:A4061)","v":4059},"",""]
["Taranaki Region","    Okaiawa","..","..",507,"Okaiawa",102.1116779,4.9651519828761916,{"$f":"ROWS($A$3:A4062)","v":4060},"",""]
["Taranaki Region","    Omata","..","..",366,"Omata",21.599505709999899,16.944832206533011,{"$f":"ROWS($A$3:A4063)","v":4061},"",""]
["Taranaki Region","    Opunake","..","..",699,"Opunake",3.7651424800000002,185.65034489743931,{"$f":"ROWS($A$3:A4064)","v":4062},"",""]
["Taranaki Region","    Paraite","..","..",300,"Paraite",13.721248040000001,21.863900362812767,{"$f":"ROWS($A$3:A4065)","v":4063},"",""]
["Taranaki Region","    Patea","..","..",600,"Patea",6.1535879299999996,97.504091405743523,{"$f":"ROWS($A$3:A4066)","v":4064},"",""]
["Taranaki Region","    Pembroke","..","..",642,"Pembroke",226.37533006000001,2.8359980737734984,{"$f":"ROWS($A$3:A4067)","v":4065},"",""]
["Taranaki Region","    Port Taranaki","..","..",6,"Port Taranaki",1.5690866400000001,3.8238806239533081,{"$f":"ROWS($A$3:A4068)","v":4066},"",""]
["Taranaki Region","    Ramanui","..","..",822,"Ramanui",13.599212570000001,60.444676172894027,{"$f":"ROWS($A$3:A4069)","v":4067},"",""]
["Taranaki Region","    Spotswood","..","..",1542,"Spotswood",3.4559646399999999,446.18512069035523,{"$f":"ROWS($A$3:A4070)","v":4068},"",""]
["Taranaki Region","    Strandon","..","..",1173,"Strandon",1.7647838199999999,664.67064504251857,{"$f":"ROWS($A$3:A4071)","v":4069},"",""]
["Taranaki Region","    Stratford Central","..","..",951,"Stratford Central",2.53265568,375.49517982641839,{"$f":"ROWS($A$3:A4072)","v":4070},"",""]
["Taranaki Region","    Stratford North","..","..",804,"Stratford North",3.2854254699999998,244.71716291893239,{"$f":"ROWS($A$3:A4073)","v":4071},"",""]
["Taranaki Region","    Stratford South","..","..",753,"Stratford South",2.71989707,276.84871177864096,{"$f":"ROWS($A$3:A4074)","v":4072},"",""]
["Taranaki Region","    Tarata","..","..",243,"Tarata",258.96873968,0.93833719197254428,{"$f":"ROWS($A$3:A4075)","v":4073},"",""]
["Taranaki Region","    Taungatara","..","..",531,"Taungatara",313.10448637000002,1.6959194873129662,{"$f":"ROWS($A$3:A4076)","v":4074},"",""]
["Taranaki Region","    Te Roti-Moeroa","..","..",327,"Te Roti-Moeroa",361.94093946999902,0.90346231757821016,{"$f":"ROWS($A$3:A4077)","v":4075},"",""]
["Taranaki Region","    Tikorangi","..","..",987,"Tikorangi",167.68784491,5.8859364584817362,{"$f":"ROWS($A$3:A4078)","v":4076},"",""]
["Taranaki Region","    Toko","..","..",558,"Toko",228.452236459999,2.4425236918076894,{"$f":"ROWS($A$3:A4079)","v":4077},"",""]
["Taranaki Region","    Turuturu","..","..",765,"Turuturu",4.3329283500000004,176.55496195777155,{"$f":"ROWS($A$3:A4080)","v":4078},"",""]
["Taranaki Region","    Upper Vogeltown","..","..",1155,"Upper Vogeltown",2.4631440499999999,468.91289204137291,{"$f":"ROWS($A$3:A4081)","v":4079},"",""]
["Taranaki Region","    Waitara East","..","..",1173,"Waitara East",2.2741385699999999,515.79970344551168,{"$f":"ROWS($A$3:A4082)","v":4080},"",""]
["Taranaki Region","    Waitara West","..","..",1683,"Waitara West",3.3862320499999998,497.01260136617043,{"$f":"ROWS($A$3:A4083)","v":4081},"",""]
["Taranaki Region","    Waiwhakaiho-Bell Block South","..","..",39,"Waiwhakaiho-Bell Block South",7.3542756499999999,5.3030375601980602,{"$f":"ROWS($A$3:A4084)","v":4082},"",""]
["Taranaki Region","    Welbourn","..","..",1311,"Welbourn",6.4944500500000002,201.86466750945294,{"$f":"ROWS($A$3:A4085)","v":4083},"",""]
["Taranaki Region","    Westown","..","..",1944,"Westown",2.3744063400000002,818.73096750575553,{"$f":"ROWS($A$3:A4086)","v":4084},"",""]
["Taranaki Region","    Whalers Gate","..","..",1008,"Whalers Gate",2.0853344300000001,483.37570487434954,{"$f":"ROWS($A$3:A4087)","v":4085},"",""]
["Tasman Region","    Aniseed Valley","..","..",153,"Aniseed Valley",57.247605319999899,2.6726008737792259,{"$f":"ROWS($A$3:A4088)","v":4086},"",""]
["Tasman Region","    Appleby","..","..",282,"Appleby",20.065187609999899,14.054192040519945,{"$f":"ROWS($A$3:A4089)","v":4087},"",""]
["Tasman Region","    Ben Cooper Park","..","..",996,"Ben Cooper Park",0.91549517999999996,1087.9358206997879,{"$f":"ROWS($A$3:A4090)","v":4088},"",""]
["Tasman Region","    Brightwater","..","..",768,"Brightwater",4.8379245099999997,158.74575934629456,{"$f":"ROWS($A$3:A4091)","v":4089},"",""]
["Tasman Region","    Easby Park","..","..",1053,"Easby Park",1.1287975400000001,932.85107619919154,{"$f":"ROWS($A$3:A4092)","v":4090},"",""]
["Tasman Region","    Fairose","..","..",723,"Fairose",1.4210516799999999,508.77811847068085,{"$f":"ROWS($A$3:A4093)","v":4091},"",""]
["Tasman Region","    Golden Bay/Mohua","..","..",1590,"Golden Bay/Mohua",2249.8347332200001,0.70671857649044567,{"$f":"ROWS($A$3:A4094)","v":4092},"",""]
["Tasman Region","    Golden Downs","..","..",798,"Golden Downs",1819.6272276100001,0.43855136254920613,{"$f":"ROWS($A$3:A4095)","v":4093},"",""]
["Tasman Region","    Hope","..","..",351,"Hope",7.4444653499999998,47.149121326758547,{"$f":"ROWS($A$3:A4096)","v":4094},"",""]
["Tasman Region","    Inlet Waimea West","..","..",0,"Inlet Waimea West",0,{"$error":"#DIV/0!"},{"$f":"ROWS($A$3:A4097)","v":4095},"",""]
["Tasman Region","    Inlets Golden Bay","..","..",0,"Inlets Golden Bay",0,{"$error":"#DIV/0!"},{"$f":"ROWS($A$3:A4098)","v":4096},"",""]
["Tasman Region","    Inlets Motueka","..","..",3,{"$f":"TRIM(B4099)","v":"Inlets Motueka"},0,{"$f":"E4099/G4099","v":{"$error":"#DIV/0!"}},{"$f":"ROWS($A$3:A4099)","v":4097},"",""]
["Tasman Region","    Islands Tasman District","..","..",54,"Islands Tasman District",15.89191638,3.3979539477038201,{"$f":"ROWS($A$3:A4100)","v":4098},"",{"$f":"IFERROR(SMALL($J$3:$J$4612,I4100)-1,\"\")","v":""}]
["Tasman Region","    Kaiteriteri-Riwaka","..","..",1188,"Kaiteriteri-Riwaka",28.56948379,41.582830433073077,{"$f":"ROWS($A$3:A4101)","v":4099},"",""]
["Tasman Region","    Lower Moutere","..","..",708,"Lower Moutere",62.017963880000003,11.416047153207506,{"$f":"ROWS($A$3:A4102)","v":4100},"",""]
["Tasman Region","    Motueka East","..","..",1362,"Motueka East",3.2377561799999999,420.66169417364841,{"$f":"ROWS($A$3:A4103)","v":4101},"",""]
["Tasman Region","    Motueka North","..","..",1092,"Motueka North",2.55778061,426.93262890909159,{"$f":"ROWS($A$3:A4104)","v":4102},"",""]
["Tasman Region","    Motueka West","..","..",894,"Motueka West",7.8679661799999998,113.62529776405317,{"$f":"ROWS($A$3:A4105)","v":4103},"",""]
["Tasman Region","    Moutere Hills","..","..",1371,"Moutere Hills",98.434957049999895,13.927978851086435,{"$f":"ROWS($A$3:A4106)","v":4104},"",""]
["Tasman Region","    Murchison-Nelson Lakes","..","..",1074,"Murchison-Nelson Lakes",3706.0078227399899,0.28979971208100463,{"$f":"ROWS($A$3:A4107)","v":4105},"",""]
["Tasman Region","    Oceanic Tasman Region","..","..",3,"Oceanic Tasman Region",0,{"$error":"#DIV/0!"},{"$f":"ROWS($A$3:A4108)","v":4106},"",""]
["Tasman Region","    Pohara-Abel Tasman","..","..",1161,"Pohara-Abel Tasman",326.04735970000002,3.5608323927795325,{"$f":"ROWS($A$3:A4109)","v":4107},"",""]
["Tasman Region","    Richmond Central (Tasman District)","..","..",780,"Richmond Central (Tasman District)",1.1528751800000001,676.56934031661604,{"$f":"ROWS($A$3:A4110)","v":4108},"",""]
["Tasman Region","    Richmond South (Tasman District)","..","..",234,"Richmond South (Tasman District)",2.5076217000000001,93.315510868325944,{"$f":"ROWS($A$3:A4111)","v":4109},"",""]
["Tasman Region","    Richmond West (Tasman District)","..","..",363,"Richmond West (Tasman District)",6.4611772199999997,56.181712347459808,{"$f":"ROWS($A$3:A4112)","v":4110},"",""]
["Tasman Region","    Ruby Bay-Mapua","..","..",1131,"Ruby Bay-Mapua",9.7689129000000001,115.77542062024118,{"$f":"ROWS($A$3:A4113)","v":4111},"",""]
["Tasman Region","    Takaka","..","..",618,"Takaka",12.3422707299999,50.071823371841155,{"$f":"ROWS($A$3:A4114)","v":4112},"",""]
["Tasman Region","    Takaka Hills","..","..",651,"Takaka Hills",277.43395578000002,2.3465044073993271,{"$f":"ROWS($A$3:A4115)","v":4113},"",""]
["Tasman Region","    Templemore","..","..",729,"Templemore",1.4267554899999999,510.94949702979596,{"$f":"ROWS($A$3:A4116)","v":4114},{"$f":"IF(A4116=$M$2,I4117,\"\")","v":""},""]
["Tasman Region","    Upper Moutere","..","..",843,"Upper Moutere",445.96586432999902,1.8902792061596214,{"$f":"ROWS($A$3:A4117)","v":4115},"",""]
["Tasman Region","    Waimea West","..","..",447,"Waimea West",59.16674544,7.5549195189939118,{"$f":"ROWS($A$3:A4118)","v":4116},"",""]
["Tasman Region","    Wakefield","..","..",891,"Wakefield",9.9804584399999996,89.274456214257839,{"$f":"ROWS($A$3:A4119)","v":4117},"",""]
["Tasman Region","    Wakefield Rural","..","..",513,"Wakefield Rural",375.73233011999901,1.3653336667519702,{"$f":"ROWS($A$3:A4120)","v":4118},"",""]
["Tasman Region","    Wilkes Park","..","..",909,"Wilkes Park",0.88157300000000005,1031.1114337666875,{"$f":"ROWS($A$3:A4121)","v":4119},"",""]
["Waikato Region","    Acacia Bay","..","..",1008,"Acacia Bay",7.1500501099999996,140.9780329497579,{"$f":"ROWS($A$3:A4122)","v":4120},"",""]
["Waikato Region","    Aka Aka","..","..",1122,"Aka Aka",186.86632842,6.0042919957104166,{"$f":"ROWS($A$3:A4123)","v":4121},"",""]
["Waikato Region","    Arahiwi","..","..",63,"Arahiwi",62.856006829999899,1.0022908418345686,{"$f":"ROWS($A$3:A4124)","v":4122},"",""]
["Waikato Region","    Aria","..","..",561,"Aria",531.78682735999905,1.0549339907214828,{"$f":"ROWS($A$3:A4125)","v":4123},"",""]
["Waikato Region","    Bader","..","..",843,"Bader",1.09710993,768.38243547754598,{"$f":"ROWS($A$3:A4126)","v":4124},"",""]
["Waikato Region","    Beerescourt","..","..",885,"Beerescourt",1.02007447,867.58371670648717,{"$f":"ROWS($A$3:A4127)","v":4125},"",""]
["Waikato Region","    Bird Area","..","..",1176,"Bird Area",1.17912862,997.34666774520326,{"$f":"ROWS($A$3:A4128)","v":4126},"",""]
["Waikato Region","    Brentwood (Taupo District)","..","..",894,"Brentwood (Taupo District)",3.5554319799999998,251.44623917119631,{"$f":"ROWS($A$3:A4129)","v":4127},"",""]
["Waikato Region","    Cambridge Central","..","..",495,"Cambridge Central",2.8115556000000002,176.05911830447172,{"$f":"ROWS($A$3:A4130)","v":4128},"",""]
["Waikato Region","    Cambridge East","..","..",1131,"Cambridge East",1.5848586200000001,713.62832351569625,{"$f":"ROWS($A$3:A4131)","v":4129},"",""]
["Waikato Region","    Cambridge North","..","..",600,"Cambridge North",1.79761003,333.77650880152243,{"$f":"ROWS($A$3:A4132)","v":4130},"",""]
["Waikato Region","    Cambridge Park-River Garden","..","..",480,"Cambridge Park-River Garden",3.0145377500000001,159.22839247907908,{"$f":"ROWS($A$3:A4133)","v":4131},"",""]
["Waikato Region","    Cambridge West","..","..",1092,"Cambridge West",2.2324196399999998,489.15534536329386,{"$f":"ROWS($A$3:A4134)","v":4132},"",""]
["Waikato Region","    Chartwell","..","..",873,"Chartwell",0.89675000999999999,973.515461683686,{"$f":"ROWS($A$3:A4135)","v":4133},"",""]
["Waikato Region","    Chedworth","..","..",666,"Chedworth",0.87746908000000001,759.00110349187457,{"$f":"ROWS($A$3:A4136)","v":4134},"",""]
["Waikato Region","    Claudelands","..","..",1329,"Claudelands",1.3837409300000001,960.43989968555741,{"$f":"ROWS($A$3:A4137)","v":4135},"",""]
["Waikato Region","    Colville","..","..",1350,"Colville",542.61700960999895,2.4879426484811087,{"$f":"ROWS($A$3:A4138)","v":4136},"",""]
["Waikato Region","    Cooks Beach-Ferry Landing","..","..",1038,"Cooks Beach-Ferry Landing",2.6968010699999998,384.90047024491878,{"$f":"ROWS($A$3:A4139)","v":4137},"",""]
["Waikato Region","    Coromandel","..","..",1116,"Coromandel",10.86995774,102.66829243441015,{"$f":"ROWS($A$3:A4140)","v":4138},"",""]
["Waikato Region","    Crawshaw","..","..",1023,"Crawshaw",0.86398333999999999,1184.0506091240138,{"$f":"ROWS($A$3:A4141)","v":4139},"",""]
["Waikato Region","    Deanwell","..","..",696,"Deanwell",0.67020491999999998,1038.4883477131143,{"$f":"ROWS($A$3:A4142)","v":4140},"",""]
["Waikato Region","    Dinsdale North","..","..",1578,"Dinsdale North",1.52121058,1037.3317282607909,{"$f":"ROWS($A$3:A4143)","v":4141},"",""]
["Waikato Region","    Dinsdale South","..","..",1494,"Dinsdale South",1.56104917,957.04864953100741,{"$f":"ROWS($A$3:A4144)","v":4142},"",""]
["Waikato Region","    Enderley North","..","..",735,"Enderley North",0.69456728999999995,1058.2128046945604,{"$f":"ROWS($A$3:A4145)","v":4143},"",""]
["Waikato Region","    Enderley South","..","..",1011,"Enderley South",0.76575360000000003,1320.2680339994483,{"$f":"ROWS($A$3:A4146)","v":4144},"",""]
["Waikato Region","    Eureka-Tauwhare","..","..",744,"Eureka-Tauwhare",135.54653096000001,5.4888900123866362,{"$f":"ROWS($A$3:A4147)","v":4145},"",""]
["Waikato Region","    Fairfield (Hamilton City)","..","..",1524,"Fairfield (Hamilton City)",1.3991068900000001,1089.2663104532348,{"$f":"ROWS($A$3:A4148)","v":4146},"",""]
["Waikato Region","    Fairview Downs","..","..",1071,"Fairview Downs",1.12334837,953.39970093159968,{"$f":"ROWS($A$3:A4149)","v":4147},"",""]
["Waikato Region","    Fencourt","..","..",261,"Fencourt",25.209913669999899,10.353069963527608,{"$f":"ROWS($A$3:A4150)","v":4148},"",""]
["Waikato Region","    Fitzroy","..","..",1131,"Fitzroy",1.4894601700000001,759.33551146923242,{"$f":"ROWS($A$3:A4151)","v":4149},"",""]
["Waikato Region","    Flagstaff East","..","..",1503,"Flagstaff East",1.8059793900000001,832.23541105859465,{"$f":"ROWS($A$3:A4152)","v":4150},"",""]
["Waikato Region","    Flagstaff North","..","..",1053,"Flagstaff North",1.7641358,596.89282423722705,{"$f":"ROWS($A$3:A4153)","v":4151},"",""]
["Waikato Region","    Flagstaff South","..","..",903,"Flagstaff South",1.6387605999999999,551.02618405641442,{"$f":"ROWS($A$3:A4154)","v":4152},"",""]
["Waikato Region","    Forest Lake (Hamilton City)","..","..",1056,"Forest Lake (Hamilton City)",1.22811347,859.85540082057719,{"$f":"ROWS($A$3:A4155)","v":4153},"",""]
["Waikato Region","    Frankton Junction","..","..",276,"Frankton Junction",3.3409704699999998,82.610727175927423,{"$f":"ROWS($A$3:A4156)","v":4154},"",""]
["Waikato Region","    Fraser Street","..","..",612,"Fraser Street",1.13512075,539.14968958148279,{"$f":"ROWS($A$3:A4157)","v":4155},"",""]
["Waikato Region","    Glenview","..","..",816,"Glenview",0.8946037,912.13573116230123,{"$f":"ROWS($A$3:A4158)","v":4156},"",""]
["Waikato Region","    Golden Springs","..","..",720,"Golden Springs",498.76703172999902,1.4435597266776898,{"$f":"ROWS($A$3:A4159)","v":4157},"",""]
["Waikato Region","    Goodfellow Park","..","..",774,"Goodfellow Park",0.94961806999999998,815.06452378270353,{"$f":"ROWS($A$3:A4160)","v":4158},"",""]
["Waikato Region","    Greensboro","..","..",1401,"Greensboro",0.46632127000000001,3004.3664960854135,{"$f":"ROWS($A$3:A4161)","v":4159},"",""]
["Waikato Region","    Hamilton Central","..","..",456,"Hamilton Central",1.15979791,393.17194492961278,{"$f":"ROWS($A$3:A4162)","v":4160},"",""]
["Waikato Region","    Hamilton East","..","..",1545,{"$f":"TRIM(B4163)","v":"Hamilton East"},2.22133352,{"$f":"E4163/G4163","v":695.52815283676989},{"$f":"ROWS($A$3:A4163)","v":4161},"",""]
["Waikato Region","    Hamilton East Cook","..","..",684,"Hamilton East Cook",0.73364708000000001,932.32838873971934,{"$f":"ROWS($A$3:A4164)","v":4162},"",{"$f":"IFERROR(SMALL($J$3:$J$4612,I4164)-1,\"\")","v":""}]
["Waikato Region","    Hamilton East Village","..","..",1455,"Hamilton East Village",1.32122462,1101.2510499539435,{"$f":"ROWS($A$3:A4165)","v":4163},"",""]
["Waikato Region","    Hamilton Lake","..","..",1470,"Hamilton Lake",1.86435898,788.4747603704518,{"$f":"ROWS($A$3:A4166)","v":4164},"",""]
["Waikato Region","    Hamilton Park","..","..",537,"Hamilton Park",46.310121129999899,11.595737322572647,{"$f":"ROWS($A$3:A4167)","v":4165},"",""]
["Waikato Region","    Hamilton West","..","..",714,"Hamilton West",0.91466453000000003,780.61406841697465,{"$f":"ROWS($A$3:A4168)","v":4166},"",""]
["Waikato Region","    Hangatiki","..","..",519,"Hangatiki",326.52034130999903,1.5894874969129731,{"$f":"ROWS($A$3:A4169)","v":4167},"",""]
["Waikato Region","    Hauraki Plains East","..","..",543,"Hauraki Plains East",90.714125440000004,5.9858373474498219,{"$f":"ROWS($A$3:A4170)","v":4168},"",""]
["Waikato Region","    Hauraki Plains North","..","..",507,"Hauraki Plains North",178.738875019999,2.8365401759593265,{"$f":"ROWS($A$3:A4171)","v":4169},"",""]
["Waikato Region","    Hauraki Plains South","..","..",609,"Hauraki Plains South",251.34905576,2.4229253543785028,{"$f":"ROWS($A$3:A4172)","v":4170},"",""]
["Waikato Region","    Hautapu","..","..",198,"Hautapu",7.4340666500000001,26.634143776475288,{"$f":"ROWS($A$3:A4173)","v":4171},"",""]
["Waikato Region","    Hautapu Rural","..","..",273,"Hautapu Rural",14.7080072899999,18.561317968996047,{"$f":"ROWS($A$3:A4174)","v":4172},"",""]
["Waikato Region","    Herangi","..","..",873,"Herangi",1668.10266361,0.52334908338957375,{"$f":"ROWS($A$3:A4175)","v":4173},"",""]
["Waikato Region","    Hikuai","..","..",138,"Hikuai",284.15589604000002,0.48564890584066583,{"$f":"ROWS($A$3:A4176)","v":4174},"",""]
["Waikato Region","    Hillcrest East (Hamilton City)","..","..",1035,"Hillcrest East (Hamilton City)",1.01716852,1017.530507137598,{"$f":"ROWS($A$3:A4177)","v":4175},"",""]
["Waikato Region","    Hillcrest West (Hamilton City)","..","..",897,"Hillcrest West (Hamilton City)",0.87054089999999995,1030.3938620230251,{"$f":"ROWS($A$3:A4178)","v":4176},"",""]
["Waikato Region","    Hilltop (Taupo District)","..","..",1242,"Hilltop (Taupo District)",2.5041891500000002,495.96892471161772,{"$f":"ROWS($A$3:A4179)","v":4177},"",""]
["Waikato Region","    Hinuera","..","..",480,"Hinuera",130.31340814000001,3.6834275678241806,{"$f":"ROWS($A$3:A4180)","v":4178},{"$f":"IF(A4180=$M$2,I4181,\"\")","v":""},""]
["Waikato Region","    Honikiwi","..","..",603,"Honikiwi",245.59353945999899,2.4552763127476873,{"$f":"ROWS($A$3:A4181)","v":4179},"",""]
["Waikato Region","    Horotiu","..","..",213,"Horotiu",3.2302778600000002,65.938600093058241,{"$f":"ROWS($A$3:A4182)","v":4180},"",""]
["Waikato Region","    Horsham Downs","..","..",258,"Horsham Downs",15.79714053,16.332069687551233,{"$f":"ROWS($A$3:A4183)","v":4181},"",""]
["Waikato Region","    Huntington","..","..",876,"Huntington",1.26251318,693.85414257615912,{"$f":"ROWS($A$3:A4184)","v":4182},"",""]
["Waikato Region","    Huntly East","..","..",1782,"Huntly East",8.7816496799999904,202.9231482620475,{"$f":"ROWS($A$3:A4185)","v":4183},"",""]
["Waikato Region","    Huntly Rural","..","..",957,"Huntly Rural",353.22828303,2.7092960727573479,{"$f":"ROWS($A$3:A4186)","v":4184},"",""]
["Waikato Region","    Huntly West","..","..",1014,"Huntly West",5.7745034799999999,175.59951318966043,{"$f":"ROWS($A$3:A4187)","v":4185},"",""]
["Waikato Region","    Inland water Lake Taupo","..","..",0,"Inland water Lake Taupo",0,{"$error":"#DIV/0!"},{"$f":"ROWS($A$3:A4188)","v":4186},"",""]
["Waikato Region","    Inlet Waitomo District","..","..",0,"Inlet Waitomo District",0,{"$error":"#DIV/0!"},{"$f":"ROWS($A$3:A4189)","v":4187},"",""]
["Waikato Region","    Inlets Otorohanga District","..","..",0,"Inlets Otorohanga District",0,{"$error":"#DIV/0!"},{"$f":"ROWS($A$3:A4190)","v":4188},"",""]
["Waikato Region","    Inlets Thames-Coromandel District","..","..",3,"Inlets Thames-Coromandel District",0,{"$error":"#DIV/0!"},{"$f":"ROWS($A$3:A4191)","v":4189},"",""]
["Waikato Region","    Inlets Waikato District","..","..",0,"Inlets Waikato District",0,{"$error":"#DIV/0!"},{"$f":"ROWS($A$3:A4192)","v":4190},"",""]
["Waikato Region","    Inlets Waikato Region","..","..",0,"Inlets Waikato Region",0,{"$error":"#DIV/0!"},{"$f":"ROWS($A$3:A4193)","v":4191},"",""]
["Waikato Region","    Islands Thames-Coromandel District","..","..",21,"Islands Thames-Coromandel District",35.385127320000002,0.59346967470512968,{"$f":"ROWS($A$3:A4194)","v":4192},"",""]
["Waikato Region","    Kahikatea","..","..",1182,"Kahikatea",0.97755502999999999,1209.1390906146737,{"$f":"ROWS($A$3:A4195)","v":4193},"",""]
["Waikato Region","    Kaimanawa","..","..",18,"Kaimanawa",1342.1737090700001,1.3411080755316168E-2,{"$f":"ROWS($A$3:A4196)","v":4194},"",""]
["Waikato Region","    Kainui-Gordonton","..","..",597,"Kainui-Gordonton",88.432758219999897,6.7508919999397108,{"$f":"ROWS($A$3:A4197)","v":4195},"",""]
["Waikato Region","    Kaipaki","..","..",582,"Kaipaki",36.522637029999899,15.935322510308934,{"$f":"ROWS($A$3:A4198)","v":4196},"",""]
["Waikato Region","    Karapiro","..","..",903,"Karapiro",190.80649502,4.7325433020786276,{"$f":"ROWS($A$3:A4199)","v":4197},"",""]
["Waikato Region","    Kauaeranga","..","..",264,"Kauaeranga",180.50262398000001,1.4625826161355506,{"$f":"ROWS($A$3:A4200)","v":4198},"",""]
["Waikato Region","    Kihikihi Central","..","..",879,"Kihikihi Central",2.2382739300000001,392.71332620131977,{"$f":"ROWS($A$3:A4201)","v":4199},"",""]
["Waikato Region","    Kinleith","..","..",639,"Kinleith",947.55249938999896,0.67436896679747638,{"$f":"ROWS($A$3:A4202)","v":4200},"",""]
["Waikato Region","    Kirikiriroa","..","..",111,"Kirikiriroa",0.50947204000000001,217.87260396075905,{"$f":"ROWS($A$3:A4203)","v":4201},"",""]
["Waikato Region","    Lake Cameron","..","..",519,"Lake Cameron",51.516233409999899,10.07449430297938,{"$f":"ROWS($A$3:A4204)","v":4202},"",""]
["Waikato Region","    Lake Ngaroto","..","..",447,"Lake Ngaroto",94.567884230000004,4.7267632520237468,{"$f":"ROWS($A$3:A4205)","v":4203},"",""]
["Waikato Region","    Lake Taupo Bays","..","..",2712,"Lake Taupo Bays",1154.6674235099899,2.3487282526391775,{"$f":"ROWS($A$3:A4206)","v":4204},"",""]
["Waikato Region","    Leamington Central","..","..",897,"Leamington Central",1.19328598,751.70580651588648,{"$f":"ROWS($A$3:A4207)","v":4205},"",""]
["Waikato Region","    Leamington East","..","..",804,"Leamington East",1.4141061699999999,568.55702708658714,{"$f":"ROWS($A$3:A4208)","v":4206},"",""]
["Waikato Region","    Leamington South","..","..",657,"Leamington South",2.2443872599999999,292.730230521804,{"$f":"ROWS($A$3:A4209)","v":4207},"",""]
["Waikato Region","    Leamington West","..","..",684,"Leamington West",1.2623075800000001,541.86476484598143,{"$f":"ROWS($A$3:A4210)","v":4208},"",""]
["Waikato Region","    Maeroa","..","..",1431,"Maeroa",1.2798826699999999,1118.0712369517435,{"$f":"ROWS($A$3:A4211)","v":4209},"",""]
["Waikato Region","    Maihiihi","..","..",741,"Maihiihi",469.06503636999901,1.5797382932960673,{"$f":"ROWS($A$3:A4212)","v":4210},"",""]
["Waikato Region","    Mangaiti","..","..",543,"Mangaiti",258.10559591999902,2.1037901098754377,{"$f":"ROWS($A$3:A4213)","v":4211},"",""]
["Waikato Region","    Mangatangi","..","..",393,"Mangatangi",257.805407,1.5244055761794011,{"$f":"ROWS($A$3:A4214)","v":4212},"",""]
["Waikato Region","    Mapara","..","..",1398,"Mapara",140.66578494999899,9.9384509210746064,{"$f":"ROWS($A$3:A4215)","v":4213},"",""]
["Waikato Region","    Maramarua","..","..",672,"Maramarua",267.66011442000001,2.510646763550016,{"$f":"ROWS($A$3:A4216)","v":4214},"",""]
["Waikato Region","    Marotiri","..","..",1380,"Marotiri",744.19100623999896,1.8543626413498404,{"$f":"ROWS($A$3:A4217)","v":4215},"",""]
["Waikato Region","    Matamata North","..","..",1407,"Matamata North",2.1319232800000001,659.96746374475538,{"$f":"ROWS($A$3:A4218)","v":4216},"",""]
["Waikato Region","    Matamata South","..","..",1899,"Matamata South",4.0260477100000003,471.6784640388675,{"$f":"ROWS($A$3:A4219)","v":4217},"",""]
["Waikato Region","    Matarawa","..","..",858,"Matarawa",1.9623730500000001,437.22573544311564,{"$f":"ROWS($A$3:A4220)","v":4218},"",""]
["Waikato Region","    Matatoki-Puriri","..","..",432,"Matatoki-Puriri",161.09379340999899,2.6816675605901152,{"$f":"ROWS($A$3:A4221)","v":4219},"",""]
["Waikato Region","    Maungatautari","..","..",351,"Maungatautari",113.00394135000001,3.1060863524473872,{"$f":"ROWS($A$3:A4222)","v":4220},"",""]
["Waikato Region","    Melville North","..","..",1110,"Melville North",0.68833641000000001,1612.5835912123259,{"$f":"ROWS($A$3:A4223)","v":4221},"",""]
["Waikato Region","    Melville South","..","..",864,"Melville South",0.98998227999999999,872.74289394351581,{"$f":"ROWS($A$3:A4224)","v":4222},"",""]
["Waikato Region","    Mercury Bay North","..","..",2724,"Mercury Bay North",305.23054245999901,8.924401791662067,{"$f":"ROWS($A$3:A4225)","v":4223},"",""]
["Waikato Region","    Mercury Bay South","..","..",1152,"Mercury Bay South",359.35416514999901,3.2057510715623416,{"$f":"ROWS($A$3:A4226)","v":4224},"",""]
["Waikato Region","    Miranda-Pukorokoro","..","..",534,{"$f":"TRIM(B4227)","v":"Miranda-Pukorokoro"},81.34040383,{"$f":"E4227/G4227","v":6.5650030594395687},{"$f":"ROWS($A$3:A4227)","v":4225},"",""]
["Waikato Region","    Miropiko","..","..",1275,"Miropiko",2.0789906600000001,613.27836845596983,{"$f":"ROWS($A$3:A4228)","v":4226},"",{"$f":"IFERROR(SMALL($J$3:$J$4612,I4228)-1,\"\")","v":""}]
["Waikato Region","    Moananui","..","..",1104,"Moananui",1.67889865,657.57393991590857,{"$f":"ROWS($A$3:A4229)","v":4227},"",""]
["Waikato Region","    Morrinsville East","..","..",1947,"Morrinsville East",3.8772011499999999,502.16636297036075,{"$f":"ROWS($A$3:A4230)","v":4228},"",""]
["Waikato Region","    Morrinsville West","..","..",1173,"Morrinsville West",3.9033163800000001,300.513687798989,{"$f":"ROWS($A$3:A4231)","v":4229},"",""]
["Waikato Region","    Mountview","..","..",1119,"Mountview",1.12441529,995.18390576136687,{"$f":"ROWS($A$3:A4232)","v":4230},"",""]
["Waikato Region","    Nawton East","..","..",1500,"Nawton East",1.3185093299999999,1137.6483775052241,{"$f":"ROWS($A$3:A4233)","v":4231},"",""]
["Waikato Region","    Nawton West","..","..",1278,"Nawton West",1.0900611099999999,1172.4113338930144,{"$f":"ROWS($A$3:A4234)","v":4232},"",""]
["Waikato Region","    Ngahinapouri","..","..",612,"Ngahinapouri",73.938375050000005,8.2771632401461588,{"$f":"ROWS($A$3:A4235)","v":4233},"",""]
["Waikato Region","    Ngakuru","..","..",723,"Ngakuru",446.40468996999903,1.6196066399942837,{"$f":"ROWS($A$3:A4236)","v":4234},"",""]
["Waikato Region","    Ngaruawahia Central","..","..",957,"Ngaruawahia Central",3.8471309699999998,248.75680278698701,{"$f":"ROWS($A$3:A4237)","v":4235},"",""]
["Waikato Region","    Ngaruawahia North","..","..",528,"Ngaruawahia North",1.1529703499999999,457.9475959637644,{"$f":"ROWS($A$3:A4238)","v":4236},"",""]
["Waikato Region","    Ngaruawahia South","..","..",612,"Ngaruawahia South",4.4238316500000003,138.34161162077675,{"$f":"ROWS($A$3:A4239)","v":4237},"",""]
["Waikato Region","    Ngatea","..","..",618,"Ngatea",3.3536851200000002,184.27490294616567,{"$f":"ROWS($A$3:A4240)","v":4238},"",""]
["Waikato Region","    Nukuhau-Rangatira Park","..","..",1218,"Nukuhau-Rangatira Park",2.8693051999999999,424.49300966659109,{"$f":"ROWS($A$3:A4241)","v":4239},"",""]
["Waikato Region","    Oaklands-St Kilda","..","..",615,"Oaklands-St Kilda",1.6823906900000001,365.55123827985517,{"$f":"ROWS($A$3:A4242)","v":4240},"",""]
["Waikato Region","    Oceanic Waikato Region East","..","..",3,"Oceanic Waikato Region East",0,{"$error":"#DIV/0!"},{"$f":"ROWS($A$3:A4243)","v":4241},"",""]
["Waikato Region","    Oceanic Waikato Region West","..","..",0,"Oceanic Waikato Region West",0,{"$error":"#DIV/0!"},{"$f":"ROWS($A$3:A4244)","v":4242},{"$f":"IF(A4244=$M$2,I4245,\"\")","v":""},""]
["Waikato Region","    Ohakuri","..","..",831,"Ohakuri",543.10499694999896,1.5300908749998228,{"$f":"ROWS($A$3:A4245)","v":4243},"",""]
["Waikato Region","    Okauia","..","..",426,"Okauia",120.03151883,3.5490678127912516,{"$f":"ROWS($A$3:A4246)","v":4244},"",""]
["Waikato Region","    Onewhero","..","..",597,"Onewhero",205.40043725999899,2.9065176684327518,{"$f":"ROWS($A$3:A4247)","v":4245},"",""]
["Waikato Region","    Otorohanga","..","..",1197,"Otorohanga",5.0734903400000002,235.93225172081435,{"$f":"ROWS($A$3:A4248)","v":4246},"",""]
["Waikato Region","    Paeroa","..","..",1881,"Paeroa",6.8696957899999997,273.81125125483908,{"$f":"ROWS($A$3:A4249)","v":4247},"",""]
["Waikato Region","    Paeroa Rural","..","..",786,"Paeroa Rural",272.56138579999902,2.883754049360292,{"$f":"ROWS($A$3:A4250)","v":4248},"",""]
["Waikato Region","    Paraonui","..","..",789,"Paraonui",2.3608626699999999,334.19987110050749,{"$f":"ROWS($A$3:A4251)","v":4249},"",""]
["Waikato Region","    Parkdale","..","..",321,"Parkdale",2.5377621800000001,126.48939389584567,{"$f":"ROWS($A$3:A4252)","v":4250},"",""]
["Waikato Region","    Pauanui","..","..",2451,"Pauanui",9.8968361100000006,247.65490433083465,{"$f":"ROWS($A$3:A4253)","v":4251},"",""]
["Waikato Region","    Peachgrove","..","..",1347,"Peachgrove",1.4355266,938.33161990868018,{"$f":"ROWS($A$3:A4254)","v":4252},"",""]
["Waikato Region","    Peacockes","..","..",150,"Peacockes",6.9328297599999997,21.636186837508614,{"$f":"ROWS($A$3:A4255)","v":4253},"",""]
["Waikato Region","    Pekerau","..","..",951,"Pekerau",2.7758522499999998,342.59748515073164,{"$f":"ROWS($A$3:A4256)","v":4254},"",""]
["Waikato Region","    Pirongia","..","..",453,"Pirongia",3.2699143400000001,138.53573913498909,{"$f":"ROWS($A$3:A4257)","v":4255},"",""]
["Waikato Region","    Pirongia Forest","..","..",828,"Pirongia Forest",490.81321301999901,1.6869961485047913,{"$f":"ROWS($A$3:A4258)","v":4256},"",""]
["Waikato Region","    Pokeno","..","..",945,"Pokeno",6.4398719900000003,146.74204727476268,{"$f":"ROWS($A$3:A4259)","v":4257},"",""]
["Waikato Region","    Pokeno Rural","..","..",618,"Pokeno Rural",88.627618659999897,6.9729956569274334,{"$f":"ROWS($A$3:A4260)","v":4258},"",""]
["Waikato Region","    Pokuru","..","..",534,"Pokuru",109.19892597,4.8901579869632119,{"$f":"ROWS($A$3:A4261)","v":4259},"",""]
["Waikato Region","    Porritt","..","..",915,"Porritt",1.2339124800000001,741.54367901360388,{"$f":"ROWS($A$3:A4262)","v":4260},"",""]
["Waikato Region","    Port Waikato-Waikaretu","..","..",555,"Port Waikato-Waikaretu",210.118007879999,2.6413728437639072,{"$f":"ROWS($A$3:A4263)","v":4261},"",""]
["Waikato Region","    Pukekawa","..","..",540,"Pukekawa",140.86462885,3.8334676661450628,{"$f":"ROWS($A$3:A4264)","v":4262},"",""]
["Waikato Region","    Pukemoremore","..","..",834,"Pukemoremore",43.276964669999899,19.271222146920543,{"$f":"ROWS($A$3:A4265)","v":4263},"",""]
["Waikato Region","    Pukerimu","..","..",366,"Pukerimu",77.245796830000003,4.7381218787279868,{"$f":"ROWS($A$3:A4266)","v":4264},"",""]
["Waikato Region","    Pukete East","..","..",858,"Pukete East",1.0913442900000001,786.18636470806098,{"$f":"ROWS($A$3:A4267)","v":4265},"",""]
["Waikato Region","    Pukete West","..","..",744,"Pukete West",0.83971819999999997,886.01152148423125,{"$f":"ROWS($A$3:A4268)","v":4266},"",""]
["Waikato Region","    Puniu","..","..",495,"Puniu",674.00925519999896,0.73441128023252222,{"$f":"ROWS($A$3:A4269)","v":4267},"",""]
["Waikato Region","    Putararu","..","..",1803,"Putararu",6.8121209299999999,264.67527786533293,{"$f":"ROWS($A$3:A4270)","v":4268},"",""]
["Waikato Region","    Putararu Rural","..","..",1002,"Putararu Rural",555.81509012000004,1.8027578196620553,{"$f":"ROWS($A$3:A4271)","v":4269},"",""]
["Waikato Region","    Queenwood (Hamilton City)","..","..",906,"Queenwood (Hamilton City)",1.4886288299999999,608.61376707315287,{"$f":"ROWS($A$3:A4272)","v":4270},"",""]
["Waikato Region","    Raglan","..","..",1803,"Raglan",4.9027098899999997,367.75580045589851,{"$f":"ROWS($A$3:A4273)","v":4271},"",""]
["Waikato Region","    Rangiriri","..","..",552,"Rangiriri",137.34016865999899,4.0192174320576086,{"$f":"ROWS($A$3:A4274)","v":4272},"",""]
["Waikato Region","    Resthill","..","..",897,"Resthill",1.1213660299999999,799.91722238990963,{"$f":"ROWS($A$3:A4275)","v":4273},"",""]
["Waikato Region","    Richmond Downs-Wardville","..","..",507,"Richmond Downs-Wardville",206.66719247,2.4532195649466551,{"$f":"ROWS($A$3:A4276)","v":4274},"",""]
["Waikato Region","    Richmond Heights","..","..",1173,"Richmond Heights",1.37184785,855.05109039606691,{"$f":"ROWS($A$3:A4277)","v":4275},"",""]
["Waikato Region","    Riverlea","..","..",1023,"Riverlea",1.7394653200000001,588.11175378880216,{"$f":"ROWS($A$3:A4278)","v":4276},"",""]
["Waikato Region","    Rotokauri","..","..",351,"Rotokauri",15.640355550000001,22.44194506179241,{"$f":"ROWS($A$3:A4279)","v":4277},"",""]
["Waikato Region","    Rotokauri-Waiwhakareke","..","..",195,"Rotokauri-Waiwhakareke",7.1013538,27.459552853147521,{"$f":"ROWS($A$3:A4280)","v":4278},"",""]
["Waikato Region","    Rotongata","..","..",354,"Rotongata",211.59729393000001,1.672989259102289,{"$f":"ROWS($A$3:A4281)","v":4279},"",""]
["Waikato Region","    Rotoorangi","..","..",663,"Rotoorangi",182.15392903,3.6397787493829279,{"$f":"ROWS($A$3:A4282)","v":4280},"",""]
["Waikato Region","    Rototuna Central","..","..",1506,"Rototuna Central",1.44366123,1043.1810238472638,{"$f":"ROWS($A$3:A4283)","v":4281},"",""]
["Waikato Region","    Rototuna North","..","..",261,"Rototuna North",2.6647293699999999,97.946156535963723,{"$f":"ROWS($A$3:A4284)","v":4282},"",""]
["Waikato Region","    Rototuna South","..","..",1557,"Rototuna South",1.97767227,787.28919023575122,{"$f":"ROWS($A$3:A4285)","v":4283},"",""]
["Waikato Region","    Ruakura","..","..",225,"Ruakura",9.0247155899999996,24.931533604152062,{"$f":"ROWS($A$3:A4286)","v":4284},"",""]
["Waikato Region","    Saint Andrews East","..","..",1038,"Saint Andrews East",1.5942337200000001,651.09650296444613,{"$f":"ROWS($A$3:A4287)","v":4285},"",""]
["Waikato Region","    Saint Andrews West","..","..",1020,"Saint Andrews West",1.0059517200000001,1013.9651632585309,{"$f":"ROWS($A$3:A4288)","v":4286},"",""]
["Waikato Region","    Sherwin Park","..","..",813,"Sherwin Park",2.1390401200000002,380.07702258525188,{"$f":"ROWS($A$3:A4289)","v":4287},"",""]
["Waikato Region","    Silverdale (Hamilton City)","..","..",783,"Silverdale (Hamilton City)",0.80221816000000001,976.04372356766396,{"$f":"ROWS($A$3:A4290)","v":4288},"",""]
["Waikato Region","    St James","..","..",597,{"$f":"TRIM(B4291)","v":"St James"},0.73392729000000001,{"$f":"E4291/G4291","v":813.43207717483835},{"$f":"ROWS($A$3:A4291)","v":4289},"",""]
["Waikato Region","    St Leger","..","..",198,"St Leger",7.8542817600000001,25.20917966151497,{"$f":"ROWS($A$3:A4292)","v":4290},"",{"$f":"IFERROR(SMALL($J$3:$J$4612,I4292)-1,\"\")","v":""}]
["Waikato Region","    Stanley Park","..","..",906,"Stanley Park",1.15485814,784.51194014184284,{"$f":"ROWS($A$3:A4293)","v":4291},"",""]
["Waikato Region","    Strathmore (South Waikato District)","..","..",891,"Strathmore (South Waikato District)",1.24891011,713.42204123882061,{"$f":"ROWS($A$3:A4294)","v":4292},"",""]
["Waikato Region","    Swarbrick","..","..",1056,"Swarbrick",0.50570515999999999,2088.1732747199972,{"$f":"ROWS($A$3:A4295)","v":4293},"",""]
["Waikato Region","    Tahuna-Mangateparu","..","..",627,"Tahuna-Mangateparu",238.936406879999,2.6241291906381523,{"$f":"ROWS($A$3:A4296)","v":4294},"",""]
["Waikato Region","    Tahuroa","..","..",675,"Tahuroa",181.86633688000001,3.7115169941833823,{"$f":"ROWS($A$3:A4297)","v":4295},"",""]
["Waikato Region","    Tairua","..","..",1542,"Tairua",4.1716639500000001,369.63667699072454,{"$f":"ROWS($A$3:A4298)","v":4296},"",""]
["Waikato Region","    Tamahere North","..","..",1395,"Tamahere North",18.67399786,74.702803891185624,{"$f":"ROWS($A$3:A4299)","v":4297},"",""]
["Waikato Region","    Tamahere South","..","..",720,"Tamahere South",38.836614169999898,18.539206246155672,{"$f":"ROWS($A$3:A4300)","v":4298},"",""]
["Waikato Region","    Tatuanui","..","..",528,"Tatuanui",144.45964860000001,3.6549998917829289,{"$f":"ROWS($A$3:A4301)","v":4299},"",""]
["Waikato Region","    Tauhara","..","..",684,"Tauhara",11.70949371,58.41413958110406,{"$f":"ROWS($A$3:A4302)","v":4300},"",""]
["Waikato Region","    Taupiri-Lake Kainui","..","..",828,"Taupiri-Lake Kainui",49.76237579,16.639076950308926,{"$f":"ROWS($A$3:A4303)","v":4301},"",""]
["Waikato Region","    Taupo Central East","..","..",1107,"Taupo Central East",1.09504644,1010.9160301913771,{"$f":"ROWS($A$3:A4304)","v":4302},"",""]
["Waikato Region","    Taupo Central West","..","..",246,"Taupo Central West",1.36486547,180.2375438511167,{"$f":"ROWS($A$3:A4305)","v":4303},"",""]
["Waikato Region","    Te Akau","..","..",864,"Te Akau",804.11799782000003,1.0744691728606284,{"$f":"ROWS($A$3:A4306)","v":4304},"",""]
["Waikato Region","    Te Aroha East","..","..",1176,"Te Aroha East",4.6806730300000003,251.24591964929451,{"$f":"ROWS($A$3:A4307)","v":4305},"",""]
["Waikato Region","    Te Aroha West","..","..",804,"Te Aroha West",6.2933750699999997,127.75339004226869,{"$f":"ROWS($A$3:A4308)","v":4306},{"$f":"IF(A4308=$M$2,I4309,\"\")","v":""},""]
["Waikato Region","    Te Awamutu Central","..","..",198,"Te Awamutu Central",0.71240625000000002,277.93130675088827,{"$f":"ROWS($A$3:A4309)","v":4307},"",""]
["Waikato Region","    Te Awamutu North","..","..",414,"Te Awamutu North",2.81794806,146.91541191855751,{"$f":"ROWS($A$3:A4310)","v":4308},"",""]
["Waikato Region","    Te Awamutu Stadium","..","..",717,"Te Awamutu Stadium",1.1658443599999999,615.0049051144357,{"$f":"ROWS($A$3:A4311)","v":4309},"",""]
["Waikato Region","    Te Awamutu West","..","..",504,"Te Awamutu West",0.78264233000000005,643.97232385833252,{"$f":"ROWS($A$3:A4312)","v":4310},"",""]
["Waikato Region","    Te Kauwhata","..","..",666,"Te Kauwhata",1.73961842,382.8425776268798,{"$f":"ROWS($A$3:A4313)","v":4311},"",""]
["Waikato Region","    Te Kawa","..","..",435,"Te Kawa",114.61778193000001,3.7952226319094673,{"$f":"ROWS($A$3:A4314)","v":4312},"",""]
["Waikato Region","    Te Kowhai","..","..",753,"Te Kowhai",44.94853011,16.752494423226423,{"$f":"ROWS($A$3:A4315)","v":4313},"",""]
["Waikato Region","    Te Kuiti East","..","..",765,"Te Kuiti East",5.8258709900000003,131.31083769501734,{"$f":"ROWS($A$3:A4316)","v":4314},"",""]
["Waikato Region","    Te Kuiti West","..","..",996,"Te Kuiti West",2.59161785,384.31592065165006,{"$f":"ROWS($A$3:A4317)","v":4315},"",""]
["Waikato Region","    Te Manatu","..","..",1176,"Te Manatu",1.32591108,886.93730502651806,{"$f":"ROWS($A$3:A4318)","v":4316},"",""]
["Waikato Region","    Te Pahu","..","..",540,"Te Pahu",158.162208359999,3.4142163643219088,{"$f":"ROWS($A$3:A4319)","v":4317},"",""]
["Waikato Region","    Te Poi","..","..",324,"Te Poi",127.850616239999,2.534207573875066,{"$f":"ROWS($A$3:A4320)","v":4318},"",""]
["Waikato Region","    Te Rahu","..","..",444,"Te Rahu",55.22999875,8.0391093617397562,{"$f":"ROWS($A$3:A4321)","v":4319},"",""]
["Waikato Region","    Te Rapa North","..","..",69,"Te Rapa North",9.2436361599999906,7.4645949716826667,{"$f":"ROWS($A$3:A4322)","v":4320},"",""]
["Waikato Region","    Te Rapa South","..","..",48,"Te Rapa South",3.9154069900000001,12.259261967553467,{"$f":"ROWS($A$3:A4323)","v":4321},"",""]
["Waikato Region","    Te Uku","..","..",1134,"Te Uku",549.66687502000002,2.0630677443656009,{"$f":"ROWS($A$3:A4324)","v":4322},"",""]
["Waikato Region","    Temple View","..","..",354,"Temple View",4.3730886599999996,80.949650812705002,{"$f":"ROWS($A$3:A4325)","v":4323},"",""]
["Waikato Region","    Thames Central","..","..",573,"Thames Central",1.2730344899999999,450.1056369651069,{"$f":"ROWS($A$3:A4326)","v":4324},"",""]
["Waikato Region","    Thames Coast","..","..",1245,"Thames Coast",116.10186822,10.723341657524966,{"$f":"ROWS($A$3:A4327)","v":4325},"",""]
["Waikato Region","    Thames North","..","..",1086,"Thames North",2.6221864799999999,414.15818755956673,{"$f":"ROWS($A$3:A4328)","v":4326},"",""]
["Waikato Region","    Thames South","..","..",1452,"Thames South",3.2785497100000001,442.87875079984678,{"$f":"ROWS($A$3:A4329)","v":4327},"",""]
["Waikato Region","    Tirau","..","..",978,"Tirau",293.07679766000001,3.3370093020280067,{"$f":"ROWS($A$3:A4330)","v":4328},"",""]
["Waikato Region","    Tokanui","..","..",153,"Tokanui",23.700234420000001,6.4556323489731957,{"$f":"ROWS($A$3:A4331)","v":4329},"",""]
["Waikato Region","    Tokoroa Central","..","..",441,"Tokoroa Central",4.7020595199999997,93.788689429435379,{"$f":"ROWS($A$3:A4332)","v":4330},"",""]
["Waikato Region","    Totora-Kopu","..","..",363,"Totora-Kopu",8.3894921599999996,43.268411612652372,{"$f":"ROWS($A$3:A4333)","v":4331},"",""]
["Waikato Region","    Tuakau North","..","..",1128,"Tuakau North",2.6947835800000002,418.5864899770541,{"$f":"ROWS($A$3:A4334)","v":4332},"",""]
["Waikato Region","    Tuakau Rural","..","..",579,"Tuakau Rural",46.000822059999898,12.586731585900734,{"$f":"ROWS($A$3:A4335)","v":4333},"",""]
["Waikato Region","    Tuakau South","..","..",630,"Tuakau South",2.6591573899999998,236.91715367024591,{"$f":"ROWS($A$3:A4336)","v":4334},"",""]
["Waikato Region","    Turangi","..","..",2028,"Turangi",7.5323699299999998,269.23797142820359,{"$f":"ROWS($A$3:A4337)","v":4335},"",""]
["Waikato Region","    Waerenga","..","..",378,"Waerenga",261.72617739999902,1.4442575204172199,{"$f":"ROWS($A$3:A4338)","v":4336},"",""]
["Waikato Region","    Waharoa-Peria","..","..",513,"Waharoa-Peria",74.203161069999894,6.9134521036921743,{"$f":"ROWS($A$3:A4339)","v":4337},"",""]
["Waikato Region","    Waihi East","..","..",636,"Waihi East",4.0778932599999997,155.96288560039457,{"$f":"ROWS($A$3:A4340)","v":4338},"",""]
["Waikato Region","    Waihi North","..","..",771,"Waihi North",2.63486749,292.61433560744263,{"$f":"ROWS($A$3:A4341)","v":4339},"",""]
["Waikato Region","    Waihi Rural","..","..",1365,"Waihi Rural",375.75229172000002,3.6327123748247407,{"$f":"ROWS($A$3:A4342)","v":4340},"",""]
["Waikato Region","    Waihi South","..","..",1068,"Waihi South",2.6947887499999998,396.32049079913963,{"$f":"ROWS($A$3:A4343)","v":4341},"",""]
["Waikato Region","    Waihou-Manawaru","..","..",471,"Waihou-Manawaru",140.78796695,3.3454563639467345,{"$f":"ROWS($A$3:A4344)","v":4342},"",""]
["Waikato Region","    Waipa Valley","..","..",570,"Waipa Valley",817.65608004000001,0.69711461079347126,{"$f":"ROWS($A$3:A4345)","v":4343},"",""]
["Waikato Region","    Waipahihi","..","..",1152,"Waipahihi",2.5551779400000001,450.84922735361437,{"$f":"ROWS($A$3:A4346)","v":4344},"",""]
["Waikato Region","    Wairakei-Broadlands","..","..",474,"Wairakei-Broadlands",409.99542881999901,1.1561104507048079,{"$f":"ROWS($A$3:A4347)","v":4345},"",""]
["Waikato Region","    Waitahanui","..","..",450,"Waitahanui",119.87490192,3.7539133946513097,{"$f":"ROWS($A$3:A4348)","v":4346},"",""]
["Waikato Region","    Waitoa-Ngarua","..","..",471,"Waitoa-Ngarua",107.2726301,4.3906819433897706,{"$f":"ROWS($A$3:A4349)","v":4347},"",""]
["Waikato Region","    Western Heights (Hamilton City)","..","..",990,"Western Heights (Hamilton City)",1.0715211600000001,923.92015851558165,{"$f":"ROWS($A$3:A4350)","v":4348},"",""]
["Waikato Region","    Whangamata","..","..",4743,"Whangamata",8.4599032899999997,560.64470684983451,{"$f":"ROWS($A$3:A4351)","v":4349},"",""]
["Waikato Region","    Whangamata Rural","..","..",588,"Whangamata Rural",153.639122869999,3.8271502011732608,{"$f":"ROWS($A$3:A4352)","v":4350},"",""]
["Waikato Region","    Wharewaka","..","..",744,"Wharewaka",6.4625976200000004,115.12398632053467,{"$f":"ROWS($A$3:A4353)","v":4351},"",""]
["Waikato Region","    Whatawhata East","..","..",942,"Whatawhata East",47.459330700000002,19.848573212179748,{"$f":"ROWS($A$3:A4354)","v":4352},"",""]
["Waikato Region","    Whatawhata West","..","..",183,{"$f":"TRIM(B4355)","v":"Whatawhata West"},49.901880660000003,{"$f":"E4355/G4355","v":3.6671964579220329},{"$f":"ROWS($A$3:A4355)","v":4353},"",""]
["Waikato Region","    Whitianga North","..","..",1134,"Whitianga North",12.5136193099999,90.621264072960599,{"$f":"ROWS($A$3:A4356)","v":4354},"",{"$f":"IFERROR(SMALL($J$3:$J$4612,I4356)-1,\"\")","v":""}]
["Waikato Region","    Whitianga South","..","..",2736,"Whitianga South",4.82697456,566.81467159006536,{"$f":"ROWS($A$3:A4357)","v":4355},"",""]
["Waikato Region","    Whitikahu","..","..",717,"Whitikahu",253.62687467999899,2.8269874827130952,{"$f":"ROWS($A$3:A4358)","v":4356},"",""]
["Waikato Region","    Whitiora","..","..",1254,"Whitiora",0.90554718999999995,1384.7980688891544,{"$f":"ROWS($A$3:A4359)","v":4357},"",""]
["Wellington Region","    Akatarawa","..","..",270,"Akatarawa",334.14446322999902,0.80803373903027398,{"$f":"ROWS($A$3:A4360)","v":4358},"",""]
["Wellington Region","    Alicetown-Melling","..","..",1158,"Alicetown-Melling",1.2554185899999999,922.40150753224077,{"$f":"ROWS($A$3:A4361)","v":4359},"",""]
["Wellington Region","    Aorangi Forest","..","..",1143,"Aorangi Forest",1579.0798058400001,0.72383928650900264,{"$f":"ROWS($A$3:A4362)","v":4360},"",""]
["Wellington Region","    Aotea","..","..",1143,"Aotea",2.6787768500000002,426.68727706826343,{"$f":"ROWS($A$3:A4363)","v":4361},"",""]
["Wellington Region","    Arakura","..","..",951,"Arakura",1.9607985999999999,485.00646624288697,{"$f":"ROWS($A$3:A4364)","v":4362},"",""]
["Wellington Region","    Aro Valley","..","..",1584,"Aro Valley",1.2464355199999999,1270.823860988814,{"$f":"ROWS($A$3:A4365)","v":4363},"",""]
["Wellington Region","    Ascot Park","..","..",831,"Ascot Park",1.119596,742.23201940700039,{"$f":"ROWS($A$3:A4366)","v":4364},"",""]
["Wellington Region","    Avalon East","..","..",999,"Avalon East",0.81383753000000003,1227.5177331770383,{"$f":"ROWS($A$3:A4367)","v":4365},"",""]
["Wellington Region","    Avalon West","..","..",1083,"Avalon West",1.2108603899999999,894.40534098237379,{"$f":"ROWS($A$3:A4368)","v":4366},"",""]
["Wellington Region","    Belmont (Lower Hutt City)","..","..",981,"Belmont (Lower Hutt City)",2.36254907,415.22947076819867,{"$f":"ROWS($A$3:A4369)","v":4367},"",""]
["Wellington Region","    Belmont Park","..","..",123,"Belmont Park",29.471689820000002,4.1734966929697412,{"$f":"ROWS($A$3:A4370)","v":4368},"",""]
["Wellington Region","    Berhampore","..","..",1674,"Berhampore",1.3970749899999999,1198.2177134242452,{"$f":"ROWS($A$3:A4371)","v":4369},"",""]
["Wellington Region","    Birchville-Brown Owl","..","..",1362,"Birchville-Brown Owl",8.8928953699999997,153.15596814448972,{"$f":"ROWS($A$3:A4372)","v":4370},{"$f":"IF(A4372=$M$2,I4373,\"\")","v":""},""]
["Wellington Region","    Boulcott","..","..",990,"Boulcott",1.58246938,625.60452196553717,{"$f":"ROWS($A$3:A4373)","v":4371},"",""]
["Wellington Region","    Brentwood (Upper Hutt City)","..","..",831,"Brentwood (Upper Hutt City)",0.98266197,845.662115121846,{"$f":"ROWS($A$3:A4374)","v":4372},"",""]
["Wellington Region","    Broadmeadows","..","..",621,"Broadmeadows",0.64028777000000003,969.87640416745739,{"$f":"ROWS($A$3:A4375)","v":4373},"",""]
["Wellington Region","    Brooklyn East","..","..",1206,"Brooklyn East",0.90513951999999998,1332.3912759880377,{"$f":"ROWS($A$3:A4376)","v":4374},"",""]
["Wellington Region","    Brooklyn North","..","..",855,"Brooklyn North",1.2435323199999999,687.55752162517183,{"$f":"ROWS($A$3:A4377)","v":4375},"",""]
["Wellington Region","    Brooklyn South","..","..",690,"Brooklyn South",1.82876796,377.30319815970529,{"$f":"ROWS($A$3:A4378)","v":4376},"",""]
["Wellington Region","    Camborne","..","..",753,"Camborne",0.83508937000000005,901.69989829950771,{"$f":"ROWS($A$3:A4379)","v":4377},"",""]
["Wellington Region","    Cameron and Soldiers Park","..","..",969,"Cameron and Soldiers Park",1.4863701,651.92377053332814,{"$f":"ROWS($A$3:A4380)","v":4378},"",""]
["Wellington Region","    Cannons Creek East","..","..",990,"Cannons Creek East",1.4560480899999999,679.92259788617287,{"$f":"ROWS($A$3:A4381)","v":4379},"",""]
["Wellington Region","    Cannons Creek North","..","..",969,"Cannons Creek North",1.05691822,916.81644015939094,{"$f":"ROWS($A$3:A4382)","v":4380},"",""]
["Wellington Region","    Cannons Creek South","..","..",447,"Cannons Creek South",1.40795973,317.48067112686527,{"$f":"ROWS($A$3:A4383)","v":4381},"",""]
["Wellington Region","    Carterton North","..","..",1206,"Carterton North",2.36091272,510.81939191720733,{"$f":"ROWS($A$3:A4384)","v":4382},"",""]
["Wellington Region","    Carterton South","..","..",1236,"Carterton South",2.9366451100000002,420.88844708920237,{"$f":"ROWS($A$3:A4385)","v":4383},"",""]
["Wellington Region","    Churton Park North","..","..",1314,"Churton Park North",4.7104913499999999,278.9517913030453,{"$f":"ROWS($A$3:A4386)","v":4384},"",""]
["Wellington Region","    Churton Park South","..","..",1236,"Churton Park South",1.25145963,987.64672097333255,{"$f":"ROWS($A$3:A4387)","v":4385},"",""]
["Wellington Region","    Clouston Park","..","..",918,"Clouston Park",1.15083213,797.68367259610659,{"$f":"ROWS($A$3:A4388)","v":4386},"",""]
["Wellington Region","    Courtenay","..","..",966,"Courtenay",0.32440939000000002,2977.7189864941947,{"$f":"ROWS($A$3:A4389)","v":4387},"",""]
["Wellington Region","    Crofton Downs","..","..",660,"Crofton Downs",1.3105306299999999,503.61279995416822,{"$f":"ROWS($A$3:A4390)","v":4388},"",""]
["Wellington Region","    Delaney","..","..",909,"Delaney",2.0684293,439.4638965905192,{"$f":"ROWS($A$3:A4391)","v":4389},"",""]
["Wellington Region","    Dixon Street","..","..",1827,"Dixon Street",0.30273105,6035.0598328119959,{"$f":"ROWS($A$3:A4392)","v":4390},"",""]
["Wellington Region","    Douglas Park","..","..",876,"Douglas Park",1.20827639,724.99968322645122,{"$f":"ROWS($A$3:A4393)","v":4391},"",""]
["Wellington Region","    Eastbourne","..","..",1188,"Eastbourne",1.9275011399999999,616.34204792221294,{"$f":"ROWS($A$3:A4394)","v":4392},"",""]
["Wellington Region","    Eastern Bays","..","..",888,"Eastern Bays",1.92632015,460.98256304903418,{"$f":"ROWS($A$3:A4395)","v":4393},"",""]
["Wellington Region","    Ebdentown","..","..",1113,"Ebdentown",0.91106542000000001,1221.6466299423371,{"$f":"ROWS($A$3:A4396)","v":4394},"",""]
["Wellington Region","    Elderslea","..","..",1296,"Elderslea",1.39533858,928.80682765899007,{"$f":"ROWS($A$3:A4397)","v":4395},"",""]
["Wellington Region","    Elsdon-Takapuwahia","..","..",750,"Elsdon-Takapuwahia",10.29954961,72.818718138103137,{"$f":"ROWS($A$3:A4398)","v":4396},"",""]
["Wellington Region","    Endeavour","..","..",1563,"Endeavour",3.1225652899999998,500.54998209501014,{"$f":"ROWS($A$3:A4399)","v":4397},"",""]
["Wellington Region","    Epuni East","..","..",1167,"Epuni East",1.00387735,1162.4926092814028,{"$f":"ROWS($A$3:A4400)","v":4398},"",""]
["Wellington Region","    Epuni West","..","..",1248,"Epuni West",0.98698622999999996,1264.4553308509685,{"$f":"ROWS($A$3:A4401)","v":4399},"",""]
["Wellington Region","    Evans Bay","..","..",468,"Evans Bay",0.35073762000000003,1334.330774098313,{"$f":"ROWS($A$3:A4402)","v":4400},"",""]
["Wellington Region","    Featherston","..","..",1176,"Featherston",3.1817131500000002,369.61220089875167,{"$f":"ROWS($A$3:A4403)","v":4401},"",""]
["Wellington Region","    Forest Lakes (Kapiti Coast District)","..","..",294,"Forest Lakes (Kapiti Coast District)",38.094854490000003,7.7175777132099492,{"$f":"ROWS($A$3:A4404)","v":4402},"",""]
["Wellington Region","    Gladstone (Carterton District)","..","..",447,"Gladstone (Carterton District)",621.33296292,0.71942102974754563,{"$f":"ROWS($A$3:A4405)","v":4403},"",""]
["Wellington Region","    Glendale","..","..",1308,"Glendale",3.20897933,407.60624033062874,{"$f":"ROWS($A$3:A4406)","v":4404},"",""]
["Wellington Region","    Gracefield","..","..",99,"Gracefield",3.74696103,26.42141170067093,{"$f":"ROWS($A$3:A4407)","v":4405},"",""]
["Wellington Region","    Grenada North","..","..",768,"Grenada North",5.7895455199999999,132.65289949736848,{"$f":"ROWS($A$3:A4408)","v":4406},"",""]
["Wellington Region","    Grenada Village","..","..",606,"Grenada Village",1.4520184,417.35008316699015,{"$f":"ROWS($A$3:A4409)","v":4407},"",""]
["Wellington Region","    Greytown","..","..",1263,"Greytown",5.0701537099999996,249.10487378498038,{"$f":"ROWS($A$3:A4410)","v":4408},"",""]
["Wellington Region","    Hataitai North","..","..",1584,"Hataitai North",1.06277295,1490.4406439776246,{"$f":"ROWS($A$3:A4411)","v":4409},"",""]
["Wellington Region","    Hataitai South","..","..",621,"Hataitai South",0.42817814999999998,1450.3308961468492,{"$f":"ROWS($A$3:A4412)","v":4410},"",""]
["Wellington Region","    Heretaunga","..","..",981,"Heretaunga",3.2609463999999999,300.83291157438219,{"$f":"ROWS($A$3:A4413)","v":4411},"",""]
["Wellington Region","    Homebush-Te Ore Ore","..","..",435,"Homebush-Te Ore Ore",103.12088226,4.2183502552201686,{"$f":"ROWS($A$3:A4414)","v":4412},"",""]
["Wellington Region","    Homedale East","..","..",1080,"Homedale East",2.90986396,371.15137162632163,{"$f":"ROWS($A$3:A4415)","v":4413},"",""]
["Wellington Region","    Homedale West","..","..",963,"Homedale West",1.3149114799999999,732.36869146507115,{"$f":"ROWS($A$3:A4416)","v":4414},"",""]
["Wellington Region","    Houghton Bay","..","..",693,"Houghton Bay",1.2879488100000001,538.06486299715584,{"$f":"ROWS($A$3:A4417)","v":4415},"",""]
["Wellington Region","    Hutt Central North","..","..",471,"Hutt Central North",1.07096977,439.78832381048437,{"$f":"ROWS($A$3:A4418)","v":4416},"",""]
["Wellington Region","    Hutt Central South","..","..",1227,{"$f":"TRIM(B4419)","v":"Hutt Central South"},1.2941828,{"$f":"E4419/G4419","v":948.08863168325217},{"$f":"ROWS($A$3:A4419)","v":4417},"",""]
["Wellington Region","    Inland water Lake Wairarapa","..","..",0,"Inland water Lake Wairarapa",0,{"$error":"#DIV/0!"},{"$f":"ROWS($A$3:A4420)","v":4418},"",{"$f":"IFERROR(SMALL($J$3:$J$4612,I4420)-1,\"\")","v":""}]
["Wellington Region","    Inlet Porirua Harbour","..","..",0,"Inlet Porirua Harbour",0,{"$error":"#DIV/0!"},{"$f":"ROWS($A$3:A4421)","v":4419},"",""]
["Wellington Region","    Inlet Wellington Harbour","..","..",0,"Inlet Wellington Harbour",0,{"$error":"#DIV/0!"},{"$f":"ROWS($A$3:A4422)","v":4420},"",""]
["Wellington Region","    Island Bay East","..","..",1323,"Island Bay East",0.98299994000000002,1345.8800414575815,{"$f":"ROWS($A$3:A4423)","v":4421},"",""]
["Wellington Region","    Island Bay West","..","..",1245,"Island Bay West",1.16832643,1065.6268385540161,{"$f":"ROWS($A$3:A4424)","v":4422},"",""]
["Wellington Region","    Johnsonville Central","..","..",1137,"Johnsonville Central",0.95242249999999995,1193.7979205657155,{"$f":"ROWS($A$3:A4425)","v":4423},"",""]
["Wellington Region","    Johnsonville North","..","..",1176,"Johnsonville North",0.89334345999999998,1316.4029879392635,{"$f":"ROWS($A$3:A4426)","v":4424},"",""]
["Wellington Region","    Johnsonville South","..","..",711,"Johnsonville South",0.7106867,1000.4408412314456,{"$f":"ROWS($A$3:A4427)","v":4425},"",""]
["Wellington Region","    Johnsonville West","..","..",1203,"Johnsonville West",1.1761807799999999,1022.8019539649339,{"$f":"ROWS($A$3:A4428)","v":4426},"",""]
["Wellington Region","    Kahutara","..","..",522,"Kahutara",457.40019102999901,1.1412325797777469,{"$f":"ROWS($A$3:A4429)","v":4427},"",""]
["Wellington Region","    Kapiti Island","..","..",6,"Kapiti Island",19.258515209999899,0.3115504977706966,{"$f":"ROWS($A$3:A4430)","v":4428},"",""]
["Wellington Region","    Karaka Bay-Worser Bay","..","..",636,"Karaka Bay-Worser Bay",0.67415910000000001,943.3974858457002,{"$f":"ROWS($A$3:A4431)","v":4429},"",""]
["Wellington Region","    Karori East","..","..",1302,"Karori East",1.22979795,1058.7104979317944,{"$f":"ROWS($A$3:A4432)","v":4430},"",""]
["Wellington Region","    Karori North","..","..",987,"Karori North",1.61965979,609.38723434012024,{"$f":"ROWS($A$3:A4433)","v":4431},"",""]
["Wellington Region","    Karori Park","..","..",1737,"Karori Park",2.0274424600000001,856.74441285993385,{"$f":"ROWS($A$3:A4434)","v":4432},"",""]
["Wellington Region","    Karori South","..","..",1617,"Karori South",1.4014139800000001,1153.8346434934238,{"$f":"ROWS($A$3:A4435)","v":4433},"",""]
["Wellington Region","    Kelburn","..","..",801,"Kelburn",0.49662318,1612.892897991592,{"$f":"ROWS($A$3:A4436)","v":4434},{"$f":"IF(A4436=$M$2,I4437,\"\")","v":""},""]
["Wellington Region","    Kelson","..","..",1041,"Kelson",5.3577173800000004,194.29916252880065,{"$f":"ROWS($A$3:A4437)","v":4435},"",""]
["Wellington Region","    Khandallah North","..","..",1041,"Khandallah North",1.0184311699999999,1022.1603881193072,{"$f":"ROWS($A$3:A4438)","v":4436},"",""]
["Wellington Region","    Khandallah Reserve","..","..",774,"Khandallah Reserve",1.1655403499999999,664.06967377834678,{"$f":"ROWS($A$3:A4439)","v":4437},"",""]
["Wellington Region","    Khandallah South","..","..",780,"Khandallah South",0.72508826999999998,1075.731096849767,{"$f":"ROWS($A$3:A4440)","v":4438},"",""]
["Wellington Region","    Kilbirnie Central","..","..",1176,"Kilbirnie Central",0.97209153000000004,1209.7626238961263,{"$f":"ROWS($A$3:A4441)","v":4439},"",""]
["Wellington Region","    Kilbirnie East","..","..",849,"Kilbirnie East",0.47662376000000001,1781.2792211617818,{"$f":"ROWS($A$3:A4442)","v":4440},"",""]
["Wellington Region","    Kingston-Mornington-Vogeltown","..","..",1308,"Kingston-Mornington-Vogeltown",0.98836206000000004,1323.401669222309,{"$f":"ROWS($A$3:A4443)","v":4441},"",""]
["Wellington Region","    Kokotau","..","..",504,"Kokotau",120.46382134,4.1838287578267854,{"$f":"ROWS($A$3:A4444)","v":4442},"",""]
["Wellington Region","    Kopuaranga","..","..",405,"Kopuaranga",458.25262168,0.88379199777456685,{"$f":"ROWS($A$3:A4445)","v":4443},"",""]
["Wellington Region","    Korokoro","..","..",570,"Korokoro",1.8494290900000001,308.20321962168333,{"$f":"ROWS($A$3:A4446)","v":4444},"",""]
["Wellington Region","    Kuripuni","..","..",699,"Kuripuni",1.25705596,556.0611637368952,{"$f":"ROWS($A$3:A4447)","v":4445},"",""]
["Wellington Region","    Lansdowne East","..","..",1167,"Lansdowne East",3.3261858700000002,350.85231120893434,{"$f":"ROWS($A$3:A4448)","v":4446},"",""]
["Wellington Region","    Lansdowne West","..","..",699,"Lansdowne West",2.2680044499999998,308.20045348676456,{"$f":"ROWS($A$3:A4449)","v":4447},"",""]
["Wellington Region","    Linden","..","..",1224,"Linden",1.1175674099999999,1095.2359464383451,{"$f":"ROWS($A$3:A4450)","v":4448},"",""]
["Wellington Region","    Lyall Bay","..","..",1095,"Lyall Bay",0.54786345999999997,1998.6731730566592,{"$f":"ROWS($A$3:A4451)","v":4449},"",""]
["Wellington Region","    Makara-Ohariu","..","..",351,"Makara-Ohariu",177.48903855,1.9775869139159299,{"$f":"ROWS($A$3:A4452)","v":4450},"",""]
["Wellington Region","    Mana Island","..","..",6,"Mana Island",2.11347599,2.8389250828442107,{"$f":"ROWS($A$3:A4453)","v":4451},"",""]
["Wellington Region","    Mangaroa","..","..",729,"Mangaroa",154.553387439999,4.7168167069972098,{"$f":"ROWS($A$3:A4454)","v":4452},"",""]
["Wellington Region","    Manor Park","..","..",156,"Manor Park",1.59231711,97.970435047325466,{"$f":"ROWS($A$3:A4455)","v":4453},"",""]
["Wellington Region","    Manuka","..","..",657,"Manuka",1.31431633,499.87965986848843,{"$f":"ROWS($A$3:A4456)","v":4454},"",""]
["Wellington Region","    Maoribank","..","..",1188,"Maoribank",3.4852831499999999,340.86183212976545,{"$f":"ROWS($A$3:A4457)","v":4455},"",""]
["Wellington Region","    Mara","..","..",3,"Mara",69.09271803,4.3419915810771877E-2,{"$f":"ROWS($A$3:A4458)","v":4456},"",""]
["Wellington Region","    Martinborough","..","..",1095,"Martinborough",4.4994202300000001,243.3646878989118,{"$f":"ROWS($A$3:A4459)","v":4457},"",""]
["Wellington Region","    Masterton Central","..","..",303,"Masterton Central",1.7626890399999999,171.8964565638872,{"$f":"ROWS($A$3:A4460)","v":4458},"",""]
["Wellington Region","    Maungakotukutuku","..","..",549,"Maungakotukutuku",112.70053725,4.8713166183242844,{"$f":"ROWS($A$3:A4461)","v":4459},"",""]
["Wellington Region","    Maungaraki","..","..",1464,"Maungaraki",2.1102173500000001,693.76739794125945,{"$f":"ROWS($A$3:A4462)","v":4460},"",""]
["Wellington Region","    Maupuia","..","..",618,"Maupuia",1.9537258900000001,316.3186827605586,{"$f":"ROWS($A$3:A4463)","v":4461},"",""]
["Wellington Region","    McJorrow Park","..","..",591,"McJorrow Park",0.90130045999999997,655.71918159234053,{"$f":"ROWS($A$3:A4464)","v":4462},"",""]
["Wellington Region","    Melrose","..","..",522,"Melrose",0.33375271000000001,1564.0322441127144,{"$f":"ROWS($A$3:A4465)","v":4463},"",""]
["Wellington Region","    Miramar Central","..","..",846,"Miramar Central",0.53010265000000001,1595.9173190324552,{"$f":"ROWS($A$3:A4466)","v":4464},"",""]
["Wellington Region","    Miramar East","..","..",1122,"Miramar East",0.84704212000000001,1324.60945389587,{"$f":"ROWS($A$3:A4467)","v":4465},"",""]
["Wellington Region","    Miramar North","..","..",495,"Miramar North",0.50735271000000004,975.65261847127999,{"$f":"ROWS($A$3:A4468)","v":4466},"",""]
["Wellington Region","    Miramar South","..","..",1317,"Miramar South",0.98411254000000004,1338.2615772785498,{"$f":"ROWS($A$3:A4469)","v":4467},"",""]
["Wellington Region","    Moera","..","..",681,"Moera",0.62398200999999998,1091.3776184028127,{"$f":"ROWS($A$3:A4470)","v":4468},"",""]
["Wellington Region","    Mount Cook East","..","..",999,"Mount Cook East",0.43591164999999998,2291.7487981796312,{"$f":"ROWS($A$3:A4471)","v":4469},"",""]
["Wellington Region","    Mount Cook West","..","..",2046,"Mount Cook West",0.61348427999999999,3335.0487807120339,{"$f":"ROWS($A$3:A4472)","v":4470},"",""]
["Wellington Region","    Mount Holdsworth","..","..",792,"Mount Holdsworth",432.87463693000001,1.8296290251999079,{"$f":"ROWS($A$3:A4473)","v":4471},"",""]
["Wellington Region","    Mount Victoria","..","..",2058,"Mount Victoria",1.0807415600000001,1904.2480424274604,{"$f":"ROWS($A$3:A4474)","v":4472},"",""]
["Wellington Region","    Naenae Central","..","..",1230,"Naenae Central",1.3821630899999999,889.90945344952024,{"$f":"ROWS($A$3:A4475)","v":4473},"",""]
["Wellington Region","    Naenae North","..","..",900,"Naenae North",2.6112729200000002,344.65949273506038,{"$f":"ROWS($A$3:A4476)","v":4474},"",""]
["Wellington Region","    Naenae South","..","..",936,"Naenae South",1.18214011,791.78431734289097,{"$f":"ROWS($A$3:A4477)","v":4475},"",""]
["Wellington Region","    Newlands North","..","..",1404,"Newlands North",1.1481084500000001,1222.8809917739043,{"$f":"ROWS($A$3:A4478)","v":4476},"",""]
["Wellington Region","    Newlands South","..","..",1455,"Newlands South",5.67112734,256.56274542408704,{"$f":"ROWS($A$3:A4479)","v":4477},"",""]
["Wellington Region","    Newtown North","..","..",720,"Newtown North",0.70094491000000003,1027.1848610756015,{"$f":"ROWS($A$3:A4480)","v":4478},"",""]
["Wellington Region","    Newtown South","..","..",1500,"Newtown South",1.1943657999999999,1255.896644059969,{"$f":"ROWS($A$3:A4481)","v":4479},"",""]
["Wellington Region","    Newtown West","..","..",1392,"Newtown West",0.66091113000000001,2106.1833230134889,{"$f":"ROWS($A$3:A4482)","v":4480},"",""]
["Wellington Region","    Ngaio North","..","..",1002,{"$f":"TRIM(B4483)","v":"Ngaio North"},0.82389500999999998,{"$f":"E4483/G4483","v":1216.1743763929339},{"$f":"ROWS($A$3:A4483)","v":4481},"",""]
["Wellington Region","    Ngaio South","..","..",1233,"Ngaio South",1.3695689600000001,900.28325408309479,{"$f":"ROWS($A$3:A4484)","v":4482},"",{"$f":"IFERROR(SMALL($J$3:$J$4612,I4484)-1,\"\")","v":""}]
["Wellington Region","    Ngaumutawa","..","..",684,"Ngaumutawa",0.85307226000000003,801.80780934079371,{"$f":"ROWS($A$3:A4485)","v":4483},"",""]
["Wellington Region","    Normandale","..","..",756,"Normandale",1.44706416,522.43709774416641,{"$f":"ROWS($A$3:A4486)","v":4484},"",""]
["Wellington Region","    Northland (Wellington City)","..","..",1419,"Northland (Wellington City)",1.2609300000000001,1125.3598534415073,{"$f":"ROWS($A$3:A4487)","v":4485},"",""]
["Wellington Region","    Oceanic Wellington Region","..","..",0,"Oceanic Wellington Region",0,{"$error":"#DIV/0!"},{"$f":"ROWS($A$3:A4488)","v":4486},"",""]
["Wellington Region","    Onepoto","..","..",654,"Onepoto",2.2411811699999999,291.81041173927053,{"$f":"ROWS($A$3:A4489)","v":4487},"",""]
["Wellington Region","    Onslow","..","..",717,"Onslow",0.7679549,933.64857754016543,{"$f":"ROWS($A$3:A4490)","v":4488},"",""]
["Wellington Region","    Opaki","..","..",462,"Opaki",36.042287389999899,12.81827634858114,{"$f":"ROWS($A$3:A4491)","v":4489},"",""]
["Wellington Region","    Oriental Bay","..","..",831,"Oriental Bay",0.30283761999999997,2744.0448118698068,{"$f":"ROWS($A$3:A4492)","v":4490},"",""]
["Wellington Region","    Otaihanga","..","..",330,"Otaihanga",4.4739952399999998,73.759577804110492,{"$f":"ROWS($A$3:A4493)","v":4491},"",""]
["Wellington Region","    Otaki","..","..",1602,"Otaki",8.4768726599999997,188.98479005817697,{"$f":"ROWS($A$3:A4494)","v":4492},"",""]
["Wellington Region","    Otaki Beach","..","..",1107,"Otaki Beach",3.3676418899999998,328.71666173507543,{"$f":"ROWS($A$3:A4495)","v":4493},"",""]
["Wellington Region","    Otaki Forks","..","..",345,"Otaki Forks",87.257591869999899,3.9538106955094037,{"$f":"ROWS($A$3:A4496)","v":4494},"",""]
["Wellington Region","    Owhiro Bay","..","..",756,"Owhiro Bay",4.0595951399999999,186.22546680849558,{"$f":"ROWS($A$3:A4497)","v":4495},"",""]
["Wellington Region","    Paekakariki","..","..",807,"Paekakariki",5.8933172599999999,136.93476261279713,{"$f":"ROWS($A$3:A4498)","v":4496},"",""]
["Wellington Region","    Paekakariki Hill","..","..",147,"Paekakariki Hill",35.790139330000002,4.1072765502419184,{"$f":"ROWS($A$3:A4499)","v":4497},"",""]
["Wellington Region","    Papakowhai","..","..",792,"Papakowhai",1.43041419,553.68578243760294,{"$f":"ROWS($A$3:A4500)","v":4498},{"$f":"IF(A4500=$M$2,I4501,\"\")","v":""},""]
["Wellington Region","    Paparangi","..","..",1083,"Paparangi",1.3138115400000001,824.31914093249623,{"$f":"ROWS($A$3:A4501)","v":4499},"",""]
["Wellington Region","    Paraparaumu Beach East","..","..",1176,"Paraparaumu Beach East",1.06717975,1101.9699352428679,{"$f":"ROWS($A$3:A4502)","v":4500},"",""]
["Wellington Region","    Paraparaumu Beach North","..","..",1617,"Paraparaumu Beach North",2.1438252000000002,754.25925583858225,{"$f":"ROWS($A$3:A4503)","v":4501},"",""]
["Wellington Region","    Paraparaumu Beach West","..","..",1227,"Paraparaumu Beach West",1.59459146,769.47608887858962,{"$f":"ROWS($A$3:A4504)","v":4502},"",""]
["Wellington Region","    Paraparaumu Central","..","..",1830,"Paraparaumu Central",4.4647630200000004,409.87617748186773,{"$f":"ROWS($A$3:A4505)","v":4503},"",""]
["Wellington Region","    Paraparaumu East","..","..",873,"Paraparaumu East",2.5118350500000002,347.55466924470215,{"$f":"ROWS($A$3:A4506)","v":4504},"",""]
["Wellington Region","    Paraparaumu North","..","..",1548,"Paraparaumu North",3.5332206300000002,438.127182564311,{"$f":"ROWS($A$3:A4507)","v":4505},"",""]
["Wellington Region","    Paremata","..","..",1053,"Paremata",1.61589388,651.65170376163564,{"$f":"ROWS($A$3:A4508)","v":4506},"",""]
["Wellington Region","    Pauatahanui","..","..",339,"Pauatahanui",75.947280640000002,4.4636226227362128,{"$f":"ROWS($A$3:A4509)","v":4507},"",""]
["Wellington Region","    Peka Peka","..","..",330,"Peka Peka",10.01994373,32.934316688023955,{"$f":"ROWS($A$3:A4510)","v":4508},"",""]
["Wellington Region","    Pencarrow","..","..",279,"Pencarrow",268.41504350000002,1.0394350344972374,{"$f":"ROWS($A$3:A4511)","v":4509},"",""]
["Wellington Region","    Petone Central","..","..",390,"Petone Central",1.29638936,300.83554527167672,{"$f":"ROWS($A$3:A4512)","v":4510},"",""]
["Wellington Region","    Petone East","..","..",1680,"Petone East",1.63004745,1030.6448441117466,{"$f":"ROWS($A$3:A4513)","v":4511},"",""]
["Wellington Region","    Petone Esplanade","..","..",1128,"Petone Esplanade",0.97436416999999997,1157.6780373605077,{"$f":"ROWS($A$3:A4514)","v":4512},"",""]
["Wellington Region","    Pinehaven","..","..",753,"Pinehaven",5.59309645,134.63025476701731,{"$f":"ROWS($A$3:A4515)","v":4513},"",""]
["Wellington Region","    Pipitea-Kaiwharawhara","..","..",450,"Pipitea-Kaiwharawhara",2.1485548200000002,209.4431083680704,{"$f":"ROWS($A$3:A4516)","v":4514},"",""]
["Wellington Region","    Plimmerton","..","..",915,"Plimmerton",5.1259000700000001,178.50523566683577,{"$f":"ROWS($A$3:A4517)","v":4515},"",""]
["Wellington Region","    Poets Block","..","..",921,"Poets Block",1.2416060900000001,741.78115540654278,{"$f":"ROWS($A$3:A4518)","v":4516},"",""]
["Wellington Region","    Porirua Central","..","..",51,"Porirua Central",6.7237113800000001,7.5850965512442921,{"$f":"ROWS($A$3:A4519)","v":4517},"",""]
["Wellington Region","    Porirua East","..","..",726,"Porirua East",1.21180021,599.10865999932446,{"$f":"ROWS($A$3:A4520)","v":4518},"",""]
["Wellington Region","    Postgate","..","..",957,"Postgate",1.2888012499999999,742.55049023268725,{"$f":"ROWS($A$3:A4521)","v":4519},"",""]
["Wellington Region","    Pukerua Bay","..","..",756,"Pukerua Bay",8.1722364299999999,92.508336790740643,{"$f":"ROWS($A$3:A4522)","v":4520},"",""]
["Wellington Region","    Ranui Heights","..","..",498,"Ranui Heights",2.35228065,211.70943186562369,{"$f":"ROWS($A$3:A4523)","v":4521},"",""]
["Wellington Region","    Raumati Beach East","..","..",1026,"Raumati Beach East",1.4242440000000001,720.38218170482025,{"$f":"ROWS($A$3:A4524)","v":4522},"",""]
["Wellington Region","    Raumati Beach West","..","..",1332,"Raumati Beach West",1.74954269,761.34181098490376,{"$f":"ROWS($A$3:A4525)","v":4523},"",""]
["Wellington Region","    Raumati South","..","..",1578,"Raumati South",5.64558991,279.51020622395862,{"$f":"ROWS($A$3:A4526)","v":4524},"",""]
["Wellington Region","    Riverstone Terraces","..","..",600,"Riverstone Terraces",2.23628296,268.30236188000106,{"$f":"ROWS($A$3:A4527)","v":4525},"",""]
["Wellington Region","    Rongotai","..","..",30,"Rongotai",1.9237004,15.594943994397465,{"$f":"ROWS($A$3:A4528)","v":4526},"",""]
["Wellington Region","    Roseneath","..","..",846,"Roseneath",0.5489541,1541.1124536641587,{"$f":"ROWS($A$3:A4529)","v":4527},"",""]
["Wellington Region","    Seatoun","..","..",867,"Seatoun",1.32691884,653.39339066133084,{"$f":"ROWS($A$3:A4530)","v":4528},"",""]
["Wellington Region","    Silverstream (Upper Hutt City)","..","..",1350,"Silverstream (Upper Hutt City)",2.64413739,510.56348475144858,{"$f":"ROWS($A$3:A4531)","v":4529},"",""]
["Wellington Region","    Solway North","..","..",969,"Solway North",2.0758710499999999,466.79200039906141,{"$f":"ROWS($A$3:A4532)","v":4530},"",""]
["Wellington Region","    Solway South","..","..",1407,"Solway South",6.3852286100000004,220.35232971870053,{"$f":"ROWS($A$3:A4533)","v":4531},"",""]
["Wellington Region","    Southgate","..","..",462,"Southgate",0.46693203,989.43737057404269,{"$f":"ROWS($A$3:A4534)","v":4532},"",""]
["Wellington Region","    Stokes Valley Central","..","..",756,"Stokes Valley Central",1.4884130499999999,507.92352297636739,{"$f":"ROWS($A$3:A4535)","v":4533},"",""]
["Wellington Region","    Stokes Valley North","..","..",1275,"Stokes Valley North",4.7961636800000003,265.83746616420729,{"$f":"ROWS($A$3:A4536)","v":4534},"",""]
["Wellington Region","    Strathmore (Wellington City)","..","..",1425,"Strathmore (Wellington City)",1.48293491,960.93226370940317,{"$f":"ROWS($A$3:A4537)","v":4535},"",""]
["Wellington Region","    Taita North","..","..",1029,"Taita North",1.1455903000000001,898.22687919057967,{"$f":"ROWS($A$3:A4538)","v":4536},"",""]
["Wellington Region","    Taita South","..","..",1098,"Taita South",3.3995347100000002,322.98537701943332,{"$f":"ROWS($A$3:A4539)","v":4537},"",""]
["Wellington Region","    Takapu-Horokiwi","..","..",105,"Takapu-Horokiwi",19.1014103599999,5.4969762976182954,{"$f":"ROWS($A$3:A4540)","v":4538},"",""]
["Wellington Region","    Tararua Forest Park","..","..",15,"Tararua Forest Park",365.62861300999901,4.1025235625062495E-2,{"$f":"ROWS($A$3:A4541)","v":4539},"",""]
["Wellington Region","    Tauherenikau","..","..",645,"Tauherenikau",337.70563607000003,1.9099473953295338,{"$f":"ROWS($A$3:A4542)","v":4540},"",""]
["Wellington Region","    Tawa Central","..","..",1059,"Tawa Central",1.5313012699999999,691.56868132160571,{"$f":"ROWS($A$3:A4543)","v":4541},"",""]
["Wellington Region","    Tawa North","..","..",1092,"Tawa North",1.44404946,756.20678532714521,{"$f":"ROWS($A$3:A4544)","v":4542},"",""]
["Wellington Region","    Tawa South","..","..",1137,"Tawa South",2.5485231499999998,446.14073841157773,{"$f":"ROWS($A$3:A4545)","v":4543},"",""]
["Wellington Region","    Te Horo","..","..",756,"Te Horo",31.8614360199999,23.727744083017711,{"$f":"ROWS($A$3:A4546)","v":4544},"",""]
["Wellington Region","    Te Marua","..","..",369,{"$f":"TRIM(B4547)","v":"Te Marua"},5.5702088500000002,{"$f":"E4547/G4547","v":66.245271934462565},{"$f":"ROWS($A$3:A4547)","v":4545},"",""]
["Wellington Region","    Thorndon","..","..",2148,"Thorndon",1.48299162,1448.4235588600293,{"$f":"ROWS($A$3:A4548)","v":4546},"",{"$f":"IFERROR(SMALL($J$3:$J$4612,I4548)-1,\"\")","v":""}]
["Wellington Region","    Tirohanga","..","..",423,"Tirohanga",1.1805299899999999,358.31364182455036,{"$f":"ROWS($A$3:A4549)","v":4547},"",""]
["Wellington Region","    Titahi Bay North","..","..",1059,"Titahi Bay North",2.0096202299999999,526.96523661089941,{"$f":"ROWS($A$3:A4550)","v":4548},"",""]
["Wellington Region","    Titahi Bay South","..","..",1335,"Titahi Bay South",3.5425687300000002,376.84519391102964,{"$f":"ROWS($A$3:A4551)","v":4549},"",""]
["Wellington Region","    Totara Park","..","..",1083,"Totara Park",1.7240948599999999,628.15569208297507,{"$f":"ROWS($A$3:A4552)","v":4550},"",""]
["Wellington Region","    Towai","..","..",0,"Towai",5.0073611400000004,0,{"$f":"ROWS($A$3:A4553)","v":4551},"",""]
["Wellington Region","    Trentham North","..","..",1299,"Trentham North",1.0239590300000001,1268.6054441064891,{"$f":"ROWS($A$3:A4554)","v":4552},"",""]
["Wellington Region","    Trentham South","..","..",486,"Trentham South",8.12381624,59.82410060028635,{"$f":"ROWS($A$3:A4555)","v":4553},"",""]
["Wellington Region","    Upper Hutt Central","..","..",237,"Upper Hutt Central",2.2358949400000001,105.99782474573693,{"$f":"ROWS($A$3:A4556)","v":4554},"",""]
["Wellington Region","    Upper Plain","..","..",486,"Upper Plain",85.228719620000007,5.7023031927133854,{"$f":"ROWS($A$3:A4557)","v":4555},"",""]
["Wellington Region","    Vivian East","..","..",1248,"Vivian East",0.2863658,4358.0623105133363,{"$f":"ROWS($A$3:A4558)","v":4556},"",""]
["Wellington Region","    Vivian West","..","..",1503,"Vivian West",0.3700175,4061.9700419574751,{"$f":"ROWS($A$3:A4559)","v":4557},"",""]
["Wellington Region","    Wadestown","..","..",1500,"Wadestown",1.4366113700000001,1044.1237145436207,{"$f":"ROWS($A$3:A4560)","v":4558},"",""]
["Wellington Region","    Waikanae Beach","..","..",2103,"Waikanae Beach",4.3655840000000001,481.72249119476339,{"$f":"ROWS($A$3:A4561)","v":4559},"",""]
["Wellington Region","    Waikanae East","..","..",1032,"Waikanae East",3.19398406,323.10743592126755,{"$f":"ROWS($A$3:A4562)","v":4560},"",""]
["Wellington Region","    Waikanae Park","..","..",1014,"Waikanae Park",7.3600188299999996,137.77138665282465,{"$f":"ROWS($A$3:A4563)","v":4561},"",""]
["Wellington Region","    Waikanae West","..","..",2124,"Waikanae West",4.6744318099999997,454.38677604754707,{"$f":"ROWS($A$3:A4564)","v":4562},{"$f":"IF(A4564=$M$2,I4565,\"\")","v":""},""]
["Wellington Region","    Wainuiomata Central","..","..",639,"Wainuiomata Central",1.2629295899999999,505.96644900845189,{"$f":"ROWS($A$3:A4565)","v":4563},"",""]
["Wellington Region","    Wainuiomata West","..","..",1251,"Wainuiomata West",2.1067913699999998,593.79396451581249,{"$f":"ROWS($A$3:A4566)","v":4564},"",""]
["Wellington Region","    Waitangirua","..","..",1095,"Waitangirua",1.22402623,894.58867233588614,{"$f":"ROWS($A$3:A4567)","v":4565},"",""]
["Wellington Region","    Waitohu","..","..",441,"Waitohu",0.73786894000000003,597.66711416257738,{"$f":"ROWS($A$3:A4568)","v":4566},"",""]
["Wellington Region","    Waiwhetu","..","..",1677,"Waiwhetu",1.6797230299999999,998.37888154691791,{"$f":"ROWS($A$3:A4569)","v":4567},"",""]
["Wellington Region","    Wallaceville","..","..",1044,"Wallaceville",0.69902562999999995,1493.5074698190967,{"$f":"ROWS($A$3:A4570)","v":4568},"",""]
["Wellington Region","    Waterloo East","..","..",1230,"Waterloo East",1.08141639,1137.3972240239489,{"$f":"ROWS($A$3:A4571)","v":4569},"",""]
["Wellington Region","    Waterloo West","..","..",909,"Waterloo West",0.72699776999999999,1250.3477142715308,{"$f":"ROWS($A$3:A4572)","v":4570},"",""]
["Wellington Region","    Wellington Botanic Gardens","..","..",312,"Wellington Botanic Gardens",0.52539955999999999,593.83376719995726,{"$f":"ROWS($A$3:A4573)","v":4571},"",""]
["Wellington Region","    Wellington Central","..","..",1467,"Wellington Central",0.56013922999999999,2618.9917103288767,{"$f":"ROWS($A$3:A4574)","v":4572},"",""]
["Wellington Region","    Wellington University","..","..",438,"Wellington University",0.41698538000000002,1050.3965390824974,{"$f":"ROWS($A$3:A4575)","v":4573},"",""]
["Wellington Region","    Whareama","..","..",1320,"Whareama",1596.0274078100001,0.82705346633817967,{"$f":"ROWS($A$3:A4576)","v":4574},"",""]
["Wellington Region","    Whitby","..","..",1101,"Whitby",2.0439620000000001,538.6597206797386,{"$f":"ROWS($A$3:A4577)","v":4575},"",""]
["Wellington Region","    Wilton","..","..",936,"Wilton",1.2581908500000001,743.9252955940666,{"$f":"ROWS($A$3:A4578)","v":4576},"",""]
["Wellington Region","    Woburn","..","..",696,"Woburn",0.62488385999999996,1113.8069720667775,{"$f":"ROWS($A$3:A4579)","v":4577},"",""]
["Wellington Region","    Woodridge","..","..",594,"Woodridge",0.99000507999999998,599.99692122791942,{"$f":"ROWS($A$3:A4580)","v":4578},"",""]
["West Coast Region","    Arahura-Kumara","..","..",675,"Arahura-Kumara",262.26880034999903,2.5736953808428953,{"$f":"ROWS($A$3:A4581)","v":4579},"",""]
["West Coast Region","    Barrytown","..","..",567,"Barrytown",731.22054796999896,0.77541584625062165,{"$f":"ROWS($A$3:A4582)","v":4580},"",""]
["West Coast Region","    Blaketown","..","..",411,"Blaketown",0.74298173000000001,553.1764556310153,{"$f":"ROWS($A$3:A4583)","v":4581},"",""]
["West Coast Region","    Buller Coalfields","..","..",624,"Buller Coalfields",498.57495985000003,1.2515670666407614,{"$f":"ROWS($A$3:A4584)","v":4582},"",""]
["West Coast Region","    Charleston (Buller District)","..","..",414,"Charleston (Buller District)",1016.79179164,0.4071630036787105,{"$f":"ROWS($A$3:A4585)","v":4583},"",""]
["West Coast Region","    Cobden","..","..",759,"Cobden",3.6756464900000001,206.49428666900988,{"$f":"ROWS($A$3:A4586)","v":4584},"",""]
["West Coast Region","    Dobson","..","..",393,"Dobson",169.89479682000001,2.3131962093952487,{"$f":"ROWS($A$3:A4587)","v":4585},"",""]
["West Coast Region","    Greymouth Central","..","..",486,"Greymouth Central",2.7287419700000002,178.10405136986989,{"$f":"ROWS($A$3:A4588)","v":4586},"",""]
["West Coast Region","    Greymouth Rural","..","..",348,"Greymouth Rural",340.00174279999902,1.023524165300252,{"$f":"ROWS($A$3:A4589)","v":4587},"",""]
["West Coast Region","    Haast","..","..",396,"Haast",4099.0697471399899,9.6607285171543572E-2,{"$f":"ROWS($A$3:A4590)","v":4588},"",""]
["West Coast Region","    Hokitika","..","..",1491,"Hokitika",3.9093584400000001,381.39250285783464,{"$f":"ROWS($A$3:A4591)","v":4589},"",""]
["West Coast Region","    Hokitika Rural","..","..",669,"Hokitika Rural",154.37746203,4.3335341260500444,{"$f":"ROWS($A$3:A4592)","v":4590},"",""]
["West Coast Region","    Hokitika Valley-Otira","..","..",465,"Hokitika Valley-Otira",1614.5389862699899,0.28800791058893688,{"$f":"ROWS($A$3:A4593)","v":4591},"",""]
["West Coast Region","    Inangahua","..","..",564,"Inangahua",3195.7075854999898,0.1764867356947987,{"$f":"ROWS($A$3:A4594)","v":4592},"",""]
["West Coast Region","    Inlets Buller District","..","..",0,"Inlets Buller District",0,{"$error":"#DIV/0!"},{"$f":"ROWS($A$3:A4595)","v":4593},"",""]
["West Coast Region","    Inlets Westland District","..","..",0,"Inlets Westland District",0,{"$error":"#DIV/0!"},{"$f":"ROWS($A$3:A4596)","v":4594},"",""]
["West Coast Region","    Karamea","..","..",627,"Karamea",3129.3467454199899,0.20036130573182942,{"$f":"ROWS($A$3:A4597)","v":4595},"",""]
["West Coast Region","    Karoro","..","..",462,"Karoro",6.5022919000000003,71.051870187494956,{"$f":"ROWS($A$3:A4598)","v":4596},"",""]
["West Coast Region","    King Park","..","..",570,"King Park",0.84279915999999999,676.31771251409407,{"$f":"ROWS($A$3:A4599)","v":4597},"",""]
["West Coast Region","    Lake Brunner","..","..",564,"Lake Brunner",1301.2603879400001,0.43342593475304153,{"$f":"ROWS($A$3:A4600)","v":4598},"",""]
["West Coast Region","    Marsden","..","..",540,"Marsden",1.2384894099999999,436.01503221573773,{"$f":"ROWS($A$3:A4601)","v":4599},"",""]
["West Coast Region","    Nelson Creek","..","..",363,"Nelson Creek",899.97435098000005,0.40334482822173995,{"$f":"ROWS($A$3:A4602)","v":4600},"",""]
["West Coast Region","    Oceanic West Coast Region","..","..",3,"Oceanic West Coast Region",0,{"$error":"#DIV/0!"},{"$f":"ROWS($A$3:A4603)","v":4601},"",""]
["West Coast Region","    Reefton","..","..",588,"Reefton",2.6264292999999999,223.87809944094062,{"$f":"ROWS($A$3:A4604)","v":4602},"",""]
["West Coast Region","    Runanga","..","..",618,"Runanga",4.5051542099999997,137.1762144408371,{"$f":"ROWS($A$3:A4605)","v":4603},"",""]
["West Coast Region","    Rutherglen-Camerons","..","..",576,"Rutherglen-Camerons",11.7164808399999,49.161519390152044,{"$f":"ROWS($A$3:A4606)","v":4604},"",""]
["West Coast Region","    Waitaha","..","..",297,"Waitaha",1499.9551628300001,0.19800591868335801,{"$f":"ROWS($A$3:A4607)","v":4605},"",""]
["West Coast Region","    Westland Glaciers-Bruce Bay","..","..",747,"Westland Glaciers-Bruce Bay",3057.4179289099902,0.24432381093098232,{"$f":"ROWS($A$3:A4608)","v":4606},"",""]
["West Coast Region","    Westport North","..","..",1041,"Westport North",8.6581032199999903,120.23418681303284,{"$f":"ROWS($A$3:A4609)","v":4607},"",""]
["West Coast Region","    Westport Rural","..","..",609,"Westport Rural",88.758125419999899,6.8613436473363576,{"$f":"ROWS($A$3:A4610)","v":4608},"",""]
["West Coast Region","    Westport South","..","..",1302,"Westport South",2.8733482100000001,{"$f":"E4611/G4611","v":453.12990450259417},{"$f":"ROWS($A$3:A4611)","v":4609},"",""]
["West Coast Region","    Whataroa-Harihari","..","..",381,"Whataroa-Harihari",1136.2769332600001,0.33530558339057698,{"$f":"ROWS($A$3:A4612)","v":4610},"",{"$f":"IFERROR(SMALL($J$3:$J$4612,I4612)-1,\"\")","v":""}]