{"text_format":"1","workbook":"xlsx","n_sheets":5,"sheets":["RCA Results Table","Region & Peer Group Results","Lookups","Charts","Chart Data"],"not_rendered":{"charts":1,"images":2,"macros":1,"external_links":0,"defined_names":2,"comments":0,"pivot_tables":0},"unopened":[],"bounds":{"document_bytes":16777216,"sheet_cells":100000,"rows_first":2000,"rows_last":500,"rows_between":2000,"halvings":0,"cell_chars":16384,"cell_head_chars":4096},"cells_cut":0,"cells_raw":0,"read":"whole","date_system":"1900"}

{"sheet":"RCA Results Table","index":0,"n_rows":72,"n_cols":15,"rows_kept":72,"cut":false,"hidden":false,"merged":[[2,1,2,3],[2,4,2,6],[2,7,2,12],[2,0,3,0]]}
[null,"ASSET MANAGEMENT DATA QUALITY RESULTS 2019/20 | PERCENTAGE AT THE EXPECTED STANDARD",null,null,null,null,null,null,null,null,null,null,null,null,"V0.3: 28-10-2020"]
[]
["RCA Name","Quality Dimension",null,null,"Importance",null,null,"Data Category",null,null,null,null,null,null,"Score"]
[null,"Accuracy","Completeness","Timeliness","High","Moderate","Low","Network","Asset Inventory","Condition","Maintenance Activity","Demand","Crash",null,"Overall Score"]
["Ashburton District Council",80,71,47,79,53,67,77,54,100,86,67,100,null,83]
["Auckland Transport",73,52,77,61,56,92,82,60,75,43,71,100,null,71]
["Buller District Council",43,45,55,50,47,36,68,32,75,29,57,50,null,65]
["Carterton District Council",55,57,62,54,43,83,41,64,67,43,57,100,null,68]
["Central Hawkes Bay District Council",61,62,77,70,50,75,77,44,75,86,86,100,null,75]
["Central Otago District Council",48,86,65,60,69,75,50,81,75,57,33,100,null,76]
["Chatham Islands Council",74,90,62,80,67,83,77,80,33,86,71,100,null,86]
["Christchurch City Council",77,67,55,68,56,83,82,66,75,86,38,50,null,77]
["Clutha District Council",70,86,75,81,72,75,68,71,100,71,100,100,null,87]
["DOC Roads",41,30,30,40,37,18,45,29,50,0,43,100,null,52]
["Dunedin City Council",91,95,69,93,75,92,91,84,100,86,86,100,null,93]
["Far North District Council",76,81,54,75,60,83,55,68,67,100,86,100,null,83]
["Gisborne District Council",59,62,50,59,56,58,64,46,75,71,57,100,null,74]
["Gore District Council",75,85,42,67,81,67,65,70,75,71,71,100,null,81]
["Grey District Council",45,24,62,43,31,50,82,28,50,0,43,100,null,55]
["Hamilton City Council",76,90,74,77,73,100,82,88,67,86,67,50,null,86]
["Hastings District Council",73,57,54,57,56,83,64,56,50,71,71,100,null,75]
["Hauraki District Council",84,95,85,88,88,92,86,88,100,86,86,100,null,93]
["Horowhenua District Council",55,62,59,54,60,67,77,56,67,29,52,100,null,71]
["Hurunui District Council",45,52,54,43,50,67,64,44,100,0,57,100,null,62]
["Hutt City Council",45,57,32,61,25,42,64,26,100,57,52,50,null,66]
["Invercargill City Council",80,80,35,68,80,59,77,67,100,57,52,100,null,82]
["Kaikoura District Council",77,47,50,59,53,73,50,57,75,100,29,100,null,74]
["Kaipara District Council",81,76,77,66,83,100,64,84,67,100,57,100,null,78]
["Kapiti Coast District Council",82,81,73,80,75,83,91,74,100,86,57,100,null,86]
["Kawerau District Council",55,35,17,46,33,27,91,13,75,0,43,100,null,51]
["MacKenzie District Council",57,60,8,54,43,36,41,26,100,86,43,100,null,66]
["Manawatu District Council",73,86,74,74,78,88,64,88,75,71,67,100,null,83]
["Marlborough District Council",80,81,45,73,81,58,86,58,100,100,48,100,null,82]
["Masterton District Council",57,52,73,66,28,83,68,54,75,43,71,50,null,73]
["Matamata-Piako District Council",84,100,81,93,75,100,86,90,100,86,86,100,null,93]
["Napier City Council",55,71,69,66,56,71,45,60,75,86,71,100,null,78]
["Nelson City Council",50,38,71,48,33,75,50,48,33,29,86,50,null,68]
["New Plymouth District Council",74,57,31,59,53,58,68,40,67,100,43,100,null,69]
["Opotiki District Council",89,85,56,83,80,73,86,70,100,86,81,100,null,87]
["Otorohanga District Council",80,100,75,87,94,75,85,83,100,71,100,100,null,92]
["Palmerston North City Council",70,86,69,77,69,83,68,76,75,86,86,50,null,84]
["Porirua City Council",48,52,44,49,44,54,50,40,75,43,67,50,null,64]
["Queenstown-Lakes District Council",76,95,67,81,73,92,64,92,33,86,86,100,null,89]
["Rangitikei District Council",77,90,63,85,72,75,82,78,75,86,67,100,null,89]
["Rotorua Lakes Council",64,52,63,52,63,71,73,54,75,43,52,100,null,73]
["Ruapehu District Council",59,50,31,63,34,38,70,24,100,71,57,50,null,69]
["Selwyn District Council",73,67,54,64,63,75,64,56,75,71,86,100,null,79]
["South Taranaki District Council",61,81,36,68,69,42,68,48,100,86,52,100,null,80]
["South Waikato District Council",91,100,54,93,88,67,91,76,100,86,100,100,null,93]
["South Wairarapa District Council",61,67,38,52,63,67,68,56,100,71,14,50,null,72]
["Southland District Council",61,90,46,68,78,58,68,72,100,57,57,50,null,82]
["Stratford District Council",52,57,23,38,63,50,23,52,75,57,29,100,null,60]
["Tararua District Council",86,90,62,86,87,67,91,80,67,100,71,50,null,92]
["Tasman District Council",45,52,38,48,47,42,59,20,67,71,71,100,null,64]
["Taupo District Council",64,67,58,54,60,92,68,74,33,57,29,100,null,69]
["Tauranga City Council",73,81,81,70,75,100,82,78,75,86,71,50,null,84]
["Thames-Coromandel District Council",86,62,69,71,63,92,64,76,50,86,71,100,null,80]
["Timaru District Council",75,95,50,84,78,58,77,70,75,71,100,100,null,87]
["Upper Hutt City Council",45,52,58,41,50,75,64,58,100,0,29,50,null,59]
["Waikato District Council",95,95,77,86,94,100,91,92,75,100,86,100,null,91]
["Waimakariri District Council",55,76,69,68,56,75,55,56,75,71,100,100,null,78]
["Waimate District Council",84,85,50,88,73,55,86,74,100,86,57,50,null,88]
["Waipa District Council",75,90,81,75,81,100,77,82,100,71,86,100,null,88]
["Wairoa District Council",71,71,50,74,60,58,91,54,67,71,71,50,null,82]
["Waitaki District Council",80,86,50,89,69,50,77,58,100,86,100,100,null,88]
["Waitomo District Council",84,100,77,91,88,83,86,88,100,71,100,100,null,94]
["Wellington City Council",64,90,69,79,63,83,73,84,100,29,86,50,null,87]
["Western Bay of Plenty District Council",77,95,85,75,94,100,64,92,75,100,86,100,null,91]
["Westland District Council",60,26,18,37,43,36,85,27,67,0,14,100,null,49]
["Whakatane District Council",73,100,81,80,88,92,73,90,100,57,100,100,null,91]
["Whanganui District Council",64,86,31,71,73,38,59,64,67,100,43,50,null,78]
["Whangarei District Council",64,67,65,66,57,75,59,54,67,100,71,100,null,77]

{"sheet":"Region & Peer Group Results","index":1,"n_rows":35,"n_cols":14,"rows_kept":35,"cut":false,"hidden":true,"merged":[[2,1,2,13],[3,4,3,6],[3,7,3,10],[19,1,19,13],[20,4,20,6],[20,7,20,10],[3,1,3,3],[32,1,32,3],[31,1,31,13],[32,4,32,6],[32,7,32,10],[20,1,20,3]]}
["REG DATA QUALITY RESULTS 2019/20 | PERCENTAGE AT THE EXPECTED STANDARD (REGIONS)"]
[]
[null,"Asset Management"]
[null,"Quality Dimension",null,null,"Importance",null,null,"Data Category",null,null,null,null,null,"Score"]
["Region","Accuracy","Completeness","Timeliness","High","Moderate","Low","Network","Asset Inventory","Condition","Maintenance Activity","Demand","Crash","AM Score"]
["Bay of Plenty",72,75,64,68,72,78,78,67,83,62,72,92]
["Canterbury",69,69,49,67,59,66,66,56,86,73,64,89]
["Gisborne and Hawkes Bay",64,65,60,65,56,69,68,52,68,77,71,90]
["No Region",60,63,55,58,62,61,52,59,55,62,65,100]
["North Auckland",74,69,68,67,64,88,65,67,69,86,71,100]
["Southland and Otago",73,88,56,76,75,71,70,74,87,71,73,94]
["Taranaki, Manawatu and Whanganui",67,75,48,67,66,60,67,61,78,79,57,80]
["Top of South Island and West Coast",54,45,48,50,47,50,72,36,67,38,53,83]
["Waikato",82,90,73,81,80,90,82,84,84,80,81,95]
["Wellington",57,64,56,60,49,71,65,57,90,46,54,63]
[]
[]
["REG DATA QUALITY RESULTS 2019/20 | PERCENTAGE AT THE EXPECTED STANDARD (PEER GROUPS)"]
[]
[null,"Asset Management"]
[null,"Quality Dimension",null,null,"Importance",null,null,"Data Category",null,null,null,null,null,"Score"]
["Region","Accuracy","Completeness","Timeliness","High","Moderate","Low","Network","Asset Inventory","Condition","Maintenance Activity","Demand","Crash","AM Score"]
["Provincial Centres",70,72,59,68,65,73,72,63,76,70,67,94]
["Highly Urban",62,71,55,67,54,71,78,59,84,51,64,60]
["Rural Districts",70,78,55,71,68,69,69,65,85,75,67,88]
["Cities",64,64,61,62,58,75,68,61,80,57,62,72]
["No Group",53,49,51,47,60,50,39,48,63,50,62,100]
[]
[]
["REG DATA QUALITY RESULTS 2019/20 | PERCENTAGE AT THE EXPECTED STANDARD (NATIONAL)"]
[]
[null,"Asset Management"]
[null,"Quality Dimension",null,null,"Importance",null,null,"Data Category",null,null,null,null,null,"Score"]
["Region","Accuracy","Completeness","Timeliness","High","Moderate","Low","Network","Asset Inventory","Condition","Maintenance Activity","Demand","Crash","AM Score"]
["National",68,72,57,68,64,71,70,63,80,68,66,87]

{"sheet":"Lookups","index":2,"n_rows":70,"n_cols":12,"rows_kept":70,"cut":false,"hidden":true,"merged":[]}
[null,null,null,null,null,null,null,"RCA_ID","RCA_Name","old_RCA_Name","Peer Group","Region"]
["Financial Years",null,null,null,null,null,null,57,"Ashburton District Council","Ashburton District","Rural Districts","Canterbury"]
["2019/20",null,null,null,null,null,null,80,"Auckland Transport","Auckland","Cities","North Auckland"]
["2018/19",null,null,null,null,null,null,58,"Buller District Council","Buller District","Provincial Centres","Top of South Island and West Coast"]
["2017/18",null,null,null,null,null,null,23,"Carterton District Council","Carterton District","Rural Districts","Wellington"]
["2016/17",null,null,null,null,null,null,38,"Central Hawkes Bay District Council","Central Hawkes Bay District","Rural Districts","Gisborne and Hawkes Bay"]
["2015/16",null,null,null,null,null,null,59,"Central Otago District Council","Central Otago District","Rural Districts","Southland and Otago"]
["2014/15",null,null,null,null,null,null,86,"Chatham Islands Council","Chatham Island","Rural Districts","No Region"]
[null,null,null,null,null,null,null,76,"Christchurch City Council","Christchurch City","Cities","Canterbury"]
["Comparison",null,null,null,null,null,null,60,"Clutha District Council","Clutha District","Rural Districts","Southland and Otago"]
["National",null,null,null,null,null,null,88,"DOC Roads","DOC Roads","No Group","No Region"]
["Regional",null,null,null,null,null,null,61,"Dunedin City Council","Dunedin City","Provincial Centres","Southland and Otago"]
["Peer Group",null,null,null,null,null,null,79,"Far North District Council","Far North District","Rural Districts","North Auckland"]
[null,null,null,null,null,null,null,39,"Gisborne District Council","Gisborne District","Provincial Centres","Gisborne and Hawkes Bay"]
["Shade","Threshold (>)",null,null,null,null,null,62,"Gore District Council","Gore District","Rural Districts","Southland and Otago"]
[null,80,null,null,null,null,null,63,"Grey District Council","Grey District","Provincial Centres","Top of South Island and West Coast"]
[null,70,null,null,null,null,null,11,"Hamilton City Council","Hamilton City","Highly Urban","Waikato"]
[null,50,null,null,null,null,null,40,"Hastings District Council","Hastings District","Provincial Centres","Gisborne and Hawkes Bay"]
[null,null,null,null,null,null,null,9,"Hauraki District Council","Hauraki District","Provincial Centres","Waikato"]
[null,null,null,null,null,null,null,41,"Horowhenua District Council","Horowhenua District","Provincial Centres","Taranaki, Manawatu and Whanganui"]
[null,null,null,null,null,null,null,64,"Hurunui District Council","Hurunui District","Rural Districts","Canterbury"]
[null,null,null,null,null,null,null,24,"Hutt City Council","Hutt City","Highly Urban","Wellington"]
[null,null,null,null,null,null,null,65,"Invercargill City Council","Invercargill City","Cities","Southland and Otago"]
[null,null,null,null,null,null,null,66,"Kaikoura District Council","Kaikoura District","Provincial Centres","Canterbury"]
[null,null,null,null,null,null,null,78,"Kaipara District Council","Kaipara District","Rural Districts","North Auckland"]
[null,null,null,null,null,null,null,25,"Kapiti Coast District Council","Kapiti Coast District","Cities","Wellington"]
[null,null,null,null,null,null,null,21,"Kawerau District Council","Kawerau District","Highly Urban","Bay of Plenty"]
[null,null,null,null,null,null,null,67,"MacKenzie District Council","MacKenzie District","Rural Districts","Canterbury"]
[null,null,null,null,null,null,null,42,"Manawatu District Council","Manawatu District","Rural Districts","Taranaki, Manawatu and Whanganui"]
[null,null,null,null,null,null,null,26,"Marlborough District Council","Marlborough District","Provincial Centres","Top of South Island and West Coast"]
[null,null,null,null,null,null,null,87,"Masterton District Council","Masterton District","Provincial Centres","Wellington"]
[null,null,null,null,null,null,null,8,"Matamata-Piako District Council","Matamata-Piako District","Provincial Centres","Waikato"]
[null,null,null,null,null,null,null,43,"Napier City Council","Napier City","Cities","Gisborne and Hawkes Bay"]
[null,null,null,null,null,null,null,30,"Nelson City Council","Nelson City","Cities","Top of South Island and West Coast"]
[null,null,null,null,null,null,null,44,"New Plymouth District Council","New Plymouth District","Provincial Centres","Taranaki, Manawatu and Whanganui"]
[null,null,null,null,null,null,null,12,"Opotiki District Council","Opotiki District","Provincial Centres","Bay of Plenty"]
[null,null,null,null,null,null,null,17,"Otorohanga District Council","Otorohanga District","Rural Districts","Waikato"]
[null,null,null,null,null,null,null,45,"Palmerston North City Council","Palmerston North City","Cities","Taranaki, Manawatu and Whanganui"]
[null,null,null,null,null,null,null,31,"Porirua City Council","Porirua City","Cities","Wellington"]
[null,null,null,null,null,null,null,68,"Queenstown-Lakes District Council","Queenstown-Lakes District","Provincial Centres","Southland and Otago"]
[null,null,null,null,null,null,null,46,"Rangitikei District Council","Rangitikei District","Rural Districts","Taranaki, Manawatu and Whanganui"]
[null,null,null,null,null,null,null,20,"Rotorua Lakes Council","Rotorua Lakes","Provincial Centres","Bay of Plenty"]
[null,null,null,null,null,null,null,47,"Ruapehu District Council","Ruapehu District","Rural Districts","Taranaki, Manawatu and Whanganui"]
[null,null,null,null,null,null,null,75,"Selwyn District Council","Selwyn District","Rural Districts","Canterbury"]
[null,null,null,null,null,null,null,48,"South Taranaki District Council","South Taranaki District","Rural Districts","Taranaki, Manawatu and Whanganui"]
[null,null,null,null,null,null,null,10,"South Waikato District Council","South Waikato District","Provincial Centres","Waikato"]
[null,null,null,null,null,null,null,32,"South Wairarapa District Council","South Wairarapa District","Rural Districts","Wellington"]
[null,null,null,null,null,null,null,69,"Southland District Council","Southland District","Rural Districts","Southland and Otago"]
[null,null,null,null,null,null,null,49,"Stratford District Council","Stratford District","Rural Districts","Taranaki, Manawatu and Whanganui"]
[null,null,null,null,null,null,null,54,"Tararua District Council","Tararua District","Rural Districts","Taranaki, Manawatu and Whanganui"]
[null,null,null,null,null,null,null,33,"Tasman District Council","Tasman District","Provincial Centres","Top of South Island and West Coast"]
[null,null,null,null,null,null,null,7,"Taupo District Council","Taupo District","Provincial Centres","Waikato"]
[null,null,null,null,null,null,null,15,"Tauranga City Council","Tauranga City","Highly Urban","Bay of Plenty"]
[null,null,null,null,null,null,null,18,"Thames-Coromandel District Council","Thames-Coromandel District","Provincial Centres","Waikato"]
[null,null,null,null,null,null,null,70,"Timaru District Council","Timaru District","Provincial Centres","Canterbury"]
[null,null,null,null,null,null,null,34,"Upper Hutt City Council","Upper Hutt City","Cities","Wellington"]
[null,null,null,null,null,null,null,22,"Waikato District Council","Waikato District","Rural Districts","Waikato"]
[null,null,null,null,null,null,null,74,"Waimakariri District Council","Waimakariri District","Provincial Centres","Canterbury"]
[null,null,null,null,null,null,null,71,"Waimate District Council","Waimate District","Rural Districts","Canterbury"]
[null,null,null,null,null,null,null,5,"Waipa District Council","Waipa District","Provincial Centres","Waikato"]
[null,null,null,null,null,null,null,55,"Wairoa District Council","Wairoa District","Rural Districts","Gisborne and Hawkes Bay"]
[null,null,null,null,null,null,null,72,"Waitaki District Council","Waitaki District","Rural Districts","Southland and Otago"]
[null,null,null,null,null,null,null,14,"Waitomo District Council","Waitomo District","Rural Districts","Waikato"]
[null,null,null,null,null,null,null,37,"Wellington City Council","Wellington City","Highly Urban","Wellington"]
[null,null,null,null,null,null,null,13,"Western Bay of Plenty District Council","Western Bay of Plenty District","Provincial Centres","Bay of Plenty"]
[null,null,null,null,null,null,null,73,"Westland District Council","Westland District","Provincial Centres","Top of South Island and West Coast"]
[null,null,null,null,null,null,null,16,"Whakatane District Council","Whakatane District","Provincial Centres","Bay of Plenty"]
[null,null,null,null,null,null,null,56,"Whanganui District Council","Whanganui District","Provincial Centres","Taranaki, Manawatu and Whanganui"]
[null,null,null,null,null,null,null,77,"Whangarei District Council","Whangarei District","Provincial Centres","North Auckland"]
[null,null,null,null,null,null,null,81,"NZTA",null,"No Group","No Region"]

{"sheet":"Charts","index":3,"n_rows":40,"n_cols":9,"rows_kept":40,"cut":false,"hidden":false,"merged":[]}
["ASSET MANAGEMENT DATA QUALITY RESULTS 2019/20"]
["PERCENTAGE AT THE EXPECTED STANDARD"]
[]
["My RCA:","Rotorua Lakes Council","Select RCA from drop down list"]
["Comparison","National"]
[{"$f":"B5&\":\"","v":"National:"},{"$f":"IF($B$5=Lookups!$A$11,'Chart Data'!$D$3,IF(Charts!$B$5=Lookups!$A$12,'Chart Data'!$E$3,IF(Charts!$B$5=Lookups!$A$13,'Chart Data'!$F$3,\"\")))","v":"National"}]
[]
[]
[]
[]
[]
[]
[]
[]
[]
[]
[]
[]
[]
[]
[]
[]
[]
[]
[]
[]
[]
[]
[]
[]
[]
[]
[]
[]
[]
[]
[]
[]
[]
[null,null,null,null,null,null,null,null,"V0.3: 28-10-2020"]

{"sheet":"Chart Data","index":4,"n_rows":16,"n_cols":45,"rows_kept":16,"cut":false,"hidden":true,"merged":[]}
[null,"Financial Year","2018/19"]
[null,"Reported Grade",1,null,null,null,null,null,null,null,null,null,null,null,null,null,null,"RCA",null,"Comparison",null,"10%ile",null,"25%ile",null,"50%ile",null,"75%ile",null,"90%ile"]
[null,"Individual RCA",{"$f":"Charts!$B$4","v":"Rotorua Lakes Council"},"National",{"$f":"VLOOKUP($C$3,Table22[[#All],[RCA_Name]:[Region]],4,FALSE)","v":"Bay of Plenty"},{"$f":"VLOOKUP($C$3,Table22[[#All],[RCA_Name]:[Region]],3,FALSE)","v":"Provincial Centres"},10,25,50,75,90,"Sector Weight","% of 360","Start Angle","Finish Angle","Chart Label","Theta",null,"Values",null,null,null,"Values",null,"Values",null,"Values",null,"Values",null,"Values",null,null,null,0,0.1,0.2,0.3,0.4,0.5,0.6,0.7,0.8,0.9,1]
["Asset Management","High",{"$f":"VLOOKUP($C$3,'RCA Results Table'!$A:$O,MATCH('Chart Data'!B4,'RCA Results Table'!$A$4:$O$4,0),FALSE)/100","v":0.52},{"$f":"VLOOKUP($D$3,'Region & Peer Group Results'!$A:$N,MATCH('Chart Data'!$B4,'Region & Peer Group Results'!$A$5:$N$5,0),FALSE)/100","v":0.68},{"$f":"VLOOKUP($E$3,'Region & Peer Group Results'!$A:$N,MATCH('Chart Data'!$B4,'Region & Peer Group Results'!$A$5:$N$5,0),FALSE)/100","v":0.68},{"$f":"VLOOKUP($F$3,'Region & Peer Group Results'!$A:$N,MATCH('Chart Data'!$B4,'Region & Peer Group Results'!$A$5:$N$5,0),FALSE)/100","v":0.68},0.51333333333333331,0.6,0.66666666666666663,0.73333333333333328,0.8666666666666667,1,{"$f":"L4/SUM($L$4:$L$15)","v":8.3333333333333329E-2},0,{"$f":"360*SUM($M$3:M4)","v":30},"Accuracy",{"$f":"(O4-N4)/2+N4","v":15},{"$f":"C4*SIN(Q4/180*PI())","v":0.13458590345331078},{"$f":"C4*COS(Q4/180*PI())","v":0.50228142967031553},{"$f":"IF(Charts!$B$6='Chart Data'!$D$3,D4*SIN(Q4/180*PI()),IF(Charts!$B$6='Chart Data'!$E$3,E4*SIN(Q4/180*PI()),IF(Charts!$B$6='Chart Data'!$F$3,F4*SIN(Q4/180*PI()),\"\")))","v":0.1759969506697141},{"$f":"IF(Charts!$B$6='Chart Data'!$D$3,D4*COS(Q4/180*PI()),IF(Charts!$B$6='Chart Data'!$E$3,E4*COS(Q4/180*PI()),IF(Charts!$B$6='Chart Data'!$F$3,F4*COS(Q4/180*PI()),\"\")))","v":0.65682956187656649},{"$f":"$G4*SIN($Q4/180*PI())","v":0.13286044315262729},{"$f":"$G4*COS($Q4/180*PI())","v":0.49584192416172174},{"$f":"$H4*SIN($Q4/180*PI())","v":0.15529142706151244},{"$f":"$H4*COS($Q4/180*PI())","v":0.57955549577344101},{"$f":"$I4*SIN($Q4/180*PI())","v":0.17254603006834715},{"$f":"$I4*COS($Q4/180*PI())","v":0.6439505508593788},{"$f":"$J4*SIN($Q4/180*PI())","v":0.18980063307518186},{"$f":"$J4*COS($Q4/180*PI())","v":0.7083456059453167},{"$f":"$K4*SIN($Q4/180*PI())","v":0.22430983908885133},{"$f":"$K4*COS($Q4/180*PI())","v":0.83713571611719262},null,null,32.727272727272727,{"$f":"$L4","v":1},{"$f":"$L4","v":1},1,1,1,1,1,1,1,1,1]
["Asset Management","Moderate",{"$f":"VLOOKUP($C$3,'RCA Results Table'!$A:$O,MATCH('Chart Data'!B5,'RCA Results Table'!$A$4:$O$4,0),FALSE)/100","v":0.63},{"$f":"VLOOKUP($D$3,'Region & Peer Group Results'!$A:$N,MATCH('Chart Data'!$B5,'Region & Peer Group Results'!$A$5:$N$5,0),FALSE)/100","v":0.64},{"$f":"VLOOKUP($E$3,'Region & Peer Group Results'!$A:$N,MATCH('Chart Data'!$B5,'Region & Peer Group Results'!$A$5:$N$5,0),FALSE)/100","v":0.72},{"$f":"VLOOKUP($F$3,'Region & Peer Group Results'!$A:$N,MATCH('Chart Data'!$B5,'Region & Peer Group Results'!$A$5:$N$5,0),FALSE)/100","v":0.65},0.4,0.5,0.6,0.7,0.8,1,8.3333333333333329E-2,{"$f":"O4","v":30},{"$f":"360*SUM($M$3:M5)","v":60},"Completeness",{"$f":"(O5-N5)/2+N5","v":45},0.44547727214752492,0.44547727214752497,{"$f":"IF(Charts!$B$6='Chart Data'!$D$3,D5*SIN(Q5/180*PI()),IF(Charts!$B$6='Chart Data'!$E$3,E5*SIN(Q5/180*PI()),IF(Charts!$B$6='Chart Data'!$F$3,F5*SIN(Q5/180*PI()),\"\")))","v":0.45254833995939037},{"$f":"IF(Charts!$B$6='Chart Data'!$D$3,D5*COS(Q5/180*PI()),IF(Charts!$B$6='Chart Data'!$E$3,E5*COS(Q5/180*PI()),IF(Charts!$B$6='Chart Data'!$F$3,F5*COS(Q5/180*PI()),\"\")))","v":0.45254833995939048},{"$f":"$G5*SIN($Q5/180*PI())","v":0.28284271247461901},{"$f":"$G5*COS($Q5/180*PI())","v":0.28284271247461906},{"$f":"$H5*SIN($Q5/180*PI())","v":0.35355339059327373},{"$f":"$H5*COS($Q5/180*PI())","v":0.35355339059327379},{"$f":"$I5*SIN($Q5/180*PI())","v":0.42426406871192845},{"$f":"$I5*COS($Q5/180*PI())","v":0.42426406871192851},{"$f":"$J5*SIN($Q5/180*PI())","v":0.49497474683058318},{"$f":"$J5*COS($Q5/180*PI())","v":0.49497474683058329},{"$f":"$K5*SIN($Q5/180*PI())","v":0.56568542494923801},{"$f":"$K5*COS($Q5/180*PI())","v":0.56568542494923812},null,null,65.454545454545453,{"$f":"$L5","v":1},1,1,1,1,1,1,1,1,1,1]
["Asset Management","Low",{"$f":"VLOOKUP($C$3,'RCA Results Table'!$A:$O,MATCH('Chart Data'!B6,'RCA Results Table'!$A$4:$O$4,0),FALSE)/100","v":0.71},{"$f":"VLOOKUP($D$3,'Region & Peer Group Results'!$A:$N,MATCH('Chart Data'!$B6,'Region & Peer Group Results'!$A$5:$N$5,0),FALSE)/100","v":0.71},{"$f":"VLOOKUP($E$3,'Region & Peer Group Results'!$A:$N,MATCH('Chart Data'!$B6,'Region & Peer Group Results'!$A$5:$N$5,0),FALSE)/100","v":0.78},{"$f":"VLOOKUP($F$3,'Region & Peer Group Results'!$A:$N,MATCH('Chart Data'!$B6,'Region & Peer Group Results'!$A$5:$N$5,0),FALSE)/100","v":0.73},0.16666666666666666,0.16666666666666666,0.33333333333333331,0.5,0.66666666666666663,1,8.3333333333333329E-2,{"$f":"O5","v":60},{"$f":"360*SUM($M$3:M6)","v":90},"Timeliness",75,0.68580733666523852,0.18376152202278973,{"$f":"IF(Charts!$B$6='Chart Data'!$D$3,D6*SIN(Q6/180*PI()),IF(Charts!$B$6='Chart Data'!$E$3,E6*SIN(Q6/180*PI()),IF(Charts!$B$6='Chart Data'!$F$3,F6*SIN(Q6/180*PI()),\"\")))","v":0.68580733666523852},{"$f":"IF(Charts!$B$6='Chart Data'!$D$3,D6*COS(Q6/180*PI()),IF(Charts!$B$6='Chart Data'!$E$3,E6*COS(Q6/180*PI()),IF(Charts!$B$6='Chart Data'!$F$3,F6*COS(Q6/180*PI()),\"\")))","v":0.18376152202278973},0.1609876377148447,4.3136507517086788E-2,0.1609876377148447,4.3136507517086788E-2,0.3219752754296894,8.6273015034173575E-2,0.48296291314453416,0.12940952255126037,0.6439505508593788,0.17254603006834715,null,null,98.181818181818173,1,1,1,1,1,1,1,1,1,1,1]
["Asset Management","Crash",{"$f":"VLOOKUP($C$3,'RCA Results Table'!$A:$O,MATCH('Chart Data'!B7,'RCA Results Table'!$A$4:$O$4,0),FALSE)/100","v":1},{"$f":"VLOOKUP($D$3,'Region & Peer Group Results'!$A:$N,MATCH('Chart Data'!$B7,'Region & Peer Group Results'!$A$5:$N$5,0),FALSE)/100","v":0.87},{"$f":"VLOOKUP($E$3,'Region & Peer Group Results'!$A:$N,MATCH('Chart Data'!$B7,'Region & Peer Group Results'!$A$5:$N$5,0),FALSE)/100","v":0.92},{"$f":"VLOOKUP($F$3,'Region & Peer Group Results'!$A:$N,MATCH('Chart Data'!$B7,'Region & Peer Group Results'!$A$5:$N$5,0),FALSE)/100","v":0.94},0.45454545454545453,0.54545454545454541,0.63636363636363635,0.81818181818181823,0.81818181818181823,1,8.3333333333333329E-2,90,{"$f":"360*SUM($M$3:M7)","v":120},"Network",105,0.96592582628906831,-0.25881904510252085,{"$f":"IF(Charts!$B$6='Chart Data'!$D$3,D7*SIN(Q7/180*PI()),IF(Charts!$B$6='Chart Data'!$E$3,E7*SIN(Q7/180*PI()),IF(Charts!$B$6='Chart Data'!$F$3,F7*SIN(Q7/180*PI()),\"\")))","v":0.84035546887148938},{"$f":"IF(Charts!$B$6='Chart Data'!$D$3,D7*COS(Q7/180*PI()),IF(Charts!$B$6='Chart Data'!$E$3,E7*COS(Q7/180*PI()),IF(Charts!$B$6='Chart Data'!$F$3,F7*COS(Q7/180*PI()),\"\")))","v":-0.22517256923919313},0.43905719376775831,-0.11764502050114584,0.52686863252131,-0.14117402460137499,0.61468007127486168,-0.16470302870160416,0.79030294878196505,-0.21176103690206252,0.79030294878196505,-0.21176103690206252,null,null,114.54545454545455,1,1,1,1,1,1,1,1,1,1,1]
["Asset Management","Demand",{"$f":"VLOOKUP($C$3,'RCA Results Table'!$A:$O,MATCH('Chart Data'!B8,'RCA Results Table'!$A$4:$O$4,0),FALSE)/100","v":0.52},{"$f":"VLOOKUP($D$3,'Region & Peer Group Results'!$A:$N,MATCH('Chart Data'!$B8,'Region & Peer Group Results'!$A$5:$N$5,0),FALSE)/100","v":0.66},{"$f":"VLOOKUP($E$3,'Region & Peer Group Results'!$A:$N,MATCH('Chart Data'!$B8,'Region & Peer Group Results'!$A$5:$N$5,0),FALSE)/100","v":0.72},{"$f":"VLOOKUP($F$3,'Region & Peer Group Results'!$A:$N,MATCH('Chart Data'!$B8,'Region & Peer Group Results'!$A$5:$N$5,0),FALSE)/100","v":0.67},0,0.25,0.25,0.5,0.75,1,8.3333333333333329E-2,120,{"$f":"360*SUM($M$3:M8)","v":150},"Asset Inventory",135,0.36769552621700474,-0.36769552621700469,{"$f":"IF(Charts!$B$6='Chart Data'!$D$3,D8*SIN(Q8/180*PI()),IF(Charts!$B$6='Chart Data'!$E$3,E8*SIN(Q8/180*PI()),IF(Charts!$B$6='Chart Data'!$F$3,F8*SIN(Q8/180*PI()),\"\")))","v":0.46669047558312143},{"$f":"IF(Charts!$B$6='Chart Data'!$D$3,D8*COS(Q8/180*PI()),IF(Charts!$B$6='Chart Data'!$E$3,E8*COS(Q8/180*PI()),IF(Charts!$B$6='Chart Data'!$F$3,F8*COS(Q8/180*PI()),\"\")))","v":-0.46669047558312132},0,0,0.17677669529663689,-0.17677669529663687,0.17677669529663689,-0.17677669529663687,0.35355339059327379,-0.35355339059327373,0.53033008588991071,-0.5303300858899106,null,null,130.90909090909091,1,1,1,1,1,1,1,1,1,1,1]
["Asset Management","Condition",{"$f":"VLOOKUP($C$3,'RCA Results Table'!$A:$O,MATCH('Chart Data'!B9,'RCA Results Table'!$A$4:$O$4,0),FALSE)/100","v":0.75},{"$f":"VLOOKUP($D$3,'Region & Peer Group Results'!$A:$N,MATCH('Chart Data'!$B9,'Region & Peer Group Results'!$A$5:$N$5,0),FALSE)/100","v":0.8},{"$f":"VLOOKUP($E$3,'Region & Peer Group Results'!$A:$N,MATCH('Chart Data'!$B9,'Region & Peer Group Results'!$A$5:$N$5,0),FALSE)/100","v":0.83},{"$f":"VLOOKUP($F$3,'Region & Peer Group Results'!$A:$N,MATCH('Chart Data'!$B9,'Region & Peer Group Results'!$A$5:$N$5,0),FALSE)/100","v":0.76},0,0.58333333333333326,0.66666666666666663,1,1,1,8.3333333333333329E-2,150,{"$f":"360*SUM($M$3:M9)","v":179.99999999999997},"Maintenance Activtity",165,0.19411428382689078,-0.72444436971680115,{"$f":"IF(Charts!$B$6='Chart Data'!$D$3,D9*SIN(Q9/180*PI()),IF(Charts!$B$6='Chart Data'!$E$3,E9*SIN(Q9/180*PI()),IF(Charts!$B$6='Chart Data'!$F$3,F9*SIN(Q9/180*PI()),\"\")))","v":0.20705523608201681},{"$f":"IF(Charts!$B$6='Chart Data'!$D$3,D9*COS(Q9/180*PI()),IF(Charts!$B$6='Chart Data'!$E$3,E9*COS(Q9/180*PI()),IF(Charts!$B$6='Chart Data'!$F$3,F9*COS(Q9/180*PI()),\"\")))","v":-0.77274066103125461},0,0,0.15097777630980391,-0.56345673200195634,0.17254603006834734,-0.6439505508593788,0.25881904510252102,-0.9659258262890682,0.25881904510252102,-0.9659258262890682,null,null,147.27272727272728,1,1,1,1,1,1,1,1,1,1,1]
["Asset Management","Maintenance Activity",{"$f":"VLOOKUP($C$3,'RCA Results Table'!$A:$O,MATCH('Chart Data'!B10,'RCA Results Table'!$A$4:$O$4,0),FALSE)/100","v":0.43},{"$f":"VLOOKUP($D$3,'Region & Peer Group Results'!$A:$N,MATCH('Chart Data'!$B10,'Region & Peer Group Results'!$A$5:$N$5,0),FALSE)/100","v":0.68},{"$f":"VLOOKUP($E$3,'Region & Peer Group Results'!$A:$N,MATCH('Chart Data'!$B10,'Region & Peer Group Results'!$A$5:$N$5,0),FALSE)/100","v":0.62},{"$f":"VLOOKUP($F$3,'Region & Peer Group Results'!$A:$N,MATCH('Chart Data'!$B10,'Region & Peer Group Results'!$A$5:$N$5,0),FALSE)/100","v":0.7},0.5,1,1,1,1,1,8.3333333333333329E-2,179.99999999999997,{"$f":"360*SUM($M$3:M10)","v":209.99999999999997},"Condition",194.99999999999997,-0.11129218939408375,-0.41534810530429944,{"$f":"IF(Charts!$B$6='Chart Data'!$D$3,D10*SIN(Q10/180*PI()),IF(Charts!$B$6='Chart Data'!$E$3,E10*SIN(Q10/180*PI()),IF(Charts!$B$6='Chart Data'!$F$3,F10*SIN(Q10/180*PI()),\"\")))","v":-0.17599695066971385},{"$f":"IF(Charts!$B$6='Chart Data'!$D$3,D10*COS(Q10/180*PI()),IF(Charts!$B$6='Chart Data'!$E$3,E10*COS(Q10/180*PI()),IF(Charts!$B$6='Chart Data'!$F$3,F10*COS(Q10/180*PI()),\"\")))","v":-0.6568295618765666},-0.12940952255126018,-0.48296291314453421,-0.25881904510252035,-0.96592582628906842,-0.25881904510252035,-0.96592582628906842,-0.25881904510252035,-0.96592582628906842,-0.25881904510252035,-0.96592582628906842,null,null,163.63636363636365,1,1,1,1,1,1,1,1,1,1,1]
["Asset Management","Asset Inventory",{"$f":"VLOOKUP($C$3,'RCA Results Table'!$A:$O,MATCH('Chart Data'!B11,'RCA Results Table'!$A$4:$O$4,0),FALSE)/100","v":0.54},{"$f":"VLOOKUP($D$3,'Region & Peer Group Results'!$A:$N,MATCH('Chart Data'!$B11,'Region & Peer Group Results'!$A$5:$N$5,0),FALSE)/100","v":0.63},{"$f":"VLOOKUP($E$3,'Region & Peer Group Results'!$A:$N,MATCH('Chart Data'!$B11,'Region & Peer Group Results'!$A$5:$N$5,0),FALSE)/100","v":0.67},{"$f":"VLOOKUP($F$3,'Region & Peer Group Results'!$A:$N,MATCH('Chart Data'!$B11,'Region & Peer Group Results'!$A$5:$N$5,0),FALSE)/100","v":0.63},0.33333333333333331,0.41666666666666663,0.55555555555555558,0.77777777777777779,0.77777777777777779,1,8.3333333333333329E-2,209.99999999999997,{"$f":"360*SUM($M$3:M11)","v":240},"Demand",225,-0.38183766184073564,-0.38183766184073575,{"$f":"IF(Charts!$B$6='Chart Data'!$D$3,D11*SIN(Q11/180*PI()),IF(Charts!$B$6='Chart Data'!$E$3,E11*SIN(Q11/180*PI()),IF(Charts!$B$6='Chart Data'!$F$3,F11*SIN(Q11/180*PI()),\"\")))","v":-0.44547727214752492},{"$f":"IF(Charts!$B$6='Chart Data'!$D$3,D11*COS(Q11/180*PI()),IF(Charts!$B$6='Chart Data'!$E$3,E11*COS(Q11/180*PI()),IF(Charts!$B$6='Chart Data'!$F$3,F11*COS(Q11/180*PI()),\"\")))","v":-0.44547727214752503},-0.23570226039551581,-0.23570226039551589,-0.29462782549439476,-0.29462782549439487,-0.39283710065919303,-0.39283710065919319,-0.54997194092287027,-0.54997194092287038,-0.54997194092287027,-0.54997194092287038,null,null,180,1,1,1,1,1,1,1,1,1,1,1]
["Asset Management","Network",{"$f":"VLOOKUP($C$3,'RCA Results Table'!$A:$O,MATCH('Chart Data'!B12,'RCA Results Table'!$A$4:$O$4,0),FALSE)/100","v":0.73},{"$f":"VLOOKUP($D$3,'Region & Peer Group Results'!$A:$N,MATCH('Chart Data'!$B12,'Region & Peer Group Results'!$A$5:$N$5,0),FALSE)/100","v":0.7},{"$f":"VLOOKUP($E$3,'Region & Peer Group Results'!$A:$N,MATCH('Chart Data'!$B12,'Region & Peer Group Results'!$A$5:$N$5,0),FALSE)/100","v":0.78},{"$f":"VLOOKUP($F$3,'Region & Peer Group Results'!$A:$N,MATCH('Chart Data'!$B12,'Region & Peer Group Results'!$A$5:$N$5,0),FALSE)/100","v":0.72},0,0.375,0.5,0.5,0.5,1,8.3333333333333329E-2,240,{"$f":"360*SUM($M$3:M12)","v":270},"Crash",255,-0.70512585319101984,-0.18893790292484006,{"$f":"IF(Charts!$B$6='Chart Data'!$D$3,D12*SIN(Q12/180*PI()),IF(Charts!$B$6='Chart Data'!$E$3,E12*SIN(Q12/180*PI()),IF(Charts!$B$6='Chart Data'!$F$3,F12*SIN(Q12/180*PI()),\"\")))","v":-0.67614807840234781},{"$f":"IF(Charts!$B$6='Chart Data'!$D$3,D12*COS(Q12/180*PI()),IF(Charts!$B$6='Chart Data'!$E$3,E12*COS(Q12/180*PI()),IF(Charts!$B$6='Chart Data'!$F$3,F12*COS(Q12/180*PI()),\"\")))","v":-0.18117333157176443},0,0,-0.36222218485840063,-9.7057141913445236E-2,-0.48296291314453416,-0.12940952255126031,-0.48296291314453416,-0.12940952255126031,-0.48296291314453416,-0.12940952255126031,null,null,196.36363636363635,1,1,1,1,1,1,1,1,1,1,1]
["Asset Management","Accuracy",{"$f":"VLOOKUP($C$3,'RCA Results Table'!$A:$O,MATCH('Chart Data'!B13,'RCA Results Table'!$A$4:$O$4,0),FALSE)/100","v":0.64},{"$f":"VLOOKUP($D$3,'Region & Peer Group Results'!$A:$N,MATCH('Chart Data'!$B13,'Region & Peer Group Results'!$A$5:$N$5,0),FALSE)/100","v":0.68},{"$f":"VLOOKUP($E$3,'Region & Peer Group Results'!$A:$N,MATCH('Chart Data'!$B13,'Region & Peer Group Results'!$A$5:$N$5,0),FALSE)/100","v":0.72},{"$f":"VLOOKUP($F$3,'Region & Peer Group Results'!$A:$N,MATCH('Chart Data'!$B13,'Region & Peer Group Results'!$A$5:$N$5,0),FALSE)/100","v":0.7},0,0.375,0.5,1,0.6,1,8.3333333333333329E-2,270,{"$f":"360*SUM($M$3:M13)","v":300},"Condition",285,-0.61819252882500375,0.165644188865613,{"$f":"IF(Charts!$B$6='Chart Data'!$D$3,D13*SIN(Q13/180*PI()),IF(Charts!$B$6='Chart Data'!$E$3,E13*SIN(Q13/180*PI()),IF(Charts!$B$6='Chart Data'!$F$3,F13*SIN(Q13/180*PI()),\"\")))","v":-0.6568295618765666},{"$f":"IF(Charts!$B$6='Chart Data'!$D$3,D13*COS(Q13/180*PI()),IF(Charts!$B$6='Chart Data'!$E$3,E13*COS(Q13/180*PI()),IF(Charts!$B$6='Chart Data'!$F$3,F13*COS(Q13/180*PI()),\"\")))","v":0.17599695066971383},0,0,-0.36222218485840063,9.7057141913445111E-2,-0.48296291314453421,0.12940952255126015,-0.96592582628906842,0.2588190451025203,-0.57955549577344101,0.15529142706151217,null,null,220.90909090909088,1,1,1,1,1,1,1,1,1,1,1]
["Asset Management","Completeness",{"$f":"VLOOKUP($C$3,'RCA Results Table'!$A:$O,MATCH('Chart Data'!B14,'RCA Results Table'!$A$4:$O$4,0),FALSE)/100","v":0.52},{"$f":"VLOOKUP($D$3,'Region & Peer Group Results'!$A:$N,MATCH('Chart Data'!$B14,'Region & Peer Group Results'!$A$5:$N$5,0),FALSE)/100","v":0.72},{"$f":"VLOOKUP($E$3,'Region & Peer Group Results'!$A:$N,MATCH('Chart Data'!$B14,'Region & Peer Group Results'!$A$5:$N$5,0),FALSE)/100","v":0.75},{"$f":"VLOOKUP($F$3,'Region & Peer Group Results'!$A:$N,MATCH('Chart Data'!$B14,'Region & Peer Group Results'!$A$5:$N$5,0),FALSE)/100","v":0.72},0,0.5,0.5,0.75,0.75,1,8.3333333333333329E-2,300,{"$f":"360*SUM($M$3:M14)","v":330},"Maintenance Activtity",315,-0.3676955262170048,0.36769552621700463,{"$f":"IF(Charts!$B$6='Chart Data'!$D$3,D14*SIN(Q14/180*PI()),IF(Charts!$B$6='Chart Data'!$E$3,E14*SIN(Q14/180*PI()),IF(Charts!$B$6='Chart Data'!$F$3,F14*SIN(Q14/180*PI()),\"\")))","v":-0.5091168824543143},{"$f":"IF(Charts!$B$6='Chart Data'!$D$3,D14*COS(Q14/180*PI()),IF(Charts!$B$6='Chart Data'!$E$3,E14*COS(Q14/180*PI()),IF(Charts!$B$6='Chart Data'!$F$3,F14*COS(Q14/180*PI()),\"\")))","v":0.50911688245431408},0,0,-0.35355339059327384,0.35355339059327368,-0.35355339059327384,0.35355339059327368,-0.53033008588991071,0.53033008588991049,-0.53033008588991071,0.53033008588991049,null,null,245.45454545454538,1,1,1,1,1,1,1,1,1,1,1]
["Asset Management","Timeliness",{"$f":"VLOOKUP($C$3,'RCA Results Table'!$A:$O,MATCH('Chart Data'!B15,'RCA Results Table'!$A$4:$O$4,0),FALSE)/100","v":0.63},{"$f":"VLOOKUP($D$3,'Region & Peer Group Results'!$A:$N,MATCH('Chart Data'!$B15,'Region & Peer Group Results'!$A$5:$N$5,0),FALSE)/100","v":0.56999999999999995},{"$f":"VLOOKUP($E$3,'Region & Peer Group Results'!$A:$N,MATCH('Chart Data'!$B15,'Region & Peer Group Results'!$A$5:$N$5,0),FALSE)/100","v":0.64},{"$f":"VLOOKUP($F$3,'Region & Peer Group Results'!$A:$N,MATCH('Chart Data'!$B15,'Region & Peer Group Results'!$A$5:$N$5,0),FALSE)/100","v":0.59},0.22727272727272727,0.27272727272727271,0.36363636363636365,0.45454545454545453,0.5,1,8.3333333333333329E-2,330,{"$f":"360*SUM($M$3:M15)","v":360},"Asset Inventory",345,-0.16305599841458804,0.60853327056211304,{"$f":"IF(Charts!$B$6='Chart Data'!$D$3,D15*SIN(Q15/180*PI()),IF(Charts!$B$6='Chart Data'!$E$3,E15*SIN(Q15/180*PI()),IF(Charts!$B$6='Chart Data'!$F$3,F15*SIN(Q15/180*PI()),\"\")))","v":-0.14752685570843677},{"$f":"IF(Charts!$B$6='Chart Data'!$D$3,D15*COS(Q15/180*PI()),IF(Charts!$B$6='Chart Data'!$E$3,E15*COS(Q15/180*PI()),IF(Charts!$B$6='Chart Data'!$F$3,F15*COS(Q15/180*PI()),\"\")))","v":0.55057772098476887},-5.8822510250572883E-2,0.21952859688387916,-7.0587012300687452E-2,0.263434316260655,-9.4116016400916616E-2,0.35124575501420668,-0.11764502050114577,0.43905719376775831,-0.12940952255126034,0.48296291314453416,null,null,269.99999999999994,1,1,1,1,1,1,1,1,1,1,1]
["Asset Management",{"$f":"B4","v":"High"},{"$f":"VLOOKUP($C$3,'RCA Results Table'!$A:$O,MATCH('Chart Data'!B16,'RCA Results Table'!$A$4:$O$4,0),FALSE)/100","v":0.52},{"$f":"VLOOKUP($D$3,'Region & Peer Group Results'!$A:$N,MATCH('Chart Data'!$B16,'Region & Peer Group Results'!$A$5:$N$5,0),FALSE)/100","v":0.68},{"$f":"VLOOKUP($E$3,'Region & Peer Group Results'!$A:$N,MATCH('Chart Data'!$B16,'Region & Peer Group Results'!$A$5:$N$5,0),FALSE)/100","v":0.68},{"$f":"VLOOKUP($F$3,'Region & Peer Group Results'!$A:$N,MATCH('Chart Data'!$B16,'Region & Peer Group Results'!$A$5:$N$5,0),FALSE)/100","v":0.68},{"$f":"G4","v":0.51333333333333331},0.6,0.66666666666666663,0.73333333333333328,0.8666666666666667,1,8.3333333333333329E-2,0,30,"Accuracy",15,0.13458590345331078,0.50228142967031553,0.1759969506697141,0.65682956187656649,0.13286044315262729,0.49584192416172174,0.15529142706151244,0.57955549577344101,0.17254603006834715,0.6439505508593788,0.18980063307518186,0.7083456059453167,0.22430983908885133,0.83713571611719262]